{"text_format":"1","workbook":"xlsx","n_sheets":19,"sheets":["Overview","Commentary","CDCM Forecast Data","Table 1","Smoothed Input Details","Mat of App","CDCM Volume Forecasts","CDCM Timebands","(Y)","(Y+1)","(Y+2)","(Y+3)","(Y+4)","Tariffs ARP","Typical Bill","Vlookup","Tariffs","Summary","CDCM"],"not_rendered":{"charts":0,"images":0,"macros":1,"external_links":5,"defined_names":15,"comments":0,"pivot_tables":0},"unopened":[],"bounds":{"document_bytes":16777216,"sheet_cells":100000,"rows_first":2000,"rows_last":500,"rows_between":2000,"halvings":0,"cell_chars":16384,"cell_head_chars":4096},"cells_cut":0,"cells_raw":0,"read":"whole","date_system":"1900"}

{"sheet":"Overview","index":0,"n_rows":32,"n_cols":2,"rows_kept":32,"cut":false,"hidden":false,"merged":[[18,1,18,3],[25,1,25,3],[19,1,19,3],[20,1,20,3],[21,1,21,3],[22,1,22,3],[23,1,23,3],[24,1,24,3],[6,0,9,3],[13,1,13,3],[14,1,14,3],[15,1,15,3],[17,1,17,3],[16,1,16,3]]}
[]
["CDCM Annual Review Pack"]
[]
["Company:",{"$f":"'CDCM Forecast Data'!E3","v":"WPD East Midlands"}]
["Date of Issue:",{"$f":"'CDCM Forecast Data'!E4","v":"2018-01-01"}]
[]
[{"$f":" \"Although every effort has been made to ensure the accuracy of the information provided in this annual review pack, \" & 'CDCM Forecast Data'!E3 & \" does not accept any liability for the accuracy of the information contained herein and, in particular, \" & 'CDCM Forecast Data'!E3 & \" or any of its employees, shall not be held liable for any misstatement or opinion on which the recipient of this statement relies or seeks to rely.\"","v":"Although every effort has been made to ensure the accuracy of the information provided in this annual review pack, WPD East Midlands does not accept any liability for the accuracy of the information contained herein and, in particular, WPD East Midlands or any of its employees, shall not be held liable for any misstatement or opinion on which the recipient of this statement relies or seeks to rely."}]
[]
[]
[]
[]
["Contents:"]
[]
["Sheet Name","Detail"]
["Commentary","This sheet contains the DNO's commentary on the forecast input CDCM data for the forecast over the 5 year period."]
["CDCM Forecast Data","This sheet contains historical and forecast data for all CDCM inputs except for volume data (table 1053) and matrix of applicability data (table 1025 - 1028).\nThe RPI forecast is seperated out and listed as a standalone assumption.  Any forecasts that relate to RPI will be linked to this row.\nComments are provided alongside each forecast explaining any assumptions made by the DNO."]
["Table 1","This sheet contains the DNO's table 1 produced in accordance with DCUSA Schedule 15 \"cost information table\"."]
["Mat of App","This sheet contains the forecast CDCM matrix of applicability data (table 1025 - 1028).  The default value is that the same matrix will be used for each of the five years."]
["CDCM Volume Forecasts","This sheet contains forecast CDCM volume data (table 1053).  The matrix at the top can be used to apply different growth rates to groups of customers."]
["CDCM Timebands","Contains the time bands that the DNO plans to use for the coming year and advance warning of any changes."]
["CDCM Input Sheet (Y)","This sheet contains the CDCM input sheet for base year 0 (Y) in a format that can be copy and pasted (paste-value) into the CDCM spreadsheet model."]
["CDCM Input Sheet (Y + 1)","This sheet contains the CDCM input sheet for base year +1 (Y+1) in a format that can be copy and pasted (paste-value) into the CDCM spreadsheet model."]
["CDCM Input Sheet (Y + 2)","This sheet contains the CDCM input sheet for base year +2 (Y+2) in a format that can be copy and pasted (paste-value) into the CDCM spreadsheet model."]
["CDCM Input Sheet (Y + 3)","This sheet contains the CDCM input sheet for base year +3 (Y+3) in a format that can be copy and pasted (paste-value) into the CDCM spreadsheet model."]
["CDCM Input Sheet (Y + 4)","This sheet contains the CDCM input sheet for base year +4 (Y+4) in a format that can be copy and pasted (paste-value) into the CDCM spreadsheet model."]
["Tariffs ARP","This sheet contains the CDCM tariffs that are produced from the CDCM input data, after the Macro on this sheet has been run.  It contains the tariffs for each of the 5 years."]
[]
[]
["This document, model or dataset has been prepared by or for Reckon LLP on the instructions of the DCUSA Panel or"]
["one of its working groups.  Only the DCUSA Panel and its working groups have authority to approve this"]
["material as meeting their requirements.  Reckon LLP makes no representation about the suitability of this"]
["material for the purposes of complying with any licence conditions or furthering any relevant objective."]

{"sheet":"Commentary","index":1,"n_rows":3,"n_cols":2,"rows_kept":3,"cut":false,"hidden":false,"merged":[]}
[]
[]
[null,{"$f":"'CDCM Forecast Data'!E3","v":"WPD East Midlands"}]

{"sheet":"CDCM Forecast Data","index":2,"n_rows":271,"n_cols":10,"rows_kept":271,"cut":false,"hidden":false,"merged":[[2,4,2,5],[3,4,3,5],[4,4,4,5],[8,2,8,3],[8,5,8,8]]}
[]
[]
[null,null,null,"Company:","WPD East Midlands"]
[null,null,null,"Date of Issue:","2018-01-01"]
[null,null,null,"Status","ARP"]
[]
[]
[]
[null,null,"Historical CDCM Input Data (Actuals)",null,{"$f":"\"CDCM Values - \"&E5","v":"CDCM Values - ARP"},"Forecast CDCM Values"]
[null,"Year Ref ->","Y-2","Y-1","Y","Y+1","Y+2","Y+3","Y+4"]
[null,"Charging Year ->","2017/18","2018/19","2019/20","2020/21","2021/22","2022/23","2023/24"]
[null,"DPCR ->","RIIO - ED1","RIIO - ED1","RIIO - ED1","RIIO - ED1","RIIO - ED1","RIIO - ED1","RIIO - ED2","Assumptions"]
[null,"RPI Forecast:",null,3.4790365744870488E-2,3.1034482758620641E-2,3.177257525083621E-2,3.0794165316045508E-2,3.1446540880503138E-2,3.1E-2]
[1,"1000 Company name, charging year and model version"]
[2,"Company",{"$f":"E3","v":"WPD East Midlands"},{"$f":"C15","v":"WPD East Midlands"},{"$f":"D15","v":"WPD East Midlands"},"WPD East Midlands","WPD East Midlands","WPD East Midlands","WPD East Midlands"]
[3,"Year",{"$f":"C11","v":"2017/18"},{"$f":"D11","v":"2018/19"},"2019/20","2020/21","2021/22","2022/23","2023/24"]
[4,"Version","Finals","Finals","Finals","Forecast","Forecast","Forecast","Forecast"]
[5,"1010 Financial and general assumptions"]
[6,"Rate of return",4.3099999999999999E-2,4.2099999999999999E-2,4.0800000000000003E-2,4.2099999999999999E-2,4.2099999999999999E-2,4.2099999999999999E-2,4.2099999999999999E-2]
[7,"Annualisation period (years)",40,40,40,40,40,40,40]
[8,"Power factor",0.95,0.95,0.95,0.95,0.95,0.95,0.95]
[9,"Days in the charging period",365,365,366,365,365,365,366]
[10,"1017 Diversity allowance between top and bottom of network level"]
[11,"GSPs",2.4713742436156094E-2,2.4713742436156094E-2,{"$f":"'[2]CDCM Forecast Data'!E24","v":2.4713742436156094E-2},{"$f":"E24","v":2.4713742436156094E-2},{"$f":"F24","v":2.4713742436156094E-2},2.4713742436156094E-2,2.4713742436156094E-2]
[12,"132kV",4.5013478235986115E-2,4.5013478235986115E-2,{"$f":"'[2]CDCM Forecast Data'!E25","v":4.5013478235986115E-2},{"$f":"E25","v":4.5013478235986115E-2},4.5013478235986115E-2,4.5013478235986115E-2,4.5013478235986115E-2]
[13,"EHV",7.9017642685410783E-2,7.9017642685410783E-2,{"$f":"'[2]CDCM Forecast Data'!E26","v":7.9017642685410783E-2},7.9017642685410783E-2,7.9017642685410783E-2,7.9017642685410783E-2,7.9017642685410783E-2]
[14,"HV",0.34000000000000008,0.34000000000000008,{"$f":"'[2]CDCM Forecast Data'!E27","v":0.34000000000000008},0.34000000000000008,0.34000000000000008,0.34000000000000008,0.34000000000000008]
[15,"1018 Proportion of relevant load going through 132kV/HV direct transformation",7.5044342711319545E-2,7.5044342711319545E-2,{"$f":"'[2]CDCM Forecast Data'!E28","v":7.5044342711319545E-2},7.5044342711319545E-2,7.5044342711319545E-2,7.5044342711319545E-2,7.5044342711319545E-2]
[16,"1019 Network model GSP demand (MW)",500,500,{"$f":"'[2]CDCM Forecast Data'!E29","v":500},500,500,500,500]
[17,"1020 Gross asset cost by network level (£)"]
[18,"132kV",55958407.748501986,57679128.786768429,56518353.976547159,{"$f":"E31*(1+F$13)","v":58314087.631320402},60109821.286093645,62000067.238486528,63922069.322879605]
[19,"132kV/EHV",28164838.66595092,29030907.454928912,28721335.706148807,29633886.506176949,30546437.30620509,31507017.095708396,32483734.625675354]
[20,"EHV",34330453.651157282,35386115.10093037,35107370.343575805,36222821.909676045,37338273.475776285,38512433.01903969,39706318.442629918]
[21,"EHV/HV",55627383.377675526,57337925.416539051,56993035.863793761,58803851.384549752,60614666.905305751,62520788.506101526,64458932.949790671]
[22,"132kV/HV",4677230.0513047958,4821054.8753824187,4780051.2943497607,4931925.8338023452,5083800.3732549306,5243668.309520809,5406222.0271159541]
[23,"HV",139133043.33482894,143411384.41737494,135229188.20012498,139525767.75832295,143822347.31652093,148345062.64093983,152943759.58280894]
[24,"HV/LV",59090390.246629447,60907419.746713303,61125988.257662326,63068118.319360636,65010248.381058946,67054595.81442558,69133288.284672767]
[25,"LV circuits",116606719.19459665,120192375.8098305,118958510.67028594,122738128.90228501,126517747.13428408,130496292.6416515,134541677.71354267]
[26,"1022 LV service model asset cost (£)"]
[27,"LV service model 1",5262.1609041399997,5423.9723519423051,4357.328300000001,{"$f":"E40*(1+F$13)","v":4495.7718413043494},4634.2153826086978,4779.9454260869588,4928.1237342956538]
[28,"LV service model 2",591.94049120500006,610.14266130955389,664.33208833333356,685.43962960144961,706.54717086956566,728.76563536231924,751.35737005855106]
[29,"LV service model 3",720.68333077999989,742.84434320148489,768.35503333333349,792.7676514492756,817.18026956521771,842.87776231884095,869.00697295072496]
[30,"LV service model 4",534.47314829999993,550.90819761022499,557.61393999999996,575.33077086956519,593.04760173913053,611.69689739130445,630.65950121043488]
[31,"LV service model 5",1214.9764092760001,1252.3369338612372,1230.2180106666669,1269.3052049855075,1308.3923993043484,1349.5368143768121,1391.3724556224931]
[32,"LV service model 6",935.79073381500018,964.56629887981148,960.35940000000016,990.87249130434805,1021.385582608696,1053.5046260869569,1086.1632694956525]
[33,"LV service model 7",0,0,0,0,0,0,0]
[34,"LV service model 8",489.42401340000009,504.47380181205011,525.61261999999999,542.31268652173912,559.01275304347837,576.59177043478269,594.4661153182609]
[35,"1023 HV service model asset cost (£)"]
[36,"HV service model 1",9284.1299391119992,9569.6169347396935,10371.625680000001,{"$f":"E49*(1+F$13)","v":10701.158937391307},11030.692194782612,11377.56930782609,11730.273956368697]
[37,"HV service model 2",4476.1926720000001,4613.8355966640001,4264,4399.4782608695659,4534.9565217391319,4677.5652173913059,4822.5697391304357]
[38,"HV service model 3",0,0,{"$f":"'[2]CDCM Forecast Data'!E51","v":0},0,0,0,0]
[39,"HV service model 4",0,0,{"$f":"'[2]CDCM Forecast Data'!E52","v":0},0,0,0,0]
[40,"HV service model 5",0,0,{"$f":"'[2]CDCM Forecast Data'!E53","v":0},0,0,0,0]
[41,"1025 Matrix of applicability of LV service models to tariffs with fixed charges"]
[42,"1026 Matrix of applicability of LV service models to unmetered tariffs"]
[43,"1028 Matrix of applicability of HV service models to tariffs with fixed charges"]
[44,"1032 Loss adjustment factors to transmission"]
[45,"132kV",1.002,1.002,1.002,{"$f":"E58","v":1.002},1.002,1.002,1.002]
[46,"132kV/EHV",1.0069999999999999,1.008,1.008,1.008,1.008,1.008,1.008]
[47,"EHV",1.01,1.01,1.01,1.01,1.01,1.01,1.01]
[48,"EHV/HV",1.018,1.018,1.018,1.018,1.018,1.018,1.018]
[49,"HV",1.034,1.034,1.034,1.034,1.034,1.034,1.034]
[50,"HV/LV",1.0529999999999999,1.05,1.05,1.05,1.05,1.05,1.05]
[51,"LV circuits",1.093,1.08,1.08,1.08,1.08,1.08,1.08]
[52,"1037 Embedded network (LDNO) discounts"]
[53,"LDNO LV: LV user",0.30122164992514944,0.30144726441640896,0.30035267521805875,{"$f":"E66","v":0.30035267521805875},0.30035267521805875,0.30035267521805875,0.30035267521805875]
[54,"LDNO HV: LV user",0.48820319392396561,0.48131243081268887,0.47818139481135069,0.47818139481135069,0.47818139481135069,0.47818139481135069,0.47818139481135069]
[55,"LDNO HV: LV sub user",0.25845641398755653,0.24841845750540029,0.24363743688262601,0.24363743688262601,0.24363743688262601,0.24363743688262601,0.24363743688262601]
[56,"LDNO HV: HV user",0.15948897742330323,0.14805034783365986,0.14249687495735849,0.14249687495735849,0.14249687495735849,0.14249687495735849,0.14249687495735849]
[57,"1041 Load profile data for demand users: coincidence factor"]
[58,"Domestic Unrestricted",0.85148635650349058,0.85400318441053835,{"$f":"'Smoothed Input Details'!E15","v":0.86240741067308713},{"$f":"E71","v":0.86240741067308713},0.86240741067308713,0.86240741067308713,0.86240741067308713]
[59,"Domestic Two Rate",0.8643840665228808,0.85792632594639062,{"$f":"'Smoothed Input Details'!E16","v":0.86034731111249485},0.86034731111249485,0.86034731111249485,0.86034731111249485,0.86034731111249485]
[60,"Domestic Off Peak (related MPAN)",0]
[61,"Small Non Domestic Unrestricted",0.69103195732631961,0.69889326835314869,{"$f":"'Smoothed Input Details'!E18","v":0.72324936497793268},{"$f":"E74","v":0.72324936497793268},0.72324936497793268,0.72324936497793268,0.72324936497793268]
[62,"Small Non Domestic Two Rate",0.82830873563228236,0.84303861767683852,{"$f":"'Smoothed Input Details'!E19","v":0.86240621985923305},0.86240621985923305,0.86240621985923305,0.86240621985923305,0.86240621985923305]
[63,"Small Non Domestic Off Peak (related MPAN)",0]
[64,"LV Medium Non-Domestic",0.83067543751657169,0.84122778780683927,{"$f":"'Smoothed Input Details'!E21","v":0.84122778780683927},{"$f":"E77","v":0.84122778780683927},0.84122778780683927,0.84122778780683927,0.84122778780683927]
[65,"LV Sub Medium Non-Domestic",0.83067543751657169,0.84122778780683927,{"$f":"'Smoothed Input Details'!E22","v":0.84122778780683927},0.84122778780683927,0.84122778780683927,0.84122778780683927,0.84122778780683927]
[66,"HV Medium Non-Domestic",0.75893366750819979,0.78886749721267824,{"$f":"'Smoothed Input Details'!E23","v":0.78886749721267824},0.78886749721267824,0.78886749721267824,0.78886749721267824,0.78886749721267824]
[67,"LV Network Domestic",0.85626281091297063,0.85545605524262902,{"$f":"'Smoothed Input Details'!E24","v":0.86164448674198868},0.86164448674198868,0.86164448674198868,0.86164448674198868,0.86164448674198868]
[68,"LV Network Non-Domestic Non-CT",0.75443897686484007,0.76547282458794896,{"$f":"'Smoothed Input Details'!E25","v":0.78752477648789532},0.78752477648789532,0.78752477648789532,0.78752477648789532,0.78752477648789532]
[69,"LV HH Metered",0.82746593052237005,0.82086521600613926,{"$f":"'Smoothed Input Details'!E26","v":0.82086521600613926},0.82086521600613926,0.82086521600613926,0.82086521600613926,0.82086521600613926]
[70,"LV Sub HH Metered",0.81756465262137112,0.82532257697399525,{"$f":"'Smoothed Input Details'!E27","v":0.84026867562743668},0.84026867562743668,0.84026867562743668,0.84026867562743668,0.84026867562743668]
[71,"HV HH Metered",0.85914254586508099,0.85053500862037013,{"$f":"'Smoothed Input Details'!E28","v":0.84760121590132942},0.84760121590132942,0.84760121590132942,0.84760121590132942,0.84760121590132942]
[72,"NHH UMS category A",1,1,{"$f":"'Smoothed Input Details'!E29","v":1},1,1,1,1]
[73,"NHH UMS category B",1,1,{"$f":"'Smoothed Input Details'!E30","v":1},1,1,1,1]
[74,"NHH UMS category C",1,1,{"$f":"'Smoothed Input Details'!E31","v":1},1,1,1,1]
[75,"NHH UMS category D",5.0776583034647556E-3,5.3621027479092004E-3,{"$f":"'Smoothed Input Details'!E32","v":5.3621027479092004E-3},5.3621027479092004E-3,5.3621027479092004E-3,5.3621027479092004E-3,5.3621027479092004E-3]
[76,"LV UMS (Pseudo HH Metered)",0.97848166596417219,0.97190736848952985,{"$f":"'Smoothed Input Details'!E33","v":0.95079576417959843},0.95079576417959843,0.95079576417959843,0.95079576417959843,0.95079576417959843]
[77,"1041 Load profile data for demand users: load factor"]
[78,"Domestic Unrestricted",0.4191046303105454,0.42009721728173721,{"$f":"'Smoothed Input Details'!E42","v":0.41623710501756489},{"$f":"E91","v":0.41623710501756489},0.41623710501756489,0.41623710501756489,0.41623710501756489]
[79,"Domestic Two Rate",0.51395255772048276,0.5120194238542104,{"$f":"'Smoothed Input Details'!E43","v":0.5028096693143812},0.5028096693143812,0.5028096693143812,0.5028096693143812,0.5028096693143812]
[80,"Domestic Off Peak (related MPAN)",0.14979408480847001,0.1514383644856073,{"$f":"'Smoothed Input Details'!E44","v":0.14790375681824444},0.14790375681824444,0.14790375681824444,0.14790375681824444,0.14790375681824444]
[81,"Small Non Domestic Unrestricted",0.38547989548396755,0.38466328010177114,{"$f":"'Smoothed Input Details'!E45","v":0.37532588558908553},0.37532588558908553,0.37532588558908553,0.37532588558908553,0.37532588558908553]
[82,"Small Non Domestic Two Rate",0.55168244867314009,0.54881853135907166,{"$f":"'Smoothed Input Details'!E46","v":0.53424065388272945},0.53424065388272945,0.53424065388272945,0.53424065388272945,0.53424065388272945]
[83,"Small Non Domestic Off Peak (related MPAN)",0.23587659673702513,0.24022113576436266,{"$f":"'Smoothed Input Details'!E47","v":0.24278777249580674},0.24278777249580674,0.24278777249580674,0.24278777249580674,0.24278777249580674]
[84,"LV Medium Non-Domestic",0.53093579272686842,0.52667690446927706,{"$f":"'Smoothed Input Details'!E48","v":0.52667690446927706},0.52667690446927706,0.52667690446927706,0.52667690446927706,0.52667690446927706]
[85,"LV Sub Medium Non-Domestic",0.53093579272686842,0.52667690446927706,{"$f":"'Smoothed Input Details'!E49","v":0.52667690446927706},0.52667690446927706,0.52667690446927706,0.52667690446927706,0.52667690446927706]
[86,"HV Medium Non-Domestic",0.48164024024217938,0.49199747964816393,{"$f":"'Smoothed Input Details'!E50","v":0.49199747964816393},0.49199747964816393,0.49199747964816393,0.49199747964816393,0.49199747964816393]
[87,"LV Network Domestic",0.44970160644176344,0.44963651125303999,{"$f":"'Smoothed Input Details'!E51","v":0.44382955791989437},0.44382955791989437,0.44382955791989437,0.44382955791989437,0.44382955791989437]
[88,"LV Network Non-Domestic Non-CT",0.46133145514043128,0.45959391964566643,{"$f":"'Smoothed Input Details'!E52","v":0.44789395514276292},0.44789395514276292,0.44789395514276292,0.44789395514276292,0.44789395514276292]
[89,"LV HH Metered",0.56025765972021724,0.5584288623436322,{"$f":"'Smoothed Input Details'!E53","v":0.5584288623436322},0.5584288623436322,0.5584288623436322,0.5584288623436322,0.5584288623436322]
[90,"LV Sub HH Metered",0.56252441278074128,0.57496364811504375,{"$f":"'Smoothed Input Details'!E54","v":0.57907566723908654},0.57907566723908654,0.57907566723908654,0.57907566723908654,0.57907566723908654]
[91,"HV HH Metered",0.71444457631972436,0.71103049701448084,{"$f":"'Smoothed Input Details'!E55","v":0.7141076061743471},0.7141076061743471,0.7141076061743471,0.7141076061743471,0.7141076061743471]
[92,"NHH UMS category A",1,1,{"$f":"'Smoothed Input Details'!E56","v":1},1,1,1,1]
[93,"NHH UMS category B",0.47235108595963587,0.47247108320502124,{"$f":"'Smoothed Input Details'!E57","v":0.47270807337280285},0.47270807337280285,0.47270807337280285,0.47270807337280285,0.47270807337280285]
[94,"NHH UMS category C",0.24075699024292821,0.23285543621741442,{"$f":"'Smoothed Input Details'!E58","v":0.24339371562014608},{"$f":"E107","v":0.24339371562014608},0.24339371562014608,0.24339371562014608,0.24339371562014608]
[95,"NHH UMS category D",0.51379256543243912,0.511500554695277,{"$f":"'Smoothed Input Details'!E59","v":0.51158697514711327},0.51158697514711327,0.51158697514711327,0.51158697514711327,0.51158697514711327]
[96,"LV UMS (Pseudo HH Metered)",0.46000104241191425,0.44786704331621036,{"$f":"'Smoothed Input Details'!E60","v":0.44160896789800635},0.44160896789800635,0.44160896789800635,0.44160896789800635,0.44160896789800635]
[97,"1053. Volume forecasts for the charging year"]
[98,"1055 Transmission exit charges (£/year)",11765728.3737446,11739385.594149301,12361557.2930991,13075155.802411579,14342754.311724091,16132024.321526736,{"$f":"H111*(1+I$13)","v":16632117.075494064}]
[99,"1059 Other Expenditure (£/year)"]
[100,"Direct cost (£/year)",24217737.451595407,32530260.703591101,34760356.964645505,{"$f":"E113*(1+F$13)","v":35864783.022050634},{"$f":"F113*(1+G$13)","v":36969209.079455763},{"$f":"G113*(1+H$13)","v":38131762.824092738},39313847.471639611]
[101,"Indirect cost (£/year)",109692210.56020558,115748658.96321499,123377417.679616,127297435.96709545,131217454.25457491,135343789.29402694,139539446.76214176]
[102,"Indirect cost proportion",0.6,0.6,{"$f":"'[2]CDCM Forecast Data'!E115","v":0.6},{"$f":"'[2]CDCM Forecast Data'!F115","v":0.6},{"$f":"'[2]CDCM Forecast Data'!G115","v":0.6},{"$f":"'[2]CDCM Forecast Data'!H115","v":0.6},{"$f":"'[2]CDCM Forecast Data'!I115","v":0.6}]
[103,"Network rates (£/year)",42938905.549500003,35308717.159999996,34760396.175098099,33894095.560277589,33377951.121440716,32354179.52019361,{"$f":"H116*(1+I$13)","v":33357159.085319608}]
[104,"1060 Customer contributions under current connection charging policy"]
[105,"LV network"]
[106,"Assets 132kV",0,0,{"$f":"'[2]CDCM Forecast Data'!E119","v":0},{"$f":"E119","v":0},0,0,0]
[107,"Assets 132kV/EHV",0,0,{"$f":"'[2]CDCM Forecast Data'!E120","v":0},0,0,0,0]
[108,"Assets EHV",0,0,{"$f":"'[2]CDCM Forecast Data'!E121","v":0},0,0,0,0]
[109,"Assets EHV/HV",0,0,{"$f":"'[2]CDCM Forecast Data'!E122","v":0},0,0,0,0]
[110,"Assets 132kV/HV",0,0,{"$f":"'[2]CDCM Forecast Data'!E123","v":0},0,0,0,0]
[111,"Assets HV",0.47913351897273304,0.47913351897273304,{"$f":"'[2]CDCM Forecast Data'!E124","v":0.47913351897273304},0.47913351897273304,0.47913351897273304,0.47913351897273304,0.47913351897273304]
[112,"Assets HV/LV",0.70892384564689981,0.70892384564689981,{"$f":"'[2]CDCM Forecast Data'!E125","v":0.70892384564689981},0.70892384564689981,0.70892384564689981,0.70892384564689981,0.70892384564689981]
[113,"Assets LV circuits",0.93871417232106646,0.93871417232106646,{"$f":"'[2]CDCM Forecast Data'!E126","v":0.93871417232106646},0.93871417232106646,0.93871417232106646,0.93871417232106646,0.93871417232106646]
[114,"LV substation"]
[115,"Assets 132kV",0,0,{"$f":"'[2]CDCM Forecast Data'!E128","v":0},{"$f":"E128","v":0},0,0,0]
[116,"Assets 132kV/EHV",0,0,{"$f":"'[2]CDCM Forecast Data'!E129","v":0},0,0,0,0]
[117,"Assets EHV",0,0,{"$f":"'[2]CDCM Forecast Data'!E130","v":0},0,0,0,0]
[118,"Assets EHV/HV",0,0,{"$f":"'[2]CDCM Forecast Data'!E131","v":0},0,0,0,0]
[119,"Assets 132kV/HV",0,0,{"$f":"'[2]CDCM Forecast Data'!E132","v":0},0,0,0,0]
[120,"Assets HV",0.47913351897273304,0.47913351897273304,{"$f":"'[2]CDCM Forecast Data'!E133","v":0.47913351897273304},0.47913351897273304,0.47913351897273304,0.47913351897273304,0.47913351897273304]
[121,"Assets HV/LV",0.70892384564689981,0.70892384564689981,{"$f":"'[2]CDCM Forecast Data'!E134","v":0.70892384564689981},0.70892384564689981,0.70892384564689981,0.70892384564689981,0.70892384564689981]
[122,"HV network"]
[123,"Assets 132kV",0,0,{"$f":"'[2]CDCM Forecast Data'!E136","v":0},{"$f":"E136","v":0},0,0,0]
[124,"Assets 132kV/EHV",0,0,{"$f":"'[2]CDCM Forecast Data'!E137","v":0},0,0,0,0]
[125,"Assets EHV",6.5420049562801799E-2,6.5420049562801799E-2,{"$f":"'[2]CDCM Forecast Data'!E138","v":6.5420049562801799E-2},6.5420049562801799E-2,6.5420049562801799E-2,6.5420049562801799E-2,6.5420049562801799E-2]
[126,"Assets EHV/HV",0.35162962287700078,0.35162962287700078,{"$f":"'[2]CDCM Forecast Data'!E139","v":0.35162962287700078},0.35162962287700078,0.35162962287700078,0.35162962287700078,0.35162962287700078]
[127,"Assets 132kV/HV",0.35162962287700078,0.35162962287700078,{"$f":"'[2]CDCM Forecast Data'!E140","v":0.35162962287700078},0.35162962287700078,0.35162962287700078,0.35162962287700078,0.35162962287700078]
[128,"Assets HV",0.63783919619119978,0.63783919619119978,{"$f":"'[2]CDCM Forecast Data'!E141","v":0.63783919619119978},0.63783919619119978,0.63783919619119978,0.63783919619119978,0.63783919619119978]
[129,"HV substation"]
[130,"Assets 132kV",0,0,{"$f":"'[2]CDCM Forecast Data'!E143","v":0},{"$f":"E143","v":0},0,0,0]
[131,"Assets 132kV/EHV",0,0,{"$f":"'[2]CDCM Forecast Data'!E144","v":0},0,0,0,0]
[132,"Assets EHV",6.5420049562801799E-2,6.5420049562801799E-2,{"$f":"'[2]CDCM Forecast Data'!E145","v":6.5420049562801799E-2},6.5420049562801799E-2,6.5420049562801799E-2,6.5420049562801799E-2,6.5420049562801799E-2]
[133,"Assets EHV/HV",0.35162962287700078,0.35162962287700078,{"$f":"'[2]CDCM Forecast Data'!E146","v":0.35162962287700078},0.35162962287700078,0.35162962287700078,0.35162962287700078,0.35162962287700078]
[134,"1061 Average split of rate 1 units by distribution time band"]
[135,"RED"]
[136,"Domestic Unrestricted",0.15175181316585787,0.15213372222547622,{"$f":"'Smoothed Input Details'!K70","v":0.14320337799237601},{"$f":"E149","v":0.14320337799237601},0.14320337799237601,0.14320337799237601,0.14320337799237601]
[137,"Domestic Two Rate",0.14988930992043384,0.1511805904819484,{"$f":"'Smoothed Input Details'!K71","v":0.1514252192479435},0.1514252192479435,0.1514252192479435,0.1514252192479435,0.1514252192479435]
[138,"Domestic Off Peak (related MPAN)",4.5066324872684214E-2,4.4948145394346689E-2,{"$f":"'Smoothed Input Details'!K72","v":4.4815359759835215E-2},4.4815359759835215E-2,4.4815359759835215E-2,4.4815359759835215E-2,4.4815359759835215E-2]
[139,"Small Non Domestic Unrestricted",0.13197139495307864,0.132464696666621,{"$f":"'Smoothed Input Details'!K73","v":0.12448955251915084},0.12448955251915084,0.12448955251915084,0.12448955251915084,0.12448955251915084]
[140,"Small Non Domestic Two Rate",0.12559343520484603,0.12673559250118271,{"$f":"'Smoothed Input Details'!K74","v":0.12789989767459184},0.12789989767459184,0.12789989767459184,0.12789989767459184,0.12789989767459184]
[141,"Small Non Domestic Off Peak (related MPAN)",1.6883539413977185E-2,1.6705890910431391E-2,{"$f":"'Smoothed Input Details'!K75","v":1.6662746927756659E-2},1.6662746927756659E-2,1.6662746927756659E-2,1.6662746927756659E-2,1.6662746927756659E-2]
[142,"LV Medium Non-Domestic",0.13523228476397686,0.13578809104870335,{"$f":"'Smoothed Input Details'!K76","v":0.13578714746948006},0.13578714746948006,0.13578714746948006,0.13578714746948006,0.13578714746948006]
[143,"LV Sub Medium Non-Domestic",0.13381599890228998,0.13372711527001624,{"$f":"'Smoothed Input Details'!K77","v":0.13396894905730031},0.13396894905730031,0.13396894905730031,0.13396894905730031,0.13396894905730031]
[144,"HV Medium Non-Domestic",0.1339102608901872,0.13374798435449031,{"$f":"'Smoothed Input Details'!K78","v":0.13341246842462706},0.13341246842462706,0.13341246842462706,0.13341246842462706,0.13341246842462706]
[145,"AMBER"]
[146,"Domestic Unrestricted",0.41863554592191193,0.42022204165394189,{"$f":"'Smoothed Input Details'!L70","v":0.39651561494177523},{"$f":"E159","v":0.39651561494177523},0.39651561494177523,0.39651561494177523,0.39651561494177523]
[147,"Domestic Two Rate",0.4152479315395457,0.41815803477353342,{"$f":"'Smoothed Input Details'!L71","v":0.41991396852294577},0.41991396852294577,0.41991396852294577,0.41991396852294577,0.41991396852294577]
[148,"Domestic Off Peak (related MPAN)",0.31786379114093172,0.3229314186542836,{"$f":"'Smoothed Input Details'!L72","v":0.32491376716050352},0.32491376716050352,0.32491376716050352,0.32491376716050352,0.32491376716050352]
[149,"Small Non Domestic Unrestricted",0.58632136343692398,0.58430489528375762,{"$f":"'Smoothed Input Details'!L73","v":0.54839946451589383},0.54839946451589383,0.54839946451589383,0.54839946451589383,0.54839946451589383]
[150,"Small Non Domestic Two Rate",0.51496750573007233,0.51514997131356643,{"$f":"'Smoothed Input Details'!L74","v":0.51407192992762296},0.51407192992762296,0.51407192992762296,0.51407192992762296,0.51407192992762296]
[151,"Small Non Domestic Off Peak (related MPAN)",0.18706611656932615,0.1863758242013307,{"$f":"'Smoothed Input Details'!L75","v":0.18539360436192651},0.18539360436192651,0.18539360436192651,0.18539360436192651,0.18539360436192651]
[152,"LV Medium Non-Domestic",0.52748359976013814,0.52767408859068798,{"$f":"'Smoothed Input Details'!L76","v":0.52737188616472797},0.52737188616472797,0.52737188616472797,0.52737188616472797,0.52737188616472797]
[153,"LV Sub Medium Non-Domestic",0.52877228703891521,0.52928758105552953,{"$f":"'Smoothed Input Details'!L77","v":0.52405310526112514},0.52405310526112514,0.52405310526112514,0.52405310526112514,0.52405310526112514]
[154,"HV Medium Non-Domestic",0.53961901757848463,0.53947612719333693,{"$f":"'Smoothed Input Details'!L78","v":0.54105928671962722},0.54105928671962722,0.54105928671962722,0.54105928671962722,0.54105928671962722]
[155,"GREEN"]
[156,"Domestic Unrestricted",0.42961264091223023,0.42764423612058189,{"$f":"'Smoothed Input Details'!M70","v":0.46028100706584879},{"$f":"E169","v":0.46028100706584879},0.46028100706584879,0.46028100706584879,0.46028100706584879]
[157,"Domestic Two Rate",0.43486275854002043,0.43066137474451827,{"$f":"'Smoothed Input Details'!M71","v":0.42866081222911073},0.42866081222911073,0.42866081222911073,0.42866081222911073,0.42866081222911073]
[158,"Domestic Off Peak (related MPAN)",0.63706988398638409,0.6321204359513698,{"$f":"'Smoothed Input Details'!M72","v":0.63027087307966123},0.63027087307966123,0.63027087307966123,0.63027087307966123,0.63027087307966123]
[159,"Small Non Domestic Unrestricted",0.28170724160999738,0.28323040804962135,{"$f":"'Smoothed Input Details'!M73","v":0.32711098296495528},0.32711098296495528,0.32711098296495528,0.32711098296495528,0.32711098296495528]
[160,"Small Non Domestic Two Rate",0.35943905906508161,0.35811443618525091,{"$f":"'Smoothed Input Details'!M74","v":0.35802817239778517},0.35802817239778517,0.35802817239778517,0.35802817239778517,0.35802817239778517]
[161,"Small Non Domestic Off Peak (related MPAN)",0.79605034401669661,0.79691828488823779,{"$f":"'Smoothed Input Details'!M75","v":0.79794364871031676},0.79794364871031676,0.79794364871031676,0.79794364871031676,0.79794364871031676]
[162,"LV Medium Non-Domestic",0.33728411547588505,0.33653782036060864,{"$f":"'Smoothed Input Details'!M76","v":0.33684096636579203},0.33684096636579203,0.33684096636579203,0.33684096636579203,0.33684096636579203]
[163,"LV Sub Medium Non-Domestic",0.33741171405879483,0.33698530367445428,{"$f":"'Smoothed Input Details'!M77","v":0.34197794568157458},0.34197794568157458,0.34197794568157458,0.34197794568157458,0.34197794568157458]
[164,"HV Medium Non-Domestic",0.32647072153132822,0.32677588845217276,{"$f":"'Smoothed Input Details'!M78","v":0.32552824485574577},0.32552824485574577,0.32552824485574577,0.32552824485574577,0.32552824485574577]
[165,"1062 Average split of rate 2 units by distribution time band"]
[166,"RED"]
[167,"Domestic Two Rate",0,0,{"$f":"'Smoothed Input Details'!K88","v":0},{"$f":"E180","v":0},0,0,0]
[168,"Small Non Domestic Two Rate",0,0,{"$f":"'Smoothed Input Details'!K89","v":0},0,0,0,0]
[169,"LV Medium Non-Domestic",0,0,{"$f":"'Smoothed Input Details'!K90","v":0},0,0,0,0]
[170,"LV Sub Medium Non-Domestic",0,0,{"$f":"'Smoothed Input Details'!K91","v":0},0,0,0,0]
[171,"HV Medium Non-Domestic",0,0,{"$f":"'Smoothed Input Details'!K92","v":0},0,0,0,0]
[172,"AMBER"]
[173,"Domestic Two Rate",0,0,{"$f":"'Smoothed Input Details'!L88","v":0},{"$f":"E186","v":0},0,0,0]
[174,"Small Non Domestic Two Rate",0,0,{"$f":"'Smoothed Input Details'!L89","v":0},0,0,0,0]
[175,"LV Medium Non-Domestic",0,0,{"$f":"'Smoothed Input Details'!L90","v":0},0,0,0,0]
[176,"LV Sub Medium Non-Domestic",0,0,{"$f":"'Smoothed Input Details'!L91","v":0},0,0,0,0]
[177,"HV Medium Non-Domestic",0,0,{"$f":"'Smoothed Input Details'!L92","v":0},0,0,0,0]
[178,"GREEN"]
[179,"Domestic Two Rate",1,1,{"$f":"'Smoothed Input Details'!M88","v":1},{"$f":"E192","v":1},1,1,1]
[180,"Small Non Domestic Two Rate",1,1,{"$f":"'Smoothed Input Details'!M89","v":1},1,1,1,1]
[181,"LV Medium Non-Domestic",1,1,{"$f":"'Smoothed Input Details'!M90","v":1},1,1,1,1]
[182,"LV Sub Medium Non-Domestic",1,1,{"$f":"'Smoothed Input Details'!M91","v":1},1,1,1,1]
[183,"HV Medium Non-Domestic",1,1,{"$f":"'Smoothed Input Details'!M92","v":1},1,1,1,1]
[184,"1064. Average split of rate 1 units by special distribution time band"]
[185,"BLACK"]
[186,"NHH UMS category A",2.9337899543378995E-2,2.9311076178356665E-2,{"$f":"'Smoothed Input Details'!K102","v":2.9311076178356665E-2},{"$f":"E199","v":2.9311076178356665E-2},2.9311076178356665E-2,2.9311076178356665E-2,2.9311076178356665E-2]
[187,"NHH UMS category B",4.9474083998010586E-2,4.9863511425994406E-2,{"$f":"'Smoothed Input Details'!K103","v":5.0432747136262314E-2},5.0432747136262314E-2,5.0432747136262314E-2,5.0432747136262314E-2,5.0432747136262314E-2]
[188,"NHH UMS category C",8.99870184446908E-2,9.4797576230546299E-2,{"$f":"'Smoothed Input Details'!K104","v":9.6185231748668151E-2},9.6185231748668151E-2,9.6185231748668151E-2,9.6185231748668151E-2,9.6185231748668151E-2]
[189,"NHH UMS category D",9.5948033573188957E-3,9.2384256448861096E-3,{"$f":"'Smoothed Input Details'!K105","v":8.830567560272817E-3},8.830567560272817E-3,8.830567560272817E-3,8.830567560272817E-3,8.830567560272817E-3]
[190,"YELLOW"]
[191,"NHH UMS category A",0.37237442922374431,0.37306092022856002,{"$f":"'Smoothed Input Details'!L102","v":0.37306092022856002},{"$f":"E204","v":0.37306092022856002},0.37306092022856002,0.37306092022856002,0.37306092022856002]
[192,"NHH UMS category B",8.916622669344576E-2,9.0358126997780841E-2,{"$f":"'Smoothed Input Details'!L103","v":9.024866969588996E-2},9.024866969588996E-2,9.024866969588996E-2,9.024866969588996E-2,9.024866969588996E-2]
[193,"NHH UMS category C",0.15413944608086702,0.16060168082435519,{"$f":"'Smoothed Input Details'!L104","v":0.16334039820901594},0.16334039820901594,0.16334039820901594,0.16334039820901594,0.16334039820901594]
[194,"NHH UMS category D",0.6347847105654707,0.63552654578158074,{"$f":"'Smoothed Input Details'!L105","v":0.63540611125889146},0.63540611125889146,0.63540611125889146,0.63540611125889146,0.63540611125889146]
[195,"GREEN"]
[196,"NHH UMS category A",0.59828767123287674,0.59762800359308332,{"$f":"'Smoothed Input Details'!M102","v":0.59762800359308332},{"$f":"E209","v":0.59762800359308332},0.59762800359308332,0.59762800359308332,0.59762800359308332]
[197,"NHH UMS category B",0.86135968930854367,0.85977836157622478,{"$f":"'Smoothed Input Details'!M103","v":0.8593185831678477},0.8593185831678477,0.8593185831678477,0.8593185831678477,0.8593185831678477]
[198,"NHH UMS category C",0.75587353547444225,0.74460074294509848,{"$f":"'Smoothed Input Details'!M104","v":0.74047437004231587},0.74047437004231587,0.74047437004231587,0.74047437004231587,0.74047437004231587]
[199,"NHH UMS category D",0.35562048607721053,0.35523502857353328,{"$f":"'Smoothed Input Details'!M105","v":0.35576332118083581},0.35576332118083581,0.35576332118083581,0.35576332118083581,0.35576332118083581]
[200,"1066. Typical annual hours by special distribution time band"]
[201,"Black",258,258,258,255,258,{"$f":"G214","v":258},261]
[202,"Yellow",3252,3252,3279,3268.5,3265.5,3265.5,3249]
[203,"Green",5250,5250,5247,5236.5,5236.5,5236.5,5274]
[204,"1068 Typical annual hours by distribution time band"]
[205,"Red",780,780,786,783,783,{"$f":"G218","v":783},780]
[206,"Amber",2730,2730,2751,2740.5,2740.5,2740.5,2730]
[207,"Green",5250,5250,5247,5236.5,5236.5,5236.5,5274]
[208,"1069 Peaking probabilities by network level"]
[209,"RED"]
[210,"GSPs",0.98260220093464345,0.98260220093464345,{"$f":"'Smoothed Input Details'!N115","v":1},{"$f":"E223","v":1},1,1,1]
[211,"132kV",0.85756549301791341,0.83648350893805512,{"$f":"'Smoothed Input Details'!N116","v":0.78083657486560021},0.78083657486560021,0.78083657486560021,0.78083657486560021,0.78083657486560021]
[212,"132kV/EHV",0.85756549301791341,0.83648350893805512,{"$f":"'Smoothed Input Details'!N117","v":0.78083657486560021},0.78083657486560021,0.78083657486560021,0.78083657486560021,0.78083657486560021]
[213,"EHV",0.67045710295130456,0.6706119936711753,{"$f":"'Smoothed Input Details'!N118","v":0.66321603936627416},0.66321603936627416,0.66321603936627416,0.66321603936627416,0.66321603936627416]
[214,"EHV/HV",0.67045710295130456,0.6706119936711753,{"$f":"'Smoothed Input Details'!N119","v":0.66321603936627416},0.66321603936627416,0.66321603936627416,0.66321603936627416,0.66321603936627416]
[215,"132kV/HV",0.85756549301791341,0.83648350893805512,{"$f":"'Smoothed Input Details'!N120","v":0.78083657486560021},0.78083657486560021,0.78083657486560021,0.78083657486560021,0.78083657486560021]
[216,"HV",0.67045710295130456,0.6706119936711753,{"$f":"'Smoothed Input Details'!N121","v":0.66321603936627416},0.66321603936627416,0.66321603936627416,0.66321603936627416,0.66321603936627416]
[217,"HV/LV",0.67045710295130456,0.6706119936711753,{"$f":"'Smoothed Input Details'!N122","v":0.66321603936627416},0.66321603936627416,0.66321603936627416,0.66321603936627416,0.66321603936627416]
[218,"LV circuits",0.67045710295130456,0.6706119936711753,{"$f":"'Smoothed Input Details'!N123","v":0.66321603936627416},0.66321603936627416,0.66321603936627416,0.66321603936627416,0.66321603936627416]
[219,"AMBER"]
[220,"GSPs",0,0,{"$f":"'Smoothed Input Details'!O115","v":0},{"$f":"E233","v":0},0,0,0]
[221,"132kV",0.13246822025442007,0.1499101700896254,{"$f":"'Smoothed Input Details'!O116","v":0.20804160459605281},0.20804160459605281,0.20804160459605281,0.20804160459605281,0.20804160459605281]
[222,"132kV/EHV",0.13246822025442007,0.1499101700896254,{"$f":"'Smoothed Input Details'!O117","v":0.20804160459605281},0.20804160459605281,0.20804160459605281,0.20804160459605281,0.20804160459605281]
[223,"EHV",0.28665186374780161,0.28754827660440974,{"$f":"'Smoothed Input Details'!O118","v":0.29786987200550125},0.29786987200550125,0.29786987200550125,0.29786987200550125,0.29786987200550125]
[224,"EHV/HV",0.28665186374780161,0.28754827660440974,{"$f":"'Smoothed Input Details'!O119","v":0.29786987200550125},0.29786987200550125,0.29786987200550125,0.29786987200550125,0.29786987200550125]
[225,"132kV/HV",0.13246822025442007,0.1499101700896254,{"$f":"'Smoothed Input Details'!O120","v":0.20804160459605281},0.20804160459605281,0.20804160459605281,0.20804160459605281,0.20804160459605281]
[226,"HV",0.28665186374780161,0.28754827660440974,{"$f":"'Smoothed Input Details'!O121","v":0.29786987200550125},0.29786987200550125,0.29786987200550125,0.29786987200550125,0.29786987200550125]
[227,"HV/LV",0.28665186374780161,0.28754827660440974,{"$f":"'Smoothed Input Details'!O122","v":0.29786987200550125},0.29786987200550125,0.29786987200550125,0.29786987200550125,0.29786987200550125]
[228,"LV circuits",0.28665186374780161,0.28754827660440974,{"$f":"'Smoothed Input Details'!O123","v":0.29786987200550125},0.29786987200550125,0.29786987200550125,0.29786987200550125,0.29786987200550125]
[229,"GREEN"]
[230,"GSPs",1.7397799065356524E-2,1.7397799065356524E-2,{"$f":"'Smoothed Input Details'!P115","v":0},{"$f":"E243","v":0},0,0,0]
[231,"132kV",9.9662867276665724E-3,1.3606320972319541E-2,{"$f":"'Smoothed Input Details'!P116","v":1.1121820538347099E-2},1.1121820538347099E-2,1.1121820538347099E-2,1.1121820538347099E-2,1.1121820538347099E-2]
[232,"132kV/EHV",9.9662867276665724E-3,1.3606320972319541E-2,{"$f":"'Smoothed Input Details'!P117","v":1.1121820538347099E-2},1.1121820538347099E-2,1.1121820538347099E-2,1.1121820538347099E-2,1.1121820538347099E-2]
[233,"EHV",4.2891033300893812E-2,4.1839729724414833E-2,{"$f":"'Smoothed Input Details'!P118","v":3.8914088628224541E-2},3.8914088628224541E-2,3.8914088628224541E-2,3.8914088628224541E-2,3.8914088628224541E-2]
[234,"EHV/HV",4.2891033300893812E-2,4.1839729724414833E-2,{"$f":"'Smoothed Input Details'!P119","v":3.8914088628224541E-2},3.8914088628224541E-2,3.8914088628224541E-2,3.8914088628224541E-2,3.8914088628224541E-2]
[235,"132kV/HV",9.9662867276665724E-3,1.3606320972319541E-2,{"$f":"'Smoothed Input Details'!P120","v":1.1121820538347099E-2},1.1121820538347099E-2,1.1121820538347099E-2,1.1121820538347099E-2,1.1121820538347099E-2]
[236,"HV",4.2891033300893812E-2,4.1839729724414833E-2,{"$f":"'Smoothed Input Details'!P121","v":3.8914088628224541E-2},3.8914088628224541E-2,3.8914088628224541E-2,3.8914088628224541E-2,3.8914088628224541E-2]
[237,"HV/LV",4.2891033300893812E-2,4.1839729724414833E-2,{"$f":"'Smoothed Input Details'!P122","v":3.8914088628224541E-2},3.8914088628224541E-2,3.8914088628224541E-2,3.8914088628224541E-2,3.8914088628224541E-2]
[238,"LV circuits",4.2891033300893812E-2,4.1839729724414833E-2,{"$f":"'Smoothed Input Details'!P123","v":3.8914088628224541E-2},3.8914088628224541E-2,3.8914088628224541E-2,3.8914088628224541E-2,3.8914088628224541E-2]
[239,"BLACK"]
[240,"GSPs",0.98260220093464345,0.98260220093464345,{"$f":"'Smoothed Input Details'!Q115","v":1},{"$f":"E253","v":1},1,1,1]
[241,"132kV",0.85674691747275189,0.83313709823829951,{"$f":"'Smoothed Input Details'!Q116","v":0.76764541372159689},0.76764541372159689,0.76764541372159689,0.76764541372159689,0.76764541372159689]
[242,"132kV/EHV",0.85674691747275189,0.83313709823829951,{"$f":"'Smoothed Input Details'!Q117","v":0.76764541372159689},0.76764541372159689,0.76764541372159689,0.76764541372159689,0.76764541372159689]
[243,"EHV",0.6642812698025824,0.66264719179344012,{"$f":"'Smoothed Input Details'!Q118","v":0.65256034025485976},0.65256034025485976,0.65256034025485976,0.65256034025485976,0.65256034025485976]
[244,"EHV/HV",0.6642812698025824,0.66264719179344012,{"$f":"'Smoothed Input Details'!Q119","v":0.65256034025485976},0.65256034025485976,0.65256034025485976,0.65256034025485976,0.65256034025485976]
[245,"132kV/HV",0.85674691747275189,0.83313709823829951,{"$f":"'Smoothed Input Details'!Q120","v":0.76764541372159689},0.76764541372159689,0.76764541372159689,0.76764541372159689,0.76764541372159689]
[246,"HV",0.6642812698025824,0.66264719179344012,{"$f":"'Smoothed Input Details'!Q121","v":0.65256034025485976},0.65256034025485976,0.65256034025485976,0.65256034025485976,0.65256034025485976]
[247,"HV/LV",0.6642812698025824,0.66264719179344012,{"$f":"'Smoothed Input Details'!Q122","v":0.65256034025485976},0.65256034025485976,0.65256034025485976,0.65256034025485976,0.65256034025485976]
[248,"LV circuits",0.6642812698025824,0.66264719179344012,{"$f":"'Smoothed Input Details'!Q123","v":0.65256034025485976},0.65256034025485976,0.65256034025485976,0.65256034025485976,0.65256034025485976]
[249,"1092 Average kVAr by kVA, by network level"]
[250,"GSPs",0.29065630826556399,0.21475343186814438,0.17488998364096539,{"$f":"E263","v":0.17488998364096539},{"$f":"F263","v":0.17488998364096539},0.17488998364096539,0.17488998364096539]
[251,"132kV",0.29065630826556399,0.21475343186814438,0.17488998364096539,{"$f":"E264","v":0.17488998364096539},0.17488998364096539,0.17488998364096539,0.17488998364096539]
[252,"132kV/EHV",0.29065630826556399,0.21475343186814438,0.17488998364096539,0.17488998364096539,0.17488998364096539,0.17488998364096539,0.17488998364096539]
[253,"EHV",0.29065630826556399,0.21475343186814438,0.17488998364096539,0.17488998364096539,0.17488998364096539,0.17488998364096539,0.17488998364096539]
[254,"EHV/HV",0.29065630826556399,0.21475343186814438,0.17488998364096539,0.17488998364096539,0.17488998364096539,0.17488998364096539,0.17488998364096539]
[255,"132kV/HV",0.29065630826556399,0.21475343186814438,0.17488998364096539,0.17488998364096539,0.17488998364096539,0.17488998364096539,0.17488998364096539]
[256,"HV",0.29065630826556399,0.21475343186814438,0.17488998364096539,0.17488998364096539,0.17488998364096539,0.17488998364096539,0.17488998364096539]
[257,"HV/LV",0.29065630826556399,0.21475343186814438,0.17488998364096539,0.17488998364096539,0.17488998364096539,0.17488998364096539,0.17488998364096539]
[258,"LV circuits",0.29065630826556399,0.21475343186814438,0.17488998364096539,0.17488998364096539,0.17488998364096539,0.17488998364096539,0.17488998364096539]

{"sheet":"Table 1","index":3,"n_rows":53,"n_cols":11,"rows_kept":53,"cut":false,"hidden":false,"merged":[[20,10,23,10]]}
["Schedule 15 table 1"]
[{"$f":"\"Company Name: \"&'CDCM Forecast Data'!E3","v":"Company Name: WPD East Midlands"}]
["Date: "]
[]
["Description","Licence Term","CRC",null,null,null,null,null,null,null,"Assumptions"]
["Regulatory Year",null,null,"t-2","t-1","t","t+1","t+2","t+3","t+4"]
["Regulatory Year",null,null,{"$f":"'CDCM Forecast Data'!C11","v":"2017/18"},{"$f":"'CDCM Forecast Data'!D11","v":"2018/19"},{"$f":"'CDCM Forecast Data'!E11","v":"2019/20"},{"$f":"'CDCM Forecast Data'!F11","v":"2020/21"},{"$f":"'CDCM Forecast Data'!G11","v":"2021/22"},{"$f":"'CDCM Forecast Data'!H11","v":"2022/23"},{"$f":"'CDCM Forecast Data'!I11","v":"2023/24"}]
["Base Demand Revenue Before Inflation (A1)","PU","CRC2A",{"$f":"'[3]R6 Base Demand Revenue'!I6","v":410.9},{"$f":"'[3]R6 Base Demand Revenue'!J6","v":415},{"$f":"'[3]R6 Base Demand Revenue'!K6","v":419.2},{"$f":"'[3]R6 Base Demand Revenue'!L6","v":423.3},{"$f":"'[3]R6 Base Demand Revenue'!M6","v":427.6},{"$f":"'[3]R6 Base Demand Revenue'!N6","v":431.9},{"$f":"I8","v":431.9}]
["Annual Iteration adjustment before inflation (A2)","MOD","CRC2A",{"$f":"'[3]R6 Base Demand Revenue'!I7","v":-0.82696390874451708},{"$f":"'[3]R6 Base Demand Revenue'!J7","v":-14.415795422952499},{"$f":"'[3]R6 Base Demand Revenue'!K7","v":-11.500953216054199},{"$f":"'[3]R6 Base Demand Revenue'!L7","v":-18.465532201224562},{"$f":"'[3]R6 Base Demand Revenue'!M7","v":-22.756970716081639},{"$f":"'[3]R6 Base Demand Revenue'!N7","v":-27.538160747024378},{"$f":"'[3]R6 Base Demand Revenue'!O7","v":0}]
["RPI True-up before inflation (A3)","TRU","CRC2A",{"$f":"'[3]R6 Base Demand Revenue'!I8","v":-8.5120591583921659},{"$f":"'[3]R6 Base Demand Revenue'!J8","v":-1.5940680100258058},{"$f":"'[3]R6 Base Demand Revenue'!K8","v":0.30381223901181342},{"$f":"'[3]R6 Base Demand Revenue'!L8","v":0},{"$f":"'[3]R6 Base Demand Revenue'!M8","v":0},{"$f":"'[3]R6 Base Demand Revenue'!N8","v":0},{"$f":"'[3]R6 Base Demand Revenue'!O8","v":0}]
["Price index adjustment (RPI index) (A4)","RPIF","CRC2A",{"$f":"'[3]R6 Base Demand Revenue'!I9","v":1.121},{"$f":"(1+'CDCM Forecast Data'!D13)*D11","v":1.1599999999999999},{"$f":"(1+'CDCM Forecast Data'!E13)*E11","v":1.196},{"$f":"(1+'CDCM Forecast Data'!F13)*F11","v":1.234},{"$f":"(1+'CDCM Forecast Data'!G13)*G11","v":1.2720000000000002},{"$f":"(1+'CDCM Forecast Data'!H13)*H11","v":1.3120000000000003},{"$f":"(1+'CDCM Forecast Data'!I13)*I11","v":1.3526720000000001}]
["Base Demand Revenue (A): \n[A = (A1 + A2 + A3) * A4]","BR","CRC2A",{"$f":"(D8+D9+D10)*D11","v":450.14985514173975},{"$f":"(E8+E9+E10)*E11","v":462.82855841774511},487.97141939145723,499.56573326368891,514.96033324914424,530.52273309990403,584.21903680000003,"A = (A1 + A2 + A3) * A4"]
["Pass-Through Licence Fees (B1)","LF","CRC2B",{"$f":"'[3]R8 Pass-Through Items'!I6","v":0.24646800088539672},{"$f":"'[3]R8 Pass-Through Items'!J6","v":-6.7941059792090128E-2},{"$f":"'[3]R8 Pass-Through Items'!K6","v":0.36829217911489331},{"$f":"'[3]R8 Pass-Through Items'!L6","v":0.37846914784387009},{"$f":"'[3]R8 Pass-Through Items'!M6","v":0.38815134249359023},{"$f":"'[3]R8 Pass-Through Items'!N6","v":0.39856312338861988},{"$f":"I13","v":0.39856312338861988}]
["Pass-Through Business Rates (B2)","RB","CRC2B",{"$f":"'[3]R8 Pass-Through Items'!I7","v":0.59206913425058871},{"$f":"'[3]R8 Pass-Through Items'!J7","v":1.9452798296465838E-2},{"$f":"'[3]R8 Pass-Through Items'!K7","v":-7.9714080358195352},{"$f":"'[3]R8 Pass-Through Items'!L7","v":-18.674091356972493},{"$f":"'[3]R8 Pass-Through Items'!M7","v":-32.239575845299797},{"$f":"'[3]R8 Pass-Through Items'!N7","v":-35.322369360604256},{"$f":"I14","v":-35.322369360604256}]
["Pass-Through Transmission Connection Point Charges (B3)","TB","CRC2B",{"$f":"'[3]R8 Pass-Through Items'!I8","v":-0.28800913935879335},{"$f":"'[3]R8 Pass-Through Items'!J8","v":-0.71683864790616725},{"$f":"'[3]R8 Pass-Through Items'!K8","v":-1.4941398529728429},{"$f":"'[3]R8 Pass-Through Items'!L8","v":-1.5354272205106663},{"$f":"'[3]R8 Pass-Through Items'!M8","v":-1.7099624312483002},{"$f":"'[3]R8 Pass-Through Items'!N8","v":-1.8113837840481239},-1.8113837840481239]
["Pass-through Smart Meter Communication Licence Costs (B4)","SMC","CRC2B",{"$f":"'[3]R8 Pass-Through Items'!I10","v":1.5713216836855644E-3},{"$f":"'[3]R8 Pass-Through Items'!J10","v":0.60945939081216105},{"$f":"'[3]R8 Pass-Through Items'!K10","v":0.76668707383160339},{"$f":"'[3]R8 Pass-Through Items'!L10","v":1.3669293466522774},{"$f":"'[3]R8 Pass-Through Items'!M10","v":1.4926478365389049},{"$f":"'[3]R8 Pass-Through Items'!N10","v":1.9524004552796934},1.9524004552796934]
["Pass-through Smart Meter IT Costs (B5)","SMIT","CRC2B",{"$f":"'[3]R8 Pass-Through Items'!I11","v":-2.643809422730312E-2},{"$f":"'[3]R8 Pass-Through Items'!J11","v":0.10663026909471504},{"$f":"'[3]R8 Pass-Through Items'!K11","v":0.27413435401443992},{"$f":"'[3]R8 Pass-Through Items'!L11","v":-0.14520828366442087},{"$f":"'[3]R8 Pass-Through Items'!M11","v":0.59140145241894726},{"$f":"'[3]R8 Pass-Through Items'!N11","v":-0.60809265371516774},-0.60809265371516774]
["Pass-through Ring Fence Costs","RF","CRC2B",{"$f":"'[3]R8 Pass-Through Items'!I12","v":2.9299595282040642E-2},{"$f":"'[3]R8 Pass-Through Items'!J12","v":3.0548562988809175E-2},{"$f":"'[3]R8 Pass-Through Items'!K12","v":3.1407066760021446E-2},{"$f":"'[3]R8 Pass-Through Items'!L12","v":3.2274934052380945E-2},{"$f":"'[3]R8 Pass-Through Items'!M12","v":3.3100608207281799E-2},{"$f":"'[3]R8 Pass-Through Items'!N12","v":3.3988499713549433E-2},3.3988499713549433E-2]
["Pass-Through Others (B5)","HB, SEC, UNC","CRC2B"]
["Allowed Pass-Through Items (B): \n[B = B1 + B2 + B3 +B4 + B5 + B6 + B7]","PT","CRC2B",{"$f":"SUM(D13:D19)","v":0.55496081851561507},{"$f":"SUM(E13:E19)","v":-1.8688686506106222E-2},-8.0250272150714217,-18.577053432599051,-31.444237036889376,-35.356893719985685,-35.356893719985685,"B = B1 + B2 + B3 +B4 + B5 + B6 + B7"]
["Broad Measure of Customer Service incentive (C1)","BM","CRC2C",{"$f":"'[3]R7 Output Incentives'!I6","v":5.8931344465106772},{"$f":"'[3]R7 Output Incentives'!J6","v":5.6176029622969263},{"$f":"'[3]R7 Output Incentives'!K6","v":5.7404415201261179},{"$f":"'[3]R7 Output Incentives'!L6","v":5.9361542608025726},{"$f":"'[3]R7 Output Incentives'!M6","v":6.1203797378619633},{"$f":"'[3]R7 Output Incentives'!N6","v":6.3148399636468753},{"$f":"I21","v":6.3148399636468753}]
["Quality of Service incentive (C2)","IQ","CRC2D",{"$f":"'[3]R7 Output Incentives'!I7","v":20.670940135863002},{"$f":"'[3]R7 Output Incentives'!J7","v":21.345415502655602},{"$f":"'[3]R7 Output Incentives'!K7","v":21.94528397155333},{"$f":"'[3]R7 Output Incentives'!L7","v":22.551695080428217},{"$f":"'[3]R7 Output Incentives'!M7","v":22.282513595105598},{"$f":"'[3]R7 Output Incentives'!N7","v":20.947747360152384},{"$f":"I22","v":20.947747360152384}]
["Connections Engagement incentive (C3)","ICE","CRC2E",{"$f":"'[3]R7 Output Incentives'!I8","v":0},{"$f":"'[3]R7 Output Incentives'!J8","v":0},{"$f":"'[3]R7 Output Incentives'!K8","v":0},{"$f":"'[3]R7 Output Incentives'!L8","v":0},{"$f":"'[3]R7 Output Incentives'!M8","v":0},{"$f":"'[3]R7 Output Incentives'!N8","v":0},0]
["Time to Connect incentive (C4)","TTC","CRC2F",{"$f":"'[3]R7 Output Incentives'!I9","v":1.6365988985388784},{"$f":"'[3]R7 Output Incentives'!J9","v":1.4239766285889446},{"$f":"'[3]R7 Output Incentives'!K9","v":1.7948083882701544},{"$f":"'[3]R7 Output Incentives'!L9","v":1.8559999999999999},{"$f":"'[3]R7 Output Incentives'!M9","v":1.9136},{"$f":"'[3]R7 Output Incentives'!N9","v":1.9744000000000002},1.9744000000000002]
["Losses Discretionary Reward incentive (C5)","LDR","CRC2G",{"$f":"'[3]R7 Output Incentives'!I10","v":4.4839999999999998E-2},{"$f":"'[3]R7 Output Incentives'!J10","v":0},{"$f":"'[3]R7 Output Incentives'!K10","v":4.7840000000000001E-2},{"$f":"'[3]R7 Output Incentives'!L10","v":0},{"$f":"'[3]R7 Output Incentives'!M10","v":5.0880000000000002E-2},{"$f":"'[3]R7 Output Incentives'!N10","v":0},0]
["Network Innovation Allowance (C6)","NIA","CRC2H",{"$f":"'[3]R14 Allowed Revenue Summary'!I$11","v":1.6474853339999997},{"$f":"'[3]R14 Allowed Revenue Summary'!J$11","v":1.6474853339999997},{"$f":"'[3]R14 Allowed Revenue Summary'!K$11","v":1.4827368005999999},{"$f":"'[3]R14 Allowed Revenue Summary'!L$11","v":1.3344631205399999},{"$f":"'[3]R14 Allowed Revenue Summary'!M$11","v":1.0675704964320003},{"$f":"'[3]R14 Allowed Revenue Summary'!N$11","v":0.74729934750240001},0.74729934750240001]
["Low Carbon Network Fund - Tier 1 unrecoverable (C7)","LCN1","CRC2J",0,0,0,0,0,0,0]
["Low Carbon Network Fund - Tier 2 & Discretionary Funding (C7)","LCN2","CRC2J",{"$f":"'[3]R14 Allowed Revenue Summary'!I$12","v":0.71519423239651503},{"$f":"'[3]R14 Allowed Revenue Summary'!J$12","v":0.27769423239651464},{"$f":"'[3]R14 Allowed Revenue Summary'!K$12","v":0.27769423239651464},{"$f":"'[3]R14 Allowed Revenue Summary'!L$12","v":0.27769423239651464},{"$f":"'[3]R14 Allowed Revenue Summary'!M$12","v":0.27769423239651464},{"$f":"'[3]R14 Allowed Revenue Summary'!N$12","v":0.27769423239651464},0.27769423239651464]
["Connection Guaranteed Standards Systems & Processes penalty (C8)","AUM, CGSRA","CRC2K-L",0,0,0,0,0,0,0]
["Residual Losses and Growth Incentive - Losses (C9)","PPL","CRC2M",{"$f":"'[3]R14 Allowed Revenue Summary'!I$15","v":-13.119909070868982},{"$f":"'[3]R14 Allowed Revenue Summary'!J$15","v":-3.2254239671303457},{"$f":"'[3]R14 Allowed Revenue Summary'!K$15","v":0},{"$f":"'[3]R14 Allowed Revenue Summary'!L$15","v":0},{"$f":"'[3]R14 Allowed Revenue Summary'!M$15","v":0},{"$f":"'[3]R14 Allowed Revenue Summary'!N$15","v":0},{"$f":"'[3]R14 Allowed Revenue Summary'!O$15","v":0}]
["Residual Losses and Growth Incentive - Growth (C9)","GTA","CRC2M",0,0,0,0,0,0,0]
["Incentive Revenue and Other Adjustments (C): \n[C = C1 + C2 + C3 + C4 + C5 + C6 + C7 + C8 + C9]",null,null,{"$f":"SUM(D21:D31)","v":17.488283976440091},27.086750692807637,31.288804912946119,31.956006694167307,31.712638061796074,30.26198090369817,30.26198090369817,"C = C1 + C2 + C3 + C4 + C5 + C6 + C7 + C8 + C9"]
["Correction Factor (D)","-K","CRC2A",{"$f":"-'[3]R14 Allowed Revenue Summary'!I$17","v":-0.69242437409787261},{"$f":"-'[3]R14 Allowed Revenue Summary'!J$17","v":-6.9580542029455161},{"$f":"-'[3]R14 Allowed Revenue Summary'!K$17","v":3.445761927012537},{"$f":"-'[3]R14 Allowed Revenue Summary'!L$17","v":-7.5282898657770865},{"$f":"-'[3]R14 Allowed Revenue Summary'!M$17","v":1.6806590112294861E-2},{"$f":"-'[3]R14 Allowed Revenue Summary'!N$17","v":0},{"$f":"-'[3]R14 Allowed Revenue Summary'!O$17","v":0}]
["Total allowed Revenue (E): \n[E = A + B + C + D]","AR","CRC2A",{"$f":"D12+D20+D32+D33","v":467.50067556259756},{"$f":"E12+E20+E32+E33","v":482.93856622110115},514.68095901634445,505.41639665948014,515.24554086416322,525.42782028361648,579.12412398371248,"E = A + B + C + D"]
["Other 1. Excluded services - Top-up, standby, and enhanced system security (F1) (see note 1)","DRS4","CRC5C",0,0,0,0,0,0,0]
["Other 2. Excluded services - Revenue protection services (F2) (see note 1)","DRS5","CRC5C",0,0,0,0,0,0,0]
["Other 3. Excluded services - Miscellaneous (F3) (see note 1)","DRS9","CRC5C",0,0,0,0,0,0,0]
["Other 4. - blank or if required please provide description (F4)",null,null,0,0,0,0,0,0,0]
["Other 5. - blank or if required please provide description (F5)",null,null,0,0,0,0,0,0,0]
["Total Other Revenue to be recovered by Use of System Charges (F): [F = F1 + F2 + F3 + F4 +F5]",null,null,{"$f":"SUM(D35:D39)","v":0},{"$f":"SUM(E35:E39)","v":0},0,0,0,0,0,"F = F1 + F2 + F3 + F4 +F5"]
["Total Revenue for Use of System Charges (G): \n[G=E + F]",null,null,{"$f":"D34+D40","v":467.50067556259756},{"$f":"E34+E40","v":482.93856622110115},514.68095901634445,505.41639665948014,515.24554086416322,525.42782028361648,579.12412398371248,"G = E + F"]
["1. Revenue raised outside CDCM - EDCM and Certain Interconnector Revenue (H1)",null,null,{"$f":"[4]Table1!F$41","v":9.4946066911170597},{"$f":"[4]Table1!G$41","v":10.413995409618815},{"$f":"10809631.8658602/1000000","v":10.809631865860199},{"$f":"G41/F41*F42","v":10.615052084499318},{"$f":"H41/G41*G42","v":10.821489545508447},11.035343759757938,12.163105075554025]
["2. Revenue raised outside CDCM - Voluntary under-recovery (H2)"]
["3. Revenue raised outside CDCM - blank or if required please provide description (H3)"]
["4. Revenue raised outside CDCM - blank or if required please provide description (H4)"]
["Total Revenue to be raised outside the CDCM (H): [H = H1 + H2 + H3 + H4]",null,null,{"$f":"D42+D43+D44+D45","v":9.4946066911170597},{"$f":"E42+E43+E44+E45","v":10.413995409618815},10.809631865860199,10.615052084499318,10.821489545508447,11.035343759757938,12.163105075554025,"H = H1 + H2 + H3 + H4"]
["Latest forecast of CDCM Revenue (I): [I =  G - H]",null,null,{"$f":"D41-D46","v":458.00606887148052},472.52457081148236,503.87132715048426,494.80134457498082,504.42405131865479,514.39247652385859,566.96101890815851,"I =  G - H"]
["CDCM Revenue Used in Charging Model [Equal to I]",null,null,{"$f":"D47","v":458.00606887148052},{"$f":"E47","v":472.52457081148236},503.87132715048426,494.80134457498082,504.42405131865479,514.39247652385859,566.96101890815851,"Equal to I"]
["Final Collected Revenue Forecast (J)",null,null,{"$f":"'[3]R5 Input Page'!I$47","v":464.1839282892829},{"$f":"'[3]R5 Input Page'!J$47","v":490.17452341619645},{"$f":"'[3]R5 Input Page'!K$47","v":514.66480504660944},{"$f":"'[3]R5 Input Page'!L$47","v":505.41639665948003},{"$f":"'[3]R5 Input Page'!M$47","v":515.24554086416322},{"$f":"'[3]R5 Input Page'!N$47","v":525.42782028361637},{"$f":"J41","v":579.12412398371248}]
["Forecast Over / (Under) Recovery \n[being (J - F - E + H2]",null,null,{"$f":"D49-D40-D34+D43","v":-3.316747273314661},7.2359571950952954,-1.6153969735000828E-2,-1.1368683772161603E-13,0,-1.1368683772161603E-13,0,"J - F - E + H2"]
["Forecast overall percentage change to Allowed Revenue (K)",null,null,null,{"$f":"E34/D34-1","v":3.3022178288673931E-2},{"$f":"F34/E34-1","v":6.5727599772412493E-2},-1.8000592783868785E-2,1.944761640035475E-2,1.9761994256904503E-2,0.10219539511842313]
["Overall % change to Use of System Charges effective 1st April of Regulatory Year to balance (L)",null,null,null,{"$f":"E49/D49-1","v":5.5992018557600831E-2},4.9962371482980661E-2,-1.7969770414535846E-2,1.9447616400354972E-2,1.9761994256904281E-2,0.10219539511842335]
["Note 1: Cost categories associated with excluded services should only be populated if the Company recovers the costs of providing these services from Use of System Charges"]

{"sheet":"Smoothed Input Details","index":4,"n_rows":123,"n_cols":17,"rows_kept":123,"cut":false,"hidden":false,"merged":[[112,13,112,16],[0,1,0,4],[67,7,67,9],[67,10,67,12],[85,1,85,3],[85,7,85,9],[85,10,85,12],[1,1,1,2],[3,1,3,2],[99,7,99,9],[99,10,99,12],[112,1,112,4],[112,5,112,8],[112,9,112,12],[67,0,68,0],[67,1,67,3],[67,4,67,6],[112,0,113,0],[85,0,86,0],[85,4,85,6],[99,0,100,0],[99,1,99,3],[99,4,99,6]]}
["DNO",{"$f":"+'CDCM Forecast Data'!E3","v":"WPD East Midlands"}]
["Charges for (year Y)",{"$f":"+'CDCM Forecast Data'!E11","v":"2019/20"}]
[]
["Year charges are set (year Y - 2)",{"$f":"+'CDCM Forecast Data'!C11","v":"2017/18"}]
[]
["Year to which input data relates"]
["Year Y - 3","2016/17"]
["Year Y - 4","2015/16"]
["Year Y - 5","2014/15"," "]
[]
["1041 - load profile for demand users - coincidence factors",null,null," "]
["Charges for year Y are set in Y-2 using historical data for the previous three years"]
[]
[null,"Y - 5","Y - 4","Y - 3","Information to be used calculating tariffs in year t"]
["Domestic Unrestricted",{"$f":"'[5]Mid East'!F15","v":0.81321447080773634},{"$f":"'[5]Mid East'!G15","v":0.88301597625475081},{"$f":"'[5]Mid East'!H15","v":0.89099178495677434},{"$f":"AVERAGE(B15:D15)","v":0.86240741067308713}]
["Domestic Two Rate",{"$f":"'[5]Mid East'!F16","v":0.84359482063206825},{"$f":"'[5]Mid East'!G16","v":0.84795436680530267},{"$f":"'[5]Mid East'!H16","v":0.8894927459001134},{"$f":"AVERAGE(B16:D16)","v":0.86034731111249485}]
["Domestic Off Peak (related MPAN)",{"$f":"'[5]Mid East'!F17","v":0},{"$f":"'[5]Mid East'!G17","v":0},{"$f":"'[5]Mid East'!H17","v":0}]
["Small Non Domestic Unrestricted",{"$f":"'[5]Mid East'!F18","v":0.78871550902536414},{"$f":"'[5]Mid East'!G18","v":0.68594010348656242},{"$f":"'[5]Mid East'!H18","v":0.6950924824218716},{"$f":"AVERAGE(B18:D18)","v":0.72324936497793268}]
["Small Non Domestic Two Rate",{"$f":"'[5]Mid East'!F19","v":0.90314255559592083},{"$f":"'[5]Mid East'!G19","v":0.83531963152467947},{"$f":"'[5]Mid East'!H19","v":0.84875647245709906},{"$f":"AVERAGE(B19:D19)","v":0.86240621985923305}]
["Small Non Domestic Off Peak (related MPAN)",{"$f":"'[5]Mid East'!F20","v":0},{"$f":"'[5]Mid East'!G20","v":0},{"$f":"'[5]Mid East'!H20","v":0}]
["LV Medium Non-Domestic",{"$f":"'[5]Mid East'!E21","v":0.78671777845247715},{"$f":"'[5]Mid East'!F21","v":0.8901740972433656},{"$f":"'[5]Mid East'!G21","v":0.84679148772467516},{"$f":"AVERAGE(B21:D21)","v":0.84122778780683927}]
["LV Sub Medium Non-Domestic",{"$f":"'[5]Mid East'!E22","v":0.78671777845247715},{"$f":"'[5]Mid East'!F22","v":0.8901740972433656},{"$f":"'[5]Mid East'!G22","v":0.84679148772467516},0.84122778780683927]
["HV Medium Non-Domestic",{"$f":"'[5]Mid East'!E23","v":0.73530087941086197},{"$f":"'[5]Mid East'!F23","v":0.84241802695208612},{"$f":"'[5]Mid East'!G23","v":0.78888358527508651},0.78886749721267824]
["LV Network Domestic",{"$f":"'[5]Mid East'!F24","v":0.8244653328337721},{"$f":"'[5]Mid East'!G24","v":0.87003148685263876},{"$f":"'[5]Mid East'!H24","v":0.89043664053955562},{"$f":"AVERAGE(B24:D24)","v":0.86164448674198868}]
["LV Network Non-Domestic Non-CT",{"$f":"'[5]Mid East'!F25","v":0.8415684246252878},{"$f":"'[5]Mid East'!G25","v":0.75493728399918547},{"$f":"'[5]Mid East'!H25","v":0.76606862083921279},0.78752477648789532]
["LV HH Metered",{"$f":"'[5]Mid East'!E26","v":0.81116545932053963},{"$f":"'[5]Mid East'!F26","v":0.86173335703280063},{"$f":"'[5]Mid East'!G26","v":0.78969683166507765},0.82086521600613926]
["LV Sub HH Metered",{"$f":"'[5]Mid East'!F27","v":0.83202952332980396},{"$f":"'[5]Mid East'!G27","v":0.83277274827164205},{"$f":"'[5]Mid East'!H27","v":0.8560037552808637},0.84026867562743668]
["HV HH Metered",{"$f":"'[5]Mid East'!F28","v":0.88398482598341577},{"$f":"'[5]Mid East'!G28","v":0.82615840530286877},{"$f":"'[5]Mid East'!H28","v":0.83266041641770372},0.84760121590132942]
["NHH UMS category A",{"$f":"'[5]Mid East'!F29","v":1},{"$f":"'[5]Mid East'!G29","v":1},{"$f":"'[5]Mid East'!H29","v":1},{"$f":"AVERAGE(B29:D29)","v":1}]
["NHH UMS category B",{"$f":"'[5]Mid East'!F30","v":1},{"$f":"'[5]Mid East'!G30","v":1},{"$f":"'[5]Mid East'!H30","v":1},1]
["NHH UMS category C",{"$f":"'[5]Mid East'!F31","v":1},{"$f":"'[5]Mid East'!G31","v":1},{"$f":"'[5]Mid East'!H31","v":1},{"$f":"AVERAGE(B31:D31)","v":1}]
["NHH UMS category D",{"$f":"'[5]Mid East'!F32","v":1.5232974910394267E-2},{"$f":"'[5]Mid East'!G32","v":8.5333333333333333E-4},{"$f":"'[5]Mid East'!H32","v":0},5.3621027479092004E-3]
["LV UMS (Pseudo HH Metered)",{"$f":"'[5]Mid East'!F33","v":0.95697039104812343},{"$f":"'[5]Mid East'!G33","v":0.96839468470401169},{"$f":"'[5]Mid East'!H33","v":0.9270222167866603},0.95079576417959843]
[]
[]
[]
["1041 - load profile for demand users - load factors"]
["Charges for year Y are set in Y-2 using historical data for the previous three years"]
[]
[]
[null,"Y - 5","Y - 4","Y - 3","Information to be used calculating tariffs in year t"]
["Domestic Unrestricted",{"$f":"'[5]Mid East'!F42","v":0.41664287980078035},{"$f":"'[5]Mid East'!G42","v":0.41695192052726504},{"$f":"'[5]Mid East'!H42","v":0.41511651472464939},{"$f":"AVERAGE(B42:D42)","v":0.41623710501756489}]
["Domestic Two Rate",{"$f":"'[5]Mid East'!F43","v":0.51144647370462826},{"$f":"'[5]Mid East'!G43","v":0.49508948509715461},{"$f":"'[5]Mid East'!H43","v":0.50189304914136079},0.5028096693143812]
["Domestic Off Peak (related MPAN)",{"$f":"'[5]Mid East'!F44","v":0.15531265360271246},{"$f":"'[5]Mid East'!G44","v":0.14878222912217273},{"$f":"'[5]Mid East'!H44","v":0.13961638772984822},0.14790375681824444]
["Small Non Domestic Unrestricted",{"$f":"'[5]Mid East'!F45","v":0.39292499329333663},{"$f":"'[5]Mid East'!G45","v":0.37348303266312949},{"$f":"'[5]Mid East'!H45","v":0.35956963081079052},0.37532588558908553]
["Small Non Domestic Two Rate",{"$f":"'[5]Mid East'!F46","v":0.55420758571579531},{"$f":"'[5]Mid East'!G46","v":0.53031086223402368},{"$f":"'[5]Mid East'!H46","v":0.51820351369836914},0.53424065388272945]
["Small Non Domestic Off Peak (related MPAN)",{"$f":"'[5]Mid East'!F47","v":0.23445647629210578},{"$f":"'[5]Mid East'!G47","v":0.2431967036486273},{"$f":"'[5]Mid East'!H47","v":0.25071013754668708},0.24278777249580674]
["LV Medium Non-Domestic",{"$f":"'[5]Mid East'!E48","v":0.53458201537423378},{"$f":"'[5]Mid East'!F48","v":0.52254426161563283},{"$f":"'[5]Mid East'!G48","v":0.5229044364179648},0.52667690446927706]
["LV Sub Medium Non-Domestic",{"$f":"'[5]Mid East'!E49","v":0.53458201537423378},{"$f":"'[5]Mid East'!F49","v":0.52254426161563283},{"$f":"'[5]Mid East'!G49","v":0.5229044364179648},0.52667690446927706]
["HV Medium Non-Domestic",{"$f":"'[5]Mid East'!E50","v":0.51564109689599269},{"$f":"'[5]Mid East'!F50","v":0.47482906166868166},{"$f":"'[5]Mid East'!G50","v":0.48552228037981748},0.49199747964816393]
["LV Network Domestic",{"$f":"'[5]Mid East'!F51","v":0.44734238677348842},{"$f":"'[5]Mid East'!G51","v":0.44146950961848125},{"$f":"'[5]Mid East'!H51","v":0.44267677736771349},{"$f":"AVERAGE(B51:D51)","v":0.44382955791989437}]
["LV Network Non-Domestic Non-CT",{"$f":"'[5]Mid East'!F52","v":0.46647738506034847},{"$f":"'[5]Mid East'!G52","v":0.44510017514644984},{"$f":"'[5]Mid East'!H52","v":0.43210430522149024},0.44789395514276292]
["LV HH Metered",{"$f":"'[5]Mid East'!E53","v":0.56877973259792869},{"$f":"'[5]Mid East'!F53","v":0.55931321997908146},{"$f":"'[5]Mid East'!G53","v":0.54719363445388647},0.5584288623436322]
["LV Sub HH Metered",{"$f":"'[5]Mid East'!F54","v":0.56611347916065347},{"$f":"'[5]Mid East'!G54","v":0.58999773258654908},{"$f":"'[5]Mid East'!H54","v":0.58111578997005708},0.57907566723908654]
["HV HH Metered",{"$f":"'[5]Mid East'!F55","v":0.71518728312131519},{"$f":"'[5]Mid East'!G55","v":0.70464717818259204},{"$f":"'[5]Mid East'!H55","v":0.72248835721913429},0.7141076061743471]
["NHH UMS category A",{"$f":"'[5]Mid East'!F56","v":1},{"$f":"'[5]Mid East'!G56","v":1},{"$f":"'[5]Mid East'!H56","v":1},1]
["NHH UMS category B",{"$f":"'[5]Mid East'!F57","v":0.47145343042248444},{"$f":"'[5]Mid East'!G57","v":0.47315990546436759},{"$f":"'[5]Mid East'!H57","v":0.47351088423155646},0.47270807337280285]
["NHH UMS category C",{"$f":"'[5]Mid East'!F58","v":0.22652006729151364},{"$f":"'[5]Mid East'!G58","v":0.22417078964209403},{"$f":"'[5]Mid East'!H58","v":0.27949028992683056},0.24339371562014608]
["NHH UMS category D",{"$f":"'[5]Mid East'!F59","v":0.50975313642805109},{"$f":"'[5]Mid East'!G59","v":0.50893624772314683},{"$f":"'[5]Mid East'!H59","v":0.51607154129014177},0.51158697514711327]
["LV UMS (Pseudo HH Metered)",{"$f":"'[5]Mid East'!F60","v":0.43878453630084063},{"$f":"'[5]Mid East'!G60","v":0.44253501540864632},{"$f":"'[5]Mid East'!H60","v":0.44350735198453195},0.44160896789800635]
[]
[]
[]
["1061 - Average split of rate 1 units by distribution time band"]
["Charges for year Y are set in Y-2 using historical data for the previous three years"]
[]
[]
[null,"Y - 5",null,null,"Y - 4",null,null,"Y - 3",null,null,"Information to be used calculating tariffs in year t"]
[null,"Red","Amber","Green","Red","Amber","Green","Red","Amber","Green","Red","Amber","Green"]
["Domestic Unrestricted",{"$f":"'[5]Mid East'!N70","v":0.15250911357633962},{"$f":"'[5]Mid East'!O70","v":0.42105429554197071},{"$f":"'[5]Mid East'!P70","v":0.42643659088168973},{"$f":"'[5]Mid East'!Q70","v":0.15204517922911293},{"$f":"'[5]Mid East'!R70","v":0.42071309781198263},{"$f":"'[5]Mid East'!S70","v":0.42724172295890445},{"$f":"'[5]Mid East'!T70","v":0.12505584117167542},{"$f":"'[5]Mid East'!U70","v":0.34777945147137229},{"$f":"'[5]Mid East'!V70","v":0.52716470735695231},{"$f":"AVERAGE(B70,E70,H70)","v":0.14320337799237601},0.39651561494177523,0.46028100706584879]
["Domestic Two Rate",{"$f":"'[5]Mid East'!N71","v":0.15106762074978622},{"$f":"'[5]Mid East'!O71","v":0.4185302838398709},{"$f":"'[5]Mid East'!P71","v":0.43040209541034291},{"$f":"'[5]Mid East'!Q71","v":0.15209478604761406},{"$f":"'[5]Mid East'!R71","v":0.421113600766645},{"$f":"'[5]Mid East'!S71","v":0.42679161318574094},{"$f":"'[5]Mid East'!T71","v":0.15111325094643022},{"$f":"'[5]Mid East'!U71","v":0.42009802096232129},{"$f":"'[5]Mid East'!V71","v":0.42878872809124846},{"$f":"AVERAGE(B71,E71,H71)","v":0.1514252192479435},{"$f":"AVERAGE(C71,F71,I71)","v":0.41991396852294577},{"$f":"AVERAGE(D71,G71,J71)","v":0.42866081222911073}]
["Domestic Off Peak (related MPAN)",{"$f":"'[5]Mid East'!N72","v":4.4743324082661115E-2},{"$f":"'[5]Mid East'!O72","v":0.3215486606086761},{"$f":"'[5]Mid East'!P72","v":0.63370801530866272},{"$f":"'[5]Mid East'!Q72","v":4.4572405603773381E-2},{"$f":"'[5]Mid East'!R72","v":0.32588392033422514},{"$f":"'[5]Mid East'!S72","v":0.62954367406200151},{"$f":"'[5]Mid East'!T72","v":4.513034959307112E-2},{"$f":"'[5]Mid East'!U72","v":0.32730872053860938},{"$f":"'[5]Mid East'!V72","v":0.62756092986831957},4.4815359759835215E-2,0.32491376716050352,0.63027087307966123]
["Small Non Domestic Unrestricted",{"$f":"'[5]Mid East'!N73","v":0.13198867114405133},{"$f":"'[5]Mid East'!O73","v":0.58199718959878466},{"$f":"'[5]Mid East'!P73","v":0.28601413925716401},{"$f":"'[5]Mid East'!Q73","v":0.13276182915693263},{"$f":"'[5]Mid East'!R73","v":0.58266087744522121},{"$f":"'[5]Mid East'!S73","v":0.2845772933978461},{"$f":"'[5]Mid East'!T73","v":0.10871815725646855},{"$f":"'[5]Mid East'!U73","v":0.48054032650367562},{"$f":"'[5]Mid East'!V73","v":0.41074151623985583},0.12448955251915084,0.54839946451589383,0.32711098296495528]
["Small Non Domestic Two Rate",{"$f":"'[5]Mid East'!N74","v":0.12632207199200557},{"$f":"'[5]Mid East'!O74","v":0.51571141637024354},{"$f":"'[5]Mid East'!P74","v":0.35796651163775084},{"$f":"'[5]Mid East'!Q74","v":0.12821629070727458},{"$f":"'[5]Mid East'!R74","v":0.51423647441744291},{"$f":"'[5]Mid East'!S74","v":0.35754723487528256},{"$f":"'[5]Mid East'!T74","v":0.12916133032449534},{"$f":"'[5]Mid East'!U74","v":0.51226789899518266},{"$f":"'[5]Mid East'!V74","v":0.35857077068032206},0.12789989767459184,0.51407192992762296,0.35802817239778517]
["Small Non Domestic Off Peak (related MPAN)",{"$f":"'[5]Mid East'!N75","v":1.6948631482436746E-2},{"$f":"'[5]Mid East'!O75","v":0.18427415289619556},{"$f":"'[5]Mid East'!P75","v":0.79877721562136772},{"$f":"'[5]Mid East'!Q75","v":1.652432343655378E-2},{"$f":"'[5]Mid East'!R75","v":0.18643759588060388},{"$f":"'[5]Mid East'!S75","v":0.79703808068284232},{"$f":"'[5]Mid East'!T75","v":1.6515285864279462E-2},{"$f":"'[5]Mid East'!U75","v":0.18546906430898008},{"$f":"'[5]Mid East'!V75","v":0.79801564982674045},1.6662746927756659E-2,0.18539360436192651,0.79794364871031676]
["LV Medium Non-Domestic",{"$f":"'[5]Mid East'!N76","v":0.13578767891918805},{"$f":"'[5]Mid East'!O76","v":0.52791995067854935},{"$f":"'[5]Mid East'!P76","v":0.33629237040226267},{"$f":"'[5]Mid East'!Q76","v":0.13603719733132563},{"$f":"'[5]Mid East'!R76","v":0.52755896333122221},{"$f":"'[5]Mid East'!S76","v":0.3364038393374521},{"$f":"'[5]Mid East'!T76","v":0.1355365661579265},{"$f":"'[5]Mid East'!U76","v":0.52663674448441222},{"$f":"'[5]Mid East'!V76","v":0.3378266893576613},0.13578714746948006,0.52737188616472797,0.33684096636579203]
["LV Sub Medium Non-Domestic",{"$f":"'[5]Mid East'!N77","v":0.13389204268121321},{"$f":"'[5]Mid East'!O77","v":0.52576758440544191},{"$f":"'[5]Mid East'!P77","v":0.34034037291334485},{"$f":"'[5]Mid East'!Q77","v":0.13410312758032494},{"$f":"'[5]Mid East'!R77","v":0.52853337888941521},{"$f":"'[5]Mid East'!S77","v":0.33736349353025985},{"$f":"'[5]Mid East'!T77","v":0.13391167691036276},{"$f":"'[5]Mid East'!U77","v":0.51785835248851819},{"$f":"'[5]Mid East'!V77","v":0.34822997060111904},0.13396894905730031,0.52405310526112514,0.34197794568157458]
["HV Medium Non-Domestic",{"$f":"'[5]Mid East'!N78","v":0.13319169430299924},{"$f":"'[5]Mid East'!O78","v":0.5387678184916086},{"$f":"'[5]Mid East'!P78","v":0.32804048720539219},{"$f":"'[5]Mid East'!Q78","v":0.13368818351891162},{"$f":"'[5]Mid East'!R78","v":0.54211028776557013},{"$f":"'[5]Mid East'!S78","v":0.32420152871551816},{"$f":"'[5]Mid East'!T78","v":0.13335752745197033},{"$f":"'[5]Mid East'!U78","v":0.5422997539017026},{"$f":"'[5]Mid East'!V78","v":0.32434271864632702},0.13341246842462706,0.54105928671962722,0.32552824485574577]
[]
[]
[]
["1062 - Average split of rate 2 units by distribution time band"]
["Charges for year Y are set in Y-2 using historical data for the previous three years"]
[null,null,null," "]
[]
[null,"Y - 5",null,null,"Y - 4",null,null,"Y - 3",null,null,"Information to be used calculating tariffs in year t"]
[null,"Red","Amber","Green","Red","Amber","Green","Red","Amber","Green","Red","Amber","Green"]
["Domestic Two Rate",{"$f":"'[5]Mid East'!N88","v":0},{"$f":"'[5]Mid East'!O88","v":0},{"$f":"'[5]Mid East'!P88","v":1},{"$f":"'[5]Mid East'!Q88","v":0},{"$f":"'[5]Mid East'!R88","v":0},{"$f":"'[5]Mid East'!S88","v":1},{"$f":"'[5]Mid East'!T88","v":0},{"$f":"'[5]Mid East'!U88","v":0},{"$f":"'[5]Mid East'!V88","v":1},{"$f":"AVERAGE(B88,E88,H88)","v":0},0,1]
["Small Non Domestic Two Rate",{"$f":"'[5]Mid East'!N89","v":0},{"$f":"'[5]Mid East'!O89","v":0},{"$f":"'[5]Mid East'!P89","v":1},{"$f":"'[5]Mid East'!Q89","v":0},{"$f":"'[5]Mid East'!R89","v":0},{"$f":"'[5]Mid East'!S89","v":1},{"$f":"'[5]Mid East'!T89","v":0},{"$f":"'[5]Mid East'!U89","v":0},{"$f":"'[5]Mid East'!V89","v":1},0,0,1]
["LV Medium Non-Domestic",{"$f":"'[5]Mid East'!N90","v":0},{"$f":"'[5]Mid East'!O90","v":0},{"$f":"'[5]Mid East'!P90","v":1},{"$f":"'[5]Mid East'!Q90","v":0},{"$f":"'[5]Mid East'!R90","v":0},{"$f":"'[5]Mid East'!S90","v":1},{"$f":"'[5]Mid East'!T90","v":0},{"$f":"'[5]Mid East'!U90","v":0},{"$f":"'[5]Mid East'!V90","v":1},0,0,1]
["LV Sub Medium Non-Domestic",{"$f":"'[5]Mid East'!N91","v":0},{"$f":"'[5]Mid East'!O91","v":0},{"$f":"'[5]Mid East'!P91","v":1},{"$f":"'[5]Mid East'!Q91","v":0},{"$f":"'[5]Mid East'!R91","v":0},{"$f":"'[5]Mid East'!S91","v":1},{"$f":"'[5]Mid East'!T91","v":0},{"$f":"'[5]Mid East'!U91","v":0},{"$f":"'[5]Mid East'!V91","v":1},0,0,1]
["HV Medium Non-Domestic",{"$f":"'[5]Mid East'!N92","v":0},{"$f":"'[5]Mid East'!O92","v":0},{"$f":"'[5]Mid East'!P92","v":1},{"$f":"'[5]Mid East'!Q92","v":0},{"$f":"'[5]Mid East'!R92","v":0},{"$f":"'[5]Mid East'!S92","v":1},{"$f":"'[5]Mid East'!T92","v":0},{"$f":"'[5]Mid East'!U92","v":0},{"$f":"'[5]Mid East'!V92","v":1},0,0,1]
[]
[]
[]
["1064. Average split of rate 1 units by special distribution time band"]
["Charges for year Y are set in Y-2 using historical data for the previous three years"]
[]
[]
[null,"Y - 5",null,null,"Y - 4",null,null,"Y - 3",null,null,"Information to be used calculating tariffs in year t"]
[null,"Black","Yellow","Green","Black","Yellow","Green","Black","Yellow","Green","Red","Amber","Green"]
["NHH UMS category A",{"$f":"'[5]Mid East'!N117","v":2.9109589041095889E-2},{"$f":"'[5]Mid East'!O117","v":0.37311643835616437},{"$f":"'[5]Mid East'!P117","v":0.59777397260273968},{"$f":"'[5]Mid East'!Q117","v":2.9371584699453553E-2},{"$f":"'[5]Mid East'!R117","v":0.37329234972677594},{"$f":"'[5]Mid East'!S117","v":0.5973360655737705},{"$f":"'[5]Mid East'!T117","v":2.9452054794520548E-2},{"$f":"'[5]Mid East'!U117","v":0.3727739726027397},{"$f":"'[5]Mid East'!V117","v":0.59777397260273968},{"$f":"AVERAGE(B102,E102,H102)","v":2.9311076178356665E-2},{"$f":"AVERAGE(C102,F102,I102)","v":0.37306092022856002},{"$f":"AVERAGE(D102,G102,J102)","v":0.59762800359308332}]
["NHH UMS category B",{"$f":"'[5]Mid East'!N118","v":5.0177243994243718E-2},{"$f":"'[5]Mid East'!O118","v":9.0138138054458014E-2},{"$f":"'[5]Mid East'!P118","v":0.85968461795129825},{"$f":"'[5]Mid East'!Q118","v":5.0324963411608602E-2},{"$f":"'[5]Mid East'!R118","v":9.2098413296706871E-2},{"$f":"'[5]Mid East'!S118","v":0.8575766232916846},{"$f":"'[5]Mid East'!T118","v":5.0796034002934629E-2},{"$f":"'[5]Mid East'!U118","v":8.8509457736504968E-2},{"$f":"'[5]Mid East'!V118","v":0.86069450826056038},5.0432747136262314E-2,9.024866969588996E-2,0.8593185831678477]
["NHH UMS category C",{"$f":"'[5]Mid East'!N119","v":9.727494562622678E-2},{"$f":"'[5]Mid East'!O119","v":0.15069651477375218},{"$f":"'[5]Mid East'!P119","v":0.75202853960002103},{"$f":"'[5]Mid East'!Q119","v":0.10084013544284501},{"$f":"'[5]Mid East'!R119","v":0.17496832849968336},{"$f":"'[5]Mid East'!S119","v":0.72419153605747155},{"$f":"'[5]Mid East'!T119","v":9.0440614176932638E-2},{"$f":"'[5]Mid East'!U119","v":0.16435635135361235},{"$f":"'[5]Mid East'!V119","v":0.74520303446945502},9.6185231748668151E-2,0.16334039820901594,0.74047437004231587]
["NHH UMS category D",{"$f":"'[5]Mid East'!N120","v":8.9116028872047864E-3},{"$f":"'[5]Mid East'!O120","v":0.63489076484474627},{"$f":"'[5]Mid East'!P120","v":0.35619763226804907},{"$f":"'[5]Mid East'!Q120","v":8.8367942468427184E-3},{"$f":"'[5]Mid East'!R120","v":0.63560898238882946},{"$f":"'[5]Mid East'!S120","v":0.35555422336432785},{"$f":"'[5]Mid East'!T120","v":8.7433055467709426E-3},{"$f":"'[5]Mid East'!U120","v":0.63571858654309865},{"$f":"'[5]Mid East'!V120","v":0.35553810791013052},8.830567560272817E-3,0.63540611125889146,0.35576332118083581]
[]
[]
[]
["1069 - Peaking probabilities by network level"]
["Charges for year Y are set in Y-2 using historical data for the previous three years"]
[]
[]
[null,"Y - 5",null,null,null,"Y - 4",null,null,null,"Y - 3",null,null,null,"Information to be used calculating tariffs in year t"]
[null,"Red","Amber","Green","Black","Red","Amber","Green","Black","Red","Amber","Green","Black","Red","Amber","Green","Black"]
["GSPs",{"$f":"'[5]Mid East'!R102","v":1},{"$f":"'[5]Mid East'!S102","v":0},{"$f":"'[5]Mid East'!T102","v":0},{"$f":"'[5]Mid East'!U102","v":1},{"$f":"'[5]Mid East'!V102","v":1},{"$f":"'[5]Mid East'!W102","v":0},{"$f":"'[5]Mid East'!X102","v":0},{"$f":"'[5]Mid East'!Y102","v":1},{"$f":"'[5]Mid East'!Z102","v":1},{"$f":"'[5]Mid East'!AA102","v":0},{"$f":"'[5]Mid East'!AB102","v":0},{"$f":"'[5]Mid East'!AC102","v":1},{"$f":"AVERAGE(B115,F115,J115)","v":1},{"$f":"AVERAGE(C115,G115,K115)","v":0},{"$f":"AVERAGE(D115,H115,L115)","v":0},{"$f":"AVERAGE(E115,I115,M115)","v":1}]
["132kV",{"$f":"'[5]Mid East'!R103","v":0.7578518548265244},{"$f":"'[5]Mid East'!S103","v":0.21970278629239329},{"$f":"'[5]Mid East'!T103","v":2.244535888108239E-2},{"$f":"'[5]Mid East'!U103","v":0.75539612819103996},{"$f":"'[5]Mid East'!V103","v":0.83291022171756435},{"$f":"'[5]Mid East'!W103","v":0.15616967554847686},{"$f":"'[5]Mid East'!X103","v":1.0920102733958905E-2},{"$f":"'[5]Mid East'!Y103","v":0.82532671625378218},{"$f":"'[5]Mid East'!Z103","v":0.75174764805271177},{"$f":"'[5]Mid East'!AA103","v":0.24825235194728826},{"$f":"'[5]Mid East'!AB103","v":0},{"$f":"'[5]Mid East'!AC103","v":0.72221339671996831},0.78083657486560021,0.20804160459605281,1.1121820538347099E-2,0.76764541372159689]
["132kV/EHV",{"$f":"'[5]Mid East'!R104","v":0.7578518548265244},{"$f":"'[5]Mid East'!S104","v":0.21970278629239329},{"$f":"'[5]Mid East'!T104","v":2.244535888108239E-2},{"$f":"'[5]Mid East'!U104","v":0.75539612819103996},{"$f":"'[5]Mid East'!V104","v":0.83291022171756435},{"$f":"'[5]Mid East'!W104","v":0.15616967554847686},{"$f":"'[5]Mid East'!X104","v":1.0920102733958905E-2},{"$f":"'[5]Mid East'!Y104","v":0.82532671625378218},{"$f":"'[5]Mid East'!Z104","v":0.75174764805271177},{"$f":"'[5]Mid East'!AA104","v":0.24825235194728826},{"$f":"'[5]Mid East'!AB104","v":0},{"$f":"'[5]Mid East'!AC104","v":0.72221339671996831},0.78083657486560021,0.20804160459605281,1.1121820538347099E-2,0.76764541372159689]
["EHV",{"$f":"'[5]Mid East'!R105","v":0.6503197777062677},{"$f":"'[5]Mid East'!S105","v":0.31066605537914516},{"$f":"'[5]Mid East'!T105","v":3.9014166914587117E-2},{"$f":"'[5]Mid East'!U105","v":0.64457937236865248},{"$f":"'[5]Mid East'!V105","v":0.66777661343447292},{"$f":"'[5]Mid East'!W105","v":0.29094440849560849},{"$f":"'[5]Mid East'!X105","v":4.1278978069918412E-2},{"$f":"'[5]Mid East'!Y105","v":0.65648005229332851},{"$f":"'[5]Mid East'!Z105","v":0.67155172695808185},{"$f":"'[5]Mid East'!AA105","v":0.29199915214174998},{"$f":"'[5]Mid East'!AB105","v":3.6449120900168101E-2},{"$f":"'[5]Mid East'!AC105","v":0.6566215961025984},0.66321603936627416,0.29786987200550125,3.8914088628224541E-2,0.65256034025485976]
["EHV/HV",{"$f":"'[5]Mid East'!R106","v":0.6503197777062677},{"$f":"'[5]Mid East'!S106","v":0.31066605537914516},{"$f":"'[5]Mid East'!T106","v":3.9014166914587117E-2},{"$f":"'[5]Mid East'!U106","v":0.64457937236865248},{"$f":"'[5]Mid East'!V106","v":0.66777661343447292},{"$f":"'[5]Mid East'!W106","v":0.29094440849560849},{"$f":"'[5]Mid East'!X106","v":4.1278978069918412E-2},{"$f":"'[5]Mid East'!Y106","v":0.65648005229332851},{"$f":"'[5]Mid East'!Z106","v":0.67155172695808185},{"$f":"'[5]Mid East'!AA106","v":0.29199915214174998},{"$f":"'[5]Mid East'!AB106","v":3.6449120900168101E-2},{"$f":"'[5]Mid East'!AC106","v":0.6566215961025984},0.66321603936627416,0.29786987200550125,3.8914088628224541E-2,0.65256034025485976]
["132kV/HV",{"$f":"'[5]Mid East'!R107","v":0.7578518548265244},{"$f":"'[5]Mid East'!S107","v":0.21970278629239329},{"$f":"'[5]Mid East'!T107","v":2.244535888108239E-2},{"$f":"'[5]Mid East'!U107","v":0.75539612819103996},{"$f":"'[5]Mid East'!V107","v":0.83291022171756435},{"$f":"'[5]Mid East'!W107","v":0.15616967554847686},{"$f":"'[5]Mid East'!X107","v":1.0920102733958905E-2},{"$f":"'[5]Mid East'!Y107","v":0.82532671625378218},{"$f":"'[5]Mid East'!Z107","v":0.75174764805271177},{"$f":"'[5]Mid East'!AA107","v":0.24825235194728826},{"$f":"'[5]Mid East'!AB107","v":0},{"$f":"'[5]Mid East'!AC107","v":0.72221339671996831},0.78083657486560021,0.20804160459605281,1.1121820538347099E-2,0.76764541372159689]
["HV",{"$f":"'[5]Mid East'!R108","v":0.6503197777062677},{"$f":"'[5]Mid East'!S108","v":0.31066605537914516},{"$f":"'[5]Mid East'!T108","v":3.9014166914587117E-2},{"$f":"'[5]Mid East'!U108","v":0.64457937236865248},{"$f":"'[5]Mid East'!V108","v":0.66777661343447292},{"$f":"'[5]Mid East'!W108","v":0.29094440849560849},{"$f":"'[5]Mid East'!X108","v":4.1278978069918412E-2},{"$f":"'[5]Mid East'!Y108","v":0.65648005229332851},{"$f":"'[5]Mid East'!Z108","v":0.67155172695808185},{"$f":"'[5]Mid East'!AA108","v":0.29199915214174998},{"$f":"'[5]Mid East'!AB108","v":3.6449120900168101E-2},{"$f":"'[5]Mid East'!AC108","v":0.6566215961025984},0.66321603936627416,0.29786987200550125,3.8914088628224541E-2,0.65256034025485976]
["HV/LV",{"$f":"'[5]Mid East'!R109","v":0.6503197777062677},{"$f":"'[5]Mid East'!S109","v":0.31066605537914516},{"$f":"'[5]Mid East'!T109","v":3.9014166914587117E-2},{"$f":"'[5]Mid East'!U109","v":0.64457937236865248},{"$f":"'[5]Mid East'!V109","v":0.66777661343447292},{"$f":"'[5]Mid East'!W109","v":0.29094440849560849},{"$f":"'[5]Mid East'!X109","v":4.1278978069918412E-2},{"$f":"'[5]Mid East'!Y109","v":0.65648005229332851},{"$f":"'[5]Mid East'!Z109","v":0.67155172695808185},{"$f":"'[5]Mid East'!AA109","v":0.29199915214174998},{"$f":"'[5]Mid East'!AB109","v":3.6449120900168101E-2},{"$f":"'[5]Mid East'!AC109","v":0.6566215961025984},0.66321603936627416,0.29786987200550125,3.8914088628224541E-2,0.65256034025485976]
["LV circuits",{"$f":"'[5]Mid East'!R110","v":0.6503197777062677},{"$f":"'[5]Mid East'!S110","v":0.31066605537914516},{"$f":"'[5]Mid East'!T110","v":3.9014166914587117E-2},{"$f":"'[5]Mid East'!U110","v":0.64457937236865248},{"$f":"'[5]Mid East'!V110","v":0.66777661343447292},{"$f":"'[5]Mid East'!W110","v":0.29094440849560849},{"$f":"'[5]Mid East'!X110","v":4.1278978069918412E-2},{"$f":"'[5]Mid East'!Y110","v":0.65648005229332851},{"$f":"'[5]Mid East'!Z110","v":0.67155172695808185},{"$f":"'[5]Mid East'!AA110","v":0.29199915214174998},{"$f":"'[5]Mid East'!AB110","v":3.6449120900168101E-2},{"$f":"'[5]Mid East'!AC110","v":0.6566215961025984},0.66321603936627416,0.29786987200550125,3.8914088628224541E-2,0.65256034025485976]

{"sheet":"Mat of App","index":5,"n_rows":43,"n_cols":42,"rows_kept":43,"cut":false,"hidden":false,"merged":[[30,34,30,41],[30,2,30,9],[30,10,30,17],[30,18,30,25],[30,26,30,33],[35,2,35,6],[35,7,35,11],[35,12,35,16],[35,17,35,21],[35,22,35,26],[4,2,4,9],[4,10,4,17],[4,18,4,25],[4,26,4,33],[4,34,4,41]]}
[]
[]
[null,"1025. Matrix of applicability of LV service models to tariffs with fixed charges"]
[]
[null,null,{"$f":"'CDCM Forecast Data'!$E$11","v":"2019/20"},null,null,null,null,null,null,null,{"$f":"'CDCM Forecast Data'!$F$11","v":"2020/21"},null,null,null,null,null,null,null,{"$f":"'CDCM Forecast Data'!$G$11","v":"2021/22"},null,null,null,null,null,null,null,{"$f":"'CDCM Forecast Data'!$H$11","v":"2022/23"},null,null,null,null,null,null,null,{"$f":"'CDCM Forecast Data'!$I$11","v":"2023/24"}]
[null,null,"LV service model 1","LV service model 2","LV service model 3","LV service model 4","LV service model 5","LV service model 6","LV service model 7","LV service model 8","LV service model 1","LV service model 2","LV service model 3","LV service model 4","LV service model 5","LV service model 6","LV service model 7","LV service model 8","LV service model 1","LV service model 2","LV service model 3","LV service model 4","LV service model 5","LV service model 6","LV service model 7","LV service model 8","LV service model 1","LV service model 2","LV service model 3","LV service model 4","LV service model 5","LV service model 6","LV service model 7","LV service model 8","LV service model 1","LV service model 2","LV service model 3","LV service model 4","LV service model 5","LV service model 6","LV service model 7","LV service model 8"]
[null,"Domestic Unrestricted",0.05,0,0,0,0,0,0,0,{"$f":"C7","v":0.05},{"$f":"D7","v":0},{"$f":"E7","v":0},{"$f":"F7","v":0},{"$f":"G7","v":0},{"$f":"H7","v":0},{"$f":"I7","v":0},{"$f":"J7","v":0},{"$f":"K7","v":0.05},{"$f":"L7","v":0},{"$f":"M7","v":0},{"$f":"N7","v":0},{"$f":"O7","v":0},{"$f":"P7","v":0},{"$f":"Q7","v":0},{"$f":"R7","v":0},{"$f":"S7","v":0.05},{"$f":"T7","v":0},{"$f":"U7","v":0},{"$f":"V7","v":0},{"$f":"W7","v":0},{"$f":"X7","v":0},{"$f":"Y7","v":0},{"$f":"Z7","v":0},{"$f":"AA7","v":0.05},{"$f":"AB7","v":0},{"$f":"AC7","v":0},{"$f":"AD7","v":0},{"$f":"AE7","v":0},{"$f":"AF7","v":0},{"$f":"AG7","v":0},{"$f":"AH7","v":0}]
[null,"Domestic Two Rate",0.05,0,0,0,0,0,0,0,{"$f":"C8","v":0.05},{"$f":"D8","v":0},{"$f":"E8","v":0},{"$f":"F8","v":0},{"$f":"G8","v":0},{"$f":"H8","v":0},{"$f":"I8","v":0},{"$f":"J8","v":0},{"$f":"K8","v":0.05},{"$f":"L8","v":0},{"$f":"M8","v":0},{"$f":"N8","v":0},{"$f":"O8","v":0},{"$f":"P8","v":0},{"$f":"Q8","v":0},{"$f":"R8","v":0},{"$f":"S8","v":0.05},{"$f":"T8","v":0},{"$f":"U8","v":0},{"$f":"V8","v":0},{"$f":"W8","v":0},{"$f":"X8","v":0},{"$f":"Y8","v":0},{"$f":"Z8","v":0},{"$f":"AA8","v":0.05},{"$f":"AB8","v":0},{"$f":"AC8","v":0},{"$f":"AD8","v":0},{"$f":"AE8","v":0},{"$f":"AF8","v":0},{"$f":"AG8","v":0},{"$f":"AH8","v":0}]
[null,"Small Non Domestic Unrestricted",0,1,0,0,0,0,0,0,0,1,0,0,0,0,0,0,0,1,0,0,0,0,0,0,0,1,0,0,0,0,0,0,0,1,0,0,0,0,0,0]
[null,"Small Non Domestic Two Rate",0,1,0,0,0,0,0,0,0,1,0,0,0,0,0,0,0,1,0,0,0,0,0,0,0,1,0,0,0,0,0,0,0,1,0,0,0,0,0,0]
[null,"LV Medium Non-Domestic",0,0,1,0,0,0,0,0,0,0,1,0,0,0,0,0,0,0,1,0,0,0,0,0,0,0,1,0,0,0,0,0,0,0,1,0,0,0,0,0]
[null,"LV Sub Medium Non-Domestic",0,0,0,1,0,0,0,0,0,0,0,1,0,0,0,0,0,0,0,1,0,0,0,0,0,0,0,1,0,0,0,0,0,0,0,1,0,0,0,0]
[null,"LV Network Domestic",0.05,0,0,0,0,0,0,0,0.05,0,0,0,0,0,0,0,0.05,0,0,0,0,0,0,0,0.05,0,0,0,0,0,0,0,0.05,0,0,0,0,0,0,0]
[null,"LV Network Non-Domestic Non-CT",0,1,0,0,0,0,0,0,0,1,0,0,0,0,0,0,0,1,0,0,0,0,0,0,0,1,0,0,0,0,0,0,0,1,0,0,0,0,0,0]
[null,"LV HH Metered",0,0,0,0,1,0,0,0,0,0,0,0,1,0,0,0,0,0,0,0,1,0,0,0,0,0,0,0,1,0,0,0,0,0,0,0,1,0,0,0]
[null,"LV Sub HH Metered",0,0,0,0,0,1,0,0,0,0,0,0,0,1,0,0,0,0,0,0,0,1,0,0,0,0,0,0,0,1,0,0,0,0,0,0,0,1,0,0]
[null,"LV Generation NHH or Aggregate HH",0,0,0,0,0,0,1,0,0,0,0,0,0,0,1,0,0,0,0,0,0,0,1,0,0,0,0,0,0,0,1,0,0,0,0,0,0,0,1,0]
[null,"LV Sub Generation NHH",0,0,0,0,0,0,1,0,0,0,0,0,0,0,1,0,0,0,0,0,0,0,1,0,0,0,0,0,0,0,1,0,0,0,0,0,0,0,1,0]
[null,"LV Generation Intermittent",0,0,0,0,0,0,1,0,0,0,0,0,0,0,1,0,0,0,0,0,0,0,1,0,0,0,0,0,0,0,1,0,0,0,0,0,0,0,1,0]
[null,"LV Generation Intermittent no RP charge",0,0,0,0,0,0,1,0,0,0,0,0,0,0,1,0,0,0,0,0,0,0,1,0,0,0,0,0,0,0,1,0,0,0,0,0,0,0,1,0]
[null,"LV Generation Non-Intermittent",0,0,0,0,0,0,0,0,0,0,0,0,0,0,0,0,0,0,0,0,0,0,0,0,0,0,0,0,0,0,0,0,0,0,0,0,0,0,0,0]
[null,"LV Generation Non-Intermittent no RP charge",0,0,0,0,0,0,0,0,0,0,0,0,0,0,0,0,0,0,0,0,0,0,0,0,0,0,0,0,0,0,0,0,0,0,0,0,0,0,0,0]
[null,"LV Sub Generation Intermittent",0,0,0,0,0,0,0,0,0,0,0,0,0,0,0,0,0,0,0,0,0,0,0,0,0,0,0,0,0,0,0,0,0,0,0,0,0,0,0,0]
[null,"LV Sub Generation Intermittent no RP charge",0,0,0,0,0,0,0,0,0,0,0,0,0,0,0,0,0,0,0,0,0,0,0,0,0,0,0,0,0,0,0,0,0,0,0,0,0,0,0,0]
[null,"LV Sub Generation Non-Intermittent",0,0,0,0,0,0,0,0,0,0,0,0,0,0,0,0,0,0,0,0,0,0,0,0,0,0,0,0,0,0,0,0,0,0,0,0,0,0,0,0]
[null,"LV Sub Generation Non-Intermittent no RP charge",0,0,0,0,0,0,0,0,0,0,0,0,0,0,0,0,0,0,0,0,0,0,0,0,0,0,0,0,0,0,0,0,0,0,0,0,0,0,0,0]
[]
[null,"1026. Matrix of applicability of LV service models to unmetered tariffs"]
[]
[null,"Source: service models"]
[null,"Proportion of service model involved in connecting load of 1 MWh/year",{"$f":"'CDCM Forecast Data'!$E$11","v":"2019/20"},null,null,null,null,null,null,null,{"$f":"'CDCM Forecast Data'!$F$11","v":"2020/21"},null,null,null,null,null,null,null,{"$f":"'CDCM Forecast Data'!$G$11","v":"2021/22"},null,null,null,null,null,null,null,{"$f":"'CDCM Forecast Data'!$H$11","v":"2022/23"},null,null,null,null,null,null,null,{"$f":"'CDCM Forecast Data'!$I$11","v":"2023/24"}]
[null,null,"LV service model 1","LV service model 2","LV service model 3","LV service model 4","LV service model 5","LV service model 6","LV service model 7","LV service model 8","LV service model 1","LV service model 2","LV service model 3","LV service model 4","LV service model 5","LV service model 6","LV service model 7","LV service model 8","LV service model 1","LV service model 2","LV service model 3","LV service model 4","LV service model 5","LV service model 6","LV service model 7","LV service model 8","LV service model 1","LV service model 2","LV service model 3","LV service model 4","LV service model 5","LV service model 6","LV service model 7","LV service model 8","LV service model 1","LV service model 2","LV service model 3","LV service model 4","LV service model 5","LV service model 6","LV service model 7","LV service model 8"]
[null,"All LV unmetered tariffs",0,0,0,0,0,0,0,0.48799999999999999,{"$f":"C33","v":0},0,0,0,0,0,0,0.48799999999999999,{"$f":"K33","v":0},{"$f":"L33","v":0},{"$f":"M33","v":0},{"$f":"N33","v":0},{"$f":"O33","v":0},{"$f":"P33","v":0},{"$f":"Q33","v":0},{"$f":"R33","v":0.48799999999999999},{"$f":"S33","v":0},{"$f":"T33","v":0},{"$f":"U33","v":0},{"$f":"V33","v":0},{"$f":"W33","v":0},{"$f":"X33","v":0},{"$f":"Y33","v":0},{"$f":"Z33","v":0.48799999999999999},{"$f":"AA33","v":0},{"$f":"AB33","v":0},{"$f":"AC33","v":0},{"$f":"AD33","v":0},{"$f":"AE33","v":0},{"$f":"AF33","v":0},{"$f":"AG33","v":0},{"$f":"AH33","v":0.48799999999999999}]
[]
[null,"1028. Matrix of applicability of HV service models to tariffs with fixed charges"]
[null,null,{"$f":"'CDCM Forecast Data'!$E$11","v":"2019/20"},null,null,null,null,{"$f":"+'CDCM Forecast Data'!F11","v":"2020/21"},null,null,null,null,{"$f":"+'CDCM Forecast Data'!G11","v":"2021/22"},null,null,null,null,{"$f":"+'CDCM Forecast Data'!H11","v":"2022/23"},null,null,null,null,{"$f":"+'CDCM Forecast Data'!I11","v":"2023/24"}]
[null,null,"HV service model 1","HV service model 2","HV service model 3","HV service model 4","HV service model 5","HV service model 1","HV service model 2","HV service model 3","HV service model 4","HV service model 5","HV service model 1","HV service model 2","HV service model 3","HV service model 4","HV service model 5","HV service model 1","HV service model 2","HV service model 3","HV service model 4","HV service model 5","HV service model 1","HV service model 2","HV service model 3","HV service model 4","HV service model 5"]
[null,"HV Medium Non-Domestic",1,0,0,0,0,{"$f":"C38","v":1},{"$f":"D38","v":0},{"$f":"E38","v":0},{"$f":"F38","v":0},{"$f":"G38","v":0},{"$f":"H38","v":1},{"$f":"I38","v":0},{"$f":"J38","v":0},{"$f":"K38","v":0},{"$f":"L38","v":0},{"$f":"M38","v":1},{"$f":"N38","v":0},{"$f":"O38","v":0},{"$f":"P38","v":0},{"$f":"Q38","v":0},{"$f":"R38","v":1},{"$f":"S38","v":0},{"$f":"T38","v":0},{"$f":"U38","v":0},{"$f":"V38","v":0}]
[null,"HV HH Metered",1,0,0,0,0,{"$f":"C39","v":1},{"$f":"D39","v":0},{"$f":"E39","v":0},{"$f":"F39","v":0},{"$f":"G39","v":0},{"$f":"H39","v":1},{"$f":"I39","v":0},{"$f":"J39","v":0},{"$f":"K39","v":0},{"$f":"L39","v":0},{"$f":"M39","v":1},{"$f":"N39","v":0},{"$f":"O39","v":0},{"$f":"P39","v":0},{"$f":"Q39","v":0},{"$f":"R39","v":1},{"$f":"S39","v":0},{"$f":"T39","v":0},{"$f":"U39","v":0},{"$f":"V39","v":0}]
[null,"HV Generation Intermittent",0,1,0,0,0,0,1,0,0,0,0,1,0,0,0,0,1,0,0,0,0,1,0,0,0]
[null,"HV Generation Intermittent no RP charge",0,1,0,0,0,0,1,0,0,0,0,1,0,0,0,0,1,0,0,0,0,1,0,0,0]
[null,"HV Generation Non-Intermittent",0,1,0,0,0,0,1,0,0,0,0,1,0,0,0,0,1,0,0,0,0,1,0,0,0]
[null,"HV Generation Non-Intermittent no RP charge",0,1,0,0,0,0,1,0,0,0,0,1,0,0,0,0,1,0,0,0,0,1,0,0,0]

{"sheet":"CDCM Volume Forecasts","index":6,"n_rows":136,"n_cols":38,"rows_kept":136,"cut":false,"hidden":false,"merged":[[25,31,25,37],[25,24,25,30],[25,17,25,23],[25,3,25,9],[25,10,25,16],[3,31,3,34],[3,27,3,30],[2,6,2,30],[3,6,3,10],[3,11,3,14],[3,15,3,18],[3,19,3,22],[3,23,3,26]]}
[]
[]
[null,null,null,null,null,null,"Growth Rates (%)"]
[null,null,null,null,null,null,"VOLUME - RED BAND",null,null,null,null,"VOLUME - AMBER BAND",null,null,null,"VOLUME - GREEN BAND",null,null,null,"CUSTOMER NUMBERS",null,null,null,"IMPORT CAPACITY",null,null,null,"EXCEEDED CAPACITY",null,null,null,"REACTIVE POWER"]
[null,null,null,null,null,null,"Y","Y + 1","Y + 2","Y + 3","Y + 4","Y + 1","Y + 2","Y + 3","Y + 4","Y + 1","Y + 2","Y + 3","Y + 4","Y + 1","Y + 2","Y + 3","Y + 4","Y + 1","Y + 2","Y + 3","Y + 4","Y + 1","Y + 2","Y + 3","Y + 4","Y + 1","Y + 2","Y + 3","Y + 4"]
[null,null,null,null,"Customer Category","Description",{"$f":"+'CDCM Forecast Data'!E11","v":"2019/20"},{"$f":"+'CDCM Forecast Data'!F11","v":"2020/21"},{"$f":"+'CDCM Forecast Data'!G11","v":"2021/22"},{"$f":"+'CDCM Forecast Data'!H11","v":"2022/23"},{"$f":"+'CDCM Forecast Data'!I11","v":"2023/24"},{"$f":"+H6","v":"2020/21"},"2021/22","2022/23","2023/24","2020/21","2021/22","2022/23","2023/24","2020/21","2021/22","2022/23","2023/24","2020/21","2021/22","2022/23","2023/24",{"$f":"+T6","v":"2020/21"},"2021/22","2022/23","2023/24","2020/21","2021/22","2022/23","2023/24","Assumptions"]
[null,null,null,null,1,"Aggregated demand"]
[null,null,null,null,2,"Site-specific demand"]
[null,null,null,null,3,"Not used"]
[null,null,null,null,4,"Generation"]
[null,null,null,null,5,"Not used"]
[null,null,null,null,6,"Not used"]
[null,null,null,null,7,"Not used"]
[null,null,null,null,8,"Not used"]
[null,null,null,null,9,"Not used"]
[null,null,null,null,10,"Not used"]
[]
[null,null,null,null,"Summary Data","Year",{"$f":"G6","v":"2019/20"},{"$f":"H6","v":"2020/21"},{"$f":"I6","v":"2021/22"},{"$f":"J6","v":"2022/23"},{"$f":"K6","v":"2023/24"}]
[null,null,null,null,null,"Total Volume",{"$f":"SUM(D29:F136)","v":26040291.623001982},{"$f":"SUM(K29:M136)","v":26040291.623001982},{"$f":"SUM(R29:T136)","v":26040291.623001982},{"$f":"SUM(Y29:AA136)","v":26040291.623001982},{"$f":"SUM(AF29:AH136)","v":26040291.623001982}]
[null,null,null,null,null,"No. of MPANs",{"$f":"SUM(G29:G136)","v":2797417.264544107},{"$f":"SUM(N29:N136)","v":2797417.264544107},{"$f":"SUM(U29:U136)","v":2797417.264544107},{"$f":"SUM(AB29:AB136)","v":2797417.264544107},{"$f":"SUM(AI29:AI136)","v":2797417.264544107}]
[null,null,null,null,null,"Total Import Capacity",{"$f":"SUM(H29:H136)","v":5058403.1155864429},{"$f":"SUM(O29:O136)","v":5058403.1155864429},{"$f":"SUM(V29:V136)","v":5058403.1155864429},{"$f":"SUM(AC29:AC136)","v":5058403.1155864429},{"$f":"SUM(AJ29:AJ136)","v":5058403.1155864429}]
[null,null,null,null,null,"Total exceeded capacity",{"$f":"SUM(I29:I136)","v":103420.38966527017},{"$f":"SUM(P29:P136)","v":103420.38966527017},{"$f":"SUM(W29:W136)","v":103420.38966527017},{"$f":"SUM(AD29:AD136)","v":103420.38966527017},{"$f":"SUM(AK29:AK136)","v":103420.38966527017}]
[null,null,null,null,null,"Total Reactive",{"$f":"SUM(J29:J136)","v":990566.32485460292},{"$f":"SUM(Q29:Q136)","v":990566.32485460292},{"$f":"SUM(X29:X136)","v":990566.32485460292},{"$f":"SUM(AE29:AE136)","v":990566.32485460292},{"$f":"SUM(AL29:AL136)","v":990566.32485460292}]
[]
[]
[null,null,"1053. Volume forecasts for the charging year:",{"$f":"G6& \" - (\"&G5&\")\"","v":"2019/20 - (Y)"},null,null,null,null,null,null,{"$f":"H6& \" - (\"&H5&\")\"","v":"2020/21 - (Y + 1)"},null,null,null,null,null,null,{"$f":"I6& \" - (\"&I5&\")\"","v":"2021/22 - (Y + 2)"},null,null,null,null,null,null,{"$f":"J6& \" - (\"&J5&\")\"","v":"2022/23 - (Y + 3)"},null,null,null,null,null,null,{"$f":"K6& \" - (\"&K5&\")\"","v":"2023/24 - (Y + 4)"}]
[null,"Customer Category","Tariff","Rate 1 units (MWh)","Rate 2 units (MWh)","Rate 3 units (MWh)","MPANs","Import capacity (kVA)","Exceeded capacity (kVA)","Reactive power units (MVArh)","Rate 1 units (MWh)","Rate 2 units (MWh)","Rate 3 units (MWh)","MPANs","Import capacity (kVA)","Exceeded capacity (kVA)","Reactive power units (MVArh)","Rate 1 units (MWh)","Rate 2 units (MWh)","Rate 3 units (MWh)","MPANs","Import capacity (kVA)","Exceeded capacity (kVA)","Reactive power units (MVArh)","Rate 1 units (MWh)","Rate 2 units (MWh)","Rate 3 units (MWh)","MPANs","Import capacity (kVA)","Exceeded capacity (kVA)","Reactive power units (MVArh)","Rate 1 units (MWh)","Rate 2 units (MWh)","Rate 3 units (MWh)","MPANs","Import capacity (kVA)","Exceeded capacity (kVA)","Reactive power units (MVArh)"]
[1,null,"> Domestic Unrestricted"]
[{"$f":"A28+1","v":2},1,"Domestic Unrestricted",5635747.39502858,0,0,1671267.7755050499,0,0,0,{"$f":"IF(D29,((VLOOKUP($B29,$E$7:$AI$16,4)+1)*D29),)","v":5635747.39502858},{"$f":"IF(E29,((VLOOKUP($B29,$E$7:$AI$16,8)+1)*E29),)","v":0},{"$f":"IF(F29,((VLOOKUP($B29,$E$7:$AI$16,12)+1)*F29),)","v":0},{"$f":"IF(G29,((VLOOKUP($B29,$E$7:$AI$16,16)+1)*G29),)","v":1671267.7755050499},{"$f":"IF(H29,((VLOOKUP($B29,$E$7:$AI$16,20)+1)*H29),)","v":0},null,null,{"$f":"IF(D29,((VLOOKUP($B29,$E$7:$AI$16,5)+1)*K29),)","v":5635747.39502858},{"$f":"IF(E29,((VLOOKUP($B29,$E$7:$AI$16,5+4)+1)*L29),)","v":0},{"$f":"IF(F29,((VLOOKUP($B29,$E$7:$AI$16,5+8)+1)*M29),)","v":0},{"$f":"IF(G29,((VLOOKUP($B29,$E$7:$AI$16,5+12)+1)*N29),)","v":1671267.7755050499},{"$f":"IF(H29,((VLOOKUP($B29,$E$7:$AI$16,5+16)+1)*O29),)","v":0},null,null,{"$f":"IF(D29,((VLOOKUP($B29,$E$7:$AI$16,6)+1)*R29),)","v":5635747.39502858},{"$f":"IF(E29,((VLOOKUP($B29,$E$7:$AI$16,6+4)+1)*S29),)","v":0},{"$f":"IF(F29,((VLOOKUP($B29,$E$7:$AI$16,6+8)+1)*T29),)","v":0},{"$f":"IF(G29,((VLOOKUP($B29,$E$7:$AI$16,6+12)+1)*U29),)","v":1671267.7755050499},{"$f":"IF(H29,((VLOOKUP($B29,$E$7:$AI$16,6+16)+1)*V29),)","v":0},null,null,{"$f":"IF(D29,((VLOOKUP($B29,$E$7:$AI$16,7)+1)*Y29),)","v":5635747.39502858},{"$f":"IF(E29,((VLOOKUP($B29,$E$7:$AI$16,7+4)+1)*Z29),)","v":0},{"$f":"IF(F29,((VLOOKUP($B29,$E$7:$AI$16,7+8)+1)*AA29),)","v":0},{"$f":"IF(G29,((VLOOKUP($B29,$E$7:$AI$16,7+12)+1)*AB29),)","v":1671267.7755050499},{"$f":"IF(H29,((VLOOKUP($B29,$E$7:$AI$16,7+16)+1)*AC29),)","v":0}]
[{"$f":"A29+1","v":3},1,"LDNO LV: Domestic Unrestricted",94982.042774487054,0,0,35033.390339937563,0,0,0,{"$f":"IF(D30,((VLOOKUP($B30,$E$7:$AI$16,4)+1)*D30),)","v":94982.042774487054},{"$f":"IF(E30,((VLOOKUP($B30,$E$7:$AI$16,8)+1)*E30),)","v":0},{"$f":"IF(F30,((VLOOKUP($B30,$E$7:$AI$16,12)+1)*F30),)","v":0},{"$f":"IF(G30,((VLOOKUP($B30,$E$7:$AI$16,16)+1)*G30),)","v":35033.390339937563},{"$f":"IF(H30,((VLOOKUP($B30,$E$7:$AI$16,20)+1)*H30),)","v":0},null,null,{"$f":"IF(D30,((VLOOKUP($B30,$E$7:$AI$16,5)+1)*K30),)","v":94982.042774487054},{"$f":"IF(E30,((VLOOKUP($B30,$E$7:$AI$16,5+4)+1)*L30),)","v":0},{"$f":"IF(F30,((VLOOKUP($B30,$E$7:$AI$16,5+8)+1)*M30),)","v":0},{"$f":"IF(G30,((VLOOKUP($B30,$E$7:$AI$16,5+12)+1)*N30),)","v":35033.390339937563},{"$f":"IF(H30,((VLOOKUP($B30,$E$7:$AI$16,5+16)+1)*O30),)","v":0},null,null,{"$f":"IF(D30,((VLOOKUP($B30,$E$7:$AI$16,6)+1)*R30),)","v":94982.042774487054},{"$f":"IF(E30,((VLOOKUP($B30,$E$7:$AI$16,6+4)+1)*S30),)","v":0},{"$f":"IF(F30,((VLOOKUP($B30,$E$7:$AI$16,6+8)+1)*T30),)","v":0},{"$f":"IF(G30,((VLOOKUP($B30,$E$7:$AI$16,6+12)+1)*U30),)","v":35033.390339937563},{"$f":"IF(H30,((VLOOKUP($B30,$E$7:$AI$16,6+16)+1)*V30),)","v":0},null,null,{"$f":"IF(D30,((VLOOKUP($B30,$E$7:$AI$16,7)+1)*Y30),)","v":94982.042774487054},{"$f":"IF(E30,((VLOOKUP($B30,$E$7:$AI$16,7+4)+1)*Z30),)","v":0},{"$f":"IF(F30,((VLOOKUP($B30,$E$7:$AI$16,7+8)+1)*AA30),)","v":0},{"$f":"IF(G30,((VLOOKUP($B30,$E$7:$AI$16,7+12)+1)*AB30),)","v":35033.390339937563},{"$f":"IF(H30,((VLOOKUP($B30,$E$7:$AI$16,7+16)+1)*AC30),)","v":0}]
[4,1,"LDNO HV: Domestic Unrestricted",155171.27128812924,0,0,58162.880927404229,0,0,0,155171.27128812924,0,0,58162.880927404229,0,null,null,155171.27128812924,0,0,58162.880927404229,0,null,null,155171.27128812924,0,0,58162.880927404229,0,null,null,155171.27128812924,0,0,58162.880927404229,0]
[5,null,"> Domestic Two Rate",0,0,0,0,0,0,0,0,0,0,0,0,null,null,0,0,0,0,0,null,null,0,0,0,0,0,null,null,0,0,0,0,0]
[6,1,"Domestic Two Rate",2417415.8454986895,1076309.378668654,0,792868.49064519012,0,0,0,2417415.8454986895,1076309.378668654,0,792868.49064519012,0,null,null,2417415.8454986895,1076309.378668654,0,792868.49064519012,0,null,null,2417415.8454986895,1076309.378668654,0,792868.49064519012,0,null,null,2417415.8454986895,1076309.378668654,0,792868.49064519012,0]
[7,1,"LDNO LV: Domestic Two Rate",4629.9614332661959,1426.9050309592003,0,1499.239141579387,0,0,0,4629.9614332661959,1426.9050309592003,0,1499.239141579387,0,null,null,4629.9614332661959,1426.9050309592003,0,1499.239141579387,0,null,null,4629.9614332661959,1426.9050309592003,0,1499.239141579387,0,null,null,4629.9614332661959,1426.9050309592003,0,1499.239141579387,0]
[8,1,"LDNO HV: Domestic Two Rate",7642.5052138944002,2597.3847486999803,0,2453.4347641766276,0,0,0,7642.5052138944002,2597.3847486999803,0,2453.4347641766276,0,null,null,7642.5052138944002,2597.3847486999803,0,2453.4347641766276,0,null,null,7642.5052138944002,2597.3847486999803,0,2453.4347641766276,0,null,null,7642.5052138944002,2597.3847486999803,0,2453.4347641766276,0]
[9,null,"> Domestic Off Peak (related MPAN)",0,0,0,0,0,0,0,0,0,0,0,0,null,null,0,0,0,0,0,null,null,0,0,0,0,0,null,null,0,0,0,0,0]
[10,1,"Domestic Off Peak (related MPAN)",49585.593175668728,null,0,26805,0,0,0,49585.593175668728,0,0,26805,0,null,null,49585.593175668728,0,0,26805,0,null,null,49585.593175668728,0,0,26805,0,null,null,49585.593175668728,0,0,26805,0]
[11,1,"LDNO LV: Domestic Off Peak (related MPAN)",0,0,0,0,0,0,0,0,0,0,0,0,null,null,0,0,0,0,0,null,null,0,0,0,0,0,null,null,0,0,0,0,0]
[12,1,"LDNO HV: Domestic Off Peak (related MPAN)",0,0,0,0,0,0,0,0,0,0,0,0,null,null,0,0,0,0,0,null,null,0,0,0,0,0,null,null,0,0,0,0,0]
[13,null,"> Small Non Domestic Unrestricted",0,0,0,0,0,0,0,0,0,0,0,0,null,null,0,0,0,0,0,null,null,0,0,0,0,0,null,null,0,0,0,0,0]
[14,1,"Small Non Domestic Unrestricted",1140613.9739181774,0,0,95495.253097224515,0,0,0,1140613.9739181774,0,0,95495.253097224515,0,null,null,1140613.9739181774,0,0,95495.253097224515,0,null,null,1140613.9739181774,0,0,95495.253097224515,0,null,null,1140613.9739181774,0,0,95495.253097224515,0]
[15,1,"LDNO LV: Small Non Domestic Unrestricted",4254.8519221540355,0,0,714.08447240652981,0,0,0,4254.8519221540355,0,0,714.08447240652981,0,null,null,4254.8519221540355,0,0,714.08447240652981,0,null,null,4254.8519221540355,0,0,714.08447240652981,0,null,null,4254.8519221540355,0,0,714.08447240652981,0]
[16,1,"LDNO HV: Small Non Domestic Unrestricted",11145.922225068793,0,0,1270.1753584742994,0,0,0,11145.922225068793,0,0,1270.1753584742994,0,null,null,11145.922225068793,0,0,1270.1753584742994,0,null,null,11145.922225068793,0,0,1270.1753584742994,0,null,null,11145.922225068793,0,0,1270.1753584742994,0]
[17,null,"> Small Non Domestic Two Rate",0,0,0,0,0,0,0,0,0,0,0,0,null,null,0,0,0,0,0,null,null,0,0,0,0,0,null,null,0,0,0,0,0]
[18,1,"Small Non Domestic Two Rate",1514286.2262339729,451030.46492233477,0,82427.244684584759,0,0,0,1514286.2262339729,451030.46492233477,0,82427.244684584759,0,null,null,1514286.2262339729,451030.46492233477,0,82427.244684584759,0,null,null,1514286.2262339729,451030.46492233477,0,82427.244684584759,0,null,null,1514286.2262339729,451030.46492233477,0,82427.244684584759,0]
[19,1,"LDNO LV: Small Non Domestic Two Rate",402.47958047828541,80.438629283880772,0,12.903675111941352,0,0,0,402.47958047828541,80.438629283880772,0,12.903675111941352,0,null,null,402.47958047828541,80.438629283880772,0,12.903675111941352,0,null,null,402.47958047828541,80.438629283880772,0,12.903675111941352,0,null,null,402.47958047828541,80.438629283880772,0,12.903675111941352,0]
[20,1,"LDNO HV: Small Non Domestic Two Rate",1111.6322427478769,286.0338414769754,0,47.788053454719794,0,0,0,1111.6322427478769,286.0338414769754,0,47.788053454719794,0,null,null,1111.6322427478769,286.0338414769754,0,47.788053454719794,0,null,null,1111.6322427478769,286.0338414769754,0,47.788053454719794,0,null,null,1111.6322427478769,286.0338414769754,0,47.788053454719794,0]
[21,null,"> Small Non Domestic Off Peak (related MPAN)",0,0,0,0,0,0,0,0,0,0,0,0,null,null,0,0,0,0,0,null,null,0,0,0,0,0,null,null,0,0,0,0,0]
[22,1,"Small Non Domestic Off Peak (related MPAN)",2583.3840720654089,null,0,517,0,0,0,2583.3840720654089,0,0,517,0,null,null,2583.3840720654089,0,0,517,0,null,null,2583.3840720654089,0,0,517,0,null,null,2583.3840720654089,0,0,517,0]
[23,1,"LDNO LV: Small Non Domestic Off Peak (related MPAN)",0,0,0,0,0,0,0,0,0,0,0,0,null,null,0,0,0,0,0,null,null,0,0,0,0,0,null,null,0,0,0,0,0]
[24,1,"LDNO HV: Small Non Domestic Off Peak (related MPAN)",0,0,0,0,0,0,0,0,0,0,0,0,null,null,0,0,0,0,0,null,null,0,0,0,0,0,null,null,0,0,0,0,0]
[25,null,"> LV Medium Non-Domestic",0,0,0,0,0,0,0,0,0,0,0,0,null,null,0,0,0,0,0,null,null,0,0,0,0,0,null,null,0,0,0,0,0]
[26,1,"LV Medium Non-Domestic",41587.88901879995,11522.857188044651,0,1226.5130041316722,0,0,0,41587.88901879995,11522.857188044651,0,1226.5130041316722,0,null,null,41587.88901879995,11522.857188044651,0,1226.5130041316722,0,null,null,41587.88901879995,11522.857188044651,0,1226.5130041316722,0,null,null,41587.88901879995,11522.857188044651,0,1226.5130041316722,0]
[27,1,"LDNO LV: LV Medium Non-Domestic",-4.9112713895738124E-14,5.4569682106375695E-15,0,0,0,0,0,-4.9112713895738124E-14,5.4569682106375695E-15,0,0,0,null,null,-4.9112713895738124E-14,5.4569682106375695E-15,0,0,0,null,null,-4.9112713895738124E-14,5.4569682106375695E-15,0,0,0,null,null,-4.9112713895738124E-14,5.4569682106375695E-15,0,0,0]
[28,1,"LDNO HV: LV Medium Non-Domestic",-2.4738255888223645E-13,1.8189894035458565E-14,0,0,0,0,0,-2.4738255888223645E-13,1.8189894035458565E-14,0,0,0,null,null,-2.4738255888223645E-13,1.8189894035458565E-14,0,0,0,null,null,-2.4738255888223645E-13,1.8189894035458565E-14,0,0,0,null,null,-2.4738255888223645E-13,1.8189894035458565E-14,0,0,0]
[29,null,"> LV Sub Medium Non-Domestic",0,0,0,0,0,0,0,0,0,0,0,0,null,null,0,0,0,0,0,null,null,0,0,0,0,0,null,null,0,0,0,0,0]
[30,1,"LV Sub Medium Non-Domestic",0.14305029137837472,4.1771037058284492E-2,0,3.1678196721310618E-3,0,0,0,0.14305029137837472,4.1771037058284492E-2,0,3.1678196721310618E-3,0,null,null,0.14305029137837472,4.1771037058284492E-2,0,3.1678196721310618E-3,0,null,null,0.14305029137837472,4.1771037058284492E-2,0,3.1678196721310618E-3,0,null,null,0.14305029137837472,4.1771037058284492E-2,0,3.1678196721310618E-3,0]
[31,null,"> HV Medium Non-Domestic",0,0,0,0,0,0,0,0,0,0,0,0,null,null,0,0,0,0,0,null,null,0,0,0,0,0,null,null,0,0,0,0,0]
[32,1,"HV Medium Non-Domestic",2605.2120716228465,788.60544449936344,0,44,0,0,0,2605.2120716228465,788.60544449936344,0,44,0,null,null,2605.2120716228465,788.60544449936344,0,44,0,null,null,2605.2120716228465,788.60544449936344,0,44,0,null,null,2605.2120716228465,788.60544449936344,0,44,0]
[33,null,"> LV Network Domestic",0,0,0,0,0,0,0,0,0,0,0,0,null,null,0,0,0,0,0,null,null,0,0,0,0,0,null,null,0,0,0,0,0]
[34,1,"LV Network Domestic",25.916648860281796,99.416406772272921,122.08546012140339,76.118765573770503,0,0,0,25.916648860281796,99.416406772272921,122.08546012140339,76.118765573770503,0,null,null,25.916648860281796,99.416406772272921,122.08546012140339,76.118765573770503,0,null,null,25.916648860281796,99.416406772272921,122.08546012140339,76.118765573770503,0,null,null,25.916648860281796,99.416406772272921,122.08546012140339,76.118765573770503,0]
[35,1,"LDNO LV: LV Network Domestic",0,0,0,0,0,0,0,0,0,0,0,0,null,null,0,0,0,0,0,null,null,0,0,0,0,0,null,null,0,0,0,0,0]
[36,1,"LDNO HV: LV Network Domestic",0,0,0,0,0,0,0,0,0,0,0,0,null,null,0,0,0,0,0,null,null,0,0,0,0,0,null,null,0,0,0,0,0]
[37,null,"> LV Network Non-Domestic Non-CT",0,0,0,0,0,0,0,0,0,0,0,0,null,null,0,0,0,0,0,null,null,0,0,0,0,0,null,null,0,0,0,0,0]
[38,1,"LV Network Non-Domestic Non-CT",18558.487686612239,73567.926730158622,78280.332697577658,2509.10345882312,0,0,0,18558.487686612239,73567.926730158622,78280.332697577658,2509.10345882312,0,null,null,18558.487686612239,73567.926730158622,78280.332697577658,2509.10345882312,0,null,null,18558.487686612239,73567.926730158622,78280.332697577658,2509.10345882312,0,null,null,18558.487686612239,73567.926730158622,78280.332697577658,2509.10345882312,0]
[39,1,"LDNO LV: LV Network Non-Domestic Non-CT",19.24968807539738,72.688587305710143,120.49851830559453,4.7184373127364774,0,0,0,19.24968807539738,72.688587305710143,120.49851830559453,4.7184373127364774,0,null,null,19.24968807539738,72.688587305710143,120.49851830559453,4.7184373127364774,0,null,null,19.24968807539738,72.688587305710143,120.49851830559453,4.7184373127364774,0,null,null,19.24968807539738,72.688587305710143,120.49851830559453,4.7184373127364774,0]
[40,1,"LDNO HV: LV Network Non-Domestic Non-CT",104.24235588741557,362.68347429908619,416.12088245460063,19.841829348937043,0,0,0,104.24235588741557,362.68347429908619,416.12088245460063,19.841829348937043,0,null,null,104.24235588741557,362.68347429908619,416.12088245460063,19.841829348937043,0,null,null,104.24235588741557,362.68347429908619,416.12088245460063,19.841829348937043,0,null,null,104.24235588741557,362.68347429908619,416.12088245460063,19.841829348937043,0]
[41,null,"> LV HH Metered",0,0,0,0,0,0,0,0,0,0,0,0,null,null,0,0,0,0,0,null,null,0,0,0,0,0,null,null,0,0,0,0,0]
[42,2,"LV HH Metered",377835.6813072178,1505767.6226554119,1615847.0059507394,15832.332072650368,1960000,42265.317043448318,367491.37832085259,377835.6813072178,1505767.6226554119,1615847.0059507394,15832.332072650368,1960000,{"$f":"IF(I69,((VLOOKUP($B69,$E$7:$AI$16,24)+1)*I69),)","v":42265.317043448318},{"$f":"IF(J69,((VLOOKUP($B69,$E$7:$AI$16,28)+1)*J69),)","v":367491.37832085259},377835.6813072178,1505767.6226554119,1615847.0059507394,15832.332072650368,1960000,{"$f":"IF(I69,((VLOOKUP($B69,$E$7:$AI$16,5+20)+1)*P69),)","v":42265.317043448318},{"$f":"IF(J69,((VLOOKUP($B69,$E$7:$AI$16,5+24)+1)*Q69),)","v":367491.37832085259},377835.6813072178,1505767.6226554119,1615847.0059507394,15832.332072650368,1960000,{"$f":"IF(I69,((VLOOKUP($B69,$E$7:$AI$16,6+20)+1)*W69),)","v":42265.317043448318},{"$f":"IF(J69,((VLOOKUP($B69,$E$7:$AI$16,6+24)+1)*X69),)","v":367491.37832085259},377835.6813072178,1505767.6226554119,1615847.0059507394,15832.332072650368,1960000,{"$f":"IF(I69,((VLOOKUP($B69,$E$7:$AI$16,7+20)+1)*AD69),)","v":42265.317043448318},{"$f":"IF(J69,((VLOOKUP($B69,$E$7:$AI$16,7+24)+1)*AE69),)","v":367491.37832085259}]
[43,2,"LDNO LV: LV HH Metered",1412.870559022316,4888.8390627745466,6114.8854757848721,61.229869713492732,10476.918620474366,12.987057168228436,1333.7147930840285,1412.870559022316,4888.8390627745466,6114.8854757848721,61.229869713492732,10476.918620474366,{"$f":"IF(I70,((VLOOKUP($B70,$E$7:$AI$16,24)+1)*I70),)","v":12.987057168228436},{"$f":"IF(J70,((VLOOKUP($B70,$E$7:$AI$16,28)+1)*J70),)","v":1333.7147930840285},1412.870559022316,4888.8390627745466,6114.8854757848721,61.229869713492732,10476.918620474366,{"$f":"IF(I70,((VLOOKUP($B70,$E$7:$AI$16,5+20)+1)*P70),)","v":12.987057168228436},{"$f":"IF(J70,((VLOOKUP($B70,$E$7:$AI$16,5+24)+1)*Q70),)","v":1333.7147930840285},1412.870559022316,4888.8390627745466,6114.8854757848721,61.229869713492732,10476.918620474366,{"$f":"IF(I70,((VLOOKUP($B70,$E$7:$AI$16,6+20)+1)*W70),)","v":12.987057168228436},{"$f":"IF(J70,((VLOOKUP($B70,$E$7:$AI$16,6+24)+1)*X70),)","v":1333.7147930840285},1412.870559022316,4888.8390627745466,6114.8854757848721,61.229869713492732,10476.918620474366,{"$f":"IF(I70,((VLOOKUP($B70,$E$7:$AI$16,7+20)+1)*AD70),)","v":12.987057168228436},{"$f":"IF(J70,((VLOOKUP($B70,$E$7:$AI$16,7+24)+1)*AE70),)","v":1333.7147930840285}]
[44,2,"LDNO HV: LV HH Metered",15040.235122987786,54927.685608171101,65960.836777291115,382.62169856216127,108669.61557819175,446.26154403187547,11418.401436925689,15040.235122987786,54927.685608171101,65960.836777291115,382.62169856216127,108669.61557819175,446.26154403187547,11418.401436925689,15040.235122987786,54927.685608171101,65960.836777291115,382.62169856216127,108669.61557819175,446.26154403187547,11418.401436925689,15040.235122987786,54927.685608171101,65960.836777291115,382.62169856216127,108669.61557819175,446.26154403187547,11418.401436925689,15040.235122987786,54927.685608171101,65960.836777291115,382.62169856216127,108669.61557819175,446.26154403187547,11418.401436925689]
[45,null,"> LV Sub HH Metered",0,0,0,0,0,0,0,0,0,0,0,0,null,null,0,0,0,0,0,null,null,0,0,0,0,0,null,null,0,0,0,0,0]
[46,2,"LV Sub HH Metered",23555.939705275443,90295.119473983417,105307.38531244543,342.84669556830613,138821.86717486338,1785.1010983606557,18220.196801714286,23555.939705275443,90295.119473983417,105307.38531244543,342.84669556830613,138821.86717486338,{"$f":"IF(I73,((VLOOKUP($B73,$E$7:$AI$16,24)+1)*I73),)","v":1785.1010983606557},{"$f":"IF(J73,((VLOOKUP($B73,$E$7:$AI$16,28)+1)*J73),)","v":18220.196801714286},23555.939705275443,90295.119473983417,105307.38531244543,342.84669556830613,138821.86717486338,{"$f":"IF(I73,((VLOOKUP($B73,$E$7:$AI$16,5+20)+1)*P73),)","v":1785.1010983606557},{"$f":"IF(J73,((VLOOKUP($B73,$E$7:$AI$16,5+24)+1)*Q73),)","v":18220.196801714286},23555.939705275443,90295.119473983417,105307.38531244543,342.84669556830613,138821.86717486338,{"$f":"IF(I73,((VLOOKUP($B73,$E$7:$AI$16,6+20)+1)*W73),)","v":1785.1010983606557},{"$f":"IF(J73,((VLOOKUP($B73,$E$7:$AI$16,6+24)+1)*X73),)","v":18220.196801714286},23555.939705275443,90295.119473983417,105307.38531244543,342.84669556830613,138821.86717486338,{"$f":"IF(I73,((VLOOKUP($B73,$E$7:$AI$16,7+20)+1)*AD73),)","v":1785.1010983606557},{"$f":"IF(J73,((VLOOKUP($B73,$E$7:$AI$16,7+24)+1)*AE73),)","v":18220.196801714286}]
[47,2,"LDNO HV: LV Sub HH Metered",890.72287294660168,3077.5835538016772,5287.7802117072451,4.8958936371831783,3426.9222620200057,46.892377761533822,903.92750399136014,890.72287294660168,3077.5835538016772,5287.7802117072451,4.8958936371831783,3426.9222620200057,46.892377761533822,903.92750399136014,890.72287294660168,3077.5835538016772,5287.7802117072451,4.8958936371831783,3426.9222620200057,46.892377761533822,903.92750399136014,890.72287294660168,3077.5835538016772,5287.7802117072451,4.8958936371831783,3426.9222620200057,46.892377761533822,903.92750399136014,890.72287294660168,3077.5835538016772,5287.7802117072451,4.8958936371831783,3426.9222620200057,{"$f":"IF(I74,((VLOOKUP($B74,$E$7:$AI$16,7+20)+1)*AD74),)","v":46.892377761533822},{"$f":"IF(J74,((VLOOKUP($B74,$E$7:$AI$16,7+24)+1)*AE74),)","v":903.92750399136014}]
[48,null,"> HV HH Metered",0,0,0,0,0,0,0,0,0,0,0,0,null,null,0,0,0,0,0,null,null,0,0,0,0,0,null,null,0,0,0,0,0]
[49,2,"HV HH Metered",738923.19680440472,2849711.7208364718,4000945.161846465,3524.9192351831307,2788259.5384515394,58664.747249535598,557819.6962977408,738923.19680440472,2849711.7208364718,4000945.161846465,3524.9192351831307,2788259.5384515394,{"$f":"IF(I76,((VLOOKUP($B76,$E$7:$AI$16,24)+1)*I76),)","v":58664.747249535598},{"$f":"IF(J76,((VLOOKUP($B76,$E$7:$AI$16,28)+1)*J76),)","v":557819.6962977408},738923.19680440472,2849711.7208364718,4000945.161846465,3524.9192351831307,2788259.5384515394,{"$f":"IF(I76,((VLOOKUP($B76,$E$7:$AI$16,5+20)+1)*P76),)","v":58664.747249535598},{"$f":"IF(J76,((VLOOKUP($B76,$E$7:$AI$16,5+24)+1)*Q76),)","v":557819.6962977408},738923.19680440472,2849711.7208364718,4000945.161846465,3524.9192351831307,2788259.5384515394,{"$f":"IF(I76,((VLOOKUP($B76,$E$7:$AI$16,6+20)+1)*W76),)","v":58664.747249535598},{"$f":"IF(J76,((VLOOKUP($B76,$E$7:$AI$16,6+24)+1)*X76),)","v":557819.6962977408},738923.19680440472,2849711.7208364718,4000945.161846465,3524.9192351831307,2788259.5384515394,{"$f":"IF(I76,((VLOOKUP($B76,$E$7:$AI$16,7+20)+1)*AD76),)","v":58664.747249535598},{"$f":"IF(J76,((VLOOKUP($B76,$E$7:$AI$16,7+24)+1)*AE76),)","v":557819.6962977408}]
[50,2,"LDNO HV: HV HH Metered",7258.323341503462,23980.296053899532,38623.664534907308,38.408595450387928,48748.253499353094,199.08329496396499,2217.4648647360805,7258.323341503462,23980.296053899532,38623.664534907308,38.408595450387928,48748.253499353094,199.08329496396499,2217.4648647360805,7258.323341503462,23980.296053899532,38623.664534907308,38.408595450387928,48748.253499353094,199.08329496396499,2217.4648647360805,7258.323341503462,23980.296053899532,38623.664534907308,38.408595450387928,48748.253499353094,199.08329496396499,2217.4648647360805,7258.323341503462,23980.296053899532,38623.664534907308,38.408595450387928,48748.253499353094,{"$f":"IF(I77,((VLOOKUP($B77,$E$7:$AI$16,7+20)+1)*AD77),)","v":199.08329496396499},{"$f":"IF(J77,((VLOOKUP($B77,$E$7:$AI$16,7+24)+1)*AE77),)","v":2217.4648647360805}]
[51,null,"> NHH UMS category A",0,0,0,0,0,0,0,0,0,0,0,0,null,null,0,0,0,0,0,null,null,0,0,0,0,0,null,null,0,0,0,0,0]
[52,1,"NHH UMS category A",34134.893703773516,0,0,1567,0,0,0,34134.893703773516,0,0,1567,0,null,null,34134.893703773516,0,0,1567,0,null,null,34134.893703773516,0,0,1567,0,null,null,34134.893703773516,0,0,1567,0]
[53,1,"LDNO LV: NHH UMS category A",275.22148000439415,0,0,0,0,0,0,275.22148000439415,0,0,0,0,null,null,275.22148000439415,0,0,0,0,null,null,275.22148000439415,0,0,0,0,null,null,275.22148000439415,0,0,0,0]
[54,1,"LDNO HV: NHH UMS category A",531.75775905666319,0,0,0,0,0,0,531.75775905666319,0,0,0,0,null,null,531.75775905666319,0,0,0,0,null,null,531.75775905666319,0,0,0,0,null,null,531.75775905666319,0,0,0,0]
[55,null,"> NHH UMS category B",0,0,0,0,0,0,0,0,0,0,0,0,null,null,0,0,0,0,0,null,null,0,0,0,0,0,null,null,0,0,0,0,0]
[56,1,"NHH UMS category B",22466.149975166016,0,0,1279,0,0,0,22466.149975166016,0,0,1279,0,null,null,22466.149975166016,0,0,1279,0,null,null,22466.149975166016,0,0,1279,0,null,null,22466.149975166016,0,0,1279,0]
[57,1,"LDNO LV: NHH UMS category B",319.40114355377005,0,0,0,0,0,0,319.40114355377005,0,0,0,0,null,null,319.40114355377005,0,0,0,0,null,null,319.40114355377005,0,0,0,0,null,null,319.40114355377005,0,0,0,0]
[58,1,"LDNO HV: NHH UMS category B",613.630442356039,0,0,0,0,0,0,613.630442356039,0,0,0,0,null,null,613.630442356039,0,0,0,0,null,null,613.630442356039,0,0,0,0,null,null,613.630442356039,0,0,0,0]
[59,null,"> NHH UMS category C",0,0,0,0,0,0,0,0,0,0,0,0,null,null,0,0,0,0,0,null,null,0,0,0,0,0,null,null,0,0,0,0,0]
[60,1,"NHH UMS category C",339.10140823796002,0,0,194,0,0,0,339.10140823796002,0,0,194,0,null,null,339.10140823796002,0,0,194,0,null,null,339.10140823796002,0,0,194,0,null,null,339.10140823796002,0,0,194,0]
[61,1,"LDNO LV: NHH UMS category C",0,0,0,0,0,0,0,0,0,0,0,0,null,null,0,0,0,0,0,null,null,0,0,0,0,0,null,null,0,0,0,0,0]
[62,1,"LDNO HV: NHH UMS category C",0,0,0,0,0,0,0,0,0,0,0,0,null,null,0,0,0,0,0,null,null,0,0,0,0,0,null,null,0,0,0,0,0]
[63,null,"> NHH UMS category D",0,0,0,0,0,0,0,0,0,0,0,0,null,null,0,0,0,0,0,null,null,0,0,0,0,0,null,null,0,0,0,0,0]
[64,1,"NHH UMS category D",7208.5560845431746,0,0,247,0,0,0,7208.5560845431746,0,0,247,0,null,null,7208.5560845431746,0,0,247,0,null,null,7208.5560845431746,0,0,247,0,null,null,7208.5560845431746,0,0,247,0]
[65,1,"LDNO LV: NHH UMS category D",0,0,0,0,0,0,0,0,0,0,0,0,null,null,0,0,0,0,0,null,null,0,0,0,0,0,null,null,0,0,0,0,0]
[66,1,"LDNO HV: NHH UMS category D",0,0,0,0,0,0,0,0,0,0,0,0,null,null,0,0,0,0,0,null,null,0,0,0,0,0,null,null,0,0,0,0,0]
[{"$f":"A93+1","v":67},null,"> LV UMS (Pseudo HH Metered)",0,0,0,0,0,0,0,{"$f":"IF(D94,((VLOOKUP($B94,$E$7:$AI$16,4)+1)*D94),)","v":0},{"$f":"IF(E94,((VLOOKUP($B94,$E$7:$AI$16,8)+1)*E94),)","v":0},{"$f":"IF(F94,((VLOOKUP($B94,$E$7:$AI$16,12)+1)*F94),)","v":0},{"$f":"IF(G94,((VLOOKUP($B94,$E$7:$AI$16,16)+1)*G94),)","v":0},{"$f":"IF(H94,((VLOOKUP($B94,$E$7:$AI$16,20)+1)*H94),)","v":0},null,null,{"$f":"IF(D94,((VLOOKUP($B94,$E$7:$AI$16,5)+1)*K94),)","v":0},{"$f":"IF(E94,((VLOOKUP($B94,$E$7:$AI$16,5+4)+1)*L94),)","v":0},{"$f":"IF(F94,((VLOOKUP($B94,$E$7:$AI$16,5+8)+1)*M94),)","v":0},{"$f":"IF(G94,((VLOOKUP($B94,$E$7:$AI$16,5+12)+1)*N94),)","v":0},{"$f":"IF(H94,((VLOOKUP($B94,$E$7:$AI$16,5+16)+1)*O94),)","v":0},null,null,{"$f":"IF(D94,((VLOOKUP($B94,$E$7:$AI$16,6)+1)*R94),)","v":0},{"$f":"IF(E94,((VLOOKUP($B94,$E$7:$AI$16,6+4)+1)*S94),)","v":0},{"$f":"IF(F94,((VLOOKUP($B94,$E$7:$AI$16,6+8)+1)*T94),)","v":0},{"$f":"IF(G94,((VLOOKUP($B94,$E$7:$AI$16,6+12)+1)*U94),)","v":0},{"$f":"IF(H94,((VLOOKUP($B94,$E$7:$AI$16,6+16)+1)*V94),)","v":0},null,null,{"$f":"IF(D94,((VLOOKUP($B94,$E$7:$AI$16,7)+1)*Y94),)","v":0},{"$f":"IF(E94,((VLOOKUP($B94,$E$7:$AI$16,7+4)+1)*Z94),)","v":0},{"$f":"IF(F94,((VLOOKUP($B94,$E$7:$AI$16,7+8)+1)*AA94),)","v":0},{"$f":"IF(G94,((VLOOKUP($B94,$E$7:$AI$16,7+12)+1)*AB94),)","v":0},{"$f":"IF(H94,((VLOOKUP($B94,$E$7:$AI$16,7+16)+1)*AC94),)","v":0}]
[68,2,"LV UMS (Pseudo HH Metered)",12092.426467732928,33947.071572281049,185619.80763357371,26.819672131147541,0,0,0,12092.426467732928,33947.071572281049,185619.80763357371,26.819672131147541,0,null,null,12092.426467732928,33947.071572281049,185619.80763357371,26.819672131147541,0,null,null,12092.426467732928,33947.071572281049,185619.80763357371,26.819672131147541,0,null,null,12092.426467732928,33947.071572281049,185619.80763357371,26.819672131147541,0]
[69,2,"LDNO LV: LV UMS (Pseudo HH Metered)",0,0,0,0,0,0,0,0,0,0,0,0,null,null,0,0,0,0,0,null,null,0,0,0,0,0,null,null,0,0,0,0,0]
[70,2,"LDNO HV: LV UMS (Pseudo HH Metered)",0,0,0,0,0,0,0,0,0,0,0,0,null,null,0,0,0,0,0,null,null,0,0,0,0,0,null,null,0,0,0,0,0]
[71,null,"> LV Generation NHH or Aggregate HH",0,0,0,0,0,0,0,0,0,0,0,0,null,null,0,0,0,0,0,null,null,0,0,0,0,0,null,null,0,0,0,0,0]
[72,4,"LV Generation NHH or Aggregate HH",10233.9538335,0,0,136,0,0,0,10233.9538335,0,0,136,0,null,null,10233.9538335,0,0,136,0,null,null,10233.9538335,0,0,136,0,null,null,10233.9538335,0,0,136,0]
[73,4,"LDNO LV: LV Generation NHH or Aggregate HH",27.785378357142857,0,0,0,0,0,0,27.785378357142857,0,0,0,0,null,null,27.785378357142857,0,0,0,0,null,null,27.785378357142857,0,0,0,0,null,null,27.785378357142857,0,0,0,0]
[74,4,"LDNO HV: LV Generation NHH or Aggregate HH",0,0,0,0,0,0,0,0,0,0,0,0,null,null,0,0,0,0,0,null,null,0,0,0,0,0,null,null,0,0,0,0,0]
[75,null,"> LV Sub Generation NHH",0,0,0,0,0,0,0,0,0,0,0,0,null,null,0,0,0,0,0,null,null,0,0,0,0,0,null,null,0,0,0,0,0]
[76,4,"LV Sub Generation NHH",0,0,0,0,0,0,0,0,0,0,0,0,null,null,0,0,0,0,0,null,null,0,0,0,0,0,null,null,0,0,0,0,0]
[77,4,"LDNO HV: LV Sub Generation NHH",0,0,0,0,null,null,0,0,0,0,0,0,null,null,0,0,0,0,0,null,null,0,0,0,0,0,null,null,0,0,0,0,0]
[78,null,"> LV Generation Intermittent",0,0,0,0,null,null,0,0,0,0,0,0,null,null,0,0,0,0,0,null,null,0,0,0,0,0,null,null,0,0,0,0,0]
[79,4,"LV Generation Intermittent",39541.455472928566,0,0,697.57416393442611,null,null,4219.380690214286,39541.455472928566,0,0,697.57416393442611,0,null,{"$f":"IF(J106,((VLOOKUP($B106,$E$7:$AI$16,28)+1)*J106),)","v":4219.380690214286},39541.455472928566,0,0,697.57416393442611,0,null,{"$f":"IF(J106,((VLOOKUP($B106,$E$7:$AI$16,5+24)+1)*Q106),)","v":4219.380690214286},39541.455472928566,0,0,697.57416393442611,0,null,{"$f":"IF(J106,((VLOOKUP($B106,$E$7:$AI$16,6+24)+1)*X106),)","v":4219.380690214286},39541.455472928566,0,0,697.57416393442611,0,null,{"$f":"IF(J106,((VLOOKUP($B106,$E$7:$AI$16,7+24)+1)*AE106),)","v":4219.380690214286}]
[80,4,"LDNO LV: LV Generation Intermittent",0,0,0,0,null,null,0,0,0,0,0,0,null,0,0,0,0,0,0,null,0,0,0,0,0,0,null,0,0,0,0,0,0,null,0]
[81,4,"LDNO HV: LV Generation Intermittent",72.668966078571486,null,null,4.4201475409836073,null,null,40.596061285714278,72.668966078571486,0,0,4.4201475409836073,0,null,40.596061285714278,72.668966078571486,0,0,4.4201475409836073,0,null,40.596061285714278,72.668966078571486,0,0,4.4201475409836073,0,null,40.596061285714278,72.668966078571486,0,0,4.4201475409836073,0,null,40.596061285714278]
[82,null,"> LV Generation Intermittent no RP charge",0,0,0,0,null,null,0,0,0,0,0,0,null,null,0,0,0,0,0,null,null,0,0,0,0,0,null,null,0,0,0,0,0]
[83,4,"LV Generation Intermittent no RP charge",0,0,0,0,null,null,0,0,0,0,0,0,null,null,0,0,0,0,0,null,null,0,0,0,0,0,null,null,0,0,0,0,0]
[84,null,"> LV Generation Non-Intermittent",0,0,0,0,null,null,0,0,0,0,0,0,null,null,0,0,0,0,0,null,null,0,0,0,0,0,null,null,0,0,0,0,0]
[85,4,"LV Generation Non-Intermittent",1593.5852929943649,6242.3922614252333,9539.9119603497784,105.72703893442623,null,null,667.62919715625003,1593.5852929943649,6242.3922614252333,9539.9119603497784,105.72703893442623,0,null,{"$f":"IF(J112,((VLOOKUP($B112,$E$7:$AI$16,28)+1)*J112),)","v":667.62919715625003},1593.5852929943649,6242.3922614252333,9539.9119603497784,105.72703893442623,0,null,{"$f":"IF(J112,((VLOOKUP($B112,$E$7:$AI$16,5+24)+1)*Q112),)","v":667.62919715625003},1593.5852929943649,6242.3922614252333,9539.9119603497784,105.72703893442623,0,null,{"$f":"IF(J112,((VLOOKUP($B112,$E$7:$AI$16,6+24)+1)*X112),)","v":667.62919715625003},1593.5852929943649,6242.3922614252333,9539.9119603497784,105.72703893442623,0,null,{"$f":"IF(J112,((VLOOKUP($B112,$E$7:$AI$16,7+24)+1)*AE112),)","v":667.62919715625003}]
[86,4,"LDNO LV: LV Generation Non-Intermittent",0,0,0,0,null,null,0,0,0,0,0,0,null,0,0,0,0,0,0,null,0,0,0,0,0,0,null,0,0,0,0,0,0,null,0]
[87,4,"LDNO HV: LV Generation Non-Intermittent",0,0,0,0,null,null,0,0,0,0,0,0,null,0,0,0,0,0,0,null,0,0,0,0,0,0,null,0,0,0,0,0,0,null,{"$f":"IF(J114,((VLOOKUP($B114,$E$7:$AI$16,7+24)+1)*AE114),)","v":0}]
[88,null,"> LV Generation Non-Intermittent no RP charge",0,0,0,0,null,null,0,0,0,0,0,0,null,null,0,0,0,0,0,null,null,0,0,0,0,0,null,null,0,0,0,0,0]
[89,4,"LV Generation Non-Intermittent no RP charge",0,0,0,0,null,null,0,0,0,0,0,0,null,null,0,0,0,0,0,null,null,0,0,0,0,0,null,null,0,0,0,0,0]
[90,null,"> LV Sub Generation Intermittent",0,0,0,0,null,null,0,0,0,0,0,0,null,null,0,0,0,0,0,null,null,0,0,0,0,0,null,null,0,0,0,0,0]
[91,4,"LV Sub Generation Intermittent",3841.6564052142853,0,0,31.306393442622948,null,null,365.0749339285714,3841.6564052142853,0,0,31.306393442622948,0,null,{"$f":"IF(J118,((VLOOKUP($B118,$E$7:$AI$16,28)+1)*J118),)","v":365.0749339285714},3841.6564052142853,0,0,31.306393442622948,0,null,{"$f":"IF(J118,((VLOOKUP($B118,$E$7:$AI$16,5+24)+1)*Q118),)","v":365.0749339285714},3841.6564052142853,0,0,31.306393442622948,0,null,{"$f":"IF(J118,((VLOOKUP($B118,$E$7:$AI$16,6+24)+1)*X118),)","v":365.0749339285714},3841.6564052142853,0,0,31.306393442622948,0,null,{"$f":"IF(J118,((VLOOKUP($B118,$E$7:$AI$16,7+24)+1)*AE118),)","v":365.0749339285714}]
[92,4,"LDNO HV: LV Sub Generation Intermittent",0,0,0,0,null,null,0,0,0,0,0,0,null,0,0,0,0,0,0,null,0,0,0,0,0,0,null,0,0,0,0,0,0,null,0]
[93,null,"> LV Sub Generation Intermittent no RP charge",0,0,0,0,null,null,0,0,0,0,0,0,null,null,0,0,0,0,0,null,null,0,0,0,0,0,null,null,0,0,0,0,0]
[94,4,"LV Sub Generation Intermittent no RP charge",0,0,0,0,null,null,0,0,0,0,0,0,null,null,0,0,0,0,0,null,null,0,0,0,0,0,null,null,0,0,0,0,0]
[95,null,"> LV Sub Generation Non-Intermittent",0,0,0,0,null,null,0,0,0,0,0,0,null,null,0,0,0,0,0,null,null,0,0,0,0,0,null,null,0,0,0,0,0]
[96,4,"LV Sub Generation Non-Intermittent",504.40105263481149,1662.050757533578,3695.4007858319828,6.1367981557377052,null,null,368.17388015624999,504.40105263481149,1662.050757533578,3695.4007858319828,6.1367981557377052,0,null,{"$f":"IF(J123,((VLOOKUP($B123,$E$7:$AI$16,28)+1)*J123),)","v":368.17388015624999},504.40105263481149,1662.050757533578,3695.4007858319828,6.1367981557377052,0,null,{"$f":"IF(J123,((VLOOKUP($B123,$E$7:$AI$16,5+24)+1)*Q123),)","v":368.17388015624999},504.40105263481149,1662.050757533578,3695.4007858319828,6.1367981557377052,0,null,{"$f":"IF(J123,((VLOOKUP($B123,$E$7:$AI$16,6+24)+1)*X123),)","v":368.17388015624999},504.40105263481149,1662.050757533578,3695.4007858319828,6.1367981557377052,0,null,{"$f":"IF(J123,((VLOOKUP($B123,$E$7:$AI$16,7+24)+1)*AE123),)","v":368.17388015624999}]
[97,4,"LDNO HV: LV Sub Generation Non-Intermittent",0,0,0,0,null,null,0,0,0,0,0,0,null,0,0,0,0,0,0,null,0,0,0,0,0,0,null,0,0,0,0,0,0,null,0]
[98,null,"> LV Sub Generation Non-Intermittent no RP charge",0,0,0,0,null,null,0,0,0,0,0,0,null,null,0,0,0,0,0,null,null,0,0,0,0,0,null,null,0,0,0,0,0]
[99,4,"LV Sub Generation Non-Intermittent no RP charge",0,0,0,0,null,null,0,0,0,0,0,0,null,null,0,0,0,0,0,null,null,0,0,0,0,0,null,null,0,0,0,0,0]
[100,null,"> HV Generation Intermittent",0,0,0,0,null,null,0,0,0,0,0,0,null,null,0,0,0,0,0,null,null,0,0,0,0,0,null,null,0,0,0,0,0]
[101,4,"HV Generation Intermittent",479000.82970478572,0,0,248.15567213114755,null,null,10496.618597785713,479000.82970478572,0,0,248.15567213114755,0,null,{"$f":"IF(J128,((VLOOKUP($B128,$E$7:$AI$16,28)+1)*J128),)","v":10496.618597785713},479000.82970478572,0,0,248.15567213114755,0,null,{"$f":"IF(J128,((VLOOKUP($B128,$E$7:$AI$16,5+24)+1)*Q128),)","v":10496.618597785713},479000.82970478572,0,0,248.15567213114755,0,null,{"$f":"IF(J128,((VLOOKUP($B128,$E$7:$AI$16,6+24)+1)*X128),)","v":10496.618597785713},479000.82970478572,0,0,248.15567213114755,0,null,{"$f":"IF(J128,((VLOOKUP($B128,$E$7:$AI$16,7+24)+1)*AE128),)","v":10496.618597785713}]
[102,4,"LDNO HV: HV Generation Intermittent",18.630690000000001,null,null,0.6228852459016393,null,null,9.1079999999999994E-2,18.630690000000001,0,0,0.6228852459016393,0,null,9.1079999999999994E-2,18.630690000000001,0,0,0.6228852459016393,0,null,9.1079999999999994E-2,18.630690000000001,0,0,0.6228852459016393,0,null,9.1079999999999994E-2,18.630690000000001,0,0,0.6228852459016393,0,null,9.1079999999999994E-2]
[103,null,"> HV Generation Intermittent no RP charge",0,0,0,0,null,null,0,0,0,0,0,0,null,null,0,0,0,0,0,null,null,0,0,0,0,0,null,null,0,0,0,0,0]
[104,4,"HV Generation Intermittent no RP charge",0,0,0,0,null,null,0,0,0,0,0,0,null,null,0,0,0,0,0,null,null,0,0,0,0,0,null,null,0,0,0,0,0]
[105,null,"> HV Generation Non-Intermittent",0,0,0,0,null,null,0,0,0,0,0,0,null,null,0,0,0,0,0,null,null,0,0,0,0,0,null,null,0,0,0,0,0]
[106,4,"HV Generation Non-Intermittent",87733.660045539131,276082.28215805581,487742.29536974273,231.28838422131147,null,null,15003.980395031253,87733.660045539131,276082.28215805581,487742.29536974273,231.28838422131147,0,null,{"$f":"IF(J133,((VLOOKUP($B133,$E$7:$AI$16,28)+1)*J133),)","v":15003.980395031253},87733.660045539131,276082.28215805581,487742.29536974273,231.28838422131147,0,null,{"$f":"IF(J133,((VLOOKUP($B133,$E$7:$AI$16,5+24)+1)*Q133),)","v":15003.980395031253},87733.660045539131,276082.28215805581,487742.29536974273,231.28838422131147,0,null,{"$f":"IF(J133,((VLOOKUP($B133,$E$7:$AI$16,6+24)+1)*X133),)","v":15003.980395031253},87733.660045539131,276082.28215805581,487742.29536974273,231.28838422131147,0,null,{"$f":"IF(J133,((VLOOKUP($B133,$E$7:$AI$16,7+24)+1)*AE133),)","v":15003.980395031253}]
[107,4,"LDNO HV: HV Generation Non-Intermittent",0,0,0,0,null,null,0,0,0,0,0,0,null,0,0,0,0,0,0,null,0,0,0,0,0,0,null,0,0,0,0,0,0,null,0]
[108,null,"> HV Generation Non-Intermittent no RP charge",0,0,0,0,null,null,0,0,0,0,0,0,null,null,0,0,0,0,0,null,null,0,0,0,0,0,null,null,0,0,0,0,0]
[109,4,"HV Generation Non-Intermittent no RP charge",0,0,0,0,null,null,0,0,0,0,0,0,null,null,0,0,0,0,0,null,null,0,0,0,0,0,null,null,0,0,0,0,0]

{"sheet":"CDCM Timebands","index":7,"n_rows":22,"n_cols":9,"rows_kept":22,"cut":false,"hidden":false,"merged":[[15,5,21,5],[15,6,21,6],[15,7,21,7],[15,8,21,8],[3,2,3,3],[5,4,11,4],[5,5,11,5],[5,6,11,6],[5,7,11,7],[13,2,13,4]]}
[]
[null,"CDCM Timebands"]
[]
[null,null,"2019/20"]
[null,null,"WD \n(incl. bank holidays)","WE","2020/21","2021/22","2022/23","2023/24"]
[null,"Red","16:00 to 19:00",null,"No Change","No Change","No Change","No Change"]
[]
[null,"Amber ","07:30 to 16:00",0]
[null,null,"19:00 to 21:00"]
[]
[null,"Green","00:00 to 07:30","00:00 to 24:00"]
[null,null,"21:00 to 24:00",0]
[]
[null,null,"2019/20"]
[null,null,"WD \n(incl. bank holidays) Nov to Feb","WD \n(incl. bank holidays) Mar to Oct","WE","2020/21","2021/22","2022/23","2023/24"]
[null,"Black","16:00 to 19:00",null,null,"No Change","No Change","No Change","No Change"]
[]
[null,"Yellow","07:30 to 16:00","07:30 to 21:00",0]
[null,null,"19:00 to 21:00"]
[]
[null,"Green","00:00 to 07:30","00:00 to 07:30","00:00 to 24:00"]
[null,null,"21:00 to 24:00","21:00 to 24:00",0]

{"sheet":"(Y)","index":8,"n_rows":350,"n_cols":11,"rows_kept":350,"cut":false,"hidden":false,"merged":[]}
["Input data (Y)"]
[]
[]
["1000. Company, charging year, data version"]
[""]
[null,"Company","Year","Version"]
["Company, charging year, data version",{"$f":"VLOOKUP(Vlookup!B7,'CDCM Forecast Data'!$A$14:$I$271,5,FALSE)","v":"WPD East Midlands"},{"$f":"VLOOKUP(Vlookup!C7,'CDCM Forecast Data'!$A$14:$I$271,5,FALSE)","v":"2019/20"},{"$f":"VLOOKUP(Vlookup!D7,'CDCM Forecast Data'!$A$14:$I$271,5,FALSE)","v":"Finals"},""]
[]
["1010. Financial and general assumptions"]
[]
["Sources: financial assumptions; calendar; network model."]
["These financial assumptions determine the annuity rate applied to convert the asset values of the network model into an annual charge."]
[null,"Rate of return","Annualisation period (years)","Annuity proportion for customer-contributed assets","Power factor","Days in the charging period"]
["Financial and general assumptions",{"$f":"VLOOKUP(Vlookup!B14,'CDCM Forecast Data'!$A$14:$I$271,5,FALSE)","v":4.0800000000000003E-2},{"$f":"VLOOKUP(Vlookup!C14,'CDCM Forecast Data'!$A$14:$I$271,5,FALSE)","v":40},null,{"$f":"VLOOKUP(Vlookup!E14,'CDCM Forecast Data'!$A$14:$I$271,5,FALSE)","v":0.95},{"$f":"VLOOKUP(Vlookup!F14,'CDCM Forecast Data'!$A$14:$I$271,5,FALSE)","v":366},""]
[]
["1017. Diversity allowance between top and bottom of network level"]
[]
["Source: operational data analysis and/or network model."]
["The diversity figure against GSP is the diversity between GSP Group (the whole system) and individual GSPs."]
["The diversity figure against 132kV is the diversity between GSPs (the top of the 132kV network) and 132kV/EHV bulk supply points (the bottom of the 132kV network). "]
["The diversity figure against EHV is the diversity between 132kV/EHV bulk supply points (the top of the EHV network) and EHV/HV primary substations (the bottom of the EHV network). "]
["The diversity figure against HV is the diversity between EHV/HV primary substations (the top of the HV network) and HV/LV substations (the bottom of the HV network). "]
[null,"Diversity allowance between top and bottom of network level"]
["GSPs",{"$f":"VLOOKUP(Vlookup!B24,'CDCM Forecast Data'!$A$14:$I$271,5,FALSE)","v":2.4713742436156094E-2},""]
["132kV",{"$f":"VLOOKUP(Vlookup!B25,'CDCM Forecast Data'!$A$14:$I$271,5,FALSE)","v":4.5013478235986115E-2},""]
["132kV/EHV",null,""]
["EHV",{"$f":"VLOOKUP(Vlookup!B27,'CDCM Forecast Data'!$A$14:$I$271,5,FALSE)","v":7.9017642685410783E-2},""]
["EHV/HV",null,""]
["HV",{"$f":"VLOOKUP(Vlookup!B29,'CDCM Forecast Data'!$A$14:$I$271,5,FALSE)","v":0.34000000000000008},""]
["HV/LV",null,""]
["LV circuits",null,""]
[]
["1018. Proportion of relevant load going through 132kV/HV direct transformation"]
[""]
[null,"132kV/HV"]
["EHV/HV",{"$f":"VLOOKUP(Vlookup!B36,'CDCM Forecast Data'!$A$14:$I$271,5,FALSE)","v":7.5044342711319545E-2},""]
[]
["1019. Network model GSP peak demand (MW)"]
[]
[null,"Network model GSP peak demand (MW)"]
["Network model GSP peak demand (MW)",{"$f":"VLOOKUP(Vlookup!B41,'CDCM Forecast Data'!$A$14:$I$271,5,FALSE)","v":500},""]
[]
["1020. Gross asset cost by network level (£)"]
[]
[null,"Gross assets £"]
["132kV",{"$f":"VLOOKUP(Vlookup!B46,'CDCM Forecast Data'!$A$14:$I$271,5,FALSE)","v":56518353.976547159},""]
["132kV/EHV",{"$f":"VLOOKUP(Vlookup!B47,'CDCM Forecast Data'!$A$14:$I$271,5,FALSE)","v":28721335.706148807},""]
["EHV",{"$f":"VLOOKUP(Vlookup!B48,'CDCM Forecast Data'!$A$14:$I$271,5,FALSE)","v":35107370.343575805},""]
["EHV/HV",{"$f":"VLOOKUP(Vlookup!B49,'CDCM Forecast Data'!$A$14:$I$271,5,FALSE)","v":56993035.863793761},""]
["132kV/HV",{"$f":"VLOOKUP(Vlookup!B50,'CDCM Forecast Data'!$A$14:$I$271,5,FALSE)","v":4780051.2943497607},""]
["HV",{"$f":"VLOOKUP(Vlookup!B51,'CDCM Forecast Data'!$A$14:$I$271,5,FALSE)","v":135229188.20012498},""]
["HV/LV",{"$f":"VLOOKUP(Vlookup!B52,'CDCM Forecast Data'!$A$14:$I$271,5,FALSE)","v":61125988.257662326},""]
["LV circuits",{"$f":"VLOOKUP(Vlookup!B53,'CDCM Forecast Data'!$A$14:$I$271,5,FALSE)","v":118958510.67028594},""]
[]
["1022. LV service model asset cost (£)"]
[]
[null,"LV service model 1","LV service model 2","LV service model 3","LV service model 4","LV service model 5","LV service model 6","LV service model 7","LV service model 8"]
["LV service model asset cost (£)",{"$f":"VLOOKUP(Vlookup!B58,'CDCM Forecast Data'!$A$14:$I$271,5,FALSE)","v":4357.328300000001},{"$f":"VLOOKUP(Vlookup!C58,'CDCM Forecast Data'!$A$14:$I$271,5,FALSE)","v":664.33208833333356},{"$f":"VLOOKUP(Vlookup!D58,'CDCM Forecast Data'!$A$14:$I$271,5,FALSE)","v":768.35503333333349},{"$f":"VLOOKUP(Vlookup!E58,'CDCM Forecast Data'!$A$14:$I$271,5,FALSE)","v":557.61393999999996},{"$f":"VLOOKUP(Vlookup!F58,'CDCM Forecast Data'!$A$14:$I$271,5,FALSE)","v":1230.2180106666669},{"$f":"VLOOKUP(Vlookup!G58,'CDCM Forecast Data'!$A$14:$I$271,5,FALSE)","v":960.35940000000016},{"$f":"VLOOKUP(Vlookup!H58,'CDCM Forecast Data'!$A$14:$I$271,5,FALSE)","v":0},{"$f":"VLOOKUP(Vlookup!I58,'CDCM Forecast Data'!$A$14:$I$271,5,FALSE)","v":525.61261999999999},""]
[]
["1023. HV service model asset cost (£)"]
[]
[null,"HV service model 1","HV service model 2","HV service model 3","HV service model 4","HV service model 5"]
["HV service model asset cost (£)",{"$f":"VLOOKUP(Vlookup!B63,'CDCM Forecast Data'!$A$14:$I$271,5,FALSE)","v":10371.625680000001},{"$f":"VLOOKUP(Vlookup!C63,'CDCM Forecast Data'!$A$14:$I$271,5,FALSE)","v":4264},{"$f":"VLOOKUP(Vlookup!D63,'CDCM Forecast Data'!$A$14:$I$271,5,FALSE)","v":0},{"$f":"VLOOKUP(Vlookup!E63,'CDCM Forecast Data'!$A$14:$I$271,5,FALSE)","v":0},{"$f":"VLOOKUP(Vlookup!F63,'CDCM Forecast Data'!$A$14:$I$271,5,FALSE)","v":0},""]
[]
["1025. Matrix of applicability of LV service models to tariffs with fixed charges"]
[null,2,{"$f":"B66+1","v":3},4,5,6,7,8,9]
[null,"LV service model 1","LV service model 2","LV service model 3","LV service model 4","LV service model 5","LV service model 6","LV service model 7","LV service model 8"]
["Domestic Unrestricted",{"$f":"VLOOKUP($A68,'Mat of App'!$B$7:$AP$43,B$66,FALSE)","v":0.05},{"$f":"VLOOKUP($A68,'Mat of App'!$B$7:$AP$43,C$66,FALSE)","v":0},{"$f":"VLOOKUP($A68,'Mat of App'!$B$7:$AP$43,D$66,FALSE)","v":0},{"$f":"VLOOKUP($A68,'Mat of App'!$B$7:$AP$43,E$66,FALSE)","v":0},{"$f":"VLOOKUP($A68,'Mat of App'!$B$7:$AP$43,F$66,FALSE)","v":0},{"$f":"VLOOKUP($A68,'Mat of App'!$B$7:$AP$43,G$66,FALSE)","v":0},{"$f":"VLOOKUP($A68,'Mat of App'!$B$7:$AP$43,H$66,FALSE)","v":0},{"$f":"VLOOKUP($A68,'Mat of App'!$B$7:$AP$43,I$66,FALSE)","v":0},""]
["Domestic Two Rate",{"$f":"VLOOKUP($A69,'Mat of App'!$B$7:$AP$43,B$66,FALSE)","v":0.05},{"$f":"VLOOKUP($A69,'Mat of App'!$B$7:$AP$43,C$66,FALSE)","v":0},{"$f":"VLOOKUP($A69,'Mat of App'!$B$7:$AP$43,D$66,FALSE)","v":0},{"$f":"VLOOKUP($A69,'Mat of App'!$B$7:$AP$43,E$66,FALSE)","v":0},{"$f":"VLOOKUP($A69,'Mat of App'!$B$7:$AP$43,F$66,FALSE)","v":0},{"$f":"VLOOKUP($A69,'Mat of App'!$B$7:$AP$43,G$66,FALSE)","v":0},{"$f":"VLOOKUP($A69,'Mat of App'!$B$7:$AP$43,H$66,FALSE)","v":0},{"$f":"VLOOKUP($A69,'Mat of App'!$B$7:$AP$43,I$66,FALSE)","v":0},""]
["Small Non Domestic Unrestricted",{"$f":"VLOOKUP($A70,'Mat of App'!$B$7:$AP$43,B$66,FALSE)","v":0},{"$f":"VLOOKUP($A70,'Mat of App'!$B$7:$AP$43,C$66,FALSE)","v":1},{"$f":"VLOOKUP($A70,'Mat of App'!$B$7:$AP$43,D$66,FALSE)","v":0},{"$f":"VLOOKUP($A70,'Mat of App'!$B$7:$AP$43,E$66,FALSE)","v":0},{"$f":"VLOOKUP($A70,'Mat of App'!$B$7:$AP$43,F$66,FALSE)","v":0},{"$f":"VLOOKUP($A70,'Mat of App'!$B$7:$AP$43,G$66,FALSE)","v":0},{"$f":"VLOOKUP($A70,'Mat of App'!$B$7:$AP$43,H$66,FALSE)","v":0},{"$f":"VLOOKUP($A70,'Mat of App'!$B$7:$AP$43,I$66,FALSE)","v":0},""]
["Small Non Domestic Two Rate",{"$f":"VLOOKUP($A71,'Mat of App'!$B$7:$AP$43,B$66,FALSE)","v":0},{"$f":"VLOOKUP($A71,'Mat of App'!$B$7:$AP$43,C$66,FALSE)","v":1},{"$f":"VLOOKUP($A71,'Mat of App'!$B$7:$AP$43,D$66,FALSE)","v":0},{"$f":"VLOOKUP($A71,'Mat of App'!$B$7:$AP$43,E$66,FALSE)","v":0},{"$f":"VLOOKUP($A71,'Mat of App'!$B$7:$AP$43,F$66,FALSE)","v":0},{"$f":"VLOOKUP($A71,'Mat of App'!$B$7:$AP$43,G$66,FALSE)","v":0},{"$f":"VLOOKUP($A71,'Mat of App'!$B$7:$AP$43,H$66,FALSE)","v":0},{"$f":"VLOOKUP($A71,'Mat of App'!$B$7:$AP$43,I$66,FALSE)","v":0},""]
["LV Medium Non-Domestic",{"$f":"VLOOKUP($A72,'Mat of App'!$B$7:$AP$43,B$66,FALSE)","v":0},{"$f":"VLOOKUP($A72,'Mat of App'!$B$7:$AP$43,C$66,FALSE)","v":0},{"$f":"VLOOKUP($A72,'Mat of App'!$B$7:$AP$43,D$66,FALSE)","v":1},{"$f":"VLOOKUP($A72,'Mat of App'!$B$7:$AP$43,E$66,FALSE)","v":0},{"$f":"VLOOKUP($A72,'Mat of App'!$B$7:$AP$43,F$66,FALSE)","v":0},{"$f":"VLOOKUP($A72,'Mat of App'!$B$7:$AP$43,G$66,FALSE)","v":0},{"$f":"VLOOKUP($A72,'Mat of App'!$B$7:$AP$43,H$66,FALSE)","v":0},{"$f":"VLOOKUP($A72,'Mat of App'!$B$7:$AP$43,I$66,FALSE)","v":0}]
["LV Sub Medium Non-Domestic",{"$f":"VLOOKUP($A73,'Mat of App'!$B$7:$AP$43,B$66,FALSE)","v":0},{"$f":"VLOOKUP($A73,'Mat of App'!$B$7:$AP$43,C$66,FALSE)","v":0},{"$f":"VLOOKUP($A73,'Mat of App'!$B$7:$AP$43,D$66,FALSE)","v":0},{"$f":"VLOOKUP($A73,'Mat of App'!$B$7:$AP$43,E$66,FALSE)","v":1},{"$f":"VLOOKUP($A73,'Mat of App'!$B$7:$AP$43,F$66,FALSE)","v":0},{"$f":"VLOOKUP($A73,'Mat of App'!$B$7:$AP$43,G$66,FALSE)","v":0},{"$f":"VLOOKUP($A73,'Mat of App'!$B$7:$AP$43,H$66,FALSE)","v":0},{"$f":"VLOOKUP($A73,'Mat of App'!$B$7:$AP$43,I$66,FALSE)","v":0}]
["LV Network Domestic",{"$f":"VLOOKUP($A74,'Mat of App'!$B$7:$AP$43,B$66,FALSE)","v":0.05},{"$f":"VLOOKUP($A74,'Mat of App'!$B$7:$AP$43,C$66,FALSE)","v":0},{"$f":"VLOOKUP($A74,'Mat of App'!$B$7:$AP$43,D$66,FALSE)","v":0},{"$f":"VLOOKUP($A74,'Mat of App'!$B$7:$AP$43,E$66,FALSE)","v":0},{"$f":"VLOOKUP($A74,'Mat of App'!$B$7:$AP$43,F$66,FALSE)","v":0},{"$f":"VLOOKUP($A74,'Mat of App'!$B$7:$AP$43,G$66,FALSE)","v":0},{"$f":"VLOOKUP($A74,'Mat of App'!$B$7:$AP$43,H$66,FALSE)","v":0},{"$f":"VLOOKUP($A74,'Mat of App'!$B$7:$AP$43,I$66,FALSE)","v":0},""]
["LV Network Non-Domestic Non-CT",{"$f":"VLOOKUP($A75,'Mat of App'!$B$7:$AP$43,B$66,FALSE)","v":0},{"$f":"VLOOKUP($A75,'Mat of App'!$B$7:$AP$43,C$66,FALSE)","v":1},{"$f":"VLOOKUP($A75,'Mat of App'!$B$7:$AP$43,D$66,FALSE)","v":0},{"$f":"VLOOKUP($A75,'Mat of App'!$B$7:$AP$43,E$66,FALSE)","v":0},{"$f":"VLOOKUP($A75,'Mat of App'!$B$7:$AP$43,F$66,FALSE)","v":0},{"$f":"VLOOKUP($A75,'Mat of App'!$B$7:$AP$43,G$66,FALSE)","v":0},{"$f":"VLOOKUP($A75,'Mat of App'!$B$7:$AP$43,H$66,FALSE)","v":0},{"$f":"VLOOKUP($A75,'Mat of App'!$B$7:$AP$43,I$66,FALSE)","v":0},""]
["LV HH Metered",{"$f":"VLOOKUP($A76,'Mat of App'!$B$7:$AP$43,B$66,FALSE)","v":0},{"$f":"VLOOKUP($A76,'Mat of App'!$B$7:$AP$43,C$66,FALSE)","v":0},{"$f":"VLOOKUP($A76,'Mat of App'!$B$7:$AP$43,D$66,FALSE)","v":0},{"$f":"VLOOKUP($A76,'Mat of App'!$B$7:$AP$43,E$66,FALSE)","v":0},{"$f":"VLOOKUP($A76,'Mat of App'!$B$7:$AP$43,F$66,FALSE)","v":1},{"$f":"VLOOKUP($A76,'Mat of App'!$B$7:$AP$43,G$66,FALSE)","v":0},{"$f":"VLOOKUP($A76,'Mat of App'!$B$7:$AP$43,H$66,FALSE)","v":0},{"$f":"VLOOKUP($A76,'Mat of App'!$B$7:$AP$43,I$66,FALSE)","v":0},""]
["LV Sub HH Metered",{"$f":"VLOOKUP($A77,'Mat of App'!$B$7:$AP$43,B$66,FALSE)","v":0},{"$f":"VLOOKUP($A77,'Mat of App'!$B$7:$AP$43,C$66,FALSE)","v":0},{"$f":"VLOOKUP($A77,'Mat of App'!$B$7:$AP$43,D$66,FALSE)","v":0},{"$f":"VLOOKUP($A77,'Mat of App'!$B$7:$AP$43,E$66,FALSE)","v":0},{"$f":"VLOOKUP($A77,'Mat of App'!$B$7:$AP$43,F$66,FALSE)","v":0},{"$f":"VLOOKUP($A77,'Mat of App'!$B$7:$AP$43,G$66,FALSE)","v":1},{"$f":"VLOOKUP($A77,'Mat of App'!$B$7:$AP$43,H$66,FALSE)","v":0},{"$f":"VLOOKUP($A77,'Mat of App'!$B$7:$AP$43,I$66,FALSE)","v":0},""]
["LV Generation NHH or Aggregate HH",{"$f":"VLOOKUP($A78,'Mat of App'!$B$7:$AP$43,B$66,FALSE)","v":0},{"$f":"VLOOKUP($A78,'Mat of App'!$B$7:$AP$43,C$66,FALSE)","v":0},{"$f":"VLOOKUP($A78,'Mat of App'!$B$7:$AP$43,D$66,FALSE)","v":0},{"$f":"VLOOKUP($A78,'Mat of App'!$B$7:$AP$43,E$66,FALSE)","v":0},{"$f":"VLOOKUP($A78,'Mat of App'!$B$7:$AP$43,F$66,FALSE)","v":0},{"$f":"VLOOKUP($A78,'Mat of App'!$B$7:$AP$43,G$66,FALSE)","v":0},{"$f":"VLOOKUP($A78,'Mat of App'!$B$7:$AP$43,H$66,FALSE)","v":1},{"$f":"VLOOKUP($A78,'Mat of App'!$B$7:$AP$43,I$66,FALSE)","v":0},""]
["LV Sub Generation NHH",{"$f":"VLOOKUP($A79,'Mat of App'!$B$7:$AP$43,B$66,FALSE)","v":0},{"$f":"VLOOKUP($A79,'Mat of App'!$B$7:$AP$43,C$66,FALSE)","v":0},{"$f":"VLOOKUP($A79,'Mat of App'!$B$7:$AP$43,D$66,FALSE)","v":0},{"$f":"VLOOKUP($A79,'Mat of App'!$B$7:$AP$43,E$66,FALSE)","v":0},{"$f":"VLOOKUP($A79,'Mat of App'!$B$7:$AP$43,F$66,FALSE)","v":0},{"$f":"VLOOKUP($A79,'Mat of App'!$B$7:$AP$43,G$66,FALSE)","v":0},{"$f":"VLOOKUP($A79,'Mat of App'!$B$7:$AP$43,H$66,FALSE)","v":1},{"$f":"VLOOKUP($A79,'Mat of App'!$B$7:$AP$43,I$66,FALSE)","v":0},""]
["LV Generation Intermittent",{"$f":"VLOOKUP($A80,'Mat of App'!$B$7:$AP$43,B$66,FALSE)","v":0},{"$f":"VLOOKUP($A80,'Mat of App'!$B$7:$AP$43,C$66,FALSE)","v":0},{"$f":"VLOOKUP($A80,'Mat of App'!$B$7:$AP$43,D$66,FALSE)","v":0},{"$f":"VLOOKUP($A80,'Mat of App'!$B$7:$AP$43,E$66,FALSE)","v":0},{"$f":"VLOOKUP($A80,'Mat of App'!$B$7:$AP$43,F$66,FALSE)","v":0},{"$f":"VLOOKUP($A80,'Mat of App'!$B$7:$AP$43,G$66,FALSE)","v":0},{"$f":"VLOOKUP($A80,'Mat of App'!$B$7:$AP$43,H$66,FALSE)","v":1},{"$f":"VLOOKUP($A80,'Mat of App'!$B$7:$AP$43,I$66,FALSE)","v":0},""]
["LV Generation Intermittent no RP charge",{"$f":"VLOOKUP($A81,'Mat of App'!$B$7:$AP$43,B$66,FALSE)","v":0},{"$f":"VLOOKUP($A81,'Mat of App'!$B$7:$AP$43,C$66,FALSE)","v":0},{"$f":"VLOOKUP($A81,'Mat of App'!$B$7:$AP$43,D$66,FALSE)","v":0},{"$f":"VLOOKUP($A81,'Mat of App'!$B$7:$AP$43,E$66,FALSE)","v":0},{"$f":"VLOOKUP($A81,'Mat of App'!$B$7:$AP$43,F$66,FALSE)","v":0},{"$f":"VLOOKUP($A81,'Mat of App'!$B$7:$AP$43,G$66,FALSE)","v":0},{"$f":"VLOOKUP($A81,'Mat of App'!$B$7:$AP$43,H$66,FALSE)","v":1},{"$f":"VLOOKUP($A81,'Mat of App'!$B$7:$AP$43,I$66,FALSE)","v":0},""]
["LV Generation Non-Intermittent",{"$f":"VLOOKUP($A82,'Mat of App'!$B$7:$AP$43,B$66,FALSE)","v":0},{"$f":"VLOOKUP($A82,'Mat of App'!$B$7:$AP$43,C$66,FALSE)","v":0},{"$f":"VLOOKUP($A82,'Mat of App'!$B$7:$AP$43,D$66,FALSE)","v":0},{"$f":"VLOOKUP($A82,'Mat of App'!$B$7:$AP$43,E$66,FALSE)","v":0},{"$f":"VLOOKUP($A82,'Mat of App'!$B$7:$AP$43,F$66,FALSE)","v":0},{"$f":"VLOOKUP($A82,'Mat of App'!$B$7:$AP$43,G$66,FALSE)","v":0},{"$f":"VLOOKUP($A82,'Mat of App'!$B$7:$AP$43,H$66,FALSE)","v":0},{"$f":"VLOOKUP($A82,'Mat of App'!$B$7:$AP$43,I$66,FALSE)","v":0},""]
["LV Generation Non-Intermittent no RP charge",{"$f":"VLOOKUP($A83,'Mat of App'!$B$7:$AP$43,B$66,FALSE)","v":0},{"$f":"VLOOKUP($A83,'Mat of App'!$B$7:$AP$43,C$66,FALSE)","v":0},{"$f":"VLOOKUP($A83,'Mat of App'!$B$7:$AP$43,D$66,FALSE)","v":0},{"$f":"VLOOKUP($A83,'Mat of App'!$B$7:$AP$43,E$66,FALSE)","v":0},{"$f":"VLOOKUP($A83,'Mat of App'!$B$7:$AP$43,F$66,FALSE)","v":0},{"$f":"VLOOKUP($A83,'Mat of App'!$B$7:$AP$43,G$66,FALSE)","v":0},{"$f":"VLOOKUP($A83,'Mat of App'!$B$7:$AP$43,H$66,FALSE)","v":0},{"$f":"VLOOKUP($A83,'Mat of App'!$B$7:$AP$43,I$66,FALSE)","v":0}]
["LV Sub Generation Intermittent",{"$f":"VLOOKUP($A84,'Mat of App'!$B$7:$AP$43,B$66,FALSE)","v":0},{"$f":"VLOOKUP($A84,'Mat of App'!$B$7:$AP$43,C$66,FALSE)","v":0},{"$f":"VLOOKUP($A84,'Mat of App'!$B$7:$AP$43,D$66,FALSE)","v":0},{"$f":"VLOOKUP($A84,'Mat of App'!$B$7:$AP$43,E$66,FALSE)","v":0},{"$f":"VLOOKUP($A84,'Mat of App'!$B$7:$AP$43,F$66,FALSE)","v":0},{"$f":"VLOOKUP($A84,'Mat of App'!$B$7:$AP$43,G$66,FALSE)","v":0},{"$f":"VLOOKUP($A84,'Mat of App'!$B$7:$AP$43,H$66,FALSE)","v":0},{"$f":"VLOOKUP($A84,'Mat of App'!$B$7:$AP$43,I$66,FALSE)","v":0}]
["LV Sub Generation Intermittent no RP charge",{"$f":"VLOOKUP($A85,'Mat of App'!$B$7:$AP$43,B$66,FALSE)","v":0},{"$f":"VLOOKUP($A85,'Mat of App'!$B$7:$AP$43,C$66,FALSE)","v":0},{"$f":"VLOOKUP($A85,'Mat of App'!$B$7:$AP$43,D$66,FALSE)","v":0},{"$f":"VLOOKUP($A85,'Mat of App'!$B$7:$AP$43,E$66,FALSE)","v":0},{"$f":"VLOOKUP($A85,'Mat of App'!$B$7:$AP$43,F$66,FALSE)","v":0},{"$f":"VLOOKUP($A85,'Mat of App'!$B$7:$AP$43,G$66,FALSE)","v":0},{"$f":"VLOOKUP($A85,'Mat of App'!$B$7:$AP$43,H$66,FALSE)","v":0},{"$f":"VLOOKUP($A85,'Mat of App'!$B$7:$AP$43,I$66,FALSE)","v":0}]
["LV Sub Generation Non-Intermittent",{"$f":"VLOOKUP($A86,'Mat of App'!$B$7:$AP$43,B$66,FALSE)","v":0},{"$f":"VLOOKUP($A86,'Mat of App'!$B$7:$AP$43,C$66,FALSE)","v":0},{"$f":"VLOOKUP($A86,'Mat of App'!$B$7:$AP$43,D$66,FALSE)","v":0},{"$f":"VLOOKUP($A86,'Mat of App'!$B$7:$AP$43,E$66,FALSE)","v":0},{"$f":"VLOOKUP($A86,'Mat of App'!$B$7:$AP$43,F$66,FALSE)","v":0},{"$f":"VLOOKUP($A86,'Mat of App'!$B$7:$AP$43,G$66,FALSE)","v":0},{"$f":"VLOOKUP($A86,'Mat of App'!$B$7:$AP$43,H$66,FALSE)","v":0},{"$f":"VLOOKUP($A86,'Mat of App'!$B$7:$AP$43,I$66,FALSE)","v":0}]
["LV Sub Generation Non-Intermittent no RP charge",{"$f":"VLOOKUP($A87,'Mat of App'!$B$7:$AP$43,B$66,FALSE)","v":0},{"$f":"VLOOKUP($A87,'Mat of App'!$B$7:$AP$43,C$66,FALSE)","v":0},{"$f":"VLOOKUP($A87,'Mat of App'!$B$7:$AP$43,D$66,FALSE)","v":0},{"$f":"VLOOKUP($A87,'Mat of App'!$B$7:$AP$43,E$66,FALSE)","v":0},{"$f":"VLOOKUP($A87,'Mat of App'!$B$7:$AP$43,F$66,FALSE)","v":0},{"$f":"VLOOKUP($A87,'Mat of App'!$B$7:$AP$43,G$66,FALSE)","v":0},{"$f":"VLOOKUP($A87,'Mat of App'!$B$7:$AP$43,H$66,FALSE)","v":0},{"$f":"VLOOKUP($A87,'Mat of App'!$B$7:$AP$43,I$66,FALSE)","v":0},""]
[]
["1026. Matrix of applicability of LV service models to unmetered tariffs"]
[]
["Source: service models"]
["Proportion of service model involved in connecting load of 1 MWh/year"]
[null,"LV service model 1","LV service model 2","LV service model 3","LV service model 4","LV service model 5","LV service model 6","LV service model 7","LV service model 8"]
["All LV unmetered tariffs",{"$f":"VLOOKUP($A94,'Mat of App'!$B$7:$AP$43,B$66,FALSE)","v":0},{"$f":"VLOOKUP($A94,'Mat of App'!$B$7:$AP$43,C$66,FALSE)","v":0},{"$f":"VLOOKUP($A94,'Mat of App'!$B$7:$AP$43,D$66,FALSE)","v":0},{"$f":"VLOOKUP($A94,'Mat of App'!$B$7:$AP$43,E$66,FALSE)","v":0},{"$f":"VLOOKUP($A94,'Mat of App'!$B$7:$AP$43,F$66,FALSE)","v":0},{"$f":"VLOOKUP($A94,'Mat of App'!$B$7:$AP$43,G$66,FALSE)","v":0},{"$f":"VLOOKUP($A94,'Mat of App'!$B$7:$AP$43,H$66,FALSE)","v":0},{"$f":"VLOOKUP($A94,'Mat of App'!$B$7:$AP$43,I$66,FALSE)","v":0.48799999999999999},""]
[]
["1028. Matrix of applicability of HV service models to tariffs with fixed charges"]
[null,2,{"$f":"B97+1","v":3},{"$f":"C97+1","v":4},{"$f":"D97+1","v":5},{"$f":"E97+1","v":6}]
[null,"HV service model 1","HV service model 2","HV service model 3","HV service model 4","HV service model 5"]
["HV Medium Non-Domestic",{"$f":"VLOOKUP($A99,'Mat of App'!$B$7:$AP$43,B$97,FALSE)","v":1},{"$f":"VLOOKUP($A99,'Mat of App'!$B$7:$AP$43,C$97,FALSE)","v":0},{"$f":"VLOOKUP($A99,'Mat of App'!$B$7:$AP$43,D$97,FALSE)","v":0},{"$f":"VLOOKUP($A99,'Mat of App'!$B$7:$AP$43,E$97,FALSE)","v":0},{"$f":"VLOOKUP($A99,'Mat of App'!$B$7:$AP$43,F$97,FALSE)","v":0},""]
["HV HH Metered",{"$f":"VLOOKUP($A100,'Mat of App'!$B$7:$AP$43,B$97,FALSE)","v":1},{"$f":"VLOOKUP($A100,'Mat of App'!$B$7:$AP$43,C$97,FALSE)","v":0},{"$f":"VLOOKUP($A100,'Mat of App'!$B$7:$AP$43,D$97,FALSE)","v":0},{"$f":"VLOOKUP($A100,'Mat of App'!$B$7:$AP$43,E$97,FALSE)","v":0},{"$f":"VLOOKUP($A100,'Mat of App'!$B$7:$AP$43,F$97,FALSE)","v":0},""]
["HV Generation Intermittent",{"$f":"VLOOKUP($A101,'Mat of App'!$B$7:$AP$43,B$97,FALSE)","v":0},{"$f":"VLOOKUP($A101,'Mat of App'!$B$7:$AP$43,C$97,FALSE)","v":1},{"$f":"VLOOKUP($A101,'Mat of App'!$B$7:$AP$43,D$97,FALSE)","v":0},{"$f":"VLOOKUP($A101,'Mat of App'!$B$7:$AP$43,E$97,FALSE)","v":0},{"$f":"VLOOKUP($A101,'Mat of App'!$B$7:$AP$43,F$97,FALSE)","v":0}]
["HV Generation Intermittent no RP charge",{"$f":"VLOOKUP($A102,'Mat of App'!$B$7:$AP$43,B$97,FALSE)","v":0},{"$f":"VLOOKUP($A102,'Mat of App'!$B$7:$AP$43,C$97,FALSE)","v":1},{"$f":"VLOOKUP($A102,'Mat of App'!$B$7:$AP$43,D$97,FALSE)","v":0},{"$f":"VLOOKUP($A102,'Mat of App'!$B$7:$AP$43,E$97,FALSE)","v":0},{"$f":"VLOOKUP($A102,'Mat of App'!$B$7:$AP$43,F$97,FALSE)","v":0}]
["HV Generation Non-Intermittent",{"$f":"VLOOKUP($A103,'Mat of App'!$B$7:$AP$43,B$97,FALSE)","v":0},{"$f":"VLOOKUP($A103,'Mat of App'!$B$7:$AP$43,C$97,FALSE)","v":1},{"$f":"VLOOKUP($A103,'Mat of App'!$B$7:$AP$43,D$97,FALSE)","v":0},{"$f":"VLOOKUP($A103,'Mat of App'!$B$7:$AP$43,E$97,FALSE)","v":0},{"$f":"VLOOKUP($A103,'Mat of App'!$B$7:$AP$43,F$97,FALSE)","v":0}]
["HV Generation Non-Intermittent no RP charge",{"$f":"VLOOKUP($A104,'Mat of App'!$B$7:$AP$43,B$97,FALSE)","v":0},{"$f":"VLOOKUP($A104,'Mat of App'!$B$7:$AP$43,C$97,FALSE)","v":1},{"$f":"VLOOKUP($A104,'Mat of App'!$B$7:$AP$43,D$97,FALSE)","v":0},{"$f":"VLOOKUP($A104,'Mat of App'!$B$7:$AP$43,E$97,FALSE)","v":0},{"$f":"VLOOKUP($A104,'Mat of App'!$B$7:$AP$43,F$97,FALSE)","v":0}]
[]
["1032. Loss adjustment factors to transmission"]
[""]
["Source: losses model or loss adjustment factors at time of system peak."]
[null,"132kV","132kV/EHV","EHV","EHV/HV","HV","HV/LV","LV circuits"]
["Loss adjustment factor",{"$f":"VLOOKUP(Vlookup!B69,'CDCM Forecast Data'!$A$14:$I$271,5,FALSE)","v":1.002},{"$f":"VLOOKUP(Vlookup!C69,'CDCM Forecast Data'!$A$14:$I$271,5,FALSE)","v":1.008},{"$f":"VLOOKUP(Vlookup!D69,'CDCM Forecast Data'!$A$14:$I$271,5,FALSE)","v":1.01},{"$f":"VLOOKUP(Vlookup!E69,'CDCM Forecast Data'!$A$14:$I$271,5,FALSE)","v":1.018},{"$f":"VLOOKUP(Vlookup!F69,'CDCM Forecast Data'!$A$14:$I$271,5,FALSE)","v":1.034},{"$f":"VLOOKUP(Vlookup!G69,'CDCM Forecast Data'!$A$14:$I$271,5,FALSE)","v":1.05},{"$f":"VLOOKUP(Vlookup!H69,'CDCM Forecast Data'!$A$14:$I$271,5,FALSE)","v":1.08},""]
[]
["1037. Embedded network (LDNO) discounts"]
[""]
["Source: separate price control disaggregation model."]
[null,"No discount","LDNO LV: LV user","LDNO HV: LV user","LDNO HV: LV sub user","LDNO HV: HV user"]
["LDNO discount",null,{"$f":"VLOOKUP(Vlookup!C75,'CDCM Forecast Data'!$A$14:$I$271,5,FALSE)","v":0.30035267521805875},{"$f":"VLOOKUP(Vlookup!D75,'CDCM Forecast Data'!$A$14:$I$271,5,FALSE)","v":0.47818139481135069},{"$f":"VLOOKUP(Vlookup!E75,'CDCM Forecast Data'!$A$14:$I$271,5,FALSE)","v":0.24363743688262601},{"$f":"VLOOKUP(Vlookup!F75,'CDCM Forecast Data'!$A$14:$I$271,5,FALSE)","v":0.14249687495735849},""]
[]
["1041. Load profile data for demand users"]
[]
["Source: load data analysis."]
[null,"Coincidence factor","Load factor"]
["Domestic Unrestricted",{"$f":"VLOOKUP(Vlookup!B81,'CDCM Forecast Data'!$A$14:$I$271,5,FALSE)","v":0.86240741067308713},{"$f":"VLOOKUP(Vlookup!C81,'CDCM Forecast Data'!$A$14:$I$271,5,FALSE)","v":0.41623710501756489},""]
["Domestic Two Rate",{"$f":"VLOOKUP(Vlookup!B82,'CDCM Forecast Data'!$A$14:$I$271,5,FALSE)","v":0.86034731111249485},{"$f":"VLOOKUP(Vlookup!C82,'CDCM Forecast Data'!$A$14:$I$271,5,FALSE)","v":0.5028096693143812},""]
["Domestic Off Peak (related MPAN)",null,{"$f":"VLOOKUP(Vlookup!C83,'CDCM Forecast Data'!$A$14:$I$271,5,FALSE)","v":0.14790375681824444},""]
["Small Non Domestic Unrestricted",{"$f":"VLOOKUP(Vlookup!B84,'CDCM Forecast Data'!$A$14:$I$271,5,FALSE)","v":0.72324936497793268},{"$f":"VLOOKUP(Vlookup!C84,'CDCM Forecast Data'!$A$14:$I$271,5,FALSE)","v":0.37532588558908553},""]
["Small Non Domestic Two Rate",{"$f":"VLOOKUP(Vlookup!B85,'CDCM Forecast Data'!$A$14:$I$271,5,FALSE)","v":0.86240621985923305},{"$f":"VLOOKUP(Vlookup!C85,'CDCM Forecast Data'!$A$14:$I$271,5,FALSE)","v":0.53424065388272945},""]
["Small Non Domestic Off Peak (related MPAN)",null,{"$f":"VLOOKUP(Vlookup!C86,'CDCM Forecast Data'!$A$14:$I$271,5,FALSE)","v":0.24278777249580674},""]
["LV Medium Non-Domestic",{"$f":"VLOOKUP(Vlookup!B87,'CDCM Forecast Data'!$A$14:$I$271,5,FALSE)","v":0.84122778780683927},{"$f":"VLOOKUP(Vlookup!C87,'CDCM Forecast Data'!$A$14:$I$271,5,FALSE)","v":0.52667690446927706},""]
["LV Sub Medium Non-Domestic",{"$f":"VLOOKUP(Vlookup!B88,'CDCM Forecast Data'!$A$14:$I$271,5,FALSE)","v":0.84122778780683927},{"$f":"VLOOKUP(Vlookup!C88,'CDCM Forecast Data'!$A$14:$I$271,5,FALSE)","v":0.52667690446927706},""]
["HV Medium Non-Domestic",{"$f":"VLOOKUP(Vlookup!B89,'CDCM Forecast Data'!$A$14:$I$271,5,FALSE)","v":0.78886749721267824},{"$f":"VLOOKUP(Vlookup!C89,'CDCM Forecast Data'!$A$14:$I$271,5,FALSE)","v":0.49199747964816393},""]
["LV Network Domestic",{"$f":"VLOOKUP(Vlookup!B90,'CDCM Forecast Data'!$A$14:$I$271,5,FALSE)","v":0.86164448674198868},{"$f":"VLOOKUP(Vlookup!C90,'CDCM Forecast Data'!$A$14:$I$271,5,FALSE)","v":0.44382955791989437},""]
["LV Network Non-Domestic Non-CT",{"$f":"VLOOKUP(Vlookup!B91,'CDCM Forecast Data'!$A$14:$I$271,5,FALSE)","v":0.78752477648789532},{"$f":"VLOOKUP(Vlookup!C91,'CDCM Forecast Data'!$A$14:$I$271,5,FALSE)","v":0.44789395514276292},""]
["LV HH Metered",{"$f":"VLOOKUP(Vlookup!B92,'CDCM Forecast Data'!$A$14:$I$271,5,FALSE)","v":0.82086521600613926},{"$f":"VLOOKUP(Vlookup!C92,'CDCM Forecast Data'!$A$14:$I$271,5,FALSE)","v":0.5584288623436322},""]
["LV Sub HH Metered",{"$f":"VLOOKUP(Vlookup!B93,'CDCM Forecast Data'!$A$14:$I$271,5,FALSE)","v":0.84026867562743668},{"$f":"VLOOKUP(Vlookup!C93,'CDCM Forecast Data'!$A$14:$I$271,5,FALSE)","v":0.57907566723908654}]
["HV HH Metered",{"$f":"VLOOKUP(Vlookup!B94,'CDCM Forecast Data'!$A$14:$I$271,5,FALSE)","v":0.84760121590132942},{"$f":"VLOOKUP(Vlookup!C94,'CDCM Forecast Data'!$A$14:$I$271,5,FALSE)","v":0.7141076061743471}]
["NHH UMS category A",{"$f":"VLOOKUP(Vlookup!B95,'CDCM Forecast Data'!$A$14:$I$271,5,FALSE)","v":1},{"$f":"VLOOKUP(Vlookup!C95,'CDCM Forecast Data'!$A$14:$I$271,5,FALSE)","v":1},""]
["NHH UMS category B",{"$f":"VLOOKUP(Vlookup!B96,'CDCM Forecast Data'!$A$14:$I$271,5,FALSE)","v":1},{"$f":"VLOOKUP(Vlookup!C96,'CDCM Forecast Data'!$A$14:$I$271,5,FALSE)","v":0.47270807337280285}]
["NHH UMS category C",{"$f":"VLOOKUP(Vlookup!B97,'CDCM Forecast Data'!$A$14:$I$271,5,FALSE)","v":1},{"$f":"VLOOKUP(Vlookup!C97,'CDCM Forecast Data'!$A$14:$I$271,5,FALSE)","v":0.24339371562014608}]
["NHH UMS category D",{"$f":"VLOOKUP(Vlookup!B98,'CDCM Forecast Data'!$A$14:$I$271,5,FALSE)","v":5.3621027479092004E-3},{"$f":"VLOOKUP(Vlookup!C98,'CDCM Forecast Data'!$A$14:$I$271,5,FALSE)","v":0.51158697514711327}]
["LV UMS (Pseudo HH Metered)",{"$f":"VLOOKUP(Vlookup!B99,'CDCM Forecast Data'!$A$14:$I$271,5,FALSE)","v":0.95079576417959843},{"$f":"VLOOKUP(Vlookup!C99,'CDCM Forecast Data'!$A$14:$I$271,5,FALSE)","v":0.44160896789800635},""]
[]
["1053. Volume forecasts for the charging year"]
["",4,5,6,7,8,9,10]
["Source: forecast."]
["Please include MPAN counts for tariffs with no fixed charge (e.g. off-peak tariffs),"]
["but exclude MPANs on tariffs with a fixed charge that are not subject to a fixed charge due to a site grouping arrangement."]
[null,"Rate 1 units (MWh)","Rate 2 units (MWh)","Rate 3 units (MWh)","MPANs","Import capacity (kVA)","Exceeded capacity (kVA)","Reactive power units (MVArh)"]
["> Domestic Unrestricted",{"$f":"VLOOKUP(Vlookup!$B107,'CDCM Volume Forecasts'!$A$28:$AL$136,B$143,FALSE)","v":0},{"$f":"VLOOKUP(Vlookup!$B107,'CDCM Volume Forecasts'!$A$28:$AL$136,C$143,FALSE)","v":0},{"$f":"VLOOKUP(Vlookup!$B107,'CDCM Volume Forecasts'!$A$28:$AL$136,D$143,FALSE)","v":0},{"$f":"VLOOKUP(Vlookup!$B107,'CDCM Volume Forecasts'!$A$28:$AL$136,E$143,FALSE)","v":0},{"$f":"VLOOKUP(Vlookup!$B107,'CDCM Volume Forecasts'!$A$28:$AL$136,F$143,FALSE)","v":0},null,{"$f":"VLOOKUP(Vlookup!$B107,'CDCM Volume Forecasts'!$A$28:$AL$136,G$143,FALSE)","v":0}]
["Domestic Unrestricted",{"$f":"VLOOKUP(Vlookup!$B108,'CDCM Volume Forecasts'!$A$28:$AL$136,B$143,FALSE)","v":5635747.39502858},null,null,{"$f":"VLOOKUP(Vlookup!$B108,'CDCM Volume Forecasts'!$A$28:$AL$136,E$143,FALSE)","v":1671267.7755050499}]
["LDNO LV: Domestic Unrestricted",{"$f":"VLOOKUP(Vlookup!$B109,'CDCM Volume Forecasts'!$A$28:$AL$136,B$143,FALSE)","v":94982.042774487054},null,null,{"$f":"VLOOKUP(Vlookup!$B109,'CDCM Volume Forecasts'!$A$28:$AL$136,E$143,FALSE)","v":35033.390339937563}]
["LDNO HV: Domestic Unrestricted",{"$f":"VLOOKUP(Vlookup!$B110,'CDCM Volume Forecasts'!$A$28:$AL$136,B$143,FALSE)","v":155171.27128812924},null,null,{"$f":"VLOOKUP(Vlookup!$B110,'CDCM Volume Forecasts'!$A$28:$AL$136,E$143,FALSE)","v":58162.880927404229}]
["> Domestic Two Rate"]
["Domestic Two Rate",{"$f":"VLOOKUP(Vlookup!$B112,'CDCM Volume Forecasts'!$A$28:$AL$136,B$143,FALSE)","v":2417415.8454986895},{"$f":"VLOOKUP(Vlookup!$B112,'CDCM Volume Forecasts'!$A$28:$AL$136,C$143,FALSE)","v":1076309.378668654},null,{"$f":"VLOOKUP(Vlookup!$B112,'CDCM Volume Forecasts'!$A$28:$AL$136,E$143,FALSE)","v":792868.49064519012}]
["LDNO LV: Domestic Two Rate",{"$f":"VLOOKUP(Vlookup!$B113,'CDCM Volume Forecasts'!$A$28:$AL$136,B$143,FALSE)","v":4629.9614332661959},{"$f":"VLOOKUP(Vlookup!$B113,'CDCM Volume Forecasts'!$A$28:$AL$136,C$143,FALSE)","v":1426.9050309592003},null,{"$f":"VLOOKUP(Vlookup!$B113,'CDCM Volume Forecasts'!$A$28:$AL$136,E$143,FALSE)","v":1499.239141579387}]
["LDNO HV: Domestic Two Rate",{"$f":"VLOOKUP(Vlookup!$B114,'CDCM Volume Forecasts'!$A$28:$AL$136,B$143,FALSE)","v":7642.5052138944002},{"$f":"VLOOKUP(Vlookup!$B114,'CDCM Volume Forecasts'!$A$28:$AL$136,C$143,FALSE)","v":2597.3847486999803},null,{"$f":"VLOOKUP(Vlookup!$B114,'CDCM Volume Forecasts'!$A$28:$AL$136,E$143,FALSE)","v":2453.4347641766276}]
["> Domestic Off Peak (related MPAN)"]
["Domestic Off Peak (related MPAN)",{"$f":"VLOOKUP(Vlookup!$B116,'CDCM Volume Forecasts'!$A$28:$AL$136,B$143,FALSE)","v":49585.593175668728},null,null,{"$f":"VLOOKUP(Vlookup!$B116,'CDCM Volume Forecasts'!$A$28:$AL$136,E$143,FALSE)","v":26805}]
["LDNO LV: Domestic Off Peak (related MPAN)",{"$f":"VLOOKUP(Vlookup!$B117,'CDCM Volume Forecasts'!$A$28:$AL$136,B$143,FALSE)","v":0},null,null,{"$f":"VLOOKUP(Vlookup!$B117,'CDCM Volume Forecasts'!$A$28:$AL$136,E$143,FALSE)","v":0}]
["LDNO HV: Domestic Off Peak (related MPAN)",{"$f":"VLOOKUP(Vlookup!$B118,'CDCM Volume Forecasts'!$A$28:$AL$136,B$143,FALSE)","v":0},null,null,{"$f":"VLOOKUP(Vlookup!$B118,'CDCM Volume Forecasts'!$A$28:$AL$136,E$143,FALSE)","v":0}]
["> Small Non Domestic Unrestricted"]
["Small Non Domestic Unrestricted",{"$f":"VLOOKUP(Vlookup!$B120,'CDCM Volume Forecasts'!$A$28:$AL$136,B$143,FALSE)","v":1140613.9739181774},null,null,{"$f":"VLOOKUP(Vlookup!$B120,'CDCM Volume Forecasts'!$A$28:$AL$136,E$143,FALSE)","v":95495.253097224515}]
["LDNO LV: Small Non Domestic Unrestricted",{"$f":"VLOOKUP(Vlookup!$B121,'CDCM Volume Forecasts'!$A$28:$AL$136,B$143,FALSE)","v":4254.8519221540355},null,null,{"$f":"VLOOKUP(Vlookup!$B121,'CDCM Volume Forecasts'!$A$28:$AL$136,E$143,FALSE)","v":714.08447240652981}]
["LDNO HV: Small Non Domestic Unrestricted",{"$f":"VLOOKUP(Vlookup!$B122,'CDCM Volume Forecasts'!$A$28:$AL$136,B$143,FALSE)","v":11145.922225068793},null,null,{"$f":"VLOOKUP(Vlookup!$B122,'CDCM Volume Forecasts'!$A$28:$AL$136,E$143,FALSE)","v":1270.1753584742994}]
["> Small Non Domestic Two Rate"]
["Small Non Domestic Two Rate",{"$f":"VLOOKUP(Vlookup!$B124,'CDCM Volume Forecasts'!$A$28:$AL$136,B$143,FALSE)","v":1514286.2262339729},{"$f":"VLOOKUP(Vlookup!$B124,'CDCM Volume Forecasts'!$A$28:$AL$136,C$143,FALSE)","v":451030.46492233477},null,{"$f":"VLOOKUP(Vlookup!$B124,'CDCM Volume Forecasts'!$A$28:$AL$136,E$143,FALSE)","v":82427.244684584759}]
["LDNO LV: Small Non Domestic Two Rate",{"$f":"VLOOKUP(Vlookup!$B125,'CDCM Volume Forecasts'!$A$28:$AL$136,B$143,FALSE)","v":402.47958047828541},{"$f":"VLOOKUP(Vlookup!$B125,'CDCM Volume Forecasts'!$A$28:$AL$136,C$143,FALSE)","v":80.438629283880772},null,{"$f":"VLOOKUP(Vlookup!$B125,'CDCM Volume Forecasts'!$A$28:$AL$136,E$143,FALSE)","v":12.903675111941352}]
["LDNO HV: Small Non Domestic Two Rate",{"$f":"VLOOKUP(Vlookup!$B126,'CDCM Volume Forecasts'!$A$28:$AL$136,B$143,FALSE)","v":1111.6322427478769},{"$f":"VLOOKUP(Vlookup!$B126,'CDCM Volume Forecasts'!$A$28:$AL$136,C$143,FALSE)","v":286.0338414769754},null,{"$f":"VLOOKUP(Vlookup!$B126,'CDCM Volume Forecasts'!$A$28:$AL$136,E$143,FALSE)","v":47.788053454719794}]
["> Small Non Domestic Off Peak (related MPAN)"]
["Small Non Domestic Off Peak (related MPAN)",{"$f":"VLOOKUP(Vlookup!$B128,'CDCM Volume Forecasts'!$A$28:$AL$136,B$143,FALSE)","v":2583.3840720654089},null,null,{"$f":"VLOOKUP(Vlookup!$B128,'CDCM Volume Forecasts'!$A$28:$AL$136,E$143,FALSE)","v":517}]
["LDNO LV: Small Non Domestic Off Peak (related MPAN)",{"$f":"VLOOKUP(Vlookup!$B129,'CDCM Volume Forecasts'!$A$28:$AL$136,B$143,FALSE)","v":0},null,null,{"$f":"VLOOKUP(Vlookup!$B129,'CDCM Volume Forecasts'!$A$28:$AL$136,E$143,FALSE)","v":0}]
["LDNO HV: Small Non Domestic Off Peak (related MPAN)",{"$f":"VLOOKUP(Vlookup!$B130,'CDCM Volume Forecasts'!$A$28:$AL$136,B$143,FALSE)","v":0},null,null,{"$f":"VLOOKUP(Vlookup!$B130,'CDCM Volume Forecasts'!$A$28:$AL$136,E$143,FALSE)","v":0}]
["> LV Medium Non-Domestic"]
["LV Medium Non-Domestic",{"$f":"VLOOKUP(Vlookup!$B132,'CDCM Volume Forecasts'!$A$28:$AL$136,B$143,FALSE)","v":41587.88901879995},{"$f":"VLOOKUP(Vlookup!$B132,'CDCM Volume Forecasts'!$A$28:$AL$136,C$143,FALSE)","v":11522.857188044651},null,{"$f":"VLOOKUP(Vlookup!$B132,'CDCM Volume Forecasts'!$A$28:$AL$136,E$143,FALSE)","v":1226.5130041316722}]
["LDNO LV: LV Medium Non-Domestic",{"$f":"VLOOKUP(Vlookup!$B133,'CDCM Volume Forecasts'!$A$28:$AL$136,B$143,FALSE)","v":-4.9112713895738124E-14},{"$f":"VLOOKUP(Vlookup!$B133,'CDCM Volume Forecasts'!$A$28:$AL$136,C$143,FALSE)","v":5.4569682106375695E-15},null,{"$f":"VLOOKUP(Vlookup!$B133,'CDCM Volume Forecasts'!$A$28:$AL$136,E$143,FALSE)","v":0}]
["LDNO HV: LV Medium Non-Domestic",{"$f":"VLOOKUP(Vlookup!$B134,'CDCM Volume Forecasts'!$A$28:$AL$136,B$143,FALSE)","v":-2.4738255888223645E-13},{"$f":"VLOOKUP(Vlookup!$B134,'CDCM Volume Forecasts'!$A$28:$AL$136,C$143,FALSE)","v":1.8189894035458565E-14},null,{"$f":"VLOOKUP(Vlookup!$B134,'CDCM Volume Forecasts'!$A$28:$AL$136,E$143,FALSE)","v":0}]
["> LV Sub Medium Non-Domestic"]
["LV Sub Medium Non-Domestic",{"$f":"VLOOKUP(Vlookup!$B136,'CDCM Volume Forecasts'!$A$28:$AL$136,B$143,FALSE)","v":0.14305029137837472},{"$f":"VLOOKUP(Vlookup!$B136,'CDCM Volume Forecasts'!$A$28:$AL$136,C$143,FALSE)","v":4.1771037058284492E-2},null,{"$f":"VLOOKUP(Vlookup!$B136,'CDCM Volume Forecasts'!$A$28:$AL$136,E$143,FALSE)","v":3.1678196721310618E-3}]
["> HV Medium Non-Domestic"]
["HV Medium Non-Domestic",{"$f":"VLOOKUP(Vlookup!$B138,'CDCM Volume Forecasts'!$A$28:$AL$136,B$143,FALSE)","v":2605.2120716228465},{"$f":"VLOOKUP(Vlookup!$B138,'CDCM Volume Forecasts'!$A$28:$AL$136,C$143,FALSE)","v":788.60544449936344},null,{"$f":"VLOOKUP(Vlookup!$B138,'CDCM Volume Forecasts'!$A$28:$AL$136,E$143,FALSE)","v":44}]
["> LV Network Domestic"]
["LV Network Domestic",{"$f":"VLOOKUP(Vlookup!$B140,'CDCM Volume Forecasts'!$A$28:$AL$136,B$143,FALSE)","v":25.916648860281796},{"$f":"VLOOKUP(Vlookup!$B140,'CDCM Volume Forecasts'!$A$28:$AL$136,C$143,FALSE)","v":99.416406772272921},{"$f":"VLOOKUP(Vlookup!$B140,'CDCM Volume Forecasts'!$A$28:$AL$136,D$143,FALSE)","v":122.08546012140339},{"$f":"VLOOKUP(Vlookup!$B140,'CDCM Volume Forecasts'!$A$28:$AL$136,E$143,FALSE)","v":76.118765573770503}]
["LDNO LV: LV Network Domestic",{"$f":"VLOOKUP(Vlookup!$B141,'CDCM Volume Forecasts'!$A$28:$AL$136,B$143,FALSE)","v":0},{"$f":"VLOOKUP(Vlookup!$B141,'CDCM Volume Forecasts'!$A$28:$AL$136,C$143,FALSE)","v":0},{"$f":"VLOOKUP(Vlookup!$B141,'CDCM Volume Forecasts'!$A$28:$AL$136,D$143,FALSE)","v":0},{"$f":"VLOOKUP(Vlookup!$B141,'CDCM Volume Forecasts'!$A$28:$AL$136,E$143,FALSE)","v":0}]
["LDNO HV: LV Network Domestic",{"$f":"VLOOKUP(Vlookup!$B142,'CDCM Volume Forecasts'!$A$28:$AL$136,B$143,FALSE)","v":0},{"$f":"VLOOKUP(Vlookup!$B142,'CDCM Volume Forecasts'!$A$28:$AL$136,C$143,FALSE)","v":0},{"$f":"VLOOKUP(Vlookup!$B142,'CDCM Volume Forecasts'!$A$28:$AL$136,D$143,FALSE)","v":0},{"$f":"VLOOKUP(Vlookup!$B142,'CDCM Volume Forecasts'!$A$28:$AL$136,E$143,FALSE)","v":0}]
["> LV Network Non-Domestic Non-CT"]
["LV Network Non-Domestic Non-CT",{"$f":"VLOOKUP(Vlookup!$B144,'CDCM Volume Forecasts'!$A$28:$AL$136,B$143,FALSE)","v":18558.487686612239},{"$f":"VLOOKUP(Vlookup!$B144,'CDCM Volume Forecasts'!$A$28:$AL$136,C$143,FALSE)","v":73567.926730158622},{"$f":"VLOOKUP(Vlookup!$B144,'CDCM Volume Forecasts'!$A$28:$AL$136,D$143,FALSE)","v":78280.332697577658},{"$f":"VLOOKUP(Vlookup!$B144,'CDCM Volume Forecasts'!$A$28:$AL$136,E$143,FALSE)","v":2509.10345882312}]
["LDNO LV: LV Network Non-Domestic Non-CT",{"$f":"VLOOKUP(Vlookup!$B145,'CDCM Volume Forecasts'!$A$28:$AL$136,B$143,FALSE)","v":19.24968807539738},{"$f":"VLOOKUP(Vlookup!$B145,'CDCM Volume Forecasts'!$A$28:$AL$136,C$143,FALSE)","v":72.688587305710143},{"$f":"VLOOKUP(Vlookup!$B145,'CDCM Volume Forecasts'!$A$28:$AL$136,D$143,FALSE)","v":120.49851830559453},{"$f":"VLOOKUP(Vlookup!$B145,'CDCM Volume Forecasts'!$A$28:$AL$136,E$143,FALSE)","v":4.7184373127364774}]
["LDNO HV: LV Network Non-Domestic Non-CT",{"$f":"VLOOKUP(Vlookup!$B146,'CDCM Volume Forecasts'!$A$28:$AL$136,B$143,FALSE)","v":104.24235588741557},{"$f":"VLOOKUP(Vlookup!$B146,'CDCM Volume Forecasts'!$A$28:$AL$136,C$143,FALSE)","v":362.68347429908619},{"$f":"VLOOKUP(Vlookup!$B146,'CDCM Volume Forecasts'!$A$28:$AL$136,D$143,FALSE)","v":416.12088245460063},{"$f":"VLOOKUP(Vlookup!$B146,'CDCM Volume Forecasts'!$A$28:$AL$136,E$143,FALSE)","v":19.841829348937043}]
["> LV HH Metered"]
["LV HH Metered",{"$f":"VLOOKUP(Vlookup!$B148,'CDCM Volume Forecasts'!$A$28:$AL$136,B$143,FALSE)","v":377835.6813072178},{"$f":"VLOOKUP(Vlookup!$B148,'CDCM Volume Forecasts'!$A$28:$AL$136,C$143,FALSE)","v":1505767.6226554119},{"$f":"VLOOKUP(Vlookup!$B148,'CDCM Volume Forecasts'!$A$28:$AL$136,D$143,FALSE)","v":1615847.0059507394},{"$f":"VLOOKUP(Vlookup!$B148,'CDCM Volume Forecasts'!$A$28:$AL$136,E$143,FALSE)","v":15832.332072650368},{"$f":"VLOOKUP(Vlookup!$B148,'CDCM Volume Forecasts'!$A$28:$AL$136,F$143,FALSE)","v":1960000},{"$f":"VLOOKUP(Vlookup!$B148,'CDCM Volume Forecasts'!$A$28:$AL$136,G$143,FALSE)","v":42265.317043448318},{"$f":"VLOOKUP(Vlookup!$B148,'CDCM Volume Forecasts'!$A$28:$AL$136,H$143,FALSE)","v":367491.37832085259}]
["LDNO LV: LV HH Metered",{"$f":"VLOOKUP(Vlookup!$B149,'CDCM Volume Forecasts'!$A$28:$AL$136,B$143,FALSE)","v":1412.870559022316},{"$f":"VLOOKUP(Vlookup!$B149,'CDCM Volume Forecasts'!$A$28:$AL$136,C$143,FALSE)","v":4888.8390627745466},{"$f":"VLOOKUP(Vlookup!$B149,'CDCM Volume Forecasts'!$A$28:$AL$136,D$143,FALSE)","v":6114.8854757848721},{"$f":"VLOOKUP(Vlookup!$B149,'CDCM Volume Forecasts'!$A$28:$AL$136,E$143,FALSE)","v":61.229869713492732},{"$f":"VLOOKUP(Vlookup!$B149,'CDCM Volume Forecasts'!$A$28:$AL$136,F$143,FALSE)","v":10476.918620474366},{"$f":"VLOOKUP(Vlookup!$B149,'CDCM Volume Forecasts'!$A$28:$AL$136,G$143,FALSE)","v":12.987057168228436},{"$f":"VLOOKUP(Vlookup!$B149,'CDCM Volume Forecasts'!$A$28:$AL$136,H$143,FALSE)","v":1333.7147930840285}]
["LDNO HV: LV HH Metered",{"$f":"VLOOKUP(Vlookup!$B150,'CDCM Volume Forecasts'!$A$28:$AL$136,B$143,FALSE)","v":15040.235122987786},{"$f":"VLOOKUP(Vlookup!$B150,'CDCM Volume Forecasts'!$A$28:$AL$136,C$143,FALSE)","v":54927.685608171101},{"$f":"VLOOKUP(Vlookup!$B150,'CDCM Volume Forecasts'!$A$28:$AL$136,D$143,FALSE)","v":65960.836777291115},{"$f":"VLOOKUP(Vlookup!$B150,'CDCM Volume Forecasts'!$A$28:$AL$136,E$143,FALSE)","v":382.62169856216127},{"$f":"VLOOKUP(Vlookup!$B150,'CDCM Volume Forecasts'!$A$28:$AL$136,F$143,FALSE)","v":108669.61557819175},{"$f":"VLOOKUP(Vlookup!$B150,'CDCM Volume Forecasts'!$A$28:$AL$136,G$143,FALSE)","v":446.26154403187547},{"$f":"VLOOKUP(Vlookup!$B150,'CDCM Volume Forecasts'!$A$28:$AL$136,H$143,FALSE)","v":11418.401436925689}]
["> LV Sub HH Metered"]
["LV Sub HH Metered",{"$f":"VLOOKUP(Vlookup!$B152,'CDCM Volume Forecasts'!$A$28:$AL$136,B$143,FALSE)","v":23555.939705275443},{"$f":"VLOOKUP(Vlookup!$B152,'CDCM Volume Forecasts'!$A$28:$AL$136,C$143,FALSE)","v":90295.119473983417},{"$f":"VLOOKUP(Vlookup!$B152,'CDCM Volume Forecasts'!$A$28:$AL$136,D$143,FALSE)","v":105307.38531244543},{"$f":"VLOOKUP(Vlookup!$B152,'CDCM Volume Forecasts'!$A$28:$AL$136,E$143,FALSE)","v":342.84669556830613},{"$f":"VLOOKUP(Vlookup!$B152,'CDCM Volume Forecasts'!$A$28:$AL$136,F$143,FALSE)","v":138821.86717486338},{"$f":"VLOOKUP(Vlookup!$B152,'CDCM Volume Forecasts'!$A$28:$AL$136,G$143,FALSE)","v":1785.1010983606557},{"$f":"VLOOKUP(Vlookup!$B152,'CDCM Volume Forecasts'!$A$28:$AL$136,H$143,FALSE)","v":18220.196801714286}]
["LDNO HV: LV Sub HH Metered",{"$f":"VLOOKUP(Vlookup!$B153,'CDCM Volume Forecasts'!$A$28:$AL$136,B$143,FALSE)","v":890.72287294660168},{"$f":"VLOOKUP(Vlookup!$B153,'CDCM Volume Forecasts'!$A$28:$AL$136,C$143,FALSE)","v":3077.5835538016772},{"$f":"VLOOKUP(Vlookup!$B153,'CDCM Volume Forecasts'!$A$28:$AL$136,D$143,FALSE)","v":5287.7802117072451},{"$f":"VLOOKUP(Vlookup!$B153,'CDCM Volume Forecasts'!$A$28:$AL$136,E$143,FALSE)","v":4.8958936371831783},{"$f":"VLOOKUP(Vlookup!$B153,'CDCM Volume Forecasts'!$A$28:$AL$136,F$143,FALSE)","v":3426.9222620200057},{"$f":"VLOOKUP(Vlookup!$B153,'CDCM Volume Forecasts'!$A$28:$AL$136,G$143,FALSE)","v":46.892377761533822},{"$f":"VLOOKUP(Vlookup!$B153,'CDCM Volume Forecasts'!$A$28:$AL$136,H$143,FALSE)","v":903.92750399136014}]
["> HV HH Metered"]
["HV HH Metered",{"$f":"VLOOKUP(Vlookup!$B155,'CDCM Volume Forecasts'!$A$28:$AL$136,B$143,FALSE)","v":738923.19680440472},{"$f":"VLOOKUP(Vlookup!$B155,'CDCM Volume Forecasts'!$A$28:$AL$136,C$143,FALSE)","v":2849711.7208364718},{"$f":"VLOOKUP(Vlookup!$B155,'CDCM Volume Forecasts'!$A$28:$AL$136,D$143,FALSE)","v":4000945.161846465},{"$f":"VLOOKUP(Vlookup!$B155,'CDCM Volume Forecasts'!$A$28:$AL$136,E$143,FALSE)","v":3524.9192351831307},{"$f":"VLOOKUP(Vlookup!$B155,'CDCM Volume Forecasts'!$A$28:$AL$136,F$143,FALSE)","v":2788259.5384515394},{"$f":"VLOOKUP(Vlookup!$B155,'CDCM Volume Forecasts'!$A$28:$AL$136,G$143,FALSE)","v":58664.747249535598},{"$f":"VLOOKUP(Vlookup!$B155,'CDCM Volume Forecasts'!$A$28:$AL$136,H$143,FALSE)","v":557819.6962977408}]
["LDNO HV: HV HH Metered",{"$f":"VLOOKUP(Vlookup!$B156,'CDCM Volume Forecasts'!$A$28:$AL$136,B$143,FALSE)","v":7258.323341503462},{"$f":"VLOOKUP(Vlookup!$B156,'CDCM Volume Forecasts'!$A$28:$AL$136,C$143,FALSE)","v":23980.296053899532},{"$f":"VLOOKUP(Vlookup!$B156,'CDCM Volume Forecasts'!$A$28:$AL$136,D$143,FALSE)","v":38623.664534907308},{"$f":"VLOOKUP(Vlookup!$B156,'CDCM Volume Forecasts'!$A$28:$AL$136,E$143,FALSE)","v":38.408595450387928},{"$f":"VLOOKUP(Vlookup!$B156,'CDCM Volume Forecasts'!$A$28:$AL$136,F$143,FALSE)","v":48748.253499353094},{"$f":"VLOOKUP(Vlookup!$B156,'CDCM Volume Forecasts'!$A$28:$AL$136,G$143,FALSE)","v":199.08329496396499},{"$f":"VLOOKUP(Vlookup!$B156,'CDCM Volume Forecasts'!$A$28:$AL$136,H$143,FALSE)","v":2217.4648647360805}]
["> NHH UMS category A"]
["NHH UMS category A",{"$f":"VLOOKUP(Vlookup!$B158,'CDCM Volume Forecasts'!$A$28:$AL$136,B$143,FALSE)","v":34134.893703773516},null,null,{"$f":"VLOOKUP(Vlookup!$B158,'CDCM Volume Forecasts'!$A$28:$AL$136,E$143,FALSE)","v":1567}]
["LDNO LV: NHH UMS category A",{"$f":"VLOOKUP(Vlookup!$B159,'CDCM Volume Forecasts'!$A$28:$AL$136,B$143,FALSE)","v":275.22148000439415},null,null,{"$f":"VLOOKUP(Vlookup!$B159,'CDCM Volume Forecasts'!$A$28:$AL$136,E$143,FALSE)","v":0}]
["LDNO HV: NHH UMS category A",{"$f":"VLOOKUP(Vlookup!$B160,'CDCM Volume Forecasts'!$A$28:$AL$136,B$143,FALSE)","v":531.75775905666319},null,null,{"$f":"VLOOKUP(Vlookup!$B160,'CDCM Volume Forecasts'!$A$28:$AL$136,E$143,FALSE)","v":0}]
["> NHH UMS category B"]
["NHH UMS category B",{"$f":"VLOOKUP(Vlookup!$B162,'CDCM Volume Forecasts'!$A$28:$AL$136,B$143,FALSE)","v":22466.149975166016},null,null,{"$f":"VLOOKUP(Vlookup!$B162,'CDCM Volume Forecasts'!$A$28:$AL$136,E$143,FALSE)","v":1279}]
["LDNO LV: NHH UMS category B",{"$f":"VLOOKUP(Vlookup!$B163,'CDCM Volume Forecasts'!$A$28:$AL$136,B$143,FALSE)","v":319.40114355377005},null,null,{"$f":"VLOOKUP(Vlookup!$B163,'CDCM Volume Forecasts'!$A$28:$AL$136,E$143,FALSE)","v":0}]
["LDNO HV: NHH UMS category B",{"$f":"VLOOKUP(Vlookup!$B164,'CDCM Volume Forecasts'!$A$28:$AL$136,B$143,FALSE)","v":613.630442356039},null,null,{"$f":"VLOOKUP(Vlookup!$B164,'CDCM Volume Forecasts'!$A$28:$AL$136,E$143,FALSE)","v":0}]
["> NHH UMS category C"]
["NHH UMS category C",{"$f":"VLOOKUP(Vlookup!$B166,'CDCM Volume Forecasts'!$A$28:$AL$136,B$143,FALSE)","v":339.10140823796002},null,null,{"$f":"VLOOKUP(Vlookup!$B166,'CDCM Volume Forecasts'!$A$28:$AL$136,E$143,FALSE)","v":194}]
["LDNO LV: NHH UMS category C",{"$f":"VLOOKUP(Vlookup!$B167,'CDCM Volume Forecasts'!$A$28:$AL$136,B$143,FALSE)","v":0},null,null,{"$f":"VLOOKUP(Vlookup!$B167,'CDCM Volume Forecasts'!$A$28:$AL$136,E$143,FALSE)","v":0}]
["LDNO HV: NHH UMS category C",{"$f":"VLOOKUP(Vlookup!$B168,'CDCM Volume Forecasts'!$A$28:$AL$136,B$143,FALSE)","v":0},null,null,{"$f":"VLOOKUP(Vlookup!$B168,'CDCM Volume Forecasts'!$A$28:$AL$136,E$143,FALSE)","v":0}]
["> NHH UMS category D"]
["NHH UMS category D",{"$f":"VLOOKUP(Vlookup!$B170,'CDCM Volume Forecasts'!$A$28:$AL$136,B$143,FALSE)","v":7208.5560845431746},null,null,{"$f":"VLOOKUP(Vlookup!$B170,'CDCM Volume Forecasts'!$A$28:$AL$136,E$143,FALSE)","v":247}]
["LDNO LV: NHH UMS category D",{"$f":"VLOOKUP(Vlookup!$B171,'CDCM Volume Forecasts'!$A$28:$AL$136,B$143,FALSE)","v":0},null,null,{"$f":"VLOOKUP(Vlookup!$B171,'CDCM Volume Forecasts'!$A$28:$AL$136,E$143,FALSE)","v":0}]
["LDNO HV: NHH UMS category D",{"$f":"VLOOKUP(Vlookup!$B172,'CDCM Volume Forecasts'!$A$28:$AL$136,B$143,FALSE)","v":0},null,null,{"$f":"VLOOKUP(Vlookup!$B172,'CDCM Volume Forecasts'!$A$28:$AL$136,E$143,FALSE)","v":0}]
["> LV UMS (Pseudo HH Metered)"]
["LV UMS (Pseudo HH Metered)",{"$f":"VLOOKUP(Vlookup!$B174,'CDCM Volume Forecasts'!$A$28:$AL$136,B$143,FALSE)","v":12092.426467732928},{"$f":"VLOOKUP(Vlookup!$B174,'CDCM Volume Forecasts'!$A$28:$AL$136,C$143,FALSE)","v":33947.071572281049},{"$f":"VLOOKUP(Vlookup!$B174,'CDCM Volume Forecasts'!$A$28:$AL$136,D$143,FALSE)","v":185619.80763357371},{"$f":"VLOOKUP(Vlookup!$B174,'CDCM Volume Forecasts'!$A$28:$AL$136,E$143,FALSE)","v":26.819672131147541}]
["LDNO LV: LV UMS (Pseudo HH Metered)",{"$f":"VLOOKUP(Vlookup!$B175,'CDCM Volume Forecasts'!$A$28:$AL$136,B$143,FALSE)","v":0},{"$f":"VLOOKUP(Vlookup!$B175,'CDCM Volume Forecasts'!$A$28:$AL$136,C$143,FALSE)","v":0},{"$f":"VLOOKUP(Vlookup!$B175,'CDCM Volume Forecasts'!$A$28:$AL$136,D$143,FALSE)","v":0},{"$f":"VLOOKUP(Vlookup!$B175,'CDCM Volume Forecasts'!$A$28:$AL$136,E$143,FALSE)","v":0}]
["LDNO HV: LV UMS (Pseudo HH Metered)",{"$f":"VLOOKUP(Vlookup!$B176,'CDCM Volume Forecasts'!$A$28:$AL$136,B$143,FALSE)","v":0},{"$f":"VLOOKUP(Vlookup!$B176,'CDCM Volume Forecasts'!$A$28:$AL$136,C$143,FALSE)","v":0},{"$f":"VLOOKUP(Vlookup!$B176,'CDCM Volume Forecasts'!$A$28:$AL$136,D$143,FALSE)","v":0},{"$f":"VLOOKUP(Vlookup!$B176,'CDCM Volume Forecasts'!$A$28:$AL$136,E$143,FALSE)","v":0}]
["> LV Generation NHH or Aggregate HH"]
["LV Generation NHH or Aggregate HH",{"$f":"VLOOKUP(Vlookup!$B178,'CDCM Volume Forecasts'!$A$28:$AL$136,B$143,FALSE)","v":10233.9538335},null,null,{"$f":"VLOOKUP(Vlookup!$B178,'CDCM Volume Forecasts'!$A$28:$AL$136,E$143,FALSE)","v":136}]
["LDNO LV: LV Generation NHH or Aggregate HH",{"$f":"VLOOKUP(Vlookup!$B179,'CDCM Volume Forecasts'!$A$28:$AL$136,B$143,FALSE)","v":27.785378357142857},null,null,{"$f":"VLOOKUP(Vlookup!$B179,'CDCM Volume Forecasts'!$A$28:$AL$136,E$143,FALSE)","v":0}]
["LDNO HV: LV Generation NHH or Aggregate HH",{"$f":"VLOOKUP(Vlookup!$B180,'CDCM Volume Forecasts'!$A$28:$AL$136,B$143,FALSE)","v":0},null,null,{"$f":"VLOOKUP(Vlookup!$B180,'CDCM Volume Forecasts'!$A$28:$AL$136,E$143,FALSE)","v":0}]
["> LV Sub Generation NHH"]
["LV Sub Generation NHH",{"$f":"VLOOKUP(Vlookup!$B182,'CDCM Volume Forecasts'!$A$28:$AL$136,B$143,FALSE)","v":0},null,null,{"$f":"VLOOKUP(Vlookup!$B182,'CDCM Volume Forecasts'!$A$28:$AL$136,E$143,FALSE)","v":0}]
["LDNO HV: LV Sub Generation NHH",{"$f":"VLOOKUP(Vlookup!$B183,'CDCM Volume Forecasts'!$A$28:$AL$136,B$143,FALSE)","v":0},null,null,{"$f":"VLOOKUP(Vlookup!$B183,'CDCM Volume Forecasts'!$A$28:$AL$136,E$143,FALSE)","v":0}]
["> LV Generation Intermittent"]
["LV Generation Intermittent",{"$f":"VLOOKUP(Vlookup!$B185,'CDCM Volume Forecasts'!$A$28:$AL$136,B$143,FALSE)","v":39541.455472928566},null,null,{"$f":"VLOOKUP(Vlookup!$B185,'CDCM Volume Forecasts'!$A$28:$AL$136,E$143,FALSE)","v":697.57416393442611},null,null,{"$f":"VLOOKUP(Vlookup!$B185,'CDCM Volume Forecasts'!$A$28:$AL$136,H$143,FALSE)","v":4219.380690214286}]
["LDNO LV: LV Generation Intermittent",{"$f":"VLOOKUP(Vlookup!$B186,'CDCM Volume Forecasts'!$A$28:$AL$136,B$143,FALSE)","v":0},null,null,{"$f":"VLOOKUP(Vlookup!$B186,'CDCM Volume Forecasts'!$A$28:$AL$136,E$143,FALSE)","v":0},null,null,{"$f":"VLOOKUP(Vlookup!$B186,'CDCM Volume Forecasts'!$A$28:$AL$136,H$143,FALSE)","v":0}]
["LDNO HV: LV Generation Intermittent",{"$f":"VLOOKUP(Vlookup!$B187,'CDCM Volume Forecasts'!$A$28:$AL$136,B$143,FALSE)","v":72.668966078571486},null,null,{"$f":"VLOOKUP(Vlookup!$B187,'CDCM Volume Forecasts'!$A$28:$AL$136,E$143,FALSE)","v":4.4201475409836073},null,null,{"$f":"VLOOKUP(Vlookup!$B187,'CDCM Volume Forecasts'!$A$28:$AL$136,H$143,FALSE)","v":40.596061285714278}]
["> LV Generation Intermittent no RP charge"]
["LV Generation Intermittent no RP charge",{"$f":"VLOOKUP(Vlookup!$B189,'CDCM Volume Forecasts'!$A$28:$AL$136,B$143,FALSE)","v":0},null,null,{"$f":"VLOOKUP(Vlookup!$B189,'CDCM Volume Forecasts'!$A$28:$AL$136,E$143,FALSE)","v":0}]
["> LV Generation Non-Intermittent"]
["LV Generation Non-Intermittent",{"$f":"VLOOKUP(Vlookup!$B191,'CDCM Volume Forecasts'!$A$28:$AL$136,B$143,FALSE)","v":1593.5852929943649},{"$f":"VLOOKUP(Vlookup!$B191,'CDCM Volume Forecasts'!$A$28:$AL$136,C$143,FALSE)","v":6242.3922614252333},{"$f":"VLOOKUP(Vlookup!$B191,'CDCM Volume Forecasts'!$A$28:$AL$136,D$143,FALSE)","v":9539.9119603497784},{"$f":"VLOOKUP(Vlookup!$B191,'CDCM Volume Forecasts'!$A$28:$AL$136,E$143,FALSE)","v":105.72703893442623},null,null,{"$f":"VLOOKUP(Vlookup!$B191,'CDCM Volume Forecasts'!$A$28:$AL$136,H$143,FALSE)","v":667.62919715625003}]
["LDNO LV: LV Generation Non-Intermittent",{"$f":"VLOOKUP(Vlookup!$B192,'CDCM Volume Forecasts'!$A$28:$AL$136,B$143,FALSE)","v":0},{"$f":"VLOOKUP(Vlookup!$B192,'CDCM Volume Forecasts'!$A$28:$AL$136,C$143,FALSE)","v":0},{"$f":"VLOOKUP(Vlookup!$B192,'CDCM Volume Forecasts'!$A$28:$AL$136,D$143,FALSE)","v":0},{"$f":"VLOOKUP(Vlookup!$B192,'CDCM Volume Forecasts'!$A$28:$AL$136,E$143,FALSE)","v":0},null,null,{"$f":"VLOOKUP(Vlookup!$B192,'CDCM Volume Forecasts'!$A$28:$AL$136,H$143,FALSE)","v":0}]
["LDNO HV: LV Generation Non-Intermittent",{"$f":"VLOOKUP(Vlookup!$B193,'CDCM Volume Forecasts'!$A$28:$AL$136,B$143,FALSE)","v":0},{"$f":"VLOOKUP(Vlookup!$B193,'CDCM Volume Forecasts'!$A$28:$AL$136,C$143,FALSE)","v":0},{"$f":"VLOOKUP(Vlookup!$B193,'CDCM Volume Forecasts'!$A$28:$AL$136,D$143,FALSE)","v":0},{"$f":"VLOOKUP(Vlookup!$B193,'CDCM Volume Forecasts'!$A$28:$AL$136,E$143,FALSE)","v":0},null,null,{"$f":"VLOOKUP(Vlookup!$B193,'CDCM Volume Forecasts'!$A$28:$AL$136,H$143,FALSE)","v":0}]
["> LV Generation Non-Intermittent no RP charge"]
["LV Generation Non-Intermittent no RP charge",{"$f":"VLOOKUP(Vlookup!$B195,'CDCM Volume Forecasts'!$A$28:$AL$136,B$143,FALSE)","v":0},{"$f":"VLOOKUP(Vlookup!$B195,'CDCM Volume Forecasts'!$A$28:$AL$136,C$143,FALSE)","v":0},{"$f":"VLOOKUP(Vlookup!$B195,'CDCM Volume Forecasts'!$A$28:$AL$136,D$143,FALSE)","v":0},{"$f":"VLOOKUP(Vlookup!$B195,'CDCM Volume Forecasts'!$A$28:$AL$136,E$143,FALSE)","v":0}]
["> LV Sub Generation Intermittent"]
["LV Sub Generation Intermittent",{"$f":"VLOOKUP(Vlookup!$B197,'CDCM Volume Forecasts'!$A$28:$AL$136,B$143,FALSE)","v":3841.6564052142853},null,null,{"$f":"VLOOKUP(Vlookup!$B197,'CDCM Volume Forecasts'!$A$28:$AL$136,E$143,FALSE)","v":31.306393442622948},null,null,{"$f":"VLOOKUP(Vlookup!$B197,'CDCM Volume Forecasts'!$A$28:$AL$136,H$143,FALSE)","v":365.0749339285714}]
["LDNO HV: LV Sub Generation Intermittent",{"$f":"VLOOKUP(Vlookup!$B198,'CDCM Volume Forecasts'!$A$28:$AL$136,B$143,FALSE)","v":0},null,null,{"$f":"VLOOKUP(Vlookup!$B198,'CDCM Volume Forecasts'!$A$28:$AL$136,E$143,FALSE)","v":0},null,null,{"$f":"VLOOKUP(Vlookup!$B198,'CDCM Volume Forecasts'!$A$28:$AL$136,H$143,FALSE)","v":0}]
["> LV Sub Generation Intermittent no RP charge"]
["LV Sub Generation Intermittent no RP charge",{"$f":"VLOOKUP(Vlookup!$B200,'CDCM Volume Forecasts'!$A$28:$AL$136,B$143,FALSE)","v":0},null,null,{"$f":"VLOOKUP(Vlookup!$B200,'CDCM Volume Forecasts'!$A$28:$AL$136,E$143,FALSE)","v":0}]
["> LV Sub Generation Non-Intermittent"]
["LV Sub Generation Non-Intermittent",{"$f":"VLOOKUP(Vlookup!$B202,'CDCM Volume Forecasts'!$A$28:$AL$136,B$143,FALSE)","v":504.40105263481149},{"$f":"VLOOKUP(Vlookup!$B202,'CDCM Volume Forecasts'!$A$28:$AL$136,C$143,FALSE)","v":1662.050757533578},{"$f":"VLOOKUP(Vlookup!$B202,'CDCM Volume Forecasts'!$A$28:$AL$136,D$143,FALSE)","v":3695.4007858319828},{"$f":"VLOOKUP(Vlookup!$B202,'CDCM Volume Forecasts'!$A$28:$AL$136,E$143,FALSE)","v":6.1367981557377052},null,null,{"$f":"VLOOKUP(Vlookup!$B202,'CDCM Volume Forecasts'!$A$28:$AL$136,H$143,FALSE)","v":368.17388015624999}]
["LDNO HV: LV Sub Generation Non-Intermittent",{"$f":"VLOOKUP(Vlookup!$B203,'CDCM Volume Forecasts'!$A$28:$AL$136,B$143,FALSE)","v":0},{"$f":"VLOOKUP(Vlookup!$B203,'CDCM Volume Forecasts'!$A$28:$AL$136,C$143,FALSE)","v":0},{"$f":"VLOOKUP(Vlookup!$B203,'CDCM Volume Forecasts'!$A$28:$AL$136,D$143,FALSE)","v":0},{"$f":"VLOOKUP(Vlookup!$B203,'CDCM Volume Forecasts'!$A$28:$AL$136,E$143,FALSE)","v":0},null,null,{"$f":"VLOOKUP(Vlookup!$B203,'CDCM Volume Forecasts'!$A$28:$AL$136,H$143,FALSE)","v":0}]
["> LV Sub Generation Non-Intermittent no RP charge"]
["LV Sub Generation Non-Intermittent no RP charge",{"$f":"VLOOKUP(Vlookup!$B205,'CDCM Volume Forecasts'!$A$28:$AL$136,B$143,FALSE)","v":0},{"$f":"VLOOKUP(Vlookup!$B205,'CDCM Volume Forecasts'!$A$28:$AL$136,C$143,FALSE)","v":0},{"$f":"VLOOKUP(Vlookup!$B205,'CDCM Volume Forecasts'!$A$28:$AL$136,D$143,FALSE)","v":0},{"$f":"VLOOKUP(Vlookup!$B205,'CDCM Volume Forecasts'!$A$28:$AL$136,E$143,FALSE)","v":0}]
["> HV Generation Intermittent"]
["HV Generation Intermittent",{"$f":"VLOOKUP(Vlookup!$B207,'CDCM Volume Forecasts'!$A$28:$AL$136,B$143,FALSE)","v":479000.82970478572},null,null,{"$f":"VLOOKUP(Vlookup!$B207,'CDCM Volume Forecasts'!$A$28:$AL$136,E$143,FALSE)","v":248.15567213114755},null,null,{"$f":"VLOOKUP(Vlookup!$B207,'CDCM Volume Forecasts'!$A$28:$AL$136,H$143,FALSE)","v":10496.618597785713}]
["LDNO HV: HV Generation Intermittent",{"$f":"VLOOKUP(Vlookup!$B208,'CDCM Volume Forecasts'!$A$28:$AL$136,B$143,FALSE)","v":18.630690000000001},null,null,{"$f":"VLOOKUP(Vlookup!$B208,'CDCM Volume Forecasts'!$A$28:$AL$136,E$143,FALSE)","v":0.6228852459016393},null,null,{"$f":"VLOOKUP(Vlookup!$B208,'CDCM Volume Forecasts'!$A$28:$AL$136,H$143,FALSE)","v":9.1079999999999994E-2}]
["> HV Generation Intermittent no RP charge"]
["HV Generation Intermittent no RP charge",{"$f":"VLOOKUP(Vlookup!$B210,'CDCM Volume Forecasts'!$A$28:$AL$136,B$143,FALSE)","v":0},null,null,{"$f":"VLOOKUP(Vlookup!$B210,'CDCM Volume Forecasts'!$A$28:$AL$136,E$143,FALSE)","v":0}]
["> HV Generation Non-Intermittent"]
["HV Generation Non-Intermittent",{"$f":"VLOOKUP(Vlookup!$B212,'CDCM Volume Forecasts'!$A$28:$AL$136,B$143,FALSE)","v":87733.660045539131},{"$f":"VLOOKUP(Vlookup!$B212,'CDCM Volume Forecasts'!$A$28:$AL$136,C$143,FALSE)","v":276082.28215805581},{"$f":"VLOOKUP(Vlookup!$B212,'CDCM Volume Forecasts'!$A$28:$AL$136,D$143,FALSE)","v":487742.29536974273},{"$f":"VLOOKUP(Vlookup!$B212,'CDCM Volume Forecasts'!$A$28:$AL$136,E$143,FALSE)","v":231.28838422131147},null,null,{"$f":"VLOOKUP(Vlookup!$B212,'CDCM Volume Forecasts'!$A$28:$AL$136,H$143,FALSE)","v":15003.980395031253}]
["LDNO HV: HV Generation Non-Intermittent",{"$f":"VLOOKUP(Vlookup!$B213,'CDCM Volume Forecasts'!$A$28:$AL$136,B$143,FALSE)","v":0},{"$f":"VLOOKUP(Vlookup!$B213,'CDCM Volume Forecasts'!$A$28:$AL$136,C$143,FALSE)","v":0},{"$f":"VLOOKUP(Vlookup!$B213,'CDCM Volume Forecasts'!$A$28:$AL$136,D$143,FALSE)","v":0},{"$f":"VLOOKUP(Vlookup!$B213,'CDCM Volume Forecasts'!$A$28:$AL$136,E$143,FALSE)","v":0},null,null,{"$f":"VLOOKUP(Vlookup!$B213,'CDCM Volume Forecasts'!$A$28:$AL$136,H$143,FALSE)","v":0}]
["> HV Generation Non-Intermittent no RP charge"]
["HV Generation Non-Intermittent no RP charge",{"$f":"VLOOKUP(Vlookup!$B215,'CDCM Volume Forecasts'!$A$28:$AL$136,B$143,FALSE)","v":0},{"$f":"VLOOKUP(Vlookup!$B215,'CDCM Volume Forecasts'!$A$28:$AL$136,C$143,FALSE)","v":0},{"$f":"VLOOKUP(Vlookup!$B215,'CDCM Volume Forecasts'!$A$28:$AL$136,D$143,FALSE)","v":0},{"$f":"VLOOKUP(Vlookup!$B215,'CDCM Volume Forecasts'!$A$28:$AL$136,E$143,FALSE)","v":0}]
[]
["1055. Transmission exit charges (£/year)"]
[""]
["Source: forecast."]
[null,"Transmission\nexit"]
["Transmission exit charges (£/year)",{"$f":"VLOOKUP(Vlookup!B221,'CDCM Forecast Data'!$A$14:$I$271,5,FALSE)","v":12361557.2930991},""]
[]
["1059. Other expenditure"]
[""]
[null,"Direct cost (£/year)","Indirect cost (£/year)","Indirect cost proportion","Network rates (£/year)"]
["Other expenditure",{"$f":"VLOOKUP(Vlookup!B226,'CDCM Forecast Data'!$A$14:$I$271,5,FALSE)","v":34760356.964645505},{"$f":"VLOOKUP(Vlookup!C226,'CDCM Forecast Data'!$A$14:$I$271,5,FALSE)","v":123377417.679616},{"$f":"VLOOKUP(Vlookup!D226,'CDCM Forecast Data'!$A$14:$I$271,5,FALSE)","v":0.6},{"$f":"VLOOKUP(Vlookup!E226,'CDCM Forecast Data'!$A$14:$I$271,5,FALSE)","v":34760396.175098099},""]
[]
["1060. Customer contributions under current connection charging policy"]
[]
["Source: analysis of expenditure data and/or survey of capital expenditure schemes."]
["Customer contribution percentages by network level of supply and by asset network level."]
["These proportions should reflect the current connection charging method, not necessarily the method that was in place when the connection was built."]
[null,"Assets\n132kV","Assets\n132kV/EHV","Assets\nEHV","Assets\nEHV/HV","Assets\n132kV/HV","Assets\nHV","Assets\nHV/LV","Assets\nLV circuits"]
["LV network",{"$f":"VLOOKUP(Vlookup!B234,'CDCM Forecast Data'!$A$14:$I$271,5,FALSE)","v":0},{"$f":"VLOOKUP(Vlookup!C234,'CDCM Forecast Data'!$A$14:$I$271,5,FALSE)","v":0},{"$f":"VLOOKUP(Vlookup!D234,'CDCM Forecast Data'!$A$14:$I$271,5,FALSE)","v":0},{"$f":"VLOOKUP(Vlookup!E234,'CDCM Forecast Data'!$A$14:$I$271,5,FALSE)","v":0},{"$f":"VLOOKUP(Vlookup!F234,'CDCM Forecast Data'!$A$14:$I$271,5,FALSE)","v":0},{"$f":"VLOOKUP(Vlookup!G234,'CDCM Forecast Data'!$A$14:$I$271,5,FALSE)","v":0.47913351897273304},{"$f":"VLOOKUP(Vlookup!H234,'CDCM Forecast Data'!$A$14:$I$271,5,FALSE)","v":0.70892384564689981},{"$f":"VLOOKUP(Vlookup!I234,'CDCM Forecast Data'!$A$14:$I$271,5,FALSE)","v":0.93871417232106646},""]
["LV substation",{"$f":"VLOOKUP(Vlookup!B235,'CDCM Forecast Data'!$A$14:$I$271,5,FALSE)","v":0},{"$f":"VLOOKUP(Vlookup!C235,'CDCM Forecast Data'!$A$14:$I$271,5,FALSE)","v":0},{"$f":"VLOOKUP(Vlookup!D235,'CDCM Forecast Data'!$A$14:$I$271,5,FALSE)","v":0},{"$f":"VLOOKUP(Vlookup!E235,'CDCM Forecast Data'!$A$14:$I$271,5,FALSE)","v":0},{"$f":"VLOOKUP(Vlookup!F235,'CDCM Forecast Data'!$A$14:$I$271,5,FALSE)","v":0},{"$f":"VLOOKUP(Vlookup!G235,'CDCM Forecast Data'!$A$14:$I$271,5,FALSE)","v":0.47913351897273304},{"$f":"VLOOKUP(Vlookup!H235,'CDCM Forecast Data'!$A$14:$I$271,5,FALSE)","v":0.70892384564689981},null,""]
["HV network",{"$f":"VLOOKUP(Vlookup!B236,'CDCM Forecast Data'!$A$14:$I$271,5,FALSE)","v":0},{"$f":"VLOOKUP(Vlookup!C236,'CDCM Forecast Data'!$A$14:$I$271,5,FALSE)","v":0},{"$f":"VLOOKUP(Vlookup!D236,'CDCM Forecast Data'!$A$14:$I$271,5,FALSE)","v":6.5420049562801799E-2},{"$f":"VLOOKUP(Vlookup!E236,'CDCM Forecast Data'!$A$14:$I$271,5,FALSE)","v":0.35162962287700078},{"$f":"VLOOKUP(Vlookup!F236,'CDCM Forecast Data'!$A$14:$I$271,5,FALSE)","v":0.35162962287700078},{"$f":"VLOOKUP(Vlookup!G236,'CDCM Forecast Data'!$A$14:$I$271,5,FALSE)","v":0.63783919619119978},null,null,""]
["HV substation",{"$f":"VLOOKUP(Vlookup!B237,'CDCM Forecast Data'!$A$14:$I$271,5,FALSE)","v":0},{"$f":"VLOOKUP(Vlookup!C237,'CDCM Forecast Data'!$A$14:$I$271,5,FALSE)","v":0},{"$f":"VLOOKUP(Vlookup!D237,'CDCM Forecast Data'!$A$14:$I$271,5,FALSE)","v":6.5420049562801799E-2},{"$f":"VLOOKUP(Vlookup!E237,'CDCM Forecast Data'!$A$14:$I$271,5,FALSE)","v":0.35162962287700078},null,null,null,null,""]
[]
["1061. Average split of rate 1 units by distribution time band"]
[]
[null,"Red","Amber","Green"]
["Domestic Unrestricted",{"$f":"VLOOKUP(Vlookup!B247,'CDCM Forecast Data'!$A$14:$I$271,5,FALSE)","v":0.14320337799237601},{"$f":"VLOOKUP(Vlookup!C247,'CDCM Forecast Data'!$A$14:$I$271,5,FALSE)","v":0.39651561494177523},{"$f":"VLOOKUP(Vlookup!D247,'CDCM Forecast Data'!$A$14:$I$271,5,FALSE)","v":0.46028100706584879},""]
["Domestic Two Rate",{"$f":"VLOOKUP(Vlookup!B248,'CDCM Forecast Data'!$A$14:$I$271,5,FALSE)","v":0.1514252192479435},{"$f":"VLOOKUP(Vlookup!C248,'CDCM Forecast Data'!$A$14:$I$271,5,FALSE)","v":0.41991396852294577},{"$f":"VLOOKUP(Vlookup!D248,'CDCM Forecast Data'!$A$14:$I$271,5,FALSE)","v":0.42866081222911073},""]
["Domestic Off Peak (related MPAN)",{"$f":"VLOOKUP(Vlookup!B249,'CDCM Forecast Data'!$A$14:$I$271,5,FALSE)","v":4.4815359759835215E-2},{"$f":"VLOOKUP(Vlookup!C249,'CDCM Forecast Data'!$A$14:$I$271,5,FALSE)","v":0.32491376716050352},{"$f":"VLOOKUP(Vlookup!D249,'CDCM Forecast Data'!$A$14:$I$271,5,FALSE)","v":0.63027087307966123}]
["Small Non Domestic Unrestricted",{"$f":"VLOOKUP(Vlookup!B250,'CDCM Forecast Data'!$A$14:$I$271,5,FALSE)","v":0.12448955251915084},{"$f":"VLOOKUP(Vlookup!C250,'CDCM Forecast Data'!$A$14:$I$271,5,FALSE)","v":0.54839946451589383},{"$f":"VLOOKUP(Vlookup!D250,'CDCM Forecast Data'!$A$14:$I$271,5,FALSE)","v":0.32711098296495528}]
["Small Non Domestic Two Rate",{"$f":"VLOOKUP(Vlookup!B251,'CDCM Forecast Data'!$A$14:$I$271,5,FALSE)","v":0.12789989767459184},{"$f":"VLOOKUP(Vlookup!C251,'CDCM Forecast Data'!$A$14:$I$271,5,FALSE)","v":0.51407192992762296},{"$f":"VLOOKUP(Vlookup!D251,'CDCM Forecast Data'!$A$14:$I$271,5,FALSE)","v":0.35802817239778517},""]
["Small Non Domestic Off Peak (related MPAN)",{"$f":"VLOOKUP(Vlookup!B252,'CDCM Forecast Data'!$A$14:$I$271,5,FALSE)","v":1.6662746927756659E-2},{"$f":"VLOOKUP(Vlookup!C252,'CDCM Forecast Data'!$A$14:$I$271,5,FALSE)","v":0.18539360436192651},{"$f":"VLOOKUP(Vlookup!D252,'CDCM Forecast Data'!$A$14:$I$271,5,FALSE)","v":0.79794364871031676},""]
["LV Medium Non-Domestic",{"$f":"VLOOKUP(Vlookup!B253,'CDCM Forecast Data'!$A$14:$I$271,5,FALSE)","v":0.13578714746948006},{"$f":"VLOOKUP(Vlookup!C253,'CDCM Forecast Data'!$A$14:$I$271,5,FALSE)","v":0.52737188616472797},{"$f":"VLOOKUP(Vlookup!D253,'CDCM Forecast Data'!$A$14:$I$271,5,FALSE)","v":0.33684096636579203},""]
["LV Sub Medium Non-Domestic",{"$f":"VLOOKUP(Vlookup!B254,'CDCM Forecast Data'!$A$14:$I$271,5,FALSE)","v":0.13396894905730031},{"$f":"VLOOKUP(Vlookup!C254,'CDCM Forecast Data'!$A$14:$I$271,5,FALSE)","v":0.52405310526112514},{"$f":"VLOOKUP(Vlookup!D254,'CDCM Forecast Data'!$A$14:$I$271,5,FALSE)","v":0.34197794568157458},""]
["HV Medium Non-Domestic",{"$f":"VLOOKUP(Vlookup!B255,'CDCM Forecast Data'!$A$14:$I$271,5,FALSE)","v":0.13341246842462706},{"$f":"VLOOKUP(Vlookup!C255,'CDCM Forecast Data'!$A$14:$I$271,5,FALSE)","v":0.54105928671962722},{"$f":"VLOOKUP(Vlookup!D255,'CDCM Forecast Data'!$A$14:$I$271,5,FALSE)","v":0.32552824485574577},""]
[]
["1062. Average split of rate 2 units by distribution time band"]
[]
[null,"Black","Yellow","Green"]
["Domestic Two Rate",{"$f":"VLOOKUP(Vlookup!B263,'CDCM Forecast Data'!$A$14:$I$271,5,FALSE)","v":0},{"$f":"VLOOKUP(Vlookup!C263,'CDCM Forecast Data'!$A$14:$I$271,5,FALSE)","v":0},{"$f":"VLOOKUP(Vlookup!D263,'CDCM Forecast Data'!$A$14:$I$271,5,FALSE)","v":1},""]
["Small Non Domestic Two Rate",{"$f":"VLOOKUP(Vlookup!B264,'CDCM Forecast Data'!$A$14:$I$271,5,FALSE)","v":0},{"$f":"VLOOKUP(Vlookup!C264,'CDCM Forecast Data'!$A$14:$I$271,5,FALSE)","v":0},{"$f":"VLOOKUP(Vlookup!D264,'CDCM Forecast Data'!$A$14:$I$271,5,FALSE)","v":1},""]
["LV Medium Non-Domestic",{"$f":"VLOOKUP(Vlookup!B265,'CDCM Forecast Data'!$A$14:$I$271,5,FALSE)","v":0},{"$f":"VLOOKUP(Vlookup!C265,'CDCM Forecast Data'!$A$14:$I$271,5,FALSE)","v":0},{"$f":"VLOOKUP(Vlookup!D265,'CDCM Forecast Data'!$A$14:$I$271,5,FALSE)","v":1},""]
["LV Sub Medium Non-Domestic",{"$f":"VLOOKUP(Vlookup!B266,'CDCM Forecast Data'!$A$14:$I$271,5,FALSE)","v":0},{"$f":"VLOOKUP(Vlookup!C266,'CDCM Forecast Data'!$A$14:$I$271,5,FALSE)","v":0},{"$f":"VLOOKUP(Vlookup!D266,'CDCM Forecast Data'!$A$14:$I$271,5,FALSE)","v":1},""]
["HV Medium Non-Domestic",{"$f":"VLOOKUP(Vlookup!B267,'CDCM Forecast Data'!$A$14:$I$271,5,FALSE)","v":0},{"$f":"VLOOKUP(Vlookup!C267,'CDCM Forecast Data'!$A$14:$I$271,5,FALSE)","v":0},{"$f":"VLOOKUP(Vlookup!D267,'CDCM Forecast Data'!$A$14:$I$271,5,FALSE)","v":1},""]
[]
["1064. Average split of rate 1 units by special distribution time band"]
[]
[null,"Black","Yellow","Green",""]
["NHH UMS category A",{"$f":"VLOOKUP(Vlookup!B272,'CDCM Forecast Data'!$A$14:$I$271,5,FALSE)","v":2.9311076178356665E-2},{"$f":"VLOOKUP(Vlookup!C272,'CDCM Forecast Data'!$A$14:$I$271,5,FALSE)","v":0.37306092022856002},{"$f":"VLOOKUP(Vlookup!D272,'CDCM Forecast Data'!$A$14:$I$271,5,FALSE)","v":0.59762800359308332},""]
["NHH UMS category B",{"$f":"VLOOKUP(Vlookup!B273,'CDCM Forecast Data'!$A$14:$I$271,5,FALSE)","v":5.0432747136262314E-2},{"$f":"VLOOKUP(Vlookup!C273,'CDCM Forecast Data'!$A$14:$I$271,5,FALSE)","v":9.024866969588996E-2},{"$f":"VLOOKUP(Vlookup!D273,'CDCM Forecast Data'!$A$14:$I$271,5,FALSE)","v":0.8593185831678477},""]
["NHH UMS category C",{"$f":"VLOOKUP(Vlookup!B274,'CDCM Forecast Data'!$A$14:$I$271,5,FALSE)","v":9.6185231748668151E-2},{"$f":"VLOOKUP(Vlookup!C274,'CDCM Forecast Data'!$A$14:$I$271,5,FALSE)","v":0.16334039820901594},{"$f":"VLOOKUP(Vlookup!D274,'CDCM Forecast Data'!$A$14:$I$271,5,FALSE)","v":0.74047437004231587},""]
["NHH UMS category D",{"$f":"VLOOKUP(Vlookup!B275,'CDCM Forecast Data'!$A$14:$I$271,5,FALSE)","v":8.830567560272817E-3},{"$f":"VLOOKUP(Vlookup!C275,'CDCM Forecast Data'!$A$14:$I$271,5,FALSE)","v":0.63540611125889146},{"$f":"VLOOKUP(Vlookup!D275,'CDCM Forecast Data'!$A$14:$I$271,5,FALSE)","v":0.35576332118083581},""]
[]
["1066. Typical annual hours by special distribution time band"]
["Source: definition of distribution time bands."]
["The figures in this table will be automatically adjusted to match the number of days in the charging period."]
[]
[null,"Black","Yellow","Green"]
["Annual hours",{"$f":"VLOOKUP(Vlookup!B282,'CDCM Forecast Data'!$A$14:$I$271,5,FALSE)","v":258},{"$f":"VLOOKUP(Vlookup!C282,'CDCM Forecast Data'!$A$14:$I$271,5,FALSE)","v":3279},{"$f":"VLOOKUP(Vlookup!D282,'CDCM Forecast Data'!$A$14:$I$271,5,FALSE)","v":5247},""]
[]
["1068. Typical annual hours by distribution time band"]
[]
["Source: definition of distribution time bands."]
["The figures in this table will be automatically adjusted to match the number of days in the charging period."]
[null,"Red","Amber","Green"]
["Annual hours",{"$f":"VLOOKUP(Vlookup!B289,'CDCM Forecast Data'!$A$14:$I$271,5,FALSE)","v":786},{"$f":"VLOOKUP(Vlookup!C289,'CDCM Forecast Data'!$A$14:$I$271,5,FALSE)","v":2751},{"$f":"VLOOKUP(Vlookup!D289,'CDCM Forecast Data'!$A$14:$I$271,5,FALSE)","v":5247},""]
[]
["1069. Peaking probabilities by network level"]
[]
[]
["Source: analysis of network operation data."]
[null,"Red","Amber","Green","Black"]
["GSPs",{"$f":"VLOOKUP(Vlookup!B295,'CDCM Forecast Data'!$A$14:$I$271,5,FALSE)","v":1},{"$f":"VLOOKUP(Vlookup!C295,'CDCM Forecast Data'!$A$14:$I$271,5,FALSE)","v":0},{"$f":"VLOOKUP(Vlookup!D295,'CDCM Forecast Data'!$A$14:$I$271,5,FALSE)","v":0},{"$f":"VLOOKUP(Vlookup!E295,'CDCM Forecast Data'!$A$14:$I$271,5,FALSE)","v":1},""]
["132kV",{"$f":"VLOOKUP(Vlookup!B296,'CDCM Forecast Data'!$A$14:$I$271,5,FALSE)","v":0.78083657486560021},{"$f":"VLOOKUP(Vlookup!C296,'CDCM Forecast Data'!$A$14:$I$271,5,FALSE)","v":0.20804160459605281},{"$f":"VLOOKUP(Vlookup!D296,'CDCM Forecast Data'!$A$14:$I$271,5,FALSE)","v":1.1121820538347099E-2},{"$f":"VLOOKUP(Vlookup!E296,'CDCM Forecast Data'!$A$14:$I$271,5,FALSE)","v":0.76764541372159689},""]
["132kV/EHV",{"$f":"VLOOKUP(Vlookup!B297,'CDCM Forecast Data'!$A$14:$I$271,5,FALSE)","v":0.78083657486560021},{"$f":"VLOOKUP(Vlookup!C297,'CDCM Forecast Data'!$A$14:$I$271,5,FALSE)","v":0.20804160459605281},{"$f":"VLOOKUP(Vlookup!D297,'CDCM Forecast Data'!$A$14:$I$271,5,FALSE)","v":1.1121820538347099E-2},{"$f":"VLOOKUP(Vlookup!E297,'CDCM Forecast Data'!$A$14:$I$271,5,FALSE)","v":0.76764541372159689},""]
["EHV",{"$f":"VLOOKUP(Vlookup!B298,'CDCM Forecast Data'!$A$14:$I$271,5,FALSE)","v":0.66321603936627416},{"$f":"VLOOKUP(Vlookup!C298,'CDCM Forecast Data'!$A$14:$I$271,5,FALSE)","v":0.29786987200550125},{"$f":"VLOOKUP(Vlookup!D298,'CDCM Forecast Data'!$A$14:$I$271,5,FALSE)","v":3.8914088628224541E-2},{"$f":"VLOOKUP(Vlookup!E298,'CDCM Forecast Data'!$A$14:$I$271,5,FALSE)","v":0.65256034025485976},""]
["EHV/HV",{"$f":"VLOOKUP(Vlookup!B299,'CDCM Forecast Data'!$A$14:$I$271,5,FALSE)","v":0.66321603936627416},{"$f":"VLOOKUP(Vlookup!C299,'CDCM Forecast Data'!$A$14:$I$271,5,FALSE)","v":0.29786987200550125},{"$f":"VLOOKUP(Vlookup!D299,'CDCM Forecast Data'!$A$14:$I$271,5,FALSE)","v":3.8914088628224541E-2},{"$f":"VLOOKUP(Vlookup!E299,'CDCM Forecast Data'!$A$14:$I$271,5,FALSE)","v":0.65256034025485976},""]
["132kV/HV",{"$f":"VLOOKUP(Vlookup!B300,'CDCM Forecast Data'!$A$14:$I$271,5,FALSE)","v":0.78083657486560021},{"$f":"VLOOKUP(Vlookup!C300,'CDCM Forecast Data'!$A$14:$I$271,5,FALSE)","v":0.20804160459605281},{"$f":"VLOOKUP(Vlookup!D300,'CDCM Forecast Data'!$A$14:$I$271,5,FALSE)","v":1.1121820538347099E-2},{"$f":"VLOOKUP(Vlookup!E300,'CDCM Forecast Data'!$A$14:$I$271,5,FALSE)","v":0.76764541372159689},""]
["HV",{"$f":"VLOOKUP(Vlookup!B301,'CDCM Forecast Data'!$A$14:$I$271,5,FALSE)","v":0.66321603936627416},{"$f":"VLOOKUP(Vlookup!C301,'CDCM Forecast Data'!$A$14:$I$271,5,FALSE)","v":0.29786987200550125},{"$f":"VLOOKUP(Vlookup!D301,'CDCM Forecast Data'!$A$14:$I$271,5,FALSE)","v":3.8914088628224541E-2},{"$f":"VLOOKUP(Vlookup!E301,'CDCM Forecast Data'!$A$14:$I$271,5,FALSE)","v":0.65256034025485976},""]
["HV/LV",{"$f":"VLOOKUP(Vlookup!B302,'CDCM Forecast Data'!$A$14:$I$271,5,FALSE)","v":0.66321603936627416},{"$f":"VLOOKUP(Vlookup!C302,'CDCM Forecast Data'!$A$14:$I$271,5,FALSE)","v":0.29786987200550125},{"$f":"VLOOKUP(Vlookup!D302,'CDCM Forecast Data'!$A$14:$I$271,5,FALSE)","v":3.8914088628224541E-2},{"$f":"VLOOKUP(Vlookup!E302,'CDCM Forecast Data'!$A$14:$I$271,5,FALSE)","v":0.65256034025485976},""]
["LV circuits",{"$f":"VLOOKUP(Vlookup!B303,'CDCM Forecast Data'!$A$14:$I$271,5,FALSE)","v":0.66321603936627416},{"$f":"VLOOKUP(Vlookup!C303,'CDCM Forecast Data'!$A$14:$I$271,5,FALSE)","v":0.29786987200550125},{"$f":"VLOOKUP(Vlookup!D303,'CDCM Forecast Data'!$A$14:$I$271,5,FALSE)","v":3.8914088628224541E-2},{"$f":"VLOOKUP(Vlookup!E303,'CDCM Forecast Data'!$A$14:$I$271,5,FALSE)","v":0.65256034025485976},""]
[]
["1076. Target CDCM net revenue (£/year)"]
["Source: mostly forecasts and price control formulae."]
[]
[null,"Target CDCM net revenue (£/year)"]
["Target CDCM net revenue (£/year)",{"$f":"1000000*'Table 1'!F48","v":503871327.15048426}]
[]
["1092. Average kVAr by kVA, by network level"]
[""]
["Source: analysis of operational data."]
["This is the average of MVAr/MVA or SQRT(1-PF^2) across relevant network elements."]
[null,"GSPs","132kV","132kV/EHV","EHV","EHV/HV","132kV/HV","HV","HV/LV","LV circuits"]
["Average kVAr by kVA, by network level",{"$f":"VLOOKUP(Vlookup!B310,'CDCM Forecast Data'!$A$14:$I$271,5,FALSE)","v":0.17488998364096539},{"$f":"VLOOKUP(Vlookup!C310,'CDCM Forecast Data'!$A$14:$I$271,5,FALSE)","v":0.17488998364096539},{"$f":"VLOOKUP(Vlookup!D310,'CDCM Forecast Data'!$A$14:$I$271,5,FALSE)","v":0.17488998364096539},{"$f":"VLOOKUP(Vlookup!E310,'CDCM Forecast Data'!$A$14:$I$271,5,FALSE)","v":0.17488998364096539},{"$f":"VLOOKUP(Vlookup!F310,'CDCM Forecast Data'!$A$14:$I$271,5,FALSE)","v":0.17488998364096539},{"$f":"VLOOKUP(Vlookup!G310,'CDCM Forecast Data'!$A$14:$I$271,5,FALSE)","v":0.17488998364096539},{"$f":"VLOOKUP(Vlookup!H310,'CDCM Forecast Data'!$A$14:$I$271,5,FALSE)","v":0.17488998364096539},{"$f":"VLOOKUP(Vlookup!I310,'CDCM Forecast Data'!$A$14:$I$271,5,FALSE)","v":0.17488998364096539},{"$f":"VLOOKUP(Vlookup!J310,'CDCM Forecast Data'!$A$14:$I$271,5,FALSE)","v":0.17488998364096539},""]

{"sheet":"(Y+1)","index":9,"n_rows":350,"n_cols":11,"rows_kept":350,"cut":false,"hidden":false,"merged":[]}
["Input data (Y+1)"]
[]
[]
["1000. Company, charging year, data version"]
[""]
[null,"Company","Year","Version"]
["Company, charging year, data version",{"$f":"VLOOKUP(Vlookup!B7,'CDCM Forecast Data'!$A$14:$I$271,6,FALSE)","v":"WPD East Midlands"},{"$f":"VLOOKUP(Vlookup!C7,'CDCM Forecast Data'!$A$14:$I$271,6,FALSE)","v":"2020/21"},{"$f":"VLOOKUP(Vlookup!D7,'CDCM Forecast Data'!$A$14:$I$271,6,FALSE)","v":"Forecast"},""]
[]
["1010. Financial and general assumptions"]
[]
["Sources: financial assumptions; calendar; network model."]
["These financial assumptions determine the annuity rate applied to convert the asset values of the network model into an annual charge."]
[null,"Rate of return","Annualisation period (years)","Annuity proportion for customer-contributed assets","Power factor","Days in the charging period"]
["Financial and general assumptions",{"$f":"VLOOKUP(Vlookup!B14,'CDCM Forecast Data'!$A$14:$I$271,6,FALSE)","v":4.2099999999999999E-2},{"$f":"VLOOKUP(Vlookup!C14,'CDCM Forecast Data'!$A$14:$I$271,6,FALSE)","v":40},null,{"$f":"VLOOKUP(Vlookup!E14,'CDCM Forecast Data'!$A$14:$I$271,6,FALSE)","v":0.95},{"$f":"VLOOKUP(Vlookup!F14,'CDCM Forecast Data'!$A$14:$I$271,6,FALSE)","v":365},""]
[]
["1017. Diversity allowance between top and bottom of network level"]
[]
["Source: operational data analysis and/or network model."]
["The diversity figure against GSP is the diversity between GSP Group (the whole system) and individual GSPs."]
["The diversity figure against 132kV is the diversity between GSPs (the top of the 132kV network) and 132kV/EHV bulk supply points (the bottom of the 132kV network). "]
["The diversity figure against EHV is the diversity between 132kV/EHV bulk supply points (the top of the EHV network) and EHV/HV primary substations (the bottom of the EHV network). "]
["The diversity figure against HV is the diversity between EHV/HV primary substations (the top of the HV network) and HV/LV substations (the bottom of the HV network). "]
[null,"Diversity allowance between top and bottom of network level"]
["GSPs",{"$f":"VLOOKUP(Vlookup!B24,'CDCM Forecast Data'!$A$14:$I$271,6,FALSE)","v":2.4713742436156094E-2},""]
["132kV",{"$f":"VLOOKUP(Vlookup!B25,'CDCM Forecast Data'!$A$14:$I$271,6,FALSE)","v":4.5013478235986115E-2},""]
["132kV/EHV",null,""]
["EHV",{"$f":"VLOOKUP(Vlookup!B27,'CDCM Forecast Data'!$A$14:$I$271,6,FALSE)","v":7.9017642685410783E-2},""]
["EHV/HV",null,""]
["HV",{"$f":"VLOOKUP(Vlookup!B29,'CDCM Forecast Data'!$A$14:$I$271,6,FALSE)","v":0.34000000000000008},""]
["HV/LV",null,""]
["LV circuits",null,""]
[]
["1018. Proportion of relevant load going through 132kV/HV direct transformation"]
[""]
[null,"132kV/HV"]
["EHV/HV",{"$f":"VLOOKUP(Vlookup!B36,'CDCM Forecast Data'!$A$14:$I$271,6,FALSE)","v":7.5044342711319545E-2},""]
[]
["1019. Network model GSP peak demand (MW)"]
[]
[null,"Network model GSP peak demand (MW)"]
["Network model GSP peak demand (MW)",{"$f":"VLOOKUP(Vlookup!B41,'CDCM Forecast Data'!$A$14:$I$271,6,FALSE)","v":500},""]
[]
["1020. Gross asset cost by network level (£)"]
[]
[null,"Gross assets £"]
["132kV",{"$f":"VLOOKUP(Vlookup!B46,'CDCM Forecast Data'!$A$14:$I$271,6,FALSE)","v":58314087.631320402},""]
["132kV/EHV",{"$f":"VLOOKUP(Vlookup!B47,'CDCM Forecast Data'!$A$14:$I$271,6,FALSE)","v":29633886.506176949},""]
["EHV",{"$f":"VLOOKUP(Vlookup!B48,'CDCM Forecast Data'!$A$14:$I$271,6,FALSE)","v":36222821.909676045},""]
["EHV/HV",{"$f":"VLOOKUP(Vlookup!B49,'CDCM Forecast Data'!$A$14:$I$271,6,FALSE)","v":58803851.384549752},""]
["132kV/HV",{"$f":"VLOOKUP(Vlookup!B50,'CDCM Forecast Data'!$A$14:$I$271,6,FALSE)","v":4931925.8338023452},""]
["HV",{"$f":"VLOOKUP(Vlookup!B51,'CDCM Forecast Data'!$A$14:$I$271,6,FALSE)","v":139525767.75832295},""]
["HV/LV",{"$f":"VLOOKUP(Vlookup!B52,'CDCM Forecast Data'!$A$14:$I$271,6,FALSE)","v":63068118.319360636},""]
["LV circuits",{"$f":"VLOOKUP(Vlookup!B53,'CDCM Forecast Data'!$A$14:$I$271,6,FALSE)","v":122738128.90228501},""]
[]
["1022. LV service model asset cost (£)"]
[]
[null,"LV service model 1","LV service model 2","LV service model 3","LV service model 4","LV service model 5","LV service model 6","LV service model 7","LV service model 8"]
["LV service model asset cost (£)",{"$f":"VLOOKUP(Vlookup!B58,'CDCM Forecast Data'!$A$14:$I$271,6,FALSE)","v":4495.7718413043494},{"$f":"VLOOKUP(Vlookup!C58,'CDCM Forecast Data'!$A$14:$I$271,6,FALSE)","v":685.43962960144961},{"$f":"VLOOKUP(Vlookup!D58,'CDCM Forecast Data'!$A$14:$I$271,6,FALSE)","v":792.7676514492756},{"$f":"VLOOKUP(Vlookup!E58,'CDCM Forecast Data'!$A$14:$I$271,6,FALSE)","v":575.33077086956519},{"$f":"VLOOKUP(Vlookup!F58,'CDCM Forecast Data'!$A$14:$I$271,6,FALSE)","v":1269.3052049855075},{"$f":"VLOOKUP(Vlookup!G58,'CDCM Forecast Data'!$A$14:$I$271,6,FALSE)","v":990.87249130434805},{"$f":"VLOOKUP(Vlookup!H58,'CDCM Forecast Data'!$A$14:$I$271,6,FALSE)","v":0},{"$f":"VLOOKUP(Vlookup!I58,'CDCM Forecast Data'!$A$14:$I$271,6,FALSE)","v":542.31268652173912},""]
[]
["1023. HV service model asset cost (£)"]
[]
[null,"HV service model 1","HV service model 2","HV service model 3","HV service model 4","HV service model 5"]
["HV service model asset cost (£)",{"$f":"VLOOKUP(Vlookup!B63,'CDCM Forecast Data'!$A$14:$I$271,6,FALSE)","v":10701.158937391307},{"$f":"VLOOKUP(Vlookup!C63,'CDCM Forecast Data'!$A$14:$I$271,6,FALSE)","v":4399.4782608695659},{"$f":"VLOOKUP(Vlookup!D63,'CDCM Forecast Data'!$A$14:$I$271,6,FALSE)","v":0},{"$f":"VLOOKUP(Vlookup!E63,'CDCM Forecast Data'!$A$14:$I$271,6,FALSE)","v":0},{"$f":"VLOOKUP(Vlookup!F63,'CDCM Forecast Data'!$A$14:$I$271,6,FALSE)","v":0},""]
[]
["1025. Matrix of applicability of LV service models to tariffs with fixed charges"]
[null,10,{"$f":"B66+1","v":11},12,13,14,15,16,17]
[null,"LV service model 1","LV service model 2","LV service model 3","LV service model 4","LV service model 5","LV service model 6","LV service model 7","LV service model 8"]
["Domestic Unrestricted",{"$f":"VLOOKUP($A68,'Mat of App'!$B$7:$AP$43,B$66,FALSE)","v":0.05},{"$f":"VLOOKUP($A68,'Mat of App'!$B$7:$AP$43,C$66,FALSE)","v":0},{"$f":"VLOOKUP($A68,'Mat of App'!$B$7:$AP$43,D$66,FALSE)","v":0},{"$f":"VLOOKUP($A68,'Mat of App'!$B$7:$AP$43,E$66,FALSE)","v":0},{"$f":"VLOOKUP($A68,'Mat of App'!$B$7:$AP$43,F$66,FALSE)","v":0},{"$f":"VLOOKUP($A68,'Mat of App'!$B$7:$AP$43,G$66,FALSE)","v":0},{"$f":"VLOOKUP($A68,'Mat of App'!$B$7:$AP$43,H$66,FALSE)","v":0},{"$f":"VLOOKUP($A68,'Mat of App'!$B$7:$AP$43,I$66,FALSE)","v":0},""]
["Domestic Two Rate",{"$f":"VLOOKUP($A69,'Mat of App'!$B$7:$AP$43,B$66,FALSE)","v":0.05},{"$f":"VLOOKUP($A69,'Mat of App'!$B$7:$AP$43,C$66,FALSE)","v":0},{"$f":"VLOOKUP($A69,'Mat of App'!$B$7:$AP$43,D$66,FALSE)","v":0},{"$f":"VLOOKUP($A69,'Mat of App'!$B$7:$AP$43,E$66,FALSE)","v":0},{"$f":"VLOOKUP($A69,'Mat of App'!$B$7:$AP$43,F$66,FALSE)","v":0},{"$f":"VLOOKUP($A69,'Mat of App'!$B$7:$AP$43,G$66,FALSE)","v":0},{"$f":"VLOOKUP($A69,'Mat of App'!$B$7:$AP$43,H$66,FALSE)","v":0},{"$f":"VLOOKUP($A69,'Mat of App'!$B$7:$AP$43,I$66,FALSE)","v":0},""]
["Small Non Domestic Unrestricted",{"$f":"VLOOKUP($A70,'Mat of App'!$B$7:$AP$43,B$66,FALSE)","v":0},{"$f":"VLOOKUP($A70,'Mat of App'!$B$7:$AP$43,C$66,FALSE)","v":1},{"$f":"VLOOKUP($A70,'Mat of App'!$B$7:$AP$43,D$66,FALSE)","v":0},{"$f":"VLOOKUP($A70,'Mat of App'!$B$7:$AP$43,E$66,FALSE)","v":0},{"$f":"VLOOKUP($A70,'Mat of App'!$B$7:$AP$43,F$66,FALSE)","v":0},{"$f":"VLOOKUP($A70,'Mat of App'!$B$7:$AP$43,G$66,FALSE)","v":0},{"$f":"VLOOKUP($A70,'Mat of App'!$B$7:$AP$43,H$66,FALSE)","v":0},{"$f":"VLOOKUP($A70,'Mat of App'!$B$7:$AP$43,I$66,FALSE)","v":0},""]
["Small Non Domestic Two Rate",{"$f":"VLOOKUP($A71,'Mat of App'!$B$7:$AP$43,B$66,FALSE)","v":0},{"$f":"VLOOKUP($A71,'Mat of App'!$B$7:$AP$43,C$66,FALSE)","v":1},{"$f":"VLOOKUP($A71,'Mat of App'!$B$7:$AP$43,D$66,FALSE)","v":0},{"$f":"VLOOKUP($A71,'Mat of App'!$B$7:$AP$43,E$66,FALSE)","v":0},{"$f":"VLOOKUP($A71,'Mat of App'!$B$7:$AP$43,F$66,FALSE)","v":0},{"$f":"VLOOKUP($A71,'Mat of App'!$B$7:$AP$43,G$66,FALSE)","v":0},{"$f":"VLOOKUP($A71,'Mat of App'!$B$7:$AP$43,H$66,FALSE)","v":0},{"$f":"VLOOKUP($A71,'Mat of App'!$B$7:$AP$43,I$66,FALSE)","v":0},""]
["LV Medium Non-Domestic",{"$f":"VLOOKUP($A72,'Mat of App'!$B$7:$AP$43,B$66,FALSE)","v":0},{"$f":"VLOOKUP($A72,'Mat of App'!$B$7:$AP$43,C$66,FALSE)","v":0},{"$f":"VLOOKUP($A72,'Mat of App'!$B$7:$AP$43,D$66,FALSE)","v":1},{"$f":"VLOOKUP($A72,'Mat of App'!$B$7:$AP$43,E$66,FALSE)","v":0},{"$f":"VLOOKUP($A72,'Mat of App'!$B$7:$AP$43,F$66,FALSE)","v":0},{"$f":"VLOOKUP($A72,'Mat of App'!$B$7:$AP$43,G$66,FALSE)","v":0},{"$f":"VLOOKUP($A72,'Mat of App'!$B$7:$AP$43,H$66,FALSE)","v":0},{"$f":"VLOOKUP($A72,'Mat of App'!$B$7:$AP$43,I$66,FALSE)","v":0}]
["LV Sub Medium Non-Domestic",{"$f":"VLOOKUP($A73,'Mat of App'!$B$7:$AP$43,B$66,FALSE)","v":0},{"$f":"VLOOKUP($A73,'Mat of App'!$B$7:$AP$43,C$66,FALSE)","v":0},{"$f":"VLOOKUP($A73,'Mat of App'!$B$7:$AP$43,D$66,FALSE)","v":0},{"$f":"VLOOKUP($A73,'Mat of App'!$B$7:$AP$43,E$66,FALSE)","v":1},{"$f":"VLOOKUP($A73,'Mat of App'!$B$7:$AP$43,F$66,FALSE)","v":0},{"$f":"VLOOKUP($A73,'Mat of App'!$B$7:$AP$43,G$66,FALSE)","v":0},{"$f":"VLOOKUP($A73,'Mat of App'!$B$7:$AP$43,H$66,FALSE)","v":0},{"$f":"VLOOKUP($A73,'Mat of App'!$B$7:$AP$43,I$66,FALSE)","v":0}]
["LV Network Domestic",{"$f":"VLOOKUP($A74,'Mat of App'!$B$7:$AP$43,B$66,FALSE)","v":0.05},{"$f":"VLOOKUP($A74,'Mat of App'!$B$7:$AP$43,C$66,FALSE)","v":0},{"$f":"VLOOKUP($A74,'Mat of App'!$B$7:$AP$43,D$66,FALSE)","v":0},{"$f":"VLOOKUP($A74,'Mat of App'!$B$7:$AP$43,E$66,FALSE)","v":0},{"$f":"VLOOKUP($A74,'Mat of App'!$B$7:$AP$43,F$66,FALSE)","v":0},{"$f":"VLOOKUP($A74,'Mat of App'!$B$7:$AP$43,G$66,FALSE)","v":0},{"$f":"VLOOKUP($A74,'Mat of App'!$B$7:$AP$43,H$66,FALSE)","v":0},{"$f":"VLOOKUP($A74,'Mat of App'!$B$7:$AP$43,I$66,FALSE)","v":0},""]
["LV Network Non-Domestic Non-CT",{"$f":"VLOOKUP($A75,'Mat of App'!$B$7:$AP$43,B$66,FALSE)","v":0},{"$f":"VLOOKUP($A75,'Mat of App'!$B$7:$AP$43,C$66,FALSE)","v":1},{"$f":"VLOOKUP($A75,'Mat of App'!$B$7:$AP$43,D$66,FALSE)","v":0},{"$f":"VLOOKUP($A75,'Mat of App'!$B$7:$AP$43,E$66,FALSE)","v":0},{"$f":"VLOOKUP($A75,'Mat of App'!$B$7:$AP$43,F$66,FALSE)","v":0},{"$f":"VLOOKUP($A75,'Mat of App'!$B$7:$AP$43,G$66,FALSE)","v":0},{"$f":"VLOOKUP($A75,'Mat of App'!$B$7:$AP$43,H$66,FALSE)","v":0},{"$f":"VLOOKUP($A75,'Mat of App'!$B$7:$AP$43,I$66,FALSE)","v":0},""]
["LV HH Metered",{"$f":"VLOOKUP($A76,'Mat of App'!$B$7:$AP$43,B$66,FALSE)","v":0},{"$f":"VLOOKUP($A76,'Mat of App'!$B$7:$AP$43,C$66,FALSE)","v":0},{"$f":"VLOOKUP($A76,'Mat of App'!$B$7:$AP$43,D$66,FALSE)","v":0},{"$f":"VLOOKUP($A76,'Mat of App'!$B$7:$AP$43,E$66,FALSE)","v":0},{"$f":"VLOOKUP($A76,'Mat of App'!$B$7:$AP$43,F$66,FALSE)","v":1},{"$f":"VLOOKUP($A76,'Mat of App'!$B$7:$AP$43,G$66,FALSE)","v":0},{"$f":"VLOOKUP($A76,'Mat of App'!$B$7:$AP$43,H$66,FALSE)","v":0},{"$f":"VLOOKUP($A76,'Mat of App'!$B$7:$AP$43,I$66,FALSE)","v":0},""]
["LV Sub HH Metered",{"$f":"VLOOKUP($A77,'Mat of App'!$B$7:$AP$43,B$66,FALSE)","v":0},{"$f":"VLOOKUP($A77,'Mat of App'!$B$7:$AP$43,C$66,FALSE)","v":0},{"$f":"VLOOKUP($A77,'Mat of App'!$B$7:$AP$43,D$66,FALSE)","v":0},{"$f":"VLOOKUP($A77,'Mat of App'!$B$7:$AP$43,E$66,FALSE)","v":0},{"$f":"VLOOKUP($A77,'Mat of App'!$B$7:$AP$43,F$66,FALSE)","v":0},{"$f":"VLOOKUP($A77,'Mat of App'!$B$7:$AP$43,G$66,FALSE)","v":1},{"$f":"VLOOKUP($A77,'Mat of App'!$B$7:$AP$43,H$66,FALSE)","v":0},{"$f":"VLOOKUP($A77,'Mat of App'!$B$7:$AP$43,I$66,FALSE)","v":0},""]
["LV Generation NHH or Aggregate HH",{"$f":"VLOOKUP($A78,'Mat of App'!$B$7:$AP$43,B$66,FALSE)","v":0},{"$f":"VLOOKUP($A78,'Mat of App'!$B$7:$AP$43,C$66,FALSE)","v":0},{"$f":"VLOOKUP($A78,'Mat of App'!$B$7:$AP$43,D$66,FALSE)","v":0},{"$f":"VLOOKUP($A78,'Mat of App'!$B$7:$AP$43,E$66,FALSE)","v":0},{"$f":"VLOOKUP($A78,'Mat of App'!$B$7:$AP$43,F$66,FALSE)","v":0},{"$f":"VLOOKUP($A78,'Mat of App'!$B$7:$AP$43,G$66,FALSE)","v":0},{"$f":"VLOOKUP($A78,'Mat of App'!$B$7:$AP$43,H$66,FALSE)","v":1},{"$f":"VLOOKUP($A78,'Mat of App'!$B$7:$AP$43,I$66,FALSE)","v":0},""]
["LV Sub Generation NHH",{"$f":"VLOOKUP($A79,'Mat of App'!$B$7:$AP$43,B$66,FALSE)","v":0},{"$f":"VLOOKUP($A79,'Mat of App'!$B$7:$AP$43,C$66,FALSE)","v":0},{"$f":"VLOOKUP($A79,'Mat of App'!$B$7:$AP$43,D$66,FALSE)","v":0},{"$f":"VLOOKUP($A79,'Mat of App'!$B$7:$AP$43,E$66,FALSE)","v":0},{"$f":"VLOOKUP($A79,'Mat of App'!$B$7:$AP$43,F$66,FALSE)","v":0},{"$f":"VLOOKUP($A79,'Mat of App'!$B$7:$AP$43,G$66,FALSE)","v":0},{"$f":"VLOOKUP($A79,'Mat of App'!$B$7:$AP$43,H$66,FALSE)","v":1},{"$f":"VLOOKUP($A79,'Mat of App'!$B$7:$AP$43,I$66,FALSE)","v":0},""]
["LV Generation Intermittent",{"$f":"VLOOKUP($A80,'Mat of App'!$B$7:$AP$43,B$66,FALSE)","v":0},{"$f":"VLOOKUP($A80,'Mat of App'!$B$7:$AP$43,C$66,FALSE)","v":0},{"$f":"VLOOKUP($A80,'Mat of App'!$B$7:$AP$43,D$66,FALSE)","v":0},{"$f":"VLOOKUP($A80,'Mat of App'!$B$7:$AP$43,E$66,FALSE)","v":0},{"$f":"VLOOKUP($A80,'Mat of App'!$B$7:$AP$43,F$66,FALSE)","v":0},{"$f":"VLOOKUP($A80,'Mat of App'!$B$7:$AP$43,G$66,FALSE)","v":0},{"$f":"VLOOKUP($A80,'Mat of App'!$B$7:$AP$43,H$66,FALSE)","v":1},{"$f":"VLOOKUP($A80,'Mat of App'!$B$7:$AP$43,I$66,FALSE)","v":0},""]
["LV Generation Intermittent no RP charge",{"$f":"VLOOKUP($A81,'Mat of App'!$B$7:$AP$43,B$66,FALSE)","v":0},{"$f":"VLOOKUP($A81,'Mat of App'!$B$7:$AP$43,C$66,FALSE)","v":0},{"$f":"VLOOKUP($A81,'Mat of App'!$B$7:$AP$43,D$66,FALSE)","v":0},{"$f":"VLOOKUP($A81,'Mat of App'!$B$7:$AP$43,E$66,FALSE)","v":0},{"$f":"VLOOKUP($A81,'Mat of App'!$B$7:$AP$43,F$66,FALSE)","v":0},{"$f":"VLOOKUP($A81,'Mat of App'!$B$7:$AP$43,G$66,FALSE)","v":0},{"$f":"VLOOKUP($A81,'Mat of App'!$B$7:$AP$43,H$66,FALSE)","v":1},{"$f":"VLOOKUP($A81,'Mat of App'!$B$7:$AP$43,I$66,FALSE)","v":0},""]
["LV Generation Non-Intermittent",{"$f":"VLOOKUP($A82,'Mat of App'!$B$7:$AP$43,B$66,FALSE)","v":0},{"$f":"VLOOKUP($A82,'Mat of App'!$B$7:$AP$43,C$66,FALSE)","v":0},{"$f":"VLOOKUP($A82,'Mat of App'!$B$7:$AP$43,D$66,FALSE)","v":0},{"$f":"VLOOKUP($A82,'Mat of App'!$B$7:$AP$43,E$66,FALSE)","v":0},{"$f":"VLOOKUP($A82,'Mat of App'!$B$7:$AP$43,F$66,FALSE)","v":0},{"$f":"VLOOKUP($A82,'Mat of App'!$B$7:$AP$43,G$66,FALSE)","v":0},{"$f":"VLOOKUP($A82,'Mat of App'!$B$7:$AP$43,H$66,FALSE)","v":0},{"$f":"VLOOKUP($A82,'Mat of App'!$B$7:$AP$43,I$66,FALSE)","v":0},""]
["LV Generation Non-Intermittent no RP charge",{"$f":"VLOOKUP($A83,'Mat of App'!$B$7:$AP$43,B$66,FALSE)","v":0},{"$f":"VLOOKUP($A83,'Mat of App'!$B$7:$AP$43,C$66,FALSE)","v":0},{"$f":"VLOOKUP($A83,'Mat of App'!$B$7:$AP$43,D$66,FALSE)","v":0},{"$f":"VLOOKUP($A83,'Mat of App'!$B$7:$AP$43,E$66,FALSE)","v":0},{"$f":"VLOOKUP($A83,'Mat of App'!$B$7:$AP$43,F$66,FALSE)","v":0},{"$f":"VLOOKUP($A83,'Mat of App'!$B$7:$AP$43,G$66,FALSE)","v":0},{"$f":"VLOOKUP($A83,'Mat of App'!$B$7:$AP$43,H$66,FALSE)","v":0},{"$f":"VLOOKUP($A83,'Mat of App'!$B$7:$AP$43,I$66,FALSE)","v":0}]
["LV Sub Generation Intermittent",{"$f":"VLOOKUP($A84,'Mat of App'!$B$7:$AP$43,B$66,FALSE)","v":0},{"$f":"VLOOKUP($A84,'Mat of App'!$B$7:$AP$43,C$66,FALSE)","v":0},{"$f":"VLOOKUP($A84,'Mat of App'!$B$7:$AP$43,D$66,FALSE)","v":0},{"$f":"VLOOKUP($A84,'Mat of App'!$B$7:$AP$43,E$66,FALSE)","v":0},{"$f":"VLOOKUP($A84,'Mat of App'!$B$7:$AP$43,F$66,FALSE)","v":0},{"$f":"VLOOKUP($A84,'Mat of App'!$B$7:$AP$43,G$66,FALSE)","v":0},{"$f":"VLOOKUP($A84,'Mat of App'!$B$7:$AP$43,H$66,FALSE)","v":0},{"$f":"VLOOKUP($A84,'Mat of App'!$B$7:$AP$43,I$66,FALSE)","v":0}]
["LV Sub Generation Intermittent no RP charge",{"$f":"VLOOKUP($A85,'Mat of App'!$B$7:$AP$43,B$66,FALSE)","v":0},{"$f":"VLOOKUP($A85,'Mat of App'!$B$7:$AP$43,C$66,FALSE)","v":0},{"$f":"VLOOKUP($A85,'Mat of App'!$B$7:$AP$43,D$66,FALSE)","v":0},{"$f":"VLOOKUP($A85,'Mat of App'!$B$7:$AP$43,E$66,FALSE)","v":0},{"$f":"VLOOKUP($A85,'Mat of App'!$B$7:$AP$43,F$66,FALSE)","v":0},{"$f":"VLOOKUP($A85,'Mat of App'!$B$7:$AP$43,G$66,FALSE)","v":0},{"$f":"VLOOKUP($A85,'Mat of App'!$B$7:$AP$43,H$66,FALSE)","v":0},{"$f":"VLOOKUP($A85,'Mat of App'!$B$7:$AP$43,I$66,FALSE)","v":0}]
["LV Sub Generation Non-Intermittent",{"$f":"VLOOKUP($A86,'Mat of App'!$B$7:$AP$43,B$66,FALSE)","v":0},{"$f":"VLOOKUP($A86,'Mat of App'!$B$7:$AP$43,C$66,FALSE)","v":0},{"$f":"VLOOKUP($A86,'Mat of App'!$B$7:$AP$43,D$66,FALSE)","v":0},{"$f":"VLOOKUP($A86,'Mat of App'!$B$7:$AP$43,E$66,FALSE)","v":0},{"$f":"VLOOKUP($A86,'Mat of App'!$B$7:$AP$43,F$66,FALSE)","v":0},{"$f":"VLOOKUP($A86,'Mat of App'!$B$7:$AP$43,G$66,FALSE)","v":0},{"$f":"VLOOKUP($A86,'Mat of App'!$B$7:$AP$43,H$66,FALSE)","v":0},{"$f":"VLOOKUP($A86,'Mat of App'!$B$7:$AP$43,I$66,FALSE)","v":0}]
["LV Sub Generation Non-Intermittent no RP charge",{"$f":"VLOOKUP($A87,'Mat of App'!$B$7:$AP$43,B$66,FALSE)","v":0},{"$f":"VLOOKUP($A87,'Mat of App'!$B$7:$AP$43,C$66,FALSE)","v":0},{"$f":"VLOOKUP($A87,'Mat of App'!$B$7:$AP$43,D$66,FALSE)","v":0},{"$f":"VLOOKUP($A87,'Mat of App'!$B$7:$AP$43,E$66,FALSE)","v":0},{"$f":"VLOOKUP($A87,'Mat of App'!$B$7:$AP$43,F$66,FALSE)","v":0},{"$f":"VLOOKUP($A87,'Mat of App'!$B$7:$AP$43,G$66,FALSE)","v":0},{"$f":"VLOOKUP($A87,'Mat of App'!$B$7:$AP$43,H$66,FALSE)","v":0},{"$f":"VLOOKUP($A87,'Mat of App'!$B$7:$AP$43,I$66,FALSE)","v":0},""]
[]
["1026. Matrix of applicability of LV service models to unmetered tariffs"]
[]
["Source: service models"]
["Proportion of service model involved in connecting load of 1 MWh/year"]
[null,"LV service model 1","LV service model 2","LV service model 3","LV service model 4","LV service model 5","LV service model 6","LV service model 7","LV service model 8"]
["All LV unmetered tariffs",{"$f":"VLOOKUP($A94,'Mat of App'!$B$7:$AP$43,B$66,FALSE)","v":0},{"$f":"VLOOKUP($A94,'Mat of App'!$B$7:$AP$43,C$66,FALSE)","v":0},{"$f":"VLOOKUP($A94,'Mat of App'!$B$7:$AP$43,D$66,FALSE)","v":0},{"$f":"VLOOKUP($A94,'Mat of App'!$B$7:$AP$43,E$66,FALSE)","v":0},{"$f":"VLOOKUP($A94,'Mat of App'!$B$7:$AP$43,F$66,FALSE)","v":0},{"$f":"VLOOKUP($A94,'Mat of App'!$B$7:$AP$43,G$66,FALSE)","v":0},{"$f":"VLOOKUP($A94,'Mat of App'!$B$7:$AP$43,H$66,FALSE)","v":0},{"$f":"VLOOKUP($A94,'Mat of App'!$B$7:$AP$43,I$66,FALSE)","v":0.48799999999999999},""]
[]
["1028. Matrix of applicability of HV service models to tariffs with fixed charges"]
[null,7,{"$f":"B97+1","v":8},{"$f":"C97+1","v":9},{"$f":"D97+1","v":10},{"$f":"E97+1","v":11}]
[null,"HV service model 1","HV service model 2","HV service model 3","HV service model 4","HV service model 5"]
["HV Medium Non-Domestic",{"$f":"VLOOKUP($A99,'Mat of App'!$B$7:$AP$43,B$97,FALSE)","v":1},{"$f":"VLOOKUP($A99,'Mat of App'!$B$7:$AP$43,C$97,FALSE)","v":0},{"$f":"VLOOKUP($A99,'Mat of App'!$B$7:$AP$43,D$97,FALSE)","v":0},{"$f":"VLOOKUP($A99,'Mat of App'!$B$7:$AP$43,E$97,FALSE)","v":0},{"$f":"VLOOKUP($A99,'Mat of App'!$B$7:$AP$43,F$97,FALSE)","v":0},""]
["HV HH Metered",{"$f":"VLOOKUP($A100,'Mat of App'!$B$7:$AP$43,B$97,FALSE)","v":1},{"$f":"VLOOKUP($A100,'Mat of App'!$B$7:$AP$43,C$97,FALSE)","v":0},{"$f":"VLOOKUP($A100,'Mat of App'!$B$7:$AP$43,D$97,FALSE)","v":0},{"$f":"VLOOKUP($A100,'Mat of App'!$B$7:$AP$43,E$97,FALSE)","v":0},{"$f":"VLOOKUP($A100,'Mat of App'!$B$7:$AP$43,F$97,FALSE)","v":0},""]
["HV Generation Intermittent",{"$f":"VLOOKUP($A101,'Mat of App'!$B$7:$AP$43,B$97,FALSE)","v":0},{"$f":"VLOOKUP($A101,'Mat of App'!$B$7:$AP$43,C$97,FALSE)","v":1},{"$f":"VLOOKUP($A101,'Mat of App'!$B$7:$AP$43,D$97,FALSE)","v":0},{"$f":"VLOOKUP($A101,'Mat of App'!$B$7:$AP$43,E$97,FALSE)","v":0},{"$f":"VLOOKUP($A101,'Mat of App'!$B$7:$AP$43,F$97,FALSE)","v":0}]
["HV Generation Intermittent no RP charge",{"$f":"VLOOKUP($A102,'Mat of App'!$B$7:$AP$43,B$97,FALSE)","v":0},{"$f":"VLOOKUP($A102,'Mat of App'!$B$7:$AP$43,C$97,FALSE)","v":1},{"$f":"VLOOKUP($A102,'Mat of App'!$B$7:$AP$43,D$97,FALSE)","v":0},{"$f":"VLOOKUP($A102,'Mat of App'!$B$7:$AP$43,E$97,FALSE)","v":0},{"$f":"VLOOKUP($A102,'Mat of App'!$B$7:$AP$43,F$97,FALSE)","v":0}]
["HV Generation Non-Intermittent",{"$f":"VLOOKUP($A103,'Mat of App'!$B$7:$AP$43,B$97,FALSE)","v":0},{"$f":"VLOOKUP($A103,'Mat of App'!$B$7:$AP$43,C$97,FALSE)","v":1},{"$f":"VLOOKUP($A103,'Mat of App'!$B$7:$AP$43,D$97,FALSE)","v":0},{"$f":"VLOOKUP($A103,'Mat of App'!$B$7:$AP$43,E$97,FALSE)","v":0},{"$f":"VLOOKUP($A103,'Mat of App'!$B$7:$AP$43,F$97,FALSE)","v":0}]
["HV Generation Non-Intermittent no RP charge",{"$f":"VLOOKUP($A104,'Mat of App'!$B$7:$AP$43,B$97,FALSE)","v":0},{"$f":"VLOOKUP($A104,'Mat of App'!$B$7:$AP$43,C$97,FALSE)","v":1},{"$f":"VLOOKUP($A104,'Mat of App'!$B$7:$AP$43,D$97,FALSE)","v":0},{"$f":"VLOOKUP($A104,'Mat of App'!$B$7:$AP$43,E$97,FALSE)","v":0},{"$f":"VLOOKUP($A104,'Mat of App'!$B$7:$AP$43,F$97,FALSE)","v":0}]
[]
["1032. Loss adjustment factors to transmission"]
[""]
["Source: losses model or loss adjustment factors at time of system peak."]
[null,"132kV","132kV/EHV","EHV","EHV/HV","HV","HV/LV","LV circuits"]
["Loss adjustment factor",{"$f":"VLOOKUP(Vlookup!B69,'CDCM Forecast Data'!$A$14:$I$271,6,FALSE)","v":1.002},{"$f":"VLOOKUP(Vlookup!C69,'CDCM Forecast Data'!$A$14:$I$271,6,FALSE)","v":1.008},{"$f":"VLOOKUP(Vlookup!D69,'CDCM Forecast Data'!$A$14:$I$271,6,FALSE)","v":1.01},{"$f":"VLOOKUP(Vlookup!E69,'CDCM Forecast Data'!$A$14:$I$271,6,FALSE)","v":1.018},{"$f":"VLOOKUP(Vlookup!F69,'CDCM Forecast Data'!$A$14:$I$271,6,FALSE)","v":1.034},{"$f":"VLOOKUP(Vlookup!G69,'CDCM Forecast Data'!$A$14:$I$271,6,FALSE)","v":1.05},{"$f":"VLOOKUP(Vlookup!H69,'CDCM Forecast Data'!$A$14:$I$271,6,FALSE)","v":1.08},""]
[]
["1037. Embedded network (LDNO) discounts"]
[""]
["Source: separate price control disaggregation model."]
[null,"No discount","LDNO LV: LV user","LDNO HV: LV user","LDNO HV: LV sub user","LDNO HV: HV user"]
["LDNO discount",null,{"$f":"VLOOKUP(Vlookup!C75,'CDCM Forecast Data'!$A$14:$I$271,6,FALSE)","v":0.30035267521805875},{"$f":"VLOOKUP(Vlookup!D75,'CDCM Forecast Data'!$A$14:$I$271,6,FALSE)","v":0.47818139481135069},{"$f":"VLOOKUP(Vlookup!E75,'CDCM Forecast Data'!$A$14:$I$271,6,FALSE)","v":0.24363743688262601},{"$f":"VLOOKUP(Vlookup!F75,'CDCM Forecast Data'!$A$14:$I$271,6,FALSE)","v":0.14249687495735849},""]
[]
["1041. Load profile data for demand users"]
[]
["Source: load data analysis."]
[null,"Coincidence factor","Load factor"]
["Domestic Unrestricted",{"$f":"VLOOKUP(Vlookup!B81,'CDCM Forecast Data'!$A$14:$I$271,6,FALSE)","v":0.86240741067308713},{"$f":"VLOOKUP(Vlookup!C81,'CDCM Forecast Data'!$A$14:$I$271,6,FALSE)","v":0.41623710501756489},""]
["Domestic Two Rate",{"$f":"VLOOKUP(Vlookup!B82,'CDCM Forecast Data'!$A$14:$I$271,6,FALSE)","v":0.86034731111249485},{"$f":"VLOOKUP(Vlookup!C82,'CDCM Forecast Data'!$A$14:$I$271,6,FALSE)","v":0.5028096693143812},""]
["Domestic Off Peak (related MPAN)",null,{"$f":"VLOOKUP(Vlookup!C83,'CDCM Forecast Data'!$A$14:$I$271,6,FALSE)","v":0.14790375681824444},""]
["Small Non Domestic Unrestricted",{"$f":"VLOOKUP(Vlookup!B84,'CDCM Forecast Data'!$A$14:$I$271,6,FALSE)","v":0.72324936497793268},{"$f":"VLOOKUP(Vlookup!C84,'CDCM Forecast Data'!$A$14:$I$271,6,FALSE)","v":0.37532588558908553},""]
["Small Non Domestic Two Rate",{"$f":"VLOOKUP(Vlookup!B85,'CDCM Forecast Data'!$A$14:$I$271,6,FALSE)","v":0.86240621985923305},{"$f":"VLOOKUP(Vlookup!C85,'CDCM Forecast Data'!$A$14:$I$271,6,FALSE)","v":0.53424065388272945},""]
["Small Non Domestic Off Peak (related MPAN)",null,{"$f":"VLOOKUP(Vlookup!C86,'CDCM Forecast Data'!$A$14:$I$271,6,FALSE)","v":0.24278777249580674},""]
["LV Medium Non-Domestic",{"$f":"VLOOKUP(Vlookup!B87,'CDCM Forecast Data'!$A$14:$I$271,6,FALSE)","v":0.84122778780683927},{"$f":"VLOOKUP(Vlookup!C87,'CDCM Forecast Data'!$A$14:$I$271,6,FALSE)","v":0.52667690446927706},""]
["LV Sub Medium Non-Domestic",{"$f":"VLOOKUP(Vlookup!B88,'CDCM Forecast Data'!$A$14:$I$271,6,FALSE)","v":0.84122778780683927},{"$f":"VLOOKUP(Vlookup!C88,'CDCM Forecast Data'!$A$14:$I$271,6,FALSE)","v":0.52667690446927706},""]
["HV Medium Non-Domestic",{"$f":"VLOOKUP(Vlookup!B89,'CDCM Forecast Data'!$A$14:$I$271,6,FALSE)","v":0.78886749721267824},{"$f":"VLOOKUP(Vlookup!C89,'CDCM Forecast Data'!$A$14:$I$271,6,FALSE)","v":0.49199747964816393},""]
["LV Network Domestic",{"$f":"VLOOKUP(Vlookup!B90,'CDCM Forecast Data'!$A$14:$I$271,6,FALSE)","v":0.86164448674198868},{"$f":"VLOOKUP(Vlookup!C90,'CDCM Forecast Data'!$A$14:$I$271,6,FALSE)","v":0.44382955791989437},""]
["LV Network Non-Domestic Non-CT",{"$f":"VLOOKUP(Vlookup!B91,'CDCM Forecast Data'!$A$14:$I$271,6,FALSE)","v":0.78752477648789532},{"$f":"VLOOKUP(Vlookup!C91,'CDCM Forecast Data'!$A$14:$I$271,6,FALSE)","v":0.44789395514276292},""]
["LV HH Metered",{"$f":"VLOOKUP(Vlookup!B92,'CDCM Forecast Data'!$A$14:$I$271,6,FALSE)","v":0.82086521600613926},{"$f":"VLOOKUP(Vlookup!C92,'CDCM Forecast Data'!$A$14:$I$271,6,FALSE)","v":0.5584288623436322},""]
["LV Sub HH Metered",{"$f":"VLOOKUP(Vlookup!B93,'CDCM Forecast Data'!$A$14:$I$271,6,FALSE)","v":0.84026867562743668},{"$f":"VLOOKUP(Vlookup!C93,'CDCM Forecast Data'!$A$14:$I$271,6,FALSE)","v":0.57907566723908654}]
["HV HH Metered",{"$f":"VLOOKUP(Vlookup!B94,'CDCM Forecast Data'!$A$14:$I$271,6,FALSE)","v":0.84760121590132942},{"$f":"VLOOKUP(Vlookup!C94,'CDCM Forecast Data'!$A$14:$I$271,6,FALSE)","v":0.7141076061743471}]
["NHH UMS category A",{"$f":"VLOOKUP(Vlookup!B95,'CDCM Forecast Data'!$A$14:$I$271,6,FALSE)","v":1},{"$f":"VLOOKUP(Vlookup!C95,'CDCM Forecast Data'!$A$14:$I$271,6,FALSE)","v":1},""]
["NHH UMS category B",{"$f":"VLOOKUP(Vlookup!B96,'CDCM Forecast Data'!$A$14:$I$271,6,FALSE)","v":1},{"$f":"VLOOKUP(Vlookup!C96,'CDCM Forecast Data'!$A$14:$I$271,6,FALSE)","v":0.47270807337280285}]
["NHH UMS category C",{"$f":"VLOOKUP(Vlookup!B97,'CDCM Forecast Data'!$A$14:$I$271,6,FALSE)","v":1},{"$f":"VLOOKUP(Vlookup!C97,'CDCM Forecast Data'!$A$14:$I$271,6,FALSE)","v":0.24339371562014608}]
["NHH UMS category D",{"$f":"VLOOKUP(Vlookup!B98,'CDCM Forecast Data'!$A$14:$I$271,6,FALSE)","v":5.3621027479092004E-3},{"$f":"VLOOKUP(Vlookup!C98,'CDCM Forecast Data'!$A$14:$I$271,6,FALSE)","v":0.51158697514711327}]
["LV UMS (Pseudo HH Metered)",{"$f":"VLOOKUP(Vlookup!B99,'CDCM Forecast Data'!$A$14:$I$271,6,FALSE)","v":0.95079576417959843},{"$f":"VLOOKUP(Vlookup!C99,'CDCM Forecast Data'!$A$14:$I$271,6,FALSE)","v":0.44160896789800635},""]
[]
["1053. Volume forecasts for the charging year"]
["",11,12,13,14,15,16,17]
["Source: forecast."]
["Please include MPAN counts for tariffs with no fixed charge (e.g. off-peak tariffs),"]
["but exclude MPANs on tariffs with a fixed charge that are not subject to a fixed charge due to a site grouping arrangement."]
[null,"Rate 1 units (MWh)","Rate 2 units (MWh)","Rate 3 units (MWh)","MPANs","Import capacity (kVA)","Exceeded capacity (kVA)","Reactive power units (MVArh)"]
["> Domestic Unrestricted",{"$f":"VLOOKUP(Vlookup!$B107,'CDCM Volume Forecasts'!$A$28:$AL$136,B$143,FALSE)","v":0},{"$f":"VLOOKUP(Vlookup!$B107,'CDCM Volume Forecasts'!$A$28:$AL$136,C$143,FALSE)","v":0},{"$f":"VLOOKUP(Vlookup!$B107,'CDCM Volume Forecasts'!$A$28:$AL$136,D$143,FALSE)","v":0},{"$f":"VLOOKUP(Vlookup!$B107,'CDCM Volume Forecasts'!$A$28:$AL$136,E$143,FALSE)","v":0},{"$f":"VLOOKUP(Vlookup!$B107,'CDCM Volume Forecasts'!$A$28:$AL$136,F$143,FALSE)","v":0},null,{"$f":"VLOOKUP(Vlookup!$B107,'CDCM Volume Forecasts'!$A$28:$AL$136,G$143,FALSE)","v":0}]
["Domestic Unrestricted",{"$f":"VLOOKUP(Vlookup!$B108,'CDCM Volume Forecasts'!$A$28:$AL$136,B$143,FALSE)","v":5635747.39502858},null,null,{"$f":"VLOOKUP(Vlookup!$B108,'CDCM Volume Forecasts'!$A$28:$AL$136,E$143,FALSE)","v":1671267.7755050499}]
["LDNO LV: Domestic Unrestricted",{"$f":"VLOOKUP(Vlookup!$B109,'CDCM Volume Forecasts'!$A$28:$AL$136,B$143,FALSE)","v":94982.042774487054},null,null,{"$f":"VLOOKUP(Vlookup!$B109,'CDCM Volume Forecasts'!$A$28:$AL$136,E$143,FALSE)","v":35033.390339937563}]
["LDNO HV: Domestic Unrestricted",{"$f":"VLOOKUP(Vlookup!$B110,'CDCM Volume Forecasts'!$A$28:$AL$136,B$143,FALSE)","v":155171.27128812924},null,null,{"$f":"VLOOKUP(Vlookup!$B110,'CDCM Volume Forecasts'!$A$28:$AL$136,E$143,FALSE)","v":58162.880927404229}]
["> Domestic Two Rate"]
["Domestic Two Rate",{"$f":"VLOOKUP(Vlookup!$B112,'CDCM Volume Forecasts'!$A$28:$AL$136,B$143,FALSE)","v":2417415.8454986895},{"$f":"VLOOKUP(Vlookup!$B112,'CDCM Volume Forecasts'!$A$28:$AL$136,C$143,FALSE)","v":1076309.378668654},null,{"$f":"VLOOKUP(Vlookup!$B112,'CDCM Volume Forecasts'!$A$28:$AL$136,E$143,FALSE)","v":792868.49064519012}]
["LDNO LV: Domestic Two Rate",{"$f":"VLOOKUP(Vlookup!$B113,'CDCM Volume Forecasts'!$A$28:$AL$136,B$143,FALSE)","v":4629.9614332661959},{"$f":"VLOOKUP(Vlookup!$B113,'CDCM Volume Forecasts'!$A$28:$AL$136,C$143,FALSE)","v":1426.9050309592003},null,{"$f":"VLOOKUP(Vlookup!$B113,'CDCM Volume Forecasts'!$A$28:$AL$136,E$143,FALSE)","v":1499.239141579387}]
["LDNO HV: Domestic Two Rate",{"$f":"VLOOKUP(Vlookup!$B114,'CDCM Volume Forecasts'!$A$28:$AL$136,B$143,FALSE)","v":7642.5052138944002},{"$f":"VLOOKUP(Vlookup!$B114,'CDCM Volume Forecasts'!$A$28:$AL$136,C$143,FALSE)","v":2597.3847486999803},null,{"$f":"VLOOKUP(Vlookup!$B114,'CDCM Volume Forecasts'!$A$28:$AL$136,E$143,FALSE)","v":2453.4347641766276}]
["> Domestic Off Peak (related MPAN)"]
["Domestic Off Peak (related MPAN)",{"$f":"VLOOKUP(Vlookup!$B116,'CDCM Volume Forecasts'!$A$28:$AL$136,B$143,FALSE)","v":49585.593175668728},null,null,{"$f":"VLOOKUP(Vlookup!$B116,'CDCM Volume Forecasts'!$A$28:$AL$136,E$143,FALSE)","v":26805}]
["LDNO LV: Domestic Off Peak (related MPAN)",{"$f":"VLOOKUP(Vlookup!$B117,'CDCM Volume Forecasts'!$A$28:$AL$136,B$143,FALSE)","v":0},null,null,{"$f":"VLOOKUP(Vlookup!$B117,'CDCM Volume Forecasts'!$A$28:$AL$136,E$143,FALSE)","v":0}]
["LDNO HV: Domestic Off Peak (related MPAN)",{"$f":"VLOOKUP(Vlookup!$B118,'CDCM Volume Forecasts'!$A$28:$AL$136,B$143,FALSE)","v":0},null,null,{"$f":"VLOOKUP(Vlookup!$B118,'CDCM Volume Forecasts'!$A$28:$AL$136,E$143,FALSE)","v":0}]
["> Small Non Domestic Unrestricted"]
["Small Non Domestic Unrestricted",{"$f":"VLOOKUP(Vlookup!$B120,'CDCM Volume Forecasts'!$A$28:$AL$136,B$143,FALSE)","v":1140613.9739181774},null,null,{"$f":"VLOOKUP(Vlookup!$B120,'CDCM Volume Forecasts'!$A$28:$AL$136,E$143,FALSE)","v":95495.253097224515}]
["LDNO LV: Small Non Domestic Unrestricted",{"$f":"VLOOKUP(Vlookup!$B121,'CDCM Volume Forecasts'!$A$28:$AL$136,B$143,FALSE)","v":4254.8519221540355},null,null,{"$f":"VLOOKUP(Vlookup!$B121,'CDCM Volume Forecasts'!$A$28:$AL$136,E$143,FALSE)","v":714.08447240652981}]
["LDNO HV: Small Non Domestic Unrestricted",{"$f":"VLOOKUP(Vlookup!$B122,'CDCM Volume Forecasts'!$A$28:$AL$136,B$143,FALSE)","v":11145.922225068793},null,null,{"$f":"VLOOKUP(Vlookup!$B122,'CDCM Volume Forecasts'!$A$28:$AL$136,E$143,FALSE)","v":1270.1753584742994}]
["> Small Non Domestic Two Rate"]
["Small Non Domestic Two Rate",{"$f":"VLOOKUP(Vlookup!$B124,'CDCM Volume Forecasts'!$A$28:$AL$136,B$143,FALSE)","v":1514286.2262339729},{"$f":"VLOOKUP(Vlookup!$B124,'CDCM Volume Forecasts'!$A$28:$AL$136,C$143,FALSE)","v":451030.46492233477},null,{"$f":"VLOOKUP(Vlookup!$B124,'CDCM Volume Forecasts'!$A$28:$AL$136,E$143,FALSE)","v":82427.244684584759}]
["LDNO LV: Small Non Domestic Two Rate",{"$f":"VLOOKUP(Vlookup!$B125,'CDCM Volume Forecasts'!$A$28:$AL$136,B$143,FALSE)","v":402.47958047828541},{"$f":"VLOOKUP(Vlookup!$B125,'CDCM Volume Forecasts'!$A$28:$AL$136,C$143,FALSE)","v":80.438629283880772},null,{"$f":"VLOOKUP(Vlookup!$B125,'CDCM Volume Forecasts'!$A$28:$AL$136,E$143,FALSE)","v":12.903675111941352}]
["LDNO HV: Small Non Domestic Two Rate",{"$f":"VLOOKUP(Vlookup!$B126,'CDCM Volume Forecasts'!$A$28:$AL$136,B$143,FALSE)","v":1111.6322427478769},{"$f":"VLOOKUP(Vlookup!$B126,'CDCM Volume Forecasts'!$A$28:$AL$136,C$143,FALSE)","v":286.0338414769754},null,{"$f":"VLOOKUP(Vlookup!$B126,'CDCM Volume Forecasts'!$A$28:$AL$136,E$143,FALSE)","v":47.788053454719794}]
["> Small Non Domestic Off Peak (related MPAN)"]
["Small Non Domestic Off Peak (related MPAN)",{"$f":"VLOOKUP(Vlookup!$B128,'CDCM Volume Forecasts'!$A$28:$AL$136,B$143,FALSE)","v":2583.3840720654089},null,null,{"$f":"VLOOKUP(Vlookup!$B128,'CDCM Volume Forecasts'!$A$28:$AL$136,E$143,FALSE)","v":517}]
["LDNO LV: Small Non Domestic Off Peak (related MPAN)",{"$f":"VLOOKUP(Vlookup!$B129,'CDCM Volume Forecasts'!$A$28:$AL$136,B$143,FALSE)","v":0},null,null,{"$f":"VLOOKUP(Vlookup!$B129,'CDCM Volume Forecasts'!$A$28:$AL$136,E$143,FALSE)","v":0}]
["LDNO HV: Small Non Domestic Off Peak (related MPAN)",{"$f":"VLOOKUP(Vlookup!$B130,'CDCM Volume Forecasts'!$A$28:$AL$136,B$143,FALSE)","v":0},null,null,{"$f":"VLOOKUP(Vlookup!$B130,'CDCM Volume Forecasts'!$A$28:$AL$136,E$143,FALSE)","v":0}]
["> LV Medium Non-Domestic"]
["LV Medium Non-Domestic",{"$f":"VLOOKUP(Vlookup!$B132,'CDCM Volume Forecasts'!$A$28:$AL$136,B$143,FALSE)","v":41587.88901879995},{"$f":"VLOOKUP(Vlookup!$B132,'CDCM Volume Forecasts'!$A$28:$AL$136,C$143,FALSE)","v":11522.857188044651},null,{"$f":"VLOOKUP(Vlookup!$B132,'CDCM Volume Forecasts'!$A$28:$AL$136,E$143,FALSE)","v":1226.5130041316722}]
["LDNO LV: LV Medium Non-Domestic",{"$f":"VLOOKUP(Vlookup!$B133,'CDCM Volume Forecasts'!$A$28:$AL$136,B$143,FALSE)","v":-4.9112713895738124E-14},{"$f":"VLOOKUP(Vlookup!$B133,'CDCM Volume Forecasts'!$A$28:$AL$136,C$143,FALSE)","v":5.4569682106375695E-15},null,{"$f":"VLOOKUP(Vlookup!$B133,'CDCM Volume Forecasts'!$A$28:$AL$136,E$143,FALSE)","v":0}]
["LDNO HV: LV Medium Non-Domestic",{"$f":"VLOOKUP(Vlookup!$B134,'CDCM Volume Forecasts'!$A$28:$AL$136,B$143,FALSE)","v":-2.4738255888223645E-13},{"$f":"VLOOKUP(Vlookup!$B134,'CDCM Volume Forecasts'!$A$28:$AL$136,C$143,FALSE)","v":1.8189894035458565E-14},null,{"$f":"VLOOKUP(Vlookup!$B134,'CDCM Volume Forecasts'!$A$28:$AL$136,E$143,FALSE)","v":0}]
["> LV Sub Medium Non-Domestic"]
["LV Sub Medium Non-Domestic",{"$f":"VLOOKUP(Vlookup!$B136,'CDCM Volume Forecasts'!$A$28:$AL$136,B$143,FALSE)","v":0.14305029137837472},{"$f":"VLOOKUP(Vlookup!$B136,'CDCM Volume Forecasts'!$A$28:$AL$136,C$143,FALSE)","v":4.1771037058284492E-2},null,{"$f":"VLOOKUP(Vlookup!$B136,'CDCM Volume Forecasts'!$A$28:$AL$136,E$143,FALSE)","v":3.1678196721310618E-3}]
["> HV Medium Non-Domestic"]
["HV Medium Non-Domestic",{"$f":"VLOOKUP(Vlookup!$B138,'CDCM Volume Forecasts'!$A$28:$AL$136,B$143,FALSE)","v":2605.2120716228465},{"$f":"VLOOKUP(Vlookup!$B138,'CDCM Volume Forecasts'!$A$28:$AL$136,C$143,FALSE)","v":788.60544449936344},null,{"$f":"VLOOKUP(Vlookup!$B138,'CDCM Volume Forecasts'!$A$28:$AL$136,E$143,FALSE)","v":44}]
["> LV Network Domestic"]
["LV Network Domestic",{"$f":"VLOOKUP(Vlookup!$B140,'CDCM Volume Forecasts'!$A$28:$AL$136,B$143,FALSE)","v":25.916648860281796},{"$f":"VLOOKUP(Vlookup!$B140,'CDCM Volume Forecasts'!$A$28:$AL$136,C$143,FALSE)","v":99.416406772272921},{"$f":"VLOOKUP(Vlookup!$B140,'CDCM Volume Forecasts'!$A$28:$AL$136,D$143,FALSE)","v":122.08546012140339},{"$f":"VLOOKUP(Vlookup!$B140,'CDCM Volume Forecasts'!$A$28:$AL$136,E$143,FALSE)","v":76.118765573770503}]
["LDNO LV: LV Network Domestic",{"$f":"VLOOKUP(Vlookup!$B141,'CDCM Volume Forecasts'!$A$28:$AL$136,B$143,FALSE)","v":0},{"$f":"VLOOKUP(Vlookup!$B141,'CDCM Volume Forecasts'!$A$28:$AL$136,C$143,FALSE)","v":0},{"$f":"VLOOKUP(Vlookup!$B141,'CDCM Volume Forecasts'!$A$28:$AL$136,D$143,FALSE)","v":0},{"$f":"VLOOKUP(Vlookup!$B141,'CDCM Volume Forecasts'!$A$28:$AL$136,E$143,FALSE)","v":0}]
["LDNO HV: LV Network Domestic",{"$f":"VLOOKUP(Vlookup!$B142,'CDCM Volume Forecasts'!$A$28:$AL$136,B$143,FALSE)","v":0},{"$f":"VLOOKUP(Vlookup!$B142,'CDCM Volume Forecasts'!$A$28:$AL$136,C$143,FALSE)","v":0},{"$f":"VLOOKUP(Vlookup!$B142,'CDCM Volume Forecasts'!$A$28:$AL$136,D$143,FALSE)","v":0},{"$f":"VLOOKUP(Vlookup!$B142,'CDCM Volume Forecasts'!$A$28:$AL$136,E$143,FALSE)","v":0}]
["> LV Network Non-Domestic Non-CT"]
["LV Network Non-Domestic Non-CT",{"$f":"VLOOKUP(Vlookup!$B144,'CDCM Volume Forecasts'!$A$28:$AL$136,B$143,FALSE)","v":18558.487686612239},{"$f":"VLOOKUP(Vlookup!$B144,'CDCM Volume Forecasts'!$A$28:$AL$136,C$143,FALSE)","v":73567.926730158622},{"$f":"VLOOKUP(Vlookup!$B144,'CDCM Volume Forecasts'!$A$28:$AL$136,D$143,FALSE)","v":78280.332697577658},{"$f":"VLOOKUP(Vlookup!$B144,'CDCM Volume Forecasts'!$A$28:$AL$136,E$143,FALSE)","v":2509.10345882312}]
["LDNO LV: LV Network Non-Domestic Non-CT",{"$f":"VLOOKUP(Vlookup!$B145,'CDCM Volume Forecasts'!$A$28:$AL$136,B$143,FALSE)","v":19.24968807539738},{"$f":"VLOOKUP(Vlookup!$B145,'CDCM Volume Forecasts'!$A$28:$AL$136,C$143,FALSE)","v":72.688587305710143},{"$f":"VLOOKUP(Vlookup!$B145,'CDCM Volume Forecasts'!$A$28:$AL$136,D$143,FALSE)","v":120.49851830559453},{"$f":"VLOOKUP(Vlookup!$B145,'CDCM Volume Forecasts'!$A$28:$AL$136,E$143,FALSE)","v":4.7184373127364774}]
["LDNO HV: LV Network Non-Domestic Non-CT",{"$f":"VLOOKUP(Vlookup!$B146,'CDCM Volume Forecasts'!$A$28:$AL$136,B$143,FALSE)","v":104.24235588741557},{"$f":"VLOOKUP(Vlookup!$B146,'CDCM Volume Forecasts'!$A$28:$AL$136,C$143,FALSE)","v":362.68347429908619},{"$f":"VLOOKUP(Vlookup!$B146,'CDCM Volume Forecasts'!$A$28:$AL$136,D$143,FALSE)","v":416.12088245460063},{"$f":"VLOOKUP(Vlookup!$B146,'CDCM Volume Forecasts'!$A$28:$AL$136,E$143,FALSE)","v":19.841829348937043}]
["> LV HH Metered"]
["LV HH Metered",{"$f":"VLOOKUP(Vlookup!$B148,'CDCM Volume Forecasts'!$A$28:$AL$136,B$143,FALSE)","v":377835.6813072178},{"$f":"VLOOKUP(Vlookup!$B148,'CDCM Volume Forecasts'!$A$28:$AL$136,C$143,FALSE)","v":1505767.6226554119},{"$f":"VLOOKUP(Vlookup!$B148,'CDCM Volume Forecasts'!$A$28:$AL$136,D$143,FALSE)","v":1615847.0059507394},{"$f":"VLOOKUP(Vlookup!$B148,'CDCM Volume Forecasts'!$A$28:$AL$136,E$143,FALSE)","v":15832.332072650368},{"$f":"VLOOKUP(Vlookup!$B148,'CDCM Volume Forecasts'!$A$28:$AL$136,F$143,FALSE)","v":1960000},{"$f":"VLOOKUP(Vlookup!$B148,'CDCM Volume Forecasts'!$A$28:$AL$136,G$143,FALSE)","v":42265.317043448318},{"$f":"VLOOKUP(Vlookup!$B148,'CDCM Volume Forecasts'!$A$28:$AL$136,H$143,FALSE)","v":367491.37832085259}]
["LDNO LV: LV HH Metered",{"$f":"VLOOKUP(Vlookup!$B149,'CDCM Volume Forecasts'!$A$28:$AL$136,B$143,FALSE)","v":1412.870559022316},{"$f":"VLOOKUP(Vlookup!$B149,'CDCM Volume Forecasts'!$A$28:$AL$136,C$143,FALSE)","v":4888.8390627745466},{"$f":"VLOOKUP(Vlookup!$B149,'CDCM Volume Forecasts'!$A$28:$AL$136,D$143,FALSE)","v":6114.8854757848721},{"$f":"VLOOKUP(Vlookup!$B149,'CDCM Volume Forecasts'!$A$28:$AL$136,E$143,FALSE)","v":61.229869713492732},{"$f":"VLOOKUP(Vlookup!$B149,'CDCM Volume Forecasts'!$A$28:$AL$136,F$143,FALSE)","v":10476.918620474366},{"$f":"VLOOKUP(Vlookup!$B149,'CDCM Volume Forecasts'!$A$28:$AL$136,G$143,FALSE)","v":12.987057168228436},{"$f":"VLOOKUP(Vlookup!$B149,'CDCM Volume Forecasts'!$A$28:$AL$136,H$143,FALSE)","v":1333.7147930840285}]
["LDNO HV: LV HH Metered",{"$f":"VLOOKUP(Vlookup!$B150,'CDCM Volume Forecasts'!$A$28:$AL$136,B$143,FALSE)","v":15040.235122987786},{"$f":"VLOOKUP(Vlookup!$B150,'CDCM Volume Forecasts'!$A$28:$AL$136,C$143,FALSE)","v":54927.685608171101},{"$f":"VLOOKUP(Vlookup!$B150,'CDCM Volume Forecasts'!$A$28:$AL$136,D$143,FALSE)","v":65960.836777291115},{"$f":"VLOOKUP(Vlookup!$B150,'CDCM Volume Forecasts'!$A$28:$AL$136,E$143,FALSE)","v":382.62169856216127},{"$f":"VLOOKUP(Vlookup!$B150,'CDCM Volume Forecasts'!$A$28:$AL$136,F$143,FALSE)","v":108669.61557819175},{"$f":"VLOOKUP(Vlookup!$B150,'CDCM Volume Forecasts'!$A$28:$AL$136,G$143,FALSE)","v":446.26154403187547},{"$f":"VLOOKUP(Vlookup!$B150,'CDCM Volume Forecasts'!$A$28:$AL$136,H$143,FALSE)","v":11418.401436925689}]
["> LV Sub HH Metered"]
["LV Sub HH Metered",{"$f":"VLOOKUP(Vlookup!$B152,'CDCM Volume Forecasts'!$A$28:$AL$136,B$143,FALSE)","v":23555.939705275443},{"$f":"VLOOKUP(Vlookup!$B152,'CDCM Volume Forecasts'!$A$28:$AL$136,C$143,FALSE)","v":90295.119473983417},{"$f":"VLOOKUP(Vlookup!$B152,'CDCM Volume Forecasts'!$A$28:$AL$136,D$143,FALSE)","v":105307.38531244543},{"$f":"VLOOKUP(Vlookup!$B152,'CDCM Volume Forecasts'!$A$28:$AL$136,E$143,FALSE)","v":342.84669556830613},{"$f":"VLOOKUP(Vlookup!$B152,'CDCM Volume Forecasts'!$A$28:$AL$136,F$143,FALSE)","v":138821.86717486338},{"$f":"VLOOKUP(Vlookup!$B152,'CDCM Volume Forecasts'!$A$28:$AL$136,G$143,FALSE)","v":1785.1010983606557},{"$f":"VLOOKUP(Vlookup!$B152,'CDCM Volume Forecasts'!$A$28:$AL$136,H$143,FALSE)","v":18220.196801714286}]
["LDNO HV: LV Sub HH Metered",{"$f":"VLOOKUP(Vlookup!$B153,'CDCM Volume Forecasts'!$A$28:$AL$136,B$143,FALSE)","v":890.72287294660168},{"$f":"VLOOKUP(Vlookup!$B153,'CDCM Volume Forecasts'!$A$28:$AL$136,C$143,FALSE)","v":3077.5835538016772},{"$f":"VLOOKUP(Vlookup!$B153,'CDCM Volume Forecasts'!$A$28:$AL$136,D$143,FALSE)","v":5287.7802117072451},{"$f":"VLOOKUP(Vlookup!$B153,'CDCM Volume Forecasts'!$A$28:$AL$136,E$143,FALSE)","v":4.8958936371831783},{"$f":"VLOOKUP(Vlookup!$B153,'CDCM Volume Forecasts'!$A$28:$AL$136,F$143,FALSE)","v":3426.9222620200057},{"$f":"VLOOKUP(Vlookup!$B153,'CDCM Volume Forecasts'!$A$28:$AL$136,G$143,FALSE)","v":46.892377761533822},{"$f":"VLOOKUP(Vlookup!$B153,'CDCM Volume Forecasts'!$A$28:$AL$136,H$143,FALSE)","v":903.92750399136014}]
["> HV HH Metered"]
["HV HH Metered",{"$f":"VLOOKUP(Vlookup!$B155,'CDCM Volume Forecasts'!$A$28:$AL$136,B$143,FALSE)","v":738923.19680440472},{"$f":"VLOOKUP(Vlookup!$B155,'CDCM Volume Forecasts'!$A$28:$AL$136,C$143,FALSE)","v":2849711.7208364718},{"$f":"VLOOKUP(Vlookup!$B155,'CDCM Volume Forecasts'!$A$28:$AL$136,D$143,FALSE)","v":4000945.161846465},{"$f":"VLOOKUP(Vlookup!$B155,'CDCM Volume Forecasts'!$A$28:$AL$136,E$143,FALSE)","v":3524.9192351831307},{"$f":"VLOOKUP(Vlookup!$B155,'CDCM Volume Forecasts'!$A$28:$AL$136,F$143,FALSE)","v":2788259.5384515394},{"$f":"VLOOKUP(Vlookup!$B155,'CDCM Volume Forecasts'!$A$28:$AL$136,G$143,FALSE)","v":58664.747249535598},{"$f":"VLOOKUP(Vlookup!$B155,'CDCM Volume Forecasts'!$A$28:$AL$136,H$143,FALSE)","v":557819.6962977408}]
["LDNO HV: HV HH Metered",{"$f":"VLOOKUP(Vlookup!$B156,'CDCM Volume Forecasts'!$A$28:$AL$136,B$143,FALSE)","v":7258.323341503462},{"$f":"VLOOKUP(Vlookup!$B156,'CDCM Volume Forecasts'!$A$28:$AL$136,C$143,FALSE)","v":23980.296053899532},{"$f":"VLOOKUP(Vlookup!$B156,'CDCM Volume Forecasts'!$A$28:$AL$136,D$143,FALSE)","v":38623.664534907308},{"$f":"VLOOKUP(Vlookup!$B156,'CDCM Volume Forecasts'!$A$28:$AL$136,E$143,FALSE)","v":38.408595450387928},{"$f":"VLOOKUP(Vlookup!$B156,'CDCM Volume Forecasts'!$A$28:$AL$136,F$143,FALSE)","v":48748.253499353094},{"$f":"VLOOKUP(Vlookup!$B156,'CDCM Volume Forecasts'!$A$28:$AL$136,G$143,FALSE)","v":199.08329496396499},{"$f":"VLOOKUP(Vlookup!$B156,'CDCM Volume Forecasts'!$A$28:$AL$136,H$143,FALSE)","v":2217.4648647360805}]
["> NHH UMS category A"]
["NHH UMS category A",{"$f":"VLOOKUP(Vlookup!$B158,'CDCM Volume Forecasts'!$A$28:$AL$136,B$143,FALSE)","v":34134.893703773516},null,null,{"$f":"VLOOKUP(Vlookup!$B158,'CDCM Volume Forecasts'!$A$28:$AL$136,E$143,FALSE)","v":1567}]
["LDNO LV: NHH UMS category A",{"$f":"VLOOKUP(Vlookup!$B159,'CDCM Volume Forecasts'!$A$28:$AL$136,B$143,FALSE)","v":275.22148000439415},null,null,{"$f":"VLOOKUP(Vlookup!$B159,'CDCM Volume Forecasts'!$A$28:$AL$136,E$143,FALSE)","v":0}]
["LDNO HV: NHH UMS category A",{"$f":"VLOOKUP(Vlookup!$B160,'CDCM Volume Forecasts'!$A$28:$AL$136,B$143,FALSE)","v":531.75775905666319},null,null,{"$f":"VLOOKUP(Vlookup!$B160,'CDCM Volume Forecasts'!$A$28:$AL$136,E$143,FALSE)","v":0}]
["> NHH UMS category B"]
["NHH UMS category B",{"$f":"VLOOKUP(Vlookup!$B162,'CDCM Volume Forecasts'!$A$28:$AL$136,B$143,FALSE)","v":22466.149975166016},null,null,{"$f":"VLOOKUP(Vlookup!$B162,'CDCM Volume Forecasts'!$A$28:$AL$136,E$143,FALSE)","v":1279}]
["LDNO LV: NHH UMS category B",{"$f":"VLOOKUP(Vlookup!$B163,'CDCM Volume Forecasts'!$A$28:$AL$136,B$143,FALSE)","v":319.40114355377005},null,null,{"$f":"VLOOKUP(Vlookup!$B163,'CDCM Volume Forecasts'!$A$28:$AL$136,E$143,FALSE)","v":0}]
["LDNO HV: NHH UMS category B",{"$f":"VLOOKUP(Vlookup!$B164,'CDCM Volume Forecasts'!$A$28:$AL$136,B$143,FALSE)","v":613.630442356039},null,null,{"$f":"VLOOKUP(Vlookup!$B164,'CDCM Volume Forecasts'!$A$28:$AL$136,E$143,FALSE)","v":0}]
["> NHH UMS category C"]
["NHH UMS category C",{"$f":"VLOOKUP(Vlookup!$B166,'CDCM Volume Forecasts'!$A$28:$AL$136,B$143,FALSE)","v":339.10140823796002},null,null,{"$f":"VLOOKUP(Vlookup!$B166,'CDCM Volume Forecasts'!$A$28:$AL$136,E$143,FALSE)","v":194}]
["LDNO LV: NHH UMS category C",{"$f":"VLOOKUP(Vlookup!$B167,'CDCM Volume Forecasts'!$A$28:$AL$136,B$143,FALSE)","v":0},null,null,{"$f":"VLOOKUP(Vlookup!$B167,'CDCM Volume Forecasts'!$A$28:$AL$136,E$143,FALSE)","v":0}]
["LDNO HV: NHH UMS category C",{"$f":"VLOOKUP(Vlookup!$B168,'CDCM Volume Forecasts'!$A$28:$AL$136,B$143,FALSE)","v":0},null,null,{"$f":"VLOOKUP(Vlookup!$B168,'CDCM Volume Forecasts'!$A$28:$AL$136,E$143,FALSE)","v":0}]
["> NHH UMS category D"]
["NHH UMS category D",{"$f":"VLOOKUP(Vlookup!$B170,'CDCM Volume Forecasts'!$A$28:$AL$136,B$143,FALSE)","v":7208.5560845431746},null,null,{"$f":"VLOOKUP(Vlookup!$B170,'CDCM Volume Forecasts'!$A$28:$AL$136,E$143,FALSE)","v":247}]
["LDNO LV: NHH UMS category D",{"$f":"VLOOKUP(Vlookup!$B171,'CDCM Volume Forecasts'!$A$28:$AL$136,B$143,FALSE)","v":0},null,null,{"$f":"VLOOKUP(Vlookup!$B171,'CDCM Volume Forecasts'!$A$28:$AL$136,E$143,FALSE)","v":0}]
["LDNO HV: NHH UMS category D",{"$f":"VLOOKUP(Vlookup!$B172,'CDCM Volume Forecasts'!$A$28:$AL$136,B$143,FALSE)","v":0},null,null,{"$f":"VLOOKUP(Vlookup!$B172,'CDCM Volume Forecasts'!$A$28:$AL$136,E$143,FALSE)","v":0}]
["> LV UMS (Pseudo HH Metered)"]
["LV UMS (Pseudo HH Metered)",{"$f":"VLOOKUP(Vlookup!$B174,'CDCM Volume Forecasts'!$A$28:$AL$136,B$143,FALSE)","v":12092.426467732928},{"$f":"VLOOKUP(Vlookup!$B174,'CDCM Volume Forecasts'!$A$28:$AL$136,C$143,FALSE)","v":33947.071572281049},{"$f":"VLOOKUP(Vlookup!$B174,'CDCM Volume Forecasts'!$A$28:$AL$136,D$143,FALSE)","v":185619.80763357371},{"$f":"VLOOKUP(Vlookup!$B174,'CDCM Volume Forecasts'!$A$28:$AL$136,E$143,FALSE)","v":26.819672131147541}]
["LDNO LV: LV UMS (Pseudo HH Metered)",{"$f":"VLOOKUP(Vlookup!$B175,'CDCM Volume Forecasts'!$A$28:$AL$136,B$143,FALSE)","v":0},{"$f":"VLOOKUP(Vlookup!$B175,'CDCM Volume Forecasts'!$A$28:$AL$136,C$143,FALSE)","v":0},{"$f":"VLOOKUP(Vlookup!$B175,'CDCM Volume Forecasts'!$A$28:$AL$136,D$143,FALSE)","v":0},{"$f":"VLOOKUP(Vlookup!$B175,'CDCM Volume Forecasts'!$A$28:$AL$136,E$143,FALSE)","v":0}]
["LDNO HV: LV UMS (Pseudo HH Metered)",{"$f":"VLOOKUP(Vlookup!$B176,'CDCM Volume Forecasts'!$A$28:$AL$136,B$143,FALSE)","v":0},{"$f":"VLOOKUP(Vlookup!$B176,'CDCM Volume Forecasts'!$A$28:$AL$136,C$143,FALSE)","v":0},{"$f":"VLOOKUP(Vlookup!$B176,'CDCM Volume Forecasts'!$A$28:$AL$136,D$143,FALSE)","v":0},{"$f":"VLOOKUP(Vlookup!$B176,'CDCM Volume Forecasts'!$A$28:$AL$136,E$143,FALSE)","v":0}]
["> LV Generation NHH or Aggregate HH"]
["LV Generation NHH or Aggregate HH",{"$f":"VLOOKUP(Vlookup!$B178,'CDCM Volume Forecasts'!$A$28:$AL$136,B$143,FALSE)","v":10233.9538335},null,null,{"$f":"VLOOKUP(Vlookup!$B178,'CDCM Volume Forecasts'!$A$28:$AL$136,E$143,FALSE)","v":136}]
["LDNO LV: LV Generation NHH or Aggregate HH",{"$f":"VLOOKUP(Vlookup!$B179,'CDCM Volume Forecasts'!$A$28:$AL$136,B$143,FALSE)","v":27.785378357142857},null,null,{"$f":"VLOOKUP(Vlookup!$B179,'CDCM Volume Forecasts'!$A$28:$AL$136,E$143,FALSE)","v":0}]
["LDNO HV: LV Generation NHH or Aggregate HH",{"$f":"VLOOKUP(Vlookup!$B180,'CDCM Volume Forecasts'!$A$28:$AL$136,B$143,FALSE)","v":0},null,null,{"$f":"VLOOKUP(Vlookup!$B180,'CDCM Volume Forecasts'!$A$28:$AL$136,E$143,FALSE)","v":0}]
["> LV Sub Generation NHH"]
["LV Sub Generation NHH",{"$f":"VLOOKUP(Vlookup!$B182,'CDCM Volume Forecasts'!$A$28:$AL$136,B$143,FALSE)","v":0},null,null,{"$f":"VLOOKUP(Vlookup!$B182,'CDCM Volume Forecasts'!$A$28:$AL$136,E$143,FALSE)","v":0}]
["LDNO HV: LV Sub Generation NHH",{"$f":"VLOOKUP(Vlookup!$B183,'CDCM Volume Forecasts'!$A$28:$AL$136,B$143,FALSE)","v":0},null,null,{"$f":"VLOOKUP(Vlookup!$B183,'CDCM Volume Forecasts'!$A$28:$AL$136,E$143,FALSE)","v":0}]
["> LV Generation Intermittent"]
["LV Generation Intermittent",{"$f":"VLOOKUP(Vlookup!$B185,'CDCM Volume Forecasts'!$A$28:$AL$136,B$143,FALSE)","v":39541.455472928566},null,null,{"$f":"VLOOKUP(Vlookup!$B185,'CDCM Volume Forecasts'!$A$28:$AL$136,E$143,FALSE)","v":697.57416393442611},null,null,{"$f":"VLOOKUP(Vlookup!$B185,'CDCM Volume Forecasts'!$A$28:$AL$136,H$143,FALSE)","v":4219.380690214286}]
["LDNO LV: LV Generation Intermittent",{"$f":"VLOOKUP(Vlookup!$B186,'CDCM Volume Forecasts'!$A$28:$AL$136,B$143,FALSE)","v":0},null,null,{"$f":"VLOOKUP(Vlookup!$B186,'CDCM Volume Forecasts'!$A$28:$AL$136,E$143,FALSE)","v":0},null,null,{"$f":"VLOOKUP(Vlookup!$B186,'CDCM Volume Forecasts'!$A$28:$AL$136,H$143,FALSE)","v":0}]
["LDNO HV: LV Generation Intermittent",{"$f":"VLOOKUP(Vlookup!$B187,'CDCM Volume Forecasts'!$A$28:$AL$136,B$143,FALSE)","v":72.668966078571486},null,null,{"$f":"VLOOKUP(Vlookup!$B187,'CDCM Volume Forecasts'!$A$28:$AL$136,E$143,FALSE)","v":4.4201475409836073},null,null,{"$f":"VLOOKUP(Vlookup!$B187,'CDCM Volume Forecasts'!$A$28:$AL$136,H$143,FALSE)","v":40.596061285714278}]
["> LV Generation Intermittent no RP charge"]
["LV Generation Intermittent no RP charge",{"$f":"VLOOKUP(Vlookup!$B189,'CDCM Volume Forecasts'!$A$28:$AL$136,B$143,FALSE)","v":0},null,null,{"$f":"VLOOKUP(Vlookup!$B189,'CDCM Volume Forecasts'!$A$28:$AL$136,E$143,FALSE)","v":0}]
["> LV Generation Non-Intermittent"]
["LV Generation Non-Intermittent",{"$f":"VLOOKUP(Vlookup!$B191,'CDCM Volume Forecasts'!$A$28:$AL$136,B$143,FALSE)","v":1593.5852929943649},{"$f":"VLOOKUP(Vlookup!$B191,'CDCM Volume Forecasts'!$A$28:$AL$136,C$143,FALSE)","v":6242.3922614252333},{"$f":"VLOOKUP(Vlookup!$B191,'CDCM Volume Forecasts'!$A$28:$AL$136,D$143,FALSE)","v":9539.9119603497784},{"$f":"VLOOKUP(Vlookup!$B191,'CDCM Volume Forecasts'!$A$28:$AL$136,E$143,FALSE)","v":105.72703893442623},null,null,{"$f":"VLOOKUP(Vlookup!$B191,'CDCM Volume Forecasts'!$A$28:$AL$136,H$143,FALSE)","v":667.62919715625003}]
["LDNO LV: LV Generation Non-Intermittent",{"$f":"VLOOKUP(Vlookup!$B192,'CDCM Volume Forecasts'!$A$28:$AL$136,B$143,FALSE)","v":0},{"$f":"VLOOKUP(Vlookup!$B192,'CDCM Volume Forecasts'!$A$28:$AL$136,C$143,FALSE)","v":0},{"$f":"VLOOKUP(Vlookup!$B192,'CDCM Volume Forecasts'!$A$28:$AL$136,D$143,FALSE)","v":0},{"$f":"VLOOKUP(Vlookup!$B192,'CDCM Volume Forecasts'!$A$28:$AL$136,E$143,FALSE)","v":0},null,null,{"$f":"VLOOKUP(Vlookup!$B192,'CDCM Volume Forecasts'!$A$28:$AL$136,H$143,FALSE)","v":0}]
["LDNO HV: LV Generation Non-Intermittent",{"$f":"VLOOKUP(Vlookup!$B193,'CDCM Volume Forecasts'!$A$28:$AL$136,B$143,FALSE)","v":0},{"$f":"VLOOKUP(Vlookup!$B193,'CDCM Volume Forecasts'!$A$28:$AL$136,C$143,FALSE)","v":0},{"$f":"VLOOKUP(Vlookup!$B193,'CDCM Volume Forecasts'!$A$28:$AL$136,D$143,FALSE)","v":0},{"$f":"VLOOKUP(Vlookup!$B193,'CDCM Volume Forecasts'!$A$28:$AL$136,E$143,FALSE)","v":0},null,null,{"$f":"VLOOKUP(Vlookup!$B193,'CDCM Volume Forecasts'!$A$28:$AL$136,H$143,FALSE)","v":0}]
["> LV Generation Non-Intermittent no RP charge"]
["LV Generation Non-Intermittent no RP charge",{"$f":"VLOOKUP(Vlookup!$B195,'CDCM Volume Forecasts'!$A$28:$AL$136,B$143,FALSE)","v":0},{"$f":"VLOOKUP(Vlookup!$B195,'CDCM Volume Forecasts'!$A$28:$AL$136,C$143,FALSE)","v":0},{"$f":"VLOOKUP(Vlookup!$B195,'CDCM Volume Forecasts'!$A$28:$AL$136,D$143,FALSE)","v":0},{"$f":"VLOOKUP(Vlookup!$B195,'CDCM Volume Forecasts'!$A$28:$AL$136,E$143,FALSE)","v":0}]
["> LV Sub Generation Intermittent"]
["LV Sub Generation Intermittent",{"$f":"VLOOKUP(Vlookup!$B197,'CDCM Volume Forecasts'!$A$28:$AL$136,B$143,FALSE)","v":3841.6564052142853},null,null,{"$f":"VLOOKUP(Vlookup!$B197,'CDCM Volume Forecasts'!$A$28:$AL$136,E$143,FALSE)","v":31.306393442622948},null,null,{"$f":"VLOOKUP(Vlookup!$B197,'CDCM Volume Forecasts'!$A$28:$AL$136,H$143,FALSE)","v":365.0749339285714}]
["LDNO HV: LV Sub Generation Intermittent",{"$f":"VLOOKUP(Vlookup!$B198,'CDCM Volume Forecasts'!$A$28:$AL$136,B$143,FALSE)","v":0},null,null,{"$f":"VLOOKUP(Vlookup!$B198,'CDCM Volume Forecasts'!$A$28:$AL$136,E$143,FALSE)","v":0},null,null,{"$f":"VLOOKUP(Vlookup!$B198,'CDCM Volume Forecasts'!$A$28:$AL$136,H$143,FALSE)","v":0}]
["> LV Sub Generation Intermittent no RP charge"]
["LV Sub Generation Intermittent no RP charge",{"$f":"VLOOKUP(Vlookup!$B200,'CDCM Volume Forecasts'!$A$28:$AL$136,B$143,FALSE)","v":0},null,null,{"$f":"VLOOKUP(Vlookup!$B200,'CDCM Volume Forecasts'!$A$28:$AL$136,E$143,FALSE)","v":0}]
["> LV Sub Generation Non-Intermittent"]
["LV Sub Generation Non-Intermittent",{"$f":"VLOOKUP(Vlookup!$B202,'CDCM Volume Forecasts'!$A$28:$AL$136,B$143,FALSE)","v":504.40105263481149},{"$f":"VLOOKUP(Vlookup!$B202,'CDCM Volume Forecasts'!$A$28:$AL$136,C$143,FALSE)","v":1662.050757533578},{"$f":"VLOOKUP(Vlookup!$B202,'CDCM Volume Forecasts'!$A$28:$AL$136,D$143,FALSE)","v":3695.4007858319828},{"$f":"VLOOKUP(Vlookup!$B202,'CDCM Volume Forecasts'!$A$28:$AL$136,E$143,FALSE)","v":6.1367981557377052},null,null,{"$f":"VLOOKUP(Vlookup!$B202,'CDCM Volume Forecasts'!$A$28:$AL$136,H$143,FALSE)","v":368.17388015624999}]
["LDNO HV: LV Sub Generation Non-Intermittent",{"$f":"VLOOKUP(Vlookup!$B203,'CDCM Volume Forecasts'!$A$28:$AL$136,B$143,FALSE)","v":0},{"$f":"VLOOKUP(Vlookup!$B203,'CDCM Volume Forecasts'!$A$28:$AL$136,C$143,FALSE)","v":0},{"$f":"VLOOKUP(Vlookup!$B203,'CDCM Volume Forecasts'!$A$28:$AL$136,D$143,FALSE)","v":0},{"$f":"VLOOKUP(Vlookup!$B203,'CDCM Volume Forecasts'!$A$28:$AL$136,E$143,FALSE)","v":0},null,null,{"$f":"VLOOKUP(Vlookup!$B203,'CDCM Volume Forecasts'!$A$28:$AL$136,H$143,FALSE)","v":0}]
["> LV Sub Generation Non-Intermittent no RP charge"]
["LV Sub Generation Non-Intermittent no RP charge",{"$f":"VLOOKUP(Vlookup!$B205,'CDCM Volume Forecasts'!$A$28:$AL$136,B$143,FALSE)","v":0},{"$f":"VLOOKUP(Vlookup!$B205,'CDCM Volume Forecasts'!$A$28:$AL$136,C$143,FALSE)","v":0},{"$f":"VLOOKUP(Vlookup!$B205,'CDCM Volume Forecasts'!$A$28:$AL$136,D$143,FALSE)","v":0},{"$f":"VLOOKUP(Vlookup!$B205,'CDCM Volume Forecasts'!$A$28:$AL$136,E$143,FALSE)","v":0}]
["> HV Generation Intermittent"]
["HV Generation Intermittent",{"$f":"VLOOKUP(Vlookup!$B207,'CDCM Volume Forecasts'!$A$28:$AL$136,B$143,FALSE)","v":479000.82970478572},null,null,{"$f":"VLOOKUP(Vlookup!$B207,'CDCM Volume Forecasts'!$A$28:$AL$136,E$143,FALSE)","v":248.15567213114755},null,null,{"$f":"VLOOKUP(Vlookup!$B207,'CDCM Volume Forecasts'!$A$28:$AL$136,H$143,FALSE)","v":10496.618597785713}]
["LDNO HV: HV Generation Intermittent",{"$f":"VLOOKUP(Vlookup!$B208,'CDCM Volume Forecasts'!$A$28:$AL$136,B$143,FALSE)","v":18.630690000000001},null,null,{"$f":"VLOOKUP(Vlookup!$B208,'CDCM Volume Forecasts'!$A$28:$AL$136,E$143,FALSE)","v":0.6228852459016393},null,null,{"$f":"VLOOKUP(Vlookup!$B208,'CDCM Volume Forecasts'!$A$28:$AL$136,H$143,FALSE)","v":9.1079999999999994E-2}]
["> HV Generation Intermittent no RP charge"]
["HV Generation Intermittent no RP charge",{"$f":"VLOOKUP(Vlookup!$B210,'CDCM Volume Forecasts'!$A$28:$AL$136,B$143,FALSE)","v":0},null,null,{"$f":"VLOOKUP(Vlookup!$B210,'CDCM Volume Forecasts'!$A$28:$AL$136,E$143,FALSE)","v":0}]
["> HV Generation Non-Intermittent"]
["HV Generation Non-Intermittent",{"$f":"VLOOKUP(Vlookup!$B212,'CDCM Volume Forecasts'!$A$28:$AL$136,B$143,FALSE)","v":87733.660045539131},{"$f":"VLOOKUP(Vlookup!$B212,'CDCM Volume Forecasts'!$A$28:$AL$136,C$143,FALSE)","v":276082.28215805581},{"$f":"VLOOKUP(Vlookup!$B212,'CDCM Volume Forecasts'!$A$28:$AL$136,D$143,FALSE)","v":487742.29536974273},{"$f":"VLOOKUP(Vlookup!$B212,'CDCM Volume Forecasts'!$A$28:$AL$136,E$143,FALSE)","v":231.28838422131147},null,null,{"$f":"VLOOKUP(Vlookup!$B212,'CDCM Volume Forecasts'!$A$28:$AL$136,H$143,FALSE)","v":15003.980395031253}]
["LDNO HV: HV Generation Non-Intermittent",{"$f":"VLOOKUP(Vlookup!$B213,'CDCM Volume Forecasts'!$A$28:$AL$136,B$143,FALSE)","v":0},{"$f":"VLOOKUP(Vlookup!$B213,'CDCM Volume Forecasts'!$A$28:$AL$136,C$143,FALSE)","v":0},{"$f":"VLOOKUP(Vlookup!$B213,'CDCM Volume Forecasts'!$A$28:$AL$136,D$143,FALSE)","v":0},{"$f":"VLOOKUP(Vlookup!$B213,'CDCM Volume Forecasts'!$A$28:$AL$136,E$143,FALSE)","v":0},null,null,{"$f":"VLOOKUP(Vlookup!$B213,'CDCM Volume Forecasts'!$A$28:$AL$136,H$143,FALSE)","v":0}]
["> HV Generation Non-Intermittent no RP charge"]
["HV Generation Non-Intermittent no RP charge",{"$f":"VLOOKUP(Vlookup!$B215,'CDCM Volume Forecasts'!$A$28:$AL$136,B$143,FALSE)","v":0},{"$f":"VLOOKUP(Vlookup!$B215,'CDCM Volume Forecasts'!$A$28:$AL$136,C$143,FALSE)","v":0},{"$f":"VLOOKUP(Vlookup!$B215,'CDCM Volume Forecasts'!$A$28:$AL$136,D$143,FALSE)","v":0},{"$f":"VLOOKUP(Vlookup!$B215,'CDCM Volume Forecasts'!$A$28:$AL$136,E$143,FALSE)","v":0}]
[]
["1055. Transmission exit charges (£/year)"]
[""]
["Source: forecast."]
[null,"Transmission\nexit"]
["Transmission exit charges (£/year)",{"$f":"VLOOKUP(Vlookup!B221,'CDCM Forecast Data'!$A$14:$I$271,6,FALSE)","v":13075155.802411579},""]
[]
["1059. Other expenditure"]
[""]
[null,"Direct cost (£/year)","Indirect cost (£/year)","Indirect cost proportion","Network rates (£/year)"]
["Other expenditure",{"$f":"VLOOKUP(Vlookup!B226,'CDCM Forecast Data'!$A$14:$I$271,6,FALSE)","v":35864783.022050634},{"$f":"VLOOKUP(Vlookup!C226,'CDCM Forecast Data'!$A$14:$I$271,6,FALSE)","v":127297435.96709545},{"$f":"VLOOKUP(Vlookup!D226,'CDCM Forecast Data'!$A$14:$I$271,6,FALSE)","v":0.6},{"$f":"VLOOKUP(Vlookup!E226,'CDCM Forecast Data'!$A$14:$I$271,6,FALSE)","v":33894095.560277589},""]
[]
["1060. Customer contributions under current connection charging policy"]
[]
["Source: analysis of expenditure data and/or survey of capital expenditure schemes."]
["Customer contribution percentages by network level of supply and by asset network level."]
["These proportions should reflect the current connection charging method, not necessarily the method that was in place when the connection was built."]
[null,"Assets\n132kV","Assets\n132kV/EHV","Assets\nEHV","Assets\nEHV/HV","Assets\n132kV/HV","Assets\nHV","Assets\nHV/LV","Assets\nLV circuits"]
["LV network",{"$f":"VLOOKUP(Vlookup!B234,'CDCM Forecast Data'!$A$14:$I$271,6,FALSE)","v":0},{"$f":"VLOOKUP(Vlookup!C234,'CDCM Forecast Data'!$A$14:$I$271,6,FALSE)","v":0},{"$f":"VLOOKUP(Vlookup!D234,'CDCM Forecast Data'!$A$14:$I$271,6,FALSE)","v":0},{"$f":"VLOOKUP(Vlookup!E234,'CDCM Forecast Data'!$A$14:$I$271,6,FALSE)","v":0},{"$f":"VLOOKUP(Vlookup!F234,'CDCM Forecast Data'!$A$14:$I$271,6,FALSE)","v":0},{"$f":"VLOOKUP(Vlookup!G234,'CDCM Forecast Data'!$A$14:$I$271,6,FALSE)","v":0.47913351897273304},{"$f":"VLOOKUP(Vlookup!H234,'CDCM Forecast Data'!$A$14:$I$271,6,FALSE)","v":0.70892384564689981},{"$f":"VLOOKUP(Vlookup!I234,'CDCM Forecast Data'!$A$14:$I$271,6,FALSE)","v":0.93871417232106646},""]
["LV substation",{"$f":"VLOOKUP(Vlookup!B235,'CDCM Forecast Data'!$A$14:$I$271,6,FALSE)","v":0},{"$f":"VLOOKUP(Vlookup!C235,'CDCM Forecast Data'!$A$14:$I$271,6,FALSE)","v":0},{"$f":"VLOOKUP(Vlookup!D235,'CDCM Forecast Data'!$A$14:$I$271,6,FALSE)","v":0},{"$f":"VLOOKUP(Vlookup!E235,'CDCM Forecast Data'!$A$14:$I$271,6,FALSE)","v":0},{"$f":"VLOOKUP(Vlookup!F235,'CDCM Forecast Data'!$A$14:$I$271,6,FALSE)","v":0},{"$f":"VLOOKUP(Vlookup!G235,'CDCM Forecast Data'!$A$14:$I$271,6,FALSE)","v":0.47913351897273304},{"$f":"VLOOKUP(Vlookup!H235,'CDCM Forecast Data'!$A$14:$I$271,6,FALSE)","v":0.70892384564689981},null,""]
["HV network",{"$f":"VLOOKUP(Vlookup!B236,'CDCM Forecast Data'!$A$14:$I$271,6,FALSE)","v":0},{"$f":"VLOOKUP(Vlookup!C236,'CDCM Forecast Data'!$A$14:$I$271,6,FALSE)","v":0},{"$f":"VLOOKUP(Vlookup!D236,'CDCM Forecast Data'!$A$14:$I$271,6,FALSE)","v":6.5420049562801799E-2},{"$f":"VLOOKUP(Vlookup!E236,'CDCM Forecast Data'!$A$14:$I$271,6,FALSE)","v":0.35162962287700078},{"$f":"VLOOKUP(Vlookup!F236,'CDCM Forecast Data'!$A$14:$I$271,6,FALSE)","v":0.35162962287700078},{"$f":"VLOOKUP(Vlookup!G236,'CDCM Forecast Data'!$A$14:$I$271,6,FALSE)","v":0.63783919619119978},null,null,""]
["HV substation",{"$f":"VLOOKUP(Vlookup!B237,'CDCM Forecast Data'!$A$14:$I$271,6,FALSE)","v":0},{"$f":"VLOOKUP(Vlookup!C237,'CDCM Forecast Data'!$A$14:$I$271,6,FALSE)","v":0},{"$f":"VLOOKUP(Vlookup!D237,'CDCM Forecast Data'!$A$14:$I$271,6,FALSE)","v":6.5420049562801799E-2},{"$f":"VLOOKUP(Vlookup!E237,'CDCM Forecast Data'!$A$14:$I$271,6,FALSE)","v":0.35162962287700078},null,null,null,null,""]
[]
["1061. Average split of rate 1 units by distribution time band"]
[]
[null,"Red","Amber","Green"]
["Domestic Unrestricted",{"$f":"VLOOKUP(Vlookup!B247,'CDCM Forecast Data'!$A$14:$I$271,6,FALSE)","v":0.14320337799237601},{"$f":"VLOOKUP(Vlookup!C247,'CDCM Forecast Data'!$A$14:$I$271,6,FALSE)","v":0.39651561494177523},{"$f":"VLOOKUP(Vlookup!D247,'CDCM Forecast Data'!$A$14:$I$271,6,FALSE)","v":0.46028100706584879},""]
["Domestic Two Rate",{"$f":"VLOOKUP(Vlookup!B248,'CDCM Forecast Data'!$A$14:$I$271,6,FALSE)","v":0.1514252192479435},{"$f":"VLOOKUP(Vlookup!C248,'CDCM Forecast Data'!$A$14:$I$271,6,FALSE)","v":0.41991396852294577},{"$f":"VLOOKUP(Vlookup!D248,'CDCM Forecast Data'!$A$14:$I$271,6,FALSE)","v":0.42866081222911073},""]
["Domestic Off Peak (related MPAN)",{"$f":"VLOOKUP(Vlookup!B249,'CDCM Forecast Data'!$A$14:$I$271,6,FALSE)","v":4.4815359759835215E-2},{"$f":"VLOOKUP(Vlookup!C249,'CDCM Forecast Data'!$A$14:$I$271,6,FALSE)","v":0.32491376716050352},{"$f":"VLOOKUP(Vlookup!D249,'CDCM Forecast Data'!$A$14:$I$271,6,FALSE)","v":0.63027087307966123}]
["Small Non Domestic Unrestricted",{"$f":"VLOOKUP(Vlookup!B250,'CDCM Forecast Data'!$A$14:$I$271,6,FALSE)","v":0.12448955251915084},{"$f":"VLOOKUP(Vlookup!C250,'CDCM Forecast Data'!$A$14:$I$271,6,FALSE)","v":0.54839946451589383},{"$f":"VLOOKUP(Vlookup!D250,'CDCM Forecast Data'!$A$14:$I$271,6,FALSE)","v":0.32711098296495528}]
["Small Non Domestic Two Rate",{"$f":"VLOOKUP(Vlookup!B251,'CDCM Forecast Data'!$A$14:$I$271,6,FALSE)","v":0.12789989767459184},{"$f":"VLOOKUP(Vlookup!C251,'CDCM Forecast Data'!$A$14:$I$271,6,FALSE)","v":0.51407192992762296},{"$f":"VLOOKUP(Vlookup!D251,'CDCM Forecast Data'!$A$14:$I$271,6,FALSE)","v":0.35802817239778517},""]
["Small Non Domestic Off Peak (related MPAN)",{"$f":"VLOOKUP(Vlookup!B252,'CDCM Forecast Data'!$A$14:$I$271,6,FALSE)","v":1.6662746927756659E-2},{"$f":"VLOOKUP(Vlookup!C252,'CDCM Forecast Data'!$A$14:$I$271,6,FALSE)","v":0.18539360436192651},{"$f":"VLOOKUP(Vlookup!D252,'CDCM Forecast Data'!$A$14:$I$271,6,FALSE)","v":0.79794364871031676},""]
["LV Medium Non-Domestic",{"$f":"VLOOKUP(Vlookup!B253,'CDCM Forecast Data'!$A$14:$I$271,6,FALSE)","v":0.13578714746948006},{"$f":"VLOOKUP(Vlookup!C253,'CDCM Forecast Data'!$A$14:$I$271,6,FALSE)","v":0.52737188616472797},{"$f":"VLOOKUP(Vlookup!D253,'CDCM Forecast Data'!$A$14:$I$271,6,FALSE)","v":0.33684096636579203},""]
["LV Sub Medium Non-Domestic",{"$f":"VLOOKUP(Vlookup!B254,'CDCM Forecast Data'!$A$14:$I$271,6,FALSE)","v":0.13396894905730031},{"$f":"VLOOKUP(Vlookup!C254,'CDCM Forecast Data'!$A$14:$I$271,6,FALSE)","v":0.52405310526112514},{"$f":"VLOOKUP(Vlookup!D254,'CDCM Forecast Data'!$A$14:$I$271,6,FALSE)","v":0.34197794568157458},""]
["HV Medium Non-Domestic",{"$f":"VLOOKUP(Vlookup!B255,'CDCM Forecast Data'!$A$14:$I$271,6,FALSE)","v":0.13341246842462706},{"$f":"VLOOKUP(Vlookup!C255,'CDCM Forecast Data'!$A$14:$I$271,6,FALSE)","v":0.54105928671962722},{"$f":"VLOOKUP(Vlookup!D255,'CDCM Forecast Data'!$A$14:$I$271,6,FALSE)","v":0.32552824485574577},""]
[]
["1062. Average split of rate 2 units by distribution time band"]
[]
[null,"Red","Amber","Green"]
["Domestic Two Rate",{"$f":"VLOOKUP(Vlookup!B263,'CDCM Forecast Data'!$A$14:$I$271,6,FALSE)","v":0},{"$f":"VLOOKUP(Vlookup!C263,'CDCM Forecast Data'!$A$14:$I$271,6,FALSE)","v":0},{"$f":"VLOOKUP(Vlookup!D263,'CDCM Forecast Data'!$A$14:$I$271,6,FALSE)","v":1},""]
["Small Non Domestic Two Rate",{"$f":"VLOOKUP(Vlookup!B264,'CDCM Forecast Data'!$A$14:$I$271,6,FALSE)","v":0},{"$f":"VLOOKUP(Vlookup!C264,'CDCM Forecast Data'!$A$14:$I$271,6,FALSE)","v":0},{"$f":"VLOOKUP(Vlookup!D264,'CDCM Forecast Data'!$A$14:$I$271,6,FALSE)","v":1},""]
["LV Medium Non-Domestic",{"$f":"VLOOKUP(Vlookup!B265,'CDCM Forecast Data'!$A$14:$I$271,6,FALSE)","v":0},{"$f":"VLOOKUP(Vlookup!C265,'CDCM Forecast Data'!$A$14:$I$271,6,FALSE)","v":0},{"$f":"VLOOKUP(Vlookup!D265,'CDCM Forecast Data'!$A$14:$I$271,6,FALSE)","v":1},""]
["LV Sub Medium Non-Domestic",{"$f":"VLOOKUP(Vlookup!B266,'CDCM Forecast Data'!$A$14:$I$271,6,FALSE)","v":0},{"$f":"VLOOKUP(Vlookup!C266,'CDCM Forecast Data'!$A$14:$I$271,6,FALSE)","v":0},{"$f":"VLOOKUP(Vlookup!D266,'CDCM Forecast Data'!$A$14:$I$271,6,FALSE)","v":1},""]
["HV Medium Non-Domestic",{"$f":"VLOOKUP(Vlookup!B267,'CDCM Forecast Data'!$A$14:$I$271,6,FALSE)","v":0},{"$f":"VLOOKUP(Vlookup!C267,'CDCM Forecast Data'!$A$14:$I$271,6,FALSE)","v":0},{"$f":"VLOOKUP(Vlookup!D267,'CDCM Forecast Data'!$A$14:$I$271,6,FALSE)","v":1},""]
[]
["1064. Average split of rate 1 units by special distribution time band"]
[]
[null,"Black","Yellow","Green",""]
["NHH UMS category A",{"$f":"VLOOKUP(Vlookup!B272,'CDCM Forecast Data'!$A$14:$I$271,6,FALSE)","v":2.9311076178356665E-2},{"$f":"VLOOKUP(Vlookup!C272,'CDCM Forecast Data'!$A$14:$I$271,6,FALSE)","v":0.37306092022856002},{"$f":"VLOOKUP(Vlookup!D272,'CDCM Forecast Data'!$A$14:$I$271,6,FALSE)","v":0.59762800359308332},""]
["NHH UMS category B",{"$f":"VLOOKUP(Vlookup!B273,'CDCM Forecast Data'!$A$14:$I$271,6,FALSE)","v":5.0432747136262314E-2},{"$f":"VLOOKUP(Vlookup!C273,'CDCM Forecast Data'!$A$14:$I$271,6,FALSE)","v":9.024866969588996E-2},{"$f":"VLOOKUP(Vlookup!D273,'CDCM Forecast Data'!$A$14:$I$271,6,FALSE)","v":0.8593185831678477},""]
["NHH UMS category C",{"$f":"VLOOKUP(Vlookup!B274,'CDCM Forecast Data'!$A$14:$I$271,6,FALSE)","v":9.6185231748668151E-2},{"$f":"VLOOKUP(Vlookup!C274,'CDCM Forecast Data'!$A$14:$I$271,6,FALSE)","v":0.16334039820901594},{"$f":"VLOOKUP(Vlookup!D274,'CDCM Forecast Data'!$A$14:$I$271,6,FALSE)","v":0.74047437004231587},""]
["NHH UMS category D",{"$f":"VLOOKUP(Vlookup!B275,'CDCM Forecast Data'!$A$14:$I$271,6,FALSE)","v":8.830567560272817E-3},{"$f":"VLOOKUP(Vlookup!C275,'CDCM Forecast Data'!$A$14:$I$271,6,FALSE)","v":0.63540611125889146},{"$f":"VLOOKUP(Vlookup!D275,'CDCM Forecast Data'!$A$14:$I$271,6,FALSE)","v":0.35576332118083581},""]
[]
["1066. Typical annual hours by special distribution time band"]
["Source: definition of distribution time bands."]
["The figures in this table will be automatically adjusted to match the number of days in the charging period."]
[]
[null,"Black","Yellow","Green"]
["Annual hours",{"$f":"VLOOKUP(Vlookup!B282,'CDCM Forecast Data'!$A$14:$I$271,6,FALSE)","v":255},{"$f":"VLOOKUP(Vlookup!C282,'CDCM Forecast Data'!$A$14:$I$271,6,FALSE)","v":3268.5},{"$f":"VLOOKUP(Vlookup!D282,'CDCM Forecast Data'!$A$14:$I$271,6,FALSE)","v":5236.5},""]
[]
["1068. Typical annual hours by distribution time band"]
[]
["Source: definition of distribution time bands."]
["The figures in this table will be automatically adjusted to match the number of days in the charging period."]
[null,"Red","Amber","Green"]
["Annual hours",{"$f":"VLOOKUP(Vlookup!B289,'CDCM Forecast Data'!$A$14:$I$271,6,FALSE)","v":783},{"$f":"VLOOKUP(Vlookup!C289,'CDCM Forecast Data'!$A$14:$I$271,6,FALSE)","v":2740.5},{"$f":"VLOOKUP(Vlookup!D289,'CDCM Forecast Data'!$A$14:$I$271,6,FALSE)","v":5236.5},""]
[]
["1069. Peaking probabilities by network level"]
[]
[]
["Source: analysis of network operation data."]
[null,"Red","Amber","Green","Black"]
["GSPs",{"$f":"VLOOKUP(Vlookup!B295,'CDCM Forecast Data'!$A$14:$I$271,6,FALSE)","v":1},{"$f":"VLOOKUP(Vlookup!C295,'CDCM Forecast Data'!$A$14:$I$271,6,FALSE)","v":0},{"$f":"VLOOKUP(Vlookup!D295,'CDCM Forecast Data'!$A$14:$I$271,6,FALSE)","v":0},{"$f":"VLOOKUP(Vlookup!E295,'CDCM Forecast Data'!$A$14:$I$271,6,FALSE)","v":1},""]
["132kV",{"$f":"VLOOKUP(Vlookup!B296,'CDCM Forecast Data'!$A$14:$I$271,6,FALSE)","v":0.78083657486560021},{"$f":"VLOOKUP(Vlookup!C296,'CDCM Forecast Data'!$A$14:$I$271,6,FALSE)","v":0.20804160459605281},{"$f":"VLOOKUP(Vlookup!D296,'CDCM Forecast Data'!$A$14:$I$271,6,FALSE)","v":1.1121820538347099E-2},{"$f":"VLOOKUP(Vlookup!E296,'CDCM Forecast Data'!$A$14:$I$271,6,FALSE)","v":0.76764541372159689},""]
["132kV/EHV",{"$f":"VLOOKUP(Vlookup!B297,'CDCM Forecast Data'!$A$14:$I$271,6,FALSE)","v":0.78083657486560021},{"$f":"VLOOKUP(Vlookup!C297,'CDCM Forecast Data'!$A$14:$I$271,6,FALSE)","v":0.20804160459605281},{"$f":"VLOOKUP(Vlookup!D297,'CDCM Forecast Data'!$A$14:$I$271,6,FALSE)","v":1.1121820538347099E-2},{"$f":"VLOOKUP(Vlookup!E297,'CDCM Forecast Data'!$A$14:$I$271,6,FALSE)","v":0.76764541372159689},""]
["EHV",{"$f":"VLOOKUP(Vlookup!B298,'CDCM Forecast Data'!$A$14:$I$271,6,FALSE)","v":0.66321603936627416},{"$f":"VLOOKUP(Vlookup!C298,'CDCM Forecast Data'!$A$14:$I$271,6,FALSE)","v":0.29786987200550125},{"$f":"VLOOKUP(Vlookup!D298,'CDCM Forecast Data'!$A$14:$I$271,6,FALSE)","v":3.8914088628224541E-2},{"$f":"VLOOKUP(Vlookup!E298,'CDCM Forecast Data'!$A$14:$I$271,6,FALSE)","v":0.65256034025485976},""]
["EHV/HV",{"$f":"VLOOKUP(Vlookup!B299,'CDCM Forecast Data'!$A$14:$I$271,6,FALSE)","v":0.66321603936627416},{"$f":"VLOOKUP(Vlookup!C299,'CDCM Forecast Data'!$A$14:$I$271,6,FALSE)","v":0.29786987200550125},{"$f":"VLOOKUP(Vlookup!D299,'CDCM Forecast Data'!$A$14:$I$271,6,FALSE)","v":3.8914088628224541E-2},{"$f":"VLOOKUP(Vlookup!E299,'CDCM Forecast Data'!$A$14:$I$271,6,FALSE)","v":0.65256034025485976},""]
["132kV/HV",{"$f":"VLOOKUP(Vlookup!B300,'CDCM Forecast Data'!$A$14:$I$271,6,FALSE)","v":0.78083657486560021},{"$f":"VLOOKUP(Vlookup!C300,'CDCM Forecast Data'!$A$14:$I$271,6,FALSE)","v":0.20804160459605281},{"$f":"VLOOKUP(Vlookup!D300,'CDCM Forecast Data'!$A$14:$I$271,6,FALSE)","v":1.1121820538347099E-2},{"$f":"VLOOKUP(Vlookup!E300,'CDCM Forecast Data'!$A$14:$I$271,6,FALSE)","v":0.76764541372159689},""]
["HV",{"$f":"VLOOKUP(Vlookup!B301,'CDCM Forecast Data'!$A$14:$I$271,6,FALSE)","v":0.66321603936627416},{"$f":"VLOOKUP(Vlookup!C301,'CDCM Forecast Data'!$A$14:$I$271,6,FALSE)","v":0.29786987200550125},{"$f":"VLOOKUP(Vlookup!D301,'CDCM Forecast Data'!$A$14:$I$271,6,FALSE)","v":3.8914088628224541E-2},{"$f":"VLOOKUP(Vlookup!E301,'CDCM Forecast Data'!$A$14:$I$271,6,FALSE)","v":0.65256034025485976},""]
["HV/LV",{"$f":"VLOOKUP(Vlookup!B302,'CDCM Forecast Data'!$A$14:$I$271,6,FALSE)","v":0.66321603936627416},{"$f":"VLOOKUP(Vlookup!C302,'CDCM Forecast Data'!$A$14:$I$271,6,FALSE)","v":0.29786987200550125},{"$f":"VLOOKUP(Vlookup!D302,'CDCM Forecast Data'!$A$14:$I$271,6,FALSE)","v":3.8914088628224541E-2},{"$f":"VLOOKUP(Vlookup!E302,'CDCM Forecast Data'!$A$14:$I$271,6,FALSE)","v":0.65256034025485976},""]
["LV circuits",{"$f":"VLOOKUP(Vlookup!B303,'CDCM Forecast Data'!$A$14:$I$271,6,FALSE)","v":0.66321603936627416},{"$f":"VLOOKUP(Vlookup!C303,'CDCM Forecast Data'!$A$14:$I$271,6,FALSE)","v":0.29786987200550125},{"$f":"VLOOKUP(Vlookup!D303,'CDCM Forecast Data'!$A$14:$I$271,6,FALSE)","v":3.8914088628224541E-2},{"$f":"VLOOKUP(Vlookup!E303,'CDCM Forecast Data'!$A$14:$I$271,6,FALSE)","v":0.65256034025485976},""]
[]
["1076. Target CDCM net revenue (£/year)"]
["Source: mostly forecasts and price control formulae."]
[]
[null,"Target CDCM net revenue (£/year)"]
["Target CDCM net revenue (£/year)",{"$f":"1000000*'Table 1'!G48","v":494801344.5749808}]
[]
["1092. Average kVAr by kVA, by network level"]
[""]
["Source: analysis of operational data."]
["This is the average of MVAr/MVA or SQRT(1-PF^2) across relevant network elements."]
[null,"GSPs","132kV","132kV/EHV","EHV","EHV/HV","132kV/HV","HV","HV/LV","LV circuits"]
["Average kVAr by kVA, by network level",{"$f":"VLOOKUP(Vlookup!B310,'CDCM Forecast Data'!$A$14:$I$271,6,FALSE)","v":0.17488998364096539},{"$f":"VLOOKUP(Vlookup!C310,'CDCM Forecast Data'!$A$14:$I$271,6,FALSE)","v":0.17488998364096539},{"$f":"VLOOKUP(Vlookup!D310,'CDCM Forecast Data'!$A$14:$I$271,6,FALSE)","v":0.17488998364096539},{"$f":"VLOOKUP(Vlookup!E310,'CDCM Forecast Data'!$A$14:$I$271,6,FALSE)","v":0.17488998364096539},{"$f":"VLOOKUP(Vlookup!F310,'CDCM Forecast Data'!$A$14:$I$271,6,FALSE)","v":0.17488998364096539},{"$f":"VLOOKUP(Vlookup!G310,'CDCM Forecast Data'!$A$14:$I$271,6,FALSE)","v":0.17488998364096539},{"$f":"VLOOKUP(Vlookup!H310,'CDCM Forecast Data'!$A$14:$I$271,6,FALSE)","v":0.17488998364096539},{"$f":"VLOOKUP(Vlookup!I310,'CDCM Forecast Data'!$A$14:$I$271,6,FALSE)","v":0.17488998364096539},{"$f":"VLOOKUP(Vlookup!J310,'CDCM Forecast Data'!$A$14:$I$271,6,FALSE)","v":0.17488998364096539},""]

{"sheet":"(Y+2)","index":10,"n_rows":350,"n_cols":11,"rows_kept":350,"cut":false,"hidden":false,"merged":[]}
["Input data (Y+2)"]
[]
[]
["1000. Company, charging year, data version"]
[""]
[null,"Company","Year","Version"]
["Company, charging year, data version",{"$f":"VLOOKUP(Vlookup!B7,'CDCM Forecast Data'!$A$14:$I$271,7,FALSE)","v":"WPD East Midlands"},{"$f":"VLOOKUP(Vlookup!C7,'CDCM Forecast Data'!$A$14:$I$271,7,FALSE)","v":"2021/22"},{"$f":"VLOOKUP(Vlookup!D7,'CDCM Forecast Data'!$A$14:$I$271,7,FALSE)","v":"Forecast"},""]
[]
["1010. Financial and general assumptions"]
[]
["Sources: financial assumptions; calendar; network model."]
["These financial assumptions determine the annuity rate applied to convert the asset values of the network model into an annual charge."]
[null,"Rate of return","Annualisation period (years)","Annuity proportion for customer-contributed assets","Power factor","Days in the charging period"]
["Financial and general assumptions",{"$f":"VLOOKUP(Vlookup!B14,'CDCM Forecast Data'!$A$14:$I$271,7,FALSE)","v":4.2099999999999999E-2},{"$f":"VLOOKUP(Vlookup!C14,'CDCM Forecast Data'!$A$14:$I$271,7,FALSE)","v":40},null,{"$f":"VLOOKUP(Vlookup!E14,'CDCM Forecast Data'!$A$14:$I$271,7,FALSE)","v":0.95},{"$f":"VLOOKUP(Vlookup!F14,'CDCM Forecast Data'!$A$14:$I$271,7,FALSE)","v":365},""]
[]
["1017. Diversity allowance between top and bottom of network level"]
[]
["Source: operational data analysis and/or network model."]
["The diversity figure against GSP is the diversity between GSP Group (the whole system) and individual GSPs."]
["The diversity figure against 132kV is the diversity between GSPs (the top of the 132kV network) and 132kV/EHV bulk supply points (the bottom of the 132kV network). "]
["The diversity figure against EHV is the diversity between 132kV/EHV bulk supply points (the top of the EHV network) and EHV/HV primary substations (the bottom of the EHV network). "]
["The diversity figure against HV is the diversity between EHV/HV primary substations (the top of the HV network) and HV/LV substations (the bottom of the HV network). "]
[null,"Diversity allowance between top and bottom of network level"]
["GSPs",{"$f":"VLOOKUP(Vlookup!B24,'CDCM Forecast Data'!$A$14:$I$271,7,FALSE)","v":2.4713742436156094E-2},""]
["132kV",{"$f":"VLOOKUP(Vlookup!B25,'CDCM Forecast Data'!$A$14:$I$271,7,FALSE)","v":4.5013478235986115E-2},""]
["132kV/EHV",null,""]
["EHV",{"$f":"VLOOKUP(Vlookup!B27,'CDCM Forecast Data'!$A$14:$I$271,7,FALSE)","v":7.9017642685410783E-2},""]
["EHV/HV",null,""]
["HV",{"$f":"VLOOKUP(Vlookup!B29,'CDCM Forecast Data'!$A$14:$I$271,7,FALSE)","v":0.34000000000000008},""]
["HV/LV",null,""]
["LV circuits",null,""]
[]
["1018. Proportion of relevant load going through 132kV/HV direct transformation"]
[""]
[null,"132kV/HV"]
["EHV/HV",{"$f":"VLOOKUP(Vlookup!B36,'CDCM Forecast Data'!$A$14:$I$271,7,FALSE)","v":7.5044342711319545E-2},""]
[]
["1019. Network model GSP peak demand (MW)"]
[]
[null,"Network model GSP peak demand (MW)"]
["Network model GSP peak demand (MW)",{"$f":"VLOOKUP(Vlookup!B41,'CDCM Forecast Data'!$A$14:$I$271,7,FALSE)","v":500},""]
[]
["1020. Gross asset cost by network level (£)"]
[]
[null,"Gross assets £"]
["132kV",{"$f":"VLOOKUP(Vlookup!B46,'CDCM Forecast Data'!$A$14:$I$271,7,FALSE)","v":60109821.286093645},""]
["132kV/EHV",{"$f":"VLOOKUP(Vlookup!B47,'CDCM Forecast Data'!$A$14:$I$271,7,FALSE)","v":30546437.30620509},""]
["EHV",{"$f":"VLOOKUP(Vlookup!B48,'CDCM Forecast Data'!$A$14:$I$271,7,FALSE)","v":37338273.475776285},""]
["EHV/HV",{"$f":"VLOOKUP(Vlookup!B49,'CDCM Forecast Data'!$A$14:$I$271,7,FALSE)","v":60614666.905305751},""]
["132kV/HV",{"$f":"VLOOKUP(Vlookup!B50,'CDCM Forecast Data'!$A$14:$I$271,7,FALSE)","v":5083800.3732549306},""]
["HV",{"$f":"VLOOKUP(Vlookup!B51,'CDCM Forecast Data'!$A$14:$I$271,7,FALSE)","v":143822347.31652093},""]
["HV/LV",{"$f":"VLOOKUP(Vlookup!B52,'CDCM Forecast Data'!$A$14:$I$271,7,FALSE)","v":65010248.381058946},""]
["LV circuits",{"$f":"VLOOKUP(Vlookup!B53,'CDCM Forecast Data'!$A$14:$I$271,7,FALSE)","v":126517747.13428408},""]
[]
["1022. LV service model asset cost (£)"]
[]
[null,"LV service model 1","LV service model 2","LV service model 3","LV service model 4","LV service model 5","LV service model 6","LV service model 7","LV service model 8"]
["LV service model asset cost (£)",{"$f":"VLOOKUP(Vlookup!B58,'CDCM Forecast Data'!$A$14:$I$271,7,FALSE)","v":4634.2153826086978},{"$f":"VLOOKUP(Vlookup!C58,'CDCM Forecast Data'!$A$14:$I$271,7,FALSE)","v":706.54717086956566},{"$f":"VLOOKUP(Vlookup!D58,'CDCM Forecast Data'!$A$14:$I$271,7,FALSE)","v":817.18026956521771},{"$f":"VLOOKUP(Vlookup!E58,'CDCM Forecast Data'!$A$14:$I$271,7,FALSE)","v":593.04760173913053},{"$f":"VLOOKUP(Vlookup!F58,'CDCM Forecast Data'!$A$14:$I$271,7,FALSE)","v":1308.3923993043484},{"$f":"VLOOKUP(Vlookup!G58,'CDCM Forecast Data'!$A$14:$I$271,7,FALSE)","v":1021.385582608696},{"$f":"VLOOKUP(Vlookup!H58,'CDCM Forecast Data'!$A$14:$I$271,7,FALSE)","v":0},{"$f":"VLOOKUP(Vlookup!I58,'CDCM Forecast Data'!$A$14:$I$271,7,FALSE)","v":559.01275304347837},""]
[]
["1023. HV service model asset cost (£)"]
[]
[null,"HV service model 1","HV service model 2","HV service model 3","HV service model 4","HV service model 5"]
["HV service model asset cost (£)",{"$f":"VLOOKUP(Vlookup!B63,'CDCM Forecast Data'!$A$14:$I$271,7,FALSE)","v":11030.692194782612},{"$f":"VLOOKUP(Vlookup!C63,'CDCM Forecast Data'!$A$14:$I$271,7,FALSE)","v":4534.9565217391319},{"$f":"VLOOKUP(Vlookup!D63,'CDCM Forecast Data'!$A$14:$I$271,7,FALSE)","v":0},{"$f":"VLOOKUP(Vlookup!E63,'CDCM Forecast Data'!$A$14:$I$271,7,FALSE)","v":0},{"$f":"VLOOKUP(Vlookup!F63,'CDCM Forecast Data'!$A$14:$I$271,7,FALSE)","v":0},""]
[]
["1025. Matrix of applicability of LV service models to tariffs with fixed charges"]
[null,18,{"$f":"B66+1","v":19},20,21,22,23,24,25]
[null,"LV service model 1","LV service model 2","LV service model 3","LV service model 4","LV service model 5","LV service model 6","LV service model 7","LV service model 8"]
["Domestic Unrestricted",{"$f":"VLOOKUP($A68,'Mat of App'!$B$7:$AP$43,B$66,FALSE)","v":0.05},{"$f":"VLOOKUP($A68,'Mat of App'!$B$7:$AP$43,C$66,FALSE)","v":0},{"$f":"VLOOKUP($A68,'Mat of App'!$B$7:$AP$43,D$66,FALSE)","v":0},{"$f":"VLOOKUP($A68,'Mat of App'!$B$7:$AP$43,E$66,FALSE)","v":0},{"$f":"VLOOKUP($A68,'Mat of App'!$B$7:$AP$43,F$66,FALSE)","v":0},{"$f":"VLOOKUP($A68,'Mat of App'!$B$7:$AP$43,G$66,FALSE)","v":0},{"$f":"VLOOKUP($A68,'Mat of App'!$B$7:$AP$43,H$66,FALSE)","v":0},{"$f":"VLOOKUP($A68,'Mat of App'!$B$7:$AP$43,I$66,FALSE)","v":0},""]
["Domestic Two Rate",{"$f":"VLOOKUP($A69,'Mat of App'!$B$7:$AP$43,B$66,FALSE)","v":0.05},{"$f":"VLOOKUP($A69,'Mat of App'!$B$7:$AP$43,C$66,FALSE)","v":0},{"$f":"VLOOKUP($A69,'Mat of App'!$B$7:$AP$43,D$66,FALSE)","v":0},{"$f":"VLOOKUP($A69,'Mat of App'!$B$7:$AP$43,E$66,FALSE)","v":0},{"$f":"VLOOKUP($A69,'Mat of App'!$B$7:$AP$43,F$66,FALSE)","v":0},{"$f":"VLOOKUP($A69,'Mat of App'!$B$7:$AP$43,G$66,FALSE)","v":0},{"$f":"VLOOKUP($A69,'Mat of App'!$B$7:$AP$43,H$66,FALSE)","v":0},{"$f":"VLOOKUP($A69,'Mat of App'!$B$7:$AP$43,I$66,FALSE)","v":0},""]
["Small Non Domestic Unrestricted",{"$f":"VLOOKUP($A70,'Mat of App'!$B$7:$AP$43,B$66,FALSE)","v":0},{"$f":"VLOOKUP($A70,'Mat of App'!$B$7:$AP$43,C$66,FALSE)","v":1},{"$f":"VLOOKUP($A70,'Mat of App'!$B$7:$AP$43,D$66,FALSE)","v":0},{"$f":"VLOOKUP($A70,'Mat of App'!$B$7:$AP$43,E$66,FALSE)","v":0},{"$f":"VLOOKUP($A70,'Mat of App'!$B$7:$AP$43,F$66,FALSE)","v":0},{"$f":"VLOOKUP($A70,'Mat of App'!$B$7:$AP$43,G$66,FALSE)","v":0},{"$f":"VLOOKUP($A70,'Mat of App'!$B$7:$AP$43,H$66,FALSE)","v":0},{"$f":"VLOOKUP($A70,'Mat of App'!$B$7:$AP$43,I$66,FALSE)","v":0},""]
["Small Non Domestic Two Rate",{"$f":"VLOOKUP($A71,'Mat of App'!$B$7:$AP$43,B$66,FALSE)","v":0},{"$f":"VLOOKUP($A71,'Mat of App'!$B$7:$AP$43,C$66,FALSE)","v":1},{"$f":"VLOOKUP($A71,'Mat of App'!$B$7:$AP$43,D$66,FALSE)","v":0},{"$f":"VLOOKUP($A71,'Mat of App'!$B$7:$AP$43,E$66,FALSE)","v":0},{"$f":"VLOOKUP($A71,'Mat of App'!$B$7:$AP$43,F$66,FALSE)","v":0},{"$f":"VLOOKUP($A71,'Mat of App'!$B$7:$AP$43,G$66,FALSE)","v":0},{"$f":"VLOOKUP($A71,'Mat of App'!$B$7:$AP$43,H$66,FALSE)","v":0},{"$f":"VLOOKUP($A71,'Mat of App'!$B$7:$AP$43,I$66,FALSE)","v":0},""]
["LV Medium Non-Domestic",{"$f":"VLOOKUP($A72,'Mat of App'!$B$7:$AP$43,B$66,FALSE)","v":0},{"$f":"VLOOKUP($A72,'Mat of App'!$B$7:$AP$43,C$66,FALSE)","v":0},{"$f":"VLOOKUP($A72,'Mat of App'!$B$7:$AP$43,D$66,FALSE)","v":1},{"$f":"VLOOKUP($A72,'Mat of App'!$B$7:$AP$43,E$66,FALSE)","v":0},{"$f":"VLOOKUP($A72,'Mat of App'!$B$7:$AP$43,F$66,FALSE)","v":0},{"$f":"VLOOKUP($A72,'Mat of App'!$B$7:$AP$43,G$66,FALSE)","v":0},{"$f":"VLOOKUP($A72,'Mat of App'!$B$7:$AP$43,H$66,FALSE)","v":0},{"$f":"VLOOKUP($A72,'Mat of App'!$B$7:$AP$43,I$66,FALSE)","v":0}]
["LV Sub Medium Non-Domestic",{"$f":"VLOOKUP($A73,'Mat of App'!$B$7:$AP$43,B$66,FALSE)","v":0},{"$f":"VLOOKUP($A73,'Mat of App'!$B$7:$AP$43,C$66,FALSE)","v":0},{"$f":"VLOOKUP($A73,'Mat of App'!$B$7:$AP$43,D$66,FALSE)","v":0},{"$f":"VLOOKUP($A73,'Mat of App'!$B$7:$AP$43,E$66,FALSE)","v":1},{"$f":"VLOOKUP($A73,'Mat of App'!$B$7:$AP$43,F$66,FALSE)","v":0},{"$f":"VLOOKUP($A73,'Mat of App'!$B$7:$AP$43,G$66,FALSE)","v":0},{"$f":"VLOOKUP($A73,'Mat of App'!$B$7:$AP$43,H$66,FALSE)","v":0},{"$f":"VLOOKUP($A73,'Mat of App'!$B$7:$AP$43,I$66,FALSE)","v":0}]
["LV Network Domestic",{"$f":"VLOOKUP($A74,'Mat of App'!$B$7:$AP$43,B$66,FALSE)","v":0.05},{"$f":"VLOOKUP($A74,'Mat of App'!$B$7:$AP$43,C$66,FALSE)","v":0},{"$f":"VLOOKUP($A74,'Mat of App'!$B$7:$AP$43,D$66,FALSE)","v":0},{"$f":"VLOOKUP($A74,'Mat of App'!$B$7:$AP$43,E$66,FALSE)","v":0},{"$f":"VLOOKUP($A74,'Mat of App'!$B$7:$AP$43,F$66,FALSE)","v":0},{"$f":"VLOOKUP($A74,'Mat of App'!$B$7:$AP$43,G$66,FALSE)","v":0},{"$f":"VLOOKUP($A74,'Mat of App'!$B$7:$AP$43,H$66,FALSE)","v":0},{"$f":"VLOOKUP($A74,'Mat of App'!$B$7:$AP$43,I$66,FALSE)","v":0},""]
["LV Network Non-Domestic Non-CT",{"$f":"VLOOKUP($A75,'Mat of App'!$B$7:$AP$43,B$66,FALSE)","v":0},{"$f":"VLOOKUP($A75,'Mat of App'!$B$7:$AP$43,C$66,FALSE)","v":1},{"$f":"VLOOKUP($A75,'Mat of App'!$B$7:$AP$43,D$66,FALSE)","v":0},{"$f":"VLOOKUP($A75,'Mat of App'!$B$7:$AP$43,E$66,FALSE)","v":0},{"$f":"VLOOKUP($A75,'Mat of App'!$B$7:$AP$43,F$66,FALSE)","v":0},{"$f":"VLOOKUP($A75,'Mat of App'!$B$7:$AP$43,G$66,FALSE)","v":0},{"$f":"VLOOKUP($A75,'Mat of App'!$B$7:$AP$43,H$66,FALSE)","v":0},{"$f":"VLOOKUP($A75,'Mat of App'!$B$7:$AP$43,I$66,FALSE)","v":0},""]
["LV HH Metered",{"$f":"VLOOKUP($A76,'Mat of App'!$B$7:$AP$43,B$66,FALSE)","v":0},{"$f":"VLOOKUP($A76,'Mat of App'!$B$7:$AP$43,C$66,FALSE)","v":0},{"$f":"VLOOKUP($A76,'Mat of App'!$B$7:$AP$43,D$66,FALSE)","v":0},{"$f":"VLOOKUP($A76,'Mat of App'!$B$7:$AP$43,E$66,FALSE)","v":0},{"$f":"VLOOKUP($A76,'Mat of App'!$B$7:$AP$43,F$66,FALSE)","v":1},{"$f":"VLOOKUP($A76,'Mat of App'!$B$7:$AP$43,G$66,FALSE)","v":0},{"$f":"VLOOKUP($A76,'Mat of App'!$B$7:$AP$43,H$66,FALSE)","v":0},{"$f":"VLOOKUP($A76,'Mat of App'!$B$7:$AP$43,I$66,FALSE)","v":0},""]
["LV Sub HH Metered",{"$f":"VLOOKUP($A77,'Mat of App'!$B$7:$AP$43,B$66,FALSE)","v":0},{"$f":"VLOOKUP($A77,'Mat of App'!$B$7:$AP$43,C$66,FALSE)","v":0},{"$f":"VLOOKUP($A77,'Mat of App'!$B$7:$AP$43,D$66,FALSE)","v":0},{"$f":"VLOOKUP($A77,'Mat of App'!$B$7:$AP$43,E$66,FALSE)","v":0},{"$f":"VLOOKUP($A77,'Mat of App'!$B$7:$AP$43,F$66,FALSE)","v":0},{"$f":"VLOOKUP($A77,'Mat of App'!$B$7:$AP$43,G$66,FALSE)","v":1},{"$f":"VLOOKUP($A77,'Mat of App'!$B$7:$AP$43,H$66,FALSE)","v":0},{"$f":"VLOOKUP($A77,'Mat of App'!$B$7:$AP$43,I$66,FALSE)","v":0},""]
["LV Generation NHH or Aggregate HH",{"$f":"VLOOKUP($A78,'Mat of App'!$B$7:$AP$43,B$66,FALSE)","v":0},{"$f":"VLOOKUP($A78,'Mat of App'!$B$7:$AP$43,C$66,FALSE)","v":0},{"$f":"VLOOKUP($A78,'Mat of App'!$B$7:$AP$43,D$66,FALSE)","v":0},{"$f":"VLOOKUP($A78,'Mat of App'!$B$7:$AP$43,E$66,FALSE)","v":0},{"$f":"VLOOKUP($A78,'Mat of App'!$B$7:$AP$43,F$66,FALSE)","v":0},{"$f":"VLOOKUP($A78,'Mat of App'!$B$7:$AP$43,G$66,FALSE)","v":0},{"$f":"VLOOKUP($A78,'Mat of App'!$B$7:$AP$43,H$66,FALSE)","v":1},{"$f":"VLOOKUP($A78,'Mat of App'!$B$7:$AP$43,I$66,FALSE)","v":0},""]
["LV Sub Generation NHH",{"$f":"VLOOKUP($A79,'Mat of App'!$B$7:$AP$43,B$66,FALSE)","v":0},{"$f":"VLOOKUP($A79,'Mat of App'!$B$7:$AP$43,C$66,FALSE)","v":0},{"$f":"VLOOKUP($A79,'Mat of App'!$B$7:$AP$43,D$66,FALSE)","v":0},{"$f":"VLOOKUP($A79,'Mat of App'!$B$7:$AP$43,E$66,FALSE)","v":0},{"$f":"VLOOKUP($A79,'Mat of App'!$B$7:$AP$43,F$66,FALSE)","v":0},{"$f":"VLOOKUP($A79,'Mat of App'!$B$7:$AP$43,G$66,FALSE)","v":0},{"$f":"VLOOKUP($A79,'Mat of App'!$B$7:$AP$43,H$66,FALSE)","v":1},{"$f":"VLOOKUP($A79,'Mat of App'!$B$7:$AP$43,I$66,FALSE)","v":0},""]
["LV Generation Intermittent",{"$f":"VLOOKUP($A80,'Mat of App'!$B$7:$AP$43,B$66,FALSE)","v":0},{"$f":"VLOOKUP($A80,'Mat of App'!$B$7:$AP$43,C$66,FALSE)","v":0},{"$f":"VLOOKUP($A80,'Mat of App'!$B$7:$AP$43,D$66,FALSE)","v":0},{"$f":"VLOOKUP($A80,'Mat of App'!$B$7:$AP$43,E$66,FALSE)","v":0},{"$f":"VLOOKUP($A80,'Mat of App'!$B$7:$AP$43,F$66,FALSE)","v":0},{"$f":"VLOOKUP($A80,'Mat of App'!$B$7:$AP$43,G$66,FALSE)","v":0},{"$f":"VLOOKUP($A80,'Mat of App'!$B$7:$AP$43,H$66,FALSE)","v":1},{"$f":"VLOOKUP($A80,'Mat of App'!$B$7:$AP$43,I$66,FALSE)","v":0},""]
["LV Generation Intermittent no RP charge",{"$f":"VLOOKUP($A81,'Mat of App'!$B$7:$AP$43,B$66,FALSE)","v":0},{"$f":"VLOOKUP($A81,'Mat of App'!$B$7:$AP$43,C$66,FALSE)","v":0},{"$f":"VLOOKUP($A81,'Mat of App'!$B$7:$AP$43,D$66,FALSE)","v":0},{"$f":"VLOOKUP($A81,'Mat of App'!$B$7:$AP$43,E$66,FALSE)","v":0},{"$f":"VLOOKUP($A81,'Mat of App'!$B$7:$AP$43,F$66,FALSE)","v":0},{"$f":"VLOOKUP($A81,'Mat of App'!$B$7:$AP$43,G$66,FALSE)","v":0},{"$f":"VLOOKUP($A81,'Mat of App'!$B$7:$AP$43,H$66,FALSE)","v":1},{"$f":"VLOOKUP($A81,'Mat of App'!$B$7:$AP$43,I$66,FALSE)","v":0},""]
["LV Generation Non-Intermittent",{"$f":"VLOOKUP($A82,'Mat of App'!$B$7:$AP$43,B$66,FALSE)","v":0},{"$f":"VLOOKUP($A82,'Mat of App'!$B$7:$AP$43,C$66,FALSE)","v":0},{"$f":"VLOOKUP($A82,'Mat of App'!$B$7:$AP$43,D$66,FALSE)","v":0},{"$f":"VLOOKUP($A82,'Mat of App'!$B$7:$AP$43,E$66,FALSE)","v":0},{"$f":"VLOOKUP($A82,'Mat of App'!$B$7:$AP$43,F$66,FALSE)","v":0},{"$f":"VLOOKUP($A82,'Mat of App'!$B$7:$AP$43,G$66,FALSE)","v":0},{"$f":"VLOOKUP($A82,'Mat of App'!$B$7:$AP$43,H$66,FALSE)","v":0},{"$f":"VLOOKUP($A82,'Mat of App'!$B$7:$AP$43,I$66,FALSE)","v":0},""]
["LV Generation Non-Intermittent no RP charge",{"$f":"VLOOKUP($A83,'Mat of App'!$B$7:$AP$43,B$66,FALSE)","v":0},{"$f":"VLOOKUP($A83,'Mat of App'!$B$7:$AP$43,C$66,FALSE)","v":0},{"$f":"VLOOKUP($A83,'Mat of App'!$B$7:$AP$43,D$66,FALSE)","v":0},{"$f":"VLOOKUP($A83,'Mat of App'!$B$7:$AP$43,E$66,FALSE)","v":0},{"$f":"VLOOKUP($A83,'Mat of App'!$B$7:$AP$43,F$66,FALSE)","v":0},{"$f":"VLOOKUP($A83,'Mat of App'!$B$7:$AP$43,G$66,FALSE)","v":0},{"$f":"VLOOKUP($A83,'Mat of App'!$B$7:$AP$43,H$66,FALSE)","v":0},{"$f":"VLOOKUP($A83,'Mat of App'!$B$7:$AP$43,I$66,FALSE)","v":0}]
["LV Sub Generation Intermittent",{"$f":"VLOOKUP($A84,'Mat of App'!$B$7:$AP$43,B$66,FALSE)","v":0},{"$f":"VLOOKUP($A84,'Mat of App'!$B$7:$AP$43,C$66,FALSE)","v":0},{"$f":"VLOOKUP($A84,'Mat of App'!$B$7:$AP$43,D$66,FALSE)","v":0},{"$f":"VLOOKUP($A84,'Mat of App'!$B$7:$AP$43,E$66,FALSE)","v":0},{"$f":"VLOOKUP($A84,'Mat of App'!$B$7:$AP$43,F$66,FALSE)","v":0},{"$f":"VLOOKUP($A84,'Mat of App'!$B$7:$AP$43,G$66,FALSE)","v":0},{"$f":"VLOOKUP($A84,'Mat of App'!$B$7:$AP$43,H$66,FALSE)","v":0},{"$f":"VLOOKUP($A84,'Mat of App'!$B$7:$AP$43,I$66,FALSE)","v":0}]
["LV Sub Generation Intermittent no RP charge",{"$f":"VLOOKUP($A85,'Mat of App'!$B$7:$AP$43,B$66,FALSE)","v":0},{"$f":"VLOOKUP($A85,'Mat of App'!$B$7:$AP$43,C$66,FALSE)","v":0},{"$f":"VLOOKUP($A85,'Mat of App'!$B$7:$AP$43,D$66,FALSE)","v":0},{"$f":"VLOOKUP($A85,'Mat of App'!$B$7:$AP$43,E$66,FALSE)","v":0},{"$f":"VLOOKUP($A85,'Mat of App'!$B$7:$AP$43,F$66,FALSE)","v":0},{"$f":"VLOOKUP($A85,'Mat of App'!$B$7:$AP$43,G$66,FALSE)","v":0},{"$f":"VLOOKUP($A85,'Mat of App'!$B$7:$AP$43,H$66,FALSE)","v":0},{"$f":"VLOOKUP($A85,'Mat of App'!$B$7:$AP$43,I$66,FALSE)","v":0}]
["LV Sub Generation Non-Intermittent",{"$f":"VLOOKUP($A86,'Mat of App'!$B$7:$AP$43,B$66,FALSE)","v":0},{"$f":"VLOOKUP($A86,'Mat of App'!$B$7:$AP$43,C$66,FALSE)","v":0},{"$f":"VLOOKUP($A86,'Mat of App'!$B$7:$AP$43,D$66,FALSE)","v":0},{"$f":"VLOOKUP($A86,'Mat of App'!$B$7:$AP$43,E$66,FALSE)","v":0},{"$f":"VLOOKUP($A86,'Mat of App'!$B$7:$AP$43,F$66,FALSE)","v":0},{"$f":"VLOOKUP($A86,'Mat of App'!$B$7:$AP$43,G$66,FALSE)","v":0},{"$f":"VLOOKUP($A86,'Mat of App'!$B$7:$AP$43,H$66,FALSE)","v":0},{"$f":"VLOOKUP($A86,'Mat of App'!$B$7:$AP$43,I$66,FALSE)","v":0}]
["LV Sub Generation Non-Intermittent no RP charge",{"$f":"VLOOKUP($A87,'Mat of App'!$B$7:$AP$43,B$66,FALSE)","v":0},{"$f":"VLOOKUP($A87,'Mat of App'!$B$7:$AP$43,C$66,FALSE)","v":0},{"$f":"VLOOKUP($A87,'Mat of App'!$B$7:$AP$43,D$66,FALSE)","v":0},{"$f":"VLOOKUP($A87,'Mat of App'!$B$7:$AP$43,E$66,FALSE)","v":0},{"$f":"VLOOKUP($A87,'Mat of App'!$B$7:$AP$43,F$66,FALSE)","v":0},{"$f":"VLOOKUP($A87,'Mat of App'!$B$7:$AP$43,G$66,FALSE)","v":0},{"$f":"VLOOKUP($A87,'Mat of App'!$B$7:$AP$43,H$66,FALSE)","v":0},{"$f":"VLOOKUP($A87,'Mat of App'!$B$7:$AP$43,I$66,FALSE)","v":0},""]
[]
["1026. Matrix of applicability of LV service models to unmetered tariffs"]
[]
["Source: service models"]
["Proportion of service model involved in connecting load of 1 MWh/year"]
[null,"LV service model 1","LV service model 2","LV service model 3","LV service model 4","LV service model 5","LV service model 6","LV service model 7","LV service model 8"]
["All LV unmetered tariffs",{"$f":"VLOOKUP($A94,'Mat of App'!$B$7:$AP$43,B$66,FALSE)","v":0},{"$f":"VLOOKUP($A94,'Mat of App'!$B$7:$AP$43,C$66,FALSE)","v":0},{"$f":"VLOOKUP($A94,'Mat of App'!$B$7:$AP$43,D$66,FALSE)","v":0},{"$f":"VLOOKUP($A94,'Mat of App'!$B$7:$AP$43,E$66,FALSE)","v":0},{"$f":"VLOOKUP($A94,'Mat of App'!$B$7:$AP$43,F$66,FALSE)","v":0},{"$f":"VLOOKUP($A94,'Mat of App'!$B$7:$AP$43,G$66,FALSE)","v":0},{"$f":"VLOOKUP($A94,'Mat of App'!$B$7:$AP$43,H$66,FALSE)","v":0},{"$f":"VLOOKUP($A94,'Mat of App'!$B$7:$AP$43,I$66,FALSE)","v":0.48799999999999999},""]
[]
["1028. Matrix of applicability of HV service models to tariffs with fixed charges"]
[null,12,{"$f":"B97+1","v":13},{"$f":"C97+1","v":14},{"$f":"D97+1","v":15},{"$f":"E97+1","v":16}]
[null,"HV service model 1","HV service model 2","HV service model 3","HV service model 4","HV service model 5"]
["HV Medium Non-Domestic",{"$f":"VLOOKUP($A99,'Mat of App'!$B$7:$AP$43,B$97,FALSE)","v":1},{"$f":"VLOOKUP($A99,'Mat of App'!$B$7:$AP$43,C$97,FALSE)","v":0},{"$f":"VLOOKUP($A99,'Mat of App'!$B$7:$AP$43,D$97,FALSE)","v":0},{"$f":"VLOOKUP($A99,'Mat of App'!$B$7:$AP$43,E$97,FALSE)","v":0},{"$f":"VLOOKUP($A99,'Mat of App'!$B$7:$AP$43,F$97,FALSE)","v":0},""]
["HV HH Metered",{"$f":"VLOOKUP($A100,'Mat of App'!$B$7:$AP$43,B$97,FALSE)","v":1},{"$f":"VLOOKUP($A100,'Mat of App'!$B$7:$AP$43,C$97,FALSE)","v":0},{"$f":"VLOOKUP($A100,'Mat of App'!$B$7:$AP$43,D$97,FALSE)","v":0},{"$f":"VLOOKUP($A100,'Mat of App'!$B$7:$AP$43,E$97,FALSE)","v":0},{"$f":"VLOOKUP($A100,'Mat of App'!$B$7:$AP$43,F$97,FALSE)","v":0},""]
["HV Generation Intermittent",{"$f":"VLOOKUP($A101,'Mat of App'!$B$7:$AP$43,B$97,FALSE)","v":0},{"$f":"VLOOKUP($A101,'Mat of App'!$B$7:$AP$43,C$97,FALSE)","v":1},{"$f":"VLOOKUP($A101,'Mat of App'!$B$7:$AP$43,D$97,FALSE)","v":0},{"$f":"VLOOKUP($A101,'Mat of App'!$B$7:$AP$43,E$97,FALSE)","v":0},{"$f":"VLOOKUP($A101,'Mat of App'!$B$7:$AP$43,F$97,FALSE)","v":0}]
["HV Generation Intermittent no RP charge",{"$f":"VLOOKUP($A102,'Mat of App'!$B$7:$AP$43,B$97,FALSE)","v":0},{"$f":"VLOOKUP($A102,'Mat of App'!$B$7:$AP$43,C$97,FALSE)","v":1},{"$f":"VLOOKUP($A102,'Mat of App'!$B$7:$AP$43,D$97,FALSE)","v":0},{"$f":"VLOOKUP($A102,'Mat of App'!$B$7:$AP$43,E$97,FALSE)","v":0},{"$f":"VLOOKUP($A102,'Mat of App'!$B$7:$AP$43,F$97,FALSE)","v":0}]
["HV Generation Non-Intermittent",{"$f":"VLOOKUP($A103,'Mat of App'!$B$7:$AP$43,B$97,FALSE)","v":0},{"$f":"VLOOKUP($A103,'Mat of App'!$B$7:$AP$43,C$97,FALSE)","v":1},{"$f":"VLOOKUP($A103,'Mat of App'!$B$7:$AP$43,D$97,FALSE)","v":0},{"$f":"VLOOKUP($A103,'Mat of App'!$B$7:$AP$43,E$97,FALSE)","v":0},{"$f":"VLOOKUP($A103,'Mat of App'!$B$7:$AP$43,F$97,FALSE)","v":0}]
["HV Generation Non-Intermittent no RP charge",{"$f":"VLOOKUP($A104,'Mat of App'!$B$7:$AP$43,B$97,FALSE)","v":0},{"$f":"VLOOKUP($A104,'Mat of App'!$B$7:$AP$43,C$97,FALSE)","v":1},{"$f":"VLOOKUP($A104,'Mat of App'!$B$7:$AP$43,D$97,FALSE)","v":0},{"$f":"VLOOKUP($A104,'Mat of App'!$B$7:$AP$43,E$97,FALSE)","v":0},{"$f":"VLOOKUP($A104,'Mat of App'!$B$7:$AP$43,F$97,FALSE)","v":0}]
[]
["1032. Loss adjustment factors to transmission"]
[""]
["Source: losses model or loss adjustment factors at time of system peak."]
[null,"132kV","132kV/EHV","EHV","EHV/HV","HV","HV/LV","LV circuits"]
["Loss adjustment factor",{"$f":"VLOOKUP(Vlookup!B69,'CDCM Forecast Data'!$A$14:$I$271,7,FALSE)","v":1.002},{"$f":"VLOOKUP(Vlookup!C69,'CDCM Forecast Data'!$A$14:$I$271,7,FALSE)","v":1.008},{"$f":"VLOOKUP(Vlookup!D69,'CDCM Forecast Data'!$A$14:$I$271,7,FALSE)","v":1.01},{"$f":"VLOOKUP(Vlookup!E69,'CDCM Forecast Data'!$A$14:$I$271,7,FALSE)","v":1.018},{"$f":"VLOOKUP(Vlookup!F69,'CDCM Forecast Data'!$A$14:$I$271,7,FALSE)","v":1.034},{"$f":"VLOOKUP(Vlookup!G69,'CDCM Forecast Data'!$A$14:$I$271,7,FALSE)","v":1.05},{"$f":"VLOOKUP(Vlookup!H69,'CDCM Forecast Data'!$A$14:$I$271,7,FALSE)","v":1.08},""]
[]
["1037. Embedded network (LDNO) discounts"]
[""]
["Source: separate price control disaggregation model."]
[null,"No discount","LDNO LV: LV user","LDNO HV: LV user","LDNO HV: LV sub user","LDNO HV: HV user"]
["LDNO discount",null,{"$f":"VLOOKUP(Vlookup!C75,'CDCM Forecast Data'!$A$14:$I$271,7,FALSE)","v":0.30035267521805875},{"$f":"VLOOKUP(Vlookup!D75,'CDCM Forecast Data'!$A$14:$I$271,7,FALSE)","v":0.47818139481135069},{"$f":"VLOOKUP(Vlookup!E75,'CDCM Forecast Data'!$A$14:$I$271,7,FALSE)","v":0.24363743688262601},{"$f":"VLOOKUP(Vlookup!F75,'CDCM Forecast Data'!$A$14:$I$271,7,FALSE)","v":0.14249687495735849},""]
[]
["1041. Load profile data for demand users"]
[]
["Source: load data analysis."]
[null,"Coincidence factor","Load factor"]
["Domestic Unrestricted",{"$f":"VLOOKUP(Vlookup!B81,'CDCM Forecast Data'!$A$14:$I$271,7,FALSE)","v":0.86240741067308713},{"$f":"VLOOKUP(Vlookup!C81,'CDCM Forecast Data'!$A$14:$I$271,7,FALSE)","v":0.41623710501756489},""]
["Domestic Two Rate",{"$f":"VLOOKUP(Vlookup!B82,'CDCM Forecast Data'!$A$14:$I$271,7,FALSE)","v":0.86034731111249485},{"$f":"VLOOKUP(Vlookup!C82,'CDCM Forecast Data'!$A$14:$I$271,7,FALSE)","v":0.5028096693143812},""]
["Domestic Off Peak (related MPAN)",null,{"$f":"VLOOKUP(Vlookup!C83,'CDCM Forecast Data'!$A$14:$I$271,7,FALSE)","v":0.14790375681824444},""]
["Small Non Domestic Unrestricted",{"$f":"VLOOKUP(Vlookup!B84,'CDCM Forecast Data'!$A$14:$I$271,7,FALSE)","v":0.72324936497793268},{"$f":"VLOOKUP(Vlookup!C84,'CDCM Forecast Data'!$A$14:$I$271,7,FALSE)","v":0.37532588558908553},""]
["Small Non Domestic Two Rate",{"$f":"VLOOKUP(Vlookup!B85,'CDCM Forecast Data'!$A$14:$I$271,7,FALSE)","v":0.86240621985923305},{"$f":"VLOOKUP(Vlookup!C85,'CDCM Forecast Data'!$A$14:$I$271,7,FALSE)","v":0.53424065388272945},""]
["Small Non Domestic Off Peak (related MPAN)",null,{"$f":"VLOOKUP(Vlookup!C86,'CDCM Forecast Data'!$A$14:$I$271,7,FALSE)","v":0.24278777249580674},""]
["LV Medium Non-Domestic",{"$f":"VLOOKUP(Vlookup!B87,'CDCM Forecast Data'!$A$14:$I$271,7,FALSE)","v":0.84122778780683927},{"$f":"VLOOKUP(Vlookup!C87,'CDCM Forecast Data'!$A$14:$I$271,7,FALSE)","v":0.52667690446927706},""]
["LV Sub Medium Non-Domestic",{"$f":"VLOOKUP(Vlookup!B88,'CDCM Forecast Data'!$A$14:$I$271,7,FALSE)","v":0.84122778780683927},{"$f":"VLOOKUP(Vlookup!C88,'CDCM Forecast Data'!$A$14:$I$271,7,FALSE)","v":0.52667690446927706},""]
["HV Medium Non-Domestic",{"$f":"VLOOKUP(Vlookup!B89,'CDCM Forecast Data'!$A$14:$I$271,7,FALSE)","v":0.78886749721267824},{"$f":"VLOOKUP(Vlookup!C89,'CDCM Forecast Data'!$A$14:$I$271,7,FALSE)","v":0.49199747964816393},""]
["LV Network Domestic",{"$f":"VLOOKUP(Vlookup!B90,'CDCM Forecast Data'!$A$14:$I$271,7,FALSE)","v":0.86164448674198868},{"$f":"VLOOKUP(Vlookup!C90,'CDCM Forecast Data'!$A$14:$I$271,7,FALSE)","v":0.44382955791989437},""]
["LV Network Non-Domestic Non-CT",{"$f":"VLOOKUP(Vlookup!B91,'CDCM Forecast Data'!$A$14:$I$271,7,FALSE)","v":0.78752477648789532},{"$f":"VLOOKUP(Vlookup!C91,'CDCM Forecast Data'!$A$14:$I$271,7,FALSE)","v":0.44789395514276292},""]
["LV HH Metered",{"$f":"VLOOKUP(Vlookup!B92,'CDCM Forecast Data'!$A$14:$I$271,7,FALSE)","v":0.82086521600613926},{"$f":"VLOOKUP(Vlookup!C92,'CDCM Forecast Data'!$A$14:$I$271,7,FALSE)","v":0.5584288623436322},""]
["LV Sub HH Metered",{"$f":"VLOOKUP(Vlookup!B93,'CDCM Forecast Data'!$A$14:$I$271,7,FALSE)","v":0.84026867562743668},{"$f":"VLOOKUP(Vlookup!C93,'CDCM Forecast Data'!$A$14:$I$271,7,FALSE)","v":0.57907566723908654}]
["HV HH Metered",{"$f":"VLOOKUP(Vlookup!B94,'CDCM Forecast Data'!$A$14:$I$271,7,FALSE)","v":0.84760121590132942},{"$f":"VLOOKUP(Vlookup!C94,'CDCM Forecast Data'!$A$14:$I$271,7,FALSE)","v":0.7141076061743471}]
["NHH UMS category A",{"$f":"VLOOKUP(Vlookup!B95,'CDCM Forecast Data'!$A$14:$I$271,7,FALSE)","v":1},{"$f":"VLOOKUP(Vlookup!C95,'CDCM Forecast Data'!$A$14:$I$271,7,FALSE)","v":1},""]
["NHH UMS category B",{"$f":"VLOOKUP(Vlookup!B96,'CDCM Forecast Data'!$A$14:$I$271,7,FALSE)","v":1},{"$f":"VLOOKUP(Vlookup!C96,'CDCM Forecast Data'!$A$14:$I$271,7,FALSE)","v":0.47270807337280285}]
["NHH UMS category C",{"$f":"VLOOKUP(Vlookup!B97,'CDCM Forecast Data'!$A$14:$I$271,7,FALSE)","v":1},{"$f":"VLOOKUP(Vlookup!C97,'CDCM Forecast Data'!$A$14:$I$271,7,FALSE)","v":0.24339371562014608}]
["NHH UMS category D",{"$f":"VLOOKUP(Vlookup!B98,'CDCM Forecast Data'!$A$14:$I$271,7,FALSE)","v":5.3621027479092004E-3},{"$f":"VLOOKUP(Vlookup!C98,'CDCM Forecast Data'!$A$14:$I$271,7,FALSE)","v":0.51158697514711327}]
["LV UMS (Pseudo HH Metered)",{"$f":"VLOOKUP(Vlookup!B99,'CDCM Forecast Data'!$A$14:$I$271,7,FALSE)","v":0.95079576417959843},{"$f":"VLOOKUP(Vlookup!C99,'CDCM Forecast Data'!$A$14:$I$271,7,FALSE)","v":0.44160896789800635},""]
[]
["1053. Volume forecasts for the charging year"]
["",18,19,20,21,22,23,24]
["Source: forecast."]
["Please include MPAN counts for tariffs with no fixed charge (e.g. off-peak tariffs),"]
["but exclude MPANs on tariffs with a fixed charge that are not subject to a fixed charge due to a site grouping arrangement."]
[null,"Rate 1 units (MWh)","Rate 2 units (MWh)","Rate 3 units (MWh)","MPANs","Import capacity (kVA)","Exceeded capacity (kVA)","Reactive power units (MVArh)"]
["> Domestic Unrestricted",{"$f":"VLOOKUP(Vlookup!$B107,'CDCM Volume Forecasts'!$A$28:$AL$136,B$143,FALSE)","v":0},{"$f":"VLOOKUP(Vlookup!$B107,'CDCM Volume Forecasts'!$A$28:$AL$136,C$143,FALSE)","v":0},{"$f":"VLOOKUP(Vlookup!$B107,'CDCM Volume Forecasts'!$A$28:$AL$136,D$143,FALSE)","v":0},{"$f":"VLOOKUP(Vlookup!$B107,'CDCM Volume Forecasts'!$A$28:$AL$136,E$143,FALSE)","v":0},{"$f":"VLOOKUP(Vlookup!$B107,'CDCM Volume Forecasts'!$A$28:$AL$136,F$143,FALSE)","v":0},null,{"$f":"VLOOKUP(Vlookup!$B107,'CDCM Volume Forecasts'!$A$28:$AL$136,G$143,FALSE)","v":0}]
["Domestic Unrestricted",{"$f":"VLOOKUP(Vlookup!$B108,'CDCM Volume Forecasts'!$A$28:$AL$136,B$143,FALSE)","v":5635747.39502858},null,null,{"$f":"VLOOKUP(Vlookup!$B108,'CDCM Volume Forecasts'!$A$28:$AL$136,E$143,FALSE)","v":1671267.7755050499}]
["LDNO LV: Domestic Unrestricted",{"$f":"VLOOKUP(Vlookup!$B109,'CDCM Volume Forecasts'!$A$28:$AL$136,B$143,FALSE)","v":94982.042774487054},null,null,{"$f":"VLOOKUP(Vlookup!$B109,'CDCM Volume Forecasts'!$A$28:$AL$136,E$143,FALSE)","v":35033.390339937563}]
["LDNO HV: Domestic Unrestricted",{"$f":"VLOOKUP(Vlookup!$B110,'CDCM Volume Forecasts'!$A$28:$AL$136,B$143,FALSE)","v":155171.27128812924},null,null,{"$f":"VLOOKUP(Vlookup!$B110,'CDCM Volume Forecasts'!$A$28:$AL$136,E$143,FALSE)","v":58162.880927404229}]
["> Domestic Two Rate"]
["Domestic Two Rate",{"$f":"VLOOKUP(Vlookup!$B112,'CDCM Volume Forecasts'!$A$28:$AL$136,B$143,FALSE)","v":2417415.8454986895},{"$f":"VLOOKUP(Vlookup!$B112,'CDCM Volume Forecasts'!$A$28:$AL$136,C$143,FALSE)","v":1076309.378668654},null,{"$f":"VLOOKUP(Vlookup!$B112,'CDCM Volume Forecasts'!$A$28:$AL$136,E$143,FALSE)","v":792868.49064519012}]
["LDNO LV: Domestic Two Rate",{"$f":"VLOOKUP(Vlookup!$B113,'CDCM Volume Forecasts'!$A$28:$AL$136,B$143,FALSE)","v":4629.9614332661959},{"$f":"VLOOKUP(Vlookup!$B113,'CDCM Volume Forecasts'!$A$28:$AL$136,C$143,FALSE)","v":1426.9050309592003},null,{"$f":"VLOOKUP(Vlookup!$B113,'CDCM Volume Forecasts'!$A$28:$AL$136,E$143,FALSE)","v":1499.239141579387}]
["LDNO HV: Domestic Two Rate",{"$f":"VLOOKUP(Vlookup!$B114,'CDCM Volume Forecasts'!$A$28:$AL$136,B$143,FALSE)","v":7642.5052138944002},{"$f":"VLOOKUP(Vlookup!$B114,'CDCM Volume Forecasts'!$A$28:$AL$136,C$143,FALSE)","v":2597.3847486999803},null,{"$f":"VLOOKUP(Vlookup!$B114,'CDCM Volume Forecasts'!$A$28:$AL$136,E$143,FALSE)","v":2453.4347641766276}]
["> Domestic Off Peak (related MPAN)"]
["Domestic Off Peak (related MPAN)",{"$f":"VLOOKUP(Vlookup!$B116,'CDCM Volume Forecasts'!$A$28:$AL$136,B$143,FALSE)","v":49585.593175668728},null,null,{"$f":"VLOOKUP(Vlookup!$B116,'CDCM Volume Forecasts'!$A$28:$AL$136,E$143,FALSE)","v":26805}]
["LDNO LV: Domestic Off Peak (related MPAN)",{"$f":"VLOOKUP(Vlookup!$B117,'CDCM Volume Forecasts'!$A$28:$AL$136,B$143,FALSE)","v":0},null,null,{"$f":"VLOOKUP(Vlookup!$B117,'CDCM Volume Forecasts'!$A$28:$AL$136,E$143,FALSE)","v":0}]
["LDNO HV: Domestic Off Peak (related MPAN)",{"$f":"VLOOKUP(Vlookup!$B118,'CDCM Volume Forecasts'!$A$28:$AL$136,B$143,FALSE)","v":0},null,null,{"$f":"VLOOKUP(Vlookup!$B118,'CDCM Volume Forecasts'!$A$28:$AL$136,E$143,FALSE)","v":0}]
["> Small Non Domestic Unrestricted"]
["Small Non Domestic Unrestricted",{"$f":"VLOOKUP(Vlookup!$B120,'CDCM Volume Forecasts'!$A$28:$AL$136,B$143,FALSE)","v":1140613.9739181774},null,null,{"$f":"VLOOKUP(Vlookup!$B120,'CDCM Volume Forecasts'!$A$28:$AL$136,E$143,FALSE)","v":95495.253097224515}]
["LDNO LV: Small Non Domestic Unrestricted",{"$f":"VLOOKUP(Vlookup!$B121,'CDCM Volume Forecasts'!$A$28:$AL$136,B$143,FALSE)","v":4254.8519221540355},null,null,{"$f":"VLOOKUP(Vlookup!$B121,'CDCM Volume Forecasts'!$A$28:$AL$136,E$143,FALSE)","v":714.08447240652981}]
["LDNO HV: Small Non Domestic Unrestricted",{"$f":"VLOOKUP(Vlookup!$B122,'CDCM Volume Forecasts'!$A$28:$AL$136,B$143,FALSE)","v":11145.922225068793},null,null,{"$f":"VLOOKUP(Vlookup!$B122,'CDCM Volume Forecasts'!$A$28:$AL$136,E$143,FALSE)","v":1270.1753584742994}]
["> Small Non Domestic Two Rate"]
["Small Non Domestic Two Rate",{"$f":"VLOOKUP(Vlookup!$B124,'CDCM Volume Forecasts'!$A$28:$AL$136,B$143,FALSE)","v":1514286.2262339729},{"$f":"VLOOKUP(Vlookup!$B124,'CDCM Volume Forecasts'!$A$28:$AL$136,C$143,FALSE)","v":451030.46492233477},null,{"$f":"VLOOKUP(Vlookup!$B124,'CDCM Volume Forecasts'!$A$28:$AL$136,E$143,FALSE)","v":82427.244684584759}]
["LDNO LV: Small Non Domestic Two Rate",{"$f":"VLOOKUP(Vlookup!$B125,'CDCM Volume Forecasts'!$A$28:$AL$136,B$143,FALSE)","v":402.47958047828541},{"$f":"VLOOKUP(Vlookup!$B125,'CDCM Volume Forecasts'!$A$28:$AL$136,C$143,FALSE)","v":80.438629283880772},null,{"$f":"VLOOKUP(Vlookup!$B125,'CDCM Volume Forecasts'!$A$28:$AL$136,E$143,FALSE)","v":12.903675111941352}]
["LDNO HV: Small Non Domestic Two Rate",{"$f":"VLOOKUP(Vlookup!$B126,'CDCM Volume Forecasts'!$A$28:$AL$136,B$143,FALSE)","v":1111.6322427478769},{"$f":"VLOOKUP(Vlookup!$B126,'CDCM Volume Forecasts'!$A$28:$AL$136,C$143,FALSE)","v":286.0338414769754},null,{"$f":"VLOOKUP(Vlookup!$B126,'CDCM Volume Forecasts'!$A$28:$AL$136,E$143,FALSE)","v":47.788053454719794}]
["> Small Non Domestic Off Peak (related MPAN)"]
["Small Non Domestic Off Peak (related MPAN)",{"$f":"VLOOKUP(Vlookup!$B128,'CDCM Volume Forecasts'!$A$28:$AL$136,B$143,FALSE)","v":2583.3840720654089},null,null,{"$f":"VLOOKUP(Vlookup!$B128,'CDCM Volume Forecasts'!$A$28:$AL$136,E$143,FALSE)","v":517}]
["LDNO LV: Small Non Domestic Off Peak (related MPAN)",{"$f":"VLOOKUP(Vlookup!$B129,'CDCM Volume Forecasts'!$A$28:$AL$136,B$143,FALSE)","v":0},null,null,{"$f":"VLOOKUP(Vlookup!$B129,'CDCM Volume Forecasts'!$A$28:$AL$136,E$143,FALSE)","v":0}]
["LDNO HV: Small Non Domestic Off Peak (related MPAN)",{"$f":"VLOOKUP(Vlookup!$B130,'CDCM Volume Forecasts'!$A$28:$AL$136,B$143,FALSE)","v":0},null,null,{"$f":"VLOOKUP(Vlookup!$B130,'CDCM Volume Forecasts'!$A$28:$AL$136,E$143,FALSE)","v":0}]
["> LV Medium Non-Domestic"]
["LV Medium Non-Domestic",{"$f":"VLOOKUP(Vlookup!$B132,'CDCM Volume Forecasts'!$A$28:$AL$136,B$143,FALSE)","v":41587.88901879995},{"$f":"VLOOKUP(Vlookup!$B132,'CDCM Volume Forecasts'!$A$28:$AL$136,C$143,FALSE)","v":11522.857188044651},null,{"$f":"VLOOKUP(Vlookup!$B132,'CDCM Volume Forecasts'!$A$28:$AL$136,E$143,FALSE)","v":1226.5130041316722}]
["LDNO LV: LV Medium Non-Domestic",{"$f":"VLOOKUP(Vlookup!$B133,'CDCM Volume Forecasts'!$A$28:$AL$136,B$143,FALSE)","v":-4.9112713895738124E-14},{"$f":"VLOOKUP(Vlookup!$B133,'CDCM Volume Forecasts'!$A$28:$AL$136,C$143,FALSE)","v":5.4569682106375695E-15},null,{"$f":"VLOOKUP(Vlookup!$B133,'CDCM Volume Forecasts'!$A$28:$AL$136,E$143,FALSE)","v":0}]
["LDNO HV: LV Medium Non-Domestic",{"$f":"VLOOKUP(Vlookup!$B134,'CDCM Volume Forecasts'!$A$28:$AL$136,B$143,FALSE)","v":-2.4738255888223645E-13},{"$f":"VLOOKUP(Vlookup!$B134,'CDCM Volume Forecasts'!$A$28:$AL$136,C$143,FALSE)","v":1.8189894035458565E-14},null,{"$f":"VLOOKUP(Vlookup!$B134,'CDCM Volume Forecasts'!$A$28:$AL$136,E$143,FALSE)","v":0}]
["> LV Sub Medium Non-Domestic"]
["LV Sub Medium Non-Domestic",{"$f":"VLOOKUP(Vlookup!$B136,'CDCM Volume Forecasts'!$A$28:$AL$136,B$143,FALSE)","v":0.14305029137837472},{"$f":"VLOOKUP(Vlookup!$B136,'CDCM Volume Forecasts'!$A$28:$AL$136,C$143,FALSE)","v":4.1771037058284492E-2},null,{"$f":"VLOOKUP(Vlookup!$B136,'CDCM Volume Forecasts'!$A$28:$AL$136,E$143,FALSE)","v":3.1678196721310618E-3}]
["> HV Medium Non-Domestic"]
["HV Medium Non-Domestic",{"$f":"VLOOKUP(Vlookup!$B138,'CDCM Volume Forecasts'!$A$28:$AL$136,B$143,FALSE)","v":2605.2120716228465},{"$f":"VLOOKUP(Vlookup!$B138,'CDCM Volume Forecasts'!$A$28:$AL$136,C$143,FALSE)","v":788.60544449936344},null,{"$f":"VLOOKUP(Vlookup!$B138,'CDCM Volume Forecasts'!$A$28:$AL$136,E$143,FALSE)","v":44}]
["> LV Network Domestic"]
["LV Network Domestic",{"$f":"VLOOKUP(Vlookup!$B140,'CDCM Volume Forecasts'!$A$28:$AL$136,B$143,FALSE)","v":25.916648860281796},{"$f":"VLOOKUP(Vlookup!$B140,'CDCM Volume Forecasts'!$A$28:$AL$136,C$143,FALSE)","v":99.416406772272921},{"$f":"VLOOKUP(Vlookup!$B140,'CDCM Volume Forecasts'!$A$28:$AL$136,D$143,FALSE)","v":122.08546012140339},{"$f":"VLOOKUP(Vlookup!$B140,'CDCM Volume Forecasts'!$A$28:$AL$136,E$143,FALSE)","v":76.118765573770503}]
["LDNO LV: LV Network Domestic",{"$f":"VLOOKUP(Vlookup!$B141,'CDCM Volume Forecasts'!$A$28:$AL$136,B$143,FALSE)","v":0},{"$f":"VLOOKUP(Vlookup!$B141,'CDCM Volume Forecasts'!$A$28:$AL$136,C$143,FALSE)","v":0},{"$f":"VLOOKUP(Vlookup!$B141,'CDCM Volume Forecasts'!$A$28:$AL$136,D$143,FALSE)","v":0},{"$f":"VLOOKUP(Vlookup!$B141,'CDCM Volume Forecasts'!$A$28:$AL$136,E$143,FALSE)","v":0}]
["LDNO HV: LV Network Domestic",{"$f":"VLOOKUP(Vlookup!$B142,'CDCM Volume Forecasts'!$A$28:$AL$136,B$143,FALSE)","v":0},{"$f":"VLOOKUP(Vlookup!$B142,'CDCM Volume Forecasts'!$A$28:$AL$136,C$143,FALSE)","v":0},{"$f":"VLOOKUP(Vlookup!$B142,'CDCM Volume Forecasts'!$A$28:$AL$136,D$143,FALSE)","v":0},{"$f":"VLOOKUP(Vlookup!$B142,'CDCM Volume Forecasts'!$A$28:$AL$136,E$143,FALSE)","v":0}]
["> LV Network Non-Domestic Non-CT"]
["LV Network Non-Domestic Non-CT",{"$f":"VLOOKUP(Vlookup!$B144,'CDCM Volume Forecasts'!$A$28:$AL$136,B$143,FALSE)","v":18558.487686612239},{"$f":"VLOOKUP(Vlookup!$B144,'CDCM Volume Forecasts'!$A$28:$AL$136,C$143,FALSE)","v":73567.926730158622},{"$f":"VLOOKUP(Vlookup!$B144,'CDCM Volume Forecasts'!$A$28:$AL$136,D$143,FALSE)","v":78280.332697577658},{"$f":"VLOOKUP(Vlookup!$B144,'CDCM Volume Forecasts'!$A$28:$AL$136,E$143,FALSE)","v":2509.10345882312}]
["LDNO LV: LV Network Non-Domestic Non-CT",{"$f":"VLOOKUP(Vlookup!$B145,'CDCM Volume Forecasts'!$A$28:$AL$136,B$143,FALSE)","v":19.24968807539738},{"$f":"VLOOKUP(Vlookup!$B145,'CDCM Volume Forecasts'!$A$28:$AL$136,C$143,FALSE)","v":72.688587305710143},{"$f":"VLOOKUP(Vlookup!$B145,'CDCM Volume Forecasts'!$A$28:$AL$136,D$143,FALSE)","v":120.49851830559453},{"$f":"VLOOKUP(Vlookup!$B145,'CDCM Volume Forecasts'!$A$28:$AL$136,E$143,FALSE)","v":4.7184373127364774}]
["LDNO HV: LV Network Non-Domestic Non-CT",{"$f":"VLOOKUP(Vlookup!$B146,'CDCM Volume Forecasts'!$A$28:$AL$136,B$143,FALSE)","v":104.24235588741557},{"$f":"VLOOKUP(Vlookup!$B146,'CDCM Volume Forecasts'!$A$28:$AL$136,C$143,FALSE)","v":362.68347429908619},{"$f":"VLOOKUP(Vlookup!$B146,'CDCM Volume Forecasts'!$A$28:$AL$136,D$143,FALSE)","v":416.12088245460063},{"$f":"VLOOKUP(Vlookup!$B146,'CDCM Volume Forecasts'!$A$28:$AL$136,E$143,FALSE)","v":19.841829348937043}]
["> LV HH Metered"]
["LV HH Metered",{"$f":"VLOOKUP(Vlookup!$B148,'CDCM Volume Forecasts'!$A$28:$AL$136,B$143,FALSE)","v":377835.6813072178},{"$f":"VLOOKUP(Vlookup!$B148,'CDCM Volume Forecasts'!$A$28:$AL$136,C$143,FALSE)","v":1505767.6226554119},{"$f":"VLOOKUP(Vlookup!$B148,'CDCM Volume Forecasts'!$A$28:$AL$136,D$143,FALSE)","v":1615847.0059507394},{"$f":"VLOOKUP(Vlookup!$B148,'CDCM Volume Forecasts'!$A$28:$AL$136,E$143,FALSE)","v":15832.332072650368},{"$f":"VLOOKUP(Vlookup!$B148,'CDCM Volume Forecasts'!$A$28:$AL$136,F$143,FALSE)","v":1960000},{"$f":"VLOOKUP(Vlookup!$B148,'CDCM Volume Forecasts'!$A$28:$AL$136,G$143,FALSE)","v":42265.317043448318},{"$f":"VLOOKUP(Vlookup!$B148,'CDCM Volume Forecasts'!$A$28:$AL$136,H$143,FALSE)","v":367491.37832085259}]
["LDNO LV: LV HH Metered",{"$f":"VLOOKUP(Vlookup!$B149,'CDCM Volume Forecasts'!$A$28:$AL$136,B$143,FALSE)","v":1412.870559022316},{"$f":"VLOOKUP(Vlookup!$B149,'CDCM Volume Forecasts'!$A$28:$AL$136,C$143,FALSE)","v":4888.8390627745466},{"$f":"VLOOKUP(Vlookup!$B149,'CDCM Volume Forecasts'!$A$28:$AL$136,D$143,FALSE)","v":6114.8854757848721},{"$f":"VLOOKUP(Vlookup!$B149,'CDCM Volume Forecasts'!$A$28:$AL$136,E$143,FALSE)","v":61.229869713492732},{"$f":"VLOOKUP(Vlookup!$B149,'CDCM Volume Forecasts'!$A$28:$AL$136,F$143,FALSE)","v":10476.918620474366},{"$f":"VLOOKUP(Vlookup!$B149,'CDCM Volume Forecasts'!$A$28:$AL$136,G$143,FALSE)","v":12.987057168228436},{"$f":"VLOOKUP(Vlookup!$B149,'CDCM Volume Forecasts'!$A$28:$AL$136,H$143,FALSE)","v":1333.7147930840285}]
["LDNO HV: LV HH Metered",{"$f":"VLOOKUP(Vlookup!$B150,'CDCM Volume Forecasts'!$A$28:$AL$136,B$143,FALSE)","v":15040.235122987786},{"$f":"VLOOKUP(Vlookup!$B150,'CDCM Volume Forecasts'!$A$28:$AL$136,C$143,FALSE)","v":54927.685608171101},{"$f":"VLOOKUP(Vlookup!$B150,'CDCM Volume Forecasts'!$A$28:$AL$136,D$143,FALSE)","v":65960.836777291115},{"$f":"VLOOKUP(Vlookup!$B150,'CDCM Volume Forecasts'!$A$28:$AL$136,E$143,FALSE)","v":382.62169856216127},{"$f":"VLOOKUP(Vlookup!$B150,'CDCM Volume Forecasts'!$A$28:$AL$136,F$143,FALSE)","v":108669.61557819175},{"$f":"VLOOKUP(Vlookup!$B150,'CDCM Volume Forecasts'!$A$28:$AL$136,G$143,FALSE)","v":446.26154403187547},{"$f":"VLOOKUP(Vlookup!$B150,'CDCM Volume Forecasts'!$A$28:$AL$136,H$143,FALSE)","v":11418.401436925689}]
["> LV Sub HH Metered"]
["LV Sub HH Metered",{"$f":"VLOOKUP(Vlookup!$B152,'CDCM Volume Forecasts'!$A$28:$AL$136,B$143,FALSE)","v":23555.939705275443},{"$f":"VLOOKUP(Vlookup!$B152,'CDCM Volume Forecasts'!$A$28:$AL$136,C$143,FALSE)","v":90295.119473983417},{"$f":"VLOOKUP(Vlookup!$B152,'CDCM Volume Forecasts'!$A$28:$AL$136,D$143,FALSE)","v":105307.38531244543},{"$f":"VLOOKUP(Vlookup!$B152,'CDCM Volume Forecasts'!$A$28:$AL$136,E$143,FALSE)","v":342.84669556830613},{"$f":"VLOOKUP(Vlookup!$B152,'CDCM Volume Forecasts'!$A$28:$AL$136,F$143,FALSE)","v":138821.86717486338},{"$f":"VLOOKUP(Vlookup!$B152,'CDCM Volume Forecasts'!$A$28:$AL$136,G$143,FALSE)","v":1785.1010983606557},{"$f":"VLOOKUP(Vlookup!$B152,'CDCM Volume Forecasts'!$A$28:$AL$136,H$143,FALSE)","v":18220.196801714286}]
["LDNO HV: LV Sub HH Metered",{"$f":"VLOOKUP(Vlookup!$B153,'CDCM Volume Forecasts'!$A$28:$AL$136,B$143,FALSE)","v":890.72287294660168},{"$f":"VLOOKUP(Vlookup!$B153,'CDCM Volume Forecasts'!$A$28:$AL$136,C$143,FALSE)","v":3077.5835538016772},{"$f":"VLOOKUP(Vlookup!$B153,'CDCM Volume Forecasts'!$A$28:$AL$136,D$143,FALSE)","v":5287.7802117072451},{"$f":"VLOOKUP(Vlookup!$B153,'CDCM Volume Forecasts'!$A$28:$AL$136,E$143,FALSE)","v":4.8958936371831783},{"$f":"VLOOKUP(Vlookup!$B153,'CDCM Volume Forecasts'!$A$28:$AL$136,F$143,FALSE)","v":3426.9222620200057},{"$f":"VLOOKUP(Vlookup!$B153,'CDCM Volume Forecasts'!$A$28:$AL$136,G$143,FALSE)","v":46.892377761533822},{"$f":"VLOOKUP(Vlookup!$B153,'CDCM Volume Forecasts'!$A$28:$AL$136,H$143,FALSE)","v":903.92750399136014}]
["> HV HH Metered"]
["HV HH Metered",{"$f":"VLOOKUP(Vlookup!$B155,'CDCM Volume Forecasts'!$A$28:$AL$136,B$143,FALSE)","v":738923.19680440472},{"$f":"VLOOKUP(Vlookup!$B155,'CDCM Volume Forecasts'!$A$28:$AL$136,C$143,FALSE)","v":2849711.7208364718},{"$f":"VLOOKUP(Vlookup!$B155,'CDCM Volume Forecasts'!$A$28:$AL$136,D$143,FALSE)","v":4000945.161846465},{"$f":"VLOOKUP(Vlookup!$B155,'CDCM Volume Forecasts'!$A$28:$AL$136,E$143,FALSE)","v":3524.9192351831307},{"$f":"VLOOKUP(Vlookup!$B155,'CDCM Volume Forecasts'!$A$28:$AL$136,F$143,FALSE)","v":2788259.5384515394},{"$f":"VLOOKUP(Vlookup!$B155,'CDCM Volume Forecasts'!$A$28:$AL$136,G$143,FALSE)","v":58664.747249535598},{"$f":"VLOOKUP(Vlookup!$B155,'CDCM Volume Forecasts'!$A$28:$AL$136,H$143,FALSE)","v":557819.6962977408}]
["LDNO HV: HV HH Metered",{"$f":"VLOOKUP(Vlookup!$B156,'CDCM Volume Forecasts'!$A$28:$AL$136,B$143,FALSE)","v":7258.323341503462},{"$f":"VLOOKUP(Vlookup!$B156,'CDCM Volume Forecasts'!$A$28:$AL$136,C$143,FALSE)","v":23980.296053899532},{"$f":"VLOOKUP(Vlookup!$B156,'CDCM Volume Forecasts'!$A$28:$AL$136,D$143,FALSE)","v":38623.664534907308},{"$f":"VLOOKUP(Vlookup!$B156,'CDCM Volume Forecasts'!$A$28:$AL$136,E$143,FALSE)","v":38.408595450387928},{"$f":"VLOOKUP(Vlookup!$B156,'CDCM Volume Forecasts'!$A$28:$AL$136,F$143,FALSE)","v":48748.253499353094},{"$f":"VLOOKUP(Vlookup!$B156,'CDCM Volume Forecasts'!$A$28:$AL$136,G$143,FALSE)","v":199.08329496396499},{"$f":"VLOOKUP(Vlookup!$B156,'CDCM Volume Forecasts'!$A$28:$AL$136,H$143,FALSE)","v":2217.4648647360805}]
["> NHH UMS category A"]
["NHH UMS category A",{"$f":"VLOOKUP(Vlookup!$B158,'CDCM Volume Forecasts'!$A$28:$AL$136,B$143,FALSE)","v":34134.893703773516},null,null,{"$f":"VLOOKUP(Vlookup!$B158,'CDCM Volume Forecasts'!$A$28:$AL$136,E$143,FALSE)","v":1567}]
["LDNO LV: NHH UMS category A",{"$f":"VLOOKUP(Vlookup!$B159,'CDCM Volume Forecasts'!$A$28:$AL$136,B$143,FALSE)","v":275.22148000439415},null,null,{"$f":"VLOOKUP(Vlookup!$B159,'CDCM Volume Forecasts'!$A$28:$AL$136,E$143,FALSE)","v":0}]
["LDNO HV: NHH UMS category A",{"$f":"VLOOKUP(Vlookup!$B160,'CDCM Volume Forecasts'!$A$28:$AL$136,B$143,FALSE)","v":531.75775905666319},null,null,{"$f":"VLOOKUP(Vlookup!$B160,'CDCM Volume Forecasts'!$A$28:$AL$136,E$143,FALSE)","v":0}]
["> NHH UMS category B"]
["NHH UMS category B",{"$f":"VLOOKUP(Vlookup!$B162,'CDCM Volume Forecasts'!$A$28:$AL$136,B$143,FALSE)","v":22466.149975166016},null,null,{"$f":"VLOOKUP(Vlookup!$B162,'CDCM Volume Forecasts'!$A$28:$AL$136,E$143,FALSE)","v":1279}]
["LDNO LV: NHH UMS category B",{"$f":"VLOOKUP(Vlookup!$B163,'CDCM Volume Forecasts'!$A$28:$AL$136,B$143,FALSE)","v":319.40114355377005},null,null,{"$f":"VLOOKUP(Vlookup!$B163,'CDCM Volume Forecasts'!$A$28:$AL$136,E$143,FALSE)","v":0}]
["LDNO HV: NHH UMS category B",{"$f":"VLOOKUP(Vlookup!$B164,'CDCM Volume Forecasts'!$A$28:$AL$136,B$143,FALSE)","v":613.630442356039},null,null,{"$f":"VLOOKUP(Vlookup!$B164,'CDCM Volume Forecasts'!$A$28:$AL$136,E$143,FALSE)","v":0}]
["> NHH UMS category C"]
["NHH UMS category C",{"$f":"VLOOKUP(Vlookup!$B166,'CDCM Volume Forecasts'!$A$28:$AL$136,B$143,FALSE)","v":339.10140823796002},null,null,{"$f":"VLOOKUP(Vlookup!$B166,'CDCM Volume Forecasts'!$A$28:$AL$136,E$143,FALSE)","v":194}]
["LDNO LV: NHH UMS category C",{"$f":"VLOOKUP(Vlookup!$B167,'CDCM Volume Forecasts'!$A$28:$AL$136,B$143,FALSE)","v":0},null,null,{"$f":"VLOOKUP(Vlookup!$B167,'CDCM Volume Forecasts'!$A$28:$AL$136,E$143,FALSE)","v":0}]
["LDNO HV: NHH UMS category C",{"$f":"VLOOKUP(Vlookup!$B168,'CDCM Volume Forecasts'!$A$28:$AL$136,B$143,FALSE)","v":0},null,null,{"$f":"VLOOKUP(Vlookup!$B168,'CDCM Volume Forecasts'!$A$28:$AL$136,E$143,FALSE)","v":0}]
["> NHH UMS category D"]
["NHH UMS category D",{"$f":"VLOOKUP(Vlookup!$B170,'CDCM Volume Forecasts'!$A$28:$AL$136,B$143,FALSE)","v":7208.5560845431746},null,null,{"$f":"VLOOKUP(Vlookup!$B170,'CDCM Volume Forecasts'!$A$28:$AL$136,E$143,FALSE)","v":247}]
["LDNO LV: NHH UMS category D",{"$f":"VLOOKUP(Vlookup!$B171,'CDCM Volume Forecasts'!$A$28:$AL$136,B$143,FALSE)","v":0},null,null,{"$f":"VLOOKUP(Vlookup!$B171,'CDCM Volume Forecasts'!$A$28:$AL$136,E$143,FALSE)","v":0}]
["LDNO HV: NHH UMS category D",{"$f":"VLOOKUP(Vlookup!$B172,'CDCM Volume Forecasts'!$A$28:$AL$136,B$143,FALSE)","v":0},null,null,{"$f":"VLOOKUP(Vlookup!$B172,'CDCM Volume Forecasts'!$A$28:$AL$136,E$143,FALSE)","v":0}]
["> LV UMS (Pseudo HH Metered)"]
["LV UMS (Pseudo HH Metered)",{"$f":"VLOOKUP(Vlookup!$B174,'CDCM Volume Forecasts'!$A$28:$AL$136,B$143,FALSE)","v":12092.426467732928},{"$f":"VLOOKUP(Vlookup!$B174,'CDCM Volume Forecasts'!$A$28:$AL$136,C$143,FALSE)","v":33947.071572281049},{"$f":"VLOOKUP(Vlookup!$B174,'CDCM Volume Forecasts'!$A$28:$AL$136,D$143,FALSE)","v":185619.80763357371},{"$f":"VLOOKUP(Vlookup!$B174,'CDCM Volume Forecasts'!$A$28:$AL$136,E$143,FALSE)","v":26.819672131147541}]
["LDNO LV: LV UMS (Pseudo HH Metered)",{"$f":"VLOOKUP(Vlookup!$B175,'CDCM Volume Forecasts'!$A$28:$AL$136,B$143,FALSE)","v":0},{"$f":"VLOOKUP(Vlookup!$B175,'CDCM Volume Forecasts'!$A$28:$AL$136,C$143,FALSE)","v":0},{"$f":"VLOOKUP(Vlookup!$B175,'CDCM Volume Forecasts'!$A$28:$AL$136,D$143,FALSE)","v":0},{"$f":"VLOOKUP(Vlookup!$B175,'CDCM Volume Forecasts'!$A$28:$AL$136,E$143,FALSE)","v":0}]
["LDNO HV: LV UMS (Pseudo HH Metered)",{"$f":"VLOOKUP(Vlookup!$B176,'CDCM Volume Forecasts'!$A$28:$AL$136,B$143,FALSE)","v":0},{"$f":"VLOOKUP(Vlookup!$B176,'CDCM Volume Forecasts'!$A$28:$AL$136,C$143,FALSE)","v":0},{"$f":"VLOOKUP(Vlookup!$B176,'CDCM Volume Forecasts'!$A$28:$AL$136,D$143,FALSE)","v":0},{"$f":"VLOOKUP(Vlookup!$B176,'CDCM Volume Forecasts'!$A$28:$AL$136,E$143,FALSE)","v":0}]
["> LV Generation NHH or Aggregate HH"]
["LV Generation NHH or Aggregate HH",{"$f":"VLOOKUP(Vlookup!$B178,'CDCM Volume Forecasts'!$A$28:$AL$136,B$143,FALSE)","v":10233.9538335},null,null,{"$f":"VLOOKUP(Vlookup!$B178,'CDCM Volume Forecasts'!$A$28:$AL$136,E$143,FALSE)","v":136}]
["LDNO LV: LV Generation NHH or Aggregate HH",{"$f":"VLOOKUP(Vlookup!$B179,'CDCM Volume Forecasts'!$A$28:$AL$136,B$143,FALSE)","v":27.785378357142857},null,null,{"$f":"VLOOKUP(Vlookup!$B179,'CDCM Volume Forecasts'!$A$28:$AL$136,E$143,FALSE)","v":0}]
["LDNO HV: LV Generation NHH or Aggregate HH",{"$f":"VLOOKUP(Vlookup!$B180,'CDCM Volume Forecasts'!$A$28:$AL$136,B$143,FALSE)","v":0},null,null,{"$f":"VLOOKUP(Vlookup!$B180,'CDCM Volume Forecasts'!$A$28:$AL$136,E$143,FALSE)","v":0}]
["> LV Sub Generation NHH"]
["LV Sub Generation NHH",{"$f":"VLOOKUP(Vlookup!$B182,'CDCM Volume Forecasts'!$A$28:$AL$136,B$143,FALSE)","v":0},null,null,{"$f":"VLOOKUP(Vlookup!$B182,'CDCM Volume Forecasts'!$A$28:$AL$136,E$143,FALSE)","v":0}]
["LDNO HV: LV Sub Generation NHH",{"$f":"VLOOKUP(Vlookup!$B183,'CDCM Volume Forecasts'!$A$28:$AL$136,B$143,FALSE)","v":0},null,null,{"$f":"VLOOKUP(Vlookup!$B183,'CDCM Volume Forecasts'!$A$28:$AL$136,E$143,FALSE)","v":0}]
["> LV Generation Intermittent"]
["LV Generation Intermittent",{"$f":"VLOOKUP(Vlookup!$B185,'CDCM Volume Forecasts'!$A$28:$AL$136,B$143,FALSE)","v":39541.455472928566},null,null,{"$f":"VLOOKUP(Vlookup!$B185,'CDCM Volume Forecasts'!$A$28:$AL$136,E$143,FALSE)","v":697.57416393442611},null,null,{"$f":"VLOOKUP(Vlookup!$B185,'CDCM Volume Forecasts'!$A$28:$AL$136,H$143,FALSE)","v":4219.380690214286}]
["LDNO LV: LV Generation Intermittent",{"$f":"VLOOKUP(Vlookup!$B186,'CDCM Volume Forecasts'!$A$28:$AL$136,B$143,FALSE)","v":0},null,null,{"$f":"VLOOKUP(Vlookup!$B186,'CDCM Volume Forecasts'!$A$28:$AL$136,E$143,FALSE)","v":0},null,null,{"$f":"VLOOKUP(Vlookup!$B186,'CDCM Volume Forecasts'!$A$28:$AL$136,H$143,FALSE)","v":0}]
["LDNO HV: LV Generation Intermittent",{"$f":"VLOOKUP(Vlookup!$B187,'CDCM Volume Forecasts'!$A$28:$AL$136,B$143,FALSE)","v":72.668966078571486},null,null,{"$f":"VLOOKUP(Vlookup!$B187,'CDCM Volume Forecasts'!$A$28:$AL$136,E$143,FALSE)","v":4.4201475409836073},null,null,{"$f":"VLOOKUP(Vlookup!$B187,'CDCM Volume Forecasts'!$A$28:$AL$136,H$143,FALSE)","v":40.596061285714278}]
["> LV Generation Intermittent no RP charge"]
["LV Generation Intermittent no RP charge",{"$f":"VLOOKUP(Vlookup!$B189,'CDCM Volume Forecasts'!$A$28:$AL$136,B$143,FALSE)","v":0},null,null,{"$f":"VLOOKUP(Vlookup!$B189,'CDCM Volume Forecasts'!$A$28:$AL$136,E$143,FALSE)","v":0}]
["> LV Generation Non-Intermittent"]
["LV Generation Non-Intermittent",{"$f":"VLOOKUP(Vlookup!$B191,'CDCM Volume Forecasts'!$A$28:$AL$136,B$143,FALSE)","v":1593.5852929943649},{"$f":"VLOOKUP(Vlookup!$B191,'CDCM Volume Forecasts'!$A$28:$AL$136,C$143,FALSE)","v":6242.3922614252333},{"$f":"VLOOKUP(Vlookup!$B191,'CDCM Volume Forecasts'!$A$28:$AL$136,D$143,FALSE)","v":9539.9119603497784},{"$f":"VLOOKUP(Vlookup!$B191,'CDCM Volume Forecasts'!$A$28:$AL$136,E$143,FALSE)","v":105.72703893442623},null,null,{"$f":"VLOOKUP(Vlookup!$B191,'CDCM Volume Forecasts'!$A$28:$AL$136,H$143,FALSE)","v":667.62919715625003}]
["LDNO LV: LV Generation Non-Intermittent",{"$f":"VLOOKUP(Vlookup!$B192,'CDCM Volume Forecasts'!$A$28:$AL$136,B$143,FALSE)","v":0},{"$f":"VLOOKUP(Vlookup!$B192,'CDCM Volume Forecasts'!$A$28:$AL$136,C$143,FALSE)","v":0},{"$f":"VLOOKUP(Vlookup!$B192,'CDCM Volume Forecasts'!$A$28:$AL$136,D$143,FALSE)","v":0},{"$f":"VLOOKUP(Vlookup!$B192,'CDCM Volume Forecasts'!$A$28:$AL$136,E$143,FALSE)","v":0},null,null,{"$f":"VLOOKUP(Vlookup!$B192,'CDCM Volume Forecasts'!$A$28:$AL$136,H$143,FALSE)","v":0}]
["LDNO HV: LV Generation Non-Intermittent",{"$f":"VLOOKUP(Vlookup!$B193,'CDCM Volume Forecasts'!$A$28:$AL$136,B$143,FALSE)","v":0},{"$f":"VLOOKUP(Vlookup!$B193,'CDCM Volume Forecasts'!$A$28:$AL$136,C$143,FALSE)","v":0},{"$f":"VLOOKUP(Vlookup!$B193,'CDCM Volume Forecasts'!$A$28:$AL$136,D$143,FALSE)","v":0},{"$f":"VLOOKUP(Vlookup!$B193,'CDCM Volume Forecasts'!$A$28:$AL$136,E$143,FALSE)","v":0},null,null,{"$f":"VLOOKUP(Vlookup!$B193,'CDCM Volume Forecasts'!$A$28:$AL$136,H$143,FALSE)","v":0}]
["> LV Generation Non-Intermittent no RP charge"]
["LV Generation Non-Intermittent no RP charge",{"$f":"VLOOKUP(Vlookup!$B195,'CDCM Volume Forecasts'!$A$28:$AL$136,B$143,FALSE)","v":0},{"$f":"VLOOKUP(Vlookup!$B195,'CDCM Volume Forecasts'!$A$28:$AL$136,C$143,FALSE)","v":0},{"$f":"VLOOKUP(Vlookup!$B195,'CDCM Volume Forecasts'!$A$28:$AL$136,D$143,FALSE)","v":0},{"$f":"VLOOKUP(Vlookup!$B195,'CDCM Volume Forecasts'!$A$28:$AL$136,E$143,FALSE)","v":0}]
["> LV Sub Generation Intermittent"]
["LV Sub Generation Intermittent",{"$f":"VLOOKUP(Vlookup!$B197,'CDCM Volume Forecasts'!$A$28:$AL$136,B$143,FALSE)","v":3841.6564052142853},null,null,{"$f":"VLOOKUP(Vlookup!$B197,'CDCM Volume Forecasts'!$A$28:$AL$136,E$143,FALSE)","v":31.306393442622948},null,null,{"$f":"VLOOKUP(Vlookup!$B197,'CDCM Volume Forecasts'!$A$28:$AL$136,H$143,FALSE)","v":365.0749339285714}]
["LDNO HV: LV Sub Generation Intermittent",{"$f":"VLOOKUP(Vlookup!$B198,'CDCM Volume Forecasts'!$A$28:$AL$136,B$143,FALSE)","v":0},null,null,{"$f":"VLOOKUP(Vlookup!$B198,'CDCM Volume Forecasts'!$A$28:$AL$136,E$143,FALSE)","v":0},null,null,{"$f":"VLOOKUP(Vlookup!$B198,'CDCM Volume Forecasts'!$A$28:$AL$136,H$143,FALSE)","v":0}]
["> LV Sub Generation Intermittent no RP charge"]
["LV Sub Generation Intermittent no RP charge",{"$f":"VLOOKUP(Vlookup!$B200,'CDCM Volume Forecasts'!$A$28:$AL$136,B$143,FALSE)","v":0},null,null,{"$f":"VLOOKUP(Vlookup!$B200,'CDCM Volume Forecasts'!$A$28:$AL$136,E$143,FALSE)","v":0}]
["> LV Sub Generation Non-Intermittent"]
["LV Sub Generation Non-Intermittent",{"$f":"VLOOKUP(Vlookup!$B202,'CDCM Volume Forecasts'!$A$28:$AL$136,B$143,FALSE)","v":504.40105263481149},{"$f":"VLOOKUP(Vlookup!$B202,'CDCM Volume Forecasts'!$A$28:$AL$136,C$143,FALSE)","v":1662.050757533578},{"$f":"VLOOKUP(Vlookup!$B202,'CDCM Volume Forecasts'!$A$28:$AL$136,D$143,FALSE)","v":3695.4007858319828},{"$f":"VLOOKUP(Vlookup!$B202,'CDCM Volume Forecasts'!$A$28:$AL$136,E$143,FALSE)","v":6.1367981557377052},null,null,{"$f":"VLOOKUP(Vlookup!$B202,'CDCM Volume Forecasts'!$A$28:$AL$136,H$143,FALSE)","v":368.17388015624999}]
["LDNO HV: LV Sub Generation Non-Intermittent",{"$f":"VLOOKUP(Vlookup!$B203,'CDCM Volume Forecasts'!$A$28:$AL$136,B$143,FALSE)","v":0},{"$f":"VLOOKUP(Vlookup!$B203,'CDCM Volume Forecasts'!$A$28:$AL$136,C$143,FALSE)","v":0},{"$f":"VLOOKUP(Vlookup!$B203,'CDCM Volume Forecasts'!$A$28:$AL$136,D$143,FALSE)","v":0},{"$f":"VLOOKUP(Vlookup!$B203,'CDCM Volume Forecasts'!$A$28:$AL$136,E$143,FALSE)","v":0},null,null,{"$f":"VLOOKUP(Vlookup!$B203,'CDCM Volume Forecasts'!$A$28:$AL$136,H$143,FALSE)","v":0}]
["> LV Sub Generation Non-Intermittent no RP charge"]
["LV Sub Generation Non-Intermittent no RP charge",{"$f":"VLOOKUP(Vlookup!$B205,'CDCM Volume Forecasts'!$A$28:$AL$136,B$143,FALSE)","v":0},{"$f":"VLOOKUP(Vlookup!$B205,'CDCM Volume Forecasts'!$A$28:$AL$136,C$143,FALSE)","v":0},{"$f":"VLOOKUP(Vlookup!$B205,'CDCM Volume Forecasts'!$A$28:$AL$136,D$143,FALSE)","v":0},{"$f":"VLOOKUP(Vlookup!$B205,'CDCM Volume Forecasts'!$A$28:$AL$136,E$143,FALSE)","v":0}]
["> HV Generation Intermittent"]
["HV Generation Intermittent",{"$f":"VLOOKUP(Vlookup!$B207,'CDCM Volume Forecasts'!$A$28:$AL$136,B$143,FALSE)","v":479000.82970478572},null,null,{"$f":"VLOOKUP(Vlookup!$B207,'CDCM Volume Forecasts'!$A$28:$AL$136,E$143,FALSE)","v":248.15567213114755},null,null,{"$f":"VLOOKUP(Vlookup!$B207,'CDCM Volume Forecasts'!$A$28:$AL$136,H$143,FALSE)","v":10496.618597785713}]
["LDNO HV: HV Generation Intermittent",{"$f":"VLOOKUP(Vlookup!$B208,'CDCM Volume Forecasts'!$A$28:$AL$136,B$143,FALSE)","v":18.630690000000001},null,null,{"$f":"VLOOKUP(Vlookup!$B208,'CDCM Volume Forecasts'!$A$28:$AL$136,E$143,FALSE)","v":0.6228852459016393},null,null,{"$f":"VLOOKUP(Vlookup!$B208,'CDCM Volume Forecasts'!$A$28:$AL$136,H$143,FALSE)","v":9.1079999999999994E-2}]
["> HV Generation Intermittent no RP charge"]
["HV Generation Intermittent no RP charge",{"$f":"VLOOKUP(Vlookup!$B210,'CDCM Volume Forecasts'!$A$28:$AL$136,B$143,FALSE)","v":0},null,null,{"$f":"VLOOKUP(Vlookup!$B210,'CDCM Volume Forecasts'!$A$28:$AL$136,E$143,FALSE)","v":0}]
["> HV Generation Non-Intermittent"]
["HV Generation Non-Intermittent",{"$f":"VLOOKUP(Vlookup!$B212,'CDCM Volume Forecasts'!$A$28:$AL$136,B$143,FALSE)","v":87733.660045539131},{"$f":"VLOOKUP(Vlookup!$B212,'CDCM Volume Forecasts'!$A$28:$AL$136,C$143,FALSE)","v":276082.28215805581},{"$f":"VLOOKUP(Vlookup!$B212,'CDCM Volume Forecasts'!$A$28:$AL$136,D$143,FALSE)","v":487742.29536974273},{"$f":"VLOOKUP(Vlookup!$B212,'CDCM Volume Forecasts'!$A$28:$AL$136,E$143,FALSE)","v":231.28838422131147},null,null,{"$f":"VLOOKUP(Vlookup!$B212,'CDCM Volume Forecasts'!$A$28:$AL$136,H$143,FALSE)","v":15003.980395031253}]
["LDNO HV: HV Generation Non-Intermittent",{"$f":"VLOOKUP(Vlookup!$B213,'CDCM Volume Forecasts'!$A$28:$AL$136,B$143,FALSE)","v":0},{"$f":"VLOOKUP(Vlookup!$B213,'CDCM Volume Forecasts'!$A$28:$AL$136,C$143,FALSE)","v":0},{"$f":"VLOOKUP(Vlookup!$B213,'CDCM Volume Forecasts'!$A$28:$AL$136,D$143,FALSE)","v":0},{"$f":"VLOOKUP(Vlookup!$B213,'CDCM Volume Forecasts'!$A$28:$AL$136,E$143,FALSE)","v":0},null,null,{"$f":"VLOOKUP(Vlookup!$B213,'CDCM Volume Forecasts'!$A$28:$AL$136,H$143,FALSE)","v":0}]
["> HV Generation Non-Intermittent no RP charge"]
["HV Generation Non-Intermittent no RP charge",{"$f":"VLOOKUP(Vlookup!$B215,'CDCM Volume Forecasts'!$A$28:$AL$136,B$143,FALSE)","v":0},{"$f":"VLOOKUP(Vlookup!$B215,'CDCM Volume Forecasts'!$A$28:$AL$136,C$143,FALSE)","v":0},{"$f":"VLOOKUP(Vlookup!$B215,'CDCM Volume Forecasts'!$A$28:$AL$136,D$143,FALSE)","v":0},{"$f":"VLOOKUP(Vlookup!$B215,'CDCM Volume Forecasts'!$A$28:$AL$136,E$143,FALSE)","v":0}]
[]
["1055. Transmission exit charges (£/year)"]
[""]
["Source: forecast."]
[null,"Transmission\nexit"]
["Transmission exit charges (£/year)",{"$f":"VLOOKUP(Vlookup!B221,'CDCM Forecast Data'!$A$14:$I$271,7,FALSE)","v":14342754.311724091},""]
[]
["1059. Other expenditure"]
[""]
[null,"Direct cost (£/year)","Indirect cost (£/year)","Indirect cost proportion","Network rates (£/year)"]
["Other expenditure",{"$f":"VLOOKUP(Vlookup!B226,'CDCM Forecast Data'!$A$14:$I$271,7,FALSE)","v":36969209.079455763},{"$f":"VLOOKUP(Vlookup!C226,'CDCM Forecast Data'!$A$14:$I$271,7,FALSE)","v":131217454.25457491},{"$f":"VLOOKUP(Vlookup!D226,'CDCM Forecast Data'!$A$14:$I$271,7,FALSE)","v":0.6},{"$f":"VLOOKUP(Vlookup!E226,'CDCM Forecast Data'!$A$14:$I$271,7,FALSE)","v":33377951.121440716},""]
[]
["1060. Customer contributions under current connection charging policy"]
[]
["Source: analysis of expenditure data and/or survey of capital expenditure schemes."]
["Customer contribution percentages by network level of supply and by asset network level."]
["These proportions should reflect the current connection charging method, not necessarily the method that was in place when the connection was built."]
[null,"Assets\n132kV","Assets\n132kV/EHV","Assets\nEHV","Assets\nEHV/HV","Assets\n132kV/HV","Assets\nHV","Assets\nHV/LV","Assets\nLV circuits"]
["LV network",{"$f":"VLOOKUP(Vlookup!B234,'CDCM Forecast Data'!$A$14:$I$271,7,FALSE)","v":0},{"$f":"VLOOKUP(Vlookup!C234,'CDCM Forecast Data'!$A$14:$I$271,7,FALSE)","v":0},{"$f":"VLOOKUP(Vlookup!D234,'CDCM Forecast Data'!$A$14:$I$271,7,FALSE)","v":0},{"$f":"VLOOKUP(Vlookup!E234,'CDCM Forecast Data'!$A$14:$I$271,7,FALSE)","v":0},{"$f":"VLOOKUP(Vlookup!F234,'CDCM Forecast Data'!$A$14:$I$271,7,FALSE)","v":0},{"$f":"VLOOKUP(Vlookup!G234,'CDCM Forecast Data'!$A$14:$I$271,7,FALSE)","v":0.47913351897273304},{"$f":"VLOOKUP(Vlookup!H234,'CDCM Forecast Data'!$A$14:$I$271,7,FALSE)","v":0.70892384564689981},{"$f":"VLOOKUP(Vlookup!I234,'CDCM Forecast Data'!$A$14:$I$271,7,FALSE)","v":0.93871417232106646},""]
["LV substation",{"$f":"VLOOKUP(Vlookup!B235,'CDCM Forecast Data'!$A$14:$I$271,7,FALSE)","v":0},{"$f":"VLOOKUP(Vlookup!C235,'CDCM Forecast Data'!$A$14:$I$271,7,FALSE)","v":0},{"$f":"VLOOKUP(Vlookup!D235,'CDCM Forecast Data'!$A$14:$I$271,7,FALSE)","v":0},{"$f":"VLOOKUP(Vlookup!E235,'CDCM Forecast Data'!$A$14:$I$271,7,FALSE)","v":0},{"$f":"VLOOKUP(Vlookup!F235,'CDCM Forecast Data'!$A$14:$I$271,7,FALSE)","v":0},{"$f":"VLOOKUP(Vlookup!G235,'CDCM Forecast Data'!$A$14:$I$271,7,FALSE)","v":0.47913351897273304},{"$f":"VLOOKUP(Vlookup!H235,'CDCM Forecast Data'!$A$14:$I$271,7,FALSE)","v":0.70892384564689981},null,""]
["HV network",{"$f":"VLOOKUP(Vlookup!B236,'CDCM Forecast Data'!$A$14:$I$271,7,FALSE)","v":0},{"$f":"VLOOKUP(Vlookup!C236,'CDCM Forecast Data'!$A$14:$I$271,7,FALSE)","v":0},{"$f":"VLOOKUP(Vlookup!D236,'CDCM Forecast Data'!$A$14:$I$271,7,FALSE)","v":6.5420049562801799E-2},{"$f":"VLOOKUP(Vlookup!E236,'CDCM Forecast Data'!$A$14:$I$271,7,FALSE)","v":0.35162962287700078},{"$f":"VLOOKUP(Vlookup!F236,'CDCM Forecast Data'!$A$14:$I$271,7,FALSE)","v":0.35162962287700078},{"$f":"VLOOKUP(Vlookup!G236,'CDCM Forecast Data'!$A$14:$I$271,7,FALSE)","v":0.63783919619119978},null,null,""]
["HV substation",{"$f":"VLOOKUP(Vlookup!B237,'CDCM Forecast Data'!$A$14:$I$271,7,FALSE)","v":0},{"$f":"VLOOKUP(Vlookup!C237,'CDCM Forecast Data'!$A$14:$I$271,7,FALSE)","v":0},{"$f":"VLOOKUP(Vlookup!D237,'CDCM Forecast Data'!$A$14:$I$271,7,FALSE)","v":6.5420049562801799E-2},{"$f":"VLOOKUP(Vlookup!E237,'CDCM Forecast Data'!$A$14:$I$271,7,FALSE)","v":0.35162962287700078},null,null,null,null,""]
[]
["1061. Average split of rate 1 units by distribution time band"]
[]
[null,"Red","Amber","Green"]
["Domestic Unrestricted",{"$f":"VLOOKUP(Vlookup!B247,'CDCM Forecast Data'!$A$14:$I$271,7,FALSE)","v":0.14320337799237601},{"$f":"VLOOKUP(Vlookup!C247,'CDCM Forecast Data'!$A$14:$I$271,7,FALSE)","v":0.39651561494177523},{"$f":"VLOOKUP(Vlookup!D247,'CDCM Forecast Data'!$A$14:$I$271,7,FALSE)","v":0.46028100706584879},""]
["Domestic Two Rate",{"$f":"VLOOKUP(Vlookup!B248,'CDCM Forecast Data'!$A$14:$I$271,7,FALSE)","v":0.1514252192479435},{"$f":"VLOOKUP(Vlookup!C248,'CDCM Forecast Data'!$A$14:$I$271,7,FALSE)","v":0.41991396852294577},{"$f":"VLOOKUP(Vlookup!D248,'CDCM Forecast Data'!$A$14:$I$271,7,FALSE)","v":0.42866081222911073},""]
["Domestic Off Peak (related MPAN)",{"$f":"VLOOKUP(Vlookup!B249,'CDCM Forecast Data'!$A$14:$I$271,7,FALSE)","v":4.4815359759835215E-2},{"$f":"VLOOKUP(Vlookup!C249,'CDCM Forecast Data'!$A$14:$I$271,7,FALSE)","v":0.32491376716050352},{"$f":"VLOOKUP(Vlookup!D249,'CDCM Forecast Data'!$A$14:$I$271,7,FALSE)","v":0.63027087307966123}]
["Small Non Domestic Unrestricted",{"$f":"VLOOKUP(Vlookup!B250,'CDCM Forecast Data'!$A$14:$I$271,7,FALSE)","v":0.12448955251915084},{"$f":"VLOOKUP(Vlookup!C250,'CDCM Forecast Data'!$A$14:$I$271,7,FALSE)","v":0.54839946451589383},{"$f":"VLOOKUP(Vlookup!D250,'CDCM Forecast Data'!$A$14:$I$271,7,FALSE)","v":0.32711098296495528}]
["Small Non Domestic Two Rate",{"$f":"VLOOKUP(Vlookup!B251,'CDCM Forecast Data'!$A$14:$I$271,7,FALSE)","v":0.12789989767459184},{"$f":"VLOOKUP(Vlookup!C251,'CDCM Forecast Data'!$A$14:$I$271,7,FALSE)","v":0.51407192992762296},{"$f":"VLOOKUP(Vlookup!D251,'CDCM Forecast Data'!$A$14:$I$271,7,FALSE)","v":0.35802817239778517},""]
["Small Non Domestic Off Peak (related MPAN)",{"$f":"VLOOKUP(Vlookup!B252,'CDCM Forecast Data'!$A$14:$I$271,7,FALSE)","v":1.6662746927756659E-2},{"$f":"VLOOKUP(Vlookup!C252,'CDCM Forecast Data'!$A$14:$I$271,7,FALSE)","v":0.18539360436192651},{"$f":"VLOOKUP(Vlookup!D252,'CDCM Forecast Data'!$A$14:$I$271,7,FALSE)","v":0.79794364871031676},""]
["LV Medium Non-Domestic",{"$f":"VLOOKUP(Vlookup!B253,'CDCM Forecast Data'!$A$14:$I$271,7,FALSE)","v":0.13578714746948006},{"$f":"VLOOKUP(Vlookup!C253,'CDCM Forecast Data'!$A$14:$I$271,7,FALSE)","v":0.52737188616472797},{"$f":"VLOOKUP(Vlookup!D253,'CDCM Forecast Data'!$A$14:$I$271,7,FALSE)","v":0.33684096636579203},""]
["LV Sub Medium Non-Domestic",{"$f":"VLOOKUP(Vlookup!B254,'CDCM Forecast Data'!$A$14:$I$271,7,FALSE)","v":0.13396894905730031},{"$f":"VLOOKUP(Vlookup!C254,'CDCM Forecast Data'!$A$14:$I$271,7,FALSE)","v":0.52405310526112514},{"$f":"VLOOKUP(Vlookup!D254,'CDCM Forecast Data'!$A$14:$I$271,7,FALSE)","v":0.34197794568157458},""]
["HV Medium Non-Domestic",{"$f":"VLOOKUP(Vlookup!B255,'CDCM Forecast Data'!$A$14:$I$271,7,FALSE)","v":0.13341246842462706},{"$f":"VLOOKUP(Vlookup!C255,'CDCM Forecast Data'!$A$14:$I$271,7,FALSE)","v":0.54105928671962722},{"$f":"VLOOKUP(Vlookup!D255,'CDCM Forecast Data'!$A$14:$I$271,7,FALSE)","v":0.32552824485574577},""]
[]
["1062. Average split of rate 2 units by distribution time band"]
[]
[null,"Red","Amber","Green"]
["Domestic Two Rate",{"$f":"VLOOKUP(Vlookup!B263,'CDCM Forecast Data'!$A$14:$I$271,7,FALSE)","v":0},{"$f":"VLOOKUP(Vlookup!C263,'CDCM Forecast Data'!$A$14:$I$271,7,FALSE)","v":0},{"$f":"VLOOKUP(Vlookup!D263,'CDCM Forecast Data'!$A$14:$I$271,7,FALSE)","v":1},""]
["Small Non Domestic Two Rate",{"$f":"VLOOKUP(Vlookup!B264,'CDCM Forecast Data'!$A$14:$I$271,7,FALSE)","v":0},{"$f":"VLOOKUP(Vlookup!C264,'CDCM Forecast Data'!$A$14:$I$271,7,FALSE)","v":0},{"$f":"VLOOKUP(Vlookup!D264,'CDCM Forecast Data'!$A$14:$I$271,7,FALSE)","v":1},""]
["LV Medium Non-Domestic",{"$f":"VLOOKUP(Vlookup!B265,'CDCM Forecast Data'!$A$14:$I$271,7,FALSE)","v":0},{"$f":"VLOOKUP(Vlookup!C265,'CDCM Forecast Data'!$A$14:$I$271,7,FALSE)","v":0},{"$f":"VLOOKUP(Vlookup!D265,'CDCM Forecast Data'!$A$14:$I$271,7,FALSE)","v":1},""]
["LV Sub Medium Non-Domestic",{"$f":"VLOOKUP(Vlookup!B266,'CDCM Forecast Data'!$A$14:$I$271,7,FALSE)","v":0},{"$f":"VLOOKUP(Vlookup!C266,'CDCM Forecast Data'!$A$14:$I$271,7,FALSE)","v":0},{"$f":"VLOOKUP(Vlookup!D266,'CDCM Forecast Data'!$A$14:$I$271,7,FALSE)","v":1},""]
["HV Medium Non-Domestic",{"$f":"VLOOKUP(Vlookup!B267,'CDCM Forecast Data'!$A$14:$I$271,7,FALSE)","v":0},{"$f":"VLOOKUP(Vlookup!C267,'CDCM Forecast Data'!$A$14:$I$271,7,FALSE)","v":0},{"$f":"VLOOKUP(Vlookup!D267,'CDCM Forecast Data'!$A$14:$I$271,7,FALSE)","v":1},""]
[]
["1064. Average split of rate 1 units by special distribution time band"]
[]
[null,"Black","Yellow","Green",""]
["NHH UMS category A",{"$f":"VLOOKUP(Vlookup!B272,'CDCM Forecast Data'!$A$14:$I$271,7,FALSE)","v":2.9311076178356665E-2},{"$f":"VLOOKUP(Vlookup!C272,'CDCM Forecast Data'!$A$14:$I$271,7,FALSE)","v":0.37306092022856002},{"$f":"VLOOKUP(Vlookup!D272,'CDCM Forecast Data'!$A$14:$I$271,7,FALSE)","v":0.59762800359308332},""]
["NHH UMS category B",{"$f":"VLOOKUP(Vlookup!B273,'CDCM Forecast Data'!$A$14:$I$271,7,FALSE)","v":5.0432747136262314E-2},{"$f":"VLOOKUP(Vlookup!C273,'CDCM Forecast Data'!$A$14:$I$271,7,FALSE)","v":9.024866969588996E-2},{"$f":"VLOOKUP(Vlookup!D273,'CDCM Forecast Data'!$A$14:$I$271,7,FALSE)","v":0.8593185831678477},""]
["NHH UMS category C",{"$f":"VLOOKUP(Vlookup!B274,'CDCM Forecast Data'!$A$14:$I$271,7,FALSE)","v":9.6185231748668151E-2},{"$f":"VLOOKUP(Vlookup!C274,'CDCM Forecast Data'!$A$14:$I$271,7,FALSE)","v":0.16334039820901594},{"$f":"VLOOKUP(Vlookup!D274,'CDCM Forecast Data'!$A$14:$I$271,7,FALSE)","v":0.74047437004231587},""]
["NHH UMS category D",{"$f":"VLOOKUP(Vlookup!B275,'CDCM Forecast Data'!$A$14:$I$271,7,FALSE)","v":8.830567560272817E-3},{"$f":"VLOOKUP(Vlookup!C275,'CDCM Forecast Data'!$A$14:$I$271,7,FALSE)","v":0.63540611125889146},{"$f":"VLOOKUP(Vlookup!D275,'CDCM Forecast Data'!$A$14:$I$271,7,FALSE)","v":0.35576332118083581},""]
[]
["1066. Typical annual hours by special distribution time band"]
["Source: definition of distribution time bands."]
["The figures in this table will be automatically adjusted to match the number of days in the charging period."]
[]
[null,"Black","Yellow","Green"]
["Annual hours",{"$f":"VLOOKUP(Vlookup!B282,'CDCM Forecast Data'!$A$14:$I$271,7,FALSE)","v":258},{"$f":"VLOOKUP(Vlookup!C282,'CDCM Forecast Data'!$A$14:$I$271,7,FALSE)","v":3265.5},{"$f":"VLOOKUP(Vlookup!D282,'CDCM Forecast Data'!$A$14:$I$271,7,FALSE)","v":5236.5},""]
[]
["1068. Typical annual hours by distribution time band"]
[]
["Source: definition of distribution time bands."]
["The figures in this table will be automatically adjusted to match the number of days in the charging period."]
[null,"Red","Amber","Green"]
["Annual hours",{"$f":"VLOOKUP(Vlookup!B289,'CDCM Forecast Data'!$A$14:$I$271,7,FALSE)","v":783},{"$f":"VLOOKUP(Vlookup!C289,'CDCM Forecast Data'!$A$14:$I$271,7,FALSE)","v":2740.5},{"$f":"VLOOKUP(Vlookup!D289,'CDCM Forecast Data'!$A$14:$I$271,7,FALSE)","v":5236.5},""]
[]
["1069. Peaking probabilities by network level"]
[]
[]
["Source: analysis of network operation data."]
[null,"Red","Amber","Green","Black"]
["GSPs",{"$f":"VLOOKUP(Vlookup!B295,'CDCM Forecast Data'!$A$14:$I$271,7,FALSE)","v":1},{"$f":"VLOOKUP(Vlookup!C295,'CDCM Forecast Data'!$A$14:$I$271,7,FALSE)","v":0},{"$f":"VLOOKUP(Vlookup!D295,'CDCM Forecast Data'!$A$14:$I$271,7,FALSE)","v":0},{"$f":"VLOOKUP(Vlookup!E295,'CDCM Forecast Data'!$A$14:$I$271,7,FALSE)","v":1},""]
["132kV",{"$f":"VLOOKUP(Vlookup!B296,'CDCM Forecast Data'!$A$14:$I$271,7,FALSE)","v":0.78083657486560021},{"$f":"VLOOKUP(Vlookup!C296,'CDCM Forecast Data'!$A$14:$I$271,7,FALSE)","v":0.20804160459605281},{"$f":"VLOOKUP(Vlookup!D296,'CDCM Forecast Data'!$A$14:$I$271,7,FALSE)","v":1.1121820538347099E-2},{"$f":"VLOOKUP(Vlookup!E296,'CDCM Forecast Data'!$A$14:$I$271,7,FALSE)","v":0.76764541372159689},""]
["132kV/EHV",{"$f":"VLOOKUP(Vlookup!B297,'CDCM Forecast Data'!$A$14:$I$271,7,FALSE)","v":0.78083657486560021},{"$f":"VLOOKUP(Vlookup!C297,'CDCM Forecast Data'!$A$14:$I$271,7,FALSE)","v":0.20804160459605281},{"$f":"VLOOKUP(Vlookup!D297,'CDCM Forecast Data'!$A$14:$I$271,7,FALSE)","v":1.1121820538347099E-2},{"$f":"VLOOKUP(Vlookup!E297,'CDCM Forecast Data'!$A$14:$I$271,7,FALSE)","v":0.76764541372159689},""]
["EHV",{"$f":"VLOOKUP(Vlookup!B298,'CDCM Forecast Data'!$A$14:$I$271,7,FALSE)","v":0.66321603936627416},{"$f":"VLOOKUP(Vlookup!C298,'CDCM Forecast Data'!$A$14:$I$271,7,FALSE)","v":0.29786987200550125},{"$f":"VLOOKUP(Vlookup!D298,'CDCM Forecast Data'!$A$14:$I$271,7,FALSE)","v":3.8914088628224541E-2},{"$f":"VLOOKUP(Vlookup!E298,'CDCM Forecast Data'!$A$14:$I$271,7,FALSE)","v":0.65256034025485976},""]
["EHV/HV",{"$f":"VLOOKUP(Vlookup!B299,'CDCM Forecast Data'!$A$14:$I$271,7,FALSE)","v":0.66321603936627416},{"$f":"VLOOKUP(Vlookup!C299,'CDCM Forecast Data'!$A$14:$I$271,7,FALSE)","v":0.29786987200550125},{"$f":"VLOOKUP(Vlookup!D299,'CDCM Forecast Data'!$A$14:$I$271,7,FALSE)","v":3.8914088628224541E-2},{"$f":"VLOOKUP(Vlookup!E299,'CDCM Forecast Data'!$A$14:$I$271,7,FALSE)","v":0.65256034025485976},""]
["132kV/HV",{"$f":"VLOOKUP(Vlookup!B300,'CDCM Forecast Data'!$A$14:$I$271,7,FALSE)","v":0.78083657486560021},{"$f":"VLOOKUP(Vlookup!C300,'CDCM Forecast Data'!$A$14:$I$271,7,FALSE)","v":0.20804160459605281},{"$f":"VLOOKUP(Vlookup!D300,'CDCM Forecast Data'!$A$14:$I$271,7,FALSE)","v":1.1121820538347099E-2},{"$f":"VLOOKUP(Vlookup!E300,'CDCM Forecast Data'!$A$14:$I$271,7,FALSE)","v":0.76764541372159689},""]
["HV",{"$f":"VLOOKUP(Vlookup!B301,'CDCM Forecast Data'!$A$14:$I$271,7,FALSE)","v":0.66321603936627416},{"$f":"VLOOKUP(Vlookup!C301,'CDCM Forecast Data'!$A$14:$I$271,7,FALSE)","v":0.29786987200550125},{"$f":"VLOOKUP(Vlookup!D301,'CDCM Forecast Data'!$A$14:$I$271,7,FALSE)","v":3.8914088628224541E-2},{"$f":"VLOOKUP(Vlookup!E301,'CDCM Forecast Data'!$A$14:$I$271,7,FALSE)","v":0.65256034025485976},""]
["HV/LV",{"$f":"VLOOKUP(Vlookup!B302,'CDCM Forecast Data'!$A$14:$I$271,7,FALSE)","v":0.66321603936627416},{"$f":"VLOOKUP(Vlookup!C302,'CDCM Forecast Data'!$A$14:$I$271,7,FALSE)","v":0.29786987200550125},{"$f":"VLOOKUP(Vlookup!D302,'CDCM Forecast Data'!$A$14:$I$271,7,FALSE)","v":3.8914088628224541E-2},{"$f":"VLOOKUP(Vlookup!E302,'CDCM Forecast Data'!$A$14:$I$271,7,FALSE)","v":0.65256034025485976},""]
["LV circuits",{"$f":"VLOOKUP(Vlookup!B303,'CDCM Forecast Data'!$A$14:$I$271,7,FALSE)","v":0.66321603936627416},{"$f":"VLOOKUP(Vlookup!C303,'CDCM Forecast Data'!$A$14:$I$271,7,FALSE)","v":0.29786987200550125},{"$f":"VLOOKUP(Vlookup!D303,'CDCM Forecast Data'!$A$14:$I$271,7,FALSE)","v":3.8914088628224541E-2},{"$f":"VLOOKUP(Vlookup!E303,'CDCM Forecast Data'!$A$14:$I$271,7,FALSE)","v":0.65256034025485976},""]
[]
["1076. Target CDCM net revenue (£/year)"]
["Source: mostly forecasts and price control formulae."]
[]
[null,"Target CDCM net revenue (£/year)"]
["Target CDCM net revenue (£/year)",{"$f":"1000000*'Table 1'!H48","v":504424051.31865478}]
[]
["1092. Average kVAr by kVA, by network level"]
[""]
["Source: analysis of operational data."]
["This is the average of MVAr/MVA or SQRT(1-PF^2) across relevant network elements."]
[null,"GSPs","132kV","132kV/EHV","EHV","EHV/HV","132kV/HV","HV","HV/LV","LV circuits"]
["Average kVAr by kVA, by network level",{"$f":"VLOOKUP(Vlookup!B310,'CDCM Forecast Data'!$A$14:$I$271,7,FALSE)","v":0.17488998364096539},{"$f":"VLOOKUP(Vlookup!C310,'CDCM Forecast Data'!$A$14:$I$271,7,FALSE)","v":0.17488998364096539},{"$f":"VLOOKUP(Vlookup!D310,'CDCM Forecast Data'!$A$14:$I$271,7,FALSE)","v":0.17488998364096539},{"$f":"VLOOKUP(Vlookup!E310,'CDCM Forecast Data'!$A$14:$I$271,7,FALSE)","v":0.17488998364096539},{"$f":"VLOOKUP(Vlookup!F310,'CDCM Forecast Data'!$A$14:$I$271,7,FALSE)","v":0.17488998364096539},{"$f":"VLOOKUP(Vlookup!G310,'CDCM Forecast Data'!$A$14:$I$271,7,FALSE)","v":0.17488998364096539},{"$f":"VLOOKUP(Vlookup!H310,'CDCM Forecast Data'!$A$14:$I$271,7,FALSE)","v":0.17488998364096539},{"$f":"VLOOKUP(Vlookup!I310,'CDCM Forecast Data'!$A$14:$I$271,7,FALSE)","v":0.17488998364096539},{"$f":"VLOOKUP(Vlookup!J310,'CDCM Forecast Data'!$A$14:$I$271,7,FALSE)","v":0.17488998364096539},""]

{"sheet":"(Y+3)","index":11,"n_rows":350,"n_cols":11,"rows_kept":350,"cut":false,"hidden":false,"merged":[]}
["Input data (Y+3)"]
[]
[]
["1000. Company, charging year, data version"]
[""]
[null,"Company","Year","Version"]
["Company, charging year, data version",{"$f":"VLOOKUP(Vlookup!B7,'CDCM Forecast Data'!$A$14:$I$271,8,FALSE)","v":"WPD East Midlands"},{"$f":"VLOOKUP(Vlookup!C7,'CDCM Forecast Data'!$A$14:$I$271,8,FALSE)","v":"2022/23"},{"$f":"VLOOKUP(Vlookup!D7,'CDCM Forecast Data'!$A$14:$I$271,8,FALSE)","v":"Forecast"},""]
[]
["1010. Financial and general assumptions"]
[]
["Sources: financial assumptions; calendar; network model."]
["These financial assumptions determine the annuity rate applied to convert the asset values of the network model into an annual charge."]
[null,"Rate of return","Annualisation period (years)","Annuity proportion for customer-contributed assets","Power factor","Days in the charging period"]
["Financial and general assumptions",{"$f":"VLOOKUP(Vlookup!B14,'CDCM Forecast Data'!$A$14:$I$271,8,FALSE)","v":4.2099999999999999E-2},{"$f":"VLOOKUP(Vlookup!C14,'CDCM Forecast Data'!$A$14:$I$271,8,FALSE)","v":40},null,{"$f":"VLOOKUP(Vlookup!E14,'CDCM Forecast Data'!$A$14:$I$271,8,FALSE)","v":0.95},{"$f":"VLOOKUP(Vlookup!F14,'CDCM Forecast Data'!$A$14:$I$271,8,FALSE)","v":365},""]
[]
["1017. Diversity allowance between top and bottom of network level"]
[]
["Source: operational data analysis and/or network model."]
["The diversity figure against GSP is the diversity between GSP Group (the whole system) and individual GSPs."]
["The diversity figure against 132kV is the diversity between GSPs (the top of the 132kV network) and 132kV/EHV bulk supply points (the bottom of the 132kV network). "]
["The diversity figure against EHV is the diversity between 132kV/EHV bulk supply points (the top of the EHV network) and EHV/HV primary substations (the bottom of the EHV network). "]
["The diversity figure against HV is the diversity between EHV/HV primary substations (the top of the HV network) and HV/LV substations (the bottom of the HV network). "]
[null,"Diversity allowance between top and bottom of network level"]
["GSPs",{"$f":"VLOOKUP(Vlookup!B24,'CDCM Forecast Data'!$A$14:$I$271,8,FALSE)","v":2.4713742436156094E-2},""]
["132kV",{"$f":"VLOOKUP(Vlookup!B25,'CDCM Forecast Data'!$A$14:$I$271,8,FALSE)","v":4.5013478235986115E-2},""]
["132kV/EHV",null,""]
["EHV",{"$f":"VLOOKUP(Vlookup!B27,'CDCM Forecast Data'!$A$14:$I$271,8,FALSE)","v":7.9017642685410783E-2},""]
["EHV/HV",null,""]
["HV",{"$f":"VLOOKUP(Vlookup!B29,'CDCM Forecast Data'!$A$14:$I$271,8,FALSE)","v":0.34000000000000008},""]
["HV/LV",null,""]
["LV circuits",null,""]
[]
["1018. Proportion of relevant load going through 132kV/HV direct transformation"]
[""]
[null,"132kV/HV"]
["EHV/HV",{"$f":"VLOOKUP(Vlookup!B36,'CDCM Forecast Data'!$A$14:$I$271,8,FALSE)","v":7.5044342711319545E-2},""]
[]
["1019. Network model GSP peak demand (MW)"]
[]
[null,"Network model GSP peak demand (MW)"]
["Network model GSP peak demand (MW)",{"$f":"VLOOKUP(Vlookup!B41,'CDCM Forecast Data'!$A$14:$I$271,8,FALSE)","v":500},""]
[]
["1020. Gross asset cost by network level (£)"]
[]
[null,"Gross assets £"]
["132kV",{"$f":"VLOOKUP(Vlookup!B46,'CDCM Forecast Data'!$A$14:$I$271,8,FALSE)","v":62000067.238486528},""]
["132kV/EHV",{"$f":"VLOOKUP(Vlookup!B47,'CDCM Forecast Data'!$A$14:$I$271,8,FALSE)","v":31507017.095708396},""]
["EHV",{"$f":"VLOOKUP(Vlookup!B48,'CDCM Forecast Data'!$A$14:$I$271,8,FALSE)","v":38512433.01903969},""]
["EHV/HV",{"$f":"VLOOKUP(Vlookup!B49,'CDCM Forecast Data'!$A$14:$I$271,8,FALSE)","v":62520788.506101526},""]
["132kV/HV",{"$f":"VLOOKUP(Vlookup!B50,'CDCM Forecast Data'!$A$14:$I$271,8,FALSE)","v":5243668.309520809},""]
["HV",{"$f":"VLOOKUP(Vlookup!B51,'CDCM Forecast Data'!$A$14:$I$271,8,FALSE)","v":148345062.64093983},""]
["HV/LV",{"$f":"VLOOKUP(Vlookup!B52,'CDCM Forecast Data'!$A$14:$I$271,8,FALSE)","v":67054595.81442558},""]
["LV circuits",{"$f":"VLOOKUP(Vlookup!B53,'CDCM Forecast Data'!$A$14:$I$271,8,FALSE)","v":130496292.6416515},""]
[]
["1022. LV service model asset cost (£)"]
[]
[null,"LV service model 1","LV service model 2","LV service model 3","LV service model 4","LV service model 5","LV service model 6","LV service model 7","LV service model 8"]
["LV service model asset cost (£)",{"$f":"VLOOKUP(Vlookup!B58,'CDCM Forecast Data'!$A$14:$I$271,8,FALSE)","v":4779.9454260869588},{"$f":"VLOOKUP(Vlookup!C58,'CDCM Forecast Data'!$A$14:$I$271,8,FALSE)","v":728.76563536231924},{"$f":"VLOOKUP(Vlookup!D58,'CDCM Forecast Data'!$A$14:$I$271,8,FALSE)","v":842.87776231884095},{"$f":"VLOOKUP(Vlookup!E58,'CDCM Forecast Data'!$A$14:$I$271,8,FALSE)","v":611.69689739130445},{"$f":"VLOOKUP(Vlookup!F58,'CDCM Forecast Data'!$A$14:$I$271,8,FALSE)","v":1349.5368143768121},{"$f":"VLOOKUP(Vlookup!G58,'CDCM Forecast Data'!$A$14:$I$271,8,FALSE)","v":1053.5046260869569},{"$f":"VLOOKUP(Vlookup!H58,'CDCM Forecast Data'!$A$14:$I$271,8,FALSE)","v":0},{"$f":"VLOOKUP(Vlookup!I58,'CDCM Forecast Data'!$A$14:$I$271,8,FALSE)","v":576.59177043478269},""]
[]
["1023. HV service model asset cost (£)"]
[]
[null,"HV service model 1","HV service model 2","HV service model 3","HV service model 4","HV service model 5"]
["HV service model asset cost (£)",{"$f":"VLOOKUP(Vlookup!B63,'CDCM Forecast Data'!$A$14:$I$271,8,FALSE)","v":11377.56930782609},{"$f":"VLOOKUP(Vlookup!C63,'CDCM Forecast Data'!$A$14:$I$271,8,FALSE)","v":4677.5652173913059},{"$f":"VLOOKUP(Vlookup!D63,'CDCM Forecast Data'!$A$14:$I$271,8,FALSE)","v":0},{"$f":"VLOOKUP(Vlookup!E63,'CDCM Forecast Data'!$A$14:$I$271,8,FALSE)","v":0},{"$f":"VLOOKUP(Vlookup!F63,'CDCM Forecast Data'!$A$14:$I$271,8,FALSE)","v":0},""]
[]
["1025. Matrix of applicability of LV service models to tariffs with fixed charges"]
[null,26,{"$f":"B66+1","v":27},28,29,30,31,32,33]
[null,"LV service model 1","LV service model 2","LV service model 3","LV service model 4","LV service model 5","LV service model 6","LV service model 7","LV service model 8"]
["Domestic Unrestricted",{"$f":"VLOOKUP($A68,'Mat of App'!$B$7:$AP$43,B$66,FALSE)","v":0.05},{"$f":"VLOOKUP($A68,'Mat of App'!$B$7:$AP$43,C$66,FALSE)","v":0},{"$f":"VLOOKUP($A68,'Mat of App'!$B$7:$AP$43,D$66,FALSE)","v":0},{"$f":"VLOOKUP($A68,'Mat of App'!$B$7:$AP$43,E$66,FALSE)","v":0},{"$f":"VLOOKUP($A68,'Mat of App'!$B$7:$AP$43,F$66,FALSE)","v":0},{"$f":"VLOOKUP($A68,'Mat of App'!$B$7:$AP$43,G$66,FALSE)","v":0},{"$f":"VLOOKUP($A68,'Mat of App'!$B$7:$AP$43,H$66,FALSE)","v":0},{"$f":"VLOOKUP($A68,'Mat of App'!$B$7:$AP$43,I$66,FALSE)","v":0},""]
["Domestic Two Rate",{"$f":"VLOOKUP($A69,'Mat of App'!$B$7:$AP$43,B$66,FALSE)","v":0.05},{"$f":"VLOOKUP($A69,'Mat of App'!$B$7:$AP$43,C$66,FALSE)","v":0},{"$f":"VLOOKUP($A69,'Mat of App'!$B$7:$AP$43,D$66,FALSE)","v":0},{"$f":"VLOOKUP($A69,'Mat of App'!$B$7:$AP$43,E$66,FALSE)","v":0},{"$f":"VLOOKUP($A69,'Mat of App'!$B$7:$AP$43,F$66,FALSE)","v":0},{"$f":"VLOOKUP($A69,'Mat of App'!$B$7:$AP$43,G$66,FALSE)","v":0},{"$f":"VLOOKUP($A69,'Mat of App'!$B$7:$AP$43,H$66,FALSE)","v":0},{"$f":"VLOOKUP($A69,'Mat of App'!$B$7:$AP$43,I$66,FALSE)","v":0},""]
["Small Non Domestic Unrestricted",{"$f":"VLOOKUP($A70,'Mat of App'!$B$7:$AP$43,B$66,FALSE)","v":0},{"$f":"VLOOKUP($A70,'Mat of App'!$B$7:$AP$43,C$66,FALSE)","v":1},{"$f":"VLOOKUP($A70,'Mat of App'!$B$7:$AP$43,D$66,FALSE)","v":0},{"$f":"VLOOKUP($A70,'Mat of App'!$B$7:$AP$43,E$66,FALSE)","v":0},{"$f":"VLOOKUP($A70,'Mat of App'!$B$7:$AP$43,F$66,FALSE)","v":0},{"$f":"VLOOKUP($A70,'Mat of App'!$B$7:$AP$43,G$66,FALSE)","v":0},{"$f":"VLOOKUP($A70,'Mat of App'!$B$7:$AP$43,H$66,FALSE)","v":0},{"$f":"VLOOKUP($A70,'Mat of App'!$B$7:$AP$43,I$66,FALSE)","v":0},""]
["Small Non Domestic Two Rate",{"$f":"VLOOKUP($A71,'Mat of App'!$B$7:$AP$43,B$66,FALSE)","v":0},{"$f":"VLOOKUP($A71,'Mat of App'!$B$7:$AP$43,C$66,FALSE)","v":1},{"$f":"VLOOKUP($A71,'Mat of App'!$B$7:$AP$43,D$66,FALSE)","v":0},{"$f":"VLOOKUP($A71,'Mat of App'!$B$7:$AP$43,E$66,FALSE)","v":0},{"$f":"VLOOKUP($A71,'Mat of App'!$B$7:$AP$43,F$66,FALSE)","v":0},{"$f":"VLOOKUP($A71,'Mat of App'!$B$7:$AP$43,G$66,FALSE)","v":0},{"$f":"VLOOKUP($A71,'Mat of App'!$B$7:$AP$43,H$66,FALSE)","v":0},{"$f":"VLOOKUP($A71,'Mat of App'!$B$7:$AP$43,I$66,FALSE)","v":0},""]
["LV Medium Non-Domestic",{"$f":"VLOOKUP($A72,'Mat of App'!$B$7:$AP$43,B$66,FALSE)","v":0},{"$f":"VLOOKUP($A72,'Mat of App'!$B$7:$AP$43,C$66,FALSE)","v":0},{"$f":"VLOOKUP($A72,'Mat of App'!$B$7:$AP$43,D$66,FALSE)","v":1},{"$f":"VLOOKUP($A72,'Mat of App'!$B$7:$AP$43,E$66,FALSE)","v":0},{"$f":"VLOOKUP($A72,'Mat of App'!$B$7:$AP$43,F$66,FALSE)","v":0},{"$f":"VLOOKUP($A72,'Mat of App'!$B$7:$AP$43,G$66,FALSE)","v":0},{"$f":"VLOOKUP($A72,'Mat of App'!$B$7:$AP$43,H$66,FALSE)","v":0},{"$f":"VLOOKUP($A72,'Mat of App'!$B$7:$AP$43,I$66,FALSE)","v":0}]
["LV Sub Medium Non-Domestic",{"$f":"VLOOKUP($A73,'Mat of App'!$B$7:$AP$43,B$66,FALSE)","v":0},{"$f":"VLOOKUP($A73,'Mat of App'!$B$7:$AP$43,C$66,FALSE)","v":0},{"$f":"VLOOKUP($A73,'Mat of App'!$B$7:$AP$43,D$66,FALSE)","v":0},{"$f":"VLOOKUP($A73,'Mat of App'!$B$7:$AP$43,E$66,FALSE)","v":1},{"$f":"VLOOKUP($A73,'Mat of App'!$B$7:$AP$43,F$66,FALSE)","v":0},{"$f":"VLOOKUP($A73,'Mat of App'!$B$7:$AP$43,G$66,FALSE)","v":0},{"$f":"VLOOKUP($A73,'Mat of App'!$B$7:$AP$43,H$66,FALSE)","v":0},{"$f":"VLOOKUP($A73,'Mat of App'!$B$7:$AP$43,I$66,FALSE)","v":0}]
["LV Network Domestic",{"$f":"VLOOKUP($A74,'Mat of App'!$B$7:$AP$43,B$66,FALSE)","v":0.05},{"$f":"VLOOKUP($A74,'Mat of App'!$B$7:$AP$43,C$66,FALSE)","v":0},{"$f":"VLOOKUP($A74,'Mat of App'!$B$7:$AP$43,D$66,FALSE)","v":0},{"$f":"VLOOKUP($A74,'Mat of App'!$B$7:$AP$43,E$66,FALSE)","v":0},{"$f":"VLOOKUP($A74,'Mat of App'!$B$7:$AP$43,F$66,FALSE)","v":0},{"$f":"VLOOKUP($A74,'Mat of App'!$B$7:$AP$43,G$66,FALSE)","v":0},{"$f":"VLOOKUP($A74,'Mat of App'!$B$7:$AP$43,H$66,FALSE)","v":0},{"$f":"VLOOKUP($A74,'Mat of App'!$B$7:$AP$43,I$66,FALSE)","v":0},""]
["LV Network Non-Domestic Non-CT",{"$f":"VLOOKUP($A75,'Mat of App'!$B$7:$AP$43,B$66,FALSE)","v":0},{"$f":"VLOOKUP($A75,'Mat of App'!$B$7:$AP$43,C$66,FALSE)","v":1},{"$f":"VLOOKUP($A75,'Mat of App'!$B$7:$AP$43,D$66,FALSE)","v":0},{"$f":"VLOOKUP($A75,'Mat of App'!$B$7:$AP$43,E$66,FALSE)","v":0},{"$f":"VLOOKUP($A75,'Mat of App'!$B$7:$AP$43,F$66,FALSE)","v":0},{"$f":"VLOOKUP($A75,'Mat of App'!$B$7:$AP$43,G$66,FALSE)","v":0},{"$f":"VLOOKUP($A75,'Mat of App'!$B$7:$AP$43,H$66,FALSE)","v":0},{"$f":"VLOOKUP($A75,'Mat of App'!$B$7:$AP$43,I$66,FALSE)","v":0},""]
["LV HH Metered",{"$f":"VLOOKUP($A76,'Mat of App'!$B$7:$AP$43,B$66,FALSE)","v":0},{"$f":"VLOOKUP($A76,'Mat of App'!$B$7:$AP$43,C$66,FALSE)","v":0},{"$f":"VLOOKUP($A76,'Mat of App'!$B$7:$AP$43,D$66,FALSE)","v":0},{"$f":"VLOOKUP($A76,'Mat of App'!$B$7:$AP$43,E$66,FALSE)","v":0},{"$f":"VLOOKUP($A76,'Mat of App'!$B$7:$AP$43,F$66,FALSE)","v":1},{"$f":"VLOOKUP($A76,'Mat of App'!$B$7:$AP$43,G$66,FALSE)","v":0},{"$f":"VLOOKUP($A76,'Mat of App'!$B$7:$AP$43,H$66,FALSE)","v":0},{"$f":"VLOOKUP($A76,'Mat of App'!$B$7:$AP$43,I$66,FALSE)","v":0},""]
["LV Sub HH Metered",{"$f":"VLOOKUP($A77,'Mat of App'!$B$7:$AP$43,B$66,FALSE)","v":0},{"$f":"VLOOKUP($A77,'Mat of App'!$B$7:$AP$43,C$66,FALSE)","v":0},{"$f":"VLOOKUP($A77,'Mat of App'!$B$7:$AP$43,D$66,FALSE)","v":0},{"$f":"VLOOKUP($A77,'Mat of App'!$B$7:$AP$43,E$66,FALSE)","v":0},{"$f":"VLOOKUP($A77,'Mat of App'!$B$7:$AP$43,F$66,FALSE)","v":0},{"$f":"VLOOKUP($A77,'Mat of App'!$B$7:$AP$43,G$66,FALSE)","v":1},{"$f":"VLOOKUP($A77,'Mat of App'!$B$7:$AP$43,H$66,FALSE)","v":0},{"$f":"VLOOKUP($A77,'Mat of App'!$B$7:$AP$43,I$66,FALSE)","v":0},""]
["LV Generation NHH or Aggregate HH",{"$f":"VLOOKUP($A78,'Mat of App'!$B$7:$AP$43,B$66,FALSE)","v":0},{"$f":"VLOOKUP($A78,'Mat of App'!$B$7:$AP$43,C$66,FALSE)","v":0},{"$f":"VLOOKUP($A78,'Mat of App'!$B$7:$AP$43,D$66,FALSE)","v":0},{"$f":"VLOOKUP($A78,'Mat of App'!$B$7:$AP$43,E$66,FALSE)","v":0},{"$f":"VLOOKUP($A78,'Mat of App'!$B$7:$AP$43,F$66,FALSE)","v":0},{"$f":"VLOOKUP($A78,'Mat of App'!$B$7:$AP$43,G$66,FALSE)","v":0},{"$f":"VLOOKUP($A78,'Mat of App'!$B$7:$AP$43,H$66,FALSE)","v":1},{"$f":"VLOOKUP($A78,'Mat of App'!$B$7:$AP$43,I$66,FALSE)","v":0},""]
["LV Sub Generation NHH",{"$f":"VLOOKUP($A79,'Mat of App'!$B$7:$AP$43,B$66,FALSE)","v":0},{"$f":"VLOOKUP($A79,'Mat of App'!$B$7:$AP$43,C$66,FALSE)","v":0},{"$f":"VLOOKUP($A79,'Mat of App'!$B$7:$AP$43,D$66,FALSE)","v":0},{"$f":"VLOOKUP($A79,'Mat of App'!$B$7:$AP$43,E$66,FALSE)","v":0},{"$f":"VLOOKUP($A79,'Mat of App'!$B$7:$AP$43,F$66,FALSE)","v":0},{"$f":"VLOOKUP($A79,'Mat of App'!$B$7:$AP$43,G$66,FALSE)","v":0},{"$f":"VLOOKUP($A79,'Mat of App'!$B$7:$AP$43,H$66,FALSE)","v":1},{"$f":"VLOOKUP($A79,'Mat of App'!$B$7:$AP$43,I$66,FALSE)","v":0},""]
["LV Generation Intermittent",{"$f":"VLOOKUP($A80,'Mat of App'!$B$7:$AP$43,B$66,FALSE)","v":0},{"$f":"VLOOKUP($A80,'Mat of App'!$B$7:$AP$43,C$66,FALSE)","v":0},{"$f":"VLOOKUP($A80,'Mat of App'!$B$7:$AP$43,D$66,FALSE)","v":0},{"$f":"VLOOKUP($A80,'Mat of App'!$B$7:$AP$43,E$66,FALSE)","v":0},{"$f":"VLOOKUP($A80,'Mat of App'!$B$7:$AP$43,F$66,FALSE)","v":0},{"$f":"VLOOKUP($A80,'Mat of App'!$B$7:$AP$43,G$66,FALSE)","v":0},{"$f":"VLOOKUP($A80,'Mat of App'!$B$7:$AP$43,H$66,FALSE)","v":1},{"$f":"VLOOKUP($A80,'Mat of App'!$B$7:$AP$43,I$66,FALSE)","v":0},""]
["LV Generation Intermittent no RP charge",{"$f":"VLOOKUP($A81,'Mat of App'!$B$7:$AP$43,B$66,FALSE)","v":0},{"$f":"VLOOKUP($A81,'Mat of App'!$B$7:$AP$43,C$66,FALSE)","v":0},{"$f":"VLOOKUP($A81,'Mat of App'!$B$7:$AP$43,D$66,FALSE)","v":0},{"$f":"VLOOKUP($A81,'Mat of App'!$B$7:$AP$43,E$66,FALSE)","v":0},{"$f":"VLOOKUP($A81,'Mat of App'!$B$7:$AP$43,F$66,FALSE)","v":0},{"$f":"VLOOKUP($A81,'Mat of App'!$B$7:$AP$43,G$66,FALSE)","v":0},{"$f":"VLOOKUP($A81,'Mat of App'!$B$7:$AP$43,H$66,FALSE)","v":1},{"$f":"VLOOKUP($A81,'Mat of App'!$B$7:$AP$43,I$66,FALSE)","v":0},""]
["LV Generation Non-Intermittent",{"$f":"VLOOKUP($A82,'Mat of App'!$B$7:$AP$43,B$66,FALSE)","v":0},{"$f":"VLOOKUP($A82,'Mat of App'!$B$7:$AP$43,C$66,FALSE)","v":0},{"$f":"VLOOKUP($A82,'Mat of App'!$B$7:$AP$43,D$66,FALSE)","v":0},{"$f":"VLOOKUP($A82,'Mat of App'!$B$7:$AP$43,E$66,FALSE)","v":0},{"$f":"VLOOKUP($A82,'Mat of App'!$B$7:$AP$43,F$66,FALSE)","v":0},{"$f":"VLOOKUP($A82,'Mat of App'!$B$7:$AP$43,G$66,FALSE)","v":0},{"$f":"VLOOKUP($A82,'Mat of App'!$B$7:$AP$43,H$66,FALSE)","v":0},{"$f":"VLOOKUP($A82,'Mat of App'!$B$7:$AP$43,I$66,FALSE)","v":0},""]
["LV Generation Non-Intermittent no RP charge",{"$f":"VLOOKUP($A83,'Mat of App'!$B$7:$AP$43,B$66,FALSE)","v":0},{"$f":"VLOOKUP($A83,'Mat of App'!$B$7:$AP$43,C$66,FALSE)","v":0},{"$f":"VLOOKUP($A83,'Mat of App'!$B$7:$AP$43,D$66,FALSE)","v":0},{"$f":"VLOOKUP($A83,'Mat of App'!$B$7:$AP$43,E$66,FALSE)","v":0},{"$f":"VLOOKUP($A83,'Mat of App'!$B$7:$AP$43,F$66,FALSE)","v":0},{"$f":"VLOOKUP($A83,'Mat of App'!$B$7:$AP$43,G$66,FALSE)","v":0},{"$f":"VLOOKUP($A83,'Mat of App'!$B$7:$AP$43,H$66,FALSE)","v":0},{"$f":"VLOOKUP($A83,'Mat of App'!$B$7:$AP$43,I$66,FALSE)","v":0}]
["LV Sub Generation Intermittent",{"$f":"VLOOKUP($A84,'Mat of App'!$B$7:$AP$43,B$66,FALSE)","v":0},{"$f":"VLOOKUP($A84,'Mat of App'!$B$7:$AP$43,C$66,FALSE)","v":0},{"$f":"VLOOKUP($A84,'Mat of App'!$B$7:$AP$43,D$66,FALSE)","v":0},{"$f":"VLOOKUP($A84,'Mat of App'!$B$7:$AP$43,E$66,FALSE)","v":0},{"$f":"VLOOKUP($A84,'Mat of App'!$B$7:$AP$43,F$66,FALSE)","v":0},{"$f":"VLOOKUP($A84,'Mat of App'!$B$7:$AP$43,G$66,FALSE)","v":0},{"$f":"VLOOKUP($A84,'Mat of App'!$B$7:$AP$43,H$66,FALSE)","v":0},{"$f":"VLOOKUP($A84,'Mat of App'!$B$7:$AP$43,I$66,FALSE)","v":0}]
["LV Sub Generation Intermittent no RP charge",{"$f":"VLOOKUP($A85,'Mat of App'!$B$7:$AP$43,B$66,FALSE)","v":0},{"$f":"VLOOKUP($A85,'Mat of App'!$B$7:$AP$43,C$66,FALSE)","v":0},{"$f":"VLOOKUP($A85,'Mat of App'!$B$7:$AP$43,D$66,FALSE)","v":0},{"$f":"VLOOKUP($A85,'Mat of App'!$B$7:$AP$43,E$66,FALSE)","v":0},{"$f":"VLOOKUP($A85,'Mat of App'!$B$7:$AP$43,F$66,FALSE)","v":0},{"$f":"VLOOKUP($A85,'Mat of App'!$B$7:$AP$43,G$66,FALSE)","v":0},{"$f":"VLOOKUP($A85,'Mat of App'!$B$7:$AP$43,H$66,FALSE)","v":0},{"$f":"VLOOKUP($A85,'Mat of App'!$B$7:$AP$43,I$66,FALSE)","v":0}]
["LV Sub Generation Non-Intermittent",{"$f":"VLOOKUP($A86,'Mat of App'!$B$7:$AP$43,B$66,FALSE)","v":0},{"$f":"VLOOKUP($A86,'Mat of App'!$B$7:$AP$43,C$66,FALSE)","v":0},{"$f":"VLOOKUP($A86,'Mat of App'!$B$7:$AP$43,D$66,FALSE)","v":0},{"$f":"VLOOKUP($A86,'Mat of App'!$B$7:$AP$43,E$66,FALSE)","v":0},{"$f":"VLOOKUP($A86,'Mat of App'!$B$7:$AP$43,F$66,FALSE)","v":0},{"$f":"VLOOKUP($A86,'Mat of App'!$B$7:$AP$43,G$66,FALSE)","v":0},{"$f":"VLOOKUP($A86,'Mat of App'!$B$7:$AP$43,H$66,FALSE)","v":0},{"$f":"VLOOKUP($A86,'Mat of App'!$B$7:$AP$43,I$66,FALSE)","v":0}]
["LV Sub Generation Non-Intermittent no RP charge",{"$f":"VLOOKUP($A87,'Mat of App'!$B$7:$AP$43,B$66,FALSE)","v":0},{"$f":"VLOOKUP($A87,'Mat of App'!$B$7:$AP$43,C$66,FALSE)","v":0},{"$f":"VLOOKUP($A87,'Mat of App'!$B$7:$AP$43,D$66,FALSE)","v":0},{"$f":"VLOOKUP($A87,'Mat of App'!$B$7:$AP$43,E$66,FALSE)","v":0},{"$f":"VLOOKUP($A87,'Mat of App'!$B$7:$AP$43,F$66,FALSE)","v":0},{"$f":"VLOOKUP($A87,'Mat of App'!$B$7:$AP$43,G$66,FALSE)","v":0},{"$f":"VLOOKUP($A87,'Mat of App'!$B$7:$AP$43,H$66,FALSE)","v":0},{"$f":"VLOOKUP($A87,'Mat of App'!$B$7:$AP$43,I$66,FALSE)","v":0},""]
[]
["1026. Matrix of applicability of LV service models to unmetered tariffs"]
[]
["Source: service models"]
["Proportion of service model involved in connecting load of 1 MWh/year"]
[null,"LV service model 1","LV service model 2","LV service model 3","LV service model 4","LV service model 5","LV service model 6","LV service model 7","LV service model 8"]
["All LV unmetered tariffs",{"$f":"VLOOKUP($A94,'Mat of App'!$B$7:$AP$43,B$66,FALSE)","v":0},{"$f":"VLOOKUP($A94,'Mat of App'!$B$7:$AP$43,C$66,FALSE)","v":0},{"$f":"VLOOKUP($A94,'Mat of App'!$B$7:$AP$43,D$66,FALSE)","v":0},{"$f":"VLOOKUP($A94,'Mat of App'!$B$7:$AP$43,E$66,FALSE)","v":0},{"$f":"VLOOKUP($A94,'Mat of App'!$B$7:$AP$43,F$66,FALSE)","v":0},{"$f":"VLOOKUP($A94,'Mat of App'!$B$7:$AP$43,G$66,FALSE)","v":0},{"$f":"VLOOKUP($A94,'Mat of App'!$B$7:$AP$43,H$66,FALSE)","v":0},{"$f":"VLOOKUP($A94,'Mat of App'!$B$7:$AP$43,I$66,FALSE)","v":0.48799999999999999},""]
[]
["1028. Matrix of applicability of HV service models to tariffs with fixed charges"]
[null,17,{"$f":"B97+1","v":18},{"$f":"C97+1","v":19},{"$f":"D97+1","v":20},{"$f":"E97+1","v":21}]
[null,"HV service model 1","HV service model 2","HV service model 3","HV service model 4","HV service model 5"]
["HV Medium Non-Domestic",{"$f":"VLOOKUP($A99,'Mat of App'!$B$7:$AP$43,B$97,FALSE)","v":1},{"$f":"VLOOKUP($A99,'Mat of App'!$B$7:$AP$43,C$97,FALSE)","v":0},{"$f":"VLOOKUP($A99,'Mat of App'!$B$7:$AP$43,D$97,FALSE)","v":0},{"$f":"VLOOKUP($A99,'Mat of App'!$B$7:$AP$43,E$97,FALSE)","v":0},{"$f":"VLOOKUP($A99,'Mat of App'!$B$7:$AP$43,F$97,FALSE)","v":0},""]
["HV HH Metered",{"$f":"VLOOKUP($A100,'Mat of App'!$B$7:$AP$43,B$97,FALSE)","v":1},{"$f":"VLOOKUP($A100,'Mat of App'!$B$7:$AP$43,C$97,FALSE)","v":0},{"$f":"VLOOKUP($A100,'Mat of App'!$B$7:$AP$43,D$97,FALSE)","v":0},{"$f":"VLOOKUP($A100,'Mat of App'!$B$7:$AP$43,E$97,FALSE)","v":0},{"$f":"VLOOKUP($A100,'Mat of App'!$B$7:$AP$43,F$97,FALSE)","v":0},""]
["HV Generation Intermittent",{"$f":"VLOOKUP($A101,'Mat of App'!$B$7:$AP$43,B$97,FALSE)","v":0},{"$f":"VLOOKUP($A101,'Mat of App'!$B$7:$AP$43,C$97,FALSE)","v":1},{"$f":"VLOOKUP($A101,'Mat of App'!$B$7:$AP$43,D$97,FALSE)","v":0},{"$f":"VLOOKUP($A101,'Mat of App'!$B$7:$AP$43,E$97,FALSE)","v":0},{"$f":"VLOOKUP($A101,'Mat of App'!$B$7:$AP$43,F$97,FALSE)","v":0}]
["HV Generation Intermittent no RP charge",{"$f":"VLOOKUP($A102,'Mat of App'!$B$7:$AP$43,B$97,FALSE)","v":0},{"$f":"VLOOKUP($A102,'Mat of App'!$B$7:$AP$43,C$97,FALSE)","v":1},{"$f":"VLOOKUP($A102,'Mat of App'!$B$7:$AP$43,D$97,FALSE)","v":0},{"$f":"VLOOKUP($A102,'Mat of App'!$B$7:$AP$43,E$97,FALSE)","v":0},{"$f":"VLOOKUP($A102,'Mat of App'!$B$7:$AP$43,F$97,FALSE)","v":0}]
["HV Generation Non-Intermittent",{"$f":"VLOOKUP($A103,'Mat of App'!$B$7:$AP$43,B$97,FALSE)","v":0},{"$f":"VLOOKUP($A103,'Mat of App'!$B$7:$AP$43,C$97,FALSE)","v":1},{"$f":"VLOOKUP($A103,'Mat of App'!$B$7:$AP$43,D$97,FALSE)","v":0},{"$f":"VLOOKUP($A103,'Mat of App'!$B$7:$AP$43,E$97,FALSE)","v":0},{"$f":"VLOOKUP($A103,'Mat of App'!$B$7:$AP$43,F$97,FALSE)","v":0}]
["HV Generation Non-Intermittent no RP charge",{"$f":"VLOOKUP($A104,'Mat of App'!$B$7:$AP$43,B$97,FALSE)","v":0},{"$f":"VLOOKUP($A104,'Mat of App'!$B$7:$AP$43,C$97,FALSE)","v":1},{"$f":"VLOOKUP($A104,'Mat of App'!$B$7:$AP$43,D$97,FALSE)","v":0},{"$f":"VLOOKUP($A104,'Mat of App'!$B$7:$AP$43,E$97,FALSE)","v":0},{"$f":"VLOOKUP($A104,'Mat of App'!$B$7:$AP$43,F$97,FALSE)","v":0}]
[]
["1032. Loss adjustment factors to transmission"]
[""]
["Source: losses model or loss adjustment factors at time of system peak."]
[null,"132kV","132kV/EHV","EHV","EHV/HV","HV","HV/LV","LV circuits"]
["Loss adjustment factor",{"$f":"VLOOKUP(Vlookup!B69,'CDCM Forecast Data'!$A$14:$I$271,8,FALSE)","v":1.002},{"$f":"VLOOKUP(Vlookup!C69,'CDCM Forecast Data'!$A$14:$I$271,8,FALSE)","v":1.008},{"$f":"VLOOKUP(Vlookup!D69,'CDCM Forecast Data'!$A$14:$I$271,8,FALSE)","v":1.01},{"$f":"VLOOKUP(Vlookup!E69,'CDCM Forecast Data'!$A$14:$I$271,8,FALSE)","v":1.018},{"$f":"VLOOKUP(Vlookup!F69,'CDCM Forecast Data'!$A$14:$I$271,8,FALSE)","v":1.034},{"$f":"VLOOKUP(Vlookup!G69,'CDCM Forecast Data'!$A$14:$I$271,8,FALSE)","v":1.05},{"$f":"VLOOKUP(Vlookup!H69,'CDCM Forecast Data'!$A$14:$I$271,8,FALSE)","v":1.08},""]
[]
["1037. Embedded network (LDNO) discounts"]
[""]
["Source: separate price control disaggregation model."]
[null,"No discount","LDNO LV: LV user","LDNO HV: LV user","LDNO HV: LV sub user","LDNO HV: HV user"]
["LDNO discount",null,{"$f":"VLOOKUP(Vlookup!C75,'CDCM Forecast Data'!$A$14:$I$271,8,FALSE)","v":0.30035267521805875},{"$f":"VLOOKUP(Vlookup!D75,'CDCM Forecast Data'!$A$14:$I$271,8,FALSE)","v":0.47818139481135069},{"$f":"VLOOKUP(Vlookup!E75,'CDCM Forecast Data'!$A$14:$I$271,8,FALSE)","v":0.24363743688262601},{"$f":"VLOOKUP(Vlookup!F75,'CDCM Forecast Data'!$A$14:$I$271,8,FALSE)","v":0.14249687495735849},""]
[]
["1041. Load profile data for demand users"]
[]
["Source: load data analysis."]
[null,"Coincidence factor","Load factor"]
["Domestic Unrestricted",{"$f":"VLOOKUP(Vlookup!B81,'CDCM Forecast Data'!$A$14:$I$271,8,FALSE)","v":0.86240741067308713},{"$f":"VLOOKUP(Vlookup!C81,'CDCM Forecast Data'!$A$14:$I$271,8,FALSE)","v":0.41623710501756489},""]
["Domestic Two Rate",{"$f":"VLOOKUP(Vlookup!B82,'CDCM Forecast Data'!$A$14:$I$271,8,FALSE)","v":0.86034731111249485},{"$f":"VLOOKUP(Vlookup!C82,'CDCM Forecast Data'!$A$14:$I$271,8,FALSE)","v":0.5028096693143812},""]
["Domestic Off Peak (related MPAN)",null,{"$f":"VLOOKUP(Vlookup!C83,'CDCM Forecast Data'!$A$14:$I$271,8,FALSE)","v":0.14790375681824444},""]
["Small Non Domestic Unrestricted",{"$f":"VLOOKUP(Vlookup!B84,'CDCM Forecast Data'!$A$14:$I$271,8,FALSE)","v":0.72324936497793268},{"$f":"VLOOKUP(Vlookup!C84,'CDCM Forecast Data'!$A$14:$I$271,8,FALSE)","v":0.37532588558908553},""]
["Small Non Domestic Two Rate",{"$f":"VLOOKUP(Vlookup!B85,'CDCM Forecast Data'!$A$14:$I$271,8,FALSE)","v":0.86240621985923305},{"$f":"VLOOKUP(Vlookup!C85,'CDCM Forecast Data'!$A$14:$I$271,8,FALSE)","v":0.53424065388272945},""]
["Small Non Domestic Off Peak (related MPAN)",null,{"$f":"VLOOKUP(Vlookup!C86,'CDCM Forecast Data'!$A$14:$I$271,8,FALSE)","v":0.24278777249580674},""]
["LV Medium Non-Domestic",{"$f":"VLOOKUP(Vlookup!B87,'CDCM Forecast Data'!$A$14:$I$271,8,FALSE)","v":0.84122778780683927},{"$f":"VLOOKUP(Vlookup!C87,'CDCM Forecast Data'!$A$14:$I$271,8,FALSE)","v":0.52667690446927706},""]
["LV Sub Medium Non-Domestic",{"$f":"VLOOKUP(Vlookup!B88,'CDCM Forecast Data'!$A$14:$I$271,8,FALSE)","v":0.84122778780683927},{"$f":"VLOOKUP(Vlookup!C88,'CDCM Forecast Data'!$A$14:$I$271,8,FALSE)","v":0.52667690446927706},""]
["HV Medium Non-Domestic",{"$f":"VLOOKUP(Vlookup!B89,'CDCM Forecast Data'!$A$14:$I$271,8,FALSE)","v":0.78886749721267824},{"$f":"VLOOKUP(Vlookup!C89,'CDCM Forecast Data'!$A$14:$I$271,8,FALSE)","v":0.49199747964816393},""]
["LV Network Domestic",{"$f":"VLOOKUP(Vlookup!B90,'CDCM Forecast Data'!$A$14:$I$271,8,FALSE)","v":0.86164448674198868},{"$f":"VLOOKUP(Vlookup!C90,'CDCM Forecast Data'!$A$14:$I$271,8,FALSE)","v":0.44382955791989437},""]
["LV Network Non-Domestic Non-CT",{"$f":"VLOOKUP(Vlookup!B91,'CDCM Forecast Data'!$A$14:$I$271,8,FALSE)","v":0.78752477648789532},{"$f":"VLOOKUP(Vlookup!C91,'CDCM Forecast Data'!$A$14:$I$271,8,FALSE)","v":0.44789395514276292},""]
["LV HH Metered",{"$f":"VLOOKUP(Vlookup!B92,'CDCM Forecast Data'!$A$14:$I$271,8,FALSE)","v":0.82086521600613926},{"$f":"VLOOKUP(Vlookup!C92,'CDCM Forecast Data'!$A$14:$I$271,8,FALSE)","v":0.5584288623436322},""]
["LV Sub HH Metered",{"$f":"VLOOKUP(Vlookup!B93,'CDCM Forecast Data'!$A$14:$I$271,8,FALSE)","v":0.84026867562743668},{"$f":"VLOOKUP(Vlookup!C93,'CDCM Forecast Data'!$A$14:$I$271,8,FALSE)","v":0.57907566723908654}]
["HV HH Metered",{"$f":"VLOOKUP(Vlookup!B94,'CDCM Forecast Data'!$A$14:$I$271,8,FALSE)","v":0.84760121590132942},{"$f":"VLOOKUP(Vlookup!C94,'CDCM Forecast Data'!$A$14:$I$271,8,FALSE)","v":0.7141076061743471}]
["NHH UMS category A",{"$f":"VLOOKUP(Vlookup!B95,'CDCM Forecast Data'!$A$14:$I$271,8,FALSE)","v":1},{"$f":"VLOOKUP(Vlookup!C95,'CDCM Forecast Data'!$A$14:$I$271,8,FALSE)","v":1},""]
["NHH UMS category B",{"$f":"VLOOKUP(Vlookup!B96,'CDCM Forecast Data'!$A$14:$I$271,8,FALSE)","v":1},{"$f":"VLOOKUP(Vlookup!C96,'CDCM Forecast Data'!$A$14:$I$271,8,FALSE)","v":0.47270807337280285}]
["NHH UMS category C",{"$f":"VLOOKUP(Vlookup!B97,'CDCM Forecast Data'!$A$14:$I$271,8,FALSE)","v":1},{"$f":"VLOOKUP(Vlookup!C97,'CDCM Forecast Data'!$A$14:$I$271,8,FALSE)","v":0.24339371562014608}]
["NHH UMS category D",{"$f":"VLOOKUP(Vlookup!B98,'CDCM Forecast Data'!$A$14:$I$271,8,FALSE)","v":5.3621027479092004E-3},{"$f":"VLOOKUP(Vlookup!C98,'CDCM Forecast Data'!$A$14:$I$271,8,FALSE)","v":0.51158697514711327}]
["LV UMS (Pseudo HH Metered)",{"$f":"VLOOKUP(Vlookup!B99,'CDCM Forecast Data'!$A$14:$I$271,8,FALSE)","v":0.95079576417959843},{"$f":"VLOOKUP(Vlookup!C99,'CDCM Forecast Data'!$A$14:$I$271,8,FALSE)","v":0.44160896789800635},""]
[]
["1053. Volume forecasts for the charging year"]
["",25,26,27,28,29,30,31]
["Source: forecast."]
["Please include MPAN counts for tariffs with no fixed charge (e.g. off-peak tariffs),"]
["but exclude MPANs on tariffs with a fixed charge that are not subject to a fixed charge due to a site grouping arrangement."]
[null,"Rate 1 units (MWh)","Rate 2 units (MWh)","Rate 3 units (MWh)","MPANs","Import capacity (kVA)","Exceeded capacity (kVA)","Reactive power units (MVArh)"]
["> Domestic Unrestricted",{"$f":"VLOOKUP(Vlookup!$B107,'CDCM Volume Forecasts'!$A$28:$AL$136,B$143,FALSE)","v":0},{"$f":"VLOOKUP(Vlookup!$B107,'CDCM Volume Forecasts'!$A$28:$AL$136,C$143,FALSE)","v":0},{"$f":"VLOOKUP(Vlookup!$B107,'CDCM Volume Forecasts'!$A$28:$AL$136,D$143,FALSE)","v":0},{"$f":"VLOOKUP(Vlookup!$B107,'CDCM Volume Forecasts'!$A$28:$AL$136,E$143,FALSE)","v":0},{"$f":"VLOOKUP(Vlookup!$B107,'CDCM Volume Forecasts'!$A$28:$AL$136,F$143,FALSE)","v":0},null,{"$f":"VLOOKUP(Vlookup!$B107,'CDCM Volume Forecasts'!$A$28:$AL$136,G$143,FALSE)","v":0}]
["Domestic Unrestricted",{"$f":"VLOOKUP(Vlookup!$B108,'CDCM Volume Forecasts'!$A$28:$AL$136,B$143,FALSE)","v":5635747.39502858},null,null,{"$f":"VLOOKUP(Vlookup!$B108,'CDCM Volume Forecasts'!$A$28:$AL$136,E$143,FALSE)","v":1671267.7755050499}]
["LDNO LV: Domestic Unrestricted",{"$f":"VLOOKUP(Vlookup!$B109,'CDCM Volume Forecasts'!$A$28:$AL$136,B$143,FALSE)","v":94982.042774487054},null,null,{"$f":"VLOOKUP(Vlookup!$B109,'CDCM Volume Forecasts'!$A$28:$AL$136,E$143,FALSE)","v":35033.390339937563}]
["LDNO HV: Domestic Unrestricted",{"$f":"VLOOKUP(Vlookup!$B110,'CDCM Volume Forecasts'!$A$28:$AL$136,B$143,FALSE)","v":155171.27128812924},null,null,{"$f":"VLOOKUP(Vlookup!$B110,'CDCM Volume Forecasts'!$A$28:$AL$136,E$143,FALSE)","v":58162.880927404229}]
["> Domestic Two Rate"]
["Domestic Two Rate",{"$f":"VLOOKUP(Vlookup!$B112,'CDCM Volume Forecasts'!$A$28:$AL$136,B$143,FALSE)","v":2417415.8454986895},{"$f":"VLOOKUP(Vlookup!$B112,'CDCM Volume Forecasts'!$A$28:$AL$136,C$143,FALSE)","v":1076309.378668654},null,{"$f":"VLOOKUP(Vlookup!$B112,'CDCM Volume Forecasts'!$A$28:$AL$136,E$143,FALSE)","v":792868.49064519012}]
["LDNO LV: Domestic Two Rate",{"$f":"VLOOKUP(Vlookup!$B113,'CDCM Volume Forecasts'!$A$28:$AL$136,B$143,FALSE)","v":4629.9614332661959},{"$f":"VLOOKUP(Vlookup!$B113,'CDCM Volume Forecasts'!$A$28:$AL$136,C$143,FALSE)","v":1426.9050309592003},null,{"$f":"VLOOKUP(Vlookup!$B113,'CDCM Volume Forecasts'!$A$28:$AL$136,E$143,FALSE)","v":1499.239141579387}]
["LDNO HV: Domestic Two Rate",{"$f":"VLOOKUP(Vlookup!$B114,'CDCM Volume Forecasts'!$A$28:$AL$136,B$143,FALSE)","v":7642.5052138944002},{"$f":"VLOOKUP(Vlookup!$B114,'CDCM Volume Forecasts'!$A$28:$AL$136,C$143,FALSE)","v":2597.3847486999803},null,{"$f":"VLOOKUP(Vlookup!$B114,'CDCM Volume Forecasts'!$A$28:$AL$136,E$143,FALSE)","v":2453.4347641766276}]
["> Domestic Off Peak (related MPAN)"]
["Domestic Off Peak (related MPAN)",{"$f":"VLOOKUP(Vlookup!$B116,'CDCM Volume Forecasts'!$A$28:$AL$136,B$143,FALSE)","v":49585.593175668728},null,null,{"$f":"VLOOKUP(Vlookup!$B116,'CDCM Volume Forecasts'!$A$28:$AL$136,E$143,FALSE)","v":26805}]
["LDNO LV: Domestic Off Peak (related MPAN)",{"$f":"VLOOKUP(Vlookup!$B117,'CDCM Volume Forecasts'!$A$28:$AL$136,B$143,FALSE)","v":0},null,null,{"$f":"VLOOKUP(Vlookup!$B117,'CDCM Volume Forecasts'!$A$28:$AL$136,E$143,FALSE)","v":0}]
["LDNO HV: Domestic Off Peak (related MPAN)",{"$f":"VLOOKUP(Vlookup!$B118,'CDCM Volume Forecasts'!$A$28:$AL$136,B$143,FALSE)","v":0},null,null,{"$f":"VLOOKUP(Vlookup!$B118,'CDCM Volume Forecasts'!$A$28:$AL$136,E$143,FALSE)","v":0}]
["> Small Non Domestic Unrestricted"]
["Small Non Domestic Unrestricted",{"$f":"VLOOKUP(Vlookup!$B120,'CDCM Volume Forecasts'!$A$28:$AL$136,B$143,FALSE)","v":1140613.9739181774},null,null,{"$f":"VLOOKUP(Vlookup!$B120,'CDCM Volume Forecasts'!$A$28:$AL$136,E$143,FALSE)","v":95495.253097224515}]
["LDNO LV: Small Non Domestic Unrestricted",{"$f":"VLOOKUP(Vlookup!$B121,'CDCM Volume Forecasts'!$A$28:$AL$136,B$143,FALSE)","v":4254.8519221540355},null,null,{"$f":"VLOOKUP(Vlookup!$B121,'CDCM Volume Forecasts'!$A$28:$AL$136,E$143,FALSE)","v":714.08447240652981}]
["LDNO HV: Small Non Domestic Unrestricted",{"$f":"VLOOKUP(Vlookup!$B122,'CDCM Volume Forecasts'!$A$28:$AL$136,B$143,FALSE)","v":11145.922225068793},null,null,{"$f":"VLOOKUP(Vlookup!$B122,'CDCM Volume Forecasts'!$A$28:$AL$136,E$143,FALSE)","v":1270.1753584742994}]
["> Small Non Domestic Two Rate"]
["Small Non Domestic Two Rate",{"$f":"VLOOKUP(Vlookup!$B124,'CDCM Volume Forecasts'!$A$28:$AL$136,B$143,FALSE)","v":1514286.2262339729},{"$f":"VLOOKUP(Vlookup!$B124,'CDCM Volume Forecasts'!$A$28:$AL$136,C$143,FALSE)","v":451030.46492233477},null,{"$f":"VLOOKUP(Vlookup!$B124,'CDCM Volume Forecasts'!$A$28:$AL$136,E$143,FALSE)","v":82427.244684584759}]
["LDNO LV: Small Non Domestic Two Rate",{"$f":"VLOOKUP(Vlookup!$B125,'CDCM Volume Forecasts'!$A$28:$AL$136,B$143,FALSE)","v":402.47958047828541},{"$f":"VLOOKUP(Vlookup!$B125,'CDCM Volume Forecasts'!$A$28:$AL$136,C$143,FALSE)","v":80.438629283880772},null,{"$f":"VLOOKUP(Vlookup!$B125,'CDCM Volume Forecasts'!$A$28:$AL$136,E$143,FALSE)","v":12.903675111941352}]
["LDNO HV: Small Non Domestic Two Rate",{"$f":"VLOOKUP(Vlookup!$B126,'CDCM Volume Forecasts'!$A$28:$AL$136,B$143,FALSE)","v":1111.6322427478769},{"$f":"VLOOKUP(Vlookup!$B126,'CDCM Volume Forecasts'!$A$28:$AL$136,C$143,FALSE)","v":286.0338414769754},null,{"$f":"VLOOKUP(Vlookup!$B126,'CDCM Volume Forecasts'!$A$28:$AL$136,E$143,FALSE)","v":47.788053454719794}]
["> Small Non Domestic Off Peak (related MPAN)"]
["Small Non Domestic Off Peak (related MPAN)",{"$f":"VLOOKUP(Vlookup!$B128,'CDCM Volume Forecasts'!$A$28:$AL$136,B$143,FALSE)","v":2583.3840720654089},null,null,{"$f":"VLOOKUP(Vlookup!$B128,'CDCM Volume Forecasts'!$A$28:$AL$136,E$143,FALSE)","v":517}]
["LDNO LV: Small Non Domestic Off Peak (related MPAN)",{"$f":"VLOOKUP(Vlookup!$B129,'CDCM Volume Forecasts'!$A$28:$AL$136,B$143,FALSE)","v":0},null,null,{"$f":"VLOOKUP(Vlookup!$B129,'CDCM Volume Forecasts'!$A$28:$AL$136,E$143,FALSE)","v":0}]
["LDNO HV: Small Non Domestic Off Peak (related MPAN)",{"$f":"VLOOKUP(Vlookup!$B130,'CDCM Volume Forecasts'!$A$28:$AL$136,B$143,FALSE)","v":0},null,null,{"$f":"VLOOKUP(Vlookup!$B130,'CDCM Volume Forecasts'!$A$28:$AL$136,E$143,FALSE)","v":0}]
["> LV Medium Non-Domestic"]
["LV Medium Non-Domestic",{"$f":"VLOOKUP(Vlookup!$B132,'CDCM Volume Forecasts'!$A$28:$AL$136,B$143,FALSE)","v":41587.88901879995},{"$f":"VLOOKUP(Vlookup!$B132,'CDCM Volume Forecasts'!$A$28:$AL$136,C$143,FALSE)","v":11522.857188044651},null,{"$f":"VLOOKUP(Vlookup!$B132,'CDCM Volume Forecasts'!$A$28:$AL$136,E$143,FALSE)","v":1226.5130041316722}]
["LDNO LV: LV Medium Non-Domestic",{"$f":"VLOOKUP(Vlookup!$B133,'CDCM Volume Forecasts'!$A$28:$AL$136,B$143,FALSE)","v":-4.9112713895738124E-14},{"$f":"VLOOKUP(Vlookup!$B133,'CDCM Volume Forecasts'!$A$28:$AL$136,C$143,FALSE)","v":5.4569682106375695E-15},null,{"$f":"VLOOKUP(Vlookup!$B133,'CDCM Volume Forecasts'!$A$28:$AL$136,E$143,FALSE)","v":0}]
["LDNO HV: LV Medium Non-Domestic",{"$f":"VLOOKUP(Vlookup!$B134,'CDCM Volume Forecasts'!$A$28:$AL$136,B$143,FALSE)","v":-2.4738255888223645E-13},{"$f":"VLOOKUP(Vlookup!$B134,'CDCM Volume Forecasts'!$A$28:$AL$136,C$143,FALSE)","v":1.8189894035458565E-14},null,{"$f":"VLOOKUP(Vlookup!$B134,'CDCM Volume Forecasts'!$A$28:$AL$136,E$143,FALSE)","v":0}]
["> LV Sub Medium Non-Domestic"]
["LV Sub Medium Non-Domestic",{"$f":"VLOOKUP(Vlookup!$B136,'CDCM Volume Forecasts'!$A$28:$AL$136,B$143,FALSE)","v":0.14305029137837472},{"$f":"VLOOKUP(Vlookup!$B136,'CDCM Volume Forecasts'!$A$28:$AL$136,C$143,FALSE)","v":4.1771037058284492E-2},null,{"$f":"VLOOKUP(Vlookup!$B136,'CDCM Volume Forecasts'!$A$28:$AL$136,E$143,FALSE)","v":3.1678196721310618E-3}]
["> HV Medium Non-Domestic"]
["HV Medium Non-Domestic",{"$f":"VLOOKUP(Vlookup!$B138,'CDCM Volume Forecasts'!$A$28:$AL$136,B$143,FALSE)","v":2605.2120716228465},{"$f":"VLOOKUP(Vlookup!$B138,'CDCM Volume Forecasts'!$A$28:$AL$136,C$143,FALSE)","v":788.60544449936344},null,{"$f":"VLOOKUP(Vlookup!$B138,'CDCM Volume Forecasts'!$A$28:$AL$136,E$143,FALSE)","v":44}]
["> LV Network Domestic"]
["LV Network Domestic",{"$f":"VLOOKUP(Vlookup!$B140,'CDCM Volume Forecasts'!$A$28:$AL$136,B$143,FALSE)","v":25.916648860281796},{"$f":"VLOOKUP(Vlookup!$B140,'CDCM Volume Forecasts'!$A$28:$AL$136,C$143,FALSE)","v":99.416406772272921},{"$f":"VLOOKUP(Vlookup!$B140,'CDCM Volume Forecasts'!$A$28:$AL$136,D$143,FALSE)","v":122.08546012140339},{"$f":"VLOOKUP(Vlookup!$B140,'CDCM Volume Forecasts'!$A$28:$AL$136,E$143,FALSE)","v":76.118765573770503}]
["LDNO LV: LV Network Domestic",{"$f":"VLOOKUP(Vlookup!$B141,'CDCM Volume Forecasts'!$A$28:$AL$136,B$143,FALSE)","v":0},{"$f":"VLOOKUP(Vlookup!$B141,'CDCM Volume Forecasts'!$A$28:$AL$136,C$143,FALSE)","v":0},{"$f":"VLOOKUP(Vlookup!$B141,'CDCM Volume Forecasts'!$A$28:$AL$136,D$143,FALSE)","v":0},{"$f":"VLOOKUP(Vlookup!$B141,'CDCM Volume Forecasts'!$A$28:$AL$136,E$143,FALSE)","v":0}]
["LDNO HV: LV Network Domestic",{"$f":"VLOOKUP(Vlookup!$B142,'CDCM Volume Forecasts'!$A$28:$AL$136,B$143,FALSE)","v":0},{"$f":"VLOOKUP(Vlookup!$B142,'CDCM Volume Forecasts'!$A$28:$AL$136,C$143,FALSE)","v":0},{"$f":"VLOOKUP(Vlookup!$B142,'CDCM Volume Forecasts'!$A$28:$AL$136,D$143,FALSE)","v":0},{"$f":"VLOOKUP(Vlookup!$B142,'CDCM Volume Forecasts'!$A$28:$AL$136,E$143,FALSE)","v":0}]
["> LV Network Non-Domestic Non-CT"]
["LV Network Non-Domestic Non-CT",{"$f":"VLOOKUP(Vlookup!$B144,'CDCM Volume Forecasts'!$A$28:$AL$136,B$143,FALSE)","v":18558.487686612239},{"$f":"VLOOKUP(Vlookup!$B144,'CDCM Volume Forecasts'!$A$28:$AL$136,C$143,FALSE)","v":73567.926730158622},{"$f":"VLOOKUP(Vlookup!$B144,'CDCM Volume Forecasts'!$A$28:$AL$136,D$143,FALSE)","v":78280.332697577658},{"$f":"VLOOKUP(Vlookup!$B144,'CDCM Volume Forecasts'!$A$28:$AL$136,E$143,FALSE)","v":2509.10345882312}]
["LDNO LV: LV Network Non-Domestic Non-CT",{"$f":"VLOOKUP(Vlookup!$B145,'CDCM Volume Forecasts'!$A$28:$AL$136,B$143,FALSE)","v":19.24968807539738},{"$f":"VLOOKUP(Vlookup!$B145,'CDCM Volume Forecasts'!$A$28:$AL$136,C$143,FALSE)","v":72.688587305710143},{"$f":"VLOOKUP(Vlookup!$B145,'CDCM Volume Forecasts'!$A$28:$AL$136,D$143,FALSE)","v":120.49851830559453},{"$f":"VLOOKUP(Vlookup!$B145,'CDCM Volume Forecasts'!$A$28:$AL$136,E$143,FALSE)","v":4.7184373127364774}]
["LDNO HV: LV Network Non-Domestic Non-CT",{"$f":"VLOOKUP(Vlookup!$B146,'CDCM Volume Forecasts'!$A$28:$AL$136,B$143,FALSE)","v":104.24235588741557},{"$f":"VLOOKUP(Vlookup!$B146,'CDCM Volume Forecasts'!$A$28:$AL$136,C$143,FALSE)","v":362.68347429908619},{"$f":"VLOOKUP(Vlookup!$B146,'CDCM Volume Forecasts'!$A$28:$AL$136,D$143,FALSE)","v":416.12088245460063},{"$f":"VLOOKUP(Vlookup!$B146,'CDCM Volume Forecasts'!$A$28:$AL$136,E$143,FALSE)","v":19.841829348937043}]
["> LV HH Metered"]
["LV HH Metered",{"$f":"VLOOKUP(Vlookup!$B148,'CDCM Volume Forecasts'!$A$28:$AL$136,B$143,FALSE)","v":377835.6813072178},{"$f":"VLOOKUP(Vlookup!$B148,'CDCM Volume Forecasts'!$A$28:$AL$136,C$143,FALSE)","v":1505767.6226554119},{"$f":"VLOOKUP(Vlookup!$B148,'CDCM Volume Forecasts'!$A$28:$AL$136,D$143,FALSE)","v":1615847.0059507394},{"$f":"VLOOKUP(Vlookup!$B148,'CDCM Volume Forecasts'!$A$28:$AL$136,E$143,FALSE)","v":15832.332072650368},{"$f":"VLOOKUP(Vlookup!$B148,'CDCM Volume Forecasts'!$A$28:$AL$136,F$143,FALSE)","v":1960000},{"$f":"VLOOKUP(Vlookup!$B148,'CDCM Volume Forecasts'!$A$28:$AL$136,G$143,FALSE)","v":42265.317043448318},{"$f":"VLOOKUP(Vlookup!$B148,'CDCM Volume Forecasts'!$A$28:$AL$136,H$143,FALSE)","v":367491.37832085259}]
["LDNO LV: LV HH Metered",{"$f":"VLOOKUP(Vlookup!$B149,'CDCM Volume Forecasts'!$A$28:$AL$136,B$143,FALSE)","v":1412.870559022316},{"$f":"VLOOKUP(Vlookup!$B149,'CDCM Volume Forecasts'!$A$28:$AL$136,C$143,FALSE)","v":4888.8390627745466},{"$f":"VLOOKUP(Vlookup!$B149,'CDCM Volume Forecasts'!$A$28:$AL$136,D$143,FALSE)","v":6114.8854757848721},{"$f":"VLOOKUP(Vlookup!$B149,'CDCM Volume Forecasts'!$A$28:$AL$136,E$143,FALSE)","v":61.229869713492732},{"$f":"VLOOKUP(Vlookup!$B149,'CDCM Volume Forecasts'!$A$28:$AL$136,F$143,FALSE)","v":10476.918620474366},{"$f":"VLOOKUP(Vlookup!$B149,'CDCM Volume Forecasts'!$A$28:$AL$136,G$143,FALSE)","v":12.987057168228436},{"$f":"VLOOKUP(Vlookup!$B149,'CDCM Volume Forecasts'!$A$28:$AL$136,H$143,FALSE)","v":1333.7147930840285}]
["LDNO HV: LV HH Metered",{"$f":"VLOOKUP(Vlookup!$B150,'CDCM Volume Forecasts'!$A$28:$AL$136,B$143,FALSE)","v":15040.235122987786},{"$f":"VLOOKUP(Vlookup!$B150,'CDCM Volume Forecasts'!$A$28:$AL$136,C$143,FALSE)","v":54927.685608171101},{"$f":"VLOOKUP(Vlookup!$B150,'CDCM Volume Forecasts'!$A$28:$AL$136,D$143,FALSE)","v":65960.836777291115},{"$f":"VLOOKUP(Vlookup!$B150,'CDCM Volume Forecasts'!$A$28:$AL$136,E$143,FALSE)","v":382.62169856216127},{"$f":"VLOOKUP(Vlookup!$B150,'CDCM Volume Forecasts'!$A$28:$AL$136,F$143,FALSE)","v":108669.61557819175},{"$f":"VLOOKUP(Vlookup!$B150,'CDCM Volume Forecasts'!$A$28:$AL$136,G$143,FALSE)","v":446.26154403187547},{"$f":"VLOOKUP(Vlookup!$B150,'CDCM Volume Forecasts'!$A$28:$AL$136,H$143,FALSE)","v":11418.401436925689}]
["> LV Sub HH Metered"]
["LV Sub HH Metered",{"$f":"VLOOKUP(Vlookup!$B152,'CDCM Volume Forecasts'!$A$28:$AL$136,B$143,FALSE)","v":23555.939705275443},{"$f":"VLOOKUP(Vlookup!$B152,'CDCM Volume Forecasts'!$A$28:$AL$136,C$143,FALSE)","v":90295.119473983417},{"$f":"VLOOKUP(Vlookup!$B152,'CDCM Volume Forecasts'!$A$28:$AL$136,D$143,FALSE)","v":105307.38531244543},{"$f":"VLOOKUP(Vlookup!$B152,'CDCM Volume Forecasts'!$A$28:$AL$136,E$143,FALSE)","v":342.84669556830613},{"$f":"VLOOKUP(Vlookup!$B152,'CDCM Volume Forecasts'!$A$28:$AL$136,F$143,FALSE)","v":138821.86717486338},{"$f":"VLOOKUP(Vlookup!$B152,'CDCM Volume Forecasts'!$A$28:$AL$136,G$143,FALSE)","v":1785.1010983606557},{"$f":"VLOOKUP(Vlookup!$B152,'CDCM Volume Forecasts'!$A$28:$AL$136,H$143,FALSE)","v":18220.196801714286}]
["LDNO HV: LV Sub HH Metered",{"$f":"VLOOKUP(Vlookup!$B153,'CDCM Volume Forecasts'!$A$28:$AL$136,B$143,FALSE)","v":890.72287294660168},{"$f":"VLOOKUP(Vlookup!$B153,'CDCM Volume Forecasts'!$A$28:$AL$136,C$143,FALSE)","v":3077.5835538016772},{"$f":"VLOOKUP(Vlookup!$B153,'CDCM Volume Forecasts'!$A$28:$AL$136,D$143,FALSE)","v":5287.7802117072451},{"$f":"VLOOKUP(Vlookup!$B153,'CDCM Volume Forecasts'!$A$28:$AL$136,E$143,FALSE)","v":4.8958936371831783},{"$f":"VLOOKUP(Vlookup!$B153,'CDCM Volume Forecasts'!$A$28:$AL$136,F$143,FALSE)","v":3426.9222620200057},{"$f":"VLOOKUP(Vlookup!$B153,'CDCM Volume Forecasts'!$A$28:$AL$136,G$143,FALSE)","v":46.892377761533822},{"$f":"VLOOKUP(Vlookup!$B153,'CDCM Volume Forecasts'!$A$28:$AL$136,H$143,FALSE)","v":903.92750399136014}]
["> HV HH Metered"]
["HV HH Metered",{"$f":"VLOOKUP(Vlookup!$B155,'CDCM Volume Forecasts'!$A$28:$AL$136,B$143,FALSE)","v":738923.19680440472},{"$f":"VLOOKUP(Vlookup!$B155,'CDCM Volume Forecasts'!$A$28:$AL$136,C$143,FALSE)","v":2849711.7208364718},{"$f":"VLOOKUP(Vlookup!$B155,'CDCM Volume Forecasts'!$A$28:$AL$136,D$143,FALSE)","v":4000945.161846465},{"$f":"VLOOKUP(Vlookup!$B155,'CDCM Volume Forecasts'!$A$28:$AL$136,E$143,FALSE)","v":3524.9192351831307},{"$f":"VLOOKUP(Vlookup!$B155,'CDCM Volume Forecasts'!$A$28:$AL$136,F$143,FALSE)","v":2788259.5384515394},{"$f":"VLOOKUP(Vlookup!$B155,'CDCM Volume Forecasts'!$A$28:$AL$136,G$143,FALSE)","v":58664.747249535598},{"$f":"VLOOKUP(Vlookup!$B155,'CDCM Volume Forecasts'!$A$28:$AL$136,H$143,FALSE)","v":557819.6962977408}]
["LDNO HV: HV HH Metered",{"$f":"VLOOKUP(Vlookup!$B156,'CDCM Volume Forecasts'!$A$28:$AL$136,B$143,FALSE)","v":7258.323341503462},{"$f":"VLOOKUP(Vlookup!$B156,'CDCM Volume Forecasts'!$A$28:$AL$136,C$143,FALSE)","v":23980.296053899532},{"$f":"VLOOKUP(Vlookup!$B156,'CDCM Volume Forecasts'!$A$28:$AL$136,D$143,FALSE)","v":38623.664534907308},{"$f":"VLOOKUP(Vlookup!$B156,'CDCM Volume Forecasts'!$A$28:$AL$136,E$143,FALSE)","v":38.408595450387928},{"$f":"VLOOKUP(Vlookup!$B156,'CDCM Volume Forecasts'!$A$28:$AL$136,F$143,FALSE)","v":48748.253499353094},{"$f":"VLOOKUP(Vlookup!$B156,'CDCM Volume Forecasts'!$A$28:$AL$136,G$143,FALSE)","v":199.08329496396499},{"$f":"VLOOKUP(Vlookup!$B156,'CDCM Volume Forecasts'!$A$28:$AL$136,H$143,FALSE)","v":2217.4648647360805}]
["> NHH UMS category A"]
["NHH UMS category A",{"$f":"VLOOKUP(Vlookup!$B158,'CDCM Volume Forecasts'!$A$28:$AL$136,B$143,FALSE)","v":34134.893703773516},null,null,{"$f":"VLOOKUP(Vlookup!$B158,'CDCM Volume Forecasts'!$A$28:$AL$136,E$143,FALSE)","v":1567}]
["LDNO LV: NHH UMS category A",{"$f":"VLOOKUP(Vlookup!$B159,'CDCM Volume Forecasts'!$A$28:$AL$136,B$143,FALSE)","v":275.22148000439415},null,null,{"$f":"VLOOKUP(Vlookup!$B159,'CDCM Volume Forecasts'!$A$28:$AL$136,E$143,FALSE)","v":0}]
["LDNO HV: NHH UMS category A",{"$f":"VLOOKUP(Vlookup!$B160,'CDCM Volume Forecasts'!$A$28:$AL$136,B$143,FALSE)","v":531.75775905666319},null,null,{"$f":"VLOOKUP(Vlookup!$B160,'CDCM Volume Forecasts'!$A$28:$AL$136,E$143,FALSE)","v":0}]
["> NHH UMS category B"]
["NHH UMS category B",{"$f":"VLOOKUP(Vlookup!$B162,'CDCM Volume Forecasts'!$A$28:$AL$136,B$143,FALSE)","v":22466.149975166016},null,null,{"$f":"VLOOKUP(Vlookup!$B162,'CDCM Volume Forecasts'!$A$28:$AL$136,E$143,FALSE)","v":1279}]
["LDNO LV: NHH UMS category B",{"$f":"VLOOKUP(Vlookup!$B163,'CDCM Volume Forecasts'!$A$28:$AL$136,B$143,FALSE)","v":319.40114355377005},null,null,{"$f":"VLOOKUP(Vlookup!$B163,'CDCM Volume Forecasts'!$A$28:$AL$136,E$143,FALSE)","v":0}]
["LDNO HV: NHH UMS category B",{"$f":"VLOOKUP(Vlookup!$B164,'CDCM Volume Forecasts'!$A$28:$AL$136,B$143,FALSE)","v":613.630442356039},null,null,{"$f":"VLOOKUP(Vlookup!$B164,'CDCM Volume Forecasts'!$A$28:$AL$136,E$143,FALSE)","v":0}]
["> NHH UMS category C"]
["NHH UMS category C",{"$f":"VLOOKUP(Vlookup!$B166,'CDCM Volume Forecasts'!$A$28:$AL$136,B$143,FALSE)","v":339.10140823796002},null,null,{"$f":"VLOOKUP(Vlookup!$B166,'CDCM Volume Forecasts'!$A$28:$AL$136,E$143,FALSE)","v":194}]
["LDNO LV: NHH UMS category C",{"$f":"VLOOKUP(Vlookup!$B167,'CDCM Volume Forecasts'!$A$28:$AL$136,B$143,FALSE)","v":0},null,null,{"$f":"VLOOKUP(Vlookup!$B167,'CDCM Volume Forecasts'!$A$28:$AL$136,E$143,FALSE)","v":0}]
["LDNO HV: NHH UMS category C",{"$f":"VLOOKUP(Vlookup!$B168,'CDCM Volume Forecasts'!$A$28:$AL$136,B$143,FALSE)","v":0},null,null,{"$f":"VLOOKUP(Vlookup!$B168,'CDCM Volume Forecasts'!$A$28:$AL$136,E$143,FALSE)","v":0}]
["> NHH UMS category D"]
["NHH UMS category D",{"$f":"VLOOKUP(Vlookup!$B170,'CDCM Volume Forecasts'!$A$28:$AL$136,B$143,FALSE)","v":7208.5560845431746},null,null,{"$f":"VLOOKUP(Vlookup!$B170,'CDCM Volume Forecasts'!$A$28:$AL$136,E$143,FALSE)","v":247}]
["LDNO LV: NHH UMS category D",{"$f":"VLOOKUP(Vlookup!$B171,'CDCM Volume Forecasts'!$A$28:$AL$136,B$143,FALSE)","v":0},null,null,{"$f":"VLOOKUP(Vlookup!$B171,'CDCM Volume Forecasts'!$A$28:$AL$136,E$143,FALSE)","v":0}]
["LDNO HV: NHH UMS category D",{"$f":"VLOOKUP(Vlookup!$B172,'CDCM Volume Forecasts'!$A$28:$AL$136,B$143,FALSE)","v":0},null,null,{"$f":"VLOOKUP(Vlookup!$B172,'CDCM Volume Forecasts'!$A$28:$AL$136,E$143,FALSE)","v":0}]
["> LV UMS (Pseudo HH Metered)"]
["LV UMS (Pseudo HH Metered)",{"$f":"VLOOKUP(Vlookup!$B174,'CDCM Volume Forecasts'!$A$28:$AL$136,B$143,FALSE)","v":12092.426467732928},{"$f":"VLOOKUP(Vlookup!$B174,'CDCM Volume Forecasts'!$A$28:$AL$136,C$143,FALSE)","v":33947.071572281049},{"$f":"VLOOKUP(Vlookup!$B174,'CDCM Volume Forecasts'!$A$28:$AL$136,D$143,FALSE)","v":185619.80763357371},{"$f":"VLOOKUP(Vlookup!$B174,'CDCM Volume Forecasts'!$A$28:$AL$136,E$143,FALSE)","v":26.819672131147541}]
["LDNO LV: LV UMS (Pseudo HH Metered)",{"$f":"VLOOKUP(Vlookup!$B175,'CDCM Volume Forecasts'!$A$28:$AL$136,B$143,FALSE)","v":0},{"$f":"VLOOKUP(Vlookup!$B175,'CDCM Volume Forecasts'!$A$28:$AL$136,C$143,FALSE)","v":0},{"$f":"VLOOKUP(Vlookup!$B175,'CDCM Volume Forecasts'!$A$28:$AL$136,D$143,FALSE)","v":0},{"$f":"VLOOKUP(Vlookup!$B175,'CDCM Volume Forecasts'!$A$28:$AL$136,E$143,FALSE)","v":0}]
["LDNO HV: LV UMS (Pseudo HH Metered)",{"$f":"VLOOKUP(Vlookup!$B176,'CDCM Volume Forecasts'!$A$28:$AL$136,B$143,FALSE)","v":0},{"$f":"VLOOKUP(Vlookup!$B176,'CDCM Volume Forecasts'!$A$28:$AL$136,C$143,FALSE)","v":0},{"$f":"VLOOKUP(Vlookup!$B176,'CDCM Volume Forecasts'!$A$28:$AL$136,D$143,FALSE)","v":0},{"$f":"VLOOKUP(Vlookup!$B176,'CDCM Volume Forecasts'!$A$28:$AL$136,E$143,FALSE)","v":0}]
["> LV Generation NHH or Aggregate HH"]
["LV Generation NHH or Aggregate HH",{"$f":"VLOOKUP(Vlookup!$B178,'CDCM Volume Forecasts'!$A$28:$AL$136,B$143,FALSE)","v":10233.9538335},null,null,{"$f":"VLOOKUP(Vlookup!$B178,'CDCM Volume Forecasts'!$A$28:$AL$136,E$143,FALSE)","v":136}]
["LDNO LV: LV Generation NHH or Aggregate HH",{"$f":"VLOOKUP(Vlookup!$B179,'CDCM Volume Forecasts'!$A$28:$AL$136,B$143,FALSE)","v":27.785378357142857},null,null,{"$f":"VLOOKUP(Vlookup!$B179,'CDCM Volume Forecasts'!$A$28:$AL$136,E$143,FALSE)","v":0}]
["LDNO HV: LV Generation NHH or Aggregate HH",{"$f":"VLOOKUP(Vlookup!$B180,'CDCM Volume Forecasts'!$A$28:$AL$136,B$143,FALSE)","v":0},null,null,{"$f":"VLOOKUP(Vlookup!$B180,'CDCM Volume Forecasts'!$A$28:$AL$136,E$143,FALSE)","v":0}]
["> LV Sub Generation NHH"]
["LV Sub Generation NHH",{"$f":"VLOOKUP(Vlookup!$B182,'CDCM Volume Forecasts'!$A$28:$AL$136,B$143,FALSE)","v":0},null,null,{"$f":"VLOOKUP(Vlookup!$B182,'CDCM Volume Forecasts'!$A$28:$AL$136,E$143,FALSE)","v":0}]
["LDNO HV: LV Sub Generation NHH",{"$f":"VLOOKUP(Vlookup!$B183,'CDCM Volume Forecasts'!$A$28:$AL$136,B$143,FALSE)","v":0},null,null,{"$f":"VLOOKUP(Vlookup!$B183,'CDCM Volume Forecasts'!$A$28:$AL$136,E$143,FALSE)","v":0}]
["> LV Generation Intermittent"]
["LV Generation Intermittent",{"$f":"VLOOKUP(Vlookup!$B185,'CDCM Volume Forecasts'!$A$28:$AL$136,B$143,FALSE)","v":39541.455472928566},null,null,{"$f":"VLOOKUP(Vlookup!$B185,'CDCM Volume Forecasts'!$A$28:$AL$136,E$143,FALSE)","v":697.57416393442611},null,null,{"$f":"VLOOKUP(Vlookup!$B185,'CDCM Volume Forecasts'!$A$28:$AL$136,H$143,FALSE)","v":4219.380690214286}]
["LDNO LV: LV Generation Intermittent",{"$f":"VLOOKUP(Vlookup!$B186,'CDCM Volume Forecasts'!$A$28:$AL$136,B$143,FALSE)","v":0},null,null,{"$f":"VLOOKUP(Vlookup!$B186,'CDCM Volume Forecasts'!$A$28:$AL$136,E$143,FALSE)","v":0},null,null,{"$f":"VLOOKUP(Vlookup!$B186,'CDCM Volume Forecasts'!$A$28:$AL$136,H$143,FALSE)","v":0}]
["LDNO HV: LV Generation Intermittent",{"$f":"VLOOKUP(Vlookup!$B187,'CDCM Volume Forecasts'!$A$28:$AL$136,B$143,FALSE)","v":72.668966078571486},null,null,{"$f":"VLOOKUP(Vlookup!$B187,'CDCM Volume Forecasts'!$A$28:$AL$136,E$143,FALSE)","v":4.4201475409836073},null,null,{"$f":"VLOOKUP(Vlookup!$B187,'CDCM Volume Forecasts'!$A$28:$AL$136,H$143,FALSE)","v":40.596061285714278}]
["> LV Generation Intermittent no RP charge"]
["LV Generation Intermittent no RP charge",{"$f":"VLOOKUP(Vlookup!$B189,'CDCM Volume Forecasts'!$A$28:$AL$136,B$143,FALSE)","v":0},null,null,{"$f":"VLOOKUP(Vlookup!$B189,'CDCM Volume Forecasts'!$A$28:$AL$136,E$143,FALSE)","v":0}]
["> LV Generation Non-Intermittent"]
["LV Generation Non-Intermittent",{"$f":"VLOOKUP(Vlookup!$B191,'CDCM Volume Forecasts'!$A$28:$AL$136,B$143,FALSE)","v":1593.5852929943649},{"$f":"VLOOKUP(Vlookup!$B191,'CDCM Volume Forecasts'!$A$28:$AL$136,C$143,FALSE)","v":6242.3922614252333},{"$f":"VLOOKUP(Vlookup!$B191,'CDCM Volume Forecasts'!$A$28:$AL$136,D$143,FALSE)","v":9539.9119603497784},{"$f":"VLOOKUP(Vlookup!$B191,'CDCM Volume Forecasts'!$A$28:$AL$136,E$143,FALSE)","v":105.72703893442623},null,null,{"$f":"VLOOKUP(Vlookup!$B191,'CDCM Volume Forecasts'!$A$28:$AL$136,H$143,FALSE)","v":667.62919715625003}]
["LDNO LV: LV Generation Non-Intermittent",{"$f":"VLOOKUP(Vlookup!$B192,'CDCM Volume Forecasts'!$A$28:$AL$136,B$143,FALSE)","v":0},{"$f":"VLOOKUP(Vlookup!$B192,'CDCM Volume Forecasts'!$A$28:$AL$136,C$143,FALSE)","v":0},{"$f":"VLOOKUP(Vlookup!$B192,'CDCM Volume Forecasts'!$A$28:$AL$136,D$143,FALSE)","v":0},{"$f":"VLOOKUP(Vlookup!$B192,'CDCM Volume Forecasts'!$A$28:$AL$136,E$143,FALSE)","v":0},null,null,{"$f":"VLOOKUP(Vlookup!$B192,'CDCM Volume Forecasts'!$A$28:$AL$136,H$143,FALSE)","v":0}]
["LDNO HV: LV Generation Non-Intermittent",{"$f":"VLOOKUP(Vlookup!$B193,'CDCM Volume Forecasts'!$A$28:$AL$136,B$143,FALSE)","v":0},{"$f":"VLOOKUP(Vlookup!$B193,'CDCM Volume Forecasts'!$A$28:$AL$136,C$143,FALSE)","v":0},{"$f":"VLOOKUP(Vlookup!$B193,'CDCM Volume Forecasts'!$A$28:$AL$136,D$143,FALSE)","v":0},{"$f":"VLOOKUP(Vlookup!$B193,'CDCM Volume Forecasts'!$A$28:$AL$136,E$143,FALSE)","v":0},null,null,{"$f":"VLOOKUP(Vlookup!$B193,'CDCM Volume Forecasts'!$A$28:$AL$136,H$143,FALSE)","v":0}]
["> LV Generation Non-Intermittent no RP charge"]
["LV Generation Non-Intermittent no RP charge",{"$f":"VLOOKUP(Vlookup!$B195,'CDCM Volume Forecasts'!$A$28:$AL$136,B$143,FALSE)","v":0},{"$f":"VLOOKUP(Vlookup!$B195,'CDCM Volume Forecasts'!$A$28:$AL$136,C$143,FALSE)","v":0},{"$f":"VLOOKUP(Vlookup!$B195,'CDCM Volume Forecasts'!$A$28:$AL$136,D$143,FALSE)","v":0},{"$f":"VLOOKUP(Vlookup!$B195,'CDCM Volume Forecasts'!$A$28:$AL$136,E$143,FALSE)","v":0}]
["> LV Sub Generation Intermittent"]
["LV Sub Generation Intermittent",{"$f":"VLOOKUP(Vlookup!$B197,'CDCM Volume Forecasts'!$A$28:$AL$136,B$143,FALSE)","v":3841.6564052142853},null,null,{"$f":"VLOOKUP(Vlookup!$B197,'CDCM Volume Forecasts'!$A$28:$AL$136,E$143,FALSE)","v":31.306393442622948},null,null,{"$f":"VLOOKUP(Vlookup!$B197,'CDCM Volume Forecasts'!$A$28:$AL$136,H$143,FALSE)","v":365.0749339285714}]
["LDNO HV: LV Sub Generation Intermittent",{"$f":"VLOOKUP(Vlookup!$B198,'CDCM Volume Forecasts'!$A$28:$AL$136,B$143,FALSE)","v":0},null,null,{"$f":"VLOOKUP(Vlookup!$B198,'CDCM Volume Forecasts'!$A$28:$AL$136,E$143,FALSE)","v":0},null,null,{"$f":"VLOOKUP(Vlookup!$B198,'CDCM Volume Forecasts'!$A$28:$AL$136,H$143,FALSE)","v":0}]
["> LV Sub Generation Intermittent no RP charge"]
["LV Sub Generation Intermittent no RP charge",{"$f":"VLOOKUP(Vlookup!$B200,'CDCM Volume Forecasts'!$A$28:$AL$136,B$143,FALSE)","v":0},null,null,{"$f":"VLOOKUP(Vlookup!$B200,'CDCM Volume Forecasts'!$A$28:$AL$136,E$143,FALSE)","v":0}]
["> LV Sub Generation Non-Intermittent"]
["LV Sub Generation Non-Intermittent",{"$f":"VLOOKUP(Vlookup!$B202,'CDCM Volume Forecasts'!$A$28:$AL$136,B$143,FALSE)","v":504.40105263481149},{"$f":"VLOOKUP(Vlookup!$B202,'CDCM Volume Forecasts'!$A$28:$AL$136,C$143,FALSE)","v":1662.050757533578},{"$f":"VLOOKUP(Vlookup!$B202,'CDCM Volume Forecasts'!$A$28:$AL$136,D$143,FALSE)","v":3695.4007858319828},{"$f":"VLOOKUP(Vlookup!$B202,'CDCM Volume Forecasts'!$A$28:$AL$136,E$143,FALSE)","v":6.1367981557377052},null,null,{"$f":"VLOOKUP(Vlookup!$B202,'CDCM Volume Forecasts'!$A$28:$AL$136,H$143,FALSE)","v":368.17388015624999}]
["LDNO HV: LV Sub Generation Non-Intermittent",{"$f":"VLOOKUP(Vlookup!$B203,'CDCM Volume Forecasts'!$A$28:$AL$136,B$143,FALSE)","v":0},{"$f":"VLOOKUP(Vlookup!$B203,'CDCM Volume Forecasts'!$A$28:$AL$136,C$143,FALSE)","v":0},{"$f":"VLOOKUP(Vlookup!$B203,'CDCM Volume Forecasts'!$A$28:$AL$136,D$143,FALSE)","v":0},{"$f":"VLOOKUP(Vlookup!$B203,'CDCM Volume Forecasts'!$A$28:$AL$136,E$143,FALSE)","v":0},null,null,{"$f":"VLOOKUP(Vlookup!$B203,'CDCM Volume Forecasts'!$A$28:$AL$136,H$143,FALSE)","v":0}]
["> LV Sub Generation Non-Intermittent no RP charge"]
["LV Sub Generation Non-Intermittent no RP charge",{"$f":"VLOOKUP(Vlookup!$B205,'CDCM Volume Forecasts'!$A$28:$AL$136,B$143,FALSE)","v":0},{"$f":"VLOOKUP(Vlookup!$B205,'CDCM Volume Forecasts'!$A$28:$AL$136,C$143,FALSE)","v":0},{"$f":"VLOOKUP(Vlookup!$B205,'CDCM Volume Forecasts'!$A$28:$AL$136,D$143,FALSE)","v":0},{"$f":"VLOOKUP(Vlookup!$B205,'CDCM Volume Forecasts'!$A$28:$AL$136,E$143,FALSE)","v":0}]
["> HV Generation Intermittent"]
["HV Generation Intermittent",{"$f":"VLOOKUP(Vlookup!$B207,'CDCM Volume Forecasts'!$A$28:$AL$136,B$143,FALSE)","v":479000.82970478572},null,null,{"$f":"VLOOKUP(Vlookup!$B207,'CDCM Volume Forecasts'!$A$28:$AL$136,E$143,FALSE)","v":248.15567213114755},null,null,{"$f":"VLOOKUP(Vlookup!$B207,'CDCM Volume Forecasts'!$A$28:$AL$136,H$143,FALSE)","v":10496.618597785713}]
["LDNO HV: HV Generation Intermittent",{"$f":"VLOOKUP(Vlookup!$B208,'CDCM Volume Forecasts'!$A$28:$AL$136,B$143,FALSE)","v":18.630690000000001},null,null,{"$f":"VLOOKUP(Vlookup!$B208,'CDCM Volume Forecasts'!$A$28:$AL$136,E$143,FALSE)","v":0.6228852459016393},null,null,{"$f":"VLOOKUP(Vlookup!$B208,'CDCM Volume Forecasts'!$A$28:$AL$136,H$143,FALSE)","v":9.1079999999999994E-2}]
["> HV Generation Intermittent no RP charge"]
["HV Generation Intermittent no RP charge",{"$f":"VLOOKUP(Vlookup!$B210,'CDCM Volume Forecasts'!$A$28:$AL$136,B$143,FALSE)","v":0},null,null,{"$f":"VLOOKUP(Vlookup!$B210,'CDCM Volume Forecasts'!$A$28:$AL$136,E$143,FALSE)","v":0}]
["> HV Generation Non-Intermittent"]
["HV Generation Non-Intermittent",{"$f":"VLOOKUP(Vlookup!$B212,'CDCM Volume Forecasts'!$A$28:$AL$136,B$143,FALSE)","v":87733.660045539131},{"$f":"VLOOKUP(Vlookup!$B212,'CDCM Volume Forecasts'!$A$28:$AL$136,C$143,FALSE)","v":276082.28215805581},{"$f":"VLOOKUP(Vlookup!$B212,'CDCM Volume Forecasts'!$A$28:$AL$136,D$143,FALSE)","v":487742.29536974273},{"$f":"VLOOKUP(Vlookup!$B212,'CDCM Volume Forecasts'!$A$28:$AL$136,E$143,FALSE)","v":231.28838422131147},null,null,{"$f":"VLOOKUP(Vlookup!$B212,'CDCM Volume Forecasts'!$A$28:$AL$136,H$143,FALSE)","v":15003.980395031253}]
["LDNO HV: HV Generation Non-Intermittent",{"$f":"VLOOKUP(Vlookup!$B213,'CDCM Volume Forecasts'!$A$28:$AL$136,B$143,FALSE)","v":0},{"$f":"VLOOKUP(Vlookup!$B213,'CDCM Volume Forecasts'!$A$28:$AL$136,C$143,FALSE)","v":0},{"$f":"VLOOKUP(Vlookup!$B213,'CDCM Volume Forecasts'!$A$28:$AL$136,D$143,FALSE)","v":0},{"$f":"VLOOKUP(Vlookup!$B213,'CDCM Volume Forecasts'!$A$28:$AL$136,E$143,FALSE)","v":0},null,null,{"$f":"VLOOKUP(Vlookup!$B213,'CDCM Volume Forecasts'!$A$28:$AL$136,H$143,FALSE)","v":0}]
["> HV Generation Non-Intermittent no RP charge"]
["HV Generation Non-Intermittent no RP charge",{"$f":"VLOOKUP(Vlookup!$B215,'CDCM Volume Forecasts'!$A$28:$AL$136,B$143,FALSE)","v":0},{"$f":"VLOOKUP(Vlookup!$B215,'CDCM Volume Forecasts'!$A$28:$AL$136,C$143,FALSE)","v":0},{"$f":"VLOOKUP(Vlookup!$B215,'CDCM Volume Forecasts'!$A$28:$AL$136,D$143,FALSE)","v":0},{"$f":"VLOOKUP(Vlookup!$B215,'CDCM Volume Forecasts'!$A$28:$AL$136,E$143,FALSE)","v":0}]
[]
["1055. Transmission exit charges (£/year)"]
[""]
["Source: forecast."]
[null,"Transmission\nexit"]
["Transmission exit charges (£/year)",{"$f":"VLOOKUP(Vlookup!B221,'CDCM Forecast Data'!$A$14:$I$271,8,FALSE)","v":16132024.321526736},""]
[]
["1059. Other expenditure"]
[""]
[null,"Direct cost (£/year)","Indirect cost (£/year)","Indirect cost proportion","Network rates (£/year)"]
["Other expenditure",{"$f":"VLOOKUP(Vlookup!B226,'CDCM Forecast Data'!$A$14:$I$271,8,FALSE)","v":38131762.824092738},{"$f":"VLOOKUP(Vlookup!C226,'CDCM Forecast Data'!$A$14:$I$271,8,FALSE)","v":135343789.29402694},{"$f":"VLOOKUP(Vlookup!D226,'CDCM Forecast Data'!$A$14:$I$271,8,FALSE)","v":0.6},{"$f":"VLOOKUP(Vlookup!E226,'CDCM Forecast Data'!$A$14:$I$271,8,FALSE)","v":32354179.52019361},""]
[]
["1060. Customer contributions under current connection charging policy"]
[]
["Source: analysis of expenditure data and/or survey of capital expenditure schemes."]
["Customer contribution percentages by network level of supply and by asset network level."]
["These proportions should reflect the current connection charging method, not necessarily the method that was in place when the connection was built."]
[null,"Assets\n132kV","Assets\n132kV/EHV","Assets\nEHV","Assets\nEHV/HV","Assets\n132kV/HV","Assets\nHV","Assets\nHV/LV","Assets\nLV circuits"]
["LV network",{"$f":"VLOOKUP(Vlookup!B234,'CDCM Forecast Data'!$A$14:$I$271,8,FALSE)","v":0},{"$f":"VLOOKUP(Vlookup!C234,'CDCM Forecast Data'!$A$14:$I$271,8,FALSE)","v":0},{"$f":"VLOOKUP(Vlookup!D234,'CDCM Forecast Data'!$A$14:$I$271,8,FALSE)","v":0},{"$f":"VLOOKUP(Vlookup!E234,'CDCM Forecast Data'!$A$14:$I$271,8,FALSE)","v":0},{"$f":"VLOOKUP(Vlookup!F234,'CDCM Forecast Data'!$A$14:$I$271,8,FALSE)","v":0},{"$f":"VLOOKUP(Vlookup!G234,'CDCM Forecast Data'!$A$14:$I$271,8,FALSE)","v":0.47913351897273304},{"$f":"VLOOKUP(Vlookup!H234,'CDCM Forecast Data'!$A$14:$I$271,8,FALSE)","v":0.70892384564689981},{"$f":"VLOOKUP(Vlookup!I234,'CDCM Forecast Data'!$A$14:$I$271,8,FALSE)","v":0.93871417232106646},""]
["LV substation",{"$f":"VLOOKUP(Vlookup!B235,'CDCM Forecast Data'!$A$14:$I$271,8,FALSE)","v":0},{"$f":"VLOOKUP(Vlookup!C235,'CDCM Forecast Data'!$A$14:$I$271,8,FALSE)","v":0},{"$f":"VLOOKUP(Vlookup!D235,'CDCM Forecast Data'!$A$14:$I$271,8,FALSE)","v":0},{"$f":"VLOOKUP(Vlookup!E235,'CDCM Forecast Data'!$A$14:$I$271,8,FALSE)","v":0},{"$f":"VLOOKUP(Vlookup!F235,'CDCM Forecast Data'!$A$14:$I$271,8,FALSE)","v":0},{"$f":"VLOOKUP(Vlookup!G235,'CDCM Forecast Data'!$A$14:$I$271,8,FALSE)","v":0.47913351897273304},{"$f":"VLOOKUP(Vlookup!H235,'CDCM Forecast Data'!$A$14:$I$271,8,FALSE)","v":0.70892384564689981},null,""]
["HV network",{"$f":"VLOOKUP(Vlookup!B236,'CDCM Forecast Data'!$A$14:$I$271,8,FALSE)","v":0},{"$f":"VLOOKUP(Vlookup!C236,'CDCM Forecast Data'!$A$14:$I$271,8,FALSE)","v":0},{"$f":"VLOOKUP(Vlookup!D236,'CDCM Forecast Data'!$A$14:$I$271,8,FALSE)","v":6.5420049562801799E-2},{"$f":"VLOOKUP(Vlookup!E236,'CDCM Forecast Data'!$A$14:$I$271,8,FALSE)","v":0.35162962287700078},{"$f":"VLOOKUP(Vlookup!F236,'CDCM Forecast Data'!$A$14:$I$271,8,FALSE)","v":0.35162962287700078},{"$f":"VLOOKUP(Vlookup!G236,'CDCM Forecast Data'!$A$14:$I$271,8,FALSE)","v":0.63783919619119978},null,null,""]
["HV substation",{"$f":"VLOOKUP(Vlookup!B237,'CDCM Forecast Data'!$A$14:$I$271,8,FALSE)","v":0},{"$f":"VLOOKUP(Vlookup!C237,'CDCM Forecast Data'!$A$14:$I$271,8,FALSE)","v":0},{"$f":"VLOOKUP(Vlookup!D237,'CDCM Forecast Data'!$A$14:$I$271,8,FALSE)","v":6.5420049562801799E-2},{"$f":"VLOOKUP(Vlookup!E237,'CDCM Forecast Data'!$A$14:$I$271,8,FALSE)","v":0.35162962287700078},null,null,null,null,""]
[]
["1061. Average split of rate 1 units by distribution time band"]
[]
[null,"Red","Amber","Green"]
["Domestic Unrestricted",{"$f":"VLOOKUP(Vlookup!B247,'CDCM Forecast Data'!$A$14:$I$271,8,FALSE)","v":0.14320337799237601},{"$f":"VLOOKUP(Vlookup!C247,'CDCM Forecast Data'!$A$14:$I$271,8,FALSE)","v":0.39651561494177523},{"$f":"VLOOKUP(Vlookup!D247,'CDCM Forecast Data'!$A$14:$I$271,8,FALSE)","v":0.46028100706584879},""]
["Domestic Two Rate",{"$f":"VLOOKUP(Vlookup!B248,'CDCM Forecast Data'!$A$14:$I$271,8,FALSE)","v":0.1514252192479435},{"$f":"VLOOKUP(Vlookup!C248,'CDCM Forecast Data'!$A$14:$I$271,8,FALSE)","v":0.41991396852294577},{"$f":"VLOOKUP(Vlookup!D248,'CDCM Forecast Data'!$A$14:$I$271,8,FALSE)","v":0.42866081222911073},""]
["Domestic Off Peak (related MPAN)",{"$f":"VLOOKUP(Vlookup!B249,'CDCM Forecast Data'!$A$14:$I$271,8,FALSE)","v":4.4815359759835215E-2},{"$f":"VLOOKUP(Vlookup!C249,'CDCM Forecast Data'!$A$14:$I$271,8,FALSE)","v":0.32491376716050352},{"$f":"VLOOKUP(Vlookup!D249,'CDCM Forecast Data'!$A$14:$I$271,8,FALSE)","v":0.63027087307966123}]
["Small Non Domestic Unrestricted",{"$f":"VLOOKUP(Vlookup!B250,'CDCM Forecast Data'!$A$14:$I$271,8,FALSE)","v":0.12448955251915084},{"$f":"VLOOKUP(Vlookup!C250,'CDCM Forecast Data'!$A$14:$I$271,8,FALSE)","v":0.54839946451589383},{"$f":"VLOOKUP(Vlookup!D250,'CDCM Forecast Data'!$A$14:$I$271,8,FALSE)","v":0.32711098296495528}]
["Small Non Domestic Two Rate",{"$f":"VLOOKUP(Vlookup!B251,'CDCM Forecast Data'!$A$14:$I$271,8,FALSE)","v":0.12789989767459184},{"$f":"VLOOKUP(Vlookup!C251,'CDCM Forecast Data'!$A$14:$I$271,8,FALSE)","v":0.51407192992762296},{"$f":"VLOOKUP(Vlookup!D251,'CDCM Forecast Data'!$A$14:$I$271,8,FALSE)","v":0.35802817239778517},""]
["Small Non Domestic Off Peak (related MPAN)",{"$f":"VLOOKUP(Vlookup!B252,'CDCM Forecast Data'!$A$14:$I$271,8,FALSE)","v":1.6662746927756659E-2},{"$f":"VLOOKUP(Vlookup!C252,'CDCM Forecast Data'!$A$14:$I$271,8,FALSE)","v":0.18539360436192651},{"$f":"VLOOKUP(Vlookup!D252,'CDCM Forecast Data'!$A$14:$I$271,8,FALSE)","v":0.79794364871031676},""]
["LV Medium Non-Domestic",{"$f":"VLOOKUP(Vlookup!B253,'CDCM Forecast Data'!$A$14:$I$271,8,FALSE)","v":0.13578714746948006},{"$f":"VLOOKUP(Vlookup!C253,'CDCM Forecast Data'!$A$14:$I$271,8,FALSE)","v":0.52737188616472797},{"$f":"VLOOKUP(Vlookup!D253,'CDCM Forecast Data'!$A$14:$I$271,8,FALSE)","v":0.33684096636579203},""]
["LV Sub Medium Non-Domestic",{"$f":"VLOOKUP(Vlookup!B254,'CDCM Forecast Data'!$A$14:$I$271,8,FALSE)","v":0.13396894905730031},{"$f":"VLOOKUP(Vlookup!C254,'CDCM Forecast Data'!$A$14:$I$271,8,FALSE)","v":0.52405310526112514},{"$f":"VLOOKUP(Vlookup!D254,'CDCM Forecast Data'!$A$14:$I$271,8,FALSE)","v":0.34197794568157458},""]
["HV Medium Non-Domestic",{"$f":"VLOOKUP(Vlookup!B255,'CDCM Forecast Data'!$A$14:$I$271,8,FALSE)","v":0.13341246842462706},{"$f":"VLOOKUP(Vlookup!C255,'CDCM Forecast Data'!$A$14:$I$271,8,FALSE)","v":0.54105928671962722},{"$f":"VLOOKUP(Vlookup!D255,'CDCM Forecast Data'!$A$14:$I$271,8,FALSE)","v":0.32552824485574577},""]
[]
["1062. Average split of rate 2 units by distribution time band"]
[]
[null,"Red","Amber","Green"]
["Domestic Two Rate",{"$f":"VLOOKUP(Vlookup!B263,'CDCM Forecast Data'!$A$14:$I$271,8,FALSE)","v":0},{"$f":"VLOOKUP(Vlookup!C263,'CDCM Forecast Data'!$A$14:$I$271,8,FALSE)","v":0},{"$f":"VLOOKUP(Vlookup!D263,'CDCM Forecast Data'!$A$14:$I$271,8,FALSE)","v":1},""]
["Small Non Domestic Two Rate",{"$f":"VLOOKUP(Vlookup!B264,'CDCM Forecast Data'!$A$14:$I$271,8,FALSE)","v":0},{"$f":"VLOOKUP(Vlookup!C264,'CDCM Forecast Data'!$A$14:$I$271,8,FALSE)","v":0},{"$f":"VLOOKUP(Vlookup!D264,'CDCM Forecast Data'!$A$14:$I$271,8,FALSE)","v":1},""]
["LV Medium Non-Domestic",{"$f":"VLOOKUP(Vlookup!B265,'CDCM Forecast Data'!$A$14:$I$271,8,FALSE)","v":0},{"$f":"VLOOKUP(Vlookup!C265,'CDCM Forecast Data'!$A$14:$I$271,8,FALSE)","v":0},{"$f":"VLOOKUP(Vlookup!D265,'CDCM Forecast Data'!$A$14:$I$271,8,FALSE)","v":1},""]
["LV Sub Medium Non-Domestic",{"$f":"VLOOKUP(Vlookup!B266,'CDCM Forecast Data'!$A$14:$I$271,8,FALSE)","v":0},{"$f":"VLOOKUP(Vlookup!C266,'CDCM Forecast Data'!$A$14:$I$271,8,FALSE)","v":0},{"$f":"VLOOKUP(Vlookup!D266,'CDCM Forecast Data'!$A$14:$I$271,8,FALSE)","v":1},""]
["HV Medium Non-Domestic",{"$f":"VLOOKUP(Vlookup!B267,'CDCM Forecast Data'!$A$14:$I$271,8,FALSE)","v":0},{"$f":"VLOOKUP(Vlookup!C267,'CDCM Forecast Data'!$A$14:$I$271,8,FALSE)","v":0},{"$f":"VLOOKUP(Vlookup!D267,'CDCM Forecast Data'!$A$14:$I$271,8,FALSE)","v":1},""]
[]
["1064. Average split of rate 1 units by special distribution time band"]
[]
[null,"Black","Yellow","Green",""]
["NHH UMS category A",{"$f":"VLOOKUP(Vlookup!B272,'CDCM Forecast Data'!$A$14:$I$271,8,FALSE)","v":2.9311076178356665E-2},{"$f":"VLOOKUP(Vlookup!C272,'CDCM Forecast Data'!$A$14:$I$271,8,FALSE)","v":0.37306092022856002},{"$f":"VLOOKUP(Vlookup!D272,'CDCM Forecast Data'!$A$14:$I$271,8,FALSE)","v":0.59762800359308332},""]
["NHH UMS category B",{"$f":"VLOOKUP(Vlookup!B273,'CDCM Forecast Data'!$A$14:$I$271,8,FALSE)","v":5.0432747136262314E-2},{"$f":"VLOOKUP(Vlookup!C273,'CDCM Forecast Data'!$A$14:$I$271,8,FALSE)","v":9.024866969588996E-2},{"$f":"VLOOKUP(Vlookup!D273,'CDCM Forecast Data'!$A$14:$I$271,8,FALSE)","v":0.8593185831678477},""]
["NHH UMS category C",{"$f":"VLOOKUP(Vlookup!B274,'CDCM Forecast Data'!$A$14:$I$271,8,FALSE)","v":9.6185231748668151E-2},{"$f":"VLOOKUP(Vlookup!C274,'CDCM Forecast Data'!$A$14:$I$271,8,FALSE)","v":0.16334039820901594},{"$f":"VLOOKUP(Vlookup!D274,'CDCM Forecast Data'!$A$14:$I$271,8,FALSE)","v":0.74047437004231587},""]
["NHH UMS category D",{"$f":"VLOOKUP(Vlookup!B275,'CDCM Forecast Data'!$A$14:$I$271,8,FALSE)","v":8.830567560272817E-3},{"$f":"VLOOKUP(Vlookup!C275,'CDCM Forecast Data'!$A$14:$I$271,8,FALSE)","v":0.63540611125889146},{"$f":"VLOOKUP(Vlookup!D275,'CDCM Forecast Data'!$A$14:$I$271,8,FALSE)","v":0.35576332118083581},""]
[]
["1066. Typical annual hours by special distribution time band"]
["Source: definition of distribution time bands."]
["The figures in this table will be automatically adjusted to match the number of days in the charging period."]
[]
[null,"Black","Yellow","Green"]
["Annual hours",{"$f":"VLOOKUP(Vlookup!B282,'CDCM Forecast Data'!$A$14:$I$271,8,FALSE)","v":258},{"$f":"VLOOKUP(Vlookup!C282,'CDCM Forecast Data'!$A$14:$I$271,8,FALSE)","v":3265.5},{"$f":"VLOOKUP(Vlookup!D282,'CDCM Forecast Data'!$A$14:$I$271,8,FALSE)","v":5236.5},""]
[]
["1068. Typical annual hours by distribution time band"]
[]
["Source: definition of distribution time bands."]
["The figures in this table will be automatically adjusted to match the number of days in the charging period."]
[null,"Red","Amber","Green"]
["Annual hours",{"$f":"VLOOKUP(Vlookup!B289,'CDCM Forecast Data'!$A$14:$I$271,8,FALSE)","v":783},{"$f":"VLOOKUP(Vlookup!C289,'CDCM Forecast Data'!$A$14:$I$271,8,FALSE)","v":2740.5},{"$f":"VLOOKUP(Vlookup!D289,'CDCM Forecast Data'!$A$14:$I$271,8,FALSE)","v":5236.5},""]
[]
["1069. Peaking probabilities by network level"]
[]
[]
["Source: analysis of network operation data."]
[null,"Red","Amber","Green","Black"]
["GSPs",{"$f":"VLOOKUP(Vlookup!B295,'CDCM Forecast Data'!$A$14:$I$271,8,FALSE)","v":1},{"$f":"VLOOKUP(Vlookup!C295,'CDCM Forecast Data'!$A$14:$I$271,8,FALSE)","v":0},{"$f":"VLOOKUP(Vlookup!D295,'CDCM Forecast Data'!$A$14:$I$271,8,FALSE)","v":0},{"$f":"VLOOKUP(Vlookup!E295,'CDCM Forecast Data'!$A$14:$I$271,8,FALSE)","v":1},""]
["132kV",{"$f":"VLOOKUP(Vlookup!B296,'CDCM Forecast Data'!$A$14:$I$271,8,FALSE)","v":0.78083657486560021},{"$f":"VLOOKUP(Vlookup!C296,'CDCM Forecast Data'!$A$14:$I$271,8,FALSE)","v":0.20804160459605281},{"$f":"VLOOKUP(Vlookup!D296,'CDCM Forecast Data'!$A$14:$I$271,8,FALSE)","v":1.1121820538347099E-2},{"$f":"VLOOKUP(Vlookup!E296,'CDCM Forecast Data'!$A$14:$I$271,8,FALSE)","v":0.76764541372159689},""]
["132kV/EHV",{"$f":"VLOOKUP(Vlookup!B297,'CDCM Forecast Data'!$A$14:$I$271,8,FALSE)","v":0.78083657486560021},{"$f":"VLOOKUP(Vlookup!C297,'CDCM Forecast Data'!$A$14:$I$271,8,FALSE)","v":0.20804160459605281},{"$f":"VLOOKUP(Vlookup!D297,'CDCM Forecast Data'!$A$14:$I$271,8,FALSE)","v":1.1121820538347099E-2},{"$f":"VLOOKUP(Vlookup!E297,'CDCM Forecast Data'!$A$14:$I$271,8,FALSE)","v":0.76764541372159689},""]
["EHV",{"$f":"VLOOKUP(Vlookup!B298,'CDCM Forecast Data'!$A$14:$I$271,8,FALSE)","v":0.66321603936627416},{"$f":"VLOOKUP(Vlookup!C298,'CDCM Forecast Data'!$A$14:$I$271,8,FALSE)","v":0.29786987200550125},{"$f":"VLOOKUP(Vlookup!D298,'CDCM Forecast Data'!$A$14:$I$271,8,FALSE)","v":3.8914088628224541E-2},{"$f":"VLOOKUP(Vlookup!E298,'CDCM Forecast Data'!$A$14:$I$271,8,FALSE)","v":0.65256034025485976},""]
["EHV/HV",{"$f":"VLOOKUP(Vlookup!B299,'CDCM Forecast Data'!$A$14:$I$271,8,FALSE)","v":0.66321603936627416},{"$f":"VLOOKUP(Vlookup!C299,'CDCM Forecast Data'!$A$14:$I$271,8,FALSE)","v":0.29786987200550125},{"$f":"VLOOKUP(Vlookup!D299,'CDCM Forecast Data'!$A$14:$I$271,8,FALSE)","v":3.8914088628224541E-2},{"$f":"VLOOKUP(Vlookup!E299,'CDCM Forecast Data'!$A$14:$I$271,8,FALSE)","v":0.65256034025485976},""]
["132kV/HV",{"$f":"VLOOKUP(Vlookup!B300,'CDCM Forecast Data'!$A$14:$I$271,8,FALSE)","v":0.78083657486560021},{"$f":"VLOOKUP(Vlookup!C300,'CDCM Forecast Data'!$A$14:$I$271,8,FALSE)","v":0.20804160459605281},{"$f":"VLOOKUP(Vlookup!D300,'CDCM Forecast Data'!$A$14:$I$271,8,FALSE)","v":1.1121820538347099E-2},{"$f":"VLOOKUP(Vlookup!E300,'CDCM Forecast Data'!$A$14:$I$271,8,FALSE)","v":0.76764541372159689},""]
["HV",{"$f":"VLOOKUP(Vlookup!B301,'CDCM Forecast Data'!$A$14:$I$271,8,FALSE)","v":0.66321603936627416},{"$f":"VLOOKUP(Vlookup!C301,'CDCM Forecast Data'!$A$14:$I$271,8,FALSE)","v":0.29786987200550125},{"$f":"VLOOKUP(Vlookup!D301,'CDCM Forecast Data'!$A$14:$I$271,8,FALSE)","v":3.8914088628224541E-2},{"$f":"VLOOKUP(Vlookup!E301,'CDCM Forecast Data'!$A$14:$I$271,8,FALSE)","v":0.65256034025485976},""]
["HV/LV",{"$f":"VLOOKUP(Vlookup!B302,'CDCM Forecast Data'!$A$14:$I$271,8,FALSE)","v":0.66321603936627416},{"$f":"VLOOKUP(Vlookup!C302,'CDCM Forecast Data'!$A$14:$I$271,8,FALSE)","v":0.29786987200550125},{"$f":"VLOOKUP(Vlookup!D302,'CDCM Forecast Data'!$A$14:$I$271,8,FALSE)","v":3.8914088628224541E-2},{"$f":"VLOOKUP(Vlookup!E302,'CDCM Forecast Data'!$A$14:$I$271,8,FALSE)","v":0.65256034025485976},""]
["LV circuits",{"$f":"VLOOKUP(Vlookup!B303,'CDCM Forecast Data'!$A$14:$I$271,8,FALSE)","v":0.66321603936627416},{"$f":"VLOOKUP(Vlookup!C303,'CDCM Forecast Data'!$A$14:$I$271,8,FALSE)","v":0.29786987200550125},{"$f":"VLOOKUP(Vlookup!D303,'CDCM Forecast Data'!$A$14:$I$271,8,FALSE)","v":3.8914088628224541E-2},{"$f":"VLOOKUP(Vlookup!E303,'CDCM Forecast Data'!$A$14:$I$271,8,FALSE)","v":0.65256034025485976},""]
[]
["1076. Target CDCM net revenue (£/year)"]
["Source: mostly forecasts and price control formulae."]
[]
[null,"Target CDCM net revenue (£/year)"]
["Target CDCM net revenue (£/year)",{"$f":"1000000*'Table 1'!I48","v":514392476.52385861}]
[]
["1092. Average kVAr by kVA, by network level"]
[""]
["Source: analysis of operational data."]
["This is the average of MVAr/MVA or SQRT(1-PF^2) across relevant network elements."]
[null,"GSPs","132kV","132kV/EHV","EHV","EHV/HV","132kV/HV","HV","HV/LV","LV circuits"]
["Average kVAr by kVA, by network level",{"$f":"VLOOKUP(Vlookup!B310,'CDCM Forecast Data'!$A$14:$I$271,8,FALSE)","v":0.17488998364096539},{"$f":"VLOOKUP(Vlookup!C310,'CDCM Forecast Data'!$A$14:$I$271,8,FALSE)","v":0.17488998364096539},{"$f":"VLOOKUP(Vlookup!D310,'CDCM Forecast Data'!$A$14:$I$271,8,FALSE)","v":0.17488998364096539},{"$f":"VLOOKUP(Vlookup!E310,'CDCM Forecast Data'!$A$14:$I$271,8,FALSE)","v":0.17488998364096539},{"$f":"VLOOKUP(Vlookup!F310,'CDCM Forecast Data'!$A$14:$I$271,8,FALSE)","v":0.17488998364096539},{"$f":"VLOOKUP(Vlookup!G310,'CDCM Forecast Data'!$A$14:$I$271,8,FALSE)","v":0.17488998364096539},{"$f":"VLOOKUP(Vlookup!H310,'CDCM Forecast Data'!$A$14:$I$271,8,FALSE)","v":0.17488998364096539},{"$f":"VLOOKUP(Vlookup!I310,'CDCM Forecast Data'!$A$14:$I$271,8,FALSE)","v":0.17488998364096539},{"$f":"VLOOKUP(Vlookup!J310,'CDCM Forecast Data'!$A$14:$I$271,8,FALSE)","v":0.17488998364096539},""]

{"sheet":"(Y+4)","index":12,"n_rows":350,"n_cols":11,"rows_kept":350,"cut":false,"hidden":false,"merged":[]}
["Input data (Y+4)"]
[]
[]
["1000. Company, charging year, data version"]
[""]
[null,"Company","Year","Version"]
["Company, charging year, data version",{"$f":"VLOOKUP(Vlookup!B7,'CDCM Forecast Data'!$A$14:$I$271,9,FALSE)","v":"WPD East Midlands"},{"$f":"VLOOKUP(Vlookup!C7,'CDCM Forecast Data'!$A$14:$I$271,9,FALSE)","v":"2023/24"},{"$f":"VLOOKUP(Vlookup!D7,'CDCM Forecast Data'!$A$14:$I$271,9,FALSE)","v":"Forecast"},""]
[]
["1010. Financial and general assumptions"]
[]
["Sources: financial assumptions; calendar; network model."]
["These financial assumptions determine the annuity rate applied to convert the asset values of the network model into an annual charge."]
[null,"Rate of return","Annualisation period (years)","Annuity proportion for customer-contributed assets","Power factor","Days in the charging period"]
["Financial and general assumptions",{"$f":"VLOOKUP(Vlookup!B14,'CDCM Forecast Data'!$A$14:$I$271,9,FALSE)","v":4.2099999999999999E-2},{"$f":"VLOOKUP(Vlookup!C14,'CDCM Forecast Data'!$A$14:$I$271,9,FALSE)","v":40},null,{"$f":"VLOOKUP(Vlookup!E14,'CDCM Forecast Data'!$A$14:$I$271,9,FALSE)","v":0.95},{"$f":"VLOOKUP(Vlookup!F14,'CDCM Forecast Data'!$A$14:$I$271,9,FALSE)","v":366},""]
[]
["1017. Diversity allowance between top and bottom of network level"]
[]
["Source: operational data analysis and/or network model."]
["The diversity figure against GSP is the diversity between GSP Group (the whole system) and individual GSPs."]
["The diversity figure against 132kV is the diversity between GSPs (the top of the 132kV network) and 132kV/EHV bulk supply points (the bottom of the 132kV network). "]
["The diversity figure against EHV is the diversity between 132kV/EHV bulk supply points (the top of the EHV network) and EHV/HV primary substations (the bottom of the EHV network). "]
["The diversity figure against HV is the diversity between EHV/HV primary substations (the top of the HV network) and HV/LV substations (the bottom of the HV network). "]
[null,"Diversity allowance between top and bottom of network level"]
["GSPs",{"$f":"VLOOKUP(Vlookup!B24,'CDCM Forecast Data'!$A$14:$I$271,9,FALSE)","v":2.4713742436156094E-2},""]
["132kV",{"$f":"VLOOKUP(Vlookup!B25,'CDCM Forecast Data'!$A$14:$I$271,9,FALSE)","v":4.5013478235986115E-2},""]
["132kV/EHV",null,""]
["EHV",{"$f":"VLOOKUP(Vlookup!B27,'CDCM Forecast Data'!$A$14:$I$271,9,FALSE)","v":7.9017642685410783E-2},""]
["EHV/HV",null,""]
["HV",{"$f":"VLOOKUP(Vlookup!B29,'CDCM Forecast Data'!$A$14:$I$271,9,FALSE)","v":0.34000000000000008},""]
["HV/LV",null,""]
["LV circuits",null,""]
[]
["1018. Proportion of relevant load going through 132kV/HV direct transformation"]
[""]
[null,"132kV/HV"]
["EHV/HV",{"$f":"VLOOKUP(Vlookup!B36,'CDCM Forecast Data'!$A$14:$I$271,9,FALSE)","v":7.5044342711319545E-2},""]
[]
["1019. Network model GSP peak demand (MW)"]
[]
[null,"Network model GSP peak demand (MW)"]
["Network model GSP peak demand (MW)",{"$f":"VLOOKUP(Vlookup!B41,'CDCM Forecast Data'!$A$14:$I$271,9,FALSE)","v":500},""]
[]
["1020. Gross asset cost by network level (£)"]
[]
[null,"Gross assets £"]
["132kV",{"$f":"VLOOKUP(Vlookup!B46,'CDCM Forecast Data'!$A$14:$I$271,9,FALSE)","v":63922069.322879605},""]
["132kV/EHV",{"$f":"VLOOKUP(Vlookup!B47,'CDCM Forecast Data'!$A$14:$I$271,9,FALSE)","v":32483734.625675354},""]
["EHV",{"$f":"VLOOKUP(Vlookup!B48,'CDCM Forecast Data'!$A$14:$I$271,9,FALSE)","v":39706318.442629918},""]
["EHV/HV",{"$f":"VLOOKUP(Vlookup!B49,'CDCM Forecast Data'!$A$14:$I$271,9,FALSE)","v":64458932.949790671},""]
["132kV/HV",{"$f":"VLOOKUP(Vlookup!B50,'CDCM Forecast Data'!$A$14:$I$271,9,FALSE)","v":5406222.0271159541},""]
["HV",{"$f":"VLOOKUP(Vlookup!B51,'CDCM Forecast Data'!$A$14:$I$271,9,FALSE)","v":152943759.58280894},""]
["HV/LV",{"$f":"VLOOKUP(Vlookup!B52,'CDCM Forecast Data'!$A$14:$I$271,9,FALSE)","v":69133288.284672767},""]
["LV circuits",{"$f":"VLOOKUP(Vlookup!B53,'CDCM Forecast Data'!$A$14:$I$271,9,FALSE)","v":134541677.71354267},""]
[]
["1022. LV service model asset cost (£)"]
[]
[null,"LV service model 1","LV service model 2","LV service model 3","LV service model 4","LV service model 5","LV service model 6","LV service model 7","LV service model 8"]
["LV service model asset cost (£)",{"$f":"VLOOKUP(Vlookup!B58,'CDCM Forecast Data'!$A$14:$I$271,9,FALSE)","v":4928.1237342956538},{"$f":"VLOOKUP(Vlookup!C58,'CDCM Forecast Data'!$A$14:$I$271,9,FALSE)","v":751.35737005855106},{"$f":"VLOOKUP(Vlookup!D58,'CDCM Forecast Data'!$A$14:$I$271,9,FALSE)","v":869.00697295072496},{"$f":"VLOOKUP(Vlookup!E58,'CDCM Forecast Data'!$A$14:$I$271,9,FALSE)","v":630.65950121043488},{"$f":"VLOOKUP(Vlookup!F58,'CDCM Forecast Data'!$A$14:$I$271,9,FALSE)","v":1391.3724556224931},{"$f":"VLOOKUP(Vlookup!G58,'CDCM Forecast Data'!$A$14:$I$271,9,FALSE)","v":1086.1632694956525},{"$f":"VLOOKUP(Vlookup!H58,'CDCM Forecast Data'!$A$14:$I$271,9,FALSE)","v":0},{"$f":"VLOOKUP(Vlookup!I58,'CDCM Forecast Data'!$A$14:$I$271,9,FALSE)","v":594.4661153182609},""]
[]
["1023. HV service model asset cost (£)"]
[]
[null,"HV service model 1","HV service model 2","HV service model 3","HV service model 4","HV service model 5"]
["HV service model asset cost (£)",{"$f":"VLOOKUP(Vlookup!B63,'CDCM Forecast Data'!$A$14:$I$271,9,FALSE)","v":11730.273956368697},{"$f":"VLOOKUP(Vlookup!C63,'CDCM Forecast Data'!$A$14:$I$271,9,FALSE)","v":4822.5697391304357},{"$f":"VLOOKUP(Vlookup!D63,'CDCM Forecast Data'!$A$14:$I$271,9,FALSE)","v":0},{"$f":"VLOOKUP(Vlookup!E63,'CDCM Forecast Data'!$A$14:$I$271,9,FALSE)","v":0},{"$f":"VLOOKUP(Vlookup!F63,'CDCM Forecast Data'!$A$14:$I$271,9,FALSE)","v":0},""]
[]
["1025. Matrix of applicability of LV service models to tariffs with fixed charges"]
[null,34,{"$f":"B66+1","v":35},36,37,38,39,40,41]
[null,"LV service model 1","LV service model 2","LV service model 3","LV service model 4","LV service model 5","LV service model 6","LV service model 7","LV service model 8"]
["Domestic Unrestricted",{"$f":"VLOOKUP($A68,'Mat of App'!$B$7:$AP$43,B$66,FALSE)","v":0.05},{"$f":"VLOOKUP($A68,'Mat of App'!$B$7:$AP$43,C$66,FALSE)","v":0},{"$f":"VLOOKUP($A68,'Mat of App'!$B$7:$AP$43,D$66,FALSE)","v":0},{"$f":"VLOOKUP($A68,'Mat of App'!$B$7:$AP$43,E$66,FALSE)","v":0},{"$f":"VLOOKUP($A68,'Mat of App'!$B$7:$AP$43,F$66,FALSE)","v":0},{"$f":"VLOOKUP($A68,'Mat of App'!$B$7:$AP$43,G$66,FALSE)","v":0},{"$f":"VLOOKUP($A68,'Mat of App'!$B$7:$AP$43,H$66,FALSE)","v":0},{"$f":"VLOOKUP($A68,'Mat of App'!$B$7:$AP$43,I$66,FALSE)","v":0},""]
["Domestic Two Rate",{"$f":"VLOOKUP($A69,'Mat of App'!$B$7:$AP$43,B$66,FALSE)","v":0.05},{"$f":"VLOOKUP($A69,'Mat of App'!$B$7:$AP$43,C$66,FALSE)","v":0},{"$f":"VLOOKUP($A69,'Mat of App'!$B$7:$AP$43,D$66,FALSE)","v":0},{"$f":"VLOOKUP($A69,'Mat of App'!$B$7:$AP$43,E$66,FALSE)","v":0},{"$f":"VLOOKUP($A69,'Mat of App'!$B$7:$AP$43,F$66,FALSE)","v":0},{"$f":"VLOOKUP($A69,'Mat of App'!$B$7:$AP$43,G$66,FALSE)","v":0},{"$f":"VLOOKUP($A69,'Mat of App'!$B$7:$AP$43,H$66,FALSE)","v":0},{"$f":"VLOOKUP($A69,'Mat of App'!$B$7:$AP$43,I$66,FALSE)","v":0},""]
["Small Non Domestic Unrestricted",{"$f":"VLOOKUP($A70,'Mat of App'!$B$7:$AP$43,B$66,FALSE)","v":0},{"$f":"VLOOKUP($A70,'Mat of App'!$B$7:$AP$43,C$66,FALSE)","v":1},{"$f":"VLOOKUP($A70,'Mat of App'!$B$7:$AP$43,D$66,FALSE)","v":0},{"$f":"VLOOKUP($A70,'Mat of App'!$B$7:$AP$43,E$66,FALSE)","v":0},{"$f":"VLOOKUP($A70,'Mat of App'!$B$7:$AP$43,F$66,FALSE)","v":0},{"$f":"VLOOKUP($A70,'Mat of App'!$B$7:$AP$43,G$66,FALSE)","v":0},{"$f":"VLOOKUP($A70,'Mat of App'!$B$7:$AP$43,H$66,FALSE)","v":0},{"$f":"VLOOKUP($A70,'Mat of App'!$B$7:$AP$43,I$66,FALSE)","v":0},""]
["Small Non Domestic Two Rate",{"$f":"VLOOKUP($A71,'Mat of App'!$B$7:$AP$43,B$66,FALSE)","v":0},{"$f":"VLOOKUP($A71,'Mat of App'!$B$7:$AP$43,C$66,FALSE)","v":1},{"$f":"VLOOKUP($A71,'Mat of App'!$B$7:$AP$43,D$66,FALSE)","v":0},{"$f":"VLOOKUP($A71,'Mat of App'!$B$7:$AP$43,E$66,FALSE)","v":0},{"$f":"VLOOKUP($A71,'Mat of App'!$B$7:$AP$43,F$66,FALSE)","v":0},{"$f":"VLOOKUP($A71,'Mat of App'!$B$7:$AP$43,G$66,FALSE)","v":0},{"$f":"VLOOKUP($A71,'Mat of App'!$B$7:$AP$43,H$66,FALSE)","v":0},{"$f":"VLOOKUP($A71,'Mat of App'!$B$7:$AP$43,I$66,FALSE)","v":0},""]
["LV Medium Non-Domestic",{"$f":"VLOOKUP($A72,'Mat of App'!$B$7:$AP$43,B$66,FALSE)","v":0},{"$f":"VLOOKUP($A72,'Mat of App'!$B$7:$AP$43,C$66,FALSE)","v":0},{"$f":"VLOOKUP($A72,'Mat of App'!$B$7:$AP$43,D$66,FALSE)","v":1},{"$f":"VLOOKUP($A72,'Mat of App'!$B$7:$AP$43,E$66,FALSE)","v":0},{"$f":"VLOOKUP($A72,'Mat of App'!$B$7:$AP$43,F$66,FALSE)","v":0},{"$f":"VLOOKUP($A72,'Mat of App'!$B$7:$AP$43,G$66,FALSE)","v":0},{"$f":"VLOOKUP($A72,'Mat of App'!$B$7:$AP$43,H$66,FALSE)","v":0},{"$f":"VLOOKUP($A72,'Mat of App'!$B$7:$AP$43,I$66,FALSE)","v":0}]
["LV Sub Medium Non-Domestic",{"$f":"VLOOKUP($A73,'Mat of App'!$B$7:$AP$43,B$66,FALSE)","v":0},{"$f":"VLOOKUP($A73,'Mat of App'!$B$7:$AP$43,C$66,FALSE)","v":0},{"$f":"VLOOKUP($A73,'Mat of App'!$B$7:$AP$43,D$66,FALSE)","v":0},{"$f":"VLOOKUP($A73,'Mat of App'!$B$7:$AP$43,E$66,FALSE)","v":1},{"$f":"VLOOKUP($A73,'Mat of App'!$B$7:$AP$43,F$66,FALSE)","v":0},{"$f":"VLOOKUP($A73,'Mat of App'!$B$7:$AP$43,G$66,FALSE)","v":0},{"$f":"VLOOKUP($A73,'Mat of App'!$B$7:$AP$43,H$66,FALSE)","v":0},{"$f":"VLOOKUP($A73,'Mat of App'!$B$7:$AP$43,I$66,FALSE)","v":0}]
["LV Network Domestic",{"$f":"VLOOKUP($A74,'Mat of App'!$B$7:$AP$43,B$66,FALSE)","v":0.05},{"$f":"VLOOKUP($A74,'Mat of App'!$B$7:$AP$43,C$66,FALSE)","v":0},{"$f":"VLOOKUP($A74,'Mat of App'!$B$7:$AP$43,D$66,FALSE)","v":0},{"$f":"VLOOKUP($A74,'Mat of App'!$B$7:$AP$43,E$66,FALSE)","v":0},{"$f":"VLOOKUP($A74,'Mat of App'!$B$7:$AP$43,F$66,FALSE)","v":0},{"$f":"VLOOKUP($A74,'Mat of App'!$B$7:$AP$43,G$66,FALSE)","v":0},{"$f":"VLOOKUP($A74,'Mat of App'!$B$7:$AP$43,H$66,FALSE)","v":0},{"$f":"VLOOKUP($A74,'Mat of App'!$B$7:$AP$43,I$66,FALSE)","v":0},""]
["LV Network Non-Domestic Non-CT",{"$f":"VLOOKUP($A75,'Mat of App'!$B$7:$AP$43,B$66,FALSE)","v":0},{"$f":"VLOOKUP($A75,'Mat of App'!$B$7:$AP$43,C$66,FALSE)","v":1},{"$f":"VLOOKUP($A75,'Mat of App'!$B$7:$AP$43,D$66,FALSE)","v":0},{"$f":"VLOOKUP($A75,'Mat of App'!$B$7:$AP$43,E$66,FALSE)","v":0},{"$f":"VLOOKUP($A75,'Mat of App'!$B$7:$AP$43,F$66,FALSE)","v":0},{"$f":"VLOOKUP($A75,'Mat of App'!$B$7:$AP$43,G$66,FALSE)","v":0},{"$f":"VLOOKUP($A75,'Mat of App'!$B$7:$AP$43,H$66,FALSE)","v":0},{"$f":"VLOOKUP($A75,'Mat of App'!$B$7:$AP$43,I$66,FALSE)","v":0},""]
["LV HH Metered",{"$f":"VLOOKUP($A76,'Mat of App'!$B$7:$AP$43,B$66,FALSE)","v":0},{"$f":"VLOOKUP($A76,'Mat of App'!$B$7:$AP$43,C$66,FALSE)","v":0},{"$f":"VLOOKUP($A76,'Mat of App'!$B$7:$AP$43,D$66,FALSE)","v":0},{"$f":"VLOOKUP($A76,'Mat of App'!$B$7:$AP$43,E$66,FALSE)","v":0},{"$f":"VLOOKUP($A76,'Mat of App'!$B$7:$AP$43,F$66,FALSE)","v":1},{"$f":"VLOOKUP($A76,'Mat of App'!$B$7:$AP$43,G$66,FALSE)","v":0},{"$f":"VLOOKUP($A76,'Mat of App'!$B$7:$AP$43,H$66,FALSE)","v":0},{"$f":"VLOOKUP($A76,'Mat of App'!$B$7:$AP$43,I$66,FALSE)","v":0},""]
["LV Sub HH Metered",{"$f":"VLOOKUP($A77,'Mat of App'!$B$7:$AP$43,B$66,FALSE)","v":0},{"$f":"VLOOKUP($A77,'Mat of App'!$B$7:$AP$43,C$66,FALSE)","v":0},{"$f":"VLOOKUP($A77,'Mat of App'!$B$7:$AP$43,D$66,FALSE)","v":0},{"$f":"VLOOKUP($A77,'Mat of App'!$B$7:$AP$43,E$66,FALSE)","v":0},{"$f":"VLOOKUP($A77,'Mat of App'!$B$7:$AP$43,F$66,FALSE)","v":0},{"$f":"VLOOKUP($A77,'Mat of App'!$B$7:$AP$43,G$66,FALSE)","v":1},{"$f":"VLOOKUP($A77,'Mat of App'!$B$7:$AP$43,H$66,FALSE)","v":0},{"$f":"VLOOKUP($A77,'Mat of App'!$B$7:$AP$43,I$66,FALSE)","v":0},""]
["LV Generation NHH or Aggregate HH",{"$f":"VLOOKUP($A78,'Mat of App'!$B$7:$AP$43,B$66,FALSE)","v":0},{"$f":"VLOOKUP($A78,'Mat of App'!$B$7:$AP$43,C$66,FALSE)","v":0},{"$f":"VLOOKUP($A78,'Mat of App'!$B$7:$AP$43,D$66,FALSE)","v":0},{"$f":"VLOOKUP($A78,'Mat of App'!$B$7:$AP$43,E$66,FALSE)","v":0},{"$f":"VLOOKUP($A78,'Mat of App'!$B$7:$AP$43,F$66,FALSE)","v":0},{"$f":"VLOOKUP($A78,'Mat of App'!$B$7:$AP$43,G$66,FALSE)","v":0},{"$f":"VLOOKUP($A78,'Mat of App'!$B$7:$AP$43,H$66,FALSE)","v":1},{"$f":"VLOOKUP($A78,'Mat of App'!$B$7:$AP$43,I$66,FALSE)","v":0},""]
["LV Sub Generation NHH",{"$f":"VLOOKUP($A79,'Mat of App'!$B$7:$AP$43,B$66,FALSE)","v":0},{"$f":"VLOOKUP($A79,'Mat of App'!$B$7:$AP$43,C$66,FALSE)","v":0},{"$f":"VLOOKUP($A79,'Mat of App'!$B$7:$AP$43,D$66,FALSE)","v":0},{"$f":"VLOOKUP($A79,'Mat of App'!$B$7:$AP$43,E$66,FALSE)","v":0},{"$f":"VLOOKUP($A79,'Mat of App'!$B$7:$AP$43,F$66,FALSE)","v":0},{"$f":"VLOOKUP($A79,'Mat of App'!$B$7:$AP$43,G$66,FALSE)","v":0},{"$f":"VLOOKUP($A79,'Mat of App'!$B$7:$AP$43,H$66,FALSE)","v":1},{"$f":"VLOOKUP($A79,'Mat of App'!$B$7:$AP$43,I$66,FALSE)","v":0},""]
["LV Generation Intermittent",{"$f":"VLOOKUP($A80,'Mat of App'!$B$7:$AP$43,B$66,FALSE)","v":0},{"$f":"VLOOKUP($A80,'Mat of App'!$B$7:$AP$43,C$66,FALSE)","v":0},{"$f":"VLOOKUP($A80,'Mat of App'!$B$7:$AP$43,D$66,FALSE)","v":0},{"$f":"VLOOKUP($A80,'Mat of App'!$B$7:$AP$43,E$66,FALSE)","v":0},{"$f":"VLOOKUP($A80,'Mat of App'!$B$7:$AP$43,F$66,FALSE)","v":0},{"$f":"VLOOKUP($A80,'Mat of App'!$B$7:$AP$43,G$66,FALSE)","v":0},{"$f":"VLOOKUP($A80,'Mat of App'!$B$7:$AP$43,H$66,FALSE)","v":1},{"$f":"VLOOKUP($A80,'Mat of App'!$B$7:$AP$43,I$66,FALSE)","v":0},""]
["LV Generation Intermittent no RP charge",{"$f":"VLOOKUP($A81,'Mat of App'!$B$7:$AP$43,B$66,FALSE)","v":0},{"$f":"VLOOKUP($A81,'Mat of App'!$B$7:$AP$43,C$66,FALSE)","v":0},{"$f":"VLOOKUP($A81,'Mat of App'!$B$7:$AP$43,D$66,FALSE)","v":0},{"$f":"VLOOKUP($A81,'Mat of App'!$B$7:$AP$43,E$66,FALSE)","v":0},{"$f":"VLOOKUP($A81,'Mat of App'!$B$7:$AP$43,F$66,FALSE)","v":0},{"$f":"VLOOKUP($A81,'Mat of App'!$B$7:$AP$43,G$66,FALSE)","v":0},{"$f":"VLOOKUP($A81,'Mat of App'!$B$7:$AP$43,H$66,FALSE)","v":1},{"$f":"VLOOKUP($A81,'Mat of App'!$B$7:$AP$43,I$66,FALSE)","v":0},""]
["LV Generation Non-Intermittent",{"$f":"VLOOKUP($A82,'Mat of App'!$B$7:$AP$43,B$66,FALSE)","v":0},{"$f":"VLOOKUP($A82,'Mat of App'!$B$7:$AP$43,C$66,FALSE)","v":0},{"$f":"VLOOKUP($A82,'Mat of App'!$B$7:$AP$43,D$66,FALSE)","v":0},{"$f":"VLOOKUP($A82,'Mat of App'!$B$7:$AP$43,E$66,FALSE)","v":0},{"$f":"VLOOKUP($A82,'Mat of App'!$B$7:$AP$43,F$66,FALSE)","v":0},{"$f":"VLOOKUP($A82,'Mat of App'!$B$7:$AP$43,G$66,FALSE)","v":0},{"$f":"VLOOKUP($A82,'Mat of App'!$B$7:$AP$43,H$66,FALSE)","v":0},{"$f":"VLOOKUP($A82,'Mat of App'!$B$7:$AP$43,I$66,FALSE)","v":0},""]
["LV Generation Non-Intermittent no RP charge",{"$f":"VLOOKUP($A83,'Mat of App'!$B$7:$AP$43,B$66,FALSE)","v":0},{"$f":"VLOOKUP($A83,'Mat of App'!$B$7:$AP$43,C$66,FALSE)","v":0},{"$f":"VLOOKUP($A83,'Mat of App'!$B$7:$AP$43,D$66,FALSE)","v":0},{"$f":"VLOOKUP($A83,'Mat of App'!$B$7:$AP$43,E$66,FALSE)","v":0},{"$f":"VLOOKUP($A83,'Mat of App'!$B$7:$AP$43,F$66,FALSE)","v":0},{"$f":"VLOOKUP($A83,'Mat of App'!$B$7:$AP$43,G$66,FALSE)","v":0},{"$f":"VLOOKUP($A83,'Mat of App'!$B$7:$AP$43,H$66,FALSE)","v":0},{"$f":"VLOOKUP($A83,'Mat of App'!$B$7:$AP$43,I$66,FALSE)","v":0}]
["LV Sub Generation Intermittent",{"$f":"VLOOKUP($A84,'Mat of App'!$B$7:$AP$43,B$66,FALSE)","v":0},{"$f":"VLOOKUP($A84,'Mat of App'!$B$7:$AP$43,C$66,FALSE)","v":0},{"$f":"VLOOKUP($A84,'Mat of App'!$B$7:$AP$43,D$66,FALSE)","v":0},{"$f":"VLOOKUP($A84,'Mat of App'!$B$7:$AP$43,E$66,FALSE)","v":0},{"$f":"VLOOKUP($A84,'Mat of App'!$B$7:$AP$43,F$66,FALSE)","v":0},{"$f":"VLOOKUP($A84,'Mat of App'!$B$7:$AP$43,G$66,FALSE)","v":0},{"$f":"VLOOKUP($A84,'Mat of App'!$B$7:$AP$43,H$66,FALSE)","v":0},{"$f":"VLOOKUP($A84,'Mat of App'!$B$7:$AP$43,I$66,FALSE)","v":0}]
["LV Sub Generation Intermittent no RP charge",{"$f":"VLOOKUP($A85,'Mat of App'!$B$7:$AP$43,B$66,FALSE)","v":0},{"$f":"VLOOKUP($A85,'Mat of App'!$B$7:$AP$43,C$66,FALSE)","v":0},{"$f":"VLOOKUP($A85,'Mat of App'!$B$7:$AP$43,D$66,FALSE)","v":0},{"$f":"VLOOKUP($A85,'Mat of App'!$B$7:$AP$43,E$66,FALSE)","v":0},{"$f":"VLOOKUP($A85,'Mat of App'!$B$7:$AP$43,F$66,FALSE)","v":0},{"$f":"VLOOKUP($A85,'Mat of App'!$B$7:$AP$43,G$66,FALSE)","v":0},{"$f":"VLOOKUP($A85,'Mat of App'!$B$7:$AP$43,H$66,FALSE)","v":0},{"$f":"VLOOKUP($A85,'Mat of App'!$B$7:$AP$43,I$66,FALSE)","v":0}]
["LV Sub Generation Non-Intermittent",{"$f":"VLOOKUP($A86,'Mat of App'!$B$7:$AP$43,B$66,FALSE)","v":0},{"$f":"VLOOKUP($A86,'Mat of App'!$B$7:$AP$43,C$66,FALSE)","v":0},{"$f":"VLOOKUP($A86,'Mat of App'!$B$7:$AP$43,D$66,FALSE)","v":0},{"$f":"VLOOKUP($A86,'Mat of App'!$B$7:$AP$43,E$66,FALSE)","v":0},{"$f":"VLOOKUP($A86,'Mat of App'!$B$7:$AP$43,F$66,FALSE)","v":0},{"$f":"VLOOKUP($A86,'Mat of App'!$B$7:$AP$43,G$66,FALSE)","v":0},{"$f":"VLOOKUP($A86,'Mat of App'!$B$7:$AP$43,H$66,FALSE)","v":0},{"$f":"VLOOKUP($A86,'Mat of App'!$B$7:$AP$43,I$66,FALSE)","v":0}]
["LV Sub Generation Non-Intermittent no RP charge",{"$f":"VLOOKUP($A87,'Mat of App'!$B$7:$AP$43,B$66,FALSE)","v":0},{"$f":"VLOOKUP($A87,'Mat of App'!$B$7:$AP$43,C$66,FALSE)","v":0},{"$f":"VLOOKUP($A87,'Mat of App'!$B$7:$AP$43,D$66,FALSE)","v":0},{"$f":"VLOOKUP($A87,'Mat of App'!$B$7:$AP$43,E$66,FALSE)","v":0},{"$f":"VLOOKUP($A87,'Mat of App'!$B$7:$AP$43,F$66,FALSE)","v":0},{"$f":"VLOOKUP($A87,'Mat of App'!$B$7:$AP$43,G$66,FALSE)","v":0},{"$f":"VLOOKUP($A87,'Mat of App'!$B$7:$AP$43,H$66,FALSE)","v":0},{"$f":"VLOOKUP($A87,'Mat of App'!$B$7:$AP$43,I$66,FALSE)","v":0},""]
[]
["1026. Matrix of applicability of LV service models to unmetered tariffs"]
[]
["Source: service models"]
["Proportion of service model involved in connecting load of 1 MWh/year"]
[null,"LV service model 1","LV service model 2","LV service model 3","LV service model 4","LV service model 5","LV service model 6","LV service model 7","LV service model 8"]
["All LV unmetered tariffs",{"$f":"VLOOKUP($A94,'Mat of App'!$B$7:$AP$43,B$66,FALSE)","v":0},{"$f":"VLOOKUP($A94,'Mat of App'!$B$7:$AP$43,C$66,FALSE)","v":0},{"$f":"VLOOKUP($A94,'Mat of App'!$B$7:$AP$43,D$66,FALSE)","v":0},{"$f":"VLOOKUP($A94,'Mat of App'!$B$7:$AP$43,E$66,FALSE)","v":0},{"$f":"VLOOKUP($A94,'Mat of App'!$B$7:$AP$43,F$66,FALSE)","v":0},{"$f":"VLOOKUP($A94,'Mat of App'!$B$7:$AP$43,G$66,FALSE)","v":0},{"$f":"VLOOKUP($A94,'Mat of App'!$B$7:$AP$43,H$66,FALSE)","v":0},{"$f":"VLOOKUP($A94,'Mat of App'!$B$7:$AP$43,I$66,FALSE)","v":0.48799999999999999},""]
[]
["1028. Matrix of applicability of HV service models to tariffs with fixed charges"]
[null,22,{"$f":"B97+1","v":23},{"$f":"C97+1","v":24},{"$f":"D97+1","v":25},{"$f":"E97+1","v":26}]
[null,"HV service model 1","HV service model 2","HV service model 3","HV service model 4","HV service model 5"]
["HV Medium Non-Domestic",{"$f":"VLOOKUP($A99,'Mat of App'!$B$7:$AP$43,B$97,FALSE)","v":1},{"$f":"VLOOKUP($A99,'Mat of App'!$B$7:$AP$43,C$97,FALSE)","v":0},{"$f":"VLOOKUP($A99,'Mat of App'!$B$7:$AP$43,D$97,FALSE)","v":0},{"$f":"VLOOKUP($A99,'Mat of App'!$B$7:$AP$43,E$97,FALSE)","v":0},{"$f":"VLOOKUP($A99,'Mat of App'!$B$7:$AP$43,F$97,FALSE)","v":0},""]
["HV HH Metered",{"$f":"VLOOKUP($A100,'Mat of App'!$B$7:$AP$43,B$97,FALSE)","v":1},{"$f":"VLOOKUP($A100,'Mat of App'!$B$7:$AP$43,C$97,FALSE)","v":0},{"$f":"VLOOKUP($A100,'Mat of App'!$B$7:$AP$43,D$97,FALSE)","v":0},{"$f":"VLOOKUP($A100,'Mat of App'!$B$7:$AP$43,E$97,FALSE)","v":0},{"$f":"VLOOKUP($A100,'Mat of App'!$B$7:$AP$43,F$97,FALSE)","v":0},""]
["HV Generation Intermittent",{"$f":"VLOOKUP($A101,'Mat of App'!$B$7:$AP$43,B$97,FALSE)","v":0},{"$f":"VLOOKUP($A101,'Mat of App'!$B$7:$AP$43,C$97,FALSE)","v":1},{"$f":"VLOOKUP($A101,'Mat of App'!$B$7:$AP$43,D$97,FALSE)","v":0},{"$f":"VLOOKUP($A101,'Mat of App'!$B$7:$AP$43,E$97,FALSE)","v":0},{"$f":"VLOOKUP($A101,'Mat of App'!$B$7:$AP$43,F$97,FALSE)","v":0}]
["HV Generation Intermittent no RP charge",{"$f":"VLOOKUP($A102,'Mat of App'!$B$7:$AP$43,B$97,FALSE)","v":0},{"$f":"VLOOKUP($A102,'Mat of App'!$B$7:$AP$43,C$97,FALSE)","v":1},{"$f":"VLOOKUP($A102,'Mat of App'!$B$7:$AP$43,D$97,FALSE)","v":0},{"$f":"VLOOKUP($A102,'Mat of App'!$B$7:$AP$43,E$97,FALSE)","v":0},{"$f":"VLOOKUP($A102,'Mat of App'!$B$7:$AP$43,F$97,FALSE)","v":0}]
["HV Generation Non-Intermittent",{"$f":"VLOOKUP($A103,'Mat of App'!$B$7:$AP$43,B$97,FALSE)","v":0},{"$f":"VLOOKUP($A103,'Mat of App'!$B$7:$AP$43,C$97,FALSE)","v":1},{"$f":"VLOOKUP($A103,'Mat of App'!$B$7:$AP$43,D$97,FALSE)","v":0},{"$f":"VLOOKUP($A103,'Mat of App'!$B$7:$AP$43,E$97,FALSE)","v":0},{"$f":"VLOOKUP($A103,'Mat of App'!$B$7:$AP$43,F$97,FALSE)","v":0}]
["HV Generation Non-Intermittent no RP charge",{"$f":"VLOOKUP($A104,'Mat of App'!$B$7:$AP$43,B$97,FALSE)","v":0},{"$f":"VLOOKUP($A104,'Mat of App'!$B$7:$AP$43,C$97,FALSE)","v":1},{"$f":"VLOOKUP($A104,'Mat of App'!$B$7:$AP$43,D$97,FALSE)","v":0},{"$f":"VLOOKUP($A104,'Mat of App'!$B$7:$AP$43,E$97,FALSE)","v":0},{"$f":"VLOOKUP($A104,'Mat of App'!$B$7:$AP$43,F$97,FALSE)","v":0}]
[]
["1032. Loss adjustment factors to transmission"]
[""]
["Source: losses model or loss adjustment factors at time of system peak."]
[null,"132kV","132kV/EHV","EHV","EHV/HV","HV","HV/LV","LV circuits"]
["Loss adjustment factor",{"$f":"VLOOKUP(Vlookup!B69,'CDCM Forecast Data'!$A$14:$I$271,9,FALSE)","v":1.002},{"$f":"VLOOKUP(Vlookup!C69,'CDCM Forecast Data'!$A$14:$I$271,9,FALSE)","v":1.008},{"$f":"VLOOKUP(Vlookup!D69,'CDCM Forecast Data'!$A$14:$I$271,9,FALSE)","v":1.01},{"$f":"VLOOKUP(Vlookup!E69,'CDCM Forecast Data'!$A$14:$I$271,9,FALSE)","v":1.018},{"$f":"VLOOKUP(Vlookup!F69,'CDCM Forecast Data'!$A$14:$I$271,9,FALSE)","v":1.034},{"$f":"VLOOKUP(Vlookup!G69,'CDCM Forecast Data'!$A$14:$I$271,9,FALSE)","v":1.05},{"$f":"VLOOKUP(Vlookup!H69,'CDCM Forecast Data'!$A$14:$I$271,9,FALSE)","v":1.08},""]
[]
["1037. Embedded network (LDNO) discounts"]
[""]
["Source: separate price control disaggregation model."]
[null,"No discount","LDNO LV: LV user","LDNO HV: LV user","LDNO HV: LV sub user","LDNO HV: HV user"]
["LDNO discount",null,{"$f":"VLOOKUP(Vlookup!C75,'CDCM Forecast Data'!$A$14:$I$271,9,FALSE)","v":0.30035267521805875},{"$f":"VLOOKUP(Vlookup!D75,'CDCM Forecast Data'!$A$14:$I$271,9,FALSE)","v":0.47818139481135069},{"$f":"VLOOKUP(Vlookup!E75,'CDCM Forecast Data'!$A$14:$I$271,9,FALSE)","v":0.24363743688262601},{"$f":"VLOOKUP(Vlookup!F75,'CDCM Forecast Data'!$A$14:$I$271,9,FALSE)","v":0.14249687495735849},""]
[]
["1041. Load profile data for demand users"]
[]
["Source: load data analysis."]
[null,"Coincidence factor","Load factor"]
["Domestic Unrestricted",{"$f":"VLOOKUP(Vlookup!B81,'CDCM Forecast Data'!$A$14:$I$271,9,FALSE)","v":0.86240741067308713},{"$f":"VLOOKUP(Vlookup!C81,'CDCM Forecast Data'!$A$14:$I$271,9,FALSE)","v":0.41623710501756489},""]
["Domestic Two Rate",{"$f":"VLOOKUP(Vlookup!B82,'CDCM Forecast Data'!$A$14:$I$271,9,FALSE)","v":0.86034731111249485},{"$f":"VLOOKUP(Vlookup!C82,'CDCM Forecast Data'!$A$14:$I$271,9,FALSE)","v":0.5028096693143812},""]
["Domestic Off Peak (related MPAN)",null,{"$f":"VLOOKUP(Vlookup!C83,'CDCM Forecast Data'!$A$14:$I$271,9,FALSE)","v":0.14790375681824444},""]
["Small Non Domestic Unrestricted",{"$f":"VLOOKUP(Vlookup!B84,'CDCM Forecast Data'!$A$14:$I$271,9,FALSE)","v":0.72324936497793268},{"$f":"VLOOKUP(Vlookup!C84,'CDCM Forecast Data'!$A$14:$I$271,9,FALSE)","v":0.37532588558908553},""]
["Small Non Domestic Two Rate",{"$f":"VLOOKUP(Vlookup!B85,'CDCM Forecast Data'!$A$14:$I$271,9,FALSE)","v":0.86240621985923305},{"$f":"VLOOKUP(Vlookup!C85,'CDCM Forecast Data'!$A$14:$I$271,9,FALSE)","v":0.53424065388272945},""]
["Small Non Domestic Off Peak (related MPAN)",null,{"$f":"VLOOKUP(Vlookup!C86,'CDCM Forecast Data'!$A$14:$I$271,9,FALSE)","v":0.24278777249580674},""]
["LV Medium Non-Domestic",{"$f":"VLOOKUP(Vlookup!B87,'CDCM Forecast Data'!$A$14:$I$271,9,FALSE)","v":0.84122778780683927},{"$f":"VLOOKUP(Vlookup!C87,'CDCM Forecast Data'!$A$14:$I$271,9,FALSE)","v":0.52667690446927706},""]
["LV Sub Medium Non-Domestic",{"$f":"VLOOKUP(Vlookup!B88,'CDCM Forecast Data'!$A$14:$I$271,9,FALSE)","v":0.84122778780683927},{"$f":"VLOOKUP(Vlookup!C88,'CDCM Forecast Data'!$A$14:$I$271,9,FALSE)","v":0.52667690446927706},""]
["HV Medium Non-Domestic",{"$f":"VLOOKUP(Vlookup!B89,'CDCM Forecast Data'!$A$14:$I$271,9,FALSE)","v":0.78886749721267824},{"$f":"VLOOKUP(Vlookup!C89,'CDCM Forecast Data'!$A$14:$I$271,9,FALSE)","v":0.49199747964816393},""]
["LV Network Domestic",{"$f":"VLOOKUP(Vlookup!B90,'CDCM Forecast Data'!$A$14:$I$271,9,FALSE)","v":0.86164448674198868},{"$f":"VLOOKUP(Vlookup!C90,'CDCM Forecast Data'!$A$14:$I$271,9,FALSE)","v":0.44382955791989437},""]
["LV Network Non-Domestic Non-CT",{"$f":"VLOOKUP(Vlookup!B91,'CDCM Forecast Data'!$A$14:$I$271,9,FALSE)","v":0.78752477648789532},{"$f":"VLOOKUP(Vlookup!C91,'CDCM Forecast Data'!$A$14:$I$271,9,FALSE)","v":0.44789395514276292},""]
["LV HH Metered",{"$f":"VLOOKUP(Vlookup!B92,'CDCM Forecast Data'!$A$14:$I$271,9,FALSE)","v":0.82086521600613926},{"$f":"VLOOKUP(Vlookup!C92,'CDCM Forecast Data'!$A$14:$I$271,9,FALSE)","v":0.5584288623436322},""]
["LV Sub HH Metered",{"$f":"VLOOKUP(Vlookup!B93,'CDCM Forecast Data'!$A$14:$I$271,9,FALSE)","v":0.84026867562743668},{"$f":"VLOOKUP(Vlookup!C93,'CDCM Forecast Data'!$A$14:$I$271,9,FALSE)","v":0.57907566723908654}]
["HV HH Metered",{"$f":"VLOOKUP(Vlookup!B94,'CDCM Forecast Data'!$A$14:$I$271,9,FALSE)","v":0.84760121590132942},{"$f":"VLOOKUP(Vlookup!C94,'CDCM Forecast Data'!$A$14:$I$271,9,FALSE)","v":0.7141076061743471}]
["NHH UMS category A",{"$f":"VLOOKUP(Vlookup!B95,'CDCM Forecast Data'!$A$14:$I$271,9,FALSE)","v":1},{"$f":"VLOOKUP(Vlookup!C95,'CDCM Forecast Data'!$A$14:$I$271,9,FALSE)","v":1},""]
["NHH UMS category B",{"$f":"VLOOKUP(Vlookup!B96,'CDCM Forecast Data'!$A$14:$I$271,9,FALSE)","v":1},{"$f":"VLOOKUP(Vlookup!C96,'CDCM Forecast Data'!$A$14:$I$271,9,FALSE)","v":0.47270807337280285}]
["NHH UMS category C",{"$f":"VLOOKUP(Vlookup!B97,'CDCM Forecast Data'!$A$14:$I$271,9,FALSE)","v":1},{"$f":"VLOOKUP(Vlookup!C97,'CDCM Forecast Data'!$A$14:$I$271,9,FALSE)","v":0.24339371562014608}]
["NHH UMS category D",{"$f":"VLOOKUP(Vlookup!B98,'CDCM Forecast Data'!$A$14:$I$271,9,FALSE)","v":5.3621027479092004E-3},{"$f":"VLOOKUP(Vlookup!C98,'CDCM Forecast Data'!$A$14:$I$271,9,FALSE)","v":0.51158697514711327}]
["LV UMS (Pseudo HH Metered)",{"$f":"VLOOKUP(Vlookup!B99,'CDCM Forecast Data'!$A$14:$I$271,9,FALSE)","v":0.95079576417959843},{"$f":"VLOOKUP(Vlookup!C99,'CDCM Forecast Data'!$A$14:$I$271,9,FALSE)","v":0.44160896789800635},""]
[]
["1053. Volume forecasts for the charging year"]
["",32,33,34,35,36,37,38]
["Source: forecast."]
["Please include MPAN counts for tariffs with no fixed charge (e.g. off-peak tariffs),"]
["but exclude MPANs on tariffs with a fixed charge that are not subject to a fixed charge due to a site grouping arrangement."]
[null,"Rate 1 units (MWh)","Rate 2 units (MWh)","Rate 3 units (MWh)","MPANs","Import capacity (kVA)","Exceeded capacity (kVA)","Reactive power units (MVArh)"]
["> Domestic Unrestricted",{"$f":"VLOOKUP(Vlookup!$B107,'CDCM Volume Forecasts'!$A$28:$AL$136,B$143,FALSE)","v":0},{"$f":"VLOOKUP(Vlookup!$B107,'CDCM Volume Forecasts'!$A$28:$AL$136,C$143,FALSE)","v":0},{"$f":"VLOOKUP(Vlookup!$B107,'CDCM Volume Forecasts'!$A$28:$AL$136,D$143,FALSE)","v":0},{"$f":"VLOOKUP(Vlookup!$B107,'CDCM Volume Forecasts'!$A$28:$AL$136,E$143,FALSE)","v":0},{"$f":"VLOOKUP(Vlookup!$B107,'CDCM Volume Forecasts'!$A$28:$AL$136,F$143,FALSE)","v":0},null,{"$f":"VLOOKUP(Vlookup!$B107,'CDCM Volume Forecasts'!$A$28:$AL$136,G$143,FALSE)","v":0}]
["Domestic Unrestricted",{"$f":"VLOOKUP(Vlookup!$B108,'CDCM Volume Forecasts'!$A$28:$AL$136,B$143,FALSE)","v":5635747.39502858},null,null,{"$f":"VLOOKUP(Vlookup!$B108,'CDCM Volume Forecasts'!$A$28:$AL$136,E$143,FALSE)","v":1671267.7755050499}]
["LDNO LV: Domestic Unrestricted",{"$f":"VLOOKUP(Vlookup!$B109,'CDCM Volume Forecasts'!$A$28:$AL$136,B$143,FALSE)","v":94982.042774487054},null,null,{"$f":"VLOOKUP(Vlookup!$B109,'CDCM Volume Forecasts'!$A$28:$AL$136,E$143,FALSE)","v":35033.390339937563}]
["LDNO HV: Domestic Unrestricted",{"$f":"VLOOKUP(Vlookup!$B110,'CDCM Volume Forecasts'!$A$28:$AL$136,B$143,FALSE)","v":155171.27128812924},null,null,{"$f":"VLOOKUP(Vlookup!$B110,'CDCM Volume Forecasts'!$A$28:$AL$136,E$143,FALSE)","v":58162.880927404229}]
["> Domestic Two Rate"]
["Domestic Two Rate",{"$f":"VLOOKUP(Vlookup!$B112,'CDCM Volume Forecasts'!$A$28:$AL$136,B$143,FALSE)","v":2417415.8454986895},{"$f":"VLOOKUP(Vlookup!$B112,'CDCM Volume Forecasts'!$A$28:$AL$136,C$143,FALSE)","v":1076309.378668654},null,{"$f":"VLOOKUP(Vlookup!$B112,'CDCM Volume Forecasts'!$A$28:$AL$136,E$143,FALSE)","v":792868.49064519012}]
["LDNO LV: Domestic Two Rate",{"$f":"VLOOKUP(Vlookup!$B113,'CDCM Volume Forecasts'!$A$28:$AL$136,B$143,FALSE)","v":4629.9614332661959},{"$f":"VLOOKUP(Vlookup!$B113,'CDCM Volume Forecasts'!$A$28:$AL$136,C$143,FALSE)","v":1426.9050309592003},null,{"$f":"VLOOKUP(Vlookup!$B113,'CDCM Volume Forecasts'!$A$28:$AL$136,E$143,FALSE)","v":1499.239141579387}]
["LDNO HV: Domestic Two Rate",{"$f":"VLOOKUP(Vlookup!$B114,'CDCM Volume Forecasts'!$A$28:$AL$136,B$143,FALSE)","v":7642.5052138944002},{"$f":"VLOOKUP(Vlookup!$B114,'CDCM Volume Forecasts'!$A$28:$AL$136,C$143,FALSE)","v":2597.3847486999803},null,{"$f":"VLOOKUP(Vlookup!$B114,'CDCM Volume Forecasts'!$A$28:$AL$136,E$143,FALSE)","v":2453.4347641766276}]
["> Domestic Off Peak (related MPAN)"]
["Domestic Off Peak (related MPAN)",{"$f":"VLOOKUP(Vlookup!$B116,'CDCM Volume Forecasts'!$A$28:$AL$136,B$143,FALSE)","v":49585.593175668728},null,null,{"$f":"VLOOKUP(Vlookup!$B116,'CDCM Volume Forecasts'!$A$28:$AL$136,E$143,FALSE)","v":26805}]
["LDNO LV: Domestic Off Peak (related MPAN)",{"$f":"VLOOKUP(Vlookup!$B117,'CDCM Volume Forecasts'!$A$28:$AL$136,B$143,FALSE)","v":0},null,null,{"$f":"VLOOKUP(Vlookup!$B117,'CDCM Volume Forecasts'!$A$28:$AL$136,E$143,FALSE)","v":0}]
["LDNO HV: Domestic Off Peak (related MPAN)",{"$f":"VLOOKUP(Vlookup!$B118,'CDCM Volume Forecasts'!$A$28:$AL$136,B$143,FALSE)","v":0},null,null,{"$f":"VLOOKUP(Vlookup!$B118,'CDCM Volume Forecasts'!$A$28:$AL$136,E$143,FALSE)","v":0}]
["> Small Non Domestic Unrestricted"]
["Small Non Domestic Unrestricted",{"$f":"VLOOKUP(Vlookup!$B120,'CDCM Volume Forecasts'!$A$28:$AL$136,B$143,FALSE)","v":1140613.9739181774},null,null,{"$f":"VLOOKUP(Vlookup!$B120,'CDCM Volume Forecasts'!$A$28:$AL$136,E$143,FALSE)","v":95495.253097224515}]
["LDNO LV: Small Non Domestic Unrestricted",{"$f":"VLOOKUP(Vlookup!$B121,'CDCM Volume Forecasts'!$A$28:$AL$136,B$143,FALSE)","v":4254.8519221540355},null,null,{"$f":"VLOOKUP(Vlookup!$B121,'CDCM Volume Forecasts'!$A$28:$AL$136,E$143,FALSE)","v":714.08447240652981}]
["LDNO HV: Small Non Domestic Unrestricted",{"$f":"VLOOKUP(Vlookup!$B122,'CDCM Volume Forecasts'!$A$28:$AL$136,B$143,FALSE)","v":11145.922225068793},null,null,{"$f":"VLOOKUP(Vlookup!$B122,'CDCM Volume Forecasts'!$A$28:$AL$136,E$143,FALSE)","v":1270.1753584742994}]
["> Small Non Domestic Two Rate"]
["Small Non Domestic Two Rate",{"$f":"VLOOKUP(Vlookup!$B124,'CDCM Volume Forecasts'!$A$28:$AL$136,B$143,FALSE)","v":1514286.2262339729},{"$f":"VLOOKUP(Vlookup!$B124,'CDCM Volume Forecasts'!$A$28:$AL$136,C$143,FALSE)","v":451030.46492233477},null,{"$f":"VLOOKUP(Vlookup!$B124,'CDCM Volume Forecasts'!$A$28:$AL$136,E$143,FALSE)","v":82427.244684584759}]
["LDNO LV: Small Non Domestic Two Rate",{"$f":"VLOOKUP(Vlookup!$B125,'CDCM Volume Forecasts'!$A$28:$AL$136,B$143,FALSE)","v":402.47958047828541},{"$f":"VLOOKUP(Vlookup!$B125,'CDCM Volume Forecasts'!$A$28:$AL$136,C$143,FALSE)","v":80.438629283880772},null,{"$f":"VLOOKUP(Vlookup!$B125,'CDCM Volume Forecasts'!$A$28:$AL$136,E$143,FALSE)","v":12.903675111941352}]
["LDNO HV: Small Non Domestic Two Rate",{"$f":"VLOOKUP(Vlookup!$B126,'CDCM Volume Forecasts'!$A$28:$AL$136,B$143,FALSE)","v":1111.6322427478769},{"$f":"VLOOKUP(Vlookup!$B126,'CDCM Volume Forecasts'!$A$28:$AL$136,C$143,FALSE)","v":286.0338414769754},null,{"$f":"VLOOKUP(Vlookup!$B126,'CDCM Volume Forecasts'!$A$28:$AL$136,E$143,FALSE)","v":47.788053454719794}]
["> Small Non Domestic Off Peak (related MPAN)"]
["Small Non Domestic Off Peak (related MPAN)",{"$f":"VLOOKUP(Vlookup!$B128,'CDCM Volume Forecasts'!$A$28:$AL$136,B$143,FALSE)","v":2583.3840720654089},null,null,{"$f":"VLOOKUP(Vlookup!$B128,'CDCM Volume Forecasts'!$A$28:$AL$136,E$143,FALSE)","v":517}]
["LDNO LV: Small Non Domestic Off Peak (related MPAN)",{"$f":"VLOOKUP(Vlookup!$B129,'CDCM Volume Forecasts'!$A$28:$AL$136,B$143,FALSE)","v":0},null,null,{"$f":"VLOOKUP(Vlookup!$B129,'CDCM Volume Forecasts'!$A$28:$AL$136,E$143,FALSE)","v":0}]
["LDNO HV: Small Non Domestic Off Peak (related MPAN)",{"$f":"VLOOKUP(Vlookup!$B130,'CDCM Volume Forecasts'!$A$28:$AL$136,B$143,FALSE)","v":0},null,null,{"$f":"VLOOKUP(Vlookup!$B130,'CDCM Volume Forecasts'!$A$28:$AL$136,E$143,FALSE)","v":0}]
["> LV Medium Non-Domestic"]
["LV Medium Non-Domestic",{"$f":"VLOOKUP(Vlookup!$B132,'CDCM Volume Forecasts'!$A$28:$AL$136,B$143,FALSE)","v":41587.88901879995},{"$f":"VLOOKUP(Vlookup!$B132,'CDCM Volume Forecasts'!$A$28:$AL$136,C$143,FALSE)","v":11522.857188044651},null,{"$f":"VLOOKUP(Vlookup!$B132,'CDCM Volume Forecasts'!$A$28:$AL$136,E$143,FALSE)","v":1226.5130041316722}]
["LDNO LV: LV Medium Non-Domestic",{"$f":"VLOOKUP(Vlookup!$B133,'CDCM Volume Forecasts'!$A$28:$AL$136,B$143,FALSE)","v":-4.9112713895738124E-14},{"$f":"VLOOKUP(Vlookup!$B133,'CDCM Volume Forecasts'!$A$28:$AL$136,C$143,FALSE)","v":5.4569682106375695E-15},null,{"$f":"VLOOKUP(Vlookup!$B133,'CDCM Volume Forecasts'!$A$28:$AL$136,E$143,FALSE)","v":0}]
["LDNO HV: LV Medium Non-Domestic",{"$f":"VLOOKUP(Vlookup!$B134,'CDCM Volume Forecasts'!$A$28:$AL$136,B$143,FALSE)","v":-2.4738255888223645E-13},{"$f":"VLOOKUP(Vlookup!$B134,'CDCM Volume Forecasts'!$A$28:$AL$136,C$143,FALSE)","v":1.8189894035458565E-14},null,{"$f":"VLOOKUP(Vlookup!$B134,'CDCM Volume Forecasts'!$A$28:$AL$136,E$143,FALSE)","v":0}]
["> LV Sub Medium Non-Domestic"]
["LV Sub Medium Non-Domestic",{"$f":"VLOOKUP(Vlookup!$B136,'CDCM Volume Forecasts'!$A$28:$AL$136,B$143,FALSE)","v":0.14305029137837472},{"$f":"VLOOKUP(Vlookup!$B136,'CDCM Volume Forecasts'!$A$28:$AL$136,C$143,FALSE)","v":4.1771037058284492E-2},null,{"$f":"VLOOKUP(Vlookup!$B136,'CDCM Volume Forecasts'!$A$28:$AL$136,E$143,FALSE)","v":3.1678196721310618E-3}]
["> HV Medium Non-Domestic"]
["HV Medium Non-Domestic",{"$f":"VLOOKUP(Vlookup!$B138,'CDCM Volume Forecasts'!$A$28:$AL$136,B$143,FALSE)","v":2605.2120716228465},{"$f":"VLOOKUP(Vlookup!$B138,'CDCM Volume Forecasts'!$A$28:$AL$136,C$143,FALSE)","v":788.60544449936344},null,{"$f":"VLOOKUP(Vlookup!$B138,'CDCM Volume Forecasts'!$A$28:$AL$136,E$143,FALSE)","v":44}]
["> LV Network Domestic"]
["LV Network Domestic",{"$f":"VLOOKUP(Vlookup!$B140,'CDCM Volume Forecasts'!$A$28:$AL$136,B$143,FALSE)","v":25.916648860281796},{"$f":"VLOOKUP(Vlookup!$B140,'CDCM Volume Forecasts'!$A$28:$AL$136,C$143,FALSE)","v":99.416406772272921},{"$f":"VLOOKUP(Vlookup!$B140,'CDCM Volume Forecasts'!$A$28:$AL$136,D$143,FALSE)","v":122.08546012140339},{"$f":"VLOOKUP(Vlookup!$B140,'CDCM Volume Forecasts'!$A$28:$AL$136,E$143,FALSE)","v":76.118765573770503}]
["LDNO LV: LV Network Domestic",{"$f":"VLOOKUP(Vlookup!$B141,'CDCM Volume Forecasts'!$A$28:$AL$136,B$143,FALSE)","v":0},{"$f":"VLOOKUP(Vlookup!$B141,'CDCM Volume Forecasts'!$A$28:$AL$136,C$143,FALSE)","v":0},{"$f":"VLOOKUP(Vlookup!$B141,'CDCM Volume Forecasts'!$A$28:$AL$136,D$143,FALSE)","v":0},{"$f":"VLOOKUP(Vlookup!$B141,'CDCM Volume Forecasts'!$A$28:$AL$136,E$143,FALSE)","v":0}]
["LDNO HV: LV Network Domestic",{"$f":"VLOOKUP(Vlookup!$B142,'CDCM Volume Forecasts'!$A$28:$AL$136,B$143,FALSE)","v":0},{"$f":"VLOOKUP(Vlookup!$B142,'CDCM Volume Forecasts'!$A$28:$AL$136,C$143,FALSE)","v":0},{"$f":"VLOOKUP(Vlookup!$B142,'CDCM Volume Forecasts'!$A$28:$AL$136,D$143,FALSE)","v":0},{"$f":"VLOOKUP(Vlookup!$B142,'CDCM Volume Forecasts'!$A$28:$AL$136,E$143,FALSE)","v":0}]
["> LV Network Non-Domestic Non-CT"]
["LV Network Non-Domestic Non-CT",{"$f":"VLOOKUP(Vlookup!$B144,'CDCM Volume Forecasts'!$A$28:$AL$136,B$143,FALSE)","v":18558.487686612239},{"$f":"VLOOKUP(Vlookup!$B144,'CDCM Volume Forecasts'!$A$28:$AL$136,C$143,FALSE)","v":73567.926730158622},{"$f":"VLOOKUP(Vlookup!$B144,'CDCM Volume Forecasts'!$A$28:$AL$136,D$143,FALSE)","v":78280.332697577658},{"$f":"VLOOKUP(Vlookup!$B144,'CDCM Volume Forecasts'!$A$28:$AL$136,E$143,FALSE)","v":2509.10345882312}]
["LDNO LV: LV Network Non-Domestic Non-CT",{"$f":"VLOOKUP(Vlookup!$B145,'CDCM Volume Forecasts'!$A$28:$AL$136,B$143,FALSE)","v":19.24968807539738},{"$f":"VLOOKUP(Vlookup!$B145,'CDCM Volume Forecasts'!$A$28:$AL$136,C$143,FALSE)","v":72.688587305710143},{"$f":"VLOOKUP(Vlookup!$B145,'CDCM Volume Forecasts'!$A$28:$AL$136,D$143,FALSE)","v":120.49851830559453},{"$f":"VLOOKUP(Vlookup!$B145,'CDCM Volume Forecasts'!$A$28:$AL$136,E$143,FALSE)","v":4.7184373127364774}]
["LDNO HV: LV Network Non-Domestic Non-CT",{"$f":"VLOOKUP(Vlookup!$B146,'CDCM Volume Forecasts'!$A$28:$AL$136,B$143,FALSE)","v":104.24235588741557},{"$f":"VLOOKUP(Vlookup!$B146,'CDCM Volume Forecasts'!$A$28:$AL$136,C$143,FALSE)","v":362.68347429908619},{"$f":"VLOOKUP(Vlookup!$B146,'CDCM Volume Forecasts'!$A$28:$AL$136,D$143,FALSE)","v":416.12088245460063},{"$f":"VLOOKUP(Vlookup!$B146,'CDCM Volume Forecasts'!$A$28:$AL$136,E$143,FALSE)","v":19.841829348937043}]
["> LV HH Metered"]
["LV HH Metered",{"$f":"VLOOKUP(Vlookup!$B148,'CDCM Volume Forecasts'!$A$28:$AL$136,B$143,FALSE)","v":377835.6813072178},{"$f":"VLOOKUP(Vlookup!$B148,'CDCM Volume Forecasts'!$A$28:$AL$136,C$143,FALSE)","v":1505767.6226554119},{"$f":"VLOOKUP(Vlookup!$B148,'CDCM Volume Forecasts'!$A$28:$AL$136,D$143,FALSE)","v":1615847.0059507394},{"$f":"VLOOKUP(Vlookup!$B148,'CDCM Volume Forecasts'!$A$28:$AL$136,E$143,FALSE)","v":15832.332072650368},{"$f":"VLOOKUP(Vlookup!$B148,'CDCM Volume Forecasts'!$A$28:$AL$136,F$143,FALSE)","v":1960000},{"$f":"VLOOKUP(Vlookup!$B148,'CDCM Volume Forecasts'!$A$28:$AL$136,G$143,FALSE)","v":42265.317043448318},{"$f":"VLOOKUP(Vlookup!$B148,'CDCM Volume Forecasts'!$A$28:$AL$136,H$143,FALSE)","v":367491.37832085259}]
["LDNO LV: LV HH Metered",{"$f":"VLOOKUP(Vlookup!$B149,'CDCM Volume Forecasts'!$A$28:$AL$136,B$143,FALSE)","v":1412.870559022316},{"$f":"VLOOKUP(Vlookup!$B149,'CDCM Volume Forecasts'!$A$28:$AL$136,C$143,FALSE)","v":4888.8390627745466},{"$f":"VLOOKUP(Vlookup!$B149,'CDCM Volume Forecasts'!$A$28:$AL$136,D$143,FALSE)","v":6114.8854757848721},{"$f":"VLOOKUP(Vlookup!$B149,'CDCM Volume Forecasts'!$A$28:$AL$136,E$143,FALSE)","v":61.229869713492732},{"$f":"VLOOKUP(Vlookup!$B149,'CDCM Volume Forecasts'!$A$28:$AL$136,F$143,FALSE)","v":10476.918620474366},{"$f":"VLOOKUP(Vlookup!$B149,'CDCM Volume Forecasts'!$A$28:$AL$136,G$143,FALSE)","v":12.987057168228436},{"$f":"VLOOKUP(Vlookup!$B149,'CDCM Volume Forecasts'!$A$28:$AL$136,H$143,FALSE)","v":1333.7147930840285}]
["LDNO HV: LV HH Metered",{"$f":"VLOOKUP(Vlookup!$B150,'CDCM Volume Forecasts'!$A$28:$AL$136,B$143,FALSE)","v":15040.235122987786},{"$f":"VLOOKUP(Vlookup!$B150,'CDCM Volume Forecasts'!$A$28:$AL$136,C$143,FALSE)","v":54927.685608171101},{"$f":"VLOOKUP(Vlookup!$B150,'CDCM Volume Forecasts'!$A$28:$AL$136,D$143,FALSE)","v":65960.836777291115},{"$f":"VLOOKUP(Vlookup!$B150,'CDCM Volume Forecasts'!$A$28:$AL$136,E$143,FALSE)","v":382.62169856216127},{"$f":"VLOOKUP(Vlookup!$B150,'CDCM Volume Forecasts'!$A$28:$AL$136,F$143,FALSE)","v":108669.61557819175},{"$f":"VLOOKUP(Vlookup!$B150,'CDCM Volume Forecasts'!$A$28:$AL$136,G$143,FALSE)","v":446.26154403187547},{"$f":"VLOOKUP(Vlookup!$B150,'CDCM Volume Forecasts'!$A$28:$AL$136,H$143,FALSE)","v":11418.401436925689}]
["> LV Sub HH Metered"]
["LV Sub HH Metered",{"$f":"VLOOKUP(Vlookup!$B152,'CDCM Volume Forecasts'!$A$28:$AL$136,B$143,FALSE)","v":23555.939705275443},{"$f":"VLOOKUP(Vlookup!$B152,'CDCM Volume Forecasts'!$A$28:$AL$136,C$143,FALSE)","v":90295.119473983417},{"$f":"VLOOKUP(Vlookup!$B152,'CDCM Volume Forecasts'!$A$28:$AL$136,D$143,FALSE)","v":105307.38531244543},{"$f":"VLOOKUP(Vlookup!$B152,'CDCM Volume Forecasts'!$A$28:$AL$136,E$143,FALSE)","v":342.84669556830613},{"$f":"VLOOKUP(Vlookup!$B152,'CDCM Volume Forecasts'!$A$28:$AL$136,F$143,FALSE)","v":138821.86717486338},{"$f":"VLOOKUP(Vlookup!$B152,'CDCM Volume Forecasts'!$A$28:$AL$136,G$143,FALSE)","v":1785.1010983606557},{"$f":"VLOOKUP(Vlookup!$B152,'CDCM Volume Forecasts'!$A$28:$AL$136,H$143,FALSE)","v":18220.196801714286}]
["LDNO HV: LV Sub HH Metered",{"$f":"VLOOKUP(Vlookup!$B153,'CDCM Volume Forecasts'!$A$28:$AL$136,B$143,FALSE)","v":890.72287294660168},{"$f":"VLOOKUP(Vlookup!$B153,'CDCM Volume Forecasts'!$A$28:$AL$136,C$143,FALSE)","v":3077.5835538016772},{"$f":"VLOOKUP(Vlookup!$B153,'CDCM Volume Forecasts'!$A$28:$AL$136,D$143,FALSE)","v":5287.7802117072451},{"$f":"VLOOKUP(Vlookup!$B153,'CDCM Volume Forecasts'!$A$28:$AL$136,E$143,FALSE)","v":4.8958936371831783},{"$f":"VLOOKUP(Vlookup!$B153,'CDCM Volume Forecasts'!$A$28:$AL$136,F$143,FALSE)","v":3426.9222620200057},{"$f":"VLOOKUP(Vlookup!$B153,'CDCM Volume Forecasts'!$A$28:$AL$136,G$143,FALSE)","v":46.892377761533822},{"$f":"VLOOKUP(Vlookup!$B153,'CDCM Volume Forecasts'!$A$28:$AL$136,H$143,FALSE)","v":903.92750399136014}]
["> HV HH Metered"]
["HV HH Metered",{"$f":"VLOOKUP(Vlookup!$B155,'CDCM Volume Forecasts'!$A$28:$AL$136,B$143,FALSE)","v":738923.19680440472},{"$f":"VLOOKUP(Vlookup!$B155,'CDCM Volume Forecasts'!$A$28:$AL$136,C$143,FALSE)","v":2849711.7208364718},{"$f":"VLOOKUP(Vlookup!$B155,'CDCM Volume Forecasts'!$A$28:$AL$136,D$143,FALSE)","v":4000945.161846465},{"$f":"VLOOKUP(Vlookup!$B155,'CDCM Volume Forecasts'!$A$28:$AL$136,E$143,FALSE)","v":3524.9192351831307},{"$f":"VLOOKUP(Vlookup!$B155,'CDCM Volume Forecasts'!$A$28:$AL$136,F$143,FALSE)","v":2788259.5384515394},{"$f":"VLOOKUP(Vlookup!$B155,'CDCM Volume Forecasts'!$A$28:$AL$136,G$143,FALSE)","v":58664.747249535598},{"$f":"VLOOKUP(Vlookup!$B155,'CDCM Volume Forecasts'!$A$28:$AL$136,H$143,FALSE)","v":557819.6962977408}]
["LDNO HV: HV HH Metered",{"$f":"VLOOKUP(Vlookup!$B156,'CDCM Volume Forecasts'!$A$28:$AL$136,B$143,FALSE)","v":7258.323341503462},{"$f":"VLOOKUP(Vlookup!$B156,'CDCM Volume Forecasts'!$A$28:$AL$136,C$143,FALSE)","v":23980.296053899532},{"$f":"VLOOKUP(Vlookup!$B156,'CDCM Volume Forecasts'!$A$28:$AL$136,D$143,FALSE)","v":38623.664534907308},{"$f":"VLOOKUP(Vlookup!$B156,'CDCM Volume Forecasts'!$A$28:$AL$136,E$143,FALSE)","v":38.408595450387928},{"$f":"VLOOKUP(Vlookup!$B156,'CDCM Volume Forecasts'!$A$28:$AL$136,F$143,FALSE)","v":48748.253499353094},{"$f":"VLOOKUP(Vlookup!$B156,'CDCM Volume Forecasts'!$A$28:$AL$136,G$143,FALSE)","v":199.08329496396499},{"$f":"VLOOKUP(Vlookup!$B156,'CDCM Volume Forecasts'!$A$28:$AL$136,H$143,FALSE)","v":2217.4648647360805}]
["> NHH UMS category A"]
["NHH UMS category A",{"$f":"VLOOKUP(Vlookup!$B158,'CDCM Volume Forecasts'!$A$28:$AL$136,B$143,FALSE)","v":34134.893703773516},null,null,{"$f":"VLOOKUP(Vlookup!$B158,'CDCM Volume Forecasts'!$A$28:$AL$136,E$143,FALSE)","v":1567}]
["LDNO LV: NHH UMS category A",{"$f":"VLOOKUP(Vlookup!$B159,'CDCM Volume Forecasts'!$A$28:$AL$136,B$143,FALSE)","v":275.22148000439415},null,null,{"$f":"VLOOKUP(Vlookup!$B159,'CDCM Volume Forecasts'!$A$28:$AL$136,E$143,FALSE)","v":0}]
["LDNO HV: NHH UMS category A",{"$f":"VLOOKUP(Vlookup!$B160,'CDCM Volume Forecasts'!$A$28:$AL$136,B$143,FALSE)","v":531.75775905666319},null,null,{"$f":"VLOOKUP(Vlookup!$B160,'CDCM Volume Forecasts'!$A$28:$AL$136,E$143,FALSE)","v":0}]
["> NHH UMS category B"]
["NHH UMS category B",{"$f":"VLOOKUP(Vlookup!$B162,'CDCM Volume Forecasts'!$A$28:$AL$136,B$143,FALSE)","v":22466.149975166016},null,null,{"$f":"VLOOKUP(Vlookup!$B162,'CDCM Volume Forecasts'!$A$28:$AL$136,E$143,FALSE)","v":1279}]
["LDNO LV: NHH UMS category B",{"$f":"VLOOKUP(Vlookup!$B163,'CDCM Volume Forecasts'!$A$28:$AL$136,B$143,FALSE)","v":319.40114355377005},null,null,{"$f":"VLOOKUP(Vlookup!$B163,'CDCM Volume Forecasts'!$A$28:$AL$136,E$143,FALSE)","v":0}]
["LDNO HV: NHH UMS category B",{"$f":"VLOOKUP(Vlookup!$B164,'CDCM Volume Forecasts'!$A$28:$AL$136,B$143,FALSE)","v":613.630442356039},null,null,{"$f":"VLOOKUP(Vlookup!$B164,'CDCM Volume Forecasts'!$A$28:$AL$136,E$143,FALSE)","v":0}]
["> NHH UMS category C"]
["NHH UMS category C",{"$f":"VLOOKUP(Vlookup!$B166,'CDCM Volume Forecasts'!$A$28:$AL$136,B$143,FALSE)","v":339.10140823796002},null,null,{"$f":"VLOOKUP(Vlookup!$B166,'CDCM Volume Forecasts'!$A$28:$AL$136,E$143,FALSE)","v":194}]
["LDNO LV: NHH UMS category C",{"$f":"VLOOKUP(Vlookup!$B167,'CDCM Volume Forecasts'!$A$28:$AL$136,B$143,FALSE)","v":0},null,null,{"$f":"VLOOKUP(Vlookup!$B167,'CDCM Volume Forecasts'!$A$28:$AL$136,E$143,FALSE)","v":0}]
["LDNO HV: NHH UMS category C",{"$f":"VLOOKUP(Vlookup!$B168,'CDCM Volume Forecasts'!$A$28:$AL$136,B$143,FALSE)","v":0},null,null,{"$f":"VLOOKUP(Vlookup!$B168,'CDCM Volume Forecasts'!$A$28:$AL$136,E$143,FALSE)","v":0}]
["> NHH UMS category D"]
["NHH UMS category D",{"$f":"VLOOKUP(Vlookup!$B170,'CDCM Volume Forecasts'!$A$28:$AL$136,B$143,FALSE)","v":7208.5560845431746},null,null,{"$f":"VLOOKUP(Vlookup!$B170,'CDCM Volume Forecasts'!$A$28:$AL$136,E$143,FALSE)","v":247}]
["LDNO LV: NHH UMS category D",{"$f":"VLOOKUP(Vlookup!$B171,'CDCM Volume Forecasts'!$A$28:$AL$136,B$143,FALSE)","v":0},null,null,{"$f":"VLOOKUP(Vlookup!$B171,'CDCM Volume Forecasts'!$A$28:$AL$136,E$143,FALSE)","v":0}]
["LDNO HV: NHH UMS category D",{"$f":"VLOOKUP(Vlookup!$B172,'CDCM Volume Forecasts'!$A$28:$AL$136,B$143,FALSE)","v":0},null,null,{"$f":"VLOOKUP(Vlookup!$B172,'CDCM Volume Forecasts'!$A$28:$AL$136,E$143,FALSE)","v":0}]
["> LV UMS (Pseudo HH Metered)"]
["LV UMS (Pseudo HH Metered)",{"$f":"VLOOKUP(Vlookup!$B174,'CDCM Volume Forecasts'!$A$28:$AL$136,B$143,FALSE)","v":12092.426467732928},{"$f":"VLOOKUP(Vlookup!$B174,'CDCM Volume Forecasts'!$A$28:$AL$136,C$143,FALSE)","v":33947.071572281049},{"$f":"VLOOKUP(Vlookup!$B174,'CDCM Volume Forecasts'!$A$28:$AL$136,D$143,FALSE)","v":185619.80763357371},{"$f":"VLOOKUP(Vlookup!$B174,'CDCM Volume Forecasts'!$A$28:$AL$136,E$143,FALSE)","v":26.819672131147541}]
["LDNO LV: LV UMS (Pseudo HH Metered)",{"$f":"VLOOKUP(Vlookup!$B175,'CDCM Volume Forecasts'!$A$28:$AL$136,B$143,FALSE)","v":0},{"$f":"VLOOKUP(Vlookup!$B175,'CDCM Volume Forecasts'!$A$28:$AL$136,C$143,FALSE)","v":0},{"$f":"VLOOKUP(Vlookup!$B175,'CDCM Volume Forecasts'!$A$28:$AL$136,D$143,FALSE)","v":0},{"$f":"VLOOKUP(Vlookup!$B175,'CDCM Volume Forecasts'!$A$28:$AL$136,E$143,FALSE)","v":0}]
["LDNO HV: LV UMS (Pseudo HH Metered)",{"$f":"VLOOKUP(Vlookup!$B176,'CDCM Volume Forecasts'!$A$28:$AL$136,B$143,FALSE)","v":0},{"$f":"VLOOKUP(Vlookup!$B176,'CDCM Volume Forecasts'!$A$28:$AL$136,C$143,FALSE)","v":0},{"$f":"VLOOKUP(Vlookup!$B176,'CDCM Volume Forecasts'!$A$28:$AL$136,D$143,FALSE)","v":0},{"$f":"VLOOKUP(Vlookup!$B176,'CDCM Volume Forecasts'!$A$28:$AL$136,E$143,FALSE)","v":0}]
["> LV Generation NHH or Aggregate HH"]
["LV Generation NHH or Aggregate HH",{"$f":"VLOOKUP(Vlookup!$B178,'CDCM Volume Forecasts'!$A$28:$AL$136,B$143,FALSE)","v":10233.9538335},null,null,{"$f":"VLOOKUP(Vlookup!$B178,'CDCM Volume Forecasts'!$A$28:$AL$136,E$143,FALSE)","v":136}]
["LDNO LV: LV Generation NHH or Aggregate HH",{"$f":"VLOOKUP(Vlookup!$B179,'CDCM Volume Forecasts'!$A$28:$AL$136,B$143,FALSE)","v":27.785378357142857},null,null,{"$f":"VLOOKUP(Vlookup!$B179,'CDCM Volume Forecasts'!$A$28:$AL$136,E$143,FALSE)","v":0}]
["LDNO HV: LV Generation NHH or Aggregate HH",{"$f":"VLOOKUP(Vlookup!$B180,'CDCM Volume Forecasts'!$A$28:$AL$136,B$143,FALSE)","v":0},null,null,{"$f":"VLOOKUP(Vlookup!$B180,'CDCM Volume Forecasts'!$A$28:$AL$136,E$143,FALSE)","v":0}]
["> LV Sub Generation NHH"]
["LV Sub Generation NHH",{"$f":"VLOOKUP(Vlookup!$B182,'CDCM Volume Forecasts'!$A$28:$AL$136,B$143,FALSE)","v":0},null,null,{"$f":"VLOOKUP(Vlookup!$B182,'CDCM Volume Forecasts'!$A$28:$AL$136,E$143,FALSE)","v":0}]
["LDNO HV: LV Sub Generation NHH",{"$f":"VLOOKUP(Vlookup!$B183,'CDCM Volume Forecasts'!$A$28:$AL$136,B$143,FALSE)","v":0},null,null,{"$f":"VLOOKUP(Vlookup!$B183,'CDCM Volume Forecasts'!$A$28:$AL$136,E$143,FALSE)","v":0}]
["> LV Generation Intermittent"]
["LV Generation Intermittent",{"$f":"VLOOKUP(Vlookup!$B185,'CDCM Volume Forecasts'!$A$28:$AL$136,B$143,FALSE)","v":39541.455472928566},null,null,{"$f":"VLOOKUP(Vlookup!$B185,'CDCM Volume Forecasts'!$A$28:$AL$136,E$143,FALSE)","v":697.57416393442611},null,null,{"$f":"VLOOKUP(Vlookup!$B185,'CDCM Volume Forecasts'!$A$28:$AL$136,H$143,FALSE)","v":4219.380690214286}]
["LDNO LV: LV Generation Intermittent",{"$f":"VLOOKUP(Vlookup!$B186,'CDCM Volume Forecasts'!$A$28:$AL$136,B$143,FALSE)","v":0},null,null,{"$f":"VLOOKUP(Vlookup!$B186,'CDCM Volume Forecasts'!$A$28:$AL$136,E$143,FALSE)","v":0},null,null,{"$f":"VLOOKUP(Vlookup!$B186,'CDCM Volume Forecasts'!$A$28:$AL$136,H$143,FALSE)","v":0}]
["LDNO HV: LV Generation Intermittent",{"$f":"VLOOKUP(Vlookup!$B187,'CDCM Volume Forecasts'!$A$28:$AL$136,B$143,FALSE)","v":72.668966078571486},null,null,{"$f":"VLOOKUP(Vlookup!$B187,'CDCM Volume Forecasts'!$A$28:$AL$136,E$143,FALSE)","v":4.4201475409836073},null,null,{"$f":"VLOOKUP(Vlookup!$B187,'CDCM Volume Forecasts'!$A$28:$AL$136,H$143,FALSE)","v":40.596061285714278}]
["> LV Generation Intermittent no RP charge"]
["LV Generation Intermittent no RP charge",{"$f":"VLOOKUP(Vlookup!$B189,'CDCM Volume Forecasts'!$A$28:$AL$136,B$143,FALSE)","v":0},null,null,{"$f":"VLOOKUP(Vlookup!$B189,'CDCM Volume Forecasts'!$A$28:$AL$136,E$143,FALSE)","v":0}]
["> LV Generation Non-Intermittent"]
["LV Generation Non-Intermittent",{"$f":"VLOOKUP(Vlookup!$B191,'CDCM Volume Forecasts'!$A$28:$AL$136,B$143,FALSE)","v":1593.5852929943649},{"$f":"VLOOKUP(Vlookup!$B191,'CDCM Volume Forecasts'!$A$28:$AL$136,C$143,FALSE)","v":6242.3922614252333},{"$f":"VLOOKUP(Vlookup!$B191,'CDCM Volume Forecasts'!$A$28:$AL$136,D$143,FALSE)","v":9539.9119603497784},{"$f":"VLOOKUP(Vlookup!$B191,'CDCM Volume Forecasts'!$A$28:$AL$136,E$143,FALSE)","v":105.72703893442623},null,null,{"$f":"VLOOKUP(Vlookup!$B191,'CDCM Volume Forecasts'!$A$28:$AL$136,H$143,FALSE)","v":667.62919715625003}]
["LDNO LV: LV Generation Non-Intermittent",{"$f":"VLOOKUP(Vlookup!$B192,'CDCM Volume Forecasts'!$A$28:$AL$136,B$143,FALSE)","v":0},{"$f":"VLOOKUP(Vlookup!$B192,'CDCM Volume Forecasts'!$A$28:$AL$136,C$143,FALSE)","v":0},{"$f":"VLOOKUP(Vlookup!$B192,'CDCM Volume Forecasts'!$A$28:$AL$136,D$143,FALSE)","v":0},{"$f":"VLOOKUP(Vlookup!$B192,'CDCM Volume Forecasts'!$A$28:$AL$136,E$143,FALSE)","v":0},null,null,{"$f":"VLOOKUP(Vlookup!$B192,'CDCM Volume Forecasts'!$A$28:$AL$136,H$143,FALSE)","v":0}]
["LDNO HV: LV Generation Non-Intermittent",{"$f":"VLOOKUP(Vlookup!$B193,'CDCM Volume Forecasts'!$A$28:$AL$136,B$143,FALSE)","v":0},{"$f":"VLOOKUP(Vlookup!$B193,'CDCM Volume Forecasts'!$A$28:$AL$136,C$143,FALSE)","v":0},{"$f":"VLOOKUP(Vlookup!$B193,'CDCM Volume Forecasts'!$A$28:$AL$136,D$143,FALSE)","v":0},{"$f":"VLOOKUP(Vlookup!$B193,'CDCM Volume Forecasts'!$A$28:$AL$136,E$143,FALSE)","v":0},null,null,{"$f":"VLOOKUP(Vlookup!$B193,'CDCM Volume Forecasts'!$A$28:$AL$136,H$143,FALSE)","v":0}]
["> LV Generation Non-Intermittent no RP charge"]
["LV Generation Non-Intermittent no RP charge",{"$f":"VLOOKUP(Vlookup!$B195,'CDCM Volume Forecasts'!$A$28:$AL$136,B$143,FALSE)","v":0},{"$f":"VLOOKUP(Vlookup!$B195,'CDCM Volume Forecasts'!$A$28:$AL$136,C$143,FALSE)","v":0},{"$f":"VLOOKUP(Vlookup!$B195,'CDCM Volume Forecasts'!$A$28:$AL$136,D$143,FALSE)","v":0},{"$f":"VLOOKUP(Vlookup!$B195,'CDCM Volume Forecasts'!$A$28:$AL$136,E$143,FALSE)","v":0}]
["> LV Sub Generation Intermittent"]
["LV Sub Generation Intermittent",{"$f":"VLOOKUP(Vlookup!$B197,'CDCM Volume Forecasts'!$A$28:$AL$136,B$143,FALSE)","v":3841.6564052142853},null,null,{"$f":"VLOOKUP(Vlookup!$B197,'CDCM Volume Forecasts'!$A$28:$AL$136,E$143,FALSE)","v":31.306393442622948},null,null,{"$f":"VLOOKUP(Vlookup!$B197,'CDCM Volume Forecasts'!$A$28:$AL$136,H$143,FALSE)","v":365.0749339285714}]
["LDNO HV: LV Sub Generation Intermittent",{"$f":"VLOOKUP(Vlookup!$B198,'CDCM Volume Forecasts'!$A$28:$AL$136,B$143,FALSE)","v":0},null,null,{"$f":"VLOOKUP(Vlookup!$B198,'CDCM Volume Forecasts'!$A$28:$AL$136,E$143,FALSE)","v":0},null,null,{"$f":"VLOOKUP(Vlookup!$B198,'CDCM Volume Forecasts'!$A$28:$AL$136,H$143,FALSE)","v":0}]
["> LV Sub Generation Intermittent no RP charge"]
["LV Sub Generation Intermittent no RP charge",{"$f":"VLOOKUP(Vlookup!$B200,'CDCM Volume Forecasts'!$A$28:$AL$136,B$143,FALSE)","v":0},null,null,{"$f":"VLOOKUP(Vlookup!$B200,'CDCM Volume Forecasts'!$A$28:$AL$136,E$143,FALSE)","v":0}]
["> LV Sub Generation Non-Intermittent"]
["LV Sub Generation Non-Intermittent",{"$f":"VLOOKUP(Vlookup!$B202,'CDCM Volume Forecasts'!$A$28:$AL$136,B$143,FALSE)","v":504.40105263481149},{"$f":"VLOOKUP(Vlookup!$B202,'CDCM Volume Forecasts'!$A$28:$AL$136,C$143,FALSE)","v":1662.050757533578},{"$f":"VLOOKUP(Vlookup!$B202,'CDCM Volume Forecasts'!$A$28:$AL$136,D$143,FALSE)","v":3695.4007858319828},{"$f":"VLOOKUP(Vlookup!$B202,'CDCM Volume Forecasts'!$A$28:$AL$136,E$143,FALSE)","v":6.1367981557377052},null,null,{"$f":"VLOOKUP(Vlookup!$B202,'CDCM Volume Forecasts'!$A$28:$AL$136,H$143,FALSE)","v":368.17388015624999}]
["LDNO HV: LV Sub Generation Non-Intermittent",{"$f":"VLOOKUP(Vlookup!$B203,'CDCM Volume Forecasts'!$A$28:$AL$136,B$143,FALSE)","v":0},{"$f":"VLOOKUP(Vlookup!$B203,'CDCM Volume Forecasts'!$A$28:$AL$136,C$143,FALSE)","v":0},{"$f":"VLOOKUP(Vlookup!$B203,'CDCM Volume Forecasts'!$A$28:$AL$136,D$143,FALSE)","v":0},{"$f":"VLOOKUP(Vlookup!$B203,'CDCM Volume Forecasts'!$A$28:$AL$136,E$143,FALSE)","v":0},null,null,{"$f":"VLOOKUP(Vlookup!$B203,'CDCM Volume Forecasts'!$A$28:$AL$136,H$143,FALSE)","v":0}]
["> LV Sub Generation Non-Intermittent no RP charge"]
["LV Sub Generation Non-Intermittent no RP charge",{"$f":"VLOOKUP(Vlookup!$B205,'CDCM Volume Forecasts'!$A$28:$AL$136,B$143,FALSE)","v":0},{"$f":"VLOOKUP(Vlookup!$B205,'CDCM Volume Forecasts'!$A$28:$AL$136,C$143,FALSE)","v":0},{"$f":"VLOOKUP(Vlookup!$B205,'CDCM Volume Forecasts'!$A$28:$AL$136,D$143,FALSE)","v":0},{"$f":"VLOOKUP(Vlookup!$B205,'CDCM Volume Forecasts'!$A$28:$AL$136,E$143,FALSE)","v":0}]
["> HV Generation Intermittent"]
["HV Generation Intermittent",{"$f":"VLOOKUP(Vlookup!$B207,'CDCM Volume Forecasts'!$A$28:$AL$136,B$143,FALSE)","v":479000.82970478572},null,null,{"$f":"VLOOKUP(Vlookup!$B207,'CDCM Volume Forecasts'!$A$28:$AL$136,E$143,FALSE)","v":248.15567213114755},null,null,{"$f":"VLOOKUP(Vlookup!$B207,'CDCM Volume Forecasts'!$A$28:$AL$136,H$143,FALSE)","v":10496.618597785713}]
["LDNO HV: HV Generation Intermittent",{"$f":"VLOOKUP(Vlookup!$B208,'CDCM Volume Forecasts'!$A$28:$AL$136,B$143,FALSE)","v":18.630690000000001},null,null,{"$f":"VLOOKUP(Vlookup!$B208,'CDCM Volume Forecasts'!$A$28:$AL$136,E$143,FALSE)","v":0.6228852459016393},null,null,{"$f":"VLOOKUP(Vlookup!$B208,'CDCM Volume Forecasts'!$A$28:$AL$136,H$143,FALSE)","v":9.1079999999999994E-2}]
["> HV Generation Intermittent no RP charge"]
["HV Generation Intermittent no RP charge",{"$f":"VLOOKUP(Vlookup!$B210,'CDCM Volume Forecasts'!$A$28:$AL$136,B$143,FALSE)","v":0},null,null,{"$f":"VLOOKUP(Vlookup!$B210,'CDCM Volume Forecasts'!$A$28:$AL$136,E$143,FALSE)","v":0}]
["> HV Generation Non-Intermittent"]
["HV Generation Non-Intermittent",{"$f":"VLOOKUP(Vlookup!$B212,'CDCM Volume Forecasts'!$A$28:$AL$136,B$143,FALSE)","v":87733.660045539131},{"$f":"VLOOKUP(Vlookup!$B212,'CDCM Volume Forecasts'!$A$28:$AL$136,C$143,FALSE)","v":276082.28215805581},{"$f":"VLOOKUP(Vlookup!$B212,'CDCM Volume Forecasts'!$A$28:$AL$136,D$143,FALSE)","v":487742.29536974273},{"$f":"VLOOKUP(Vlookup!$B212,'CDCM Volume Forecasts'!$A$28:$AL$136,E$143,FALSE)","v":231.28838422131147},null,null,{"$f":"VLOOKUP(Vlookup!$B212,'CDCM Volume Forecasts'!$A$28:$AL$136,H$143,FALSE)","v":15003.980395031253}]
["LDNO HV: HV Generation Non-Intermittent",{"$f":"VLOOKUP(Vlookup!$B213,'CDCM Volume Forecasts'!$A$28:$AL$136,B$143,FALSE)","v":0},{"$f":"VLOOKUP(Vlookup!$B213,'CDCM Volume Forecasts'!$A$28:$AL$136,C$143,FALSE)","v":0},{"$f":"VLOOKUP(Vlookup!$B213,'CDCM Volume Forecasts'!$A$28:$AL$136,D$143,FALSE)","v":0},{"$f":"VLOOKUP(Vlookup!$B213,'CDCM Volume Forecasts'!$A$28:$AL$136,E$143,FALSE)","v":0},null,null,{"$f":"VLOOKUP(Vlookup!$B213,'CDCM Volume Forecasts'!$A$28:$AL$136,H$143,FALSE)","v":0}]
["> HV Generation Non-Intermittent no RP charge"]
["HV Generation Non-Intermittent no RP charge",{"$f":"VLOOKUP(Vlookup!$B215,'CDCM Volume Forecasts'!$A$28:$AL$136,B$143,FALSE)","v":0},{"$f":"VLOOKUP(Vlookup!$B215,'CDCM Volume Forecasts'!$A$28:$AL$136,C$143,FALSE)","v":0},{"$f":"VLOOKUP(Vlookup!$B215,'CDCM Volume Forecasts'!$A$28:$AL$136,D$143,FALSE)","v":0},{"$f":"VLOOKUP(Vlookup!$B215,'CDCM Volume Forecasts'!$A$28:$AL$136,E$143,FALSE)","v":0}]
[]
["1055. Transmission exit charges (£/year)"]
[""]
["Source: forecast."]
[null,"Transmission\nexit"]
["Transmission exit charges (£/year)",{"$f":"VLOOKUP(Vlookup!B221,'CDCM Forecast Data'!$A$14:$I$271,9,FALSE)","v":16632117.075494064},""]
[]
["1059. Other expenditure"]
[""]
[null,"Direct cost (£/year)","Indirect cost (£/year)","Indirect cost proportion","Network rates (£/year)"]
["Other expenditure",{"$f":"VLOOKUP(Vlookup!B226,'CDCM Forecast Data'!$A$14:$I$271,9,FALSE)","v":39313847.471639611},{"$f":"VLOOKUP(Vlookup!C226,'CDCM Forecast Data'!$A$14:$I$271,9,FALSE)","v":139539446.76214176},{"$f":"VLOOKUP(Vlookup!D226,'CDCM Forecast Data'!$A$14:$I$271,9,FALSE)","v":0.6},{"$f":"VLOOKUP(Vlookup!E226,'CDCM Forecast Data'!$A$14:$I$271,9,FALSE)","v":33357159.085319608},""]
[]
["1060. Customer contributions under current connection charging policy"]
[]
["Source: analysis of expenditure data and/or survey of capital expenditure schemes."]
["Customer contribution percentages by network level of supply and by asset network level."]
["These proportions should reflect the current connection charging method, not necessarily the method that was in place when the connection was built."]
[null,"Assets\n132kV","Assets\n132kV/EHV","Assets\nEHV","Assets\nEHV/HV","Assets\n132kV/HV","Assets\nHV","Assets\nHV/LV","Assets\nLV circuits"]
["LV network",{"$f":"VLOOKUP(Vlookup!B234,'CDCM Forecast Data'!$A$14:$I$271,9,FALSE)","v":0},{"$f":"VLOOKUP(Vlookup!C234,'CDCM Forecast Data'!$A$14:$I$271,9,FALSE)","v":0},{"$f":"VLOOKUP(Vlookup!D234,'CDCM Forecast Data'!$A$14:$I$271,9,FALSE)","v":0},{"$f":"VLOOKUP(Vlookup!E234,'CDCM Forecast Data'!$A$14:$I$271,9,FALSE)","v":0},{"$f":"VLOOKUP(Vlookup!F234,'CDCM Forecast Data'!$A$14:$I$271,9,FALSE)","v":0},{"$f":"VLOOKUP(Vlookup!G234,'CDCM Forecast Data'!$A$14:$I$271,9,FALSE)","v":0.47913351897273304},{"$f":"VLOOKUP(Vlookup!H234,'CDCM Forecast Data'!$A$14:$I$271,9,FALSE)","v":0.70892384564689981},{"$f":"VLOOKUP(Vlookup!I234,'CDCM Forecast Data'!$A$14:$I$271,9,FALSE)","v":0.93871417232106646},""]
["LV substation",{"$f":"VLOOKUP(Vlookup!B235,'CDCM Forecast Data'!$A$14:$I$271,9,FALSE)","v":0},{"$f":"VLOOKUP(Vlookup!C235,'CDCM Forecast Data'!$A$14:$I$271,9,FALSE)","v":0},{"$f":"VLOOKUP(Vlookup!D235,'CDCM Forecast Data'!$A$14:$I$271,9,FALSE)","v":0},{"$f":"VLOOKUP(Vlookup!E235,'CDCM Forecast Data'!$A$14:$I$271,9,FALSE)","v":0},{"$f":"VLOOKUP(Vlookup!F235,'CDCM Forecast Data'!$A$14:$I$271,9,FALSE)","v":0},{"$f":"VLOOKUP(Vlookup!G235,'CDCM Forecast Data'!$A$14:$I$271,9,FALSE)","v":0.47913351897273304},{"$f":"VLOOKUP(Vlookup!H235,'CDCM Forecast Data'!$A$14:$I$271,9,FALSE)","v":0.70892384564689981},null,""]
["HV network",{"$f":"VLOOKUP(Vlookup!B236,'CDCM Forecast Data'!$A$14:$I$271,9,FALSE)","v":0},{"$f":"VLOOKUP(Vlookup!C236,'CDCM Forecast Data'!$A$14:$I$271,9,FALSE)","v":0},{"$f":"VLOOKUP(Vlookup!D236,'CDCM Forecast Data'!$A$14:$I$271,9,FALSE)","v":6.5420049562801799E-2},{"$f":"VLOOKUP(Vlookup!E236,'CDCM Forecast Data'!$A$14:$I$271,9,FALSE)","v":0.35162962287700078},{"$f":"VLOOKUP(Vlookup!F236,'CDCM Forecast Data'!$A$14:$I$271,9,FALSE)","v":0.35162962287700078},{"$f":"VLOOKUP(Vlookup!G236,'CDCM Forecast Data'!$A$14:$I$271,9,FALSE)","v":0.63783919619119978},null,null,""]
["HV substation",{"$f":"VLOOKUP(Vlookup!B237,'CDCM Forecast Data'!$A$14:$I$271,9,FALSE)","v":0},{"$f":"VLOOKUP(Vlookup!C237,'CDCM Forecast Data'!$A$14:$I$271,9,FALSE)","v":0},{"$f":"VLOOKUP(Vlookup!D237,'CDCM Forecast Data'!$A$14:$I$271,9,FALSE)","v":6.5420049562801799E-2},{"$f":"VLOOKUP(Vlookup!E237,'CDCM Forecast Data'!$A$14:$I$271,9,FALSE)","v":0.35162962287700078},null,null,null,null,""]
[]
["1061. Average split of rate 1 units by distribution time band"]
[]
[null,"Red","Amber","Green"]
["Domestic Unrestricted",{"$f":"VLOOKUP(Vlookup!B247,'CDCM Forecast Data'!$A$14:$I$271,9,FALSE)","v":0.14320337799237601},{"$f":"VLOOKUP(Vlookup!C247,'CDCM Forecast Data'!$A$14:$I$271,9,FALSE)","v":0.39651561494177523},{"$f":"VLOOKUP(Vlookup!D247,'CDCM Forecast Data'!$A$14:$I$271,9,FALSE)","v":0.46028100706584879},""]
["Domestic Two Rate",{"$f":"VLOOKUP(Vlookup!B248,'CDCM Forecast Data'!$A$14:$I$271,9,FALSE)","v":0.1514252192479435},{"$f":"VLOOKUP(Vlookup!C248,'CDCM Forecast Data'!$A$14:$I$271,9,FALSE)","v":0.41991396852294577},{"$f":"VLOOKUP(Vlookup!D248,'CDCM Forecast Data'!$A$14:$I$271,9,FALSE)","v":0.42866081222911073},""]
["Domestic Off Peak (related MPAN)",{"$f":"VLOOKUP(Vlookup!B249,'CDCM Forecast Data'!$A$14:$I$271,9,FALSE)","v":4.4815359759835215E-2},{"$f":"VLOOKUP(Vlookup!C249,'CDCM Forecast Data'!$A$14:$I$271,9,FALSE)","v":0.32491376716050352},{"$f":"VLOOKUP(Vlookup!D249,'CDCM Forecast Data'!$A$14:$I$271,9,FALSE)","v":0.63027087307966123}]
["Small Non Domestic Unrestricted",{"$f":"VLOOKUP(Vlookup!B250,'CDCM Forecast Data'!$A$14:$I$271,9,FALSE)","v":0.12448955251915084},{"$f":"VLOOKUP(Vlookup!C250,'CDCM Forecast Data'!$A$14:$I$271,9,FALSE)","v":0.54839946451589383},{"$f":"VLOOKUP(Vlookup!D250,'CDCM Forecast Data'!$A$14:$I$271,9,FALSE)","v":0.32711098296495528}]
["Small Non Domestic Two Rate",{"$f":"VLOOKUP(Vlookup!B251,'CDCM Forecast Data'!$A$14:$I$271,9,FALSE)","v":0.12789989767459184},{"$f":"VLOOKUP(Vlookup!C251,'CDCM Forecast Data'!$A$14:$I$271,9,FALSE)","v":0.51407192992762296},{"$f":"VLOOKUP(Vlookup!D251,'CDCM Forecast Data'!$A$14:$I$271,9,FALSE)","v":0.35802817239778517},""]
["Small Non Domestic Off Peak (related MPAN)",{"$f":"VLOOKUP(Vlookup!B252,'CDCM Forecast Data'!$A$14:$I$271,9,FALSE)","v":1.6662746927756659E-2},{"$f":"VLOOKUP(Vlookup!C252,'CDCM Forecast Data'!$A$14:$I$271,9,FALSE)","v":0.18539360436192651},{"$f":"VLOOKUP(Vlookup!D252,'CDCM Forecast Data'!$A$14:$I$271,9,FALSE)","v":0.79794364871031676},""]
["LV Medium Non-Domestic",{"$f":"VLOOKUP(Vlookup!B253,'CDCM Forecast Data'!$A$14:$I$271,9,FALSE)","v":0.13578714746948006},{"$f":"VLOOKUP(Vlookup!C253,'CDCM Forecast Data'!$A$14:$I$271,9,FALSE)","v":0.52737188616472797},{"$f":"VLOOKUP(Vlookup!D253,'CDCM Forecast Data'!$A$14:$I$271,9,FALSE)","v":0.33684096636579203},""]
["LV Sub Medium Non-Domestic",{"$f":"VLOOKUP(Vlookup!B254,'CDCM Forecast Data'!$A$14:$I$271,9,FALSE)","v":0.13396894905730031},{"$f":"VLOOKUP(Vlookup!C254,'CDCM Forecast Data'!$A$14:$I$271,9,FALSE)","v":0.52405310526112514},{"$f":"VLOOKUP(Vlookup!D254,'CDCM Forecast Data'!$A$14:$I$271,9,FALSE)","v":0.34197794568157458},""]
["HV Medium Non-Domestic",{"$f":"VLOOKUP(Vlookup!B255,'CDCM Forecast Data'!$A$14:$I$271,9,FALSE)","v":0.13341246842462706},{"$f":"VLOOKUP(Vlookup!C255,'CDCM Forecast Data'!$A$14:$I$271,9,FALSE)","v":0.54105928671962722},{"$f":"VLOOKUP(Vlookup!D255,'CDCM Forecast Data'!$A$14:$I$271,9,FALSE)","v":0.32552824485574577},""]
[]
["1062. Average split of rate 2 units by distribution time band"]
[]
[null,"Red","Amber","Green"]
["Domestic Two Rate",{"$f":"VLOOKUP(Vlookup!B263,'CDCM Forecast Data'!$A$14:$I$271,9,FALSE)","v":0},{"$f":"VLOOKUP(Vlookup!C263,'CDCM Forecast Data'!$A$14:$I$271,9,FALSE)","v":0},{"$f":"VLOOKUP(Vlookup!D263,'CDCM Forecast Data'!$A$14:$I$271,9,FALSE)","v":1},""]
["Small Non Domestic Two Rate",{"$f":"VLOOKUP(Vlookup!B264,'CDCM Forecast Data'!$A$14:$I$271,9,FALSE)","v":0},{"$f":"VLOOKUP(Vlookup!C264,'CDCM Forecast Data'!$A$14:$I$271,9,FALSE)","v":0},{"$f":"VLOOKUP(Vlookup!D264,'CDCM Forecast Data'!$A$14:$I$271,9,FALSE)","v":1},""]
["LV Medium Non-Domestic",{"$f":"VLOOKUP(Vlookup!B265,'CDCM Forecast Data'!$A$14:$I$271,9,FALSE)","v":0},{"$f":"VLOOKUP(Vlookup!C265,'CDCM Forecast Data'!$A$14:$I$271,9,FALSE)","v":0},{"$f":"VLOOKUP(Vlookup!D265,'CDCM Forecast Data'!$A$14:$I$271,9,FALSE)","v":1},""]
["LV Sub Medium Non-Domestic",{"$f":"VLOOKUP(Vlookup!B266,'CDCM Forecast Data'!$A$14:$I$271,9,FALSE)","v":0},{"$f":"VLOOKUP(Vlookup!C266,'CDCM Forecast Data'!$A$14:$I$271,9,FALSE)","v":0},{"$f":"VLOOKUP(Vlookup!D266,'CDCM Forecast Data'!$A$14:$I$271,9,FALSE)","v":1},""]
["HV Medium Non-Domestic",{"$f":"VLOOKUP(Vlookup!B267,'CDCM Forecast Data'!$A$14:$I$271,9,FALSE)","v":0},{"$f":"VLOOKUP(Vlookup!C267,'CDCM Forecast Data'!$A$14:$I$271,9,FALSE)","v":0},{"$f":"VLOOKUP(Vlookup!D267,'CDCM Forecast Data'!$A$14:$I$271,9,FALSE)","v":1},""]
[]
["1064. Average split of rate 1 units by special distribution time band"]
[]
[null,"Black","Yellow","Green",""]
["NHH UMS category A",{"$f":"VLOOKUP(Vlookup!B272,'CDCM Forecast Data'!$A$14:$I$271,9,FALSE)","v":2.9311076178356665E-2},{"$f":"VLOOKUP(Vlookup!C272,'CDCM Forecast Data'!$A$14:$I$271,9,FALSE)","v":0.37306092022856002},{"$f":"VLOOKUP(Vlookup!D272,'CDCM Forecast Data'!$A$14:$I$271,9,FALSE)","v":0.59762800359308332},""]
["NHH UMS category B",{"$f":"VLOOKUP(Vlookup!B273,'CDCM Forecast Data'!$A$14:$I$271,9,FALSE)","v":5.0432747136262314E-2},{"$f":"VLOOKUP(Vlookup!C273,'CDCM Forecast Data'!$A$14:$I$271,9,FALSE)","v":9.024866969588996E-2},{"$f":"VLOOKUP(Vlookup!D273,'CDCM Forecast Data'!$A$14:$I$271,9,FALSE)","v":0.8593185831678477},""]
["NHH UMS category C",{"$f":"VLOOKUP(Vlookup!B274,'CDCM Forecast Data'!$A$14:$I$271,9,FALSE)","v":9.6185231748668151E-2},{"$f":"VLOOKUP(Vlookup!C274,'CDCM Forecast Data'!$A$14:$I$271,9,FALSE)","v":0.16334039820901594},{"$f":"VLOOKUP(Vlookup!D274,'CDCM Forecast Data'!$A$14:$I$271,9,FALSE)","v":0.74047437004231587},""]
["NHH UMS category D",{"$f":"VLOOKUP(Vlookup!B275,'CDCM Forecast Data'!$A$14:$I$271,9,FALSE)","v":8.830567560272817E-3},{"$f":"VLOOKUP(Vlookup!C275,'CDCM Forecast Data'!$A$14:$I$271,9,FALSE)","v":0.63540611125889146},{"$f":"VLOOKUP(Vlookup!D275,'CDCM Forecast Data'!$A$14:$I$271,9,FALSE)","v":0.35576332118083581},""]
[]
["1066. Typical annual hours by special distribution time band"]
["Source: definition of distribution time bands."]
["The figures in this table will be automatically adjusted to match the number of days in the charging period."]
[]
[null,"Black","Yellow","Green"]
["Annual hours",{"$f":"VLOOKUP(Vlookup!B282,'CDCM Forecast Data'!$A$14:$I$271,9,FALSE)","v":261},{"$f":"VLOOKUP(Vlookup!C282,'CDCM Forecast Data'!$A$14:$I$271,9,FALSE)","v":3249},{"$f":"VLOOKUP(Vlookup!D282,'CDCM Forecast Data'!$A$14:$I$271,9,FALSE)","v":5274},""]
[]
["1068. Typical annual hours by distribution time band"]
[]
["Source: definition of distribution time bands."]
["The figures in this table will be automatically adjusted to match the number of days in the charging period."]
[null,"Red","Amber","Green"]
["Annual hours",{"$f":"VLOOKUP(Vlookup!B289,'CDCM Forecast Data'!$A$14:$I$271,9,FALSE)","v":780},{"$f":"VLOOKUP(Vlookup!C289,'CDCM Forecast Data'!$A$14:$I$271,9,FALSE)","v":2730},{"$f":"VLOOKUP(Vlookup!D289,'CDCM Forecast Data'!$A$14:$I$271,9,FALSE)","v":5274},""]
[]
["1069. Peaking probabilities by network level"]
[]
[]
["Source: analysis of network operation data."]
[null,"Red","Amber","Green","Black"]
["GSPs",{"$f":"VLOOKUP(Vlookup!B295,'CDCM Forecast Data'!$A$14:$I$271,9,FALSE)","v":1},{"$f":"VLOOKUP(Vlookup!C295,'CDCM Forecast Data'!$A$14:$I$271,9,FALSE)","v":0},{"$f":"VLOOKUP(Vlookup!D295,'CDCM Forecast Data'!$A$14:$I$271,9,FALSE)","v":0},{"$f":"VLOOKUP(Vlookup!E295,'CDCM Forecast Data'!$A$14:$I$271,9,FALSE)","v":1},""]
["132kV",{"$f":"VLOOKUP(Vlookup!B296,'CDCM Forecast Data'!$A$14:$I$271,9,FALSE)","v":0.78083657486560021},{"$f":"VLOOKUP(Vlookup!C296,'CDCM Forecast Data'!$A$14:$I$271,9,FALSE)","v":0.20804160459605281},{"$f":"VLOOKUP(Vlookup!D296,'CDCM Forecast Data'!$A$14:$I$271,9,FALSE)","v":1.1121820538347099E-2},{"$f":"VLOOKUP(Vlookup!E296,'CDCM Forecast Data'!$A$14:$I$271,9,FALSE)","v":0.76764541372159689},""]
["132kV/EHV",{"$f":"VLOOKUP(Vlookup!B297,'CDCM Forecast Data'!$A$14:$I$271,9,FALSE)","v":0.78083657486560021},{"$f":"VLOOKUP(Vlookup!C297,'CDCM Forecast Data'!$A$14:$I$271,9,FALSE)","v":0.20804160459605281},{"$f":"VLOOKUP(Vlookup!D297,'CDCM Forecast Data'!$A$14:$I$271,9,FALSE)","v":1.1121820538347099E-2},{"$f":"VLOOKUP(Vlookup!E297,'CDCM Forecast Data'!$A$14:$I$271,9,FALSE)","v":0.76764541372159689},""]
["EHV",{"$f":"VLOOKUP(Vlookup!B298,'CDCM Forecast Data'!$A$14:$I$271,9,FALSE)","v":0.66321603936627416},{"$f":"VLOOKUP(Vlookup!C298,'CDCM Forecast Data'!$A$14:$I$271,9,FALSE)","v":0.29786987200550125},{"$f":"VLOOKUP(Vlookup!D298,'CDCM Forecast Data'!$A$14:$I$271,9,FALSE)","v":3.8914088628224541E-2},{"$f":"VLOOKUP(Vlookup!E298,'CDCM Forecast Data'!$A$14:$I$271,9,FALSE)","v":0.65256034025485976},""]
["EHV/HV",{"$f":"VLOOKUP(Vlookup!B299,'CDCM Forecast Data'!$A$14:$I$271,9,FALSE)","v":0.66321603936627416},{"$f":"VLOOKUP(Vlookup!C299,'CDCM Forecast Data'!$A$14:$I$271,9,FALSE)","v":0.29786987200550125},{"$f":"VLOOKUP(Vlookup!D299,'CDCM Forecast Data'!$A$14:$I$271,9,FALSE)","v":3.8914088628224541E-2},{"$f":"VLOOKUP(Vlookup!E299,'CDCM Forecast Data'!$A$14:$I$271,9,FALSE)","v":0.65256034025485976},""]
["132kV/HV",{"$f":"VLOOKUP(Vlookup!B300,'CDCM Forecast Data'!$A$14:$I$271,9,FALSE)","v":0.78083657486560021},{"$f":"VLOOKUP(Vlookup!C300,'CDCM Forecast Data'!$A$14:$I$271,9,FALSE)","v":0.20804160459605281},{"$f":"VLOOKUP(Vlookup!D300,'CDCM Forecast Data'!$A$14:$I$271,9,FALSE)","v":1.1121820538347099E-2},{"$f":"VLOOKUP(Vlookup!E300,'CDCM Forecast Data'!$A$14:$I$271,9,FALSE)","v":0.76764541372159689},""]
["HV",{"$f":"VLOOKUP(Vlookup!B301,'CDCM Forecast Data'!$A$14:$I$271,9,FALSE)","v":0.66321603936627416},{"$f":"VLOOKUP(Vlookup!C301,'CDCM Forecast Data'!$A$14:$I$271,9,FALSE)","v":0.29786987200550125},{"$f":"VLOOKUP(Vlookup!D301,'CDCM Forecast Data'!$A$14:$I$271,9,FALSE)","v":3.8914088628224541E-2},{"$f":"VLOOKUP(Vlookup!E301,'CDCM Forecast Data'!$A$14:$I$271,9,FALSE)","v":0.65256034025485976},""]
["HV/LV",{"$f":"VLOOKUP(Vlookup!B302,'CDCM Forecast Data'!$A$14:$I$271,9,FALSE)","v":0.66321603936627416},{"$f":"VLOOKUP(Vlookup!C302,'CDCM Forecast Data'!$A$14:$I$271,9,FALSE)","v":0.29786987200550125},{"$f":"VLOOKUP(Vlookup!D302,'CDCM Forecast Data'!$A$14:$I$271,9,FALSE)","v":3.8914088628224541E-2},{"$f":"VLOOKUP(Vlookup!E302,'CDCM Forecast Data'!$A$14:$I$271,9,FALSE)","v":0.65256034025485976},""]
["LV circuits",{"$f":"VLOOKUP(Vlookup!B303,'CDCM Forecast Data'!$A$14:$I$271,9,FALSE)","v":0.66321603936627416},{"$f":"VLOOKUP(Vlookup!C303,'CDCM Forecast Data'!$A$14:$I$271,9,FALSE)","v":0.29786987200550125},{"$f":"VLOOKUP(Vlookup!D303,'CDCM Forecast Data'!$A$14:$I$271,9,FALSE)","v":3.8914088628224541E-2},{"$f":"VLOOKUP(Vlookup!E303,'CDCM Forecast Data'!$A$14:$I$271,9,FALSE)","v":0.65256034025485976},""]
[]
["1076. Target CDCM net revenue (£/year)"]
["Source: mostly forecasts and price control formulae."]
[]
[null,"Target CDCM net revenue (£/year)"]
["Target CDCM net revenue (£/year)",{"$f":"1000000*'Table 1'!J48","v":566961018.90815854}]
[]
["1092. Average kVAr by kVA, by network level"]
[""]
["Source: analysis of operational data."]
["This is the average of MVAr/MVA or SQRT(1-PF^2) across relevant network elements."]
[null,"GSPs","132kV","132kV/EHV","EHV","EHV/HV","132kV/HV","HV","HV/LV","LV circuits"]
["Average kVAr by kVA, by network level",{"$f":"VLOOKUP(Vlookup!B310,'CDCM Forecast Data'!$A$14:$I$271,9,FALSE)","v":0.17488998364096539},{"$f":"VLOOKUP(Vlookup!C310,'CDCM Forecast Data'!$A$14:$I$271,9,FALSE)","v":0.17488998364096539},{"$f":"VLOOKUP(Vlookup!D310,'CDCM Forecast Data'!$A$14:$I$271,9,FALSE)","v":0.17488998364096539},{"$f":"VLOOKUP(Vlookup!E310,'CDCM Forecast Data'!$A$14:$I$271,9,FALSE)","v":0.17488998364096539},{"$f":"VLOOKUP(Vlookup!F310,'CDCM Forecast Data'!$A$14:$I$271,9,FALSE)","v":0.17488998364096539},{"$f":"VLOOKUP(Vlookup!G310,'CDCM Forecast Data'!$A$14:$I$271,9,FALSE)","v":0.17488998364096539},{"$f":"VLOOKUP(Vlookup!H310,'CDCM Forecast Data'!$A$14:$I$271,9,FALSE)","v":0.17488998364096539},{"$f":"VLOOKUP(Vlookup!I310,'CDCM Forecast Data'!$A$14:$I$271,9,FALSE)","v":0.17488998364096539},{"$f":"VLOOKUP(Vlookup!J310,'CDCM Forecast Data'!$A$14:$I$271,9,FALSE)","v":0.17488998364096539},""]

{"sheet":"Tariffs ARP","index":13,"n_rows":436,"n_cols":13,"rows_kept":436,"cut":false,"hidden":false,"merged":[[4,5,6,9]]}
[]
[null,{"$f":"'CDCM Forecast Data'!E3&\" - 5 Year Tariff Summary\"","v":"WPD East Midlands - 5 Year Tariff Summary"}]
[]
[]
[null,null,null,"Shortcut",null,"Note: These tariffs are based on the assumptions set out in the CDCM forecast Data and CDCM Volume Forecast sheets.\nIf the assumptions in these sheets have been changed, the tariffs can be updated by pressing the button below."]
[null,null,"Year 0:",{"$f":"+'CDCM Volume Forecasts'!G6","v":"2019/20"}]
[null,null,"Year 1:",{"$f":"+'CDCM Volume Forecasts'!H6","v":"2020/21"}]
[null,null,"Year 2:",{"$f":"+'CDCM Volume Forecasts'!I6","v":"2021/22"}]
[null,null,"Year 3:",{"$f":"+'CDCM Volume Forecasts'!J6","v":"2022/23"}]
[null,null,"Year 4:",{"$f":"+'CDCM Volume Forecasts'!K6","v":"2023/24"}]
[]
[]
[]
[]
[]
[]
[null,null,{"$f":"\"Tariffs for Charging Year: \"& \" \"&D6&\"\"","v":"Tariffs for Charging Year:  2019/20"}]
[]
[]
[null,null,null,"Open LLFCs","PCs","Unit rate 1 p/kWh","Unit rate 2 p/kWh","Unit rate 3 p/kWh","Fixed charge p/MPAN/day","Capacity charge p/kVA/day","Exceeded capacity charge p/kVA/day","Reactive power charge p/kVArh","Closed LLFCs"]
[null,null,"Domestic Unrestricted",1,1,2.06,0,0,3.03,0,0,0,2]
[null,null,"Domestic Two Rate",3,2,2.2909999999999999,0.89800000000000002,0,3.03,0,0,0,"4,  8,  10"]
[null,null,"Domestic Off Peak (related MPAN)",11,2,1.2629999999999999,0,0,0,0,0,0]
[null,null,"Small Non Domestic Unrestricted",13,3,2.1179999999999999,0,0,6.15,0,0,0,"22, 34, 43"]
[null,null,"Small Non Domestic Two Rate",37,4,2.1920000000000002,0.89800000000000002,0,6.15,0,0,0,"16, 19, 28, 31, 49, 52"]
[null,null,"Small Non Domestic Off Peak (related MPAN)",901,4,1.056,0,0,0,0,0,0]
[null,null,"LV Medium Non-Domestic",81,"5-8",2.1419999999999999,0.89400000000000002,0,17.329999999999998,0,0,0,"83, 85"]
[null,null,"LV Sub Medium Non-Domestic",80,"5-8",1.9970000000000001,0.88900000000000001,0,15.74,0,0,0]
[null,null,"HV Medium Non-Domestic",90,"5-8",1.361,0.86199999999999999,0,150.18,0,0,0]
[null,null,"LV Network Domestic",246,null,7.5659999999999998,1.544,0.89400000000000002,3.03,0,0,0]
[null,null,"LV Network Non-Domestic Non-CT",247,null,7.9980000000000002,1.5880000000000001,0.89700000000000002,6.15,0,0,0]
[null,null,"LV HH Metered","58, 990",null,6.0449999999999999,1.365,0.88300000000000001,8.6,2.66,5.75,0.129]
[null,null,"LV Sub HH Metered",59,null,4.6349999999999998,1.1890000000000001,0.871,6.71,3.44,5.43,0.09]
[null,null,"HV HH Metered","60, 991",null,3.129,1.018,0.86,72.5,4.13,6.24,4.7E-2,929]
[null,null,"NHH UMS category A",800,8,2.3570000000000002,0,0,0,0,0,0]
[null,null,"NHH UMS category B",801,1,2.6190000000000002,0,0,0,0,0,0]
[null,null,"NHH UMS category C",802,1,3.581,0,0,0,0,0,0]
[null,null,"NHH UMS category D",803,1,2.097,0,0,0,0,0,0]
[null,null,"LV UMS (Pseudo HH Metered)",804,null,21.657,2.13,1.552,0,0,0,0]
[null,null,"LV Generation NHH or Aggregate HH",986,"8&0",-0.626,0,0,0,0,0,0]
[null,null,"LV Sub Generation NHH",970,8,-0.54800000000000004,0,0,0,0,0,0]
[null,null,"LV Generation Intermittent",971,null,-0.626,0,0,0,0,0,0.14000000000000001]
[null,null,"LV Generation Intermittent no RP charge","141",null,-0.626,0,0,0,0,0,0]
[null,null,"LV Generation Non-Intermittent",973,null,-4.99,-0.51300000000000001,-0.03,0,0,0,0.14000000000000001]
[null,null,"LV Generation Non-Intermittent no RP charge","142",null,-4.99,-0.51300000000000001,-0.03,0,0,0,0]
[null,null,"LV Sub Generation Intermittent",972,null,-0.54800000000000004,0,0,0,0,0,0.122]
[null,null,"LV Sub Generation Intermittent no RP charge","143",null,-0.54800000000000004,0,0,0,0,0,0]
[null,null,"LV Sub Generation Non-Intermittent",974,null,-4.4020000000000001,-0.442,-2.5999999999999999E-2,0,0,0,0.122]
[null,null,"LV Sub Generation Non-Intermittent no RP charge","144",null,-4.4020000000000001,-0.442,-2.5999999999999999E-2,0,0,0,0]
[null,null,"HV Generation Intermittent",975,null,-0.33900000000000002,0,0,29.81,0,0,9.7000000000000003E-2]
[null,null,"HV Generation Intermittent no RP charge","145",null,-0.33900000000000002,0,0,29.81,0,0,0]
[null,null,"HV Generation Non-Intermittent",977,null,-2.851,-0.245,-1.2E-2,29.81,0,0,9.7000000000000003E-2]
[null,null,"HV Generation Non-Intermittent no RP charge","146",null,-2.851,-0.245,-1.2E-2,29.81,0,0,0]
[null,null,"LDNO LV: Domestic Unrestricted","10300",1,1.4410000000000001,0,0,2.12,0,0,0]
[null,null,"LDNO LV: Domestic Two Rate",10301,2,1.603,0.628,0,2.12,0,0,0]
[null,null,"LDNO LV: Domestic Off Peak (related MPAN)",10302,2,0.88400000000000001,0,0,0,0,0,0]
[null,null,"LDNO LV: Small Non Domestic Unrestricted",10303,3,1.482,0,0,4.3,0,0,0]
[null,null,"LDNO LV: Small Non Domestic Two Rate",10304,4,1.534,0.628,0,4.3,0,0,0]
[null,null,"LDNO LV: Small Non Domestic Off Peak (related MPAN)",10305,4,0.73899999999999999,0,0,0,0,0,0]
[null,null,"LDNO LV: LV Medium Non-Domestic",10306,"5-8",1.4990000000000001,0.625,0,12.12,0,0,0]
[null,null,"LDNO LV: LV Network Domestic",10307,null,5.2939999999999996,1.08,0.625,2.12,0,0,0]
[null,null,"LDNO LV: LV Network Non-Domestic Non-CT",10308,null,5.5960000000000001,1.111,0.628,4.3,0,0,0]
[null,null,"LDNO LV: LV HH Metered",10309,null,4.2290000000000001,0.95499999999999996,0.61799999999999999,6.02,1.86,4.0199999999999996,0.09]
[null,null,"LDNO LV: NHH UMS category A",10310,8,1.649,0,0,0,0,0,0]
[null,null,"LDNO LV: NHH UMS category B",10311,1,1.8320000000000001,0,0,0,0,0,0]
[null,null,"LDNO LV: NHH UMS category C",10312,1,2.5049999999999999,0,0,0,0,0,0]
[null,null,"LDNO LV: NHH UMS category D",10313,1,1.4670000000000001,0,0,0,0,0,0]
[null,null,"LDNO LV: LV UMS (Pseudo HH Metered)",10314,null,15.151999999999999,1.49,1.0860000000000001,0,0,0,0]
[null,null,"LDNO LV: LV Generation NHH or Aggregate HH",10315,"8&0",-0.626,0,0,0,0,0,0]
[null,null,"LDNO LV: LV Generation Intermittent",10316,null,-0.626,0,0,0,0,0,0.14000000000000001]
[null,null,"LDNO LV: LV Generation Non-Intermittent",10317,null,-4.99,-0.51300000000000001,-0.03,0,0,0,0.14000000000000001]
[null,null,"LDNO HV: Domestic Unrestricted",10318,1,1.075,0,0,1.58,0,0,0]
[null,null,"LDNO HV: Domestic Two Rate",10319,2,1.1950000000000001,0.46899999999999997,0,1.58,0,0,0]
[null,null,"LDNO HV: Domestic Off Peak (related MPAN)",10320,2,0.65900000000000003,0,0,0,0,0,0]
[null,null,"LDNO HV: Small Non Domestic Unrestricted",10321,3,1.105,0,0,3.21,0,0,0]
[null,null,"LDNO HV: Small Non Domestic Two Rate",10322,4,1.1439999999999999,0.46899999999999997,0,3.21,0,0,0]
[null,null,"LDNO HV: Small Non Domestic Off Peak (related MPAN)",10323,4,0.55100000000000005,0,0,0,0,0,0]
[null,null,"LDNO HV: LV Medium Non-Domestic",10324,"5-8",1.1180000000000001,0.46700000000000003,0,9.0399999999999991,0,0,0]
[null,null,"LDNO HV: LV Network Domestic",10325,null,3.948,0.80600000000000005,0.46700000000000003,1.58,0,0,0]
[null,null,"LDNO HV: LV Network Non-Domestic Non-CT",10326,null,4.1740000000000004,0.82899999999999996,0.46800000000000003,3.21,0,0,0]
[null,null,"LDNO HV: LV HH Metered",10327,null,3.1539999999999999,0.71199999999999997,0.46100000000000002,4.49,1.39,3,6.7000000000000004E-2]
[null,null,"LDNO HV: LV Sub HH Metered",10328,null,3.5059999999999998,0.89900000000000002,0.65900000000000003,5.08,2.6,4.1100000000000003,6.8000000000000005E-2]
[null,null,"LDNO HV: HV HH Metered",10329,null,2.6829999999999998,0.873,0.73699999999999999,62.17,3.54,5.35,0.04]
[null,null,"LDNO HV: NHH UMS category A",10330,8,1.23,0,0,0,0,0,0]
[null,null,"LDNO HV: NHH UMS category B",10331,1,1.367,0,0,0,0,0,0]
[null,null,"LDNO HV: NHH UMS category C",10332,1,1.869,0,0,0,0,0,0]
[null,null,"LDNO HV: NHH UMS category D",10333,1,1.0940000000000001,0,0,0,0,0,0]
[null,null,"LDNO HV: LV UMS (Pseudo HH Metered)",10334,null,11.301,1.111,0.81,0,0,0,0]
[null,null,"LDNO HV: LV Generation NHH or Aggregate HH",10335,"8&0",-0.626,0,0,0,0,0,0]
[null,null,"LDNO HV: LV Sub Generation NHH",10336,8,-0.54800000000000004,0,0,0,0,0,0]
[null,null,"LDNO HV: LV Generation Intermittent",10337,null,-0.626,0,0,0,0,0,0.14000000000000001]
[null,null,"LDNO HV: LV Generation Non-Intermittent",10338,null,-4.99,-0.51300000000000001,-0.03,0,0,0,0.14000000000000001]
[null,null,"LDNO HV: LV Sub Generation Intermittent",10339,null,-0.54800000000000004,0,0,0,0,0,0.122]
[null,null,"LDNO HV: LV Sub Generation Non-Intermittent",10340,null,-4.4020000000000001,-0.442,-2.5999999999999999E-2,0,0,0,0.122]
[null,null,"LDNO HV: HV Generation Intermittent",10341,null,-0.33900000000000002,0,0,0,0,0,9.7000000000000003E-2]
[null,null,"LDNO HV: HV Generation Non-Intermittent",10342,null,-2.851,-0.245,-1.2E-2,0,0,0,9.7000000000000003E-2]
[]
[]
[]
[]
[]
[null,null,{"$f":"\"Tariffs for Charging Year: \"& \" \"&D7&\"\"","v":"Tariffs for Charging Year:  2020/21"}]
[]
[]
[null,null,null,"Open LLFCs","PCs","Unit rate 1 p/kWh","Unit rate 2 p/kWh","Unit rate 3 p/kWh","Fixed charge p/MPAN/day","Capacity charge p/kVA/day","Exceeded capacity charge p/kVA/day","Reactive power charge p/kVArh","Closed LLFCs"]
[null,null,"Domestic Unrestricted",1,1,2.028,0,0,3.1,0,0,0,2]
[null,null,"Domestic Two Rate",3,2,2.2690000000000001,0.81799999999999995,0,3.1,0,0,0,"4,  8,  10"]
[null,null,"Domestic Off Peak (related MPAN)",11,2,1.198,0,0,0,0,0,0]
[null,null,"Small Non Domestic Unrestricted",13,3,2.0880000000000001,0,0,6.28,0,0,0,"22, 34, 43"]
[null,null,"Small Non Domestic Two Rate",37,4,2.165,0.81799999999999995,0,6.28,0,0,0,"16, 19, 28, 31, 49, 52"]
[null,null,"Small Non Domestic Off Peak (related MPAN)",901,4,0.98299999999999998,0,0,0,0,0,0]
[null,null,"LV Medium Non-Domestic",81,"5-8",2.113,0.81399999999999995,0,17.75,0,0,0,"83, 85"]
[null,null,"LV Sub Medium Non-Domestic",80,"5-8",1.964,0.80900000000000005,0,16.23,0,0,0]
[null,null,"HV Medium Non-Domestic",90,"5-8",1.302,0.78100000000000003,0,154.63,0,0,0]
[null,null,"LV Network Domestic",246,null,7.7629999999999999,1.49,0.81399999999999995,3.1,0,0,0]
[null,null,"LV Network Non-Domestic Non-CT",247,null,8.2119999999999997,1.536,0.81699999999999995,6.28,0,0,0]
[null,null,"LV HH Metered","58, 990",null,6.1849999999999996,1.304,0.80200000000000005,8.76,2.73,6,0.13400000000000001]
[null,null,"LV Sub HH Metered",59,null,4.7220000000000004,1.1220000000000001,0.79,6.84,3.56,5.67,9.4E-2]
[null,null,"HV HH Metered","60, 991",null,3.15,0.94299999999999995,0.77900000000000003,73.88,4.29,6.51,4.9000000000000002E-2,929]
[null,null,"NHH UMS category A",800,8,2.3170000000000002,0,0,0,0,0,0]
[null,null,"NHH UMS category B",801,1,2.59,0,0,0,0,0,0]
[null,null,"NHH UMS category C",802,1,3.59,0,0,0,0,0,0]
[null,null,"NHH UMS category D",803,1,2.0449999999999999,0,0,0,0,0,0]
[null,null,"LV UMS (Pseudo HH Metered)",804,null,22.379000000000001,2.077,1.4830000000000001,0,0,0,0]
[null,null,"LV Generation NHH or Aggregate HH",986,"8&0",-0.65100000000000002,0,0,0,0,0,0]
[null,null,"LV Sub Generation NHH",970,8,-0.56999999999999995,0,0,0,0,0,0]
[null,null,"LV Generation Intermittent",971,null,-0.65100000000000002,0,0,0,0,0,0.14599999999999999]
[null,null,"LV Generation Intermittent no RP charge","141",null,-0.65100000000000002,0,0,0,0,0,0]
[null,null,"LV Generation Non-Intermittent",973,null,-5.202,-0.53400000000000003,-3.2000000000000001E-2,0,0,0,0.14599999999999999]
[null,null,"LV Generation Non-Intermittent no RP charge","142",null,-5.202,-0.53400000000000003,-3.2000000000000001E-2,0,0,0,0]
[null,null,"LV Sub Generation Intermittent",972,null,-0.56999999999999995,0,0,0,0,0,0.128]
[null,null,"LV Sub Generation Intermittent no RP charge","143",null,-0.56999999999999995,0,0,0,0,0,0]
[null,null,"LV Sub Generation Non-Intermittent",974,null,-4.5940000000000003,-0.46,-2.7E-2,0,0,0,0.128]
[null,null,"LV Sub Generation Non-Intermittent no RP charge","144",null,-4.5940000000000003,-0.46,-2.7E-2,0,0,0,0]
[null,null,"HV Generation Intermittent",975,null,-0.35399999999999998,0,0,30.37,0,0,0.10100000000000001]
[null,null,"HV Generation Intermittent no RP charge","145",null,-0.35399999999999998,0,0,30.37,0,0,0]
[null,null,"HV Generation Non-Intermittent",977,null,-2.9780000000000002,-0.25600000000000001,-1.2999999999999999E-2,30.37,0,0,0.10100000000000001]
[null,null,"HV Generation Non-Intermittent no RP charge","146",null,-2.9780000000000002,-0.25600000000000001,-1.2999999999999999E-2,30.37,0,0,0]
[null,null,"LDNO LV: Domestic Unrestricted","10300",1,1.419,0,0,2.17,0,0,0]
[null,null,"LDNO LV: Domestic Two Rate",10301,2,1.587,0.57199999999999995,0,2.17,0,0,0]
[null,null,"LDNO LV: Domestic Off Peak (related MPAN)",10302,2,0.83799999999999997,0,0,0,0,0,0]
[null,null,"LDNO LV: Small Non Domestic Unrestricted",10303,3,1.4610000000000001,0,0,4.3899999999999997,0,0,0]
[null,null,"LDNO LV: Small Non Domestic Two Rate",10304,4,1.5149999999999999,0.57199999999999995,0,4.3899999999999997,0,0,0]
[null,null,"LDNO LV: Small Non Domestic Off Peak (related MPAN)",10305,4,0.68799999999999994,0,0,0,0,0,0]
[null,null,"LDNO LV: LV Medium Non-Domestic",10306,"5-8",1.478,0.56999999999999995,0,12.42,0,0,0]
[null,null,"LDNO LV: LV Network Domestic",10307,null,5.431,1.042,0.56999999999999995,2.17,0,0,0]
[null,null,"LDNO LV: LV Network Non-Domestic Non-CT",10308,null,5.7460000000000004,1.075,0.57199999999999995,4.3899999999999997,0,0,0]
[null,null,"LDNO LV: LV HH Metered",10309,null,4.327,0.91200000000000003,0.56100000000000005,6.13,1.91,4.2,9.4E-2]
[null,null,"LDNO LV: NHH UMS category A",10310,8,1.621,0,0,0,0,0,0]
[null,null,"LDNO LV: NHH UMS category B",10311,1,1.8120000000000001,0,0,0,0,0,0]
[null,null,"LDNO LV: NHH UMS category C",10312,1,2.512,0,0,0,0,0,0]
[null,null,"LDNO LV: NHH UMS category D",10313,1,1.431,0,0,0,0,0,0]
[null,null,"LDNO LV: LV UMS (Pseudo HH Metered)",10314,null,15.657,1.4530000000000001,1.038,0,0,0,0]
[null,null,"LDNO LV: LV Generation NHH or Aggregate HH",10315,"8&0",-0.65100000000000002,0,0,0,0,0,0]
[null,null,"LDNO LV: LV Generation Intermittent",10316,null,-0.65100000000000002,0,0,0,0,0,0.14599999999999999]
[null,null,"LDNO LV: LV Generation Non-Intermittent",10317,null,-5.202,-0.53400000000000003,-3.2000000000000001E-2,0,0,0,0.14599999999999999]
[null,null,"LDNO HV: Domestic Unrestricted",10318,1,1.0580000000000001,0,0,1.62,0,0,0]
[null,null,"LDNO HV: Domestic Two Rate",10319,2,1.1839999999999999,0.42699999999999999,0,1.62,0,0,0]
[null,null,"LDNO HV: Domestic Off Peak (related MPAN)",10320,2,0.625,0,0,0,0,0,0]
[null,null,"LDNO HV: Small Non Domestic Unrestricted",10321,3,1.0900000000000001,0,0,3.28,0,0,0]
[null,null,"LDNO HV: Small Non Domestic Two Rate",10322,4,1.1299999999999999,0.42699999999999999,0,3.28,0,0,0]
[null,null,"LDNO HV: Small Non Domestic Off Peak (related MPAN)",10323,4,0.51300000000000001,0,0,0,0,0,0]
[null,null,"LDNO HV: LV Medium Non-Domestic",10324,"5-8",1.103,0.42499999999999999,0,9.26,0,0,0]
[null,null,"LDNO HV: LV Network Domestic",10325,null,4.0510000000000002,0.77800000000000002,0.42499999999999999,1.62,0,0,0]
[null,null,"LDNO HV: LV Network Non-Domestic Non-CT",10326,null,4.2850000000000001,0.80200000000000005,0.42599999999999999,3.28,0,0,0]
[null,null,"LDNO HV: LV HH Metered",10327,null,3.2269999999999999,0.68,0.41799999999999998,4.57,1.42,3.13,7.0000000000000007E-2]
[null,null,"LDNO HV: LV Sub HH Metered",10328,null,3.5720000000000001,0.84899999999999998,0.59799999999999998,5.17,2.69,4.29,7.0999999999999994E-2]
[null,null,"LDNO HV: HV HH Metered",10329,null,2.7010000000000001,0.80900000000000005,0.66800000000000004,63.35,3.68,5.58,4.2000000000000003E-2]
[null,null,"LDNO HV: NHH UMS category A",10330,8,1.2090000000000001,0,0,0,0,0,0]
[null,null,"LDNO HV: NHH UMS category B",10331,1,1.3520000000000001,0,0,0,0,0,0]
[null,null,"LDNO HV: NHH UMS category C",10332,1,1.873,0,0,0,0,0,0]
[null,null,"LDNO HV: NHH UMS category D",10333,1,1.0669999999999999,0,0,0,0,0,0]
[null,null,"LDNO HV: LV UMS (Pseudo HH Metered)",10334,null,11.678000000000001,1.0840000000000001,0.77400000000000002,0,0,0,0]
[null,null,"LDNO HV: LV Generation NHH or Aggregate HH",10335,"8&0",-0.65100000000000002,0,0,0,0,0,0]
[null,null,"LDNO HV: LV Sub Generation NHH",10336,8,-0.56999999999999995,0,0,0,0,0,0]
[null,null,"LDNO HV: LV Generation Intermittent",10337,null,-0.65100000000000002,0,0,0,0,0,0.14599999999999999]
[null,null,"LDNO HV: LV Generation Non-Intermittent",10338,null,-5.202,-0.53400000000000003,-3.2000000000000001E-2,0,0,0,0.14599999999999999]
[null,null,"LDNO HV: LV Sub Generation Intermittent",10339,null,-0.56999999999999995,0,0,0,0,0,0.128]
[null,null,"LDNO HV: LV Sub Generation Non-Intermittent",10340,null,-4.5940000000000003,-0.46,-2.7E-2,0,0,0,0.128]
[null,null,"LDNO HV: HV Generation Intermittent",10341,null,-0.35399999999999998,0,0,0,0,0,0.10100000000000001]
[null,null,"LDNO HV: HV Generation Non-Intermittent",10342,null,-2.9780000000000002,-0.25600000000000001,-1.2999999999999999E-2,0,0,0,0.10100000000000001]
[]
[]
[]
[]
[]
[null,null,{"$f":"\"Tariffs for Charging Year: \"& \" \"&D8&\"\"","v":"Tariffs for Charging Year:  2021/22"}]
[]
[]
[null,null,null,"Open LLFCs","PCs","Unit rate 1 p/kWh","Unit rate 2 p/kWh","Unit rate 3 p/kWh","Fixed charge p/MPAN/day","Capacity charge p/kVA/day","Exceeded capacity charge p/kVA/day","Reactive power charge p/kVArh","Closed LLFCs"]
[null,null,"Domestic Unrestricted",1,1,2.0699999999999998,0,0,3.16,0,0,0,2]
[null,null,"Domestic Two Rate",3,2,2.3180000000000001,0.82299999999999995,0,3.16,0,0,0,"4,  8,  10"]
[null,null,"Domestic Off Peak (related MPAN)",11,2,1.2150000000000001,0,0,0,0,0,0]
[null,null,"Small Non Domestic Unrestricted",13,3,2.1320000000000001,0,0,6.41,0,0,0,"22, 34, 43"]
[null,null,"Small Non Domestic Two Rate",37,4,2.2109999999999999,0.82299999999999995,0,6.41,0,0,0,"16, 19, 28, 31, 49, 52"]
[null,null,"Small Non Domestic Off Peak (related MPAN)",901,4,0.99299999999999999,0,0,0,0,0,0]
[null,null,"LV Medium Non-Domestic",81,"5-8",2.157,0.81899999999999995,0,18.12,0,0,0,"83, 85"]
[null,null,"LV Sub Medium Non-Domestic",80,"5-8",2.004,0.81299999999999994,0,16.61,0,0,0]
[null,null,"HV Medium Non-Domestic",90,"5-8",1.325,0.78500000000000003,0,158.18,0,0,0]
[null,null,"LV Network Domestic",246,null,7.9889999999999999,1.512,0.81899999999999995,3.16,0,0,0]
[null,null,"LV Network Non-Domestic Non-CT",247,null,8.4529999999999994,1.56,0.82199999999999995,6.41,0,0,0]
[null,null,"LV HH Metered","58, 990",null,6.3680000000000003,1.3220000000000001,0.80700000000000005,8.94,2.8,6.17,0.13800000000000001]
[null,null,"LV Sub HH Metered",59,null,4.8650000000000002,1.135,0.79400000000000004,6.98,3.65,5.82,9.7000000000000003E-2]
[null,null,"HV HH Metered","60, 991",null,3.2469999999999999,0.95199999999999996,0.78300000000000003,75.36,4.4000000000000004,6.69,5.0999999999999997E-2,929]
[null,null,"NHH UMS category A",800,8,2.363,0,0,0,0,0,0]
[null,null,"NHH UMS category B",801,1,2.6429999999999998,0,0,0,0,0,0]
[null,null,"NHH UMS category C",802,1,3.6739999999999999,0,0,0,0,0,0]
[null,null,"NHH UMS category D",803,1,2.0840000000000001,0,0,0,0,0,0]
[null,null,"LV UMS (Pseudo HH Metered)",804,null,23.04,2.1190000000000002,1.502,0,0,0,0]
[null,null,"LV Generation NHH or Aggregate HH",986,"8&0",-0.67100000000000004,0,0,0,0,0,0]
[null,null,"LV Sub Generation NHH",970,8,-0.58799999999999997,0,0,0,0,0,0]
[null,null,"LV Generation Intermittent",971,null,-0.67100000000000004,0,0,0,0,0,0.15]
[null,null,"LV Generation Intermittent no RP charge","141",null,-0.67100000000000004,0,0,0,0,0,0]
[null,null,"LV Generation Non-Intermittent",973,null,-5.3680000000000003,-0.54800000000000004,-3.2000000000000001E-2,0,0,0,0.15]
[null,null,"LV Generation Non-Intermittent no RP charge","142",null,-5.3680000000000003,-0.54800000000000004,-3.2000000000000001E-2,0,0,0,0]
[null,null,"LV Sub Generation Intermittent",972,null,-0.58799999999999997,0,0,0,0,0,0.13100000000000001]
[null,null,"LV Sub Generation Intermittent no RP charge","143",null,-0.58799999999999997,0,0,0,0,0,0]
[null,null,"LV Sub Generation Non-Intermittent",974,null,-4.7439999999999998,-0.47199999999999998,-2.7E-2,0,0,0,0.13100000000000001]
[null,null,"LV Sub Generation Non-Intermittent no RP charge","144",null,-4.7439999999999998,-0.47199999999999998,-2.7E-2,0,0,0,0]
[null,null,"HV Generation Intermittent",975,null,-0.36599999999999999,0,0,30.98,0,0,0.104]
[null,null,"HV Generation Intermittent no RP charge","145",null,-0.36599999999999999,0,0,30.98,0,0,0]
[null,null,"HV Generation Non-Intermittent",977,null,-3.085,-0.26200000000000001,-1.2999999999999999E-2,30.98,0,0,0.104]
[null,null,"HV Generation Non-Intermittent no RP charge","146",null,-3.085,-0.26200000000000001,-1.2999999999999999E-2,30.98,0,0,0]
[null,null,"LDNO LV: Domestic Unrestricted","10300",1,1.448,0,0,2.21,0,0,0]
[null,null,"LDNO LV: Domestic Two Rate",10301,2,1.6220000000000001,0.57599999999999996,0,2.21,0,0,0]
[null,null,"LDNO LV: Domestic Off Peak (related MPAN)",10302,2,0.85,0,0,0,0,0,0]
[null,null,"LDNO LV: Small Non Domestic Unrestricted",10303,3,1.492,0,0,4.4800000000000004,0,0,0]
[null,null,"LDNO LV: Small Non Domestic Two Rate",10304,4,1.5469999999999999,0.57599999999999996,0,4.4800000000000004,0,0,0]
[null,null,"LDNO LV: Small Non Domestic Off Peak (related MPAN)",10305,4,0.69499999999999995,0,0,0,0,0,0]
[null,null,"LDNO LV: LV Medium Non-Domestic",10306,"5-8",1.5089999999999999,0.57299999999999995,0,12.68,0,0,0]
[null,null,"LDNO LV: LV Network Domestic",10307,null,5.5890000000000004,1.0580000000000001,0.57299999999999995,2.21,0,0,0]
[null,null,"LDNO LV: LV Network Non-Domestic Non-CT",10308,null,5.9139999999999997,1.091,0.57499999999999996,4.4800000000000004,0,0,0]
[null,null,"LDNO LV: LV HH Metered",10309,null,4.4550000000000001,0.92500000000000004,0.56499999999999995,6.25,1.96,4.32,9.7000000000000003E-2]
[null,null,"LDNO LV: NHH UMS category A",10310,8,1.653,0,0,0,0,0,0]
[null,null,"LDNO LV: NHH UMS category B",10311,1,1.849,0,0,0,0,0,0]
[null,null,"LDNO LV: NHH UMS category C",10312,1,2.5710000000000002,0,0,0,0,0,0]
[null,null,"LDNO LV: NHH UMS category D",10313,1,1.458,0,0,0,0,0,0]
[null,null,"LDNO LV: LV UMS (Pseudo HH Metered)",10314,null,16.12,1.4830000000000001,1.0509999999999999,0,0,0,0]
[null,null,"LDNO LV: LV Generation NHH or Aggregate HH",10315,"8&0",-0.67100000000000004,0,0,0,0,0,0]
[null,null,"LDNO LV: LV Generation Intermittent",10316,null,-0.67100000000000004,0,0,0,0,0,0.15]
[null,null,"LDNO LV: LV Generation Non-Intermittent",10317,null,-5.3680000000000003,-0.54800000000000004,-3.2000000000000001E-2,0,0,0,0.15]
[null,null,"LDNO HV: Domestic Unrestricted",10318,1,1.08,0,0,1.65,0,0,0]
[null,null,"LDNO HV: Domestic Two Rate",10319,2,1.21,0.42899999999999999,0,1.65,0,0,0]
[null,null,"LDNO HV: Domestic Off Peak (related MPAN)",10320,2,0.63400000000000001,0,0,0,0,0,0]
[null,null,"LDNO HV: Small Non Domestic Unrestricted",10321,3,1.113,0,0,3.34,0,0,0]
[null,null,"LDNO HV: Small Non Domestic Two Rate",10322,4,1.1539999999999999,0.42899999999999999,0,3.34,0,0,0]
[null,null,"LDNO HV: Small Non Domestic Off Peak (related MPAN)",10323,4,0.51800000000000002,0,0,0,0,0,0]
[null,null,"LDNO HV: LV Medium Non-Domestic",10324,"5-8",1.1259999999999999,0.42699999999999999,0,9.4600000000000009,0,0,0]
[null,null,"LDNO HV: LV Network Domestic",10325,null,4.1689999999999996,0.78900000000000003,0.42699999999999999,1.65,0,0,0]
[null,null,"LDNO HV: LV Network Non-Domestic Non-CT",10326,null,4.4109999999999996,0.81399999999999995,0.42899999999999999,3.34,0,0,0]
[null,null,"LDNO HV: LV HH Metered",10327,null,3.323,0.69,0.42099999999999999,4.67,1.46,3.22,7.1999999999999995E-2]
[null,null,"LDNO HV: LV Sub HH Metered",10328,null,3.68,0.85799999999999998,0.60099999999999998,5.28,2.76,4.4000000000000004,7.2999999999999995E-2]
[null,null,"LDNO HV: HV HH Metered",10329,null,2.7839999999999998,0.81599999999999995,0.67100000000000004,64.62,3.77,5.74,4.3999999999999997E-2]
[null,null,"LDNO HV: NHH UMS category A",10330,8,1.2330000000000001,0,0,0,0,0,0]
[null,null,"LDNO HV: NHH UMS category B",10331,1,1.379,0,0,0,0,0,0]
[null,null,"LDNO HV: NHH UMS category C",10332,1,1.917,0,0,0,0,0,0]
[null,null,"LDNO HV: NHH UMS category D",10333,1,1.087,0,0,0,0,0,0]
[null,null,"LDNO HV: LV UMS (Pseudo HH Metered)",10334,null,12.023,1.1060000000000001,0.78400000000000003,0,0,0,0]
[null,null,"LDNO HV: LV Generation NHH or Aggregate HH",10335,"8&0",-0.67100000000000004,0,0,0,0,0,0]
[null,null,"LDNO HV: LV Sub Generation NHH",10336,8,-0.58799999999999997,0,0,0,0,0,0]
[null,null,"LDNO HV: LV Generation Intermittent",10337,null,-0.67100000000000004,0,0,0,0,0,0.15]
[null,null,"LDNO HV: LV Generation Non-Intermittent",10338,null,-5.3680000000000003,-0.54800000000000004,-3.2000000000000001E-2,0,0,0,0.15]
[null,null,"LDNO HV: LV Sub Generation Intermittent",10339,null,-0.58799999999999997,0,0,0,0,0,0.13100000000000001]
[null,null,"LDNO HV: LV Sub Generation Non-Intermittent",10340,null,-4.7439999999999998,-0.47199999999999998,-2.7E-2,0,0,0,0.13100000000000001]
[null,null,"LDNO HV: HV Generation Intermittent",10341,null,-0.36599999999999999,0,0,0,0,0,0.104]
[null,null,"LDNO HV: HV Generation Non-Intermittent",10342,null,-3.085,-0.26200000000000001,-1.2999999999999999E-2,0,0,0,0.104]
[]
[]
[]
[]
[]
[null,null,{"$f":"\"Tariffs for Charging Year: \"& \" \"&D9&\"\"","v":"Tariffs for Charging Year:  2022/23"}]
[]
[]
[null,null,null,"Open LLFCs","PCs","Unit rate 1 p/kWh","Unit rate 2 p/kWh","Unit rate 3 p/kWh","Fixed charge p/MPAN/day","Capacity charge p/kVA/day","Exceeded capacity charge p/kVA/day","Reactive power charge p/kVArh","Closed LLFCs"]
[null,null,"Domestic Unrestricted",1,1,2.1150000000000002,0,0,3.22,0,0,0,2]
[null,null,"Domestic Two Rate",3,2,2.371,0.82699999999999996,0,3.22,0,0,0,"4,  8,  10"]
[null,null,"Domestic Off Peak (related MPAN)",11,2,1.2310000000000001,0,0,0,0,0,0]
[null,null,"Small Non Domestic Unrestricted",13,3,2.177,0,0,6.52,0,0,0,"22, 34, 43"]
[null,null,"Small Non Domestic Two Rate",37,4,2.2599999999999998,0.82699999999999996,0,6.52,0,0,0,"16, 19, 28, 31, 49, 52"]
[null,null,"Small Non Domestic Off Peak (related MPAN)",901,4,1.002,0,0,0,0,0,0]
[null,null,"LV Medium Non-Domestic",81,"5-8",2.2040000000000002,0.82299999999999995,0,18.46,0,0,0,"83, 85"]
[null,null,"LV Sub Medium Non-Domestic",80,"5-8",2.0470000000000002,0.81699999999999995,0,16.96,0,0,0]
[null,null,"HV Medium Non-Domestic",90,"5-8",1.35,0.78800000000000003,0,161.53,0,0,0]
[null,null,"LV Network Domestic",246,null,8.2370000000000001,1.5349999999999999,0.82299999999999995,3.22,0,0,0]
[null,null,"LV Network Non-Domestic Non-CT",247,null,8.7159999999999993,1.583,0.82599999999999996,6.52,0,0,0]
[null,null,"LV HH Metered","58, 990",null,6.57,1.34,0.81100000000000005,9.1,2.86,6.33,0.14299999999999999]
[null,null,"LV Sub HH Metered",59,null,5.0289999999999999,1.1479999999999999,0.79800000000000004,7.1,3.74,5.98,0.10100000000000001]
[null,null,"HV HH Metered","60, 991",null,3.3610000000000002,0.96,0.78600000000000003,76.69,4.5,6.87,5.2999999999999999E-2,929]
[null,null,"NHH UMS category A",800,8,2.4060000000000001,0,0,0,0,0,0]
[null,null,"NHH UMS category B",801,1,2.6960000000000002,0,0,0,0,0,0]
[null,null,"NHH UMS category C",802,1,3.76,0,0,0,0,0,0]
[null,null,"NHH UMS category D",803,1,2.1160000000000001,0,0,0,0,0,0]
[null,null,"LV UMS (Pseudo HH Metered)",804,null,23.753,2.15,1.518,0,0,0,0]
[null,null,"LV Generation NHH or Aggregate HH",986,"8&0",-0.69199999999999995,0,0,0,0,0,0]
[null,null,"LV Sub Generation NHH",970,8,-0.60699999999999998,0,0,0,0,0,0]
[null,null,"LV Generation Intermittent",971,null,-0.69199999999999995,0,0,0,0,0,0.154]
[null,null,"LV Generation Intermittent no RP charge","141",null,-0.69199999999999995,0,0,0,0,0,0]
[null,null,"LV Generation Non-Intermittent",973,null,-5.55,-0.56299999999999994,-3.3000000000000002E-2,0,0,0,0.154]
[null,null,"LV Generation Non-Intermittent no RP charge","142",null,-5.55,-0.56299999999999994,-3.3000000000000002E-2,0,0,0,0]
[null,null,"LV Sub Generation Intermittent",972,null,-0.60699999999999998,0,0,0,0,0,0.13500000000000001]
[null,null,"LV Sub Generation Intermittent no RP charge","143",null,-0.60699999999999998,0,0,0,0,0,0]
[null,null,"LV Sub Generation Non-Intermittent",974,null,-4.91,-0.48499999999999999,-2.8000000000000001E-2,0,0,0,0.13500000000000001]
[null,null,"LV Sub Generation Non-Intermittent no RP charge","144",null,-4.91,-0.48499999999999999,-2.8000000000000001E-2,0,0,0,0]
[null,null,"HV Generation Intermittent",975,null,-0.379,0,0,31.53,0,0,0.107]
[null,null,"HV Generation Intermittent no RP charge","145",null,-0.379,0,0,31.53,0,0,0]
[null,null,"HV Generation Non-Intermittent",977,null,-3.2080000000000002,-0.26900000000000002,-1.4E-2,31.53,0,0,0.107]
[null,null,"HV Generation Non-Intermittent no RP charge","146",null,-3.2080000000000002,-0.26900000000000002,-1.4E-2,31.53,0,0,0]
[null,null,"LDNO LV: Domestic Unrestricted","10300",1,1.48,0,0,2.25,0,0,0]
[null,null,"LDNO LV: Domestic Two Rate",10301,2,1.659,0.57899999999999996,0,2.25,0,0,0]
[null,null,"LDNO LV: Domestic Off Peak (related MPAN)",10302,2,0.86099999999999999,0,0,0,0,0,0]
[null,null,"LDNO LV: Small Non Domestic Unrestricted",10303,3,1.5229999999999999,0,0,4.5599999999999996,0,0,0]
[null,null,"LDNO LV: Small Non Domestic Two Rate",10304,4,1.581,0.57899999999999996,0,4.5599999999999996,0,0,0]
[null,null,"LDNO LV: Small Non Domestic Off Peak (related MPAN)",10305,4,0.70099999999999996,0,0,0,0,0,0]
[null,null,"LDNO LV: LV Medium Non-Domestic",10306,"5-8",1.542,0.57599999999999996,0,12.92,0,0,0]
[null,null,"LDNO LV: LV Network Domestic",10307,null,5.7629999999999999,1.0740000000000001,0.57599999999999996,2.25,0,0,0]
[null,null,"LDNO LV: LV Network Non-Domestic Non-CT",10308,null,6.0979999999999999,1.1080000000000001,0.57799999999999996,4.5599999999999996,0,0,0]
[null,null,"LDNO LV: LV HH Metered",10309,null,4.5970000000000004,0.93799999999999994,0.56699999999999995,6.37,2,4.43,0.1]
[null,null,"LDNO LV: NHH UMS category A",10310,8,1.6830000000000001,0,0,0,0,0,0]
[null,null,"LDNO LV: NHH UMS category B",10311,1,1.8859999999999999,0,0,0,0,0,0]
[null,null,"LDNO LV: NHH UMS category C",10312,1,2.6309999999999998,0,0,0,0,0,0]
[null,null,"LDNO LV: NHH UMS category D",10313,1,1.48,0,0,0,0,0,0]
[null,null,"LDNO LV: LV UMS (Pseudo HH Metered)",10314,null,16.619,1.504,1.0620000000000001,0,0,0,0]
[null,null,"LDNO LV: LV Generation NHH or Aggregate HH",10315,"8&0",-0.69199999999999995,0,0,0,0,0,0]
[null,null,"LDNO LV: LV Generation Intermittent",10316,null,-0.69199999999999995,0,0,0,0,0,0.154]
[null,null,"LDNO LV: LV Generation Non-Intermittent",10317,null,-5.55,-0.56299999999999994,-3.3000000000000002E-2,0,0,0,0.154]
[null,null,"LDNO HV: Domestic Unrestricted",10318,1,1.1040000000000001,0,0,1.68,0,0,0]
[null,null,"LDNO HV: Domestic Two Rate",10319,2,1.2370000000000001,0.432,0,1.68,0,0,0]
[null,null,"LDNO HV: Domestic Off Peak (related MPAN)",10320,2,0.64200000000000002,0,0,0,0,0,0]
[null,null,"LDNO HV: Small Non Domestic Unrestricted",10321,3,1.1359999999999999,0,0,3.4,0,0,0]
[null,null,"LDNO HV: Small Non Domestic Two Rate",10322,4,1.179,0.432,0,3.4,0,0,0]
[null,null,"LDNO HV: Small Non Domestic Off Peak (related MPAN)",10323,4,0.52300000000000002,0,0,0,0,0,0]
[null,null,"LDNO HV: LV Medium Non-Domestic",10324,"5-8",1.1499999999999999,0.42899999999999999,0,9.6300000000000008,0,0,0]
[null,null,"LDNO HV: LV Network Domestic",10325,null,4.298,0.80100000000000005,0.42899999999999999,1.68,0,0,0]
[null,null,"LDNO HV: LV Network Non-Domestic Non-CT",10326,null,4.548,0.82599999999999996,0.43099999999999999,3.4,0,0,0]
[null,null,"LDNO HV: LV HH Metered",10327,null,3.4279999999999999,0.69899999999999995,0.42299999999999999,4.75,1.49,3.3,7.4999999999999997E-2]
[null,null,"LDNO HV: LV Sub HH Metered",10328,null,3.8039999999999998,0.86799999999999999,0.60399999999999998,5.37,2.83,4.5199999999999996,7.5999999999999998E-2]
[null,null,"LDNO HV: HV HH Metered",10329,null,2.8820000000000001,0.82299999999999995,0.67400000000000004,65.760000000000005,3.86,5.89,4.4999999999999998E-2]
[null,null,"LDNO HV: NHH UMS category A",10330,8,1.2549999999999999,0,0,0,0,0,0]
[null,null,"LDNO HV: NHH UMS category B",10331,1,1.407,0,0,0,0,0,0]
[null,null,"LDNO HV: NHH UMS category C",10332,1,1.962,0,0,0,0,0,0]
[null,null,"LDNO HV: NHH UMS category D",10333,1,1.1040000000000001,0,0,0,0,0,0]
[null,null,"LDNO HV: LV UMS (Pseudo HH Metered)",10334,null,12.395,1.1220000000000001,0.79200000000000004,0,0,0,0]
[null,null,"LDNO HV: LV Generation NHH or Aggregate HH",10335,"8&0",-0.69199999999999995,0,0,0,0,0,0]
[null,null,"LDNO HV: LV Sub Generation NHH",10336,8,-0.60699999999999998,0,0,0,0,0,0]
[null,null,"LDNO HV: LV Generation Intermittent",10337,null,-0.69199999999999995,0,0,0,0,0,0.154]
[null,null,"LDNO HV: LV Generation Non-Intermittent",10338,null,-5.55,-0.56299999999999994,-3.3000000000000002E-2,0,0,0,0.154]
[null,null,"LDNO HV: LV Sub Generation Intermittent",10339,null,-0.60699999999999998,0,0,0,0,0,0.13500000000000001]
[null,null,"LDNO HV: LV Sub Generation Non-Intermittent",10340,null,-4.91,-0.48499999999999999,-2.8000000000000001E-2,0,0,0,0.13500000000000001]
[null,null,"LDNO HV: HV Generation Intermittent",10341,null,-0.379,0,0,0,0,0,0.107]
[null,null,"LDNO HV: HV Generation Non-Intermittent",10342,null,-3.2080000000000002,-0.26900000000000002,-1.4E-2,0,0,0,0.107]
[]
[]
[]
[]
[]
[null,null,{"$f":"\"Tariffs for Charging Year: \"& \" \"&D10&\"\"","v":"Tariffs for Charging Year:  2023/24"}]
[]
[]
[null,null,null,"Open LLFCs","PCs","Unit rate 1 p/kWh","Unit rate 2 p/kWh","Unit rate 3 p/kWh","Fixed charge p/MPAN/day","Capacity charge p/kVA/day","Exceeded capacity charge p/kVA/day","Reactive power charge p/kVArh","Closed LLFCs"]
[null,null,"Domestic Unrestricted",1,1,2.33,0,0,3.32,0,0,0,2]
[null,null,"Domestic Two Rate",3,2,2.5939999999999999,1.0029999999999999,0,3.32,0,0,0,"4,  8,  10"]
[null,null,"Domestic Off Peak (related MPAN)",11,2,1.419,0,0,0,0,0,0]
[null,null,"Small Non Domestic Unrestricted",13,3,2.395,0,0,6.72,0,0,0,"22, 34, 43"]
[null,null,"Small Non Domestic Two Rate",37,4,2.4790000000000001,1.0029999999999999,0,6.72,0,0,0,"16, 19, 28, 31, 49, 52"]
[null,null,"Small Non Domestic Off Peak (related MPAN)",901,4,1.1830000000000001,0,0,0,0,0,0]
[null,null,"LV Medium Non-Domestic",81,"5-8",2.4220000000000002,0.999,0,19.03,0,0,0,"83, 85"]
[null,null,"LV Sub Medium Non-Domestic",80,"5-8",2.2599999999999998,0.99299999999999999,0,17.489999999999998,0,0,0]
[null,null,"HV Medium Non-Domestic",90,"5-8",1.542,0.96199999999999997,0,166.54,0,0,0]
[null,null,"LV Network Domestic",246,null,8.6419999999999995,1.732,0.999,3.32,0,0,0]
[null,null,"LV Network Non-Domestic Non-CT",247,null,9.1359999999999992,1.782,1.002,6.72,0,0,0]
[null,null,"LV HH Metered","58, 990",null,6.9240000000000004,1.5309999999999999,0.98599999999999999,9.3800000000000008,2.95,6.53,0.14799999999999999]
[null,null,"LV Sub HH Metered",59,null,5.3339999999999996,1.333,0.97199999999999998,7.32,3.86,6.16,0.104]
[null,null,"HV HH Metered","60, 991",null,3.6150000000000002,1.139,0.96,79.06,4.6399999999999997,7.08,5.3999999999999999E-2,929]
[null,null,"NHH UMS category A",800,8,2.63,0,0,0,0,0,0]
[null,null,"NHH UMS category B",801,1,2.93,0,0,0,0,0,0]
[null,null,"NHH UMS category C",802,1,4.0259999999999998,0,0,0,0,0,0]
[null,null,"NHH UMS category D",803,1,2.3319999999999999,0,0,0,0,0,0]
[null,null,"LV UMS (Pseudo HH Metered)",804,null,24.638999999999999,2.367,1.7150000000000001,0,0,0,0]
[null,null,"LV Generation NHH or Aggregate HH",986,"8&0",-0.71299999999999997,0,0,0,0,0,0]
[null,null,"LV Sub Generation NHH",970,8,-0.626,0,0,0,0,0,0]
[null,null,"LV Generation Intermittent",971,null,-0.71299999999999997,0,0,0,0,0,0.159]
[null,null,"LV Generation Intermittent no RP charge","141",null,-0.71299999999999997,0,0,0,0,0,0]
[null,null,"LV Generation Non-Intermittent",973,null,-5.7220000000000004,-0.57999999999999996,-3.4000000000000002E-2,0,0,0,0.159]
[null,null,"LV Generation Non-Intermittent no RP charge","142",null,-5.7220000000000004,-0.57999999999999996,-3.4000000000000002E-2,0,0,0,0]
[null,null,"LV Sub Generation Intermittent",972,null,-0.626,0,0,0,0,0,0.14000000000000001]
[null,null,"LV Sub Generation Intermittent no RP charge","143",null,-0.626,0,0,0,0,0,0]
[null,null,"LV Sub Generation Non-Intermittent",974,null,-5.0620000000000003,-0.5,-2.9000000000000001E-2,0,0,0,0.14000000000000001]
[null,null,"LV Sub Generation Non-Intermittent no RP charge","144",null,-5.0620000000000003,-0.5,-2.9000000000000001E-2,0,0,0,0]
[null,null,"HV Generation Intermittent",975,null,-0.39100000000000001,0,0,32.5,0,0,0.11]
[null,null,"HV Generation Intermittent no RP charge","145",null,-0.39100000000000001,0,0,32.5,0,0,0]
[null,null,"HV Generation Non-Intermittent",977,null,-3.3069999999999999,-0.27800000000000002,-1.4E-2,32.5,0,0,0.11]
[null,null,"HV Generation Non-Intermittent no RP charge","146",null,-3.3069999999999999,-0.27800000000000002,-1.4E-2,32.5,0,0,0]
[null,null,"LDNO LV: Domestic Unrestricted","10300",1,1.63,0,0,2.3199999999999998,0,0,0]
[null,null,"LDNO LV: Domestic Two Rate",10301,2,1.8149999999999999,0.70199999999999996,0,2.3199999999999998,0,0,0]
[null,null,"LDNO LV: Domestic Off Peak (related MPAN)",10302,2,0.99299999999999999,0,0,0,0,0,0]
[null,null,"LDNO LV: Small Non Domestic Unrestricted",10303,3,1.6759999999999999,0,0,4.7,0,0,0]
[null,null,"LDNO LV: Small Non Domestic Two Rate",10304,4,1.734,0.70199999999999996,0,4.7,0,0,0]
[null,null,"LDNO LV: Small Non Domestic Off Peak (related MPAN)",10305,4,0.82799999999999996,0,0,0,0,0,0]
[null,null,"LDNO LV: LV Medium Non-Domestic",10306,"5-8",1.6950000000000001,0.69899999999999995,0,13.31,0,0,0]
[null,null,"LDNO LV: LV Network Domestic",10307,null,6.0460000000000003,1.212,0.69899999999999995,2.3199999999999998,0,0,0]
[null,null,"LDNO LV: LV Network Non-Domestic Non-CT",10308,null,6.3920000000000003,1.2470000000000001,0.70099999999999996,4.7,0,0,0]
[null,null,"LDNO LV: LV HH Metered",10309,null,4.8440000000000003,1.071,0.69,6.56,2.06,4.57,0.104]
[null,null,"LDNO LV: NHH UMS category A",10310,8,1.84,0,0,0,0,0,0]
[null,null,"LDNO LV: NHH UMS category B",10311,1,2.0499999999999998,0,0,0,0,0,0]
[null,null,"LDNO LV: NHH UMS category C",10312,1,2.8170000000000002,0,0,0,0,0,0]
[null,null,"LDNO LV: NHH UMS category D",10313,1,1.6319999999999999,0,0,0,0,0,0]
[null,null,"LDNO LV: LV UMS (Pseudo HH Metered)",10314,null,17.239000000000001,1.6559999999999999,1.2,0,0,0,0]
[null,null,"LDNO LV: LV Generation NHH or Aggregate HH",10315,"8&0",-0.71299999999999997,0,0,0,0,0,0]
[null,null,"LDNO LV: LV Generation Intermittent",10316,null,-0.71299999999999997,0,0,0,0,0,0.159]
[null,null,"LDNO LV: LV Generation Non-Intermittent",10317,null,-5.7220000000000004,-0.57999999999999996,-3.4000000000000002E-2,0,0,0,0.159]
[null,null,"LDNO HV: Domestic Unrestricted",10318,1,1.216,0,0,1.73,0,0,0]
[null,null,"LDNO HV: Domestic Two Rate",10319,2,1.3540000000000001,0.52300000000000002,0,1.73,0,0,0]
[null,null,"LDNO HV: Domestic Off Peak (related MPAN)",10320,2,0.74,0,0,0,0,0,0]
[null,null,"LDNO HV: Small Non Domestic Unrestricted",10321,3,1.25,0,0,3.51,0,0,0]
[null,null,"LDNO HV: Small Non Domestic Two Rate",10322,4,1.294,0.52300000000000002,0,3.51,0,0,0]
[null,null,"LDNO HV: Small Non Domestic Off Peak (related MPAN)",10323,4,0.61699999999999999,0,0,0,0,0,0]
[null,null,"LDNO HV: LV Medium Non-Domestic",10324,"5-8",1.264,0.52100000000000002,0,9.93,0,0,0]
[null,null,"LDNO HV: LV Network Domestic",10325,null,4.51,0.90400000000000003,0.52100000000000002,1.73,0,0,0]
[null,null,"LDNO HV: LV Network Non-Domestic Non-CT",10326,null,4.7670000000000003,0.93,0.52300000000000002,3.51,0,0,0]
[null,null,"LDNO HV: LV HH Metered",10327,null,3.613,0.79900000000000004,0.51500000000000001,4.8899999999999997,1.54,3.41,7.6999999999999999E-2]
[null,null,"LDNO HV: LV Sub HH Metered",10328,null,4.0339999999999998,1.008,0.73499999999999999,5.54,2.92,4.66,7.9000000000000001E-2]
[null,null,"LDNO HV: HV HH Metered",10329,null,3.1,0.97699999999999998,0.82299999999999995,67.790000000000006,3.98,6.07,4.5999999999999999E-2]
[null,null,"LDNO HV: NHH UMS category A",10330,8,1.3720000000000001,0,0,0,0,0,0]
[null,null,"LDNO HV: NHH UMS category B",10331,1,1.5289999999999999,0,0,0,0,0,0]
[null,null,"LDNO HV: NHH UMS category C",10332,1,2.101,0,0,0,0,0,0]
[null,null,"LDNO HV: NHH UMS category D",10333,1,1.2170000000000001,0,0,0,0,0,0]
[null,null,"LDNO HV: LV UMS (Pseudo HH Metered)",10334,null,12.856999999999999,1.2350000000000001,0.89500000000000002,0,0,0,0]
[null,null,"LDNO HV: LV Generation NHH or Aggregate HH",10335,"8&0",-0.71299999999999997,0,0,0,0,0,0]
[null,null,"LDNO HV: LV Sub Generation NHH",10336,8,-0.626,0,0,0,0,0,0]
[null,null,"LDNO HV: LV Generation Intermittent",10337,null,-0.71299999999999997,0,0,0,0,0,0.159]
[null,null,"LDNO HV: LV Generation Non-Intermittent",10338,null,-5.7220000000000004,-0.57999999999999996,-3.4000000000000002E-2,0,0,0,0.159]
[null,null,"LDNO HV: LV Sub Generation Intermittent",10339,null,-0.626,0,0,0,0,0,0.14000000000000001]
[null,null,"LDNO HV: LV Sub Generation Non-Intermittent",10340,null,-5.0620000000000003,-0.5,-2.9000000000000001E-2,0,0,0,0.14000000000000001]
[null,null,"LDNO HV: HV Generation Intermittent",10341,null,-0.39100000000000001,0,0,0,0,0,0.11]
[null,null,"LDNO HV: HV Generation Non-Intermittent",10342,null,-3.3069999999999999,-0.27800000000000002,-1.4E-2,0,0,0,0.11]

{"sheet":"Typical Bill","index":14,"n_rows":128,"n_cols":7,"rows_kept":128,"cut":false,"hidden":false,"merged":[[2,1,4,5]]}
[]
[]
[null,"Note: These tariffs are based on the assumptions set out in the CDCM forecast Data and CDCM Volume Forecast sheets.\nIf the assumptions in these sheets have been changed, the typical bills can be updated by pressing the button on the Tariffs ARP sheet."]
[]
[]
[]
[]
[]
[]
[]
[]
[]
[null,{"$f":"'CDCM Forecast Data'!E3&\" - 5 Year Typical Bill\"","v":"WPD East Midlands - 5 Year Typical Bill"}]
[]
[null,"Typical Bills by Customer Category"]
[]
[]
[null,null,{"$f":"+'CDCM Forecast Data'!E10","v":"Y"},{"$f":"+'CDCM Forecast Data'!F10","v":"Y+1"},{"$f":"+'CDCM Forecast Data'!G10","v":"Y+2"},{"$f":"+'CDCM Forecast Data'!H10","v":"Y+3"},{"$f":"+'CDCM Forecast Data'!I10","v":"Y+4"}]
[null,"TARIFF",{"$f":"+'CDCM Forecast Data'!E11","v":"2019/20"},{"$f":"+'CDCM Forecast Data'!F11","v":"2020/21"},{"$f":"+'CDCM Forecast Data'!G11","v":"2021/22"},{"$f":"+'CDCM Forecast Data'!H11","v":"2022/23"},{"$f":"+'CDCM Forecast Data'!I11","v":"2023/24"}]
[null,"> Domestic Unrestricted"]
[null,"Domestic Unrestricted",80.555865246489248,79.701980737805926,81.337279155452791,83.073741745788737,90.688840788504834]
[null,"LDNO LV: Domestic Unrestricted",46.827392461523488,46.392231507912442,47.324475492217907,48.338055061106708,52.660334290272921]
[null,"LDNO HV: Domestic Unrestricted",34.462451691074421,34.139113013169066,34.835545419870122,35.585335318089463,38.755854843113028]
[null,"> Domestic Two Rate"]
[null,"Domestic Two Rate",93.131470224386163,91.599911057665864,93.380770619293898,95.270013274773135,104.82334895449057]
[null,"LDNO LV: Domestic Two Rate",63.240172356454735,62.374377609556944,63.639320316131624,64.956509643130858,71.200269137555011]
[null,"LDNO HV: Domestic Two Rate",47.972498005758396,47.315402905767989,48.255982288989671,49.238298628547462,54.028767581562413]
[null,"> Domestic Off Peak (related MPAN)"]
[null,"Domestic Off Peak (related MPAN)",23.363776974769483,22.161365649860524,22.47584245791364,22.771820630198924,26.249564154550988]
[null,"LDNO LV: Domestic Off Peak (related MPAN)","","","","",""]
[null,"LDNO HV: Domestic Off Peak (related MPAN)","","","","",""]
[null,"> Small Non Domestic Unrestricted"]
[null,"Small Non Domestic Unrestricted",275.48706104551951,272.31680239048382,278.04674841786942,283.82313640042304,310.59148262701569]
[null,"LDNO LV: Small Non Domestic Unrestricted",104.04254648287657,103.07676748413135,105.25239362513621,107.39151976614103,117.01898104271332]
[null,"LDNO HV: Small Non Domestic Unrestricted",108.71351099854871,107.62064523838744,109.85791940396808,112.09519356954873,122.50031334677456]
[null,"> Small Non Domestic Two Rate"]
[null,"Small Non Domestic Two Rate",474.34270858223499,465.41799923666258,474.61683777382382,484.23909326989678,534.83246635052546]
[null,"LDNO LV: Small Non Domestic Two Rate",533.35730601140096,524.22558559662207,534.78458270532883,545.86856367455391,601.76946352483151]
[null,"LDNO HV: Small Non Domestic Two Rate",305.93450122913305,300.38736429637589,306.30888606465095,312.52287969214262,345.12213129887056]
[null,"> Small Non Domestic Off Peak (related MPAN)"]
[null,"Small Non Domestic Off Peak (related MPAN)",52.766993812399846,49.119275490141135,49.618962931546442,50.068681628811213,59.11302431824717]
[null,"LDNO LV: Small Non Domestic Off Peak (related MPAN)","","","","",""]
[null,"LDNO HV: Small Non Domestic Off Peak (related MPAN)","","","","",""]
[null,"> LV Medium Non-Domestic"]
[null,"LV Medium Non-Domestic",873.71429732695515,857.72499776950463,874.46450217801225,892.01778101970478,984.55131848300141]
[null,"LDNO LV: LV Medium Non-Domestic","","","","",""]
[null,"LDNO HV: LV Medium Non-Domestic","","","","",""]
[null,"> LV Sub Medium Non-Domestic"]
[null,"LV Sub Medium Non-Domestic",1076.6243707237081,1052.8047083236961,1072.7820840801746,1094.0046798603673,1215.3317542502111]
[null,"> HV Medium Non-Domestic"]
[null,"HV Medium Non-Domestic",1509.9932369629876,1475.282902137943,1502.5754701891526,1530.1429970355318,1693.2972391024582]
[null,"> LV Network Domestic"]
[null,"LV Network Domestic",71.354663102284448,70.262219171206866,71.618225378123483,73.046158292922186,80.185876132236245]
[null,"LDNO LV: LV Network Domestic","","","","",""]
[null,"LDNO HV: LV Network Domestic","","","","",""]
[null,"> LV Network Non-Domestic Non-CT"]
[null,"LV Network Non-Domestic Non-CT",1359.5368113286565,1335.5728075852221,1362.4696036215714,1390.3154319251673,1535.3675828317603]
[null,"LDNO LV: LV Network Non-Domestic Non-CT",575.56602558265934,562.12398714673429,572.53731022074305,583.72093345183896,649.05093528257669]
[null,"LDNO HV: LV Network Non-Domestic Non-CT",480.71582590077981,473.02733980923529,482.6885645412865,492.71797358712229,542.92903333800621]
[null,"> LV HH Metered"]
[null,"LV HH Metered",4964.8703454200604,4889.8754268571474,4990.6424483153241,5090.4662593182884,5580.0059929269537]
[null,"LDNO LV: LV HH Metered",3565.1208781228838,3525.864733097882,3602.186550220973,3673.4883111211007,3998.6588289275396]
[null,"LDNO HV: LV HH Metered",4550.7545960556608,4488.1957519320831,4588.2700688525274,4678.5390324397149,5106.8246147949876]
[null,"> LV Sub HH Metered"]
[null,"LV Sub HH Metered",14265.185448312148,14069.94005527734,14352.68386689774,14650.504614519725,16064.912700946232]
[null,"LDNO HV: LV Sub HH Metered",26096.229971179211,25466.629243749234,25938.871285612386,26448.631491760632,29402.97127680327]
[null,"> HV HH Metered"]
[null,"HV HH Metered",37227.291422582799,36197.71385416689,36856.308890995992,37501.686322343601,41883.440942804657]
[null,"LDNO HV: HV HH Metered",34728.473553259522,34281.589873380108,34938.062649796491,35621.640880644685,39060.750155787558]
[null,"> NHH UMS category A"]
[null,"NHH UMS category A",513.43933924565533,504.72590115917836,514.74635495862685,524.11330090158958,572.90855418586057]
[null,"LDNO LV: NHH UMS category A","","","","",""]
[null,"LDNO HV: NHH UMS category A","","","","",""]
[null,"> NHH UMS category B"]
[null,"NHH UMS category B",460.03789511305553,454.94392834777153,464.25359174639385,473.56325514501623,514.66629732006595]
[null,"LDNO LV: NHH UMS category B","","","","",""]
[null,"LDNO HV: NHH UMS category B","","","","",""]
[null,"> NHH UMS category C"]
[null,"NHH UMS category C",62.593924891759528,62.75123997805548,64.219514116817791,65.722747163645863,70.372281936393136]
[null,"LDNO LV: NHH UMS category C","","","","",""]
[null,"LDNO HV: NHH UMS category C","","","","",""]
[null,"> NHH UMS category D"]
[null,"NHH UMS category D",611.99765624643885,596.821748700032,608.20367935983711,617.54269938839514,680.58108458116124]
[null,"LDNO LV: NHH UMS category D","","","","",""]
[null,"LDNO HV: NHH UMS category D","","","","",""]
[null,"> LV UMS (Pseudo HH Metered)"]
[null,"LV UMS (Pseudo HH Metered)",232021.80879208667,229830.79408407322,234657.71634581499,239372.23192622242,259748.13593361873]
[null,"LDNO LV: LV UMS (Pseudo HH Metered)","","","","",""]
[null,"LDNO HV: LV UMS (Pseudo HH Metered)","","","","",""]
[null,"> LV Generation NHH or Aggregate HH"]
[null,"LV Generation NHH or Aggregate HH",-471.06287498316175,-489.87529011827201,-504.92522222636035,-520.72765093985288,-536.53007965334564]
[null,"LDNO LV: LV Generation NHH or Aggregate HH","","","","",""]
[null,"LDNO HV: LV Generation NHH or Aggregate HH","","","","",""]
[null,"> LV Sub Generation NHH"]
[null,"LV Sub Generation NHH","","","","",""]
[null,"LDNO HV: LV Sub Generation NHH","","","","",""]
[null,"> LV Generation Intermittent"]
[null,"LV Generation Intermittent",-346.37518243428804,-360.18332144633547,-371.27822184133447,-382.93996455242353,-394.54122078181143]
[null,"LDNO LV: LV Generation Intermittent","","","","",""]
[null,"LDNO HV: LV Generation Intermittent",-90.058813232120087,-93.617852313200004,-96.538558159460734,-99.623667943383637,-102.61693450056063]
[null,"> LV Generation Intermittent no RP charge"]
[null,"LV Generation Intermittent no RP charge","","","","",""]
[null,"> LV Generation Non-Intermittent"]
[null,"LV Generation Non-Intermittent",-1073.2417390786186,-1119.0204134102328,-1152.0543597903077,-1188.9926686991853,-1225.5414180738362]
[null,"LDNO LV: LV Generation Non-Intermittent","","","","",""]
[null,"LDNO HV: LV Generation Non-Intermittent","","","","",""]
[null,"> LV Generation Non-Intermittent no RP charge"]
[null,"LV Generation Non-Intermittent no RP charge","","","","",""]
[null,"> LV Sub Generation Intermittent"]
[null,"LV Sub Generation Intermittent",-658.23250189929627,-684.52936406006427,-706.26760440282339,-729.11634681528199,-751.84847568852922]
[null,"LDNO HV: LV Sub Generation Intermittent","","","","",""]
[null,"> LV Sub Generation Intermittent no RP charge"]
[null,"LV Sub Generation Intermittent no RP charge","","","","",""]
[null,"> LV Sub Generation Non-Intermittent"]
[null,"LV Sub Generation Non-Intermittent",-4898.5855478563963,-5107.567935726649,-5261.5574314652376,-5436.8278854070177,-5605.4080637396219]
[null,"LDNO HV: LV Sub Generation Non-Intermittent","","","","",""]
[null,"> LV Sub Generation Non-Intermittent no RP charge"]
[null,"LV Sub Generation Non-Intermittent no RP charge","","","","",""]
[null,"> HV Generation Intermittent"]
[null,"HV Generation Intermittent",-6393.3907038614607,-6679.4893616681275,-6907.6231049610151,-7155.278281504412,-7382.0980247972993]
[null,"LDNO HV: HV Generation Intermittent",-101.25411047215498,-105.73480786924941,-109.31965823244553,-113.20361168280873,-116.78846204600487]
[null,"> HV Generation Intermittent no RP charge"]
[null,"HV Generation Intermittent no RP charge","","","","",""]
[null,"> HV Generation Non-Intermittent"]
[null,"HV Generation Non-Intermittent",-13820.10098675378,-14449.895937907591,-14923.222216473047,-15490.484399393819,-15967.960746833087]
[null,"LDNO HV: HV Generation Non-Intermittent","","","","",""]
[null,"> HV Generation Non-Intermittent no RP charge"]
[null,"HV Generation Non-Intermittent no RP charge","","","","",""]

{"sheet":"Vlookup","index":15,"n_rows":310,"n_cols":11,"rows_kept":310,"cut":false,"hidden":false,"merged":[]}
["This is an ancillary sheet used in calculations"]
[]
[]
["1000. Company, charging year, data version"]
[""]
[null,"Company","Year","Version"]
["Company, charging year, data version",2,3,4,""]
[]
["1010. Financial and general assumptions"]
[]
["Sources: financial assumptions; calendar; network model."]
["These financial assumptions determine the annuity rate applied to convert the asset values of the network model into an annual charge."]
[null,"Rate of return","Annualisation period (years)","Annuity proportion for customer-contributed assets","Power factor","Days in the charging period"]
["Financial and general assumptions",6,7,null,8,9,""]
[]
["1017. Diversity allowance between top and bottom of network level"]
[]
["Source: operational data analysis and/or network model."]
["The diversity figure against GSP is the diversity between GSP Group (the whole system) and individual GSPs."]
["The diversity figure against 132kV is the diversity between GSPs (the top of the 132kV network) and 132kV/EHV bulk supply points (the bottom of the 132kV network). "]
["The diversity figure against EHV is the diversity between 132kV/EHV bulk supply points (the top of the EHV network) and EHV/HV primary substations (the bottom of the EHV network). "]
["The diversity figure against HV is the diversity between EHV/HV primary substations (the top of the HV network) and HV/LV substations (the bottom of the HV network). "]
[null,"Diversity allowance between top and bottom of network level"]
["GSPs",11,""]
["132kV",12,""]
["132kV/EHV",null,""]
["EHV",13,""]
["EHV/HV",null,""]
["HV",14,""]
["HV/LV",null,""]
["LV circuits",null,""]
[]
["1018. Proportion of relevant load going through 132kV/HV direct transformation"]
[""]
[null,"132kV/HV"]
["EHV/HV",15,""]
[]
["1019. Network model GSP peak demand (MW)"]
[]
[null,"Network model GSP peak demand (MW)"]
["Network model GSP peak demand (MW)",16,""]
[]
["1020. Gross asset cost by network level (£)"]
[]
[null,"Gross assets £"]
["132kV",18,""]
["132kV/EHV",19,""]
["EHV",20,""]
["EHV/HV",21,""]
["132kV/HV",22,""]
["HV",23,""]
["HV/LV",24,""]
["LV circuits",25,""]
[]
["1022. LV service model asset cost (£)"]
[]
[null,"LV service model 1","LV service model 2","LV service model 3","LV service model 4","LV service model 5","LV service model 6","LV service model 7","LV service model 8"]
["LV service model asset cost (£)",27,28,29,30,31,32,33,34,""]
[]
["1023. HV service model asset cost (£)"]
[]
[null,"HV service model 1","HV service model 2","HV service model 3","HV service model 4","HV service model 5"]
["HV service model asset cost (£)",36,37,38,39,40,""]
[]
["1032. Loss adjustment factors to transmission"]
[""]
["Source: losses model or loss adjustment factors at time of system peak."]
[null,"132kV","132kV/EHV","EHV","EHV/HV","HV","HV/LV","LV circuits"]
["Loss adjustment factor",45,46,47,48,49,50,51,""]
[]
["1037. Embedded network (LDNO) discounts"]
[""]
["Source: separate price control disaggregation model."]
[null,"No discount","LDNO LV: LV user","LDNO HV: LV user","LDNO HV: LV sub user","LDNO HV: HV user"]
["LDNO discount",null,53,54,55,56,""]
[]
["1041. Load profile data for demand users"]
[]
["Source: load data analysis."]
[null,"Coincidence factor","Load factor"]
["Domestic Unrestricted",{"$f":"'CDCM Forecast Data'!A71","v":58},{"$f":"'CDCM Forecast Data'!A91","v":78},""]
["Domestic Two Rate",{"$f":"'CDCM Forecast Data'!A72","v":59},{"$f":"'CDCM Forecast Data'!A92","v":79},""]
["Domestic Off Peak (related MPAN)",{"$f":"'CDCM Forecast Data'!A73","v":60},{"$f":"'CDCM Forecast Data'!A93","v":80},""]
["Small Non Domestic Unrestricted",{"$f":"'CDCM Forecast Data'!A74","v":61},{"$f":"'CDCM Forecast Data'!A94","v":81},""]
["Small Non Domestic Two Rate",{"$f":"'CDCM Forecast Data'!A75","v":62},{"$f":"'CDCM Forecast Data'!A95","v":82},""]
["Small Non Domestic Off Peak (related MPAN)",{"$f":"'CDCM Forecast Data'!A76","v":63},{"$f":"'CDCM Forecast Data'!A96","v":83},""]
["LV Medium Non-Domestic",{"$f":"'CDCM Forecast Data'!A77","v":64},{"$f":"'CDCM Forecast Data'!A97","v":84},""]
["LV Sub Medium Non-Domestic",{"$f":"'CDCM Forecast Data'!A78","v":65},{"$f":"'CDCM Forecast Data'!A98","v":85},""]
["HV Medium Non-Domestic",{"$f":"'CDCM Forecast Data'!A79","v":66},{"$f":"'CDCM Forecast Data'!A99","v":86},""]
["LV Network Domestic",{"$f":"'CDCM Forecast Data'!A80","v":67},{"$f":"'CDCM Forecast Data'!A100","v":87}]
["LV Network Non-Domestic Non-CT",{"$f":"'CDCM Forecast Data'!A81","v":68},{"$f":"'CDCM Forecast Data'!A101","v":88},""]
["LV HH Metered",{"$f":"'CDCM Forecast Data'!A82","v":69},{"$f":"'CDCM Forecast Data'!A102","v":89},""]
["LV Sub HH Metered",{"$f":"'CDCM Forecast Data'!A83","v":70},{"$f":"'CDCM Forecast Data'!A103","v":90},""]
["HV HH Metered",{"$f":"'CDCM Forecast Data'!A84","v":71},{"$f":"'CDCM Forecast Data'!A104","v":91},""]
["NHH UMS category A",{"$f":"'CDCM Forecast Data'!A85","v":72},{"$f":"'CDCM Forecast Data'!A105","v":92},""]
["NHH UMS category B",{"$f":"'CDCM Forecast Data'!A86","v":73},{"$f":"'CDCM Forecast Data'!A106","v":93},""]
["NHH UMS category C",{"$f":"'CDCM Forecast Data'!A87","v":74},{"$f":"'CDCM Forecast Data'!A107","v":94},""]
["NHH UMS category D",{"$f":"'CDCM Forecast Data'!A88","v":75},{"$f":"'CDCM Forecast Data'!A108","v":95},""]
["LV UMS (Pseudo HH Metered)",{"$f":"'CDCM Forecast Data'!A89","v":76},{"$f":"'CDCM Forecast Data'!A109","v":96},""]
[]
["1053. Volume forecasts for the charging year"]
[""]
["Source: forecast."]
["Please include MPAN counts for tariffs with no fixed charge (e.g. off-peak tariffs),"]
["but exclude MPANs on tariffs with a fixed charge that are not subject to a fixed charge due to a site grouping arrangement."]
[null,"Rate 1 units (MWh)"]
["> Domestic Unrestricted",1]
["Domestic Unrestricted",{"$f":"B107+1","v":2}]
["LDNO LV: Domestic Unrestricted",{"$f":"B108+1","v":3}]
["LDNO HV: Domestic Unrestricted",4]
["> Domestic Two Rate",5]
["Domestic Two Rate",6]
["LDNO LV: Domestic Two Rate",7]
["LDNO HV: Domestic Two Rate",8]
["> Domestic Off Peak (related MPAN)",9]
["Domestic Off Peak (related MPAN)",10]
["LDNO LV: Domestic Off Peak (related MPAN)",11]
["LDNO HV: Domestic Off Peak (related MPAN)",12]
["> Small Non Domestic Unrestricted",13]
["Small Non Domestic Unrestricted",14]
["LDNO LV: Small Non Domestic Unrestricted",15]
["LDNO HV: Small Non Domestic Unrestricted",16]
["> Small Non Domestic Two Rate",17]
["Small Non Domestic Two Rate",18]
["LDNO LV: Small Non Domestic Two Rate",19]
["LDNO HV: Small Non Domestic Two Rate",20]
["> Small Non Domestic Off Peak (related MPAN)",21]
["Small Non Domestic Off Peak (related MPAN)",22]
["LDNO LV: Small Non Domestic Off Peak (related MPAN)",23]
["LDNO HV: Small Non Domestic Off Peak (related MPAN)",24]
["> LV Medium Non-Domestic",25]
["LV Medium Non-Domestic",26]
["LDNO LV: LV Medium Non-Domestic",27]
["LDNO HV: LV Medium Non-Domestic",28]
["> LV Sub Medium Non-Domestic",29]
["LV Sub Medium Non-Domestic",30]
["> HV Medium Non-Domestic",31]
["HV Medium Non-Domestic",32]
["> LV Network Domestic",33]
["LV Network Domestic",34]
["LDNO LV: LV Network Domestic",35]
["LDNO HV: LV Network Domestic",36]
["> LV Network Non-Domestic Non-CT",37]
["LV Network Non-Domestic Non-CT",38]
["LDNO LV: LV Network Non-Domestic Non-CT",39]
["LDNO HV: LV Network Non-Domestic Non-CT",40]
["> LV HH Metered",41]
["LV HH Metered",42]
["LDNO LV: LV HH Metered",43]
["LDNO HV: LV HH Metered",44]
["> LV Sub HH Metered",45]
["LV Sub HH Metered",46]
["LDNO HV: LV Sub HH Metered",47]
["> HV HH Metered",48]
["HV HH Metered",49]
["LDNO HV: HV HH Metered",50]
["> NHH UMS category A",51]
["NHH UMS category A",52]
["LDNO LV: NHH UMS category A",53]
["LDNO HV: NHH UMS category A",54]
["> NHH UMS category B",55]
["NHH UMS category B",56]
["LDNO LV: NHH UMS category B",57]
["LDNO HV: NHH UMS category B",58]
["> NHH UMS category C",59]
["NHH UMS category C",60]
["LDNO LV: NHH UMS category C",61]
["LDNO HV: NHH UMS category C",62]
["> NHH UMS category D",63]
["NHH UMS category D",64]
["LDNO LV: NHH UMS category D",65]
["LDNO HV: NHH UMS category D",66]
["> LV UMS (Pseudo HH Metered)",{"$f":"B172+1","v":67}]
["LV UMS (Pseudo HH Metered)",68]
["LDNO LV: LV UMS (Pseudo HH Metered)",69]
["LDNO HV: LV UMS (Pseudo HH Metered)",70]
["> LV Generation NHH or Aggregate HH",71]
["LV Generation NHH or Aggregate HH",72]
["LDNO LV: LV Generation NHH or Aggregate HH",73]
["LDNO HV: LV Generation NHH or Aggregate HH",74]
["> LV Sub Generation NHH",75]
["LV Sub Generation NHH",76]
["LDNO HV: LV Sub Generation NHH",77]
["> LV Generation Intermittent",78]
["LV Generation Intermittent",79]
["LDNO LV: LV Generation Intermittent",80]
["LDNO HV: LV Generation Intermittent",81]
["> LV Generation Intermittent no RP charge",82]
["LV Generation Intermittent no RP charge",83]
["> LV Generation Non-Intermittent",84]
["LV Generation Non-Intermittent",85]
["LDNO LV: LV Generation Non-Intermittent",86]
["LDNO HV: LV Generation Non-Intermittent",87]
["> LV Generation Non-Intermittent no RP charge",88]
["LV Generation Non-Intermittent no RP charge",89]
["> LV Sub Generation Intermittent",90]
["LV Sub Generation Intermittent",91]
["LDNO HV: LV Sub Generation Intermittent",92]
["> LV Sub Generation Intermittent no RP charge",93]
["LV Sub Generation Intermittent no RP charge",94]
["> LV Sub Generation Non-Intermittent",95]
["LV Sub Generation Non-Intermittent",96]
["LDNO HV: LV Sub Generation Non-Intermittent",97]
["> LV Sub Generation Non-Intermittent no RP charge",98]
["LV Sub Generation Non-Intermittent no RP charge",99]
["> HV Generation Intermittent",100]
["HV Generation Intermittent",101]
["LDNO HV: HV Generation Intermittent",102]
["> HV Generation Intermittent no RP charge",103]
["HV Generation Intermittent no RP charge",104]
["> HV Generation Non-Intermittent",105]
["HV Generation Non-Intermittent",106]
["LDNO HV: HV Generation Non-Intermittent",107]
["> HV Generation Non-Intermittent no RP charge",108]
["HV Generation Non-Intermittent no RP charge",109]
[]
["1055. Transmission exit charges (£/year)"]
[""]
["Source: forecast."]
[null,"Transmission\nexit"]
["Transmission exit charges (£/year)",{"$f":"'CDCM Forecast Data'!A111","v":98},""]
[]
["1059. Other expenditure"]
[""]
[null,"Direct cost (£/year)","Indirect cost (£/year)","Indirect cost proportion","Network rates (£/year)"]
["Other expenditure",{"$f":"'CDCM Forecast Data'!A113","v":100},{"$f":"'CDCM Forecast Data'!A114","v":101},{"$f":"'CDCM Forecast Data'!A115","v":102},{"$f":"'CDCM Forecast Data'!A116","v":103},""]
[]
["1060. Customer contributions under current connection charging policy"]
[]
["Source: analysis of expenditure data and/or survey of capital expenditure schemes."]
["Customer contribution percentages by network level of supply and by asset network level."]
["These proportions should reflect the current connection charging method, not necessarily the method that was in place when the connection was built."]
[null,"Assets\n132kV","Assets\n132kV/EHV","Assets\nEHV","Assets\nEHV/HV","Assets\n132kV/HV","Assets\nHV","Assets\nHV/LV","Assets\nLV circuits"]
["LV network",{"$f":"'CDCM Forecast Data'!A119","v":106},{"$f":"'CDCM Forecast Data'!A120","v":107},{"$f":"'CDCM Forecast Data'!A121","v":108},{"$f":"'CDCM Forecast Data'!A122","v":109},{"$f":"'CDCM Forecast Data'!A123","v":110},{"$f":"'CDCM Forecast Data'!A124","v":111},{"$f":"'CDCM Forecast Data'!A125","v":112},{"$f":"'CDCM Forecast Data'!A126","v":113},""]
["LV substation",{"$f":"'CDCM Forecast Data'!A128","v":115},{"$f":"'CDCM Forecast Data'!A129","v":116},{"$f":"'CDCM Forecast Data'!A130","v":117},{"$f":"'CDCM Forecast Data'!A131","v":118},{"$f":"'CDCM Forecast Data'!A132","v":119},{"$f":"'CDCM Forecast Data'!A133","v":120},{"$f":"'CDCM Forecast Data'!A134","v":121},null,""]
["HV network",{"$f":"'CDCM Forecast Data'!A136","v":123},{"$f":"'CDCM Forecast Data'!A137","v":124},{"$f":"'CDCM Forecast Data'!A138","v":125},{"$f":"'CDCM Forecast Data'!A139","v":126},{"$f":"'CDCM Forecast Data'!A140","v":127},{"$f":"'CDCM Forecast Data'!A141","v":128},null,null,""]
["HV substation",{"$f":"'CDCM Forecast Data'!A143","v":130},{"$f":"'CDCM Forecast Data'!A144","v":131},{"$f":"'CDCM Forecast Data'!A145","v":132},{"$f":"'CDCM Forecast Data'!A146","v":133},null,null,null,null,""]
[]
["1061. Average split of rate 1 units by distribution time band"]
[]
["Source: load data analysis."]
["This table relates to the first TPR or charging period for each tariff."]
["Each line relates to a different user type and tariff structure."]
["For each user type and tariff structure, the figure entered against each of the time bands used for network analysis is"]
["the proportion of the units recorded on the relevant TPR or within the relevant charging period that would fall with each time band."]
[null,"Red","Amber","Green"]
["Domestic Unrestricted",{"$f":"'CDCM Forecast Data'!A149","v":136},{"$f":"'CDCM Forecast Data'!A159","v":146},{"$f":"'CDCM Forecast Data'!A169","v":156},""]
["Domestic Two Rate",{"$f":"'CDCM Forecast Data'!A150","v":137},{"$f":"'CDCM Forecast Data'!A160","v":147},{"$f":"'CDCM Forecast Data'!A170","v":157},""]
["Domestic Off Peak (related MPAN)",{"$f":"'CDCM Forecast Data'!A151","v":138},{"$f":"'CDCM Forecast Data'!A161","v":148},{"$f":"'CDCM Forecast Data'!A171","v":158}]
["Small Non Domestic Unrestricted",{"$f":"'CDCM Forecast Data'!A152","v":139},{"$f":"'CDCM Forecast Data'!A162","v":149},{"$f":"'CDCM Forecast Data'!A172","v":159}]
["Small Non Domestic Two Rate",{"$f":"'CDCM Forecast Data'!A153","v":140},{"$f":"'CDCM Forecast Data'!A163","v":150},{"$f":"'CDCM Forecast Data'!A173","v":160},""]
["Small Non Domestic Off Peak (related MPAN)",{"$f":"'CDCM Forecast Data'!A154","v":141},{"$f":"'CDCM Forecast Data'!A164","v":151},{"$f":"'CDCM Forecast Data'!A174","v":161},""]
["LV Medium Non-Domestic",{"$f":"'CDCM Forecast Data'!A155","v":142},{"$f":"'CDCM Forecast Data'!A165","v":152},{"$f":"'CDCM Forecast Data'!A175","v":162},""]
["LV Sub Medium Non-Domestic",{"$f":"'CDCM Forecast Data'!A156","v":143},{"$f":"'CDCM Forecast Data'!A166","v":153},{"$f":"'CDCM Forecast Data'!A176","v":163},""]
["HV Medium Non-Domestic",{"$f":"'CDCM Forecast Data'!A157","v":144},{"$f":"'CDCM Forecast Data'!A167","v":154},{"$f":"'CDCM Forecast Data'!A177","v":164},""]
[]
["1062. Average split of rate 2 units by distribution time band"]
[]
["Source: load data analysis."]
["This table relates to the second TPR or charging period for each tariff."]
["See notes on table 1061."]
[null,"Red","Amber","Green"]
["Domestic Two Rate",{"$f":"'CDCM Forecast Data'!A180","v":167},{"$f":"'CDCM Forecast Data'!A186","v":173},{"$f":"'CDCM Forecast Data'!A192","v":179},""]
["Small Non Domestic Two Rate",{"$f":"'CDCM Forecast Data'!A181","v":168},{"$f":"'CDCM Forecast Data'!A187","v":174},{"$f":"'CDCM Forecast Data'!A193","v":180},""]
["LV Medium Non-Domestic",{"$f":"'CDCM Forecast Data'!A182","v":169},{"$f":"'CDCM Forecast Data'!A188","v":175},{"$f":"'CDCM Forecast Data'!A194","v":181},""]
["LV Sub Medium Non-Domestic",{"$f":"'CDCM Forecast Data'!A183","v":170},{"$f":"'CDCM Forecast Data'!A189","v":176},{"$f":"'CDCM Forecast Data'!A195","v":182},""]
["HV Medium Non-Domestic",{"$f":"'CDCM Forecast Data'!A184","v":171},{"$f":"'CDCM Forecast Data'!A190","v":177},{"$f":"'CDCM Forecast Data'!A196","v":183},""]
[]
["1064. Average split of rate 1 units by special distribution time band"]
[]
[null,"Black","Yellow","Green",""]
["NHH UMS category A",{"$f":"'CDCM Forecast Data'!A199","v":186},{"$f":"'CDCM Forecast Data'!A204","v":191},{"$f":"'CDCM Forecast Data'!A209","v":196},""]
["NHH UMS category B",{"$f":"'CDCM Forecast Data'!A200","v":187},{"$f":"'CDCM Forecast Data'!A205","v":192},{"$f":"'CDCM Forecast Data'!A210","v":197},""]
["NHH UMS category C",{"$f":"'CDCM Forecast Data'!A201","v":188},{"$f":"'CDCM Forecast Data'!A206","v":193},{"$f":"'CDCM Forecast Data'!A211","v":198},""]
["NHH UMS category D",{"$f":"'CDCM Forecast Data'!A202","v":189},{"$f":"'CDCM Forecast Data'!A207","v":194},{"$f":"'CDCM Forecast Data'!A212","v":199},""]
[]
["1066. Typical annual hours by special distribution time band"]
["Source: definition of distribution time bands."]
["The figures in this table will be automatically adjusted to match the number of days in the charging period."]
[]
[null,"Black","Yellow","Green"]
["Annual hours",{"$f":"'CDCM Forecast Data'!A214","v":201},{"$f":"'CDCM Forecast Data'!A215","v":202},{"$f":"'CDCM Forecast Data'!A216","v":203},""]
[]
["1068. Typical annual hours by distribution time band"]
[]
["Source: definition of distribution time bands."]
["The figures in this table will be automatically adjusted to match the number of days in the charging period."]
[null,"Red","Amber","Green"]
["Annual hours",{"$f":"'CDCM Forecast Data'!A218","v":205},{"$f":"'CDCM Forecast Data'!A219","v":206},{"$f":"'CDCM Forecast Data'!A220","v":207},""]
[]
["1069. Peaking probabilities by network level"]
[]
["Source: operational data analysis."]
[null,"Red","Amber","Green","Black"]
["GSPs",{"$f":"'CDCM Forecast Data'!A223","v":210},{"$f":"'CDCM Forecast Data'!A233","v":220},{"$f":"'CDCM Forecast Data'!A243","v":230},{"$f":"'CDCM Forecast Data'!A253","v":240},""]
["132kV",{"$f":"'CDCM Forecast Data'!A224","v":211},{"$f":"'CDCM Forecast Data'!A234","v":221},{"$f":"'CDCM Forecast Data'!A244","v":231},{"$f":"'CDCM Forecast Data'!A254","v":241},""]
["132kV/EHV",{"$f":"'CDCM Forecast Data'!A225","v":212},{"$f":"'CDCM Forecast Data'!A235","v":222},{"$f":"'CDCM Forecast Data'!A245","v":232},{"$f":"'CDCM Forecast Data'!A255","v":242},""]
["EHV",{"$f":"'CDCM Forecast Data'!A226","v":213},{"$f":"'CDCM Forecast Data'!A236","v":223},{"$f":"'CDCM Forecast Data'!A246","v":233},{"$f":"'CDCM Forecast Data'!A256","v":243},""]
["EHV/HV",{"$f":"'CDCM Forecast Data'!A227","v":214},{"$f":"'CDCM Forecast Data'!A237","v":224},{"$f":"'CDCM Forecast Data'!A247","v":234},{"$f":"'CDCM Forecast Data'!A257","v":244},""]
["132kV/HV",{"$f":"'CDCM Forecast Data'!A228","v":215},{"$f":"'CDCM Forecast Data'!A238","v":225},{"$f":"'CDCM Forecast Data'!A248","v":235},{"$f":"'CDCM Forecast Data'!A258","v":245},""]
["HV",{"$f":"'CDCM Forecast Data'!A229","v":216},{"$f":"'CDCM Forecast Data'!A239","v":226},{"$f":"'CDCM Forecast Data'!A249","v":236},{"$f":"'CDCM Forecast Data'!A259","v":246},""]
["HV/LV",{"$f":"'CDCM Forecast Data'!A230","v":217},{"$f":"'CDCM Forecast Data'!A240","v":227},{"$f":"'CDCM Forecast Data'!A250","v":237},{"$f":"'CDCM Forecast Data'!A260","v":247},""]
["LV circuits",{"$f":"'CDCM Forecast Data'!A231","v":218},{"$f":"'CDCM Forecast Data'!A241","v":228},{"$f":"'CDCM Forecast Data'!A251","v":238},{"$f":"'CDCM Forecast Data'!A261","v":248},""]
[]
["1092. Average kVAr by kVA, by network level"]
[""]
["Source: analysis of operational data."]
["This is the average of MVAr/MVA or SQRT(1-PF^2) across relevant network elements."]
[null,"GSPs","132kV","132kV/EHV","EHV","EHV/HV","132kV/HV","HV","HV/LV","LV circuits"]
["Average kVAr by kVA, by network level",{"$f":"'CDCM Forecast Data'!A263","v":250},{"$f":"'CDCM Forecast Data'!A264","v":251},{"$f":"'CDCM Forecast Data'!A265","v":252},{"$f":"'CDCM Forecast Data'!A266","v":253},{"$f":"'CDCM Forecast Data'!A267","v":254},{"$f":"'CDCM Forecast Data'!A268","v":255},{"$f":"'CDCM Forecast Data'!A269","v":256},{"$f":"'CDCM Forecast Data'!A270","v":257},{"$f":"'CDCM Forecast Data'!A271","v":258},""]

{"sheet":"Tariffs","index":16,"n_rows":91,"n_cols":11,"rows_kept":91,"cut":false,"hidden":false,"merged":[]}
[{"$f":"\"Tariffs for \"&CDCM!B7&\" in \"&CDCM!C7&\" (\"&CDCM!D7&\")\"","v":"Tariffs for WPD East Midlands in 2023/24 (Forecast)"}]
[]
["3701. Tariffs"]
["Data sources:"]
["x1 = 3607. Unit rate 1 p/kWh (in Tariffs)"]
["x2 = 3607. Unit rate 2 p/kWh (in Tariffs)"]
["x3 = 3607. Unit rate 3 p/kWh (in Tariffs)"]
["x4 = 3607. Fixed charge p/MPAN/day (in Tariffs)"]
["x5 = 3607. Capacity charge p/kVA/day (in Tariffs)"]
["x6 = 3607. Exceeded capacity charge p/kVA/day (in Tariffs)"]
["x7 = 3607. Reactive power charge p/kVArh (in Tariffs)"]
["Kind:","Input data","Fixed data","Copy cells","Copy cells","Copy cells","Copy cells","Copy cells","Copy cells","Copy cells","Input data"]
["Formula:","","","= x1","= x2","= x3","= x4","= x5","= x6","= x7",""]
[]
[null,"Open LLFCs","PCs","Unit rate 1 p/kWh","Unit rate 2 p/kWh","Unit rate 3 p/kWh","Fixed charge p/MPAN/day","Capacity charge p/kVA/day","Exceeded capacity charge p/kVA/day","Reactive power charge p/kVArh","Closed LLFCs"]
["Domestic Unrestricted",1,1,{"$f":"CDCM!B$4381","v":2.33},{"$f":"CDCM!C$4381","v":0},{"$f":"CDCM!D$4381","v":0},{"$f":"CDCM!E$4381","v":3.32},{"$f":"CDCM!F$4381","v":0},{"$f":"CDCM!G$4381","v":0},{"$f":"CDCM!H$4381","v":0},2]
["Domestic Two Rate",3,2,{"$f":"CDCM!B$4385","v":2.5939999999999999},{"$f":"CDCM!C$4385","v":1.0029999999999999},{"$f":"CDCM!D$4385","v":0},{"$f":"CDCM!E$4385","v":3.32},{"$f":"CDCM!F$4385","v":0},{"$f":"CDCM!G$4385","v":0},{"$f":"CDCM!H$4385","v":0},"4,  8,  10"]
["Domestic Off Peak (related MPAN)",11,2,{"$f":"CDCM!B$4389","v":1.419},{"$f":"CDCM!C$4389","v":0},{"$f":"CDCM!D$4389","v":0},{"$f":"CDCM!E$4389","v":0},{"$f":"CDCM!F$4389","v":0},{"$f":"CDCM!G$4389","v":0},{"$f":"CDCM!H$4389","v":0}]
["Small Non Domestic Unrestricted",13,3,{"$f":"CDCM!B$4393","v":2.395},{"$f":"CDCM!C$4393","v":0},{"$f":"CDCM!D$4393","v":0},{"$f":"CDCM!E$4393","v":6.72},{"$f":"CDCM!F$4393","v":0},{"$f":"CDCM!G$4393","v":0},{"$f":"CDCM!H$4393","v":0},"22, 34, 43"]
["Small Non Domestic Two Rate",37,4,{"$f":"CDCM!B$4397","v":2.4790000000000001},{"$f":"CDCM!C$4397","v":1.0029999999999999},{"$f":"CDCM!D$4397","v":0},{"$f":"CDCM!E$4397","v":6.72},{"$f":"CDCM!F$4397","v":0},{"$f":"CDCM!G$4397","v":0},{"$f":"CDCM!H$4397","v":0},"16, 19, 28, 31, 49, 52"]
["Small Non Domestic Off Peak (related MPAN)",901,4,{"$f":"CDCM!B$4401","v":1.1830000000000001},{"$f":"CDCM!C$4401","v":0},{"$f":"CDCM!D$4401","v":0},{"$f":"CDCM!E$4401","v":0},{"$f":"CDCM!F$4401","v":0},{"$f":"CDCM!G$4401","v":0},{"$f":"CDCM!H$4401","v":0}]
["LV Medium Non-Domestic",81,"5-8",{"$f":"CDCM!B$4405","v":2.4220000000000002},{"$f":"CDCM!C$4405","v":0.999},{"$f":"CDCM!D$4405","v":0},{"$f":"CDCM!E$4405","v":19.03},{"$f":"CDCM!F$4405","v":0},{"$f":"CDCM!G$4405","v":0},{"$f":"CDCM!H$4405","v":0},"83, 85"]
["LV Sub Medium Non-Domestic",80,"5-8",{"$f":"CDCM!B$4409","v":2.2599999999999998},{"$f":"CDCM!C$4409","v":0.99299999999999999},{"$f":"CDCM!D$4409","v":0},{"$f":"CDCM!E$4409","v":17.489999999999998},{"$f":"CDCM!F$4409","v":0},{"$f":"CDCM!G$4409","v":0},{"$f":"CDCM!H$4409","v":0}]
["HV Medium Non-Domestic",90,"5-8",{"$f":"CDCM!B$4411","v":1.542},{"$f":"CDCM!C$4411","v":0.96199999999999997},{"$f":"CDCM!D$4411","v":0},{"$f":"CDCM!E$4411","v":166.54},{"$f":"CDCM!F$4411","v":0},{"$f":"CDCM!G$4411","v":0},{"$f":"CDCM!H$4411","v":0}]
["LV Network Domestic",246,null,{"$f":"CDCM!B$4413","v":8.6419999999999995},{"$f":"CDCM!C$4413","v":1.732},{"$f":"CDCM!D$4413","v":0.999},{"$f":"CDCM!E$4413","v":3.32},{"$f":"CDCM!F$4413","v":0},{"$f":"CDCM!G$4413","v":0},{"$f":"CDCM!H$4413","v":0}]
["LV Network Non-Domestic Non-CT",247,null,{"$f":"CDCM!B$4417","v":9.1359999999999992},{"$f":"CDCM!C$4417","v":1.782},{"$f":"CDCM!D$4417","v":1.002},{"$f":"CDCM!E$4417","v":6.72},{"$f":"CDCM!F$4417","v":0},{"$f":"CDCM!G$4417","v":0},{"$f":"CDCM!H$4417","v":0}]
["LV HH Metered","58, 990",null,{"$f":"CDCM!B$4421","v":6.9240000000000004},{"$f":"CDCM!C$4421","v":1.5309999999999999},{"$f":"CDCM!D$4421","v":0.98599999999999999},{"$f":"CDCM!E$4421","v":9.3800000000000008},{"$f":"CDCM!F$4421","v":2.95},{"$f":"CDCM!G$4421","v":6.53},{"$f":"CDCM!H$4421","v":0.14799999999999999}]
["LV Sub HH Metered",59,null,{"$f":"CDCM!B$4425","v":5.3339999999999996},{"$f":"CDCM!C$4425","v":1.333},{"$f":"CDCM!D$4425","v":0.97199999999999998},{"$f":"CDCM!E$4425","v":7.32},{"$f":"CDCM!F$4425","v":3.86},{"$f":"CDCM!G$4425","v":6.16},{"$f":"CDCM!H$4425","v":0.104}]
["HV HH Metered","60, 991",null,{"$f":"CDCM!B$4428","v":3.6150000000000002},{"$f":"CDCM!C$4428","v":1.139},{"$f":"CDCM!D$4428","v":0.96},{"$f":"CDCM!E$4428","v":79.06},{"$f":"CDCM!F$4428","v":4.6399999999999997},{"$f":"CDCM!G$4428","v":7.08},{"$f":"CDCM!H$4428","v":5.3999999999999999E-2},929]
["NHH UMS category A",800,8,{"$f":"CDCM!B$4431","v":2.63},{"$f":"CDCM!C$4431","v":0},{"$f":"CDCM!D$4431","v":0},{"$f":"CDCM!E$4431","v":0},{"$f":"CDCM!F$4431","v":0},{"$f":"CDCM!G$4431","v":0},{"$f":"CDCM!H$4431","v":0}]
["NHH UMS category B",801,1,{"$f":"CDCM!B$4435","v":2.93},{"$f":"CDCM!C$4435","v":0},{"$f":"CDCM!D$4435","v":0},{"$f":"CDCM!E$4435","v":0},{"$f":"CDCM!F$4435","v":0},{"$f":"CDCM!G$4435","v":0},{"$f":"CDCM!H$4435","v":0}]
["NHH UMS category C",802,1,{"$f":"CDCM!B$4439","v":4.0259999999999998},{"$f":"CDCM!C$4439","v":0},{"$f":"CDCM!D$4439","v":0},{"$f":"CDCM!E$4439","v":0},{"$f":"CDCM!F$4439","v":0},{"$f":"CDCM!G$4439","v":0},{"$f":"CDCM!H$4439","v":0}]
["NHH UMS category D",803,1,{"$f":"CDCM!B$4443","v":2.3319999999999999},{"$f":"CDCM!C$4443","v":0},{"$f":"CDCM!D$4443","v":0},{"$f":"CDCM!E$4443","v":0},{"$f":"CDCM!F$4443","v":0},{"$f":"CDCM!G$4443","v":0},{"$f":"CDCM!H$4443","v":0}]
["LV UMS (Pseudo HH Metered)",804,null,{"$f":"CDCM!B$4447","v":24.638999999999999},{"$f":"CDCM!C$4447","v":2.367},{"$f":"CDCM!D$4447","v":1.7150000000000001},{"$f":"CDCM!E$4447","v":0},{"$f":"CDCM!F$4447","v":0},{"$f":"CDCM!G$4447","v":0},{"$f":"CDCM!H$4447","v":0}]
["LV Generation NHH or Aggregate HH",986,"8&0",{"$f":"CDCM!B$4451","v":-0.71299999999999997},{"$f":"CDCM!C$4451","v":0},{"$f":"CDCM!D$4451","v":0},{"$f":"CDCM!E$4451","v":0},{"$f":"CDCM!F$4451","v":0},{"$f":"CDCM!G$4451","v":0},{"$f":"CDCM!H$4451","v":0}]
["LV Sub Generation NHH",970,8,{"$f":"CDCM!B$4455","v":-0.626},{"$f":"CDCM!C$4455","v":0},{"$f":"CDCM!D$4455","v":0},{"$f":"CDCM!E$4455","v":0},{"$f":"CDCM!F$4455","v":0},{"$f":"CDCM!G$4455","v":0},{"$f":"CDCM!H$4455","v":0}]
["LV Generation Intermittent",971,null,{"$f":"CDCM!B$4458","v":-0.71299999999999997},{"$f":"CDCM!C$4458","v":0},{"$f":"CDCM!D$4458","v":0},{"$f":"CDCM!E$4458","v":0},{"$f":"CDCM!F$4458","v":0},{"$f":"CDCM!G$4458","v":0},{"$f":"CDCM!H$4458","v":0.159}]
["LV Generation Intermittent no RP charge","141",null,{"$f":"CDCM!B$4462","v":-0.71299999999999997},{"$f":"CDCM!C$4462","v":0},{"$f":"CDCM!D$4462","v":0},{"$f":"CDCM!E$4462","v":0},{"$f":"CDCM!F$4462","v":0},{"$f":"CDCM!G$4462","v":0},{"$f":"CDCM!H$4462","v":0}]
["LV Generation Non-Intermittent",973,null,{"$f":"CDCM!B$4464","v":-5.7220000000000004},{"$f":"CDCM!C$4464","v":-0.57999999999999996},{"$f":"CDCM!D$4464","v":-3.4000000000000002E-2},{"$f":"CDCM!E$4464","v":0},{"$f":"CDCM!F$4464","v":0},{"$f":"CDCM!G$4464","v":0},{"$f":"CDCM!H$4464","v":0.159}]
["LV Generation Non-Intermittent no RP charge","142",null,{"$f":"CDCM!B$4468","v":-5.7220000000000004},{"$f":"CDCM!C$4468","v":-0.57999999999999996},{"$f":"CDCM!D$4468","v":-3.4000000000000002E-2},{"$f":"CDCM!E$4468","v":0},{"$f":"CDCM!F$4468","v":0},{"$f":"CDCM!G$4468","v":0},{"$f":"CDCM!H$4468","v":0}]
["LV Sub Generation Intermittent",972,null,{"$f":"CDCM!B$4470","v":-0.626},{"$f":"CDCM!C$4470","v":0},{"$f":"CDCM!D$4470","v":0},{"$f":"CDCM!E$4470","v":0},{"$f":"CDCM!F$4470","v":0},{"$f":"CDCM!G$4470","v":0},{"$f":"CDCM!H$4470","v":0.14000000000000001}]
["LV Sub Generation Intermittent no RP charge","143",null,{"$f":"CDCM!B$4473","v":-0.626},{"$f":"CDCM!C$4473","v":0},{"$f":"CDCM!D$4473","v":0},{"$f":"CDCM!E$4473","v":0},{"$f":"CDCM!F$4473","v":0},{"$f":"CDCM!G$4473","v":0},{"$f":"CDCM!H$4473","v":0}]
["LV Sub Generation Non-Intermittent",974,null,{"$f":"CDCM!B$4475","v":-5.0620000000000003},{"$f":"CDCM!C$4475","v":-0.5},{"$f":"CDCM!D$4475","v":-2.9000000000000001E-2},{"$f":"CDCM!E$4475","v":0},{"$f":"CDCM!F$4475","v":0},{"$f":"CDCM!G$4475","v":0},{"$f":"CDCM!H$4475","v":0.14000000000000001}]
["LV Sub Generation Non-Intermittent no RP charge","144",null,{"$f":"CDCM!B$4478","v":-5.0620000000000003},{"$f":"CDCM!C$4478","v":-0.5},{"$f":"CDCM!D$4478","v":-2.9000000000000001E-2},{"$f":"CDCM!E$4478","v":0},{"$f":"CDCM!F$4478","v":0},{"$f":"CDCM!G$4478","v":0},{"$f":"CDCM!H$4478","v":0}]
["HV Generation Intermittent",975,null,{"$f":"CDCM!B$4480","v":-0.39100000000000001},{"$f":"CDCM!C$4480","v":0},{"$f":"CDCM!D$4480","v":0},{"$f":"CDCM!E$4480","v":32.5},{"$f":"CDCM!F$4480","v":0},{"$f":"CDCM!G$4480","v":0},{"$f":"CDCM!H$4480","v":0.11}]
["HV Generation Intermittent no RP charge","145",null,{"$f":"CDCM!B$4483","v":-0.39100000000000001},{"$f":"CDCM!C$4483","v":0},{"$f":"CDCM!D$4483","v":0},{"$f":"CDCM!E$4483","v":32.5},{"$f":"CDCM!F$4483","v":0},{"$f":"CDCM!G$4483","v":0},{"$f":"CDCM!H$4483","v":0}]
["HV Generation Non-Intermittent",977,null,{"$f":"CDCM!B$4485","v":-3.3069999999999999},{"$f":"CDCM!C$4485","v":-0.27800000000000002},{"$f":"CDCM!D$4485","v":-1.4E-2},{"$f":"CDCM!E$4485","v":32.5},{"$f":"CDCM!F$4485","v":0},{"$f":"CDCM!G$4485","v":0},{"$f":"CDCM!H$4485","v":0.11}]
["HV Generation Non-Intermittent no RP charge","146",null,{"$f":"CDCM!B$4488","v":-3.3069999999999999},{"$f":"CDCM!C$4488","v":-0.27800000000000002},{"$f":"CDCM!D$4488","v":-1.4E-2},{"$f":"CDCM!E$4488","v":32.5},{"$f":"CDCM!F$4488","v":0},{"$f":"CDCM!G$4488","v":0},{"$f":"CDCM!H$4488","v":0}]
["LDNO LV: Domestic Unrestricted","10300",1,{"$f":"CDCM!B$4382","v":1.63},{"$f":"CDCM!C$4382","v":0},{"$f":"CDCM!D$4382","v":0},{"$f":"CDCM!E$4382","v":2.3199999999999998},{"$f":"CDCM!F$4382","v":0},{"$f":"CDCM!G$4382","v":0},{"$f":"CDCM!H$4382","v":0}]
["LDNO LV: Domestic Two Rate",10301,2,{"$f":"CDCM!B$4386","v":1.8149999999999999},{"$f":"CDCM!C$4386","v":0.70199999999999996},{"$f":"CDCM!D$4386","v":0},{"$f":"CDCM!E$4386","v":2.3199999999999998},{"$f":"CDCM!F$4386","v":0},{"$f":"CDCM!G$4386","v":0},{"$f":"CDCM!H$4386","v":0}]
["LDNO LV: Domestic Off Peak (related MPAN)",10302,2,{"$f":"CDCM!B$4390","v":0.99299999999999999},{"$f":"CDCM!C$4390","v":0},{"$f":"CDCM!D$4390","v":0},{"$f":"CDCM!E$4390","v":0},{"$f":"CDCM!F$4390","v":0},{"$f":"CDCM!G$4390","v":0},{"$f":"CDCM!H$4390","v":0}]
["LDNO LV: Small Non Domestic Unrestricted",10303,3,{"$f":"CDCM!B$4394","v":1.6759999999999999},{"$f":"CDCM!C$4394","v":0},{"$f":"CDCM!D$4394","v":0},{"$f":"CDCM!E$4394","v":4.7},{"$f":"CDCM!F$4394","v":0},{"$f":"CDCM!G$4394","v":0},{"$f":"CDCM!H$4394","v":0}]
["LDNO LV: Small Non Domestic Two Rate",10304,4,{"$f":"CDCM!B$4398","v":1.734},{"$f":"CDCM!C$4398","v":0.70199999999999996},{"$f":"CDCM!D$4398","v":0},{"$f":"CDCM!E$4398","v":4.7},{"$f":"CDCM!F$4398","v":0},{"$f":"CDCM!G$4398","v":0},{"$f":"CDCM!H$4398","v":0}]
["LDNO LV: Small Non Domestic Off Peak (related MPAN)",10305,4,{"$f":"CDCM!B$4402","v":0.82799999999999996},{"$f":"CDCM!C$4402","v":0},{"$f":"CDCM!D$4402","v":0},{"$f":"CDCM!E$4402","v":0},{"$f":"CDCM!F$4402","v":0},{"$f":"CDCM!G$4402","v":0},{"$f":"CDCM!H$4402","v":0}]
["LDNO LV: LV Medium Non-Domestic",10306,"5-8",{"$f":"CDCM!B$4406","v":1.6950000000000001},{"$f":"CDCM!C$4406","v":0.69899999999999995},{"$f":"CDCM!D$4406","v":0},{"$f":"CDCM!E$4406","v":13.31},{"$f":"CDCM!F$4406","v":0},{"$f":"CDCM!G$4406","v":0},{"$f":"CDCM!H$4406","v":0}]
["LDNO LV: LV Network Domestic",10307,null,{"$f":"CDCM!B$4414","v":6.0460000000000003},{"$f":"CDCM!C$4414","v":1.212},{"$f":"CDCM!D$4414","v":0.69899999999999995},{"$f":"CDCM!E$4414","v":2.3199999999999998},{"$f":"CDCM!F$4414","v":0},{"$f":"CDCM!G$4414","v":0},{"$f":"CDCM!H$4414","v":0}]
["LDNO LV: LV Network Non-Domestic Non-CT",10308,null,{"$f":"CDCM!B$4418","v":6.3920000000000003},{"$f":"CDCM!C$4418","v":1.2470000000000001},{"$f":"CDCM!D$4418","v":0.70099999999999996},{"$f":"CDCM!E$4418","v":4.7},{"$f":"CDCM!F$4418","v":0},{"$f":"CDCM!G$4418","v":0},{"$f":"CDCM!H$4418","v":0}]
["LDNO LV: LV HH Metered",10309,null,{"$f":"CDCM!B$4422","v":4.8440000000000003},{"$f":"CDCM!C$4422","v":1.071},{"$f":"CDCM!D$4422","v":0.69},{"$f":"CDCM!E$4422","v":6.56},{"$f":"CDCM!F$4422","v":2.06},{"$f":"CDCM!G$4422","v":4.57},{"$f":"CDCM!H$4422","v":0.104}]
["LDNO LV: NHH UMS category A",10310,8,{"$f":"CDCM!B$4432","v":1.84},{"$f":"CDCM!C$4432","v":0},{"$f":"CDCM!D$4432","v":0},{"$f":"CDCM!E$4432","v":0},{"$f":"CDCM!F$4432","v":0},{"$f":"CDCM!G$4432","v":0},{"$f":"CDCM!H$4432","v":0}]
["LDNO LV: NHH UMS category B",10311,1,{"$f":"CDCM!B$4436","v":2.0499999999999998},{"$f":"CDCM!C$4436","v":0},{"$f":"CDCM!D$4436","v":0},{"$f":"CDCM!E$4436","v":0},{"$f":"CDCM!F$4436","v":0},{"$f":"CDCM!G$4436","v":0},{"$f":"CDCM!H$4436","v":0}]
["LDNO LV: NHH UMS category C",10312,1,{"$f":"CDCM!B$4440","v":2.8170000000000002},{"$f":"CDCM!C$4440","v":0},{"$f":"CDCM!D$4440","v":0},{"$f":"CDCM!E$4440","v":0},{"$f":"CDCM!F$4440","v":0},{"$f":"CDCM!G$4440","v":0},{"$f":"CDCM!H$4440","v":0}]
["LDNO LV: NHH UMS category D",10313,1,{"$f":"CDCM!B$4444","v":1.6319999999999999},{"$f":"CDCM!C$4444","v":0},{"$f":"CDCM!D$4444","v":0},{"$f":"CDCM!E$4444","v":0},{"$f":"CDCM!F$4444","v":0},{"$f":"CDCM!G$4444","v":0},{"$f":"CDCM!H$4444","v":0}]
["LDNO LV: LV UMS (Pseudo HH Metered)",10314,null,{"$f":"CDCM!B$4448","v":17.239000000000001},{"$f":"CDCM!C$4448","v":1.6559999999999999},{"$f":"CDCM!D$4448","v":1.2},{"$f":"CDCM!E$4448","v":0},{"$f":"CDCM!F$4448","v":0},{"$f":"CDCM!G$4448","v":0},{"$f":"CDCM!H$4448","v":0}]
["LDNO LV: LV Generation NHH or Aggregate HH",10315,"8&0",{"$f":"CDCM!B$4452","v":-0.71299999999999997},{"$f":"CDCM!C$4452","v":0},{"$f":"CDCM!D$4452","v":0},{"$f":"CDCM!E$4452","v":0},{"$f":"CDCM!F$4452","v":0},{"$f":"CDCM!G$4452","v":0},{"$f":"CDCM!H$4452","v":0}]
["LDNO LV: LV Generation Intermittent",10316,null,{"$f":"CDCM!B$4459","v":-0.71299999999999997},{"$f":"CDCM!C$4459","v":0},{"$f":"CDCM!D$4459","v":0},{"$f":"CDCM!E$4459","v":0},{"$f":"CDCM!F$4459","v":0},{"$f":"CDCM!G$4459","v":0},{"$f":"CDCM!H$4459","v":0.159}]
["LDNO LV: LV Generation Non-Intermittent",10317,null,{"$f":"CDCM!B$4465","v":-5.7220000000000004},{"$f":"CDCM!C$4465","v":-0.57999999999999996},{"$f":"CDCM!D$4465","v":-3.4000000000000002E-2},{"$f":"CDCM!E$4465","v":0},{"$f":"CDCM!F$4465","v":0},{"$f":"CDCM!G$4465","v":0},{"$f":"CDCM!H$4465","v":0.159}]
["LDNO HV: Domestic Unrestricted",10318,1,{"$f":"CDCM!B$4383","v":1.216},{"$f":"CDCM!C$4383","v":0},{"$f":"CDCM!D$4383","v":0},{"$f":"CDCM!E$4383","v":1.73},{"$f":"CDCM!F$4383","v":0},{"$f":"CDCM!G$4383","v":0},{"$f":"CDCM!H$4383","v":0}]
["LDNO HV: Domestic Two Rate",10319,2,{"$f":"CDCM!B$4387","v":1.3540000000000001},{"$f":"CDCM!C$4387","v":0.52300000000000002},{"$f":"CDCM!D$4387","v":0},{"$f":"CDCM!E$4387","v":1.73},{"$f":"CDCM!F$4387","v":0},{"$f":"CDCM!G$4387","v":0},{"$f":"CDCM!H$4387","v":0}]
["LDNO HV: Domestic Off Peak (related MPAN)",10320,2,{"$f":"CDCM!B$4391","v":0.74},{"$f":"CDCM!C$4391","v":0},{"$f":"CDCM!D$4391","v":0},{"$f":"CDCM!E$4391","v":0},{"$f":"CDCM!F$4391","v":0},{"$f":"CDCM!G$4391","v":0},{"$f":"CDCM!H$4391","v":0}]
["LDNO HV: Small Non Domestic Unrestricted",10321,3,{"$f":"CDCM!B$4395","v":1.25},{"$f":"CDCM!C$4395","v":0},{"$f":"CDCM!D$4395","v":0},{"$f":"CDCM!E$4395","v":3.51},{"$f":"CDCM!F$4395","v":0},{"$f":"CDCM!G$4395","v":0},{"$f":"CDCM!H$4395","v":0}]
["LDNO HV: Small Non Domestic Two Rate",10322,4,{"$f":"CDCM!B$4399","v":1.294},{"$f":"CDCM!C$4399","v":0.52300000000000002},{"$f":"CDCM!D$4399","v":0},{"$f":"CDCM!E$4399","v":3.51},{"$f":"CDCM!F$4399","v":0},{"$f":"CDCM!G$4399","v":0},{"$f":"CDCM!H$4399","v":0}]
["LDNO HV: Small Non Domestic Off Peak (related MPAN)",10323,4,{"$f":"CDCM!B$4403","v":0.61699999999999999},{"$f":"CDCM!C$4403","v":0},{"$f":"CDCM!D$4403","v":0},{"$f":"CDCM!E$4403","v":0},{"$f":"CDCM!F$4403","v":0},{"$f":"CDCM!G$4403","v":0},{"$f":"CDCM!H$4403","v":0}]
["LDNO HV: LV Medium Non-Domestic",10324,"5-8",{"$f":"CDCM!B$4407","v":1.264},{"$f":"CDCM!C$4407","v":0.52100000000000002},{"$f":"CDCM!D$4407","v":0},{"$f":"CDCM!E$4407","v":9.93},{"$f":"CDCM!F$4407","v":0},{"$f":"CDCM!G$4407","v":0},{"$f":"CDCM!H$4407","v":0}]
["LDNO HV: LV Network Domestic",10325,null,{"$f":"CDCM!B$4415","v":4.51},{"$f":"CDCM!C$4415","v":0.90400000000000003},{"$f":"CDCM!D$4415","v":0.52100000000000002},{"$f":"CDCM!E$4415","v":1.73},{"$f":"CDCM!F$4415","v":0},{"$f":"CDCM!G$4415","v":0},{"$f":"CDCM!H$4415","v":0}]
["LDNO HV: LV Network Non-Domestic Non-CT",10326,null,{"$f":"CDCM!B$4419","v":4.7670000000000003},{"$f":"CDCM!C$4419","v":0.93},{"$f":"CDCM!D$4419","v":0.52300000000000002},{"$f":"CDCM!E$4419","v":3.51},{"$f":"CDCM!F$4419","v":0},{"$f":"CDCM!G$4419","v":0},{"$f":"CDCM!H$4419","v":0}]
["LDNO HV: LV HH Metered",10327,null,{"$f":"CDCM!B$4423","v":3.613},{"$f":"CDCM!C$4423","v":0.79900000000000004},{"$f":"CDCM!D$4423","v":0.51500000000000001},{"$f":"CDCM!E$4423","v":4.8899999999999997},{"$f":"CDCM!F$4423","v":1.54},{"$f":"CDCM!G$4423","v":3.41},{"$f":"CDCM!H$4423","v":7.6999999999999999E-2}]
["LDNO HV: LV Sub HH Metered",10328,null,{"$f":"CDCM!B$4426","v":4.0339999999999998},{"$f":"CDCM!C$4426","v":1.008},{"$f":"CDCM!D$4426","v":0.73499999999999999},{"$f":"CDCM!E$4426","v":5.54},{"$f":"CDCM!F$4426","v":2.92},{"$f":"CDCM!G$4426","v":4.66},{"$f":"CDCM!H$4426","v":7.9000000000000001E-2}]
["LDNO HV: HV HH Metered",10329,null,{"$f":"CDCM!B$4429","v":3.1},{"$f":"CDCM!C$4429","v":0.97699999999999998},{"$f":"CDCM!D$4429","v":0.82299999999999995},{"$f":"CDCM!E$4429","v":67.790000000000006},{"$f":"CDCM!F$4429","v":3.98},{"$f":"CDCM!G$4429","v":6.07},{"$f":"CDCM!H$4429","v":4.5999999999999999E-2}]
["LDNO HV: NHH UMS category A",10330,8,{"$f":"CDCM!B$4433","v":1.3720000000000001},{"$f":"CDCM!C$4433","v":0},{"$f":"CDCM!D$4433","v":0},{"$f":"CDCM!E$4433","v":0},{"$f":"CDCM!F$4433","v":0},{"$f":"CDCM!G$4433","v":0},{"$f":"CDCM!H$4433","v":0}]
["LDNO HV: NHH UMS category B",10331,1,{"$f":"CDCM!B$4437","v":1.5289999999999999},{"$f":"CDCM!C$4437","v":0},{"$f":"CDCM!D$4437","v":0},{"$f":"CDCM!E$4437","v":0},{"$f":"CDCM!F$4437","v":0},{"$f":"CDCM!G$4437","v":0},{"$f":"CDCM!H$4437","v":0}]
["LDNO HV: NHH UMS category C",10332,1,{"$f":"CDCM!B$4441","v":2.101},{"$f":"CDCM!C$4441","v":0},{"$f":"CDCM!D$4441","v":0},{"$f":"CDCM!E$4441","v":0},{"$f":"CDCM!F$4441","v":0},{"$f":"CDCM!G$4441","v":0},{"$f":"CDCM!H$4441","v":0}]
["LDNO HV: NHH UMS category D",10333,1,{"$f":"CDCM!B$4445","v":1.2170000000000001},{"$f":"CDCM!C$4445","v":0},{"$f":"CDCM!D$4445","v":0},{"$f":"CDCM!E$4445","v":0},{"$f":"CDCM!F$4445","v":0},{"$f":"CDCM!G$4445","v":0},{"$f":"CDCM!H$4445","v":0}]
["LDNO HV: LV UMS (Pseudo HH Metered)",10334,null,{"$f":"CDCM!B$4449","v":12.856999999999999},{"$f":"CDCM!C$4449","v":1.2350000000000001},{"$f":"CDCM!D$4449","v":0.89500000000000002},{"$f":"CDCM!E$4449","v":0},{"$f":"CDCM!F$4449","v":0},{"$f":"CDCM!G$4449","v":0},{"$f":"CDCM!H$4449","v":0}]
["LDNO HV: LV Generation NHH or Aggregate HH",10335,"8&0",{"$f":"CDCM!B$4453","v":-0.71299999999999997},{"$f":"CDCM!C$4453","v":0},{"$f":"CDCM!D$4453","v":0},{"$f":"CDCM!E$4453","v":0},{"$f":"CDCM!F$4453","v":0},{"$f":"CDCM!G$4453","v":0},{"$f":"CDCM!H$4453","v":0}]
["LDNO HV: LV Sub Generation NHH",10336,8,{"$f":"CDCM!B$4456","v":-0.626},{"$f":"CDCM!C$4456","v":0},{"$f":"CDCM!D$4456","v":0},{"$f":"CDCM!E$4456","v":0},{"$f":"CDCM!F$4456","v":0},{"$f":"CDCM!G$4456","v":0},{"$f":"CDCM!H$4456","v":0}]
["LDNO HV: LV Generation Intermittent",10337,null,{"$f":"CDCM!B$4460","v":-0.71299999999999997},{"$f":"CDCM!C$4460","v":0},{"$f":"CDCM!D$4460","v":0},{"$f":"CDCM!E$4460","v":0},{"$f":"CDCM!F$4460","v":0},{"$f":"CDCM!G$4460","v":0},{"$f":"CDCM!H$4460","v":0.159}]
["LDNO HV: LV Generation Non-Intermittent",10338,null,{"$f":"CDCM!B$4466","v":-5.7220000000000004},{"$f":"CDCM!C$4466","v":-0.57999999999999996},{"$f":"CDCM!D$4466","v":-3.4000000000000002E-2},{"$f":"CDCM!E$4466","v":0},{"$f":"CDCM!F$4466","v":0},{"$f":"CDCM!G$4466","v":0},{"$f":"CDCM!H$4466","v":0.159}]
["LDNO HV: LV Sub Generation Intermittent",10339,null,{"$f":"CDCM!B$4471","v":-0.626},{"$f":"CDCM!C$4471","v":0},{"$f":"CDCM!D$4471","v":0},{"$f":"CDCM!E$4471","v":0},{"$f":"CDCM!F$4471","v":0},{"$f":"CDCM!G$4471","v":0},{"$f":"CDCM!H$4471","v":0.14000000000000001}]
["LDNO HV: LV Sub Generation Non-Intermittent",10340,null,{"$f":"CDCM!B$4476","v":-5.0620000000000003},{"$f":"CDCM!C$4476","v":-0.5},{"$f":"CDCM!D$4476","v":-2.9000000000000001E-2},{"$f":"CDCM!E$4476","v":0},{"$f":"CDCM!F$4476","v":0},{"$f":"CDCM!G$4476","v":0},{"$f":"CDCM!H$4476","v":0.14000000000000001}]
["LDNO HV: HV Generation Intermittent",10341,null,{"$f":"CDCM!B$4481","v":-0.39100000000000001},{"$f":"CDCM!C$4481","v":0},{"$f":"CDCM!D$4481","v":0},{"$f":"CDCM!E$4481","v":0},{"$f":"CDCM!F$4481","v":0},{"$f":"CDCM!G$4481","v":0},{"$f":"CDCM!H$4481","v":0.11}]
["LDNO HV: HV Generation Non-Intermittent",10342,null,{"$f":"CDCM!B$4486","v":-3.3069999999999999},{"$f":"CDCM!C$4486","v":-0.27800000000000002},{"$f":"CDCM!D$4486","v":-1.4E-2},{"$f":"CDCM!E$4486","v":0},{"$f":"CDCM!F$4486","v":0},{"$f":"CDCM!G$4486","v":0},{"$f":"CDCM!H$4486","v":0.11}]

{"sheet":"Summary","index":17,"n_rows":160,"n_cols":22,"rows_kept":160,"cut":false,"hidden":false,"merged":[]}
[{"$f":"\"Summary for \"&CDCM!B7&\" in \"&CDCM!C7&\" (\"&CDCM!D7&\")\"","v":"Summary for WPD East Midlands in 2023/24 (Forecast)"}]
["This sheet is for information only.  It can be deleted without affecting any calculations elsewhere in the model."]
[]
["3801. Revenue summary"]
["Data sources:"]
["x1 = 1053. Rate 1 units (MWh) by tariff (in Volume forecasts for the charging year)"]
["x2 = 1053. Rate 2 units (MWh) by tariff (in Volume forecasts for the charging year)"]
["x3 = 1053. Rate 3 units (MWh) by tariff (in Volume forecasts for the charging year)"]
["x4 = 1053. MPANs by tariff (in Volume forecasts for the charging year)"]
["x5 = 1010. Days in the charging year (in Financial and general assumptions)"]
["x6 = 3607. Fixed charge p/MPAN/day (in Tariffs)"]
["x7 = 3607. Capacity charge p/kVA/day (in Tariffs)"]
["x8 = 1053. Import capacity (kVA) by tariff (in Volume forecasts for the charging year)"]
["x9 = 3607. Exceeded capacity charge p/kVA/day (in Tariffs)"]
["x10 = 1053. Exceeded capacity (kVA) by tariff (in Volume forecasts for the charging year)"]
["x11 = 3607. Unit rate 1 p/kWh (in Tariffs)"]
["x12 = 3607. Unit rate 2 p/kWh (in Tariffs)"]
["x13 = 3607. Unit rate 3 p/kWh (in Tariffs)"]
["x14 = 3607. Reactive power charge p/kVArh (in Tariffs)"]
["x15 = 1053. Reactive power units (MVArh) by tariff (in Volume forecasts for the charging year)"]
["x16 = All units (MWh) (in Revenue summary)"]
["x17 = Net revenues (£) (in Revenue summary)"]
["x18 = MPANs (in Revenue summary)"]
["x19 = Revenues from unit rates (£) (in Revenue summary)"]
["x20 = Net revenues from unit rate 1 (£) (in Revenue summary)"]
["x21 = Net revenues from unit rate 2 (£) (in Revenue summary)"]
["x22 = Net revenues from unit rate 3 (£) (in Revenue summary)"]
["x23 = Revenues from fixed charges (£) (in Revenue summary)"]
["x24 = Revenues from capacity charges (£) (in Revenue summary)"]
["x25 = Revenues from exceeded capacity charges (£) (in Revenue summary)"]
["x26 = Revenues from reactive power charges (£) (in Revenue summary)"]
["Kind:","Calculation","Copy cells","Calculation","Calculation","Calculation","Calculation","Calculation","Calculation","Calculation","Calculation","Calculation","Calculation","Calculation","Calculation","Calculation","Calculation","Calculation","Calculation","Calculation","Calculation","Calculation"]
["Formula:","=x1+x2+x3","= x4","=0.01*x5*(x6*x4+x7*x8+x9*x10)+10*(x11*x1+x12*x2+x13*x3+x14*x15)","=10*(x11*x1+x12*x2+x13*x3)","=x6*x5*x4/100","=x7*x5*x8/100","=x9*x5*x10/100","=x14*x15*10","=IF(x16<>0,0.1*x17/x16,\"\")","=IF(x18<>0,x17/x18,\"\")","=IF(x16<>0,0.1*x19/x16,0)","=x11*x1*10","=x12*x2*10","=x13*x3*10","=IF(x19<>0,x20/x19,\"\")","=IF(x19<>0,x21/x19,\"\")","=IF(x19<>0,x22/x19,\"\")","=IF(x17<>0,x23/x17,\"\")","=IF(x17<>0,x24/x17,\"\")","=IF(x17<>0,x25/x17,\"\")","=IF(x17<>0,x26/x17,\"\")"]
[]
[null,"All units (MWh)","MPANs","Net revenues (£)","Revenues from unit rates (£)","Revenues from fixed charges (£)","Revenues from capacity charges (£)","Revenues from exceeded capacity charges (£)","Revenues from reactive power charges (£)","Average p/kWh","Average £/MPAN","Average unit rate p/kWh","Net revenues from unit rate 1 (£)","Net revenues from unit rate 2 (£)","Net revenues from unit rate 3 (£)","Rate 1 revenue proportion","Rate 2 revenue proportion","Rate 3 revenue proportion","Fixed charge proportion","Capacity charge proportion","Exceeded capacity charge proportion","Reactive power charge proportion"]
["> Domestic Unrestricted"]
["Domestic Unrestricted",{"$f":"CDCM!B149+CDCM!C149+CDCM!D149","v":5635747.39502858},{"$f":"CDCM!E149","v":1671267.7755050499},{"$f":"0.01*CDCM!F$14*(CDCM!$E4381*CDCM!E149+CDCM!$F4381*CDCM!F149+CDCM!$G4381*CDCM!G149)+10*(CDCM!$B4381*CDCM!B149+CDCM!$C4381*CDCM!C149+CDCM!$D4381*CDCM!D149+CDCM!$H4381*CDCM!H149)","v":151565337.2077361},{"$f":"10*(CDCM!$B4381*CDCM!B149+CDCM!$C4381*CDCM!C149+CDCM!$D4381*CDCM!D149)","v":131312914.30416591},{"$f":"CDCM!E4381*CDCM!$F$14*CDCM!$E149/100","v":20252422.903570194},{"$f":"CDCM!F4381*CDCM!$F$14*CDCM!$F149/100","v":0},{"$f":"CDCM!G4381*CDCM!$F$14*CDCM!$G149/100","v":0},{"$f":"CDCM!H4381*CDCM!$H149*10","v":0},{"$f":"IF(B37<>0,0.1*D37/B37,\"\")","v":2.6893564701185033},{"$f":"IF(C37<>0,D37/C37,\"\")","v":90.688840788504834},{"$f":"IF(B37<>0,0.1*E37/B37,0)","v":2.33},{"$f":"CDCM!B4381*CDCM!$B149*10","v":131312914.30416591},{"$f":"CDCM!C4381*CDCM!$C149*10","v":0},{"$f":"CDCM!D4381*CDCM!$D149*10","v":0},{"$f":"IF(E37<>0,$M37/E37,\"\")","v":1},{"$f":"IF(E37<>0,$N37/E37,\"\")","v":0},{"$f":"IF(E37<>0,$O37/E37,\"\")","v":0},{"$f":"IF(D37<>0,$F37/D37,\"\")","v":0.13362173222899992},{"$f":"IF(D37<>0,$G37/D37,\"\")","v":0},{"$f":"IF(D37<>0,$H37/D37,\"\")","v":0},{"$f":"IF(D37<>0,$I37/D37,\"\")","v":0}]
["LDNO LV: Domestic Unrestricted",{"$f":"CDCM!B150+CDCM!C150+CDCM!D150","v":94982.042774487054},{"$f":"CDCM!E150","v":35033.390339937563},{"$f":"0.01*CDCM!F$14*(CDCM!$E4382*CDCM!E150+CDCM!$F4382*CDCM!F150+CDCM!$G4382*CDCM!G150)+10*(CDCM!$B4382*CDCM!B150+CDCM!$C4382*CDCM!C150+CDCM!$D4382*CDCM!D150+CDCM!$H4382*CDCM!H150)","v":1844870.0466227301},{"$f":"10*(CDCM!$B4382*CDCM!B150+CDCM!$C4382*CDCM!C150+CDCM!$D4382*CDCM!D150)","v":1548207.2972241389},{"$f":"CDCM!E4382*CDCM!$F$14*CDCM!$E150/100","v":296662.74939859123},{"$f":"CDCM!F4382*CDCM!$F$14*CDCM!$F150/100","v":0},{"$f":"CDCM!G4382*CDCM!$F$14*CDCM!$G150/100","v":0},{"$f":"CDCM!H4382*CDCM!$H150*10","v":0},{"$f":"IF(B38<>0,0.1*D38/B38,\"\")","v":1.9423356170628467},{"$f":"IF(C38<>0,D38/C38,\"\")","v":52.660334290272921},{"$f":"IF(B38<>0,0.1*E38/B38,0)","v":1.6300000000000001},{"$f":"CDCM!B4382*CDCM!$B150*10","v":1548207.2972241389},{"$f":"CDCM!C4382*CDCM!$C150*10","v":0},{"$f":"CDCM!D4382*CDCM!$D150*10","v":0},{"$f":"IF(E38<>0,$M38/E38,\"\")","v":1},{"$f":"IF(E38<>0,$N38/E38,\"\")","v":0},{"$f":"IF(E38<>0,$O38/E38,\"\")","v":0},{"$f":"IF(D38<>0,$F38/D38,\"\")","v":0.16080414441205235},{"$f":"IF(D38<>0,$G38/D38,\"\")","v":0},{"$f":"IF(D38<>0,$H38/D38,\"\")","v":0},{"$f":"IF(D38<>0,$I38/D38,\"\")","v":0}]
["LDNO HV: Domestic Unrestricted",{"$f":"CDCM!B151+CDCM!C151+CDCM!D151","v":155171.27128812924},{"$f":"CDCM!E151","v":58162.880927404229},{"$f":"0.01*CDCM!F$14*(CDCM!$E4383*CDCM!E151+CDCM!$F4383*CDCM!F151+CDCM!$G4383*CDCM!G151)+10*(CDCM!$B4383*CDCM!B151+CDCM!$C4383*CDCM!C151+CDCM!$D4383*CDCM!D151+CDCM!$H4383*CDCM!H151)","v":2254152.1704797456},{"$f":"10*(CDCM!$B4383*CDCM!B151+CDCM!$C4383*CDCM!C151+CDCM!$D4383*CDCM!D151)","v":1886882.6588636516},{"$f":"CDCM!E4383*CDCM!$F$14*CDCM!$E151/100","v":367269.51161609404},{"$f":"CDCM!F4383*CDCM!$F$14*CDCM!$F151/100","v":0},{"$f":"CDCM!G4383*CDCM!$F$14*CDCM!$G151/100","v":0},{"$f":"CDCM!H4383*CDCM!$H151*10","v":0},{"$f":"IF(B39<>0,0.1*D39/B39,\"\")","v":1.4526865390527937},{"$f":"IF(C39<>0,D39/C39,\"\")","v":38.755854843113028},{"$f":"IF(B39<>0,0.1*E39/B39,0)","v":1.2160000000000002},{"$f":"CDCM!B4383*CDCM!$B151*10","v":1886882.6588636516},{"$f":"CDCM!C4383*CDCM!$C151*10","v":0},{"$f":"CDCM!D4383*CDCM!$D151*10","v":0},{"$f":"IF(E39<>0,$M39/E39,\"\")","v":1},{"$f":"IF(E39<>0,$N39/E39,\"\")","v":0},{"$f":"IF(E39<>0,$O39/E39,\"\")","v":0},{"$f":"IF(D39<>0,$F39/D39,\"\")","v":0.1629302211384997},{"$f":"IF(D39<>0,$G39/D39,\"\")","v":0},{"$f":"IF(D39<>0,$H39/D39,\"\")","v":0},{"$f":"IF(D39<>0,$I39/D39,\"\")","v":0}]
["> Domestic Two Rate"]
["Domestic Two Rate",{"$f":"CDCM!B153+CDCM!C153+CDCM!D153","v":3493725.2241673432},{"$f":"CDCM!E153","v":792868.49064519012},{"$f":"0.01*CDCM!F$14*(CDCM!$E4385*CDCM!E153+CDCM!$F4385*CDCM!F153+CDCM!$G4385*CDCM!G153)+10*(CDCM!$B4385*CDCM!B153+CDCM!$C4385*CDCM!C153+CDCM!$D4385*CDCM!D153+CDCM!$H4385*CDCM!H153)","v":83111130.469921008},{"$f":"10*(CDCM!$B4385*CDCM!B153+CDCM!$C4385*CDCM!C153+CDCM!$D4385*CDCM!D153)","v":73503150.100282595},{"$f":"CDCM!E4385*CDCM!$F$14*CDCM!$E153/100","v":9607980.3696384132},{"$f":"CDCM!F4385*CDCM!$F$14*CDCM!$F153/100","v":0},{"$f":"CDCM!G4385*CDCM!$F$14*CDCM!$G153/100","v":0},{"$f":"CDCM!H4385*CDCM!$H153*10","v":0},{"$f":"IF(B41<>0,0.1*D41/B41,\"\")","v":2.3788685468167809},{"$f":"IF(C41<>0,D41/C41,\"\")","v":104.82334895449057},{"$f":"IF(B41<>0,0.1*E41/B41,0)","v":2.1038617917584101},{"$f":"CDCM!B4385*CDCM!$B153*10","v":62707767.032236002},{"$f":"CDCM!C4385*CDCM!$C153*10","v":10795383.068046598},{"$f":"CDCM!D4385*CDCM!$D153*10","v":0},{"$f":"IF(E41<>0,$M41/E41,\"\")","v":0.85313033450514542},{"$f":"IF(E41<>0,$N41/E41,\"\")","v":0.14686966549485467},{"$f":"IF(E41<>0,$O41/E41,\"\")","v":0},{"$f":"IF(D41<>0,$F41/D41,\"\")","v":0.11560401495339623},{"$f":"IF(D41<>0,$G41/D41,\"\")","v":0},{"$f":"IF(D41<>0,$H41/D41,\"\")","v":0},{"$f":"IF(D41<>0,$I41/D41,\"\")","v":0}]
["LDNO LV: Domestic Two Rate",{"$f":"CDCM!B154+CDCM!C154+CDCM!D154","v":6056.8664642253962},{"$f":"CDCM!E154","v":1499.239141579387},{"$f":"0.01*CDCM!F$14*(CDCM!$E4386*CDCM!E154+CDCM!$F4386*CDCM!F154+CDCM!$G4386*CDCM!G154)+10*(CDCM!$B4386*CDCM!B154+CDCM!$C4386*CDCM!C154+CDCM!$D4386*CDCM!D154+CDCM!$H4386*CDCM!H154)","v":106746.23038200929},{"$f":"10*(CDCM!$B4386*CDCM!B154+CDCM!$C4386*CDCM!C154+CDCM!$D4386*CDCM!D154)","v":94050.673331115046},{"$f":"CDCM!E4386*CDCM!$F$14*CDCM!$E154/100","v":12695.557050894249},{"$f":"CDCM!F4386*CDCM!$F$14*CDCM!$F154/100","v":0},{"$f":"CDCM!G4386*CDCM!$F$14*CDCM!$G154/100","v":0},{"$f":"CDCM!H4386*CDCM!$H154*10","v":0},{"$f":"IF(B42<>0,0.1*D42/B42,\"\")","v":1.7624002611333933},{"$f":"IF(C42<>0,D42/C42,\"\")","v":71.200269137555011},{"$f":"IF(B42<>0,0.1*E42/B42,0)","v":1.5527942358746232},{"$f":"CDCM!B4386*CDCM!$B154*10","v":84033.800013781452},{"$f":"CDCM!C4386*CDCM!$C154*10","v":10016.873317333586},{"$f":"CDCM!D4386*CDCM!$D154*10","v":0},{"$f":"IF(E42<>0,$M42/E42,\"\")","v":0.89349493243851463},{"$f":"IF(E42<>0,$N42/E42,\"\")","v":0.10650506756148524},{"$f":"IF(E42<>0,$O42/E42,\"\")","v":0},{"$f":"IF(D42<>0,$F42/D42,\"\")","v":0.11893213470359626},{"$f":"IF(D42<>0,$G42/D42,\"\")","v":0},{"$f":"IF(D42<>0,$H42/D42,\"\")","v":0},{"$f":"IF(D42<>0,$I42/D42,\"\")","v":0}]
["LDNO HV: Domestic Two Rate",{"$f":"CDCM!B155+CDCM!C155+CDCM!D155","v":10239.889962594381},{"$f":"CDCM!E155","v":2453.4347641766276},{"$f":"0.01*CDCM!F$14*(CDCM!$E4387*CDCM!E155+CDCM!$F4387*CDCM!F155+CDCM!$G4387*CDCM!G155)+10*(CDCM!$B4387*CDCM!B155+CDCM!$C4387*CDCM!C155+CDCM!$D4387*CDCM!D155+CDCM!$H4387*CDCM!H155)","v":132556.0566502244},{"$f":"10*(CDCM!$B4387*CDCM!B155+CDCM!$C4387*CDCM!C155+CDCM!$D4387*CDCM!D155)","v":117063.84283183108},{"$f":"CDCM!E4387*CDCM!$F$14*CDCM!$E155/100","v":15492.213818393317},{"$f":"CDCM!F4387*CDCM!$F$14*CDCM!$F155/100","v":0},{"$f":"CDCM!G4387*CDCM!$F$14*CDCM!$G155/100","v":0},{"$f":"CDCM!H4387*CDCM!$H155*10","v":0},{"$f":"IF(B43<>0,0.1*D43/B43,\"\")","v":1.2945066512867096},{"$f":"IF(C43<>0,D43/C43,\"\")","v":54.028767581562413},{"$f":"IF(B43<>0,0.1*E43/B43,0)","v":1.1432138749484351},{"$f":"CDCM!B4387*CDCM!$B155*10","v":103479.52059613018},{"$f":"CDCM!C4387*CDCM!$C155*10","v":13584.322235700896},{"$f":"CDCM!D4387*CDCM!$D155*10","v":0},{"$f":"IF(E43<>0,$M43/E43,\"\")","v":0.8839580018296892},{"$f":"IF(E43<>0,$N43/E43,\"\")","v":0.11604199817031083},{"$f":"IF(E43<>0,$O43/E43,\"\")","v":0},{"$f":"IF(D43<>0,$F43/D43,\"\")","v":0.1168729231231781},{"$f":"IF(D43<>0,$G43/D43,\"\")","v":0},{"$f":"IF(D43<>0,$H43/D43,\"\")","v":0},{"$f":"IF(D43<>0,$I43/D43,\"\")","v":0}]
["> Domestic Off Peak (related MPAN)"]
["Domestic Off Peak (related MPAN)",{"$f":"CDCM!B157+CDCM!C157+CDCM!D157","v":49585.593175668728},{"$f":"CDCM!E157","v":26805},{"$f":"0.01*CDCM!F$14*(CDCM!$E4389*CDCM!E157+CDCM!$F4389*CDCM!F157+CDCM!$G4389*CDCM!G157)+10*(CDCM!$B4389*CDCM!B157+CDCM!$C4389*CDCM!C157+CDCM!$D4389*CDCM!D157+CDCM!$H4389*CDCM!H157)","v":703619.56716273923},{"$f":"10*(CDCM!$B4389*CDCM!B157+CDCM!$C4389*CDCM!C157+CDCM!$D4389*CDCM!D157)","v":703619.56716273923},{"$f":"CDCM!E4389*CDCM!$F$14*CDCM!$E157/100","v":0},{"$f":"CDCM!F4389*CDCM!$F$14*CDCM!$F157/100","v":0},{"$f":"CDCM!G4389*CDCM!$F$14*CDCM!$G157/100","v":0},{"$f":"CDCM!H4389*CDCM!$H157*10","v":0},{"$f":"IF(B45<>0,0.1*D45/B45,\"\")","v":1.419},{"$f":"IF(C45<>0,D45/C45,\"\")","v":26.249564154550988},{"$f":"IF(B45<>0,0.1*E45/B45,0)","v":1.419},{"$f":"CDCM!B4389*CDCM!$B157*10","v":703619.56716273923},{"$f":"CDCM!C4389*CDCM!$C157*10","v":0},{"$f":"CDCM!D4389*CDCM!$D157*10","v":0},{"$f":"IF(E45<>0,$M45/E45,\"\")","v":1},{"$f":"IF(E45<>0,$N45/E45,\"\")","v":0},{"$f":"IF(E45<>0,$O45/E45,\"\")","v":0},{"$f":"IF(D45<>0,$F45/D45,\"\")","v":0},{"$f":"IF(D45<>0,$G45/D45,\"\")","v":0},{"$f":"IF(D45<>0,$H45/D45,\"\")","v":0},{"$f":"IF(D45<>0,$I45/D45,\"\")","v":0}]
["LDNO LV: Domestic Off Peak (related MPAN)",{"$f":"CDCM!B158+CDCM!C158+CDCM!D158","v":0},{"$f":"CDCM!E158","v":0},{"$f":"0.01*CDCM!F$14*(CDCM!$E4390*CDCM!E158+CDCM!$F4390*CDCM!F158+CDCM!$G4390*CDCM!G158)+10*(CDCM!$B4390*CDCM!B158+CDCM!$C4390*CDCM!C158+CDCM!$D4390*CDCM!D158+CDCM!$H4390*CDCM!H158)","v":0},{"$f":"10*(CDCM!$B4390*CDCM!B158+CDCM!$C4390*CDCM!C158+CDCM!$D4390*CDCM!D158)","v":0},{"$f":"CDCM!E4390*CDCM!$F$14*CDCM!$E158/100","v":0},{"$f":"CDCM!F4390*CDCM!$F$14*CDCM!$F158/100","v":0},{"$f":"CDCM!G4390*CDCM!$F$14*CDCM!$G158/100","v":0},{"$f":"CDCM!H4390*CDCM!$H158*10","v":0},{"$f":"IF(B46<>0,0.1*D46/B46,\"\")","v":""},{"$f":"IF(C46<>0,D46/C46,\"\")","v":""},{"$f":"IF(B46<>0,0.1*E46/B46,0)","v":0},{"$f":"CDCM!B4390*CDCM!$B158*10","v":0},{"$f":"CDCM!C4390*CDCM!$C158*10","v":0},{"$f":"CDCM!D4390*CDCM!$D158*10","v":0},{"$f":"IF(E46<>0,$M46/E46,\"\")","v":""},{"$f":"IF(E46<>0,$N46/E46,\"\")","v":""},{"$f":"IF(E46<>0,$O46/E46,\"\")","v":""},{"$f":"IF(D46<>0,$F46/D46,\"\")","v":""},{"$f":"IF(D46<>0,$G46/D46,\"\")","v":""},{"$f":"IF(D46<>0,$H46/D46,\"\")","v":""},{"$f":"IF(D46<>0,$I46/D46,\"\")","v":""}]
["LDNO HV: Domestic Off Peak (related MPAN)",{"$f":"CDCM!B159+CDCM!C159+CDCM!D159","v":0},{"$f":"CDCM!E159","v":0},{"$f":"0.01*CDCM!F$14*(CDCM!$E4391*CDCM!E159+CDCM!$F4391*CDCM!F159+CDCM!$G4391*CDCM!G159)+10*(CDCM!$B4391*CDCM!B159+CDCM!$C4391*CDCM!C159+CDCM!$D4391*CDCM!D159+CDCM!$H4391*CDCM!H159)","v":0},{"$f":"10*(CDCM!$B4391*CDCM!B159+CDCM!$C4391*CDCM!C159+CDCM!$D4391*CDCM!D159)","v":0},{"$f":"CDCM!E4391*CDCM!$F$14*CDCM!$E159/100","v":0},{"$f":"CDCM!F4391*CDCM!$F$14*CDCM!$F159/100","v":0},{"$f":"CDCM!G4391*CDCM!$F$14*CDCM!$G159/100","v":0},{"$f":"CDCM!H4391*CDCM!$H159*10","v":0},{"$f":"IF(B47<>0,0.1*D47/B47,\"\")","v":""},{"$f":"IF(C47<>0,D47/C47,\"\")","v":""},{"$f":"IF(B47<>0,0.1*E47/B47,0)","v":0},{"$f":"CDCM!B4391*CDCM!$B159*10","v":0},{"$f":"CDCM!C4391*CDCM!$C159*10","v":0},{"$f":"CDCM!D4391*CDCM!$D159*10","v":0},{"$f":"IF(E47<>0,$M47/E47,\"\")","v":""},{"$f":"IF(E47<>0,$N47/E47,\"\")","v":""},{"$f":"IF(E47<>0,$O47/E47,\"\")","v":""},{"$f":"IF(D47<>0,$F47/D47,\"\")","v":""},{"$f":"IF(D47<>0,$G47/D47,\"\")","v":""},{"$f":"IF(D47<>0,$H47/D47,\"\")","v":""},{"$f":"IF(D47<>0,$I47/D47,\"\")","v":""}]
["> Small Non Domestic Unrestricted"]
["Small Non Domestic Unrestricted",{"$f":"CDCM!B161+CDCM!C161+CDCM!D161","v":1140613.9739181774},{"$f":"CDCM!E161","v":95495.253097224515},{"$f":"0.01*CDCM!F$14*(CDCM!$E4393*CDCM!E161+CDCM!$F4393*CDCM!F161+CDCM!$G4393*CDCM!G161)+10*(CDCM!$B4393*CDCM!B161+CDCM!$C4393*CDCM!C161+CDCM!$D4393*CDCM!D161+CDCM!$H4393*CDCM!H161)","v":29660012.243309073},{"$f":"10*(CDCM!$B4393*CDCM!B161+CDCM!$C4393*CDCM!C161+CDCM!$D4393*CDCM!D161)","v":27317704.675340351},{"$f":"CDCM!E4393*CDCM!$F$14*CDCM!$E161/100","v":2342307.5679687224},{"$f":"CDCM!F4393*CDCM!$F$14*CDCM!$F161/100","v":0},{"$f":"CDCM!G4393*CDCM!$F$14*CDCM!$G161/100","v":0},{"$f":"CDCM!H4393*CDCM!$H161*10","v":0},{"$f":"IF(B49<>0,0.1*D49/B49,\"\")","v":2.6003549773656163},{"$f":"IF(C49<>0,D49/C49,\"\")","v":310.59148262701569},{"$f":"IF(B49<>0,0.1*E49/B49,0)","v":2.3950000000000005},{"$f":"CDCM!B4393*CDCM!$B161*10","v":27317704.675340351},{"$f":"CDCM!C4393*CDCM!$C161*10","v":0},{"$f":"CDCM!D4393*CDCM!$D161*10","v":0},{"$f":"IF(E49<>0,$M49/E49,\"\")","v":1},{"$f":"IF(E49<>0,$N49/E49,\"\")","v":0},{"$f":"IF(E49<>0,$O49/E49,\"\")","v":0},{"$f":"IF(D49<>0,$F49/D49,\"\")","v":7.8971901587704757E-2},{"$f":"IF(D49<>0,$G49/D49,\"\")","v":0},{"$f":"IF(D49<>0,$H49/D49,\"\")","v":0},{"$f":"IF(D49<>0,$I49/D49,\"\")","v":0}]
["LDNO LV: Small Non Domestic Unrestricted",{"$f":"CDCM!B162+CDCM!C162+CDCM!D162","v":4254.8519221540355},{"$f":"CDCM!E162","v":714.08447240652981},{"$f":"0.01*CDCM!F$14*(CDCM!$E4394*CDCM!E162+CDCM!$F4394*CDCM!F162+CDCM!$G4394*CDCM!G162)+10*(CDCM!$B4394*CDCM!B162+CDCM!$C4394*CDCM!C162+CDCM!$D4394*CDCM!D162+CDCM!$H4394*CDCM!H162)","v":83561.437339435652},{"$f":"10*(CDCM!$B4394*CDCM!B162+CDCM!$C4394*CDCM!C162+CDCM!$D4394*CDCM!D162)","v":71311.318215301639},{"$f":"CDCM!E4394*CDCM!$F$14*CDCM!$E162/100","v":12250.11912413402},{"$f":"CDCM!F4394*CDCM!$F$14*CDCM!$F162/100","v":0},{"$f":"CDCM!G4394*CDCM!$F$14*CDCM!$G162/100","v":0},{"$f":"CDCM!H4394*CDCM!$H162*10","v":0},{"$f":"IF(B50<>0,0.1*D50/B50,\"\")","v":1.9639094113792883},{"$f":"IF(C50<>0,D50/C50,\"\")","v":117.01898104271332},{"$f":"IF(B50<>0,0.1*E50/B50,0)","v":1.6760000000000002},{"$f":"CDCM!B4394*CDCM!$B162*10","v":71311.318215301639},{"$f":"CDCM!C4394*CDCM!$C162*10","v":0},{"$f":"CDCM!D4394*CDCM!$D162*10","v":0},{"$f":"IF(E50<>0,$M50/E50,\"\")","v":1},{"$f":"IF(E50<>0,$N50/E50,\"\")","v":0},{"$f":"IF(E50<>0,$O50/E50,\"\")","v":0},{"$f":"IF(D50<>0,$F50/D50,\"\")","v":0.14660014851554914},{"$f":"IF(D50<>0,$G50/D50,\"\")","v":0},{"$f":"IF(D50<>0,$H50/D50,\"\")","v":0},{"$f":"IF(D50<>0,$I50/D50,\"\")","v":0}]
["LDNO HV: Small Non Domestic Unrestricted",{"$f":"CDCM!B163+CDCM!C163+CDCM!D163","v":11145.922225068793},{"$f":"CDCM!E163","v":1270.1753584742994},{"$f":"0.01*CDCM!F$14*(CDCM!$E4395*CDCM!E163+CDCM!$F4395*CDCM!F163+CDCM!$G4395*CDCM!G163)+10*(CDCM!$B4395*CDCM!B163+CDCM!$C4395*CDCM!C163+CDCM!$D4395*CDCM!D163+CDCM!$H4395*CDCM!H163)","v":155596.87941845338},{"$f":"10*(CDCM!$B4395*CDCM!B163+CDCM!$C4395*CDCM!C163+CDCM!$D4395*CDCM!D163)","v":139324.02781335989},{"$f":"CDCM!E4395*CDCM!$F$14*CDCM!$E163/100","v":16272.851605093487},{"$f":"CDCM!F4395*CDCM!$F$14*CDCM!$F163/100","v":0},{"$f":"CDCM!G4395*CDCM!$F$14*CDCM!$G163/100","v":0},{"$f":"CDCM!H4395*CDCM!$H163*10","v":0},{"$f":"IF(B51<>0,0.1*D51/B51,\"\")","v":1.3959982518852814},{"$f":"IF(C51<>0,D51/C51,\"\")","v":122.50031334677456},{"$f":"IF(B51<>0,0.1*E51/B51,0)","v":1.25},{"$f":"CDCM!B4395*CDCM!$B163*10","v":139324.02781335989},{"$f":"CDCM!C4395*CDCM!$C163*10","v":0},{"$f":"CDCM!D4395*CDCM!$D163*10","v":0},{"$f":"IF(E51<>0,$M51/E51,\"\")","v":1},{"$f":"IF(E51<>0,$N51/E51,\"\")","v":0},{"$f":"IF(E51<>0,$O51/E51,\"\")","v":0},{"$f":"IF(D51<>0,$F51/D51,\"\")","v":0.10458340595205774},{"$f":"IF(D51<>0,$G51/D51,\"\")","v":0},{"$f":"IF(D51<>0,$H51/D51,\"\")","v":0},{"$f":"IF(D51<>0,$I51/D51,\"\")","v":0}]
["> Small Non Domestic Two Rate"]
["Small Non Domestic Two Rate",{"$f":"CDCM!B165+CDCM!C165+CDCM!D165","v":1965316.6911563077},{"$f":"CDCM!E165","v":82427.244684584759},{"$f":"0.01*CDCM!F$14*(CDCM!$E4397*CDCM!E165+CDCM!$F4397*CDCM!F165+CDCM!$G4397*CDCM!G165)+10*(CDCM!$B4397*CDCM!B165+CDCM!$C4397*CDCM!C165+CDCM!$D4397*CDCM!D165+CDCM!$H4397*CDCM!H165)","v":44084766.569134705},{"$f":"10*(CDCM!$B4397*CDCM!B165+CDCM!$C4397*CDCM!C165+CDCM!$D4397*CDCM!D165)","v":42062991.111511208},{"$f":"CDCM!E4397*CDCM!$F$14*CDCM!$E165/100","v":2021775.4576234948},{"$f":"CDCM!F4397*CDCM!$F$14*CDCM!$F165/100","v":0},{"$f":"CDCM!G4397*CDCM!$F$14*CDCM!$G165/100","v":0},{"$f":"CDCM!H4397*CDCM!$H165*10","v":0},{"$f":"IF(B53<>0,0.1*D53/B53,\"\")","v":2.2431380533992784},{"$f":"IF(C53<>0,D53/C53,\"\")","v":534.83246635052546},{"$f":"IF(B53<>0,0.1*E53/B53,0)","v":2.1402652967223901},{"$f":"CDCM!B4397*CDCM!$B165*10","v":37539155.548340186},{"$f":"CDCM!C4397*CDCM!$C165*10","v":4523835.563171017},{"$f":"CDCM!D4397*CDCM!$D165*10","v":0},{"$f":"IF(E53<>0,$M53/E53,\"\")","v":0.89245093029218736},{"$f":"IF(E53<>0,$N53/E53,\"\")","v":0.10754906970781251},{"$f":"IF(E53<>0,$O53/E53,\"\")","v":0},{"$f":"IF(D53<>0,$F53/D53,\"\")","v":4.586109023517005E-2},{"$f":"IF(D53<>0,$G53/D53,\"\")","v":0},{"$f":"IF(D53<>0,$H53/D53,\"\")","v":0},{"$f":"IF(D53<>0,$I53/D53,\"\")","v":0}]
["LDNO LV: Small Non Domestic Two Rate",{"$f":"CDCM!B166+CDCM!C166+CDCM!D166","v":482.91820976216616},{"$f":"CDCM!E166","v":12.903675111941352},{"$f":"0.01*CDCM!F$14*(CDCM!$E4398*CDCM!E166+CDCM!$F4398*CDCM!F166+CDCM!$G4398*CDCM!G166)+10*(CDCM!$B4398*CDCM!B166+CDCM!$C4398*CDCM!C166+CDCM!$D4398*CDCM!D166+CDCM!$H4398*CDCM!H166)","v":7765.0376496116669},{"$f":"10*(CDCM!$B4398*CDCM!B166+CDCM!$C4398*CDCM!C166+CDCM!$D4398*CDCM!D166)","v":7543.6751030663127},{"$f":"CDCM!E4398*CDCM!$F$14*CDCM!$E166/100","v":221.36254654535389},{"$f":"CDCM!F4398*CDCM!$F$14*CDCM!$F166/100","v":0},{"$f":"CDCM!G4398*CDCM!$F$14*CDCM!$G166/100","v":0},{"$f":"CDCM!H4398*CDCM!$H166*10","v":0},{"$f":"IF(B54<>0,0.1*D54/B54,\"\")","v":1.6079405358178345},{"$f":"IF(C54<>0,D54/C54,\"\")","v":601.76946352483151},{"$f":"IF(B54<>0,0.1*E54/B54,0)","v":1.5621020186382122},{"$f":"CDCM!B4398*CDCM!$B166*10","v":6978.9959254934693},{"$f":"CDCM!C4398*CDCM!$C166*10","v":564.67917757284295},{"$f":"CDCM!D4398*CDCM!$D166*10","v":0},{"$f":"IF(E54<>0,$M54/E54,\"\")","v":0.92514534761136313},{"$f":"IF(E54<>0,$N54/E54,\"\")","v":7.4854652388636825E-2},{"$f":"IF(E54<>0,$O54/E54,\"\")","v":0},{"$f":"IF(D54<>0,$F54/D54,\"\")","v":2.8507594751510875E-2},{"$f":"IF(D54<>0,$G54/D54,\"\")","v":0},{"$f":"IF(D54<>0,$H54/D54,\"\")","v":0},{"$f":"IF(D54<>0,$I54/D54,\"\")","v":0}]
["LDNO HV: Small Non Domestic Two Rate",{"$f":"CDCM!B167+CDCM!C167+CDCM!D167","v":1397.6660842248523},{"$f":"CDCM!E167","v":47.788053454719794},{"$f":"0.01*CDCM!F$14*(CDCM!$E4399*CDCM!E167+CDCM!$F4399*CDCM!F167+CDCM!$G4399*CDCM!G167)+10*(CDCM!$B4399*CDCM!B167+CDCM!$C4399*CDCM!C167+CDCM!$D4399*CDCM!D167+CDCM!$H4399*CDCM!H167)","v":16492.71485891725},{"$f":"10*(CDCM!$B4399*CDCM!B167+CDCM!$C4399*CDCM!C167+CDCM!$D4399*CDCM!D167)","v":15880.478212082109},{"$f":"CDCM!E4399*CDCM!$F$14*CDCM!$E167/100","v":612.23664683514255},{"$f":"CDCM!F4399*CDCM!$F$14*CDCM!$F167/100","v":0},{"$f":"CDCM!G4399*CDCM!$F$14*CDCM!$G167/100","v":0},{"$f":"CDCM!H4399*CDCM!$H167*10","v":0},{"$f":"IF(B55<>0,0.1*D55/B55,\"\")","v":1.1800182493563287},{"$f":"IF(C55<>0,D55/C55,\"\")","v":345.12213129887056},{"$f":"IF(B55<>0,0.1*E55/B55,0)","v":1.1362140350489687},{"$f":"CDCM!B4399*CDCM!$B167*10","v":14384.521221157529},{"$f":"CDCM!C4399*CDCM!$C167*10","v":1495.9569909245815},{"$f":"CDCM!D4399*CDCM!$D167*10","v":0},{"$f":"IF(E55<>0,$M55/E55,\"\")","v":0.90579899604116243},{"$f":"IF(E55<>0,$N55/E55,\"\")","v":9.4201003958837626E-2},{"$f":"IF(E55<>0,$O55/E55,\"\")","v":0},{"$f":"IF(D55<>0,$F55/D55,\"\")","v":3.7121641407880136E-2},{"$f":"IF(D55<>0,$G55/D55,\"\")","v":0},{"$f":"IF(D55<>0,$H55/D55,\"\")","v":0},{"$f":"IF(D55<>0,$I55/D55,\"\")","v":0}]
["> Small Non Domestic Off Peak (related MPAN)"]
["Small Non Domestic Off Peak (related MPAN)",{"$f":"CDCM!B169+CDCM!C169+CDCM!D169","v":2583.3840720654089},{"$f":"CDCM!E169","v":517},{"$f":"0.01*CDCM!F$14*(CDCM!$E4401*CDCM!E169+CDCM!$F4401*CDCM!F169+CDCM!$G4401*CDCM!G169)+10*(CDCM!$B4401*CDCM!B169+CDCM!$C4401*CDCM!C169+CDCM!$D4401*CDCM!D169+CDCM!$H4401*CDCM!H169)","v":30561.433572533788},{"$f":"10*(CDCM!$B4401*CDCM!B169+CDCM!$C4401*CDCM!C169+CDCM!$D4401*CDCM!D169)","v":30561.433572533788},{"$f":"CDCM!E4401*CDCM!$F$14*CDCM!$E169/100","v":0},{"$f":"CDCM!F4401*CDCM!$F$14*CDCM!$F169/100","v":0},{"$f":"CDCM!G4401*CDCM!$F$14*CDCM!$G169/100","v":0},{"$f":"CDCM!H4401*CDCM!$H169*10","v":0},{"$f":"IF(B57<>0,0.1*D57/B57,\"\")","v":1.1830000000000001},{"$f":"IF(C57<>0,D57/C57,\"\")","v":59.11302431824717},{"$f":"IF(B57<>0,0.1*E57/B57,0)","v":1.1830000000000001},{"$f":"CDCM!B4401*CDCM!$B169*10","v":30561.433572533788},{"$f":"CDCM!C4401*CDCM!$C169*10","v":0},{"$f":"CDCM!D4401*CDCM!$D169*10","v":0},{"$f":"IF(E57<>0,$M57/E57,\"\")","v":1},{"$f":"IF(E57<>0,$N57/E57,\"\")","v":0},{"$f":"IF(E57<>0,$O57/E57,\"\")","v":0},{"$f":"IF(D57<>0,$F57/D57,\"\")","v":0},{"$f":"IF(D57<>0,$G57/D57,\"\")","v":0},{"$f":"IF(D57<>0,$H57/D57,\"\")","v":0},{"$f":"IF(D57<>0,$I57/D57,\"\")","v":0}]
["LDNO LV: Small Non Domestic Off Peak (related MPAN)",{"$f":"CDCM!B170+CDCM!C170+CDCM!D170","v":0},{"$f":"CDCM!E170","v":0},{"$f":"0.01*CDCM!F$14*(CDCM!$E4402*CDCM!E170+CDCM!$F4402*CDCM!F170+CDCM!$G4402*CDCM!G170)+10*(CDCM!$B4402*CDCM!B170+CDCM!$C4402*CDCM!C170+CDCM!$D4402*CDCM!D170+CDCM!$H4402*CDCM!H170)","v":0},{"$f":"10*(CDCM!$B4402*CDCM!B170+CDCM!$C4402*CDCM!C170+CDCM!$D4402*CDCM!D170)","v":0},{"$f":"CDCM!E4402*CDCM!$F$14*CDCM!$E170/100","v":0},{"$f":"CDCM!F4402*CDCM!$F$14*CDCM!$F170/100","v":0},{"$f":"CDCM!G4402*CDCM!$F$14*CDCM!$G170/100","v":0},{"$f":"CDCM!H4402*CDCM!$H170*10","v":0},{"$f":"IF(B58<>0,0.1*D58/B58,\"\")","v":""},{"$f":"IF(C58<>0,D58/C58,\"\")","v":""},{"$f":"IF(B58<>0,0.1*E58/B58,0)","v":0},{"$f":"CDCM!B4402*CDCM!$B170*10","v":0},{"$f":"CDCM!C4402*CDCM!$C170*10","v":0},{"$f":"CDCM!D4402*CDCM!$D170*10","v":0},{"$f":"IF(E58<>0,$M58/E58,\"\")","v":""},{"$f":"IF(E58<>0,$N58/E58,\"\")","v":""},{"$f":"IF(E58<>0,$O58/E58,\"\")","v":""},{"$f":"IF(D58<>0,$F58/D58,\"\")","v":""},{"$f":"IF(D58<>0,$G58/D58,\"\")","v":""},{"$f":"IF(D58<>0,$H58/D58,\"\")","v":""},{"$f":"IF(D58<>0,$I58/D58,\"\")","v":""}]
["LDNO HV: Small Non Domestic Off Peak (related MPAN)",{"$f":"CDCM!B171+CDCM!C171+CDCM!D171","v":0},{"$f":"CDCM!E171","v":0},{"$f":"0.01*CDCM!F$14*(CDCM!$E4403*CDCM!E171+CDCM!$F4403*CDCM!F171+CDCM!$G4403*CDCM!G171)+10*(CDCM!$B4403*CDCM!B171+CDCM!$C4403*CDCM!C171+CDCM!$D4403*CDCM!D171+CDCM!$H4403*CDCM!H171)","v":0},{"$f":"10*(CDCM!$B4403*CDCM!B171+CDCM!$C4403*CDCM!C171+CDCM!$D4403*CDCM!D171)","v":0},{"$f":"CDCM!E4403*CDCM!$F$14*CDCM!$E171/100","v":0},{"$f":"CDCM!F4403*CDCM!$F$14*CDCM!$F171/100","v":0},{"$f":"CDCM!G4403*CDCM!$F$14*CDCM!$G171/100","v":0},{"$f":"CDCM!H4403*CDCM!$H171*10","v":0},{"$f":"IF(B59<>0,0.1*D59/B59,\"\")","v":""},{"$f":"IF(C59<>0,D59/C59,\"\")","v":""},{"$f":"IF(B59<>0,0.1*E59/B59,0)","v":0},{"$f":"CDCM!B4403*CDCM!$B171*10","v":0},{"$f":"CDCM!C4403*CDCM!$C171*10","v":0},{"$f":"CDCM!D4403*CDCM!$D171*10","v":0},{"$f":"IF(E59<>0,$M59/E59,\"\")","v":""},{"$f":"IF(E59<>0,$N59/E59,\"\")","v":""},{"$f":"IF(E59<>0,$O59/E59,\"\")","v":""},{"$f":"IF(D59<>0,$F59/D59,\"\")","v":""},{"$f":"IF(D59<>0,$G59/D59,\"\")","v":""},{"$f":"IF(D59<>0,$H59/D59,\"\")","v":""},{"$f":"IF(D59<>0,$I59/D59,\"\")","v":""}]
["> LV Medium Non-Domestic"]
["LV Medium Non-Domestic",{"$f":"CDCM!B173+CDCM!C173+CDCM!D173","v":53110.746206844604},{"$f":"CDCM!E173","v":1226.5130041316722},{"$f":"0.01*CDCM!F$14*(CDCM!$E4405*CDCM!E173+CDCM!$F4405*CDCM!F173+CDCM!$G4405*CDCM!G173)+10*(CDCM!$B4405*CDCM!B173+CDCM!$C4405*CDCM!C173+CDCM!$D4405*CDCM!D173+CDCM!$H4405*CDCM!H173)","v":1207564.9953543849},{"$f":"10*(CDCM!$B4405*CDCM!B173+CDCM!$C4405*CDCM!C173+CDCM!$D4405*CDCM!D173)","v":1122372.015343901},{"$f":"CDCM!E4405*CDCM!$F$14*CDCM!$E173/100","v":85192.980010483894},{"$f":"CDCM!F4405*CDCM!$F$14*CDCM!$F173/100","v":0},{"$f":"CDCM!G4405*CDCM!$F$14*CDCM!$G173/100","v":0},{"$f":"CDCM!H4405*CDCM!$H173*10","v":0},{"$f":"IF(B61<>0,0.1*D61/B61,\"\")","v":2.273673562505437},{"$f":"IF(C61<>0,D61/C61,\"\")","v":984.55131848300141},{"$f":"IF(B61<>0,0.1*E61/B61,0)","v":2.11326726793241},{"$f":"CDCM!B4405*CDCM!$B173*10","v":1007258.6720353349},{"$f":"CDCM!C4405*CDCM!$C173*10","v":115113.34330856605},{"$f":"CDCM!D4405*CDCM!$D173*10","v":0},{"$f":"IF(E61<>0,$M61/E61,\"\")","v":0.89743744343688503},{"$f":"IF(E61<>0,$N61/E61,\"\")","v":0.10256255656311485},{"$f":"IF(E61<>0,$O61/E61,\"\")","v":0},{"$f":"IF(D61<>0,$F61/D61,\"\")","v":7.0549395136683513E-2},{"$f":"IF(D61<>0,$G61/D61,\"\")","v":0},{"$f":"IF(D61<>0,$H61/D61,\"\")","v":0},{"$f":"IF(D61<>0,$I61/D61,\"\")","v":0}]
["LDNO LV: LV Medium Non-Domestic",{"$f":"CDCM!B174+CDCM!C174+CDCM!D174","v":-4.3655745685100556E-14},{"$f":"CDCM!E174","v":0},{"$f":"0.01*CDCM!F$14*(CDCM!$E4406*CDCM!E174+CDCM!$F4406*CDCM!F174+CDCM!$G4406*CDCM!G174)+10*(CDCM!$B4406*CDCM!B174+CDCM!$C4406*CDCM!C174+CDCM!$D4406*CDCM!D174+CDCM!$H4406*CDCM!H174)","v":-7.9431629274040453E-13},{"$f":"10*(CDCM!$B4406*CDCM!B174+CDCM!$C4406*CDCM!C174+CDCM!$D4406*CDCM!D174)","v":-7.9431629274040453E-13},{"$f":"CDCM!E4406*CDCM!$F$14*CDCM!$E174/100","v":0},{"$f":"CDCM!F4406*CDCM!$F$14*CDCM!$F174/100","v":0},{"$f":"CDCM!G4406*CDCM!$F$14*CDCM!$G174/100","v":0},{"$f":"CDCM!H4406*CDCM!$H174*10","v":0},{"$f":"IF(B62<>0,0.1*D62/B62,\"\")","v":1.8194999999999999},{"$f":"IF(C62<>0,D62/C62,\"\")","v":""},{"$f":"IF(B62<>0,0.1*E62/B62,0)","v":1.8194999999999999},{"$f":"CDCM!B4406*CDCM!$B174*10","v":-8.3246050053276122E-13},{"$f":"CDCM!C4406*CDCM!$C174*10","v":3.8144207792356609E-14},{"$f":"CDCM!D4406*CDCM!$D174*10","v":0},{"$f":"IF(E62<>0,$M62/E62,\"\")","v":1.0480214344600165},{"$f":"IF(E62<>0,$N62/E62,\"\")","v":-4.8021434460016492E-2},{"$f":"IF(E62<>0,$O62/E62,\"\")","v":0},{"$f":"IF(D62<>0,$F62/D62,\"\")","v":0},{"$f":"IF(D62<>0,$G62/D62,\"\")","v":0},{"$f":"IF(D62<>0,$H62/D62,\"\")","v":0},{"$f":"IF(D62<>0,$I62/D62,\"\")","v":0}]
["LDNO HV: LV Medium Non-Domestic",{"$f":"CDCM!B175+CDCM!C175+CDCM!D175","v":-2.2919266484677787E-13},{"$f":"CDCM!E175","v":0},{"$f":"0.01*CDCM!F$14*(CDCM!$E4407*CDCM!E175+CDCM!$F4407*CDCM!F175+CDCM!$G4407*CDCM!G175)+10*(CDCM!$B4407*CDCM!B175+CDCM!$C4407*CDCM!C175+CDCM!$D4407*CDCM!D175+CDCM!$H4407*CDCM!H175)","v":-3.0321461963467298E-12},{"$f":"10*(CDCM!$B4407*CDCM!B175+CDCM!$C4407*CDCM!C175+CDCM!$D4407*CDCM!D175)","v":-3.0321461963467298E-12},{"$f":"CDCM!E4407*CDCM!$F$14*CDCM!$E175/100","v":0},{"$f":"CDCM!F4407*CDCM!$F$14*CDCM!$F175/100","v":0},{"$f":"CDCM!G4407*CDCM!$F$14*CDCM!$G175/100","v":0},{"$f":"CDCM!H4407*CDCM!$H175*10","v":0},{"$f":"IF(B63<>0,0.1*D63/B63,\"\")","v":1.3229682539682543},{"$f":"IF(C63<>0,D63/C63,\"\")","v":""},{"$f":"IF(B63<>0,0.1*E63/B63,0)","v":1.3229682539682543},{"$f":"CDCM!B4407*CDCM!$B175*10","v":-3.1269155442714685E-12},{"$f":"CDCM!C4407*CDCM!$C175*10","v":9.4769347924739123E-14},{"$f":"CDCM!D4407*CDCM!$D175*10","v":0},{"$f":"IF(E63<>0,$M63/E63,\"\")","v":1.0312548742006309},{"$f":"IF(E63<>0,$N63/E63,\"\")","v":-3.1254874200631097E-2},{"$f":"IF(E63<>0,$O63/E63,\"\")","v":0},{"$f":"IF(D63<>0,$F63/D63,\"\")","v":0},{"$f":"IF(D63<>0,$G63/D63,\"\")","v":0},{"$f":"IF(D63<>0,$H63/D63,\"\")","v":0},{"$f":"IF(D63<>0,$I63/D63,\"\")","v":0}]
["> LV Sub Medium Non-Domestic"]
["LV Sub Medium Non-Domestic",{"$f":"CDCM!B177+CDCM!C177+CDCM!D177","v":0.18482132843665922},{"$f":"CDCM!E177","v":3.1678196721310618E-3},{"$f":"0.01*CDCM!F$14*(CDCM!$E4409*CDCM!E177+CDCM!$F4409*CDCM!F177+CDCM!$G4409*CDCM!G177)+10*(CDCM!$B4409*CDCM!B177+CDCM!$C4409*CDCM!C177+CDCM!$D4409*CDCM!D177+CDCM!$H4409*CDCM!H177)","v":3.8499518392793721},{"$f":"10*(CDCM!$B4409*CDCM!B177+CDCM!$C4409*CDCM!C177+CDCM!$D4409*CDCM!D177)","v":3.6477229831400333},{"$f":"CDCM!E4409*CDCM!$F$14*CDCM!$E177/100","v":0.20222885613933875},{"$f":"CDCM!F4409*CDCM!$F$14*CDCM!$F177/100","v":0},{"$f":"CDCM!G4409*CDCM!$F$14*CDCM!$G177/100","v":0},{"$f":"CDCM!H4409*CDCM!$H177*10","v":0},{"$f":"IF(B65<>0,0.1*D65/B65,\"\")","v":2.0830668580541034},{"$f":"IF(C65<>0,D65/C65,\"\")","v":1215.3317542502111},{"$f":"IF(B65<>0,0.1*E65/B65,0)","v":1.9736482872376702},{"$f":"CDCM!B4409*CDCM!$B177*10","v":3.2329365851512684},{"$f":"CDCM!C4409*CDCM!$C177*10","v":0.41478639798876499},{"$f":"CDCM!D4409*CDCM!$D177*10","v":0},{"$f":"IF(E65<>0,$M65/E65,\"\")","v":0.88628895343590253},{"$f":"IF(E65<>0,$N65/E65,\"\")","v":0.1137110465640975},{"$f":"IF(E65<>0,$O65/E65,\"\")","v":0},{"$f":"IF(D65<>0,$F65/D65,\"\")","v":5.2527632703372108E-2},{"$f":"IF(D65<>0,$G65/D65,\"\")","v":0},{"$f":"IF(D65<>0,$H65/D65,\"\")","v":0},{"$f":"IF(D65<>0,$I65/D65,\"\")","v":0}]
["> HV Medium Non-Domestic"]
["HV Medium Non-Domestic",{"$f":"CDCM!B179+CDCM!C179+CDCM!D179","v":3393.8175161222098},{"$f":"CDCM!E179","v":44},{"$f":"0.01*CDCM!F$14*(CDCM!$E4411*CDCM!E179+CDCM!$F4411*CDCM!F179+CDCM!$G4411*CDCM!G179)+10*(CDCM!$B4411*CDCM!B179+CDCM!$C4411*CDCM!C179+CDCM!$D4411*CDCM!D179+CDCM!$H4411*CDCM!H179)","v":74505.078520508163},{"$f":"10*(CDCM!$B4411*CDCM!B179+CDCM!$C4411*CDCM!C179+CDCM!$D4411*CDCM!D179)","v":47758.75452050817},{"$f":"CDCM!E4411*CDCM!$F$14*CDCM!$E179/100","v":26746.324000000001},{"$f":"CDCM!F4411*CDCM!$F$14*CDCM!$F179/100","v":0},{"$f":"CDCM!G4411*CDCM!$F$14*CDCM!$G179/100","v":0},{"$f":"CDCM!H4411*CDCM!$H179*10","v":0},{"$f":"IF(B67<>0,0.1*D67/B67,\"\")","v":2.195317755494349},{"$f":"IF(C67<>0,D67/C67,\"\")","v":1693.2972391024582},{"$f":"IF(B67<>0,0.1*E67/B67,0)","v":1.4072281227152581},{"$f":"CDCM!B4411*CDCM!$B179*10","v":40172.370144424291},{"$f":"CDCM!C4411*CDCM!$C179*10","v":7586.3843760838754},{"$f":"CDCM!D4411*CDCM!$D179*10","v":0},{"$f":"IF(E67<>0,$M67/E67,\"\")","v":0.84115196360855271},{"$f":"IF(E67<>0,$N67/E67,\"\")","v":0.15884803639144721},{"$f":"IF(E67<>0,$O67/E67,\"\")","v":0},{"$f":"IF(D67<>0,$F67/D67,\"\")","v":0.35898658898316366},{"$f":"IF(D67<>0,$G67/D67,\"\")","v":0},{"$f":"IF(D67<>0,$H67/D67,\"\")","v":0},{"$f":"IF(D67<>0,$I67/D67,\"\")","v":0}]
["> LV Network Domestic"]
["LV Network Domestic",{"$f":"CDCM!B181+CDCM!C181+CDCM!D181","v":247.4185157539581},{"$f":"CDCM!E181","v":76.118765573770503},{"$f":"0.01*CDCM!F$14*(CDCM!$E4413*CDCM!E181+CDCM!$F4413*CDCM!F181+CDCM!$G4413*CDCM!G181)+10*(CDCM!$B4413*CDCM!B181+CDCM!$C4413*CDCM!C181+CDCM!$D4413*CDCM!D181+CDCM!$H4413*CDCM!H181)","v":6103.6499076370901},{"$f":"10*(CDCM!$B4413*CDCM!B181+CDCM!$C4413*CDCM!C181+CDCM!$D4413*CDCM!D181)","v":5181.2427064141393},{"$f":"CDCM!E4413*CDCM!$F$14*CDCM!$E181/100","v":922.40720122295102},{"$f":"CDCM!F4413*CDCM!$F$14*CDCM!$F181/100","v":0},{"$f":"CDCM!G4413*CDCM!$F$14*CDCM!$G181/100","v":0},{"$f":"CDCM!H4413*CDCM!$H181*10","v":0},{"$f":"IF(B69<>0,0.1*D69/B69,\"\")","v":2.4669333614897195},{"$f":"IF(C69<>0,D69/C69,\"\")","v":80.185876132236245},{"$f":"IF(B69<>0,0.1*E69/B69,0)","v":2.0941208424217348},{"$f":"CDCM!B4413*CDCM!$B181*10","v":2239.7167945055526},{"$f":"CDCM!C4413*CDCM!$C181*10","v":1721.892165295767},{"$f":"CDCM!D4413*CDCM!$D181*10","v":1219.6337466128198},{"$f":"IF(E69<>0,$M69/E69,\"\")","v":0.43227405497389393},{"$f":"IF(E69<>0,$N69/E69,\"\")","v":0.33233188693595533},{"$f":"IF(E69<>0,$O69/E69,\"\")","v":0.23539405809015074},{"$f":"IF(D69<>0,$F69/D69,\"\")","v":0.15112387099214264},{"$f":"IF(D69<>0,$G69/D69,\"\")","v":0},{"$f":"IF(D69<>0,$H69/D69,\"\")","v":0},{"$f":"IF(D69<>0,$I69/D69,\"\")","v":0}]
["LDNO LV: LV Network Domestic",{"$f":"CDCM!B182+CDCM!C182+CDCM!D182","v":0},{"$f":"CDCM!E182","v":0},{"$f":"0.01*CDCM!F$14*(CDCM!$E4414*CDCM!E182+CDCM!$F4414*CDCM!F182+CDCM!$G4414*CDCM!G182)+10*(CDCM!$B4414*CDCM!B182+CDCM!$C4414*CDCM!C182+CDCM!$D4414*CDCM!D182+CDCM!$H4414*CDCM!H182)","v":0},{"$f":"10*(CDCM!$B4414*CDCM!B182+CDCM!$C4414*CDCM!C182+CDCM!$D4414*CDCM!D182)","v":0},{"$f":"CDCM!E4414*CDCM!$F$14*CDCM!$E182/100","v":0},{"$f":"CDCM!F4414*CDCM!$F$14*CDCM!$F182/100","v":0},{"$f":"CDCM!G4414*CDCM!$F$14*CDCM!$G182/100","v":0},{"$f":"CDCM!H4414*CDCM!$H182*10","v":0},{"$f":"IF(B70<>0,0.1*D70/B70,\"\")","v":""},{"$f":"IF(C70<>0,D70/C70,\"\")","v":""},{"$f":"IF(B70<>0,0.1*E70/B70,0)","v":0},{"$f":"CDCM!B4414*CDCM!$B182*10","v":0},{"$f":"CDCM!C4414*CDCM!$C182*10","v":0},{"$f":"CDCM!D4414*CDCM!$D182*10","v":0},{"$f":"IF(E70<>0,$M70/E70,\"\")","v":""},{"$f":"IF(E70<>0,$N70/E70,\"\")","v":""},{"$f":"IF(E70<>0,$O70/E70,\"\")","v":""},{"$f":"IF(D70<>0,$F70/D70,\"\")","v":""},{"$f":"IF(D70<>0,$G70/D70,\"\")","v":""},{"$f":"IF(D70<>0,$H70/D70,\"\")","v":""},{"$f":"IF(D70<>0,$I70/D70,\"\")","v":""}]
["LDNO HV: LV Network Domestic",{"$f":"CDCM!B183+CDCM!C183+CDCM!D183","v":0},{"$f":"CDCM!E183","v":0},{"$f":"0.01*CDCM!F$14*(CDCM!$E4415*CDCM!E183+CDCM!$F4415*CDCM!F183+CDCM!$G4415*CDCM!G183)+10*(CDCM!$B4415*CDCM!B183+CDCM!$C4415*CDCM!C183+CDCM!$D4415*CDCM!D183+CDCM!$H4415*CDCM!H183)","v":0},{"$f":"10*(CDCM!$B4415*CDCM!B183+CDCM!$C4415*CDCM!C183+CDCM!$D4415*CDCM!D183)","v":0},{"$f":"CDCM!E4415*CDCM!$F$14*CDCM!$E183/100","v":0},{"$f":"CDCM!F4415*CDCM!$F$14*CDCM!$F183/100","v":0},{"$f":"CDCM!G4415*CDCM!$F$14*CDCM!$G183/100","v":0},{"$f":"CDCM!H4415*CDCM!$H183*10","v":0},{"$f":"IF(B71<>0,0.1*D71/B71,\"\")","v":""},{"$f":"IF(C71<>0,D71/C71,\"\")","v":""},{"$f":"IF(B71<>0,0.1*E71/B71,0)","v":0},{"$f":"CDCM!B4415*CDCM!$B183*10","v":0},{"$f":"CDCM!C4415*CDCM!$C183*10","v":0},{"$f":"CDCM!D4415*CDCM!$D183*10","v":0},{"$f":"IF(E71<>0,$M71/E71,\"\")","v":""},{"$f":"IF(E71<>0,$N71/E71,\"\")","v":""},{"$f":"IF(E71<>0,$O71/E71,\"\")","v":""},{"$f":"IF(D71<>0,$F71/D71,\"\")","v":""},{"$f":"IF(D71<>0,$G71/D71,\"\")","v":""},{"$f":"IF(D71<>0,$H71/D71,\"\")","v":""},{"$f":"IF(D71<>0,$I71/D71,\"\")","v":""}]
["> LV Network Non-Domestic Non-CT"]
["LV Network Non-Domestic Non-CT",{"$f":"CDCM!B185+CDCM!C185+CDCM!D185","v":170406.74711434852},{"$f":"CDCM!E185","v":2509.10345882312},{"$f":"0.01*CDCM!F$14*(CDCM!$E4417*CDCM!E185+CDCM!$F4417*CDCM!F185+CDCM!$G4417*CDCM!G185)+10*(CDCM!$B4417*CDCM!B185+CDCM!$C4417*CDCM!C185+CDCM!$D4417*CDCM!D185+CDCM!$H4417*CDCM!H185)","v":3852396.1126480629},{"$f":"10*(CDCM!$B4417*CDCM!B185+CDCM!$C4417*CDCM!C185+CDCM!$D4417*CDCM!D185)","v":3790852.8230100493},{"$f":"CDCM!E4417*CDCM!$F$14*CDCM!$E185/100","v":61543.289638013484},{"$f":"CDCM!F4417*CDCM!$F$14*CDCM!$F185/100","v":0},{"$f":"CDCM!G4417*CDCM!$F$14*CDCM!$G185/100","v":0},{"$f":"CDCM!H4417*CDCM!$H185*10","v":0},{"$f":"IF(B73<>0,0.1*D73/B73,\"\")","v":2.2607063264126386},{"$f":"IF(C73<>0,D73/C73,\"\")","v":1535.3675828317603},{"$f":"IF(B73<>0,0.1*E73/B73,0)","v":2.2245908024206713},{"$f":"CDCM!B4417*CDCM!$B185*10","v":1695503.435048894},{"$f":"CDCM!C4417*CDCM!$C185*10","v":1310980.4543314266},{"$f":"CDCM!D4417*CDCM!$D185*10","v":784368.93362972816},{"$f":"IF(E73<>0,$M73/E73,\"\")","v":0.44726174141010677},{"$f":"IF(E73<>0,$N73/E73,\"\")","v":0.34582731526107346},{"$f":"IF(E73<>0,$O73/E73,\"\")","v":0.20691094332881962},{"$f":"IF(D73<>0,$F73/D73,\"\")","v":1.5975327520437614E-2},{"$f":"IF(D73<>0,$G73/D73,\"\")","v":0},{"$f":"IF(D73<>0,$H73/D73,\"\")","v":0},{"$f":"IF(D73<>0,$I73/D73,\"\")","v":0}]
["LDNO LV: LV Network Non-Domestic Non-CT",{"$f":"CDCM!B186+CDCM!C186+CDCM!D186","v":212.43679368670206},{"$f":"CDCM!E186","v":4.7184373127364774},{"$f":"0.01*CDCM!F$14*(CDCM!$E4418*CDCM!E186+CDCM!$F4418*CDCM!F186+CDCM!$G4418*CDCM!G186)+10*(CDCM!$B4418*CDCM!B186+CDCM!$C4418*CDCM!C186+CDCM!$D4418*CDCM!D186+CDCM!$H4418*CDCM!H186)","v":3062.5061509038183},{"$f":"10*(CDCM!$B4418*CDCM!B186+CDCM!$C4418*CDCM!C186+CDCM!$D4418*CDCM!D186)","v":2981.5613588038241},{"$f":"CDCM!E4418*CDCM!$F$14*CDCM!$E186/100","v":80.94479209999426},{"$f":"CDCM!F4418*CDCM!$F$14*CDCM!$F186/100","v":0},{"$f":"CDCM!G4418*CDCM!$F$14*CDCM!$G186/100","v":0},{"$f":"CDCM!H4418*CDCM!$H186*10","v":0},{"$f":"IF(B74<>0,0.1*D74/B74,\"\")","v":1.4416081591875025},{"$f":"IF(C74<>0,D74/C74,\"\")","v":649.05093528257669},{"$f":"IF(B74<>0,0.1*E74/B74,0)","v":1.4035051589043359},{"$f":"CDCM!B4418*CDCM!$B186*10","v":1230.4400617794006},{"$f":"CDCM!C4418*CDCM!$C186*10","v":906.42668370220565},{"$f":"CDCM!D4418*CDCM!$D186*10","v":844.69461332221749},{"$f":"IF(E74<>0,$M74/E74,\"\")","v":0.41268312595553702},{"$f":"IF(E74<>0,$N74/E74,\"\")","v":0.30401074290346181},{"$f":"IF(E74<>0,$O74/E74,\"\")","v":0.28330613114100106},{"$f":"IF(D74<>0,$F74/D74,\"\")","v":2.6430899437085386E-2},{"$f":"IF(D74<>0,$G74/D74,\"\")","v":0},{"$f":"IF(D74<>0,$H74/D74,\"\")","v":0},{"$f":"IF(D74<>0,$I74/D74,\"\")","v":0}]
["LDNO HV: LV Network Non-Domestic Non-CT",{"$f":"CDCM!B187+CDCM!C187+CDCM!D187","v":883.04671264110243},{"$f":"CDCM!E187","v":19.841829348937043},{"$f":"0.01*CDCM!F$14*(CDCM!$E4419*CDCM!E187+CDCM!$F4419*CDCM!F187+CDCM!$G4419*CDCM!G187)+10*(CDCM!$B4419*CDCM!B187+CDCM!$C4419*CDCM!C187+CDCM!$D4419*CDCM!D187+CDCM!$H4419*CDCM!H187)","v":10772.705228076071},{"$f":"10*(CDCM!$B4419*CDCM!B187+CDCM!$C4419*CDCM!C187+CDCM!$D4419*CDCM!D187)","v":10518.501631372164},{"$f":"CDCM!E4419*CDCM!$F$14*CDCM!$E187/100","v":254.20359670390692},{"$f":"CDCM!F4419*CDCM!$F$14*CDCM!$F187/100","v":0},{"$f":"CDCM!G4419*CDCM!$F$14*CDCM!$G187/100","v":0},{"$f":"CDCM!H4419*CDCM!$H187*10","v":0},{"$f":"IF(B75<>0,0.1*D75/B75,\"\")","v":1.2199473792112325},{"$f":"IF(C75<>0,D75/C75,\"\")","v":542.92903333800621},{"$f":"IF(B75<>0,0.1*E75/B75,0)","v":1.1911602728141528},{"$f":"CDCM!B4419*CDCM!$B187*10","v":4969.2331051531},{"$f":"CDCM!C4419*CDCM!$C187*10","v":3372.9563109815017},{"$f":"CDCM!D4419*CDCM!$D187*10","v":2176.3122152375618},{"$f":"IF(E75<>0,$M75/E75,\"\")","v":0.47242784945072558},{"$f":"IF(E75<>0,$N75/E75,\"\")","v":0.32066889650151542},{"$f":"IF(E75<>0,$O75/E75,\"\")","v":0.20690325404775894},{"$f":"IF(D75<>0,$F75/D75,\"\")","v":2.3597006631295887E-2},{"$f":"IF(D75<>0,$G75/D75,\"\")","v":0},{"$f":"IF(D75<>0,$H75/D75,\"\")","v":0},{"$f":"IF(D75<>0,$I75/D75,\"\")","v":0}]
["> LV HH Metered"]
["LV HH Metered",{"$f":"CDCM!B189+CDCM!C189+CDCM!D189","v":3499450.3099133689},{"$f":"CDCM!E189","v":15832.332072650368},{"$f":"0.01*CDCM!F$14*(CDCM!$E4421*CDCM!E189+CDCM!$F4421*CDCM!F189+CDCM!$G4421*CDCM!G189)+10*(CDCM!$B4421*CDCM!B189+CDCM!$C4421*CDCM!C189+CDCM!$D4421*CDCM!D189+CDCM!$H4421*CDCM!H189)","v":88344507.847398669},{"$f":"10*(CDCM!$B4421*CDCM!B189+CDCM!$C4421*CDCM!C189+CDCM!$D4421*CDCM!D189)","v":65146896.355240412},{"$f":"CDCM!E4421*CDCM!$F$14*CDCM!$E189/100","v":542051.55317133071},{"$f":"CDCM!F4421*CDCM!$F$14*CDCM!$F189/100","v":21104300},{"$f":"CDCM!G4421*CDCM!$F$14*CDCM!$G189/100","v":1007372.699072069},{"$f":"CDCM!H4421*CDCM!$H189*10","v":543887.23991486174},{"$f":"IF(B77<>0,0.1*D77/B77,\"\")","v":2.5245252832175717},{"$f":"IF(C77<>0,D77/C77,\"\")","v":5580.0059929269537},{"$f":"IF(B77<>0,0.1*E77/B77,0)","v":1.8616322732370265},{"$f":"CDCM!B4421*CDCM!$B189*10","v":26161342.57371176},{"$f":"CDCM!C4421*CDCM!$C189*10","v":23053302.302854355},{"$f":"CDCM!D4421*CDCM!$D189*10","v":15932251.478674291},{"$f":"IF(E77<>0,$M77/E77,\"\")","v":0.40157465723395652},{"$f":"IF(E77<>0,$N77/E77,\"\")","v":0.35386647089289847},{"$f":"IF(E77<>0,$O77/E77,\"\")","v":0.2445588718731449},{"$f":"IF(D77<>0,$F77/D77,\"\")","v":6.1356564927345578E-3},{"$f":"IF(D77<>0,$G77/D77,\"\")","v":0.23888638370655005},{"$f":"IF(D77<>0,$H77/D77,\"\")","v":1.1402776738675685E-2},{"$f":"IF(D77<>0,$I77/D77,\"\")","v":6.156435223504125E-3}]
["LDNO LV: LV HH Metered",{"$f":"CDCM!B190+CDCM!C190+CDCM!D190","v":12416.595097581736},{"$f":"CDCM!E190","v":61.229869713492732},{"$f":"0.01*CDCM!F$14*(CDCM!$E4422*CDCM!E190+CDCM!$F4422*CDCM!F190+CDCM!$G4422*CDCM!G190)+10*(CDCM!$B4422*CDCM!B190+CDCM!$C4422*CDCM!C190+CDCM!$D4422*CDCM!D190+CDCM!$H4422*CDCM!H190)","v":244837.35912394067},{"$f":"10*(CDCM!$B4422*CDCM!B190+CDCM!$C4422*CDCM!C190+CDCM!$D4422*CDCM!D190)","v":162991.626024272},{"$f":"CDCM!E4422*CDCM!$F$14*CDCM!$E190/100","v":1466.0880004198698},{"$f":"CDCM!F4422*CDCM!$F$14*CDCM!$F190/100","v":78775.951107346744},{"$f":"CDCM!G4422*CDCM!$F$14*CDCM!$G190/100","v":216.63060709463443},{"$f":"CDCM!H4422*CDCM!$H190*10","v":1387.0633848073896},{"$f":"IF(B78<>0,0.1*D78/B78,\"\")","v":1.9718558686964462},{"$f":"IF(C78<>0,D78/C78,\"\")","v":3998.6588289275396},{"$f":"IF(B78<>0,0.1*E78/B78,0)","v":1.3126918027311398},{"$f":"CDCM!B4422*CDCM!$B190*10","v":68439.449879041},{"$f":"CDCM!C4422*CDCM!$C190*10","v":52359.46636231539},{"$f":"CDCM!D4422*CDCM!$D190*10","v":42192.709782915619},{"$f":"IF(E78<>0,$M78/E78,\"\")","v":0.41989549738493492},{"$f":"IF(E78<>0,$N78/E78,\"\")","v":0.32124022343649877},{"$f":"IF(E78<>0,$O78/E78,\"\")","v":0.2588642791785663},{"$f":"IF(D78<>0,$F78/D78,\"\")","v":5.9880077356891936E-3},{"$f":"IF(D78<>0,$G78/D78,\"\")","v":0.32174808366344565},{"$f":"IF(D78<>0,$H78/D78,\"\")","v":8.847939214414271E-4},{"$f":"IF(D78<>0,$I78/D78,\"\")","v":5.6652440206448867E-3}]
["LDNO HV: LV HH Metered",{"$f":"CDCM!B191+CDCM!C191+CDCM!D191","v":135928.75750845001},{"$f":"CDCM!E191","v":382.62169856216127},{"$f":"0.01*CDCM!F$14*(CDCM!$E4423*CDCM!E191+CDCM!$F4423*CDCM!F191+CDCM!$G4423*CDCM!G191)+10*(CDCM!$B4423*CDCM!B191+CDCM!$C4423*CDCM!C191+CDCM!$D4423*CDCM!D191+CDCM!$H4423*CDCM!H191)","v":1953981.9083719132},{"$f":"10*(CDCM!$B4423*CDCM!B191+CDCM!$C4423*CDCM!C191+CDCM!$D4423*CDCM!D191)","v":1321974.2124058851},{"$f":"CDCM!E4423*CDCM!$F$14*CDCM!$E191/100","v":6829.2233867867353},{"$f":"CDCM!F4423*CDCM!$F$14*CDCM!$F191/100","v":610831.90916501579},{"$f":"CDCM!G4423*CDCM!$F$14*CDCM!$G191/100","v":5554.3943077927388},{"$f":"CDCM!H4423*CDCM!$H191*10","v":8792.1691064327806},{"$f":"IF(B79<>0,0.1*D79/B79,\"\")","v":1.4375044281931615},{"$f":"IF(C79<>0,D79/C79,\"\")","v":5106.8246147949876},{"$f":"IF(B79<>0,0.1*E79/B79,0)","v":0.97254932409994588},{"$f":"CDCM!B4423*CDCM!$B191*10","v":543403.69499354868},{"$f":"CDCM!C4423*CDCM!$C191*10","v":438872.20800928713},{"$f":"CDCM!D4423*CDCM!$D191*10","v":339698.30940304929},{"$f":"IF(E79<>0,$M79/E79,\"\")","v":0.41105468616108504},{"$f":"IF(E79<>0,$N79/E79,\"\")","v":0.33198242741102763},{"$f":"IF(E79<>0,$O79/E79,\"\")","v":0.25696288642788734},{"$f":"IF(D79<>0,$F79/D79,\"\")","v":3.4950289752052749E-3},{"$f":"IF(D79<>0,$G79/D79,\"\")","v":0.31260878442522022},{"$f":"IF(D79<>0,$H79/D79,\"\")","v":2.8426027303501203E-3},{"$f":"IF(D79<>0,$I79/D79,\"\")","v":4.4996164338893738E-3}]
["> LV Sub HH Metered"]
["LV Sub HH Metered",{"$f":"CDCM!B193+CDCM!C193+CDCM!D193","v":219158.44449170429},{"$f":"CDCM!E193","v":342.84669556830613},{"$f":"0.01*CDCM!F$14*(CDCM!$E4425*CDCM!E193+CDCM!$F4425*CDCM!F193+CDCM!$G4425*CDCM!G193)+10*(CDCM!$B4425*CDCM!B193+CDCM!$C4425*CDCM!C193+CDCM!$D4425*CDCM!D193+CDCM!$H4425*CDCM!H193)","v":5507802.2341127275},{"$f":"10*(CDCM!$B4425*CDCM!B193+CDCM!$C4425*CDCM!C193+CDCM!$D4425*CDCM!D193)","v":3483695.5517045604},{"$f":"CDCM!E4425*CDCM!$F$14*CDCM!$E193/100","v":9160.1780121940028},{"$f":"CDCM!F4425*CDCM!$F$14*CDCM!$F193/100","v":1955861.28662665},{"$f":"CDCM!G4425*CDCM!$F$14*CDCM!$G193/100","v":40136.213095540981},{"$f":"CDCM!H4425*CDCM!$H193*10","v":18949.004673782856},{"$f":"IF(B81<>0,0.1*D81/B81,\"\")","v":2.5131599409217436},{"$f":"IF(C81<>0,D81/C81,\"\")","v":16064.912700946232},{"$f":"IF(B81<>0,0.1*E81/B81,0)","v":1.5895785169420782},{"$f":"CDCM!B4425*CDCM!$B193*10","v":1256473.8238793919},{"$f":"CDCM!C4425*CDCM!$C193*10","v":1203633.9425881989},{"$f":"CDCM!D4425*CDCM!$D193*10","v":1023587.7852369696},{"$f":"IF(E81<>0,$M81/E81,\"\")","v":0.36067268371502886},{"$f":"IF(E81<>0,$N81/E81,\"\")","v":0.34550491704111885},{"$f":"IF(E81<>0,$O81/E81,\"\")","v":0.29382239924385228},{"$f":"IF(D81<>0,$F81/D81,\"\")","v":1.6631276183919938E-3},{"$f":"IF(D81<>0,$G81/D81,\"\")","v":0.35510739193084462},{"$f":"IF(D81<>0,$H81/D81,\"\")","v":7.2871558181512438E-3},{"$f":"IF(D81<>0,$I81/D81,\"\")","v":3.4403930766470996E-3}]
["LDNO HV: LV Sub HH Metered",{"$f":"CDCM!B194+CDCM!C194+CDCM!D194","v":9256.0866384555229},{"$f":"CDCM!E194","v":4.8958936371831783},{"$f":"0.01*CDCM!F$14*(CDCM!$E4426*CDCM!E194+CDCM!$F4426*CDCM!F194+CDCM!$G4426*CDCM!G194)+10*(CDCM!$B4426*CDCM!B194+CDCM!$C4426*CDCM!C194+CDCM!$D4426*CDCM!D194+CDCM!$H4426*CDCM!H194)","v":143953.81998838088},{"$f":"10*(CDCM!$B4426*CDCM!B194+CDCM!$C4426*CDCM!C194+CDCM!$D4426*CDCM!D194)","v":105818.98747303507},{"$f":"CDCM!E4426*CDCM!$F$14*CDCM!$E194/100","v":98.999865237481046},{"$f":"CDCM!F4426*CDCM!$F$14*CDCM!$F194/100","v":36524.137468609217},{"$f":"CDCM!G4426*CDCM!$F$14*CDCM!$G194/100","v":797.59245334592879},{"$f":"CDCM!H4426*CDCM!$H194*10","v":714.10272815317455},{"$f":"IF(B82<>0,0.1*D82/B82,\"\")","v":1.5552341460408059},{"$f":"IF(C82<>0,D82/C82,\"\")","v":29402.97127680327},{"$f":"IF(B82<>0,0.1*E82/B82,0)","v":1.1432367868446411},{"$f":"CDCM!B4426*CDCM!$B194*10","v":35931.760694665907},{"$f":"CDCM!C4426*CDCM!$C194*10","v":31022.042222320906},{"$f":"CDCM!D4426*CDCM!$D194*10","v":38865.184556048254},{"$f":"IF(E82<>0,$M82/E82,\"\")","v":0.33955872715019203},{"$f":"IF(E82<>0,$N82/E82,\"\")","v":0.29316139724192675},{"$f":"IF(E82<>0,$O82/E82,\"\")","v":0.36727987560788117},{"$f":"IF(D82<>0,$F82/D82,\"\")","v":6.877196120635891E-4},{"$f":"IF(D82<>0,$G82/D82,\"\")","v":0.25372121053513713},{"$f":"IF(D82<>0,$H82/D82,\"\")","v":5.5406133259284524E-3},{"$f":"IF(D82<>0,$I82/D82,\"\")","v":4.9606375725966337E-3}]
["> HV HH Metered"]
["HV HH Metered",{"$f":"CDCM!B196+CDCM!C196+CDCM!D196","v":7589580.0794873415},{"$f":"CDCM!E196","v":3524.9192351831307},{"$f":"0.01*CDCM!F$14*(CDCM!$E4428*CDCM!E196+CDCM!$F4428*CDCM!F196+CDCM!$G4428*CDCM!G196)+10*(CDCM!$B4428*CDCM!B196+CDCM!$C4428*CDCM!C196+CDCM!$D4428*CDCM!D196+CDCM!$H4428*CDCM!H196)","v":147635746.61494881},{"$f":"10*(CDCM!$B4428*CDCM!B196+CDCM!$C4428*CDCM!C196+CDCM!$D4428*CDCM!D196)","v":97579363.618532717},{"$f":"CDCM!E4428*CDCM!$F$14*CDCM!$E196/100","v":1017182.4187775609},{"$f":"CDCM!F4428*CDCM!$F$14*CDCM!$F196/100","v":47221963.543215267},{"$f":"CDCM!G4428*CDCM!$F$14*CDCM!$G196/100","v":1516014.3984224987},{"$f":"CDCM!H4428*CDCM!$H196*10","v":301222.63600078004},{"$f":"IF(B84<>0,0.1*D84/B84,\"\")","v":1.9452426230269286},{"$f":"IF(C84<>0,D84/C84,\"\")","v":41883.440942804657},{"$f":"IF(B84<>0,0.1*E84/B84,0)","v":1.2857017462964035},{"$f":"CDCM!B4428*CDCM!$B196*10","v":26712073.564479236},{"$f":"CDCM!C4428*CDCM!$C196*10","v":32458216.500327416},{"$f":"CDCM!D4428*CDCM!$D196*10","v":38409073.553726062},{"$f":"IF(E84<>0,$M84/E84,\"\")","v":0.27374715896800494},{"$f":"IF(E84<>0,$N84/E84,\"\")","v":0.33263402523525787},{"$f":"IF(E84<>0,$O84/E84,\"\")","v":0.39361881579673713},{"$f":"IF(D84<>0,$F84/D84,\"\")","v":6.8898111880078133E-3},{"$f":"IF(D84<>0,$G84/D84,\"\")","v":0.3198545381178966},{"$f":"IF(D84<>0,$H84/D84,\"\")","v":1.026861334861157E-2},{"$f":"IF(D84<>0,$I84/D84,\"\")","v":2.0403096330484493E-3}]
["LDNO HV: HV HH Metered",{"$f":"CDCM!B197+CDCM!C197+CDCM!D197","v":69862.28393031031},{"$f":"CDCM!E197","v":38.408595450387928},{"$f":"0.01*CDCM!F$14*(CDCM!$E4429*CDCM!E197+CDCM!$F4429*CDCM!F197+CDCM!$G4429*CDCM!G197)+10*(CDCM!$B4429*CDCM!B197+CDCM!$C4429*CDCM!C197+CDCM!$D4429*CDCM!D197+CDCM!$H4429*CDCM!H197)","v":1500268.5507223215},{"$f":"10*(CDCM!$B4429*CDCM!B197+CDCM!$C4429*CDCM!C197+CDCM!$D4429*CDCM!D197)","v":777168.27515549283},{"$f":"CDCM!E4429*CDCM!$F$14*CDCM!$E197/100","v":9503.5732023735618},{"$f":"CDCM!F4429*CDCM!$F$14*CDCM!$F197/100","v":708165.87858510239},{"$f":"CDCM!G4429*CDCM!$F$14*CDCM!$G197/100","v":4410.7899415741267},{"$f":"CDCM!H4429*CDCM!$H197*10","v":1020.033837778597},{"$f":"IF(B85<>0,0.1*D85/B85,\"\")","v":2.1474656514506223},{"$f":"IF(C85<>0,D85/C85,\"\")","v":39060.750155787558},{"$f":"IF(B85<>0,0.1*E85/B85,0)","v":1.1124289551294102},{"$f":"CDCM!B4429*CDCM!$B197*10","v":225008.02358660733},{"$f":"CDCM!C4429*CDCM!$C197*10","v":234287.49244659842},{"$f":"CDCM!D4429*CDCM!$D197*10","v":317872.75912228716},{"$f":"IF(E85<>0,$M85/E85,\"\")","v":0.28952291386519685},{"$f":"IF(E85<>0,$N85/E85,\"\")","v":0.30146301635861689},{"$f":"IF(E85<>0,$O85/E85,\"\")","v":0.40901406977618637},{"$f":"IF(D85<>0,$F85/D85,\"\")","v":6.3345813639817733E-3},{"$f":"IF(D85<>0,$G85/D85,\"\")","v":0.47202607709409611},{"$f":"IF(D85<>0,$H85/D85,\"\")","v":2.9400002682523083E-3},{"$f":"IF(D85<>0,$I85/D85,\"\")","v":6.7990083327914197E-4}]
["> NHH UMS category A"]
["NHH UMS category A",{"$f":"CDCM!B199+CDCM!C199+CDCM!D199","v":34134.893703773516},{"$f":"CDCM!E199","v":1567},{"$f":"0.01*CDCM!F$14*(CDCM!$E4431*CDCM!E199+CDCM!$F4431*CDCM!F199+CDCM!$G4431*CDCM!G199)+10*(CDCM!$B4431*CDCM!B199+CDCM!$C4431*CDCM!C199+CDCM!$D4431*CDCM!D199+CDCM!$H4431*CDCM!H199)","v":897747.70440924342},{"$f":"10*(CDCM!$B4431*CDCM!B199+CDCM!$C4431*CDCM!C199+CDCM!$D4431*CDCM!D199)","v":897747.70440924342},{"$f":"CDCM!E4431*CDCM!$F$14*CDCM!$E199/100","v":0},{"$f":"CDCM!F4431*CDCM!$F$14*CDCM!$F199/100","v":0},{"$f":"CDCM!G4431*CDCM!$F$14*CDCM!$G199/100","v":0},{"$f":"CDCM!H4431*CDCM!$H199*10","v":0},{"$f":"IF(B87<>0,0.1*D87/B87,\"\")","v":2.63},{"$f":"IF(C87<>0,D87/C87,\"\")","v":572.90855418586057},{"$f":"IF(B87<>0,0.1*E87/B87,0)","v":2.63},{"$f":"CDCM!B4431*CDCM!$B199*10","v":897747.70440924342},{"$f":"CDCM!C4431*CDCM!$C199*10","v":0},{"$f":"CDCM!D4431*CDCM!$D199*10","v":0},{"$f":"IF(E87<>0,$M87/E87,\"\")","v":1},{"$f":"IF(E87<>0,$N87/E87,\"\")","v":0},{"$f":"IF(E87<>0,$O87/E87,\"\")","v":0},{"$f":"IF(D87<>0,$F87/D87,\"\")","v":0},{"$f":"IF(D87<>0,$G87/D87,\"\")","v":0},{"$f":"IF(D87<>0,$H87/D87,\"\")","v":0},{"$f":"IF(D87<>0,$I87/D87,\"\")","v":0}]
["LDNO LV: NHH UMS category A",{"$f":"CDCM!B200+CDCM!C200+CDCM!D200","v":275.22148000439415},{"$f":"CDCM!E200","v":0},{"$f":"0.01*CDCM!F$14*(CDCM!$E4432*CDCM!E200+CDCM!$F4432*CDCM!F200+CDCM!$G4432*CDCM!G200)+10*(CDCM!$B4432*CDCM!B200+CDCM!$C4432*CDCM!C200+CDCM!$D4432*CDCM!D200+CDCM!$H4432*CDCM!H200)","v":5064.0752320808524},{"$f":"10*(CDCM!$B4432*CDCM!B200+CDCM!$C4432*CDCM!C200+CDCM!$D4432*CDCM!D200)","v":5064.0752320808524},{"$f":"CDCM!E4432*CDCM!$F$14*CDCM!$E200/100","v":0},{"$f":"CDCM!F4432*CDCM!$F$14*CDCM!$F200/100","v":0},{"$f":"CDCM!G4432*CDCM!$F$14*CDCM!$G200/100","v":0},{"$f":"CDCM!H4432*CDCM!$H200*10","v":0},{"$f":"IF(B88<>0,0.1*D88/B88,\"\")","v":1.84},{"$f":"IF(C88<>0,D88/C88,\"\")","v":""},{"$f":"IF(B88<>0,0.1*E88/B88,0)","v":1.84},{"$f":"CDCM!B4432*CDCM!$B200*10","v":5064.0752320808524},{"$f":"CDCM!C4432*CDCM!$C200*10","v":0},{"$f":"CDCM!D4432*CDCM!$D200*10","v":0},{"$f":"IF(E88<>0,$M88/E88,\"\")","v":1},{"$f":"IF(E88<>0,$N88/E88,\"\")","v":0},{"$f":"IF(E88<>0,$O88/E88,\"\")","v":0},{"$f":"IF(D88<>0,$F88/D88,\"\")","v":0},{"$f":"IF(D88<>0,$G88/D88,\"\")","v":0},{"$f":"IF(D88<>0,$H88/D88,\"\")","v":0},{"$f":"IF(D88<>0,$I88/D88,\"\")","v":0}]
["LDNO HV: NHH UMS category A",{"$f":"CDCM!B201+CDCM!C201+CDCM!D201","v":531.75775905666319},{"$f":"CDCM!E201","v":0},{"$f":"0.01*CDCM!F$14*(CDCM!$E4433*CDCM!E201+CDCM!$F4433*CDCM!F201+CDCM!$G4433*CDCM!G201)+10*(CDCM!$B4433*CDCM!B201+CDCM!$C4433*CDCM!C201+CDCM!$D4433*CDCM!D201+CDCM!$H4433*CDCM!H201)","v":7295.7164542574192},{"$f":"10*(CDCM!$B4433*CDCM!B201+CDCM!$C4433*CDCM!C201+CDCM!$D4433*CDCM!D201)","v":7295.7164542574192},{"$f":"CDCM!E4433*CDCM!$F$14*CDCM!$E201/100","v":0},{"$f":"CDCM!F4433*CDCM!$F$14*CDCM!$F201/100","v":0},{"$f":"CDCM!G4433*CDCM!$F$14*CDCM!$G201/100","v":0},{"$f":"CDCM!H4433*CDCM!$H201*10","v":0},{"$f":"IF(B89<>0,0.1*D89/B89,\"\")","v":1.3720000000000001},{"$f":"IF(C89<>0,D89/C89,\"\")","v":""},{"$f":"IF(B89<>0,0.1*E89/B89,0)","v":1.3720000000000001},{"$f":"CDCM!B4433*CDCM!$B201*10","v":7295.7164542574192},{"$f":"CDCM!C4433*CDCM!$C201*10","v":0},{"$f":"CDCM!D4433*CDCM!$D201*10","v":0},{"$f":"IF(E89<>0,$M89/E89,\"\")","v":1},{"$f":"IF(E89<>0,$N89/E89,\"\")","v":0},{"$f":"IF(E89<>0,$O89/E89,\"\")","v":0},{"$f":"IF(D89<>0,$F89/D89,\"\")","v":0},{"$f":"IF(D89<>0,$G89/D89,\"\")","v":0},{"$f":"IF(D89<>0,$H89/D89,\"\")","v":0},{"$f":"IF(D89<>0,$I89/D89,\"\")","v":0}]
["> NHH UMS category B"]
["NHH UMS category B",{"$f":"CDCM!B203+CDCM!C203+CDCM!D203","v":22466.149975166016},{"$f":"CDCM!E203","v":1279},{"$f":"0.01*CDCM!F$14*(CDCM!$E4435*CDCM!E203+CDCM!$F4435*CDCM!F203+CDCM!$G4435*CDCM!G203)+10*(CDCM!$B4435*CDCM!B203+CDCM!$C4435*CDCM!C203+CDCM!$D4435*CDCM!D203+CDCM!$H4435*CDCM!H203)","v":658258.19427236437},{"$f":"10*(CDCM!$B4435*CDCM!B203+CDCM!$C4435*CDCM!C203+CDCM!$D4435*CDCM!D203)","v":658258.19427236437},{"$f":"CDCM!E4435*CDCM!$F$14*CDCM!$E203/100","v":0},{"$f":"CDCM!F4435*CDCM!$F$14*CDCM!$F203/100","v":0},{"$f":"CDCM!G4435*CDCM!$F$14*CDCM!$G203/100","v":0},{"$f":"CDCM!H4435*CDCM!$H203*10","v":0},{"$f":"IF(B91<>0,0.1*D91/B91,\"\")","v":2.93},{"$f":"IF(C91<>0,D91/C91,\"\")","v":514.66629732006595},{"$f":"IF(B91<>0,0.1*E91/B91,0)","v":2.93},{"$f":"CDCM!B4435*CDCM!$B203*10","v":658258.19427236437},{"$f":"CDCM!C4435*CDCM!$C203*10","v":0},{"$f":"CDCM!D4435*CDCM!$D203*10","v":0},{"$f":"IF(E91<>0,$M91/E91,\"\")","v":1},{"$f":"IF(E91<>0,$N91/E91,\"\")","v":0},{"$f":"IF(E91<>0,$O91/E91,\"\")","v":0},{"$f":"IF(D91<>0,$F91/D91,\"\")","v":0},{"$f":"IF(D91<>0,$G91/D91,\"\")","v":0},{"$f":"IF(D91<>0,$H91/D91,\"\")","v":0},{"$f":"IF(D91<>0,$I91/D91,\"\")","v":0}]
["LDNO LV: NHH UMS category B",{"$f":"CDCM!B204+CDCM!C204+CDCM!D204","v":319.40114355377005},{"$f":"CDCM!E204","v":0},{"$f":"0.01*CDCM!F$14*(CDCM!$E4436*CDCM!E204+CDCM!$F4436*CDCM!F204+CDCM!$G4436*CDCM!G204)+10*(CDCM!$B4436*CDCM!B204+CDCM!$C4436*CDCM!C204+CDCM!$D4436*CDCM!D204+CDCM!$H4436*CDCM!H204)","v":6547.7234428522852},{"$f":"10*(CDCM!$B4436*CDCM!B204+CDCM!$C4436*CDCM!C204+CDCM!$D4436*CDCM!D204)","v":6547.7234428522852},{"$f":"CDCM!E4436*CDCM!$F$14*CDCM!$E204/100","v":0},{"$f":"CDCM!F4436*CDCM!$F$14*CDCM!$F204/100","v":0},{"$f":"CDCM!G4436*CDCM!$F$14*CDCM!$G204/100","v":0},{"$f":"CDCM!H4436*CDCM!$H204*10","v":0},{"$f":"IF(B92<>0,0.1*D92/B92,\"\")","v":2.0499999999999998},{"$f":"IF(C92<>0,D92/C92,\"\")","v":""},{"$f":"IF(B92<>0,0.1*E92/B92,0)","v":2.0499999999999998},{"$f":"CDCM!B4436*CDCM!$B204*10","v":6547.7234428522852},{"$f":"CDCM!C4436*CDCM!$C204*10","v":0},{"$f":"CDCM!D4436*CDCM!$D204*10","v":0},{"$f":"IF(E92<>0,$M92/E92,\"\")","v":1},{"$f":"IF(E92<>0,$N92/E92,\"\")","v":0},{"$f":"IF(E92<>0,$O92/E92,\"\")","v":0},{"$f":"IF(D92<>0,$F92/D92,\"\")","v":0},{"$f":"IF(D92<>0,$G92/D92,\"\")","v":0},{"$f":"IF(D92<>0,$H92/D92,\"\")","v":0},{"$f":"IF(D92<>0,$I92/D92,\"\")","v":0}]
["LDNO HV: NHH UMS category B",{"$f":"CDCM!B205+CDCM!C205+CDCM!D205","v":613.630442356039},{"$f":"CDCM!E205","v":0},{"$f":"0.01*CDCM!F$14*(CDCM!$E4437*CDCM!E205+CDCM!$F4437*CDCM!F205+CDCM!$G4437*CDCM!G205)+10*(CDCM!$B4437*CDCM!B205+CDCM!$C4437*CDCM!C205+CDCM!$D4437*CDCM!D205+CDCM!$H4437*CDCM!H205)","v":9382.4094636238369},{"$f":"10*(CDCM!$B4437*CDCM!B205+CDCM!$C4437*CDCM!C205+CDCM!$D4437*CDCM!D205)","v":9382.4094636238369},{"$f":"CDCM!E4437*CDCM!$F$14*CDCM!$E205/100","v":0},{"$f":"CDCM!F4437*CDCM!$F$14*CDCM!$F205/100","v":0},{"$f":"CDCM!G4437*CDCM!$F$14*CDCM!$G205/100","v":0},{"$f":"CDCM!H4437*CDCM!$H205*10","v":0},{"$f":"IF(B93<>0,0.1*D93/B93,\"\")","v":1.5290000000000001},{"$f":"IF(C93<>0,D93/C93,\"\")","v":""},{"$f":"IF(B93<>0,0.1*E93/B93,0)","v":1.5290000000000001},{"$f":"CDCM!B4437*CDCM!$B205*10","v":9382.4094636238369},{"$f":"CDCM!C4437*CDCM!$C205*10","v":0},{"$f":"CDCM!D4437*CDCM!$D205*10","v":0},{"$f":"IF(E93<>0,$M93/E93,\"\")","v":1},{"$f":"IF(E93<>0,$N93/E93,\"\")","v":0},{"$f":"IF(E93<>0,$O93/E93,\"\")","v":0},{"$f":"IF(D93<>0,$F93/D93,\"\")","v":0},{"$f":"IF(D93<>0,$G93/D93,\"\")","v":0},{"$f":"IF(D93<>0,$H93/D93,\"\")","v":0},{"$f":"IF(D93<>0,$I93/D93,\"\")","v":0}]
["> NHH UMS category C"]
["NHH UMS category C",{"$f":"CDCM!B207+CDCM!C207+CDCM!D207","v":339.10140823796002},{"$f":"CDCM!E207","v":194},{"$f":"0.01*CDCM!F$14*(CDCM!$E4439*CDCM!E207+CDCM!$F4439*CDCM!F207+CDCM!$G4439*CDCM!G207)+10*(CDCM!$B4439*CDCM!B207+CDCM!$C4439*CDCM!C207+CDCM!$D4439*CDCM!D207+CDCM!$H4439*CDCM!H207)","v":13652.222695660268},{"$f":"10*(CDCM!$B4439*CDCM!B207+CDCM!$C4439*CDCM!C207+CDCM!$D4439*CDCM!D207)","v":13652.222695660268},{"$f":"CDCM!E4439*CDCM!$F$14*CDCM!$E207/100","v":0},{"$f":"CDCM!F4439*CDCM!$F$14*CDCM!$F207/100","v":0},{"$f":"CDCM!G4439*CDCM!$F$14*CDCM!$G207/100","v":0},{"$f":"CDCM!H4439*CDCM!$H207*10","v":0},{"$f":"IF(B95<>0,0.1*D95/B95,\"\")","v":4.0259999999999998},{"$f":"IF(C95<>0,D95/C95,\"\")","v":70.372281936393136},{"$f":"IF(B95<>0,0.1*E95/B95,0)","v":4.0259999999999998},{"$f":"CDCM!B4439*CDCM!$B207*10","v":13652.222695660268},{"$f":"CDCM!C4439*CDCM!$C207*10","v":0},{"$f":"CDCM!D4439*CDCM!$D207*10","v":0},{"$f":"IF(E95<>0,$M95/E95,\"\")","v":1},{"$f":"IF(E95<>0,$N95/E95,\"\")","v":0},{"$f":"IF(E95<>0,$O95/E95,\"\")","v":0},{"$f":"IF(D95<>0,$F95/D95,\"\")","v":0},{"$f":"IF(D95<>0,$G95/D95,\"\")","v":0},{"$f":"IF(D95<>0,$H95/D95,\"\")","v":0},{"$f":"IF(D95<>0,$I95/D95,\"\")","v":0}]
["LDNO LV: NHH UMS category C",{"$f":"CDCM!B208+CDCM!C208+CDCM!D208","v":0},{"$f":"CDCM!E208","v":0},{"$f":"0.01*CDCM!F$14*(CDCM!$E4440*CDCM!E208+CDCM!$F4440*CDCM!F208+CDCM!$G4440*CDCM!G208)+10*(CDCM!$B4440*CDCM!B208+CDCM!$C4440*CDCM!C208+CDCM!$D4440*CDCM!D208+CDCM!$H4440*CDCM!H208)","v":0},{"$f":"10*(CDCM!$B4440*CDCM!B208+CDCM!$C4440*CDCM!C208+CDCM!$D4440*CDCM!D208)","v":0},{"$f":"CDCM!E4440*CDCM!$F$14*CDCM!$E208/100","v":0},{"$f":"CDCM!F4440*CDCM!$F$14*CDCM!$F208/100","v":0},{"$f":"CDCM!G4440*CDCM!$F$14*CDCM!$G208/100","v":0},{"$f":"CDCM!H4440*CDCM!$H208*10","v":0},{"$f":"IF(B96<>0,0.1*D96/B96,\"\")","v":""},{"$f":"IF(C96<>0,D96/C96,\"\")","v":""},{"$f":"IF(B96<>0,0.1*E96/B96,0)","v":0},{"$f":"CDCM!B4440*CDCM!$B208*10","v":0},{"$f":"CDCM!C4440*CDCM!$C208*10","v":0},{"$f":"CDCM!D4440*CDCM!$D208*10","v":0},{"$f":"IF(E96<>0,$M96/E96,\"\")","v":""},{"$f":"IF(E96<>0,$N96/E96,\"\")","v":""},{"$f":"IF(E96<>0,$O96/E96,\"\")","v":""},{"$f":"IF(D96<>0,$F96/D96,\"\")","v":""},{"$f":"IF(D96<>0,$G96/D96,\"\")","v":""},{"$f":"IF(D96<>0,$H96/D96,\"\")","v":""},{"$f":"IF(D96<>0,$I96/D96,\"\")","v":""}]
["LDNO HV: NHH UMS category C",{"$f":"CDCM!B209+CDCM!C209+CDCM!D209","v":0},{"$f":"CDCM!E209","v":0},{"$f":"0.01*CDCM!F$14*(CDCM!$E4441*CDCM!E209+CDCM!$F4441*CDCM!F209+CDCM!$G4441*CDCM!G209)+10*(CDCM!$B4441*CDCM!B209+CDCM!$C4441*CDCM!C209+CDCM!$D4441*CDCM!D209+CDCM!$H4441*CDCM!H209)","v":0},{"$f":"10*(CDCM!$B4441*CDCM!B209+CDCM!$C4441*CDCM!C209+CDCM!$D4441*CDCM!D209)","v":0},{"$f":"CDCM!E4441*CDCM!$F$14*CDCM!$E209/100","v":0},{"$f":"CDCM!F4441*CDCM!$F$14*CDCM!$F209/100","v":0},{"$f":"CDCM!G4441*CDCM!$F$14*CDCM!$G209/100","v":0},{"$f":"CDCM!H4441*CDCM!$H209*10","v":0},{"$f":"IF(B97<>0,0.1*D97/B97,\"\")","v":""},{"$f":"IF(C97<>0,D97/C97,\"\")","v":""},{"$f":"IF(B97<>0,0.1*E97/B97,0)","v":0},{"$f":"CDCM!B4441*CDCM!$B209*10","v":0},{"$f":"CDCM!C4441*CDCM!$C209*10","v":0},{"$f":"CDCM!D4441*CDCM!$D209*10","v":0},{"$f":"IF(E97<>0,$M97/E97,\"\")","v":""},{"$f":"IF(E97<>0,$N97/E97,\"\")","v":""},{"$f":"IF(E97<>0,$O97/E97,\"\")","v":""},{"$f":"IF(D97<>0,$F97/D97,\"\")","v":""},{"$f":"IF(D97<>0,$G97/D97,\"\")","v":""},{"$f":"IF(D97<>0,$H97/D97,\"\")","v":""},{"$f":"IF(D97<>0,$I97/D97,\"\")","v":""}]
["> NHH UMS category D"]
["NHH UMS category D",{"$f":"CDCM!B211+CDCM!C211+CDCM!D211","v":7208.5560845431746},{"$f":"CDCM!E211","v":247},{"$f":"0.01*CDCM!F$14*(CDCM!$E4443*CDCM!E211+CDCM!$F4443*CDCM!F211+CDCM!$G4443*CDCM!G211)+10*(CDCM!$B4443*CDCM!B211+CDCM!$C4443*CDCM!C211+CDCM!$D4443*CDCM!D211+CDCM!$H4443*CDCM!H211)","v":168103.52789154684},{"$f":"10*(CDCM!$B4443*CDCM!B211+CDCM!$C4443*CDCM!C211+CDCM!$D4443*CDCM!D211)","v":168103.52789154684},{"$f":"CDCM!E4443*CDCM!$F$14*CDCM!$E211/100","v":0},{"$f":"CDCM!F4443*CDCM!$F$14*CDCM!$F211/100","v":0},{"$f":"CDCM!G4443*CDCM!$F$14*CDCM!$G211/100","v":0},{"$f":"CDCM!H4443*CDCM!$H211*10","v":0},{"$f":"IF(B99<>0,0.1*D99/B99,\"\")","v":2.3319999999999999},{"$f":"IF(C99<>0,D99/C99,\"\")","v":680.58108458116124},{"$f":"IF(B99<>0,0.1*E99/B99,0)","v":2.3319999999999999},{"$f":"CDCM!B4443*CDCM!$B211*10","v":168103.52789154684},{"$f":"CDCM!C4443*CDCM!$C211*10","v":0},{"$f":"CDCM!D4443*CDCM!$D211*10","v":0},{"$f":"IF(E99<>0,$M99/E99,\"\")","v":1},{"$f":"IF(E99<>0,$N99/E99,\"\")","v":0},{"$f":"IF(E99<>0,$O99/E99,\"\")","v":0},{"$f":"IF(D99<>0,$F99/D99,\"\")","v":0},{"$f":"IF(D99<>0,$G99/D99,\"\")","v":0},{"$f":"IF(D99<>0,$H99/D99,\"\")","v":0},{"$f":"IF(D99<>0,$I99/D99,\"\")","v":0}]
["LDNO LV: NHH UMS category D",{"$f":"CDCM!B212+CDCM!C212+CDCM!D212","v":0},{"$f":"CDCM!E212","v":0},{"$f":"0.01*CDCM!F$14*(CDCM!$E4444*CDCM!E212+CDCM!$F4444*CDCM!F212+CDCM!$G4444*CDCM!G212)+10*(CDCM!$B4444*CDCM!B212+CDCM!$C4444*CDCM!C212+CDCM!$D4444*CDCM!D212+CDCM!$H4444*CDCM!H212)","v":0},{"$f":"10*(CDCM!$B4444*CDCM!B212+CDCM!$C4444*CDCM!C212+CDCM!$D4444*CDCM!D212)","v":0},{"$f":"CDCM!E4444*CDCM!$F$14*CDCM!$E212/100","v":0},{"$f":"CDCM!F4444*CDCM!$F$14*CDCM!$F212/100","v":0},{"$f":"CDCM!G4444*CDCM!$F$14*CDCM!$G212/100","v":0},{"$f":"CDCM!H4444*CDCM!$H212*10","v":0},{"$f":"IF(B100<>0,0.1*D100/B100,\"\")","v":""},{"$f":"IF(C100<>0,D100/C100,\"\")","v":""},{"$f":"IF(B100<>0,0.1*E100/B100,0)","v":0},{"$f":"CDCM!B4444*CDCM!$B212*10","v":0},{"$f":"CDCM!C4444*CDCM!$C212*10","v":0},{"$f":"CDCM!D4444*CDCM!$D212*10","v":0},{"$f":"IF(E100<>0,$M100/E100,\"\")","v":""},{"$f":"IF(E100<>0,$N100/E100,\"\")","v":""},{"$f":"IF(E100<>0,$O100/E100,\"\")","v":""},{"$f":"IF(D100<>0,$F100/D100,\"\")","v":""},{"$f":"IF(D100<>0,$G100/D100,\"\")","v":""},{"$f":"IF(D100<>0,$H100/D100,\"\")","v":""},{"$f":"IF(D100<>0,$I100/D100,\"\")","v":""}]
["LDNO HV: NHH UMS category D",{"$f":"CDCM!B213+CDCM!C213+CDCM!D213","v":0},{"$f":"CDCM!E213","v":0},{"$f":"0.01*CDCM!F$14*(CDCM!$E4445*CDCM!E213+CDCM!$F4445*CDCM!F213+CDCM!$G4445*CDCM!G213)+10*(CDCM!$B4445*CDCM!B213+CDCM!$C4445*CDCM!C213+CDCM!$D4445*CDCM!D213+CDCM!$H4445*CDCM!H213)","v":0},{"$f":"10*(CDCM!$B4445*CDCM!B213+CDCM!$C4445*CDCM!C213+CDCM!$D4445*CDCM!D213)","v":0},{"$f":"CDCM!E4445*CDCM!$F$14*CDCM!$E213/100","v":0},{"$f":"CDCM!F4445*CDCM!$F$14*CDCM!$F213/100","v":0},{"$f":"CDCM!G4445*CDCM!$F$14*CDCM!$G213/100","v":0},{"$f":"CDCM!H4445*CDCM!$H213*10","v":0},{"$f":"IF(B101<>0,0.1*D101/B101,\"\")","v":""},{"$f":"IF(C101<>0,D101/C101,\"\")","v":""},{"$f":"IF(B101<>0,0.1*E101/B101,0)","v":0},{"$f":"CDCM!B4445*CDCM!$B213*10","v":0},{"$f":"CDCM!C4445*CDCM!$C213*10","v":0},{"$f":"CDCM!D4445*CDCM!$D213*10","v":0},{"$f":"IF(E101<>0,$M101/E101,\"\")","v":""},{"$f":"IF(E101<>0,$N101/E101,\"\")","v":""},{"$f":"IF(E101<>0,$O101/E101,\"\")","v":""},{"$f":"IF(D101<>0,$F101/D101,\"\")","v":""},{"$f":"IF(D101<>0,$G101/D101,\"\")","v":""},{"$f":"IF(D101<>0,$H101/D101,\"\")","v":""},{"$f":"IF(D101<>0,$I101/D101,\"\")","v":""}]
["> LV UMS (Pseudo HH Metered)"]
["LV UMS (Pseudo HH Metered)",{"$f":"CDCM!B215+CDCM!C215+CDCM!D215","v":231659.30567358769},{"$f":"CDCM!E215","v":26.819672131147541},{"$f":"0.01*CDCM!F$14*(CDCM!$E4447*CDCM!E215+CDCM!$F4447*CDCM!F215+CDCM!$G4447*CDCM!G215)+10*(CDCM!$B4447*CDCM!B215+CDCM!$C4447*CDCM!C215+CDCM!$D4447*CDCM!D215+CDCM!$H4447*CDCM!H215)","v":6966359.8424163973},{"$f":"10*(CDCM!$B4447*CDCM!B215+CDCM!$C4447*CDCM!C215+CDCM!$D4447*CDCM!D215)","v":6966359.8424163973},{"$f":"CDCM!E4447*CDCM!$F$14*CDCM!$E215/100","v":0},{"$f":"CDCM!F4447*CDCM!$F$14*CDCM!$F215/100","v":0},{"$f":"CDCM!G4447*CDCM!$F$14*CDCM!$G215/100","v":0},{"$f":"CDCM!H4447*CDCM!$H215*10","v":0},{"$f":"IF(B103<>0,0.1*D103/B103,\"\")","v":3.0071573521126447},{"$f":"IF(C103<>0,D103/C103,\"\")","v":259748.13593361873},{"$f":"IF(B103<>0,0.1*E103/B103,0)","v":3.0071573521126447},{"$f":"CDCM!B4447*CDCM!$B215*10","v":2979452.9573847163},{"$f":"CDCM!C4447*CDCM!$C215*10","v":803527.18411589251},{"$f":"CDCM!D4447*CDCM!$D215*10","v":3183379.7009157897},{"$f":"IF(E103<>0,$M103/E103,\"\")","v":0.42769150959495134},{"$f":"IF(E103<>0,$N103/E103,\"\")","v":0.11534391020449725},{"$f":"IF(E103<>0,$O103/E103,\"\")","v":0.45696458020055158},{"$f":"IF(D103<>0,$F103/D103,\"\")","v":0},{"$f":"IF(D103<>0,$G103/D103,\"\")","v":0},{"$f":"IF(D103<>0,$H103/D103,\"\")","v":0},{"$f":"IF(D103<>0,$I103/D103,\"\")","v":0}]
["LDNO LV: LV UMS (Pseudo HH Metered)",{"$f":"CDCM!B216+CDCM!C216+CDCM!D216","v":0},{"$f":"CDCM!E216","v":0},{"$f":"0.01*CDCM!F$14*(CDCM!$E4448*CDCM!E216+CDCM!$F4448*CDCM!F216+CDCM!$G4448*CDCM!G216)+10*(CDCM!$B4448*CDCM!B216+CDCM!$C4448*CDCM!C216+CDCM!$D4448*CDCM!D216+CDCM!$H4448*CDCM!H216)","v":0},{"$f":"10*(CDCM!$B4448*CDCM!B216+CDCM!$C4448*CDCM!C216+CDCM!$D4448*CDCM!D216)","v":0},{"$f":"CDCM!E4448*CDCM!$F$14*CDCM!$E216/100","v":0},{"$f":"CDCM!F4448*CDCM!$F$14*CDCM!$F216/100","v":0},{"$f":"CDCM!G4448*CDCM!$F$14*CDCM!$G216/100","v":0},{"$f":"CDCM!H4448*CDCM!$H216*10","v":0},{"$f":"IF(B104<>0,0.1*D104/B104,\"\")","v":""},{"$f":"IF(C104<>0,D104/C104,\"\")","v":""},{"$f":"IF(B104<>0,0.1*E104/B104,0)","v":0},{"$f":"CDCM!B4448*CDCM!$B216*10","v":0},{"$f":"CDCM!C4448*CDCM!$C216*10","v":0},{"$f":"CDCM!D4448*CDCM!$D216*10","v":0},{"$f":"IF(E104<>0,$M104/E104,\"\")","v":""},{"$f":"IF(E104<>0,$N104/E104,\"\")","v":""},{"$f":"IF(E104<>0,$O104/E104,\"\")","v":""},{"$f":"IF(D104<>0,$F104/D104,\"\")","v":""},{"$f":"IF(D104<>0,$G104/D104,\"\")","v":""},{"$f":"IF(D104<>0,$H104/D104,\"\")","v":""},{"$f":"IF(D104<>0,$I104/D104,\"\")","v":""}]
["LDNO HV: LV UMS (Pseudo HH Metered)",{"$f":"CDCM!B217+CDCM!C217+CDCM!D217","v":0},{"$f":"CDCM!E217","v":0},{"$f":"0.01*CDCM!F$14*(CDCM!$E4449*CDCM!E217+CDCM!$F4449*CDCM!F217+CDCM!$G4449*CDCM!G217)+10*(CDCM!$B4449*CDCM!B217+CDCM!$C4449*CDCM!C217+CDCM!$D4449*CDCM!D217+CDCM!$H4449*CDCM!H217)","v":0},{"$f":"10*(CDCM!$B4449*CDCM!B217+CDCM!$C4449*CDCM!C217+CDCM!$D4449*CDCM!D217)","v":0},{"$f":"CDCM!E4449*CDCM!$F$14*CDCM!$E217/100","v":0},{"$f":"CDCM!F4449*CDCM!$F$14*CDCM!$F217/100","v":0},{"$f":"CDCM!G4449*CDCM!$F$14*CDCM!$G217/100","v":0},{"$f":"CDCM!H4449*CDCM!$H217*10","v":0},{"$f":"IF(B105<>0,0.1*D105/B105,\"\")","v":""},{"$f":"IF(C105<>0,D105/C105,\"\")","v":""},{"$f":"IF(B105<>0,0.1*E105/B105,0)","v":0},{"$f":"CDCM!B4449*CDCM!$B217*10","v":0},{"$f":"CDCM!C4449*CDCM!$C217*10","v":0},{"$f":"CDCM!D4449*CDCM!$D217*10","v":0},{"$f":"IF(E105<>0,$M105/E105,\"\")","v":""},{"$f":"IF(E105<>0,$N105/E105,\"\")","v":""},{"$f":"IF(E105<>0,$O105/E105,\"\")","v":""},{"$f":"IF(D105<>0,$F105/D105,\"\")","v":""},{"$f":"IF(D105<>0,$G105/D105,\"\")","v":""},{"$f":"IF(D105<>0,$H105/D105,\"\")","v":""},{"$f":"IF(D105<>0,$I105/D105,\"\")","v":""}]
["> LV Generation NHH or Aggregate HH"]
["LV Generation NHH or Aggregate HH",{"$f":"CDCM!B219+CDCM!C219+CDCM!D219","v":10233.9538335},{"$f":"CDCM!E219","v":136},{"$f":"0.01*CDCM!F$14*(CDCM!$E4451*CDCM!E219+CDCM!$F4451*CDCM!F219+CDCM!$G4451*CDCM!G219)+10*(CDCM!$B4451*CDCM!B219+CDCM!$C4451*CDCM!C219+CDCM!$D4451*CDCM!D219+CDCM!$H4451*CDCM!H219)","v":-72968.090832854999},{"$f":"10*(CDCM!$B4451*CDCM!B219+CDCM!$C4451*CDCM!C219+CDCM!$D4451*CDCM!D219)","v":-72968.090832854999},{"$f":"CDCM!E4451*CDCM!$F$14*CDCM!$E219/100","v":0},{"$f":"CDCM!F4451*CDCM!$F$14*CDCM!$F219/100","v":0},{"$f":"CDCM!G4451*CDCM!$F$14*CDCM!$G219/100","v":0},{"$f":"CDCM!H4451*CDCM!$H219*10","v":0},{"$f":"IF(B107<>0,0.1*D107/B107,\"\")","v":-0.71300000000000008},{"$f":"IF(C107<>0,D107/C107,\"\")","v":-536.53007965334564},{"$f":"IF(B107<>0,0.1*E107/B107,0)","v":-0.71300000000000008},{"$f":"CDCM!B4451*CDCM!$B219*10","v":-72968.090832854999},{"$f":"CDCM!C4451*CDCM!$C219*10","v":0},{"$f":"CDCM!D4451*CDCM!$D219*10","v":0},{"$f":"IF(E107<>0,$M107/E107,\"\")","v":1},{"$f":"IF(E107<>0,$N107/E107,\"\")","v":0},{"$f":"IF(E107<>0,$O107/E107,\"\")","v":0},{"$f":"IF(D107<>0,$F107/D107,\"\")","v":0},{"$f":"IF(D107<>0,$G107/D107,\"\")","v":0},{"$f":"IF(D107<>0,$H107/D107,\"\")","v":0},{"$f":"IF(D107<>0,$I107/D107,\"\")","v":0}]
["LDNO LV: LV Generation NHH or Aggregate HH",{"$f":"CDCM!B220+CDCM!C220+CDCM!D220","v":27.785378357142857},{"$f":"CDCM!E220","v":0},{"$f":"0.01*CDCM!F$14*(CDCM!$E4452*CDCM!E220+CDCM!$F4452*CDCM!F220+CDCM!$G4452*CDCM!G220)+10*(CDCM!$B4452*CDCM!B220+CDCM!$C4452*CDCM!C220+CDCM!$D4452*CDCM!D220+CDCM!$H4452*CDCM!H220)","v":-198.10974768642859},{"$f":"10*(CDCM!$B4452*CDCM!B220+CDCM!$C4452*CDCM!C220+CDCM!$D4452*CDCM!D220)","v":-198.10974768642859},{"$f":"CDCM!E4452*CDCM!$F$14*CDCM!$E220/100","v":0},{"$f":"CDCM!F4452*CDCM!$F$14*CDCM!$F220/100","v":0},{"$f":"CDCM!G4452*CDCM!$F$14*CDCM!$G220/100","v":0},{"$f":"CDCM!H4452*CDCM!$H220*10","v":0},{"$f":"IF(B108<>0,0.1*D108/B108,\"\")","v":-0.71300000000000019},{"$f":"IF(C108<>0,D108/C108,\"\")","v":""},{"$f":"IF(B108<>0,0.1*E108/B108,0)","v":-0.71300000000000019},{"$f":"CDCM!B4452*CDCM!$B220*10","v":-198.10974768642859},{"$f":"CDCM!C4452*CDCM!$C220*10","v":0},{"$f":"CDCM!D4452*CDCM!$D220*10","v":0},{"$f":"IF(E108<>0,$M108/E108,\"\")","v":1},{"$f":"IF(E108<>0,$N108/E108,\"\")","v":0},{"$f":"IF(E108<>0,$O108/E108,\"\")","v":0},{"$f":"IF(D108<>0,$F108/D108,\"\")","v":0},{"$f":"IF(D108<>0,$G108/D108,\"\")","v":0},{"$f":"IF(D108<>0,$H108/D108,\"\")","v":0},{"$f":"IF(D108<>0,$I108/D108,\"\")","v":0}]
["LDNO HV: LV Generation NHH or Aggregate HH",{"$f":"CDCM!B221+CDCM!C221+CDCM!D221","v":0},{"$f":"CDCM!E221","v":0},{"$f":"0.01*CDCM!F$14*(CDCM!$E4453*CDCM!E221+CDCM!$F4453*CDCM!F221+CDCM!$G4453*CDCM!G221)+10*(CDCM!$B4453*CDCM!B221+CDCM!$C4453*CDCM!C221+CDCM!$D4453*CDCM!D221+CDCM!$H4453*CDCM!H221)","v":0},{"$f":"10*(CDCM!$B4453*CDCM!B221+CDCM!$C4453*CDCM!C221+CDCM!$D4453*CDCM!D221)","v":0},{"$f":"CDCM!E4453*CDCM!$F$14*CDCM!$E221/100","v":0},{"$f":"CDCM!F4453*CDCM!$F$14*CDCM!$F221/100","v":0},{"$f":"CDCM!G4453*CDCM!$F$14*CDCM!$G221/100","v":0},{"$f":"CDCM!H4453*CDCM!$H221*10","v":0},{"$f":"IF(B109<>0,0.1*D109/B109,\"\")","v":""},{"$f":"IF(C109<>0,D109/C109,\"\")","v":""},{"$f":"IF(B109<>0,0.1*E109/B109,0)","v":0},{"$f":"CDCM!B4453*CDCM!$B221*10","v":0},{"$f":"CDCM!C4453*CDCM!$C221*10","v":0},{"$f":"CDCM!D4453*CDCM!$D221*10","v":0},{"$f":"IF(E109<>0,$M109/E109,\"\")","v":""},{"$f":"IF(E109<>0,$N109/E109,\"\")","v":""},{"$f":"IF(E109<>0,$O109/E109,\"\")","v":""},{"$f":"IF(D109<>0,$F109/D109,\"\")","v":""},{"$f":"IF(D109<>0,$G109/D109,\"\")","v":""},{"$f":"IF(D109<>0,$H109/D109,\"\")","v":""},{"$f":"IF(D109<>0,$I109/D109,\"\")","v":""}]
["> LV Sub Generation NHH"]
["LV Sub Generation NHH",{"$f":"CDCM!B223+CDCM!C223+CDCM!D223","v":0},{"$f":"CDCM!E223","v":0},{"$f":"0.01*CDCM!F$14*(CDCM!$E4455*CDCM!E223+CDCM!$F4455*CDCM!F223+CDCM!$G4455*CDCM!G223)+10*(CDCM!$B4455*CDCM!B223+CDCM!$C4455*CDCM!C223+CDCM!$D4455*CDCM!D223+CDCM!$H4455*CDCM!H223)","v":0},{"$f":"10*(CDCM!$B4455*CDCM!B223+CDCM!$C4455*CDCM!C223+CDCM!$D4455*CDCM!D223)","v":0},{"$f":"CDCM!E4455*CDCM!$F$14*CDCM!$E223/100","v":0},{"$f":"CDCM!F4455*CDCM!$F$14*CDCM!$F223/100","v":0},{"$f":"CDCM!G4455*CDCM!$F$14*CDCM!$G223/100","v":0},{"$f":"CDCM!H4455*CDCM!$H223*10","v":0},{"$f":"IF(B111<>0,0.1*D111/B111,\"\")","v":""},{"$f":"IF(C111<>0,D111/C111,\"\")","v":""},{"$f":"IF(B111<>0,0.1*E111/B111,0)","v":0},{"$f":"CDCM!B4455*CDCM!$B223*10","v":0},{"$f":"CDCM!C4455*CDCM!$C223*10","v":0},{"$f":"CDCM!D4455*CDCM!$D223*10","v":0},{"$f":"IF(E111<>0,$M111/E111,\"\")","v":""},{"$f":"IF(E111<>0,$N111/E111,\"\")","v":""},{"$f":"IF(E111<>0,$O111/E111,\"\")","v":""},{"$f":"IF(D111<>0,$F111/D111,\"\")","v":""},{"$f":"IF(D111<>0,$G111/D111,\"\")","v":""},{"$f":"IF(D111<>0,$H111/D111,\"\")","v":""},{"$f":"IF(D111<>0,$I111/D111,\"\")","v":""}]
["LDNO HV: LV Sub Generation NHH",{"$f":"CDCM!B224+CDCM!C224+CDCM!D224","v":0},{"$f":"CDCM!E224","v":0},{"$f":"0.01*CDCM!F$14*(CDCM!$E4456*CDCM!E224+CDCM!$F4456*CDCM!F224+CDCM!$G4456*CDCM!G224)+10*(CDCM!$B4456*CDCM!B224+CDCM!$C4456*CDCM!C224+CDCM!$D4456*CDCM!D224+CDCM!$H4456*CDCM!H224)","v":0},{"$f":"10*(CDCM!$B4456*CDCM!B224+CDCM!$C4456*CDCM!C224+CDCM!$D4456*CDCM!D224)","v":0},{"$f":"CDCM!E4456*CDCM!$F$14*CDCM!$E224/100","v":0},{"$f":"CDCM!F4456*CDCM!$F$14*CDCM!$F224/100","v":0},{"$f":"CDCM!G4456*CDCM!$F$14*CDCM!$G224/100","v":0},{"$f":"CDCM!H4456*CDCM!$H224*10","v":0},{"$f":"IF(B112<>0,0.1*D112/B112,\"\")","v":""},{"$f":"IF(C112<>0,D112/C112,\"\")","v":""},{"$f":"IF(B112<>0,0.1*E112/B112,0)","v":0},{"$f":"CDCM!B4456*CDCM!$B224*10","v":0},{"$f":"CDCM!C4456*CDCM!$C224*10","v":0},{"$f":"CDCM!D4456*CDCM!$D224*10","v":0},{"$f":"IF(E112<>0,$M112/E112,\"\")","v":""},{"$f":"IF(E112<>0,$N112/E112,\"\")","v":""},{"$f":"IF(E112<>0,$O112/E112,\"\")","v":""},{"$f":"IF(D112<>0,$F112/D112,\"\")","v":""},{"$f":"IF(D112<>0,$G112/D112,\"\")","v":""},{"$f":"IF(D112<>0,$H112/D112,\"\")","v":""},{"$f":"IF(D112<>0,$I112/D112,\"\")","v":""}]
["> LV Generation Intermittent"]
["LV Generation Intermittent",{"$f":"CDCM!B226+CDCM!C226+CDCM!D226","v":39541.455472928566},{"$f":"CDCM!E226","v":697.57416393442611},{"$f":"0.01*CDCM!F$14*(CDCM!$E4458*CDCM!E226+CDCM!$F4458*CDCM!F226+CDCM!$G4458*CDCM!G226)+10*(CDCM!$B4458*CDCM!B226+CDCM!$C4458*CDCM!C226+CDCM!$D4458*CDCM!D226+CDCM!$H4458*CDCM!H226)","v":-275221.76222453994},{"$f":"10*(CDCM!$B4458*CDCM!B226+CDCM!$C4458*CDCM!C226+CDCM!$D4458*CDCM!D226)","v":-281930.57752198068},{"$f":"CDCM!E4458*CDCM!$F$14*CDCM!$E226/100","v":0},{"$f":"CDCM!F4458*CDCM!$F$14*CDCM!$F226/100","v":0},{"$f":"CDCM!G4458*CDCM!$F$14*CDCM!$G226/100","v":0},{"$f":"CDCM!H4458*CDCM!$H226*10","v":6708.8152974407149},{"$f":"IF(B114<>0,0.1*D114/B114,\"\")","v":-0.69603346395017296},{"$f":"IF(C114<>0,D114/C114,\"\")","v":-394.54122078181143},{"$f":"IF(B114<>0,0.1*E114/B114,0)","v":-0.71300000000000008},{"$f":"CDCM!B4458*CDCM!$B226*10","v":-281930.57752198068},{"$f":"CDCM!C4458*CDCM!$C226*10","v":0},{"$f":"CDCM!D4458*CDCM!$D226*10","v":0},{"$f":"IF(E114<>0,$M114/E114,\"\")","v":1},{"$f":"IF(E114<>0,$N114/E114,\"\")","v":0},{"$f":"IF(E114<>0,$O114/E114,\"\")","v":0},{"$f":"IF(D114<>0,$F114/D114,\"\")","v":0},{"$f":"IF(D114<>0,$G114/D114,\"\")","v":0},{"$f":"IF(D114<>0,$H114/D114,\"\")","v":0},{"$f":"IF(D114<>0,$I114/D114,\"\")","v":-2.4376034958919133E-2}]
["LDNO LV: LV Generation Intermittent",{"$f":"CDCM!B227+CDCM!C227+CDCM!D227","v":0},{"$f":"CDCM!E227","v":0},{"$f":"0.01*CDCM!F$14*(CDCM!$E4459*CDCM!E227+CDCM!$F4459*CDCM!F227+CDCM!$G4459*CDCM!G227)+10*(CDCM!$B4459*CDCM!B227+CDCM!$C4459*CDCM!C227+CDCM!$D4459*CDCM!D227+CDCM!$H4459*CDCM!H227)","v":0},{"$f":"10*(CDCM!$B4459*CDCM!B227+CDCM!$C4459*CDCM!C227+CDCM!$D4459*CDCM!D227)","v":0},{"$f":"CDCM!E4459*CDCM!$F$14*CDCM!$E227/100","v":0},{"$f":"CDCM!F4459*CDCM!$F$14*CDCM!$F227/100","v":0},{"$f":"CDCM!G4459*CDCM!$F$14*CDCM!$G227/100","v":0},{"$f":"CDCM!H4459*CDCM!$H227*10","v":0},{"$f":"IF(B115<>0,0.1*D115/B115,\"\")","v":""},{"$f":"IF(C115<>0,D115/C115,\"\")","v":""},{"$f":"IF(B115<>0,0.1*E115/B115,0)","v":0},{"$f":"CDCM!B4459*CDCM!$B227*10","v":0},{"$f":"CDCM!C4459*CDCM!$C227*10","v":0},{"$f":"CDCM!D4459*CDCM!$D227*10","v":0},{"$f":"IF(E115<>0,$M115/E115,\"\")","v":""},{"$f":"IF(E115<>0,$N115/E115,\"\")","v":""},{"$f":"IF(E115<>0,$O115/E115,\"\")","v":""},{"$f":"IF(D115<>0,$F115/D115,\"\")","v":""},{"$f":"IF(D115<>0,$G115/D115,\"\")","v":""},{"$f":"IF(D115<>0,$H115/D115,\"\")","v":""},{"$f":"IF(D115<>0,$I115/D115,\"\")","v":""}]
["LDNO HV: LV Generation Intermittent",{"$f":"CDCM!B228+CDCM!C228+CDCM!D228","v":72.668966078571486},{"$f":"CDCM!E228","v":4.4201475409836073},{"$f":"0.01*CDCM!F$14*(CDCM!$E4460*CDCM!E228+CDCM!$F4460*CDCM!F228+CDCM!$G4460*CDCM!G228)+10*(CDCM!$B4460*CDCM!B228+CDCM!$C4460*CDCM!C228+CDCM!$D4460*CDCM!D228+CDCM!$H4460*CDCM!H228)","v":-453.58199069592899},{"$f":"10*(CDCM!$B4460*CDCM!B228+CDCM!$C4460*CDCM!C228+CDCM!$D4460*CDCM!D228)","v":-518.12972814021475},{"$f":"CDCM!E4460*CDCM!$F$14*CDCM!$E228/100","v":0},{"$f":"CDCM!F4460*CDCM!$F$14*CDCM!$F228/100","v":0},{"$f":"CDCM!G4460*CDCM!$F$14*CDCM!$G228/100","v":0},{"$f":"CDCM!H4460*CDCM!$H228*10","v":64.547737444285701},{"$f":"IF(B116<>0,0.1*D116/B116,\"\")","v":-0.62417564907350531},{"$f":"IF(C116<>0,D116/C116,\"\")","v":-102.61693450056063},{"$f":"IF(B116<>0,0.1*E116/B116,0)","v":-0.71300000000000008},{"$f":"CDCM!B4460*CDCM!$B228*10","v":-518.12972814021475},{"$f":"CDCM!C4460*CDCM!$C228*10","v":0},{"$f":"CDCM!D4460*CDCM!$D228*10","v":0},{"$f":"IF(E116<>0,$M116/E116,\"\")","v":1},{"$f":"IF(E116<>0,$N116/E116,\"\")","v":0},{"$f":"IF(E116<>0,$O116/E116,\"\")","v":0},{"$f":"IF(D116<>0,$F116/D116,\"\")","v":0},{"$f":"IF(D116<>0,$G116/D116,\"\")","v":0},{"$f":"IF(D116<>0,$H116/D116,\"\")","v":0},{"$f":"IF(D116<>0,$I116/D116,\"\")","v":-0.14230665848361918}]
["> LV Generation Intermittent no RP charge"]
["LV Generation Intermittent no RP charge",{"$f":"CDCM!B230+CDCM!C230+CDCM!D230","v":0},{"$f":"CDCM!E230","v":0},{"$f":"0.01*CDCM!F$14*(CDCM!$E4462*CDCM!E230+CDCM!$F4462*CDCM!F230+CDCM!$G4462*CDCM!G230)+10*(CDCM!$B4462*CDCM!B230+CDCM!$C4462*CDCM!C230+CDCM!$D4462*CDCM!D230+CDCM!$H4462*CDCM!H230)","v":0},{"$f":"10*(CDCM!$B4462*CDCM!B230+CDCM!$C4462*CDCM!C230+CDCM!$D4462*CDCM!D230)","v":0},{"$f":"CDCM!E4462*CDCM!$F$14*CDCM!$E230/100","v":0},{"$f":"CDCM!F4462*CDCM!$F$14*CDCM!$F230/100","v":0},{"$f":"CDCM!G4462*CDCM!$F$14*CDCM!$G230/100","v":0},{"$f":"CDCM!H4462*CDCM!$H230*10","v":0},{"$f":"IF(B118<>0,0.1*D118/B118,\"\")","v":""},{"$f":"IF(C118<>0,D118/C118,\"\")","v":""},{"$f":"IF(B118<>0,0.1*E118/B118,0)","v":0},{"$f":"CDCM!B4462*CDCM!$B230*10","v":0},{"$f":"CDCM!C4462*CDCM!$C230*10","v":0},{"$f":"CDCM!D4462*CDCM!$D230*10","v":0},{"$f":"IF(E118<>0,$M118/E118,\"\")","v":""},{"$f":"IF(E118<>0,$N118/E118,\"\")","v":""},{"$f":"IF(E118<>0,$O118/E118,\"\")","v":""},{"$f":"IF(D118<>0,$F118/D118,\"\")","v":""},{"$f":"IF(D118<>0,$G118/D118,\"\")","v":""},{"$f":"IF(D118<>0,$H118/D118,\"\")","v":""},{"$f":"IF(D118<>0,$I118/D118,\"\")","v":""}]
["> LV Generation Non-Intermittent"]
["LV Generation Non-Intermittent",{"$f":"CDCM!B232+CDCM!C232+CDCM!D232","v":17375.889514769377},{"$f":"CDCM!E232","v":105.72703893442623},{"$f":"0.01*CDCM!F$14*(CDCM!$E4464*CDCM!E232+CDCM!$F4464*CDCM!F232+CDCM!$G4464*CDCM!G232)+10*(CDCM!$B4464*CDCM!B232+CDCM!$C4464*CDCM!C232+CDCM!$D4464*CDCM!D232+CDCM!$H4464*CDCM!H232)","v":-129572.86522444441},{"$f":"10*(CDCM!$B4464*CDCM!B232+CDCM!$C4464*CDCM!C232+CDCM!$D4464*CDCM!D232)","v":-130634.39564792285},{"$f":"CDCM!E4464*CDCM!$F$14*CDCM!$E232/100","v":0},{"$f":"CDCM!F4464*CDCM!$F$14*CDCM!$F232/100","v":0},{"$f":"CDCM!G4464*CDCM!$F$14*CDCM!$G232/100","v":0},{"$f":"CDCM!H4464*CDCM!$H232*10","v":1061.5304234784376},{"$f":"IF(B120<>0,0.1*D120/B120,\"\")","v":-0.7457049327708285},{"$f":"IF(C120<>0,D120/C120,\"\")","v":-1225.5414180738362},{"$f":"IF(B120<>0,0.1*E120/B120,0)","v":-0.75181414762613796},{"$f":"CDCM!B4464*CDCM!$B232*10","v":-91184.950465137576},{"$f":"CDCM!C4464*CDCM!$C232*10","v":-36205.875116266354},{"$f":"CDCM!D4464*CDCM!$D232*10","v":-3243.5700665189252},{"$f":"IF(E120<>0,$M120/E120,\"\")","v":0.69801639922530967},{"$f":"IF(E120<>0,$N120/E120,\"\")","v":0.27715422830788017},{"$f":"IF(E120<>0,$O120/E120,\"\")","v":2.4829372466810194E-2},{"$f":"IF(D120<>0,$F120/D120,\"\")","v":0},{"$f":"IF(D120<>0,$G120/D120,\"\")","v":0},{"$f":"IF(D120<>0,$H120/D120,\"\")","v":0},{"$f":"IF(D120<>0,$I120/D120,\"\")","v":-8.1925364669498402E-3}]
["LDNO LV: LV Generation Non-Intermittent",{"$f":"CDCM!B233+CDCM!C233+CDCM!D233","v":0},{"$f":"CDCM!E233","v":0},{"$f":"0.01*CDCM!F$14*(CDCM!$E4465*CDCM!E233+CDCM!$F4465*CDCM!F233+CDCM!$G4465*CDCM!G233)+10*(CDCM!$B4465*CDCM!B233+CDCM!$C4465*CDCM!C233+CDCM!$D4465*CDCM!D233+CDCM!$H4465*CDCM!H233)","v":0},{"$f":"10*(CDCM!$B4465*CDCM!B233+CDCM!$C4465*CDCM!C233+CDCM!$D4465*CDCM!D233)","v":0},{"$f":"CDCM!E4465*CDCM!$F$14*CDCM!$E233/100","v":0},{"$f":"CDCM!F4465*CDCM!$F$14*CDCM!$F233/100","v":0},{"$f":"CDCM!G4465*CDCM!$F$14*CDCM!$G233/100","v":0},{"$f":"CDCM!H4465*CDCM!$H233*10","v":0},{"$f":"IF(B121<>0,0.1*D121/B121,\"\")","v":""},{"$f":"IF(C121<>0,D121/C121,\"\")","v":""},{"$f":"IF(B121<>0,0.1*E121/B121,0)","v":0},{"$f":"CDCM!B4465*CDCM!$B233*10","v":0},{"$f":"CDCM!C4465*CDCM!$C233*10","v":0},{"$f":"CDCM!D4465*CDCM!$D233*10","v":0},{"$f":"IF(E121<>0,$M121/E121,\"\")","v":""},{"$f":"IF(E121<>0,$N121/E121,\"\")","v":""},{"$f":"IF(E121<>0,$O121/E121,\"\")","v":""},{"$f":"IF(D121<>0,$F121/D121,\"\")","v":""},{"$f":"IF(D121<>0,$G121/D121,\"\")","v":""},{"$f":"IF(D121<>0,$H121/D121,\"\")","v":""},{"$f":"IF(D121<>0,$I121/D121,\"\")","v":""}]
["LDNO HV: LV Generation Non-Intermittent",{"$f":"CDCM!B234+CDCM!C234+CDCM!D234","v":0},{"$f":"CDCM!E234","v":0},{"$f":"0.01*CDCM!F$14*(CDCM!$E4466*CDCM!E234+CDCM!$F4466*CDCM!F234+CDCM!$G4466*CDCM!G234)+10*(CDCM!$B4466*CDCM!B234+CDCM!$C4466*CDCM!C234+CDCM!$D4466*CDCM!D234+CDCM!$H4466*CDCM!H234)","v":0},{"$f":"10*(CDCM!$B4466*CDCM!B234+CDCM!$C4466*CDCM!C234+CDCM!$D4466*CDCM!D234)","v":0},{"$f":"CDCM!E4466*CDCM!$F$14*CDCM!$E234/100","v":0},{"$f":"CDCM!F4466*CDCM!$F$14*CDCM!$F234/100","v":0},{"$f":"CDCM!G4466*CDCM!$F$14*CDCM!$G234/100","v":0},{"$f":"CDCM!H4466*CDCM!$H234*10","v":0},{"$f":"IF(B122<>0,0.1*D122/B122,\"\")","v":""},{"$f":"IF(C122<>0,D122/C122,\"\")","v":""},{"$f":"IF(B122<>0,0.1*E122/B122,0)","v":0},{"$f":"CDCM!B4466*CDCM!$B234*10","v":0},{"$f":"CDCM!C4466*CDCM!$C234*10","v":0},{"$f":"CDCM!D4466*CDCM!$D234*10","v":0},{"$f":"IF(E122<>0,$M122/E122,\"\")","v":""},{"$f":"IF(E122<>0,$N122/E122,\"\")","v":""},{"$f":"IF(E122<>0,$O122/E122,\"\")","v":""},{"$f":"IF(D122<>0,$F122/D122,\"\")","v":""},{"$f":"IF(D122<>0,$G122/D122,\"\")","v":""},{"$f":"IF(D122<>0,$H122/D122,\"\")","v":""},{"$f":"IF(D122<>0,$I122/D122,\"\")","v":""}]
["> LV Generation Non-Intermittent no RP charge"]
["LV Generation Non-Intermittent no RP charge",{"$f":"CDCM!B236+CDCM!C236+CDCM!D236","v":0},{"$f":"CDCM!E236","v":0},{"$f":"0.01*CDCM!F$14*(CDCM!$E4468*CDCM!E236+CDCM!$F4468*CDCM!F236+CDCM!$G4468*CDCM!G236)+10*(CDCM!$B4468*CDCM!B236+CDCM!$C4468*CDCM!C236+CDCM!$D4468*CDCM!D236+CDCM!$H4468*CDCM!H236)","v":0},{"$f":"10*(CDCM!$B4468*CDCM!B236+CDCM!$C4468*CDCM!C236+CDCM!$D4468*CDCM!D236)","v":0},{"$f":"CDCM!E4468*CDCM!$F$14*CDCM!$E236/100","v":0},{"$f":"CDCM!F4468*CDCM!$F$14*CDCM!$F236/100","v":0},{"$f":"CDCM!G4468*CDCM!$F$14*CDCM!$G236/100","v":0},{"$f":"CDCM!H4468*CDCM!$H236*10","v":0},{"$f":"IF(B124<>0,0.1*D124/B124,\"\")","v":""},{"$f":"IF(C124<>0,D124/C124,\"\")","v":""},{"$f":"IF(B124<>0,0.1*E124/B124,0)","v":0},{"$f":"CDCM!B4468*CDCM!$B236*10","v":0},{"$f":"CDCM!C4468*CDCM!$C236*10","v":0},{"$f":"CDCM!D4468*CDCM!$D236*10","v":0},{"$f":"IF(E124<>0,$M124/E124,\"\")","v":""},{"$f":"IF(E124<>0,$N124/E124,\"\")","v":""},{"$f":"IF(E124<>0,$O124/E124,\"\")","v":""},{"$f":"IF(D124<>0,$F124/D124,\"\")","v":""},{"$f":"IF(D124<>0,$G124/D124,\"\")","v":""},{"$f":"IF(D124<>0,$H124/D124,\"\")","v":""},{"$f":"IF(D124<>0,$I124/D124,\"\")","v":""}]
["> LV Sub Generation Intermittent"]
["LV Sub Generation Intermittent",{"$f":"CDCM!B238+CDCM!C238+CDCM!D238","v":3841.6564052142853},{"$f":"CDCM!E238","v":31.306393442622948},{"$f":"0.01*CDCM!F$14*(CDCM!$E4470*CDCM!E238+CDCM!$F4470*CDCM!F238+CDCM!$G4470*CDCM!G238)+10*(CDCM!$B4470*CDCM!B238+CDCM!$C4470*CDCM!C238+CDCM!$D4470*CDCM!D238+CDCM!$H4470*CDCM!H238)","v":-23537.664189141429},{"$f":"10*(CDCM!$B4470*CDCM!B238+CDCM!$C4470*CDCM!C238+CDCM!$D4470*CDCM!D238)","v":-24048.769096641427},{"$f":"CDCM!E4470*CDCM!$F$14*CDCM!$E238/100","v":0},{"$f":"CDCM!F4470*CDCM!$F$14*CDCM!$F238/100","v":0},{"$f":"CDCM!G4470*CDCM!$F$14*CDCM!$G238/100","v":0},{"$f":"CDCM!H4470*CDCM!$H238*10","v":511.10490750000002},{"$f":"IF(B126<>0,0.1*D126/B126,\"\")","v":-0.6126957152439173},{"$f":"IF(C126<>0,D126/C126,\"\")","v":-751.84847568852922},{"$f":"IF(B126<>0,0.1*E126/B126,0)","v":-0.626},{"$f":"CDCM!B4470*CDCM!$B238*10","v":-24048.769096641427},{"$f":"CDCM!C4470*CDCM!$C238*10","v":0},{"$f":"CDCM!D4470*CDCM!$D238*10","v":0},{"$f":"IF(E126<>0,$M126/E126,\"\")","v":1},{"$f":"IF(E126<>0,$N126/E126,\"\")","v":0},{"$f":"IF(E126<>0,$O126/E126,\"\")","v":0},{"$f":"IF(D126<>0,$F126/D126,\"\")","v":0},{"$f":"IF(D126<>0,$G126/D126,\"\")","v":0},{"$f":"IF(D126<>0,$H126/D126,\"\")","v":0},{"$f":"IF(D126<>0,$I126/D126,\"\")","v":-2.1714342739913281E-2}]
["LDNO HV: LV Sub Generation Intermittent",{"$f":"CDCM!B239+CDCM!C239+CDCM!D239","v":0},{"$f":"CDCM!E239","v":0},{"$f":"0.01*CDCM!F$14*(CDCM!$E4471*CDCM!E239+CDCM!$F4471*CDCM!F239+CDCM!$G4471*CDCM!G239)+10*(CDCM!$B4471*CDCM!B239+CDCM!$C4471*CDCM!C239+CDCM!$D4471*CDCM!D239+CDCM!$H4471*CDCM!H239)","v":0},{"$f":"10*(CDCM!$B4471*CDCM!B239+CDCM!$C4471*CDCM!C239+CDCM!$D4471*CDCM!D239)","v":0},{"$f":"CDCM!E4471*CDCM!$F$14*CDCM!$E239/100","v":0},{"$f":"CDCM!F4471*CDCM!$F$14*CDCM!$F239/100","v":0},{"$f":"CDCM!G4471*CDCM!$F$14*CDCM!$G239/100","v":0},{"$f":"CDCM!H4471*CDCM!$H239*10","v":0},{"$f":"IF(B127<>0,0.1*D127/B127,\"\")","v":""},{"$f":"IF(C127<>0,D127/C127,\"\")","v":""},{"$f":"IF(B127<>0,0.1*E127/B127,0)","v":0},{"$f":"CDCM!B4471*CDCM!$B239*10","v":0},{"$f":"CDCM!C4471*CDCM!$C239*10","v":0},{"$f":"CDCM!D4471*CDCM!$D239*10","v":0},{"$f":"IF(E127<>0,$M127/E127,\"\")","v":""},{"$f":"IF(E127<>0,$N127/E127,\"\")","v":""},{"$f":"IF(E127<>0,$O127/E127,\"\")","v":""},{"$f":"IF(D127<>0,$F127/D127,\"\")","v":""},{"$f":"IF(D127<>0,$G127/D127,\"\")","v":""},{"$f":"IF(D127<>0,$H127/D127,\"\")","v":""},{"$f":"IF(D127<>0,$I127/D127,\"\")","v":""}]
["> LV Sub Generation Intermittent no RP charge"]
["LV Sub Generation Intermittent no RP charge",{"$f":"CDCM!B241+CDCM!C241+CDCM!D241","v":0},{"$f":"CDCM!E241","v":0},{"$f":"0.01*CDCM!F$14*(CDCM!$E4473*CDCM!E241+CDCM!$F4473*CDCM!F241+CDCM!$G4473*CDCM!G241)+10*(CDCM!$B4473*CDCM!B241+CDCM!$C4473*CDCM!C241+CDCM!$D4473*CDCM!D241+CDCM!$H4473*CDCM!H241)","v":0},{"$f":"10*(CDCM!$B4473*CDCM!B241+CDCM!$C4473*CDCM!C241+CDCM!$D4473*CDCM!D241)","v":0},{"$f":"CDCM!E4473*CDCM!$F$14*CDCM!$E241/100","v":0},{"$f":"CDCM!F4473*CDCM!$F$14*CDCM!$F241/100","v":0},{"$f":"CDCM!G4473*CDCM!$F$14*CDCM!$G241/100","v":0},{"$f":"CDCM!H4473*CDCM!$H241*10","v":0},{"$f":"IF(B129<>0,0.1*D129/B129,\"\")","v":""},{"$f":"IF(C129<>0,D129/C129,\"\")","v":""},{"$f":"IF(B129<>0,0.1*E129/B129,0)","v":0},{"$f":"CDCM!B4473*CDCM!$B241*10","v":0},{"$f":"CDCM!C4473*CDCM!$C241*10","v":0},{"$f":"CDCM!D4473*CDCM!$D241*10","v":0},{"$f":"IF(E129<>0,$M129/E129,\"\")","v":""},{"$f":"IF(E129<>0,$N129/E129,\"\")","v":""},{"$f":"IF(E129<>0,$O129/E129,\"\")","v":""},{"$f":"IF(D129<>0,$F129/D129,\"\")","v":""},{"$f":"IF(D129<>0,$G129/D129,\"\")","v":""},{"$f":"IF(D129<>0,$H129/D129,\"\")","v":""},{"$f":"IF(D129<>0,$I129/D129,\"\")","v":""}]
["> LV Sub Generation Non-Intermittent"]
["LV Sub Generation Non-Intermittent",{"$f":"CDCM!B243+CDCM!C243+CDCM!D243","v":5861.8525960003717},{"$f":"CDCM!E243","v":6.1367981557377052},{"$f":"0.01*CDCM!F$14*(CDCM!$E4475*CDCM!E243+CDCM!$F4475*CDCM!F243+CDCM!$G4475*CDCM!G243)+10*(CDCM!$B4475*CDCM!B243+CDCM!$C4475*CDCM!C243+CDCM!$D4475*CDCM!D243+CDCM!$H4475*CDCM!H243)","v":-34399.257867714572},{"$f":"10*(CDCM!$B4475*CDCM!B243+CDCM!$C4475*CDCM!C243+CDCM!$D4475*CDCM!D243)","v":-34914.701299933324},{"$f":"CDCM!E4475*CDCM!$F$14*CDCM!$E243/100","v":0},{"$f":"CDCM!F4475*CDCM!$F$14*CDCM!$F243/100","v":0},{"$f":"CDCM!G4475*CDCM!$F$14*CDCM!$G243/100","v":0},{"$f":"CDCM!H4475*CDCM!$H243*10","v":515.44343221874999},{"$f":"IF(B131<>0,0.1*D131/B131,\"\")","v":-0.58683252955193199},{"$f":"IF(C131<>0,D131/C131,\"\")","v":-5605.4080637396219},{"$f":"IF(B131<>0,0.1*E131/B131,0)","v":-0.59562571265876152},{"$f":"CDCM!B4475*CDCM!$B243*10","v":-25532.781284374159},{"$f":"CDCM!C4475*CDCM!$C243*10","v":-8310.2537876678907},{"$f":"CDCM!D4475*CDCM!$D243*10","v":-1071.666227891275},{"$f":"IF(E131<>0,$M131/E131,\"\")","v":0.73129026838969169},{"$f":"IF(E131<>0,$N131/E131,\"\")","v":0.23801589239670112},{"$f":"IF(E131<>0,$O131/E131,\"\")","v":3.0693839213607178E-2},{"$f":"IF(D131<>0,$F131/D131,\"\")","v":0},{"$f":"IF(D131<>0,$G131/D131,\"\")","v":0},{"$f":"IF(D131<>0,$H131/D131,\"\")","v":0},{"$f":"IF(D131<>0,$I131/D131,\"\")","v":-1.498414396615572E-2}]
["LDNO HV: LV Sub Generation Non-Intermittent",{"$f":"CDCM!B244+CDCM!C244+CDCM!D244","v":0},{"$f":"CDCM!E244","v":0},{"$f":"0.01*CDCM!F$14*(CDCM!$E4476*CDCM!E244+CDCM!$F4476*CDCM!F244+CDCM!$G4476*CDCM!G244)+10*(CDCM!$B4476*CDCM!B244+CDCM!$C4476*CDCM!C244+CDCM!$D4476*CDCM!D244+CDCM!$H4476*CDCM!H244)","v":0},{"$f":"10*(CDCM!$B4476*CDCM!B244+CDCM!$C4476*CDCM!C244+CDCM!$D4476*CDCM!D244)","v":0},{"$f":"CDCM!E4476*CDCM!$F$14*CDCM!$E244/100","v":0},{"$f":"CDCM!F4476*CDCM!$F$14*CDCM!$F244/100","v":0},{"$f":"CDCM!G4476*CDCM!$F$14*CDCM!$G244/100","v":0},{"$f":"CDCM!H4476*CDCM!$H244*10","v":0},{"$f":"IF(B132<>0,0.1*D132/B132,\"\")","v":""},{"$f":"IF(C132<>0,D132/C132,\"\")","v":""},{"$f":"IF(B132<>0,0.1*E132/B132,0)","v":0},{"$f":"CDCM!B4476*CDCM!$B244*10","v":0},{"$f":"CDCM!C4476*CDCM!$C244*10","v":0},{"$f":"CDCM!D4476*CDCM!$D244*10","v":0},{"$f":"IF(E132<>0,$M132/E132,\"\")","v":""},{"$f":"IF(E132<>0,$N132/E132,\"\")","v":""},{"$f":"IF(E132<>0,$O132/E132,\"\")","v":""},{"$f":"IF(D132<>0,$F132/D132,\"\")","v":""},{"$f":"IF(D132<>0,$G132/D132,\"\")","v":""},{"$f":"IF(D132<>0,$H132/D132,\"\")","v":""},{"$f":"IF(D132<>0,$I132/D132,\"\")","v":""}]
["> LV Sub Generation Non-Intermittent no RP charge"]
["LV Sub Generation Non-Intermittent no RP charge",{"$f":"CDCM!B246+CDCM!C246+CDCM!D246","v":0},{"$f":"CDCM!E246","v":0},{"$f":"0.01*CDCM!F$14*(CDCM!$E4478*CDCM!E246+CDCM!$F4478*CDCM!F246+CDCM!$G4478*CDCM!G246)+10*(CDCM!$B4478*CDCM!B246+CDCM!$C4478*CDCM!C246+CDCM!$D4478*CDCM!D246+CDCM!$H4478*CDCM!H246)","v":0},{"$f":"10*(CDCM!$B4478*CDCM!B246+CDCM!$C4478*CDCM!C246+CDCM!$D4478*CDCM!D246)","v":0},{"$f":"CDCM!E4478*CDCM!$F$14*CDCM!$E246/100","v":0},{"$f":"CDCM!F4478*CDCM!$F$14*CDCM!$F246/100","v":0},{"$f":"CDCM!G4478*CDCM!$F$14*CDCM!$G246/100","v":0},{"$f":"CDCM!H4478*CDCM!$H246*10","v":0},{"$f":"IF(B134<>0,0.1*D134/B134,\"\")","v":""},{"$f":"IF(C134<>0,D134/C134,\"\")","v":""},{"$f":"IF(B134<>0,0.1*E134/B134,0)","v":0},{"$f":"CDCM!B4478*CDCM!$B246*10","v":0},{"$f":"CDCM!C4478*CDCM!$C246*10","v":0},{"$f":"CDCM!D4478*CDCM!$D246*10","v":0},{"$f":"IF(E134<>0,$M134/E134,\"\")","v":""},{"$f":"IF(E134<>0,$N134/E134,\"\")","v":""},{"$f":"IF(E134<>0,$O134/E134,\"\")","v":""},{"$f":"IF(D134<>0,$F134/D134,\"\")","v":""},{"$f":"IF(D134<>0,$G134/D134,\"\")","v":""},{"$f":"IF(D134<>0,$H134/D134,\"\")","v":""},{"$f":"IF(D134<>0,$I134/D134,\"\")","v":""}]
["> HV Generation Intermittent"]
["HV Generation Intermittent",{"$f":"CDCM!B248+CDCM!C248+CDCM!D248","v":479000.82970478572},{"$f":"CDCM!E248","v":248.15567213114755},{"$f":"0.01*CDCM!F$14*(CDCM!$E4480*CDCM!E248+CDCM!$F4480*CDCM!F248+CDCM!$G4480*CDCM!G248)+10*(CDCM!$B4480*CDCM!B248+CDCM!$C4480*CDCM!C248+CDCM!$D4480*CDCM!D248+CDCM!$H4480*CDCM!H248)","v":-1831909.4970815906},{"$f":"10*(CDCM!$B4480*CDCM!B248+CDCM!$C4480*CDCM!C248+CDCM!$D4480*CDCM!D248)","v":-1872893.2441457123},{"$f":"CDCM!E4480*CDCM!$F$14*CDCM!$E248/100","v":29437.46660655738},{"$f":"CDCM!F4480*CDCM!$F$14*CDCM!$F248/100","v":0},{"$f":"CDCM!G4480*CDCM!$F$14*CDCM!$G248/100","v":0},{"$f":"CDCM!H4480*CDCM!$H248*10","v":11546.280457564284},{"$f":"IF(B136<>0,0.1*D136/B136,\"\")","v":-0.38244390896162328},{"$f":"IF(C136<>0,D136/C136,\"\")","v":-7382.0980247972993},{"$f":"IF(B136<>0,0.1*E136/B136,0)","v":-0.39100000000000007},{"$f":"CDCM!B4480*CDCM!$B248*10","v":-1872893.2441457123},{"$f":"CDCM!C4480*CDCM!$C248*10","v":0},{"$f":"CDCM!D4480*CDCM!$D248*10","v":0},{"$f":"IF(E136<>0,$M136/E136,\"\")","v":1},{"$f":"IF(E136<>0,$N136/E136,\"\")","v":0},{"$f":"IF(E136<>0,$O136/E136,\"\")","v":0},{"$f":"IF(D136<>0,$F136/D136,\"\")","v":-1.6069279979963047E-2},{"$f":"IF(D136<>0,$G136/D136,\"\")","v":0},{"$f":"IF(D136<>0,$H136/D136,\"\")","v":0},{"$f":"IF(D136<>0,$I136/D136,\"\")","v":-6.3028662037937075E-3}]
["LDNO HV: HV Generation Intermittent",{"$f":"CDCM!B249+CDCM!C249+CDCM!D249","v":18.630690000000001},{"$f":"CDCM!E249","v":0.6228852459016393},{"$f":"0.01*CDCM!F$14*(CDCM!$E4481*CDCM!E249+CDCM!$F4481*CDCM!F249+CDCM!$G4481*CDCM!G249)+10*(CDCM!$B4481*CDCM!B249+CDCM!$C4481*CDCM!C249+CDCM!$D4481*CDCM!D249+CDCM!$H4481*CDCM!H249)","v":-72.745809900000012},{"$f":"10*(CDCM!$B4481*CDCM!B249+CDCM!$C4481*CDCM!C249+CDCM!$D4481*CDCM!D249)","v":-72.8459979},{"$f":"CDCM!E4481*CDCM!$F$14*CDCM!$E249/100","v":0},{"$f":"CDCM!F4481*CDCM!$F$14*CDCM!$F249/100","v":0},{"$f":"CDCM!G4481*CDCM!$F$14*CDCM!$G249/100","v":0},{"$f":"CDCM!H4481*CDCM!$H249*10","v":0.100188},{"$f":"IF(B137<>0,0.1*D137/B137,\"\")","v":-0.39046224213918007},{"$f":"IF(C137<>0,D137/C137,\"\")","v":-116.78846204600487},{"$f":"IF(B137<>0,0.1*E137/B137,0)","v":-0.39100000000000001},{"$f":"CDCM!B4481*CDCM!$B249*10","v":-72.8459979},{"$f":"CDCM!C4481*CDCM!$C249*10","v":0},{"$f":"CDCM!D4481*CDCM!$D249*10","v":0},{"$f":"IF(E137<>0,$M137/E137,\"\")","v":1},{"$f":"IF(E137<>0,$N137/E137,\"\")","v":0},{"$f":"IF(E137<>0,$O137/E137,\"\")","v":0},{"$f":"IF(D137<>0,$F137/D137,\"\")","v":0},{"$f":"IF(D137<>0,$G137/D137,\"\")","v":0},{"$f":"IF(D137<>0,$H137/D137,\"\")","v":0},{"$f":"IF(D137<>0,$I137/D137,\"\")","v":-1.3772339621721634E-3}]
["> HV Generation Intermittent no RP charge"]
["HV Generation Intermittent no RP charge",{"$f":"CDCM!B251+CDCM!C251+CDCM!D251","v":0},{"$f":"CDCM!E251","v":0},{"$f":"0.01*CDCM!F$14*(CDCM!$E4483*CDCM!E251+CDCM!$F4483*CDCM!F251+CDCM!$G4483*CDCM!G251)+10*(CDCM!$B4483*CDCM!B251+CDCM!$C4483*CDCM!C251+CDCM!$D4483*CDCM!D251+CDCM!$H4483*CDCM!H251)","v":0},{"$f":"10*(CDCM!$B4483*CDCM!B251+CDCM!$C4483*CDCM!C251+CDCM!$D4483*CDCM!D251)","v":0},{"$f":"CDCM!E4483*CDCM!$F$14*CDCM!$E251/100","v":0},{"$f":"CDCM!F4483*CDCM!$F$14*CDCM!$F251/100","v":0},{"$f":"CDCM!G4483*CDCM!$F$14*CDCM!$G251/100","v":0},{"$f":"CDCM!H4483*CDCM!$H251*10","v":0},{"$f":"IF(B139<>0,0.1*D139/B139,\"\")","v":""},{"$f":"IF(C139<>0,D139/C139,\"\")","v":""},{"$f":"IF(B139<>0,0.1*E139/B139,0)","v":0},{"$f":"CDCM!B4483*CDCM!$B251*10","v":0},{"$f":"CDCM!C4483*CDCM!$C251*10","v":0},{"$f":"CDCM!D4483*CDCM!$D251*10","v":0},{"$f":"IF(E139<>0,$M139/E139,\"\")","v":""},{"$f":"IF(E139<>0,$N139/E139,\"\")","v":""},{"$f":"IF(E139<>0,$O139/E139,\"\")","v":""},{"$f":"IF(D139<>0,$F139/D139,\"\")","v":""},{"$f":"IF(D139<>0,$G139/D139,\"\")","v":""},{"$f":"IF(D139<>0,$H139/D139,\"\")","v":""},{"$f":"IF(D139<>0,$I139/D139,\"\")","v":""}]
["> HV Generation Non-Intermittent"]
["HV Generation Non-Intermittent",{"$f":"CDCM!B253+CDCM!C253+CDCM!D253","v":851558.23757333774},{"$f":"CDCM!E253","v":231.28838422131147},{"$f":"0.01*CDCM!F$14*(CDCM!$E4485*CDCM!E253+CDCM!$F4485*CDCM!F253+CDCM!$G4485*CDCM!G253)+10*(CDCM!$B4485*CDCM!B253+CDCM!$C4485*CDCM!C253+CDCM!$D4485*CDCM!D253+CDCM!$H4485*CDCM!H253)","v":-3693203.8404443506},{"$f":"10*(CDCM!$B4485*CDCM!B253+CDCM!$C4485*CDCM!C253+CDCM!$D4485*CDCM!D253)","v":-3737144.8034571381},{"$f":"CDCM!E4485*CDCM!$F$14*CDCM!$E253/100","v":27436.584578253074},{"$f":"CDCM!F4485*CDCM!$F$14*CDCM!$F253/100","v":0},{"$f":"CDCM!G4485*CDCM!$F$14*CDCM!$G253/100","v":0},{"$f":"CDCM!H4485*CDCM!$H253*10","v":16504.378434534377},{"$f":"IF(B141<>0,0.1*D141/B141,\"\")","v":-0.4336995025694042},{"$f":"IF(C141<>0,D141/C141,\"\")","v":-15967.960746833087},{"$f":"IF(B141<>0,0.1*E141/B141,0)","v":-0.43885956809093624},{"$f":"CDCM!B4485*CDCM!$B253*10","v":-2901352.1377059789},{"$f":"CDCM!C4485*CDCM!$C253*10","v":-767508.74439939519},{"$f":"CDCM!D4485*CDCM!$D253*10","v":-68283.921351763987},{"$f":"IF(E141<>0,$M141/E141,\"\")","v":0.77635529001231407},{"$f":"IF(E141<>0,$N141/E141,\"\")","v":0.20537302801041915},{"$f":"IF(E141<>0,$O141/E141,\"\")","v":1.8271681977266779E-2},{"$f":"IF(D141<>0,$F141/D141,\"\")","v":-7.4289386027910171E-3},{"$f":"IF(D141<>0,$G141/D141,\"\")","v":0},{"$f":"IF(D141<>0,$H141/D141,\"\")","v":0},{"$f":"IF(D141<>0,$I141/D141,\"\")","v":-4.4688512055020072E-3}]
["LDNO HV: HV Generation Non-Intermittent",{"$f":"CDCM!B254+CDCM!C254+CDCM!D254","v":0},{"$f":"CDCM!E254","v":0},{"$f":"0.01*CDCM!F$14*(CDCM!$E4486*CDCM!E254+CDCM!$F4486*CDCM!F254+CDCM!$G4486*CDCM!G254)+10*(CDCM!$B4486*CDCM!B254+CDCM!$C4486*CDCM!C254+CDCM!$D4486*CDCM!D254+CDCM!$H4486*CDCM!H254)","v":0},{"$f":"10*(CDCM!$B4486*CDCM!B254+CDCM!$C4486*CDCM!C254+CDCM!$D4486*CDCM!D254)","v":0},{"$f":"CDCM!E4486*CDCM!$F$14*CDCM!$E254/100","v":0},{"$f":"CDCM!F4486*CDCM!$F$14*CDCM!$F254/100","v":0},{"$f":"CDCM!G4486*CDCM!$F$14*CDCM!$G254/100","v":0},{"$f":"CDCM!H4486*CDCM!$H254*10","v":0},{"$f":"IF(B142<>0,0.1*D142/B142,\"\")","v":""},{"$f":"IF(C142<>0,D142/C142,\"\")","v":""},{"$f":"IF(B142<>0,0.1*E142/B142,0)","v":0},{"$f":"CDCM!B4486*CDCM!$B254*10","v":0},{"$f":"CDCM!C4486*CDCM!$C254*10","v":0},{"$f":"CDCM!D4486*CDCM!$D254*10","v":0},{"$f":"IF(E142<>0,$M142/E142,\"\")","v":""},{"$f":"IF(E142<>0,$N142/E142,\"\")","v":""},{"$f":"IF(E142<>0,$O142/E142,\"\")","v":""},{"$f":"IF(D142<>0,$F142/D142,\"\")","v":""},{"$f":"IF(D142<>0,$G142/D142,\"\")","v":""},{"$f":"IF(D142<>0,$H142/D142,\"\")","v":""},{"$f":"IF(D142<>0,$I142/D142,\"\")","v":""}]
["> HV Generation Non-Intermittent no RP charge"]
["HV Generation Non-Intermittent no RP charge",{"$f":"CDCM!B256+CDCM!C256+CDCM!D256","v":0},{"$f":"CDCM!E256","v":0},{"$f":"0.01*CDCM!F$14*(CDCM!$E4488*CDCM!E256+CDCM!$F4488*CDCM!F256+CDCM!$G4488*CDCM!G256)+10*(CDCM!$B4488*CDCM!B256+CDCM!$C4488*CDCM!C256+CDCM!$D4488*CDCM!D256+CDCM!$H4488*CDCM!H256)","v":0},{"$f":"10*(CDCM!$B4488*CDCM!B256+CDCM!$C4488*CDCM!C256+CDCM!$D4488*CDCM!D256)","v":0},{"$f":"CDCM!E4488*CDCM!$F$14*CDCM!$E256/100","v":0},{"$f":"CDCM!F4488*CDCM!$F$14*CDCM!$F256/100","v":0},{"$f":"CDCM!G4488*CDCM!$F$14*CDCM!$G256/100","v":0},{"$f":"CDCM!H4488*CDCM!$H256*10","v":0},{"$f":"IF(B144<>0,0.1*D144/B144,\"\")","v":""},{"$f":"IF(C144<>0,D144/C144,\"\")","v":""},{"$f":"IF(B144<>0,0.1*E144/B144,0)","v":0},{"$f":"CDCM!B4488*CDCM!$B256*10","v":0},{"$f":"CDCM!C4488*CDCM!$C256*10","v":0},{"$f":"CDCM!D4488*CDCM!$D256*10","v":0},{"$f":"IF(E144<>0,$M144/E144,\"\")","v":""},{"$f":"IF(E144<>0,$N144/E144,\"\")","v":""},{"$f":"IF(E144<>0,$O144/E144,\"\")","v":""},{"$f":"IF(D144<>0,$F144/D144,\"\")","v":""},{"$f":"IF(D144<>0,$G144/D144,\"\")","v":""},{"$f":"IF(D144<>0,$H144/D144,\"\")","v":""},{"$f":"IF(D144<>0,$I144/D144,\"\")","v":""}]
[]
["3802. Revenue summary by tariff component"]
["Data sources:"]
["x1 = 3801. All units (MWh) (in Revenue summary)"]
["x2 = 3801. MPANs (in Revenue summary)"]
["x3 = 3801. Net revenues (£) (in Revenue summary)"]
["x4 = 3801. Revenues from unit rates (£) (in Revenue summary)"]
["x5 = 3801. Revenues from fixed charges (£) (in Revenue summary)"]
["x6 = 3801. Revenues from capacity charges (£) (in Revenue summary)"]
["x7 = 3801. Revenues from exceeded capacity charges (£) (in Revenue summary)"]
["x8 = 3801. Revenues from reactive power charges (£) (in Revenue summary)"]
["Kind:","Cell summation","Cell summation","Cell summation","Cell summation","Cell summation","Cell summation","Cell summation","Cell summation"]
["Formula:","=SUM(x1)","=SUM(x2)","=SUM(x3)","=SUM(x4)","=SUM(x5)","=SUM(x6)","=SUM(x7)","=SUM(x8)"]
[]
[null,"Total units (MWh)","Total MPANs","Total net revenues (£)","Total net revenues from unit rates (£)","Total revenues from fixed charges (£)","Total revenues from capacity charges (£)","Total revenues from exceeded capacity charges (£)","Total revenues from reactive power charges (£)"]
["Revenue summary by tariff component",{"$f":"SUM(B$36:B$144)","v":26040291.623001974},{"$f":"SUM(C$36:C$144)","v":2797417.264544107},{"$f":"SUM(D$36:D$144)","v":566913549.29753077},{"$f":"SUM(E$36:E$144)","v":454945870.08526236},{"$f":"SUM($F$36:$F$144)","v":36763869.337675504},{"$f":"SUM($G$36:$G$144)","v":71716422.706167996},{"$f":"SUM($H$36:$H$144)","v":2574502.7178999162},{"$f":"SUM($I$36:$I$144)","v":912884.45052477764}]

{"sheet":"CDCM","index":18,"n_rows":4564,"n_cols":37,"rows_kept":4564,"cut":false,"hidden":false,"merged":[]}
[{"$f":"\"Input data for \"&CDCM!B7&\" in \"&CDCM!C7&\" (\"&CDCM!D7&\")\"","v":"Input data for WPD East Midlands in 2023/24 (Forecast)"}]
["This sheet contains all the input data (except LLFCs which might be entered directly into the Tariff sheet)."]
[]
["1000. Company, charging year, data version"]
[""]
[null,"Company","Year","Version"]
["Company, charging year, data version","WPD East Midlands","2023/24","Forecast",""]
[]
["1010. Financial and general assumptions"]
[]
["Sources: financial assumptions; calendar; network model."]
["These financial assumptions determine the annuity rate applied to convert the asset values of the network model into an annual charge."]
[null,"Rate of return","Annualisation period (years)","Annuity proportion for customer-contributed assets","Power factor","Days in the charging period"]
["Financial and general assumptions",4.2099999999999999E-2,40,null,0.95,365,""]
[]
["1017. Diversity allowance between top and bottom of network level"]
[]
["Source: operational data analysis and/or network model."]
["The diversity figure against GSP is the diversity between GSP Group (the whole system) and individual GSPs."]
["The diversity figure against 132kV is the diversity between GSPs (the top of the 132kV network) and 132kV/EHV bulk supply points (the bottom of the 132kV network). "]
["The diversity figure against EHV is the diversity between 132kV/EHV bulk supply points (the top of the EHV network) and EHV/HV primary substations (the bottom of the EHV network). "]
["The diversity figure against HV is the diversity between EHV/HV primary substations (the top of the HV network) and HV/LV substations (the bottom of the HV network). "]
[null,"Diversity allowance between top and bottom of network level"]
["GSPs",2.4713742436156094E-2,""]
["132kV",4.5013478235986115E-2,""]
["132kV/EHV",null,""]
["EHV",7.9017642685410783E-2,""]
["EHV/HV",null,""]
["HV",0.34000000000000008,""]
["HV/LV",null,""]
["LV circuits",null,""]
[]
["1018. Proportion of relevant load going through 132kV/HV direct transformation"]
[""]
[null,"132kV/HV"]
["EHV/HV",7.5044342711319545E-2,""]
[]
["1019. Network model GSP peak demand (MW)"]
[]
[null,"Network model GSP peak demand (MW)"]
["Network model GSP peak demand (MW)",500,""]
[]
["1020. Gross asset cost by network level (£)"]
[]
[null,"Gross assets £"]
["132kV",63922069.322879605,""]
["132kV/EHV",32483734.625675354,""]
["EHV",39706318.442629918,""]
["EHV/HV",64458932.949790671,""]
["132kV/HV",5406222.0271159541,""]
["HV",152943759.58280894,""]
["HV/LV",69133288.284672767,""]
["LV circuits",134541677.71354267,""]
[]
["1022. LV service model asset cost (£)"]
[]
[null,"LV service model 1","LV service model 2","LV service model 3","LV service model 4","LV service model 5","LV service model 6","LV service model 7","LV service model 8"]
["LV service model asset cost (£)",4928.1237342956538,751.35737005855106,869.00697295072496,630.65950121043488,1391.3724556224931,1086.1632694956525,0,594.4661153182609,""]
[]
["1023. HV service model asset cost (£)"]
[]
[null,"HV service model 1","HV service model 2","HV service model 3","HV service model 4","HV service model 5"]
["HV service model asset cost (£)",11730.273956368697,4822.5697391304357,0,0,0,""]
[]
["1025. Matrix of applicability of LV service models to tariffs with fixed charges"]
[null,34,35,36,37,38,39,40,41]
[null,"LV service model 1","LV service model 2","LV service model 3","LV service model 4","LV service model 5","LV service model 6","LV service model 7","LV service model 8"]
["Domestic Unrestricted",0.05,0,0,0,0,0,0,0,""]
["Domestic Two Rate",0.05,0,0,0,0,0,0,0,""]
["Small Non Domestic Unrestricted",0,1,0,0,0,0,0,0,""]
["Small Non Domestic Two Rate",0,1,0,0,0,0,0,0,""]
["LV Medium Non-Domestic",0,0,1,0,0,0,0,0]
["LV Sub Medium Non-Domestic",0,0,0,1,0,0,0,0]
["LV Network Domestic",0.05,0,0,0,0,0,0,0,""]
["LV Network Non-Domestic Non-CT",0,1,0,0,0,0,0,0,""]
["LV HH Metered",0,0,0,0,1,0,0,0,""]
["LV Sub HH Metered",0,0,0,0,0,1,0,0,""]
["LV Generation NHH or Aggregate HH",0,0,0,0,0,0,1,0,""]
["LV Sub Generation NHH",0,0,0,0,0,0,1,0,""]
["LV Generation Intermittent",0,0,0,0,0,0,1,0,""]
["LV Generation Intermittent no RP charge",0,0,0,0,0,0,1,0,""]
["LV Generation Non-Intermittent",0,0,0,0,0,0,0,0,""]
["LV Generation Non-Intermittent no RP charge",0,0,0,0,0,0,0,0]
["LV Sub Generation Intermittent",0,0,0,0,0,0,0,0]
["LV Sub Generation Intermittent no RP charge",0,0,0,0,0,0,0,0]
["LV Sub Generation Non-Intermittent",0,0,0,0,0,0,0,0]
["LV Sub Generation Non-Intermittent no RP charge",0,0,0,0,0,0,0,0,""]
[]
["1026. Matrix of applicability of LV service models to unmetered tariffs"]
[]
["Source: service models"]
["Proportion of service model involved in connecting load of 1 MWh/year"]
[null,"LV service model 1","LV service model 2","LV service model 3","LV service model 4","LV service model 5","LV service model 6","LV service model 7","LV service model 8"]
["All LV unmetered tariffs",0,0,0,0,0,0,0,0.48799999999999999,""]
[]
["1028. Matrix of applicability of HV service models to tariffs with fixed charges"]
[null,22,23,24,25,26]
[null,"HV service model 1","HV service model 2","HV service model 3","HV service model 4","HV service model 5"]
["HV Medium Non-Domestic",1,0,0,0,0,""]
["HV HH Metered",1,0,0,0,0,""]
["HV Generation Intermittent",0,1,0,0,0]
["HV Generation Intermittent no RP charge",0,1,0,0,0]
["HV Generation Non-Intermittent",0,1,0,0,0]
["HV Generation Non-Intermittent no RP charge",0,1,0,0,0]
[]
["1032. Loss adjustment factors to transmission"]
[""]
["Source: losses model or loss adjustment factors at time of system peak."]
[null,"132kV","132kV/EHV","EHV","EHV/HV","HV","HV/LV","LV circuits"]
["Loss adjustment factor",1.002,1.008,1.01,1.018,1.034,1.05,1.08,""]
[]
["1037. Embedded network (LDNO) discounts"]
[""]
["Source: separate price control disaggregation model."]
[null,"No discount","LDNO LV: LV user","LDNO HV: LV user","LDNO HV: LV sub user","LDNO HV: HV user"]
["LDNO discount",null,0.30035267521805875,0.47818139481135069,0.24363743688262601,0.14249687495735849,""]
[]
["1041. Load profile data for demand users"]
[]
["Source: load data analysis."]
[null,"Coincidence factor","Load factor"]
["Domestic Unrestricted",0.86240741067308713,0.41623710501756489,""]
["Domestic Two Rate",0.86034731111249485,0.5028096693143812,""]
["Domestic Off Peak (related MPAN)",null,0.14790375681824444,""]
["Small Non Domestic Unrestricted",0.72324936497793268,0.37532588558908553,""]
["Small Non Domestic Two Rate",0.86240621985923305,0.53424065388272945,""]
["Small Non Domestic Off Peak (related MPAN)",null,0.24278777249580674,""]
["LV Medium Non-Domestic",0.84122778780683927,0.52667690446927706,""]
["LV Sub Medium Non-Domestic",0.84122778780683927,0.52667690446927706,""]
["HV Medium Non-Domestic",0.78886749721267824,0.49199747964816393,""]
["LV Network Domestic",0.86164448674198868,0.44382955791989437,""]
["LV Network Non-Domestic Non-CT",0.78752477648789532,0.44789395514276292,""]
["LV HH Metered",0.82086521600613926,0.5584288623436322,""]
["LV Sub HH Metered",0.84026867562743668,0.57907566723908654]
["HV HH Metered",0.84760121590132942,0.7141076061743471]
["NHH UMS category A",1,1,""]
["NHH UMS category B",1,0.47270807337280285]
["NHH UMS category C",1,0.24339371562014608]
["NHH UMS category D",5.3621027479092004E-3,0.51158697514711327]
["LV UMS (Pseudo HH Metered)",0.95079576417959843,0.44160896789800635,""]
[]
["1053. Volume forecasts for the charging year"]
["",32,33,34,35,36,37,38]
["Source: forecast."]
["Please include MPAN counts for tariffs with no fixed charge (e.g. off-peak tariffs),"]
["but exclude MPANs on tariffs with a fixed charge that are not subject to a fixed charge due to a site grouping arrangement."]
[null,"Rate 1 units (MWh)","Rate 2 units (MWh)","Rate 3 units (MWh)","MPANs","Import capacity (kVA)","Exceeded capacity (kVA)","Reactive power units (MVArh)"]
["> Domestic Unrestricted",0,0,0,0,0,null,0]
["Domestic Unrestricted",5635747.39502858,null,null,1671267.7755050499]
["LDNO LV: Domestic Unrestricted",94982.042774487054,null,null,35033.390339937563]
["LDNO HV: Domestic Unrestricted",155171.27128812924,null,null,58162.880927404229]
["> Domestic Two Rate"]
["Domestic Two Rate",2417415.8454986895,1076309.378668654,null,792868.49064519012]
["LDNO LV: Domestic Two Rate",4629.9614332661959,1426.9050309592003,null,1499.239141579387]
["LDNO HV: Domestic Two Rate",7642.5052138944002,2597.3847486999803,null,2453.4347641766276]
["> Domestic Off Peak (related MPAN)"]
["Domestic Off Peak (related MPAN)",49585.593175668728,null,null,26805]
["LDNO LV: Domestic Off Peak (related MPAN)",0,null,null,0]
["LDNO HV: Domestic Off Peak (related MPAN)",0,null,null,0]
["> Small Non Domestic Unrestricted"]
["Small Non Domestic Unrestricted",1140613.9739181774,null,null,95495.253097224515]
["LDNO LV: Small Non Domestic Unrestricted",4254.8519221540355,null,null,714.08447240652981]
["LDNO HV: Small Non Domestic Unrestricted",11145.922225068793,null,null,1270.1753584742994]
["> Small Non Domestic Two Rate"]
["Small Non Domestic Two Rate",1514286.2262339729,451030.46492233477,null,82427.244684584759]
["LDNO LV: Small Non Domestic Two Rate",402.47958047828541,80.438629283880772,null,12.903675111941352]
["LDNO HV: Small Non Domestic Two Rate",1111.6322427478769,286.0338414769754,null,47.788053454719794]
["> Small Non Domestic Off Peak (related MPAN)"]
["Small Non Domestic Off Peak (related MPAN)",2583.3840720654089,null,null,517]
["LDNO LV: Small Non Domestic Off Peak (related MPAN)",0,null,null,0]
["LDNO HV: Small Non Domestic Off Peak (related MPAN)",0,null,null,0]
["> LV Medium Non-Domestic"]
["LV Medium Non-Domestic",41587.88901879995,11522.857188044651,null,1226.5130041316722]
["LDNO LV: LV Medium Non-Domestic",-4.9112713895738124E-14,5.4569682106375695E-15,null,0]
["LDNO HV: LV Medium Non-Domestic",-2.4738255888223645E-13,1.8189894035458565E-14,null,0]
["> LV Sub Medium Non-Domestic"]
["LV Sub Medium Non-Domestic",0.14305029137837472,4.1771037058284492E-2,null,3.1678196721310618E-3]
["> HV Medium Non-Domestic"]
["HV Medium Non-Domestic",2605.2120716228465,788.60544449936344,null,44]
["> LV Network Domestic"]
["LV Network Domestic",25.916648860281796,99.416406772272921,122.08546012140339,76.118765573770503]
["LDNO LV: LV Network Domestic",0,0,0,0]
["LDNO HV: LV Network Domestic",0,0,0,0]
["> LV Network Non-Domestic Non-CT"]
["LV Network Non-Domestic Non-CT",18558.487686612239,73567.926730158622,78280.332697577658,2509.10345882312]
["LDNO LV: LV Network Non-Domestic Non-CT",19.24968807539738,72.688587305710143,120.49851830559453,4.7184373127364774]
["LDNO HV: LV Network Non-Domestic Non-CT",104.24235588741557,362.68347429908619,416.12088245460063,19.841829348937043]
["> LV HH Metered"]
["LV HH Metered",377835.6813072178,1505767.6226554119,1615847.0059507394,15832.332072650368,1960000,42265.317043448318,367491.37832085259]
["LDNO LV: LV HH Metered",1412.870559022316,4888.8390627745466,6114.8854757848721,61.229869713492732,10476.918620474366,12.987057168228436,1333.7147930840285]
["LDNO HV: LV HH Metered",15040.235122987786,54927.685608171101,65960.836777291115,382.62169856216127,108669.61557819175,446.26154403187547,11418.401436925689]
["> LV Sub HH Metered"]
["LV Sub HH Metered",23555.939705275443,90295.119473983417,105307.38531244543,342.84669556830613,138821.86717486338,1785.1010983606557,18220.196801714286]
["LDNO HV: LV Sub HH Metered",890.72287294660168,3077.5835538016772,5287.7802117072451,4.8958936371831783,3426.9222620200057,46.892377761533822,903.92750399136014]
["> HV HH Metered"]
["HV HH Metered",738923.19680440472,2849711.7208364718,4000945.161846465,3524.9192351831307,2788259.5384515394,58664.747249535598,557819.6962977408]
["LDNO HV: HV HH Metered",7258.323341503462,23980.296053899532,38623.664534907308,38.408595450387928,48748.253499353094,199.08329496396499,2217.4648647360805]
["> NHH UMS category A"]
["NHH UMS category A",34134.893703773516,null,null,1567]
["LDNO LV: NHH UMS category A",275.22148000439415,null,null,0]
["LDNO HV: NHH UMS category A",531.75775905666319,null,null,0]
["> NHH UMS category B"]
["NHH UMS category B",22466.149975166016,null,null,1279]
["LDNO LV: NHH UMS category B",319.40114355377005,null,null,0]
["LDNO HV: NHH UMS category B",613.630442356039,null,null,0]
["> NHH UMS category C"]
["NHH UMS category C",339.10140823796002,null,null,194]
["LDNO LV: NHH UMS category C",0,null,null,0]
["LDNO HV: NHH UMS category C",0,null,null,0]
["> NHH UMS category D"]
["NHH UMS category D",7208.5560845431746,null,null,247]
["LDNO LV: NHH UMS category D",0,null,null,0]
["LDNO HV: NHH UMS category D",0,null,null,0]
["> LV UMS (Pseudo HH Metered)"]
["LV UMS (Pseudo HH Metered)",12092.426467732928,33947.071572281049,185619.80763357371,26.819672131147541]
["LDNO LV: LV UMS (Pseudo HH Metered)",0,0,0,0]
["LDNO HV: LV UMS (Pseudo HH Metered)",0,0,0,0]
["> LV Generation NHH or Aggregate HH"]
["LV Generation NHH or Aggregate HH",10233.9538335,null,null,136]
["LDNO LV: LV Generation NHH or Aggregate HH",27.785378357142857,null,null,0]
["LDNO HV: LV Generation NHH or Aggregate HH",0,null,null,0]
["> LV Sub Generation NHH"]
["LV Sub Generation NHH",0,null,null,0]
["LDNO HV: LV Sub Generation NHH",0,null,null,0]
["> LV Generation Intermittent"]
["LV Generation Intermittent",39541.455472928566,null,null,697.57416393442611,null,null,4219.380690214286]
["LDNO LV: LV Generation Intermittent",0,null,null,0,null,null,0]
["LDNO HV: LV Generation Intermittent",72.668966078571486,null,null,4.4201475409836073,null,null,40.596061285714278]
["> LV Generation Intermittent no RP charge"]
["LV Generation Intermittent no RP charge",0,null,null,0]
["> LV Generation Non-Intermittent"]
["LV Generation Non-Intermittent",1593.5852929943649,6242.3922614252333,9539.9119603497784,105.72703893442623,null,null,667.62919715625003]
["LDNO LV: LV Generation Non-Intermittent",0,0,0,0,null,null,0]
["LDNO HV: LV Generation Non-Intermittent",0,0,0,0,null,null,0]
["> LV Generation Non-Intermittent no RP charge"]
["LV Generation Non-Intermittent no RP charge",0,0,0,0]
["> LV Sub Generation Intermittent"]
["LV Sub Generation Intermittent",3841.6564052142853,null,null,31.306393442622948,null,null,365.0749339285714]
["LDNO HV: LV Sub Generation Intermittent",0,null,null,0,null,null,0]
["> LV Sub Generation Intermittent no RP charge"]
["LV Sub Generation Intermittent no RP charge",0,null,null,0]
["> LV Sub Generation Non-Intermittent"]
["LV Sub Generation Non-Intermittent",504.40105263481149,1662.050757533578,3695.4007858319828,6.1367981557377052,null,null,368.17388015624999]
["LDNO HV: LV Sub Generation Non-Intermittent",0,0,0,0,null,null,0]
["> LV Sub Generation Non-Intermittent no RP charge"]
["LV Sub Generation Non-Intermittent no RP charge",0,0,0,0]
["> HV Generation Intermittent"]
["HV Generation Intermittent",479000.82970478572,null,null,248.15567213114755,null,null,10496.618597785713]
["LDNO HV: HV Generation Intermittent",18.630690000000001,null,null,0.6228852459016393,null,null,9.1079999999999994E-2]
["> HV Generation Intermittent no RP charge"]
["HV Generation Intermittent no RP charge",0,null,null,0]
["> HV Generation Non-Intermittent"]
["HV Generation Non-Intermittent",87733.660045539131,276082.28215805581,487742.29536974273,231.28838422131147,null,null,15003.980395031253]
["LDNO HV: HV Generation Non-Intermittent",0,0,0,0,null,null,0]
["> HV Generation Non-Intermittent no RP charge"]
["HV Generation Non-Intermittent no RP charge",0,0,0,0]
[]
["1055. Transmission exit charges (£/year)"]
[""]
["Source: forecast."]
[null,"Transmission\nexit"]
["Transmission exit charges (£/year)",16632117.075494064,""]
[]
["1059. Other expenditure"]
[""]
[null,"Direct cost (£/year)","Indirect cost (£/year)","Indirect cost proportion","Network rates (£/year)"]
["Other expenditure",39313847.471639611,139539446.76214176,0.6,33357159.085319608,""]
[]
["1060. Customer contributions under current connection charging policy"]
[]
["Source: analysis of expenditure data and/or survey of capital expenditure schemes."]
["Customer contribution percentages by network level of supply and by asset network level."]
["These proportions should reflect the current connection charging method, not necessarily the method that was in place when the connection was built."]
[null,"Assets\n132kV","Assets\n132kV/EHV","Assets\nEHV","Assets\nEHV/HV","Assets\n132kV/HV","Assets\nHV","Assets\nHV/LV","Assets\nLV circuits"]
["LV network",0,0,0,0,0,0.47913351897273304,0.70892384564689981,0.93871417232106646,""]
["LV substation",0,0,0,0,0,0.47913351897273304,0.70892384564689981,null,""]
["HV network",0,0,6.5420049562801799E-2,0.35162962287700078,0.35162962287700078,0.63783919619119978,null,null,""]
["HV substation",0,0,6.5420049562801799E-2,0.35162962287700078,null,null,null,null,""]
[]
["1061. Average split of rate 1 units by distribution time band"]
[]
[null,"Red","Amber","Green"]
["Domestic Unrestricted",0.14320337799237601,0.39651561494177523,0.46028100706584879,""]
["Domestic Two Rate",0.1514252192479435,0.41991396852294577,0.42866081222911073,""]
["Domestic Off Peak (related MPAN)",4.4815359759835215E-2,0.32491376716050352,0.63027087307966123]
["Small Non Domestic Unrestricted",0.12448955251915084,0.54839946451589383,0.32711098296495528]
["Small Non Domestic Two Rate",0.12789989767459184,0.51407192992762296,0.35802817239778517,""]
["Small Non Domestic Off Peak (related MPAN)",1.6662746927756659E-2,0.18539360436192651,0.79794364871031676,""]
["LV Medium Non-Domestic",0.13578714746948006,0.52737188616472797,0.33684096636579203,""]
["LV Sub Medium Non-Domestic",0.13396894905730031,0.52405310526112514,0.34197794568157458,""]
["HV Medium Non-Domestic",0.13341246842462706,0.54105928671962722,0.32552824485574577,""]
[]
["1062. Average split of rate 2 units by distribution time band"]
[]
[null,"Red","Amber","Green"]
["Domestic Two Rate",0,0,1,""]
["Small Non Domestic Two Rate",0,0,1,""]
["LV Medium Non-Domestic",0,0,1,""]
["LV Sub Medium Non-Domestic",0,0,1,""]
["HV Medium Non-Domestic",0,0,1,""]
[]
["1064. Average split of rate 1 units by special distribution time band"]
[]
[null,"Black","Yellow","Green",""]
["NHH UMS category A",2.9311076178356665E-2,0.37306092022856002,0.59762800359308332,""]
["NHH UMS category B",5.0432747136262314E-2,9.024866969588996E-2,0.8593185831678477,""]
["NHH UMS category C",9.6185231748668151E-2,0.16334039820901594,0.74047437004231587,""]
["NHH UMS category D",8.830567560272817E-3,0.63540611125889146,0.35576332118083581,""]
[]
["1066. Typical annual hours by special distribution time band"]
["Source: definition of distribution time bands."]
["The figures in this table will be automatically adjusted to match the number of days in the charging period."]
[]
[null,"Black","Yellow","Green"]
["Annual hours",258,3265.5,5236.5,""]
[]
["1068. Typical annual hours by distribution time band"]
[]
["Source: definition of distribution time bands."]
["The figures in this table will be automatically adjusted to match the number of days in the charging period."]
[null,"Red","Amber","Green"]
["Annual hours",783,2740.5,5236.5,""]
[]
["1069. Peaking probabilities by network level"]
[]
[]
["Source: analysis of network operation data."]
[null,"Red","Amber","Green","Black"]
["GSPs",1,0,0,1,""]
["132kV",0.78083657486560021,0.20804160459605281,1.1121820538347099E-2,0.76764541372159689,""]
["132kV/EHV",0.78083657486560021,0.20804160459605281,1.1121820538347099E-2,0.76764541372159689,""]
["EHV",0.66321603936627416,0.29786987200550125,3.8914088628224541E-2,0.65256034025485976,""]
["EHV/HV",0.66321603936627416,0.29786987200550125,3.8914088628224541E-2,0.65256034025485976,""]
["132kV/HV",0.78083657486560021,0.20804160459605281,1.1121820538347099E-2,0.76764541372159689,""]
["HV",0.66321603936627416,0.29786987200550125,3.8914088628224541E-2,0.65256034025485976,""]
["HV/LV",0.66321603936627416,0.29786987200550125,3.8914088628224541E-2,0.65256034025485976,""]
["LV circuits",0.66321603936627416,0.29786987200550125,3.8914088628224541E-2,0.65256034025485976,""]
[]
["1076. Target CDCM net revenue (£/year)"]
["Source: mostly forecasts and price control formulae."]
[]
[null,"Target CDCM net revenue (£/year)"]
["Target CDCM net revenue (£/year)",566961018.90815854]
[]
["1092. Average kVAr by kVA, by network level"]
[""]
["Source: analysis of operational data."]
["This is the average of MVAr/MVA or SQRT(1-PF^2) across relevant network elements."]
[null,"GSPs","132kV","132kV/EHV","EHV","EHV/HV","132kV/HV","HV","HV/LV","LV circuits"]
["Average kVAr by kVA, by network level",0.17488998364096539,0.17488998364096539,0.17488998364096539,0.17488998364096539,0.17488998364096539,0.17488998364096539,0.17488998364096539,0.17488998364096539,0.17488998364096539,""]
[]
[{"$f":"\"Loss adjustment factors and network use matrices for \"&CDCM!B7&\" in \"&CDCM!C7&\" (\"&CDCM!D7&\")\"","v":"Loss adjustment factors and network use matrices for WPD East Midlands in 2023/24 (Forecast)"}]
["This sheet calculates matrices of loss adjustment factors and of network use factors."]
["These matrices map out the extent to which each type of user uses each level of the network, and are used throughout the workbook."]
[]
["2001. Loss adjustment factors to transmission"]
["Data sources:"]
["x1 = Network level for each tariff (to get loss factors applicable to capacity) (in Loss adjustment factors to transmission)"]
["x2 = 1032. Loss adjustment factors to transmission"]
["Kind:","Fixed data",null,null,null,null,null,null,"Sum-product calculation"]
["Formula:","",null,null,null,null,null,null,"=SUMPRODUCT(x1, x2)"]
[]
[null,"Network level for each tariff (to get loss factors applicable to capacity)"]
[null,"132kV","132kV/EHV","EHV","EHV/HV","HV","HV/LV","LV circuits","Loss adjustment factor"]
["Domestic Unrestricted",0,0,0,0,0,0,1,{"$f":"SUMPRODUCT($B365:$H365,$B$110:$H$110)","v":1.08}]
["Domestic Two Rate",0,0,0,0,0,0,1,1.08]
["Domestic Off Peak (related MPAN)",0,0,0,0,0,0,1,1.08]
["Small Non Domestic Unrestricted",0,0,0,0,0,0,1,1.08]
["Small Non Domestic Two Rate",0,0,0,0,0,0,1,1.08]
["Small Non Domestic Off Peak (related MPAN)",0,0,0,0,0,0,1,1.08]
["LV Medium Non-Domestic",0,0,0,0,0,0,1,1.08]
["LV Sub Medium Non-Domestic",0,0,0,0,0,1,0,1.05]
["HV Medium Non-Domestic",0,0,0,0,1,0,0,1.034]
["LV Network Domestic",0,0,0,0,0,0,1,1.08]
["LV Network Non-Domestic Non-CT",0,0,0,0,0,0,1,1.08]
["LV HH Metered",0,0,0,0,0,0,1,1.08]
["LV Sub HH Metered",0,0,0,0,0,1,0,1.05]
["HV HH Metered",0,0,0,0,1,0,0,1.034]
["NHH UMS category A",0,0,0,0,0,0,1,1.08]
["NHH UMS category B",0,0,0,0,0,0,1,1.08]
["NHH UMS category C",0,0,0,0,0,0,1,1.08]
["NHH UMS category D",0,0,0,0,0,0,1,1.08]
["LV UMS (Pseudo HH Metered)",0,0,0,0,0,0,1,1.08]
["LV Generation NHH or Aggregate HH",0,0,0,0,0,0,1,1.08]
["LV Sub Generation NHH",0,0,0,0,0,1,0,1.05]
["LV Generation Intermittent",0,0,0,0,0,0,1,1.08]
["LV Generation Intermittent no RP charge",0,0,0,0,0,0,1,1.08]
["LV Generation Non-Intermittent",0,0,0,0,0,0,1,1.08]
["LV Generation Non-Intermittent no RP charge",0,0,0,0,0,0,1,1.08]
["LV Sub Generation Intermittent",0,0,0,0,0,1,0,1.05]
["LV Sub Generation Intermittent no RP charge",0,0,0,0,0,1,0,1.05]
["LV Sub Generation Non-Intermittent",0,0,0,0,0,1,0,1.05]
["LV Sub Generation Non-Intermittent no RP charge",0,0,0,0,0,1,0,1.05]
["HV Generation Intermittent",0,0,0,0,1,0,0,1.034]
["HV Generation Intermittent no RP charge",0,0,0,0,1,0,0,1.034]
["HV Generation Non-Intermittent",0,0,0,0,1,0,0,1.034]
["HV Generation Non-Intermittent no RP charge",0,0,0,0,1,0,0,1.034]
[]
["2002. Mapping of DRM network levels to core network levels"]
[]
[null,"132kV","132kV/EHV","EHV","EHV/HV","HV","HV/LV","LV circuits"]
["132kV",1,0,0,0,0,0,0]
["132kV/EHV",0,1,0,0,0,0,0]
["EHV",0,0,1,0,0,0,0]
["EHV/HV",0,0,0,1,0,0,0]
["132kV/HV",0,0,0,1,0,0,0]
["HV",0,0,0,0,1,0,0]
["HV/LV",0,0,0,0,0,1,0]
["LV circuits",0,0,0,0,0,0,1]
[]
["2003. Loss adjustment factor to transmission for each DRM network level"]
["Data sources:"]
["x1 = 2002. Mapping of DRM network levels to core network levels"]
["x2 = 1032. Loss adjustment factors to transmission"]
["Sum-product calculation =SUMPRODUCT(x1, x2)"]
[]
[null,"Loss adjustment factor to transmission for each DRM network level"]
["132kV",{"$f":"SUMPRODUCT($B402:$H402,$B$110:$H$110)","v":1.002}]
["132kV/EHV",1.008]
["EHV",1.01]
["EHV/HV",1.018]
["132kV/HV",1.018]
["HV",1.034]
["HV/LV",1.05]
["LV circuits",1.08]
[]
["2004. Loss adjustment factor to transmission for each network level"]
["Data sources:"]
["x1 = 2003. Loss adjustment factor to transmission for each DRM network level"]
["x2 = 1 for GSP level"]
["Combine tables = x1 or x2"]
[]
[null,"GSPs","132kV","132kV/EHV","EHV","EHV/HV","132kV/HV","HV","HV/LV","LV circuits"]
["Loss adjustment factor to transmission for each network level",1,{"$f":"$B$418","v":1.002},{"$f":"$B$419","v":1.008},{"$f":"$B$420","v":1.01},{"$f":"$B$421","v":1.018},{"$f":"$B$422","v":1.018},{"$f":"$B$423","v":1.034},{"$f":"$B$424","v":1.05},{"$f":"$B$425","v":1.08}]
[]
["2005. Network use factors"]
["These network use factors indicate to what extent each network level is used by each tariff. This table reflects the policy that"]
["generators receive credits only in respect of network levels above the voltage of connection. Generators do not receive credits at the"]
["voltage of connection. The factors in this table are before any adjustment for a 132kV/HV network level or for generation-dominated areas."]
[]
[null,"GSPs","132kV","132kV/EHV","EHV","EHV/HV","HV","HV/LV","LV circuits"]
["Domestic Unrestricted",1,1,1,1,1,1,1,1]
["Domestic Two Rate",1,1,1,1,1,1,1,1]
["Domestic Off Peak (related MPAN)",1,1,1,1,1,1,1,1]
["Small Non Domestic Unrestricted",1,1,1,1,1,1,1,1]
["Small Non Domestic Two Rate",1,1,1,1,1,1,1,1]
["Small Non Domestic Off Peak (related MPAN)",1,1,1,1,1,1,1,1]
["LV Medium Non-Domestic",1,1,1,1,1,1,1,1]
["LV Sub Medium Non-Domestic",1,1,1,1,1,1,1,0]
["HV Medium Non-Domestic",1,1,1,1,1,1,0,0]
["LV Network Domestic",1,1,1,1,1,1,1,1]
["LV Network Non-Domestic Non-CT",1,1,1,1,1,1,1,1]
["LV HH Metered",1,1,1,1,1,1,1,1]
["LV Sub HH Metered",1,1,1,1,1,1,1,0]
["HV HH Metered",1,1,1,1,1,1,0,0]
["NHH UMS category A",1,1,1,1,1,1,1,1]
["NHH UMS category B",1,1,1,1,1,1,1,1]
["NHH UMS category C",1,1,1,1,1,1,1,1]
["NHH UMS category D",1,1,1,1,1,1,1,1]
["LV UMS (Pseudo HH Metered)",1,1,1,1,1,1,1,1]
["LV Generation NHH or Aggregate HH",1,1,1,1,1,1,1,0]
["LV Sub Generation NHH",1,1,1,1,1,1,0,0]
["LV Generation Intermittent",1,1,1,1,1,1,1,0]
["LV Generation Intermittent no RP charge",1,1,1,1,1,1,1,0]
["LV Generation Non-Intermittent",1,1,1,1,1,1,1,0]
["LV Generation Non-Intermittent no RP charge",1,1,1,1,1,1,1,0]
["LV Sub Generation Intermittent",1,1,1,1,1,1,0,0]
["LV Sub Generation Intermittent no RP charge",1,1,1,1,1,1,0,0]
["LV Sub Generation Non-Intermittent",1,1,1,1,1,1,0,0]
["LV Sub Generation Non-Intermittent no RP charge",1,1,1,1,1,1,0,0]
["HV Generation Intermittent",1,1,1,1,1,0,0,0]
["HV Generation Intermittent no RP charge",1,1,1,1,1,0,0,0]
["HV Generation Non-Intermittent",1,1,1,1,1,0,0,0]
["HV Generation Non-Intermittent no RP charge",1,1,1,1,1,0,0,0]
[]
["2006. Proportion going through 132kV/EHV"]
["Data sources:"]
["x1 = 1018. Proportion of relevant load going through 132kV/HV direct transformation"]
["Calculation =1-x1"]
[]
[null,"132kV/EHV"]
["132kV/EHV",{"$f":"1-$B$36","v":0.92495565728868046}]
[]
["2007. Proportion going through EHV"]
["Data sources:"]
["x1 = 1018. Proportion of relevant load going through 132kV/HV direct transformation"]
["Calculation =1-x1"]
[]
[null,"EHV"]
["EHV",{"$f":"1-$B$36","v":0.92495565728868046}]
[]
["2008. Proportion going through EHV/HV"]
["Data sources:"]
["x1 = 1018. Proportion of relevant load going through 132kV/HV direct transformation"]
["Calculation =1-x1"]
[]
[null,"EHV/HV"]
["EHV/HV",{"$f":"1-$B$36","v":0.92495565728868046}]
[]
["2009. Rerouteing matrix for all network levels"]
["Data sources:"]
["x1 = 1018. Proportion of relevant load going through 132kV/HV direct transformation"]
["x2 = 2006. Proportion going through 132kV/EHV"]
["x3 = 2007. Proportion going through EHV"]
["x4 = 2008. Proportion going through EHV/HV"]
["x5 = Rerouteing matrix: default elements"]
["x6 = Map GSP to GSP"]
["Combine tables = x1 or x2 or x3 or x4 or x5 or x6"]
[]
[null,"GSPs","132kV","132kV/EHV","EHV","EHV/HV","HV","HV/LV","LV circuits"]
["GSPs",1]
["132kV",null,1,0,0,0,0,0,0]
["132kV/EHV",null,0,{"$f":"$B$482","v":0.92495565728868046},0,0,0,0,0]
["EHV",null,0,0,{"$f":"$B$490","v":0.92495565728868046},0,0,0,0]
["EHV/HV",null,0,0,0,{"$f":"$B$498","v":0.92495565728868046},0,0,0]
["132kV/HV",null,0,0,0,{"$f":"$B$36","v":7.5044342711319545E-2},0,0,0]
["HV",null,0,0,0,0,1,0,0]
["HV/LV",null,0,0,0,0,0,1,0]
["LV circuits",null,0,0,0,0,0,0,1]
[]
["2010. Network use factors: interim step in calculations before adjustments"]
["Data sources:"]
["x1 = 2005. Network use factors"]
["x2 = 2009. Rerouteing matrix for all network levels"]
["Sum-product calculation =SUMPRODUCT(x1, x2)"]
[]
[null,"GSPs","132kV","132kV/EHV","EHV","EHV/HV","132kV/HV","HV","HV/LV","LV circuits"]
["Domestic Unrestricted",{"$f":"SUMPRODUCT($B442:$I442,$B$511:$I$511)","v":1},{"$f":"SUMPRODUCT($B442:$I442,$B$512:$I$512)","v":1},{"$f":"SUMPRODUCT($B442:$I442,$B$513:$I$513)","v":0.92495565728868046},{"$f":"SUMPRODUCT($B442:$I442,$B$514:$I$514)","v":0.92495565728868046},{"$f":"SUMPRODUCT($B442:$I442,$B$515:$I$515)","v":0.92495565728868046},{"$f":"SUMPRODUCT($B442:$I442,$B$516:$I$516)","v":7.5044342711319545E-2},{"$f":"SUMPRODUCT($B442:$I442,$B$517:$I$517)","v":1},{"$f":"SUMPRODUCT($B442:$I442,$B$518:$I$518)","v":1},{"$f":"SUMPRODUCT($B442:$I442,$B$519:$I$519)","v":1}]
["Domestic Two Rate",1,1,0.92495565728868046,0.92495565728868046,0.92495565728868046,7.5044342711319545E-2,1,1,1]
["Domestic Off Peak (related MPAN)",1,1,0.92495565728868046,0.92495565728868046,0.92495565728868046,7.5044342711319545E-2,1,1,1]
["Small Non Domestic Unrestricted",1,1,0.92495565728868046,0.92495565728868046,0.92495565728868046,7.5044342711319545E-2,1,1,1]
["Small Non Domestic Two Rate",1,1,0.92495565728868046,0.92495565728868046,0.92495565728868046,7.5044342711319545E-2,1,1,1]
["Small Non Domestic Off Peak (related MPAN)",1,1,0.92495565728868046,0.92495565728868046,0.92495565728868046,7.5044342711319545E-2,1,1,1]
["LV Medium Non-Domestic",1,1,0.92495565728868046,0.92495565728868046,0.92495565728868046,7.5044342711319545E-2,1,1,1]
["LV Sub Medium Non-Domestic",1,1,0.92495565728868046,0.92495565728868046,0.92495565728868046,7.5044342711319545E-2,1,1,0]
["HV Medium Non-Domestic",1,1,0.92495565728868046,0.92495565728868046,0.92495565728868046,7.5044342711319545E-2,1,0,0]
["LV Network Domestic",1,1,0.92495565728868046,0.92495565728868046,0.92495565728868046,7.5044342711319545E-2,1,1,1]
["LV Network Non-Domestic Non-CT",1,1,0.92495565728868046,0.92495565728868046,0.92495565728868046,7.5044342711319545E-2,1,1,1]
["LV HH Metered",1,1,0.92495565728868046,0.92495565728868046,0.92495565728868046,7.5044342711319545E-2,1,1,1]
["LV Sub HH Metered",1,1,0.92495565728868046,0.92495565728868046,0.92495565728868046,7.5044342711319545E-2,1,1,0]
["HV HH Metered",1,1,0.92495565728868046,0.92495565728868046,0.92495565728868046,7.5044342711319545E-2,1,0,0]
["NHH UMS category A",1,1,0.92495565728868046,0.92495565728868046,0.92495565728868046,7.5044342711319545E-2,1,1,1]
["NHH UMS category B",1,1,0.92495565728868046,0.92495565728868046,0.92495565728868046,7.5044342711319545E-2,1,1,1]
["NHH UMS category C",1,1,0.92495565728868046,0.92495565728868046,0.92495565728868046,7.5044342711319545E-2,1,1,1]
["NHH UMS category D",1,1,0.92495565728868046,0.92495565728868046,0.92495565728868046,7.5044342711319545E-2,1,1,1]
["LV UMS (Pseudo HH Metered)",1,1,0.92495565728868046,0.92495565728868046,0.92495565728868046,7.5044342711319545E-2,1,1,1]
["LV Generation NHH or Aggregate HH",1,1,0.92495565728868046,0.92495565728868046,0.92495565728868046,7.5044342711319545E-2,1,1,0]
["LV Sub Generation NHH",1,1,0.92495565728868046,0.92495565728868046,0.92495565728868046,7.5044342711319545E-2,1,0,0]
["LV Generation Intermittent",1,1,0.92495565728868046,0.92495565728868046,0.92495565728868046,7.5044342711319545E-2,1,1,0]
["LV Generation Intermittent no RP charge",1,1,0.92495565728868046,0.92495565728868046,0.92495565728868046,7.5044342711319545E-2,1,1,0]
["LV Generation Non-Intermittent",1,1,0.92495565728868046,0.92495565728868046,0.92495565728868046,7.5044342711319545E-2,1,1,0]
["LV Generation Non-Intermittent no RP charge",1,1,0.92495565728868046,0.92495565728868046,0.92495565728868046,7.5044342711319545E-2,1,1,0]
["LV Sub Generation Intermittent",1,1,0.92495565728868046,0.92495565728868046,0.92495565728868046,7.5044342711319545E-2,1,0,0]
["LV Sub Generation Intermittent no RP charge",1,1,0.92495565728868046,0.92495565728868046,0.92495565728868046,7.5044342711319545E-2,1,0,0]
["LV Sub Generation Non-Intermittent",1,1,0.92495565728868046,0.92495565728868046,0.92495565728868046,7.5044342711319545E-2,1,0,0]
["LV Sub Generation Non-Intermittent no RP charge",1,1,0.92495565728868046,0.92495565728868046,0.92495565728868046,7.5044342711319545E-2,1,0,0]
["HV Generation Intermittent",1,1,0.92495565728868046,0.92495565728868046,0.92495565728868046,7.5044342711319545E-2,0,0,0]
["HV Generation Intermittent no RP charge",1,1,0.92495565728868046,0.92495565728868046,0.92495565728868046,7.5044342711319545E-2,0,0,0]
["HV Generation Non-Intermittent",1,1,0.92495565728868046,0.92495565728868046,0.92495565728868046,7.5044342711319545E-2,0,0,0]
["HV Generation Non-Intermittent no RP charge",1,1,0.92495565728868046,0.92495565728868046,0.92495565728868046,7.5044342711319545E-2,0,0,0]
[]
["2011. Network use factors for all tariffs"]
["Data sources:"]
["x1 = Network use factors including 132kV/HV for generation dominated tariffs"]
["x2 = Network use factors including 132kV/HV for HV Sub tariffs"]
["x3 = 2010. Network use factors: interim step in calculations before adjustments"]
["Combine tables = x1 or x2 or x3"]
[]
[null,"GSPs","132kV","132kV/EHV","EHV","EHV/HV","132kV/HV","HV","HV/LV","LV circuits"]
["Domestic Unrestricted",{"$f":"B528","v":1},1,0.92495565728868046,0.92495565728868046,0.92495565728868046,7.5044342711319545E-2,1,1,1]
["Domestic Two Rate",1,1,0.92495565728868046,0.92495565728868046,0.92495565728868046,7.5044342711319545E-2,1,1,1]
["Domestic Off Peak (related MPAN)",1,1,0.92495565728868046,0.92495565728868046,0.92495565728868046,7.5044342711319545E-2,1,1,1]
["Small Non Domestic Unrestricted",1,1,0.92495565728868046,0.92495565728868046,0.92495565728868046,7.5044342711319545E-2,1,1,1]
["Small Non Domestic Two Rate",1,1,0.92495565728868046,0.92495565728868046,0.92495565728868046,7.5044342711319545E-2,1,1,1]
["Small Non Domestic Off Peak (related MPAN)",1,1,0.92495565728868046,0.92495565728868046,0.92495565728868046,7.5044342711319545E-2,1,1,1]
["LV Medium Non-Domestic",1,1,0.92495565728868046,0.92495565728868046,0.92495565728868046,7.5044342711319545E-2,1,1,1]
["LV Sub Medium Non-Domestic",1,1,0.92495565728868046,0.92495565728868046,0.92495565728868046,7.5044342711319545E-2,1,1,0]
["HV Medium Non-Domestic",1,1,0.92495565728868046,0.92495565728868046,0.92495565728868046,7.5044342711319545E-2,1,0,0]
["LV Network Domestic",1,1,0.92495565728868046,0.92495565728868046,0.92495565728868046,7.5044342711319545E-2,1,1,1]
["LV Network Non-Domestic Non-CT",1,1,0.92495565728868046,0.92495565728868046,0.92495565728868046,7.5044342711319545E-2,1,1,1]
["LV HH Metered",1,1,0.92495565728868046,0.92495565728868046,0.92495565728868046,7.5044342711319545E-2,1,1,1]
["LV Sub HH Metered",1,1,0.92495565728868046,0.92495565728868046,0.92495565728868046,7.5044342711319545E-2,1,1,0]
["HV HH Metered",1,1,0.92495565728868046,0.92495565728868046,0.92495565728868046,7.5044342711319545E-2,1,0,0]
["NHH UMS category A",1,1,0.92495565728868046,0.92495565728868046,0.92495565728868046,7.5044342711319545E-2,1,1,1]
["NHH UMS category B",1,1,0.92495565728868046,0.92495565728868046,0.92495565728868046,7.5044342711319545E-2,1,1,1]
["NHH UMS category C",{"$f":"B544","v":1},1,0.92495565728868046,0.92495565728868046,0.92495565728868046,7.5044342711319545E-2,1,1,1]
["NHH UMS category D",1,1,0.92495565728868046,0.92495565728868046,0.92495565728868046,7.5044342711319545E-2,1,1,1]
["LV UMS (Pseudo HH Metered)",1,1,0.92495565728868046,0.92495565728868046,0.92495565728868046,7.5044342711319545E-2,1,1,1]
["LV Generation NHH or Aggregate HH",1,1,0.92495565728868046,0.92495565728868046,0.92495565728868046,7.5044342711319545E-2,1,1,0]
["LV Sub Generation NHH",1,1,0.92495565728868046,0.92495565728868046,0.92495565728868046,7.5044342711319545E-2,1,0,0]
["LV Generation Intermittent",1,1,0.92495565728868046,0.92495565728868046,0.92495565728868046,7.5044342711319545E-2,1,1,0]
["LV Generation Intermittent no RP charge",1,1,0.92495565728868046,0.92495565728868046,0.92495565728868046,7.5044342711319545E-2,1,1,0]
["LV Generation Non-Intermittent",1,1,0.92495565728868046,0.92495565728868046,0.92495565728868046,7.5044342711319545E-2,1,1,0]
["LV Generation Non-Intermittent no RP charge",1,1,0.92495565728868046,0.92495565728868046,0.92495565728868046,7.5044342711319545E-2,1,1,0]
["LV Sub Generation Intermittent",1,1,0.92495565728868046,0.92495565728868046,0.92495565728868046,7.5044342711319545E-2,1,0,0]
["LV Sub Generation Intermittent no RP charge",1,1,0.92495565728868046,0.92495565728868046,0.92495565728868046,7.5044342711319545E-2,1,0,0]
["LV Sub Generation Non-Intermittent",1,1,0.92495565728868046,0.92495565728868046,0.92495565728868046,7.5044342711319545E-2,1,0,0]
["LV Sub Generation Non-Intermittent no RP charge",1,1,0.92495565728868046,0.92495565728868046,0.92495565728868046,7.5044342711319545E-2,1,0,0]
["HV Generation Intermittent",1,1,0.92495565728868046,0.92495565728868046,0.92495565728868046,7.5044342711319545E-2,0,0,0]
["HV Generation Intermittent no RP charge",1,1,0.92495565728868046,0.92495565728868046,0.92495565728868046,7.5044342711319545E-2,0,0,0]
["HV Generation Non-Intermittent",1,1,0.92495565728868046,0.92495565728868046,0.92495565728868046,7.5044342711319545E-2,0,0,0]
["HV Generation Non-Intermittent no RP charge",{"$f":"B560","v":1},1,0.92495565728868046,0.92495565728868046,0.92495565728868046,7.5044342711319545E-2,0,0,0]
[]
["2012. Loss adjustment factors between end user meter reading and each network level, scaled by network use"]
["Data sources:"]
["x1 = 2004. Loss adjustment factor to transmission for each network level"]
["x2 = 2011. Network use factors for all tariffs"]
["x3 = 2001. Loss adjustment factor to transmission (in Loss adjustment factors to transmission)"]
["Calculation =IF(x1=\"\",x2,x2*x3/x1)"]
[]
[null,"GSPs","132kV","132kV/EHV","EHV","EHV/HV","132kV/HV","HV","HV/LV","LV circuits"]
["Domestic Unrestricted",{"$f":"IF(B$434=\"\",B570,B570*$I365/B$434)","v":1.08},1.0778443113772456,0.99102391852358629,0.98906149492254947,0.9812889095007612,7.9614823308669064E-2,1.0444874274661509,1.0285714285714287,1]
["Domestic Two Rate",1.08,1.0778443113772456,0.99102391852358629,0.98906149492254947,0.9812889095007612,7.9614823308669064E-2,1.0444874274661509,1.0285714285714287,1]
["Domestic Off Peak (related MPAN)",1.08,1.0778443113772456,0.99102391852358629,0.98906149492254947,0.9812889095007612,7.9614823308669064E-2,1.0444874274661509,1.0285714285714287,1]
["Small Non Domestic Unrestricted",1.08,1.0778443113772456,0.99102391852358629,0.98906149492254947,0.9812889095007612,7.9614823308669064E-2,1.0444874274661509,1.0285714285714287,1]
["Small Non Domestic Two Rate",1.08,1.0778443113772456,0.99102391852358629,0.98906149492254947,0.9812889095007612,7.9614823308669064E-2,1.0444874274661509,1.0285714285714287,1]
["Small Non Domestic Off Peak (related MPAN)",1.08,1.0778443113772456,0.99102391852358629,0.98906149492254947,0.9812889095007612,7.9614823308669064E-2,1.0444874274661509,1.0285714285714287,1]
["LV Medium Non-Domestic",1.08,1.0778443113772456,0.99102391852358629,0.98906149492254947,0.9812889095007612,7.9614823308669064E-2,1.0444874274661509,1.0285714285714287,1]
["LV Sub Medium Non-Domestic",1.05,1.0479041916167664,0.96349547634237553,0.96158756450803418,0.95403088423685123,7.7403300438983816E-2,1.0154738878143135,1,0]
["HV Medium Non-Domestic",1.034,1.0319361277445109,0.94881364051239647,0.94693480162029275,0.9394932707627659,7.6223821575151687E-2,1,0,0]
["LV Network Domestic",1.08,1.0778443113772456,0.99102391852358629,0.98906149492254947,0.9812889095007612,7.9614823308669064E-2,1.0444874274661509,1.0285714285714287,1]
["LV Network Non-Domestic Non-CT",1.08,1.0778443113772456,0.99102391852358629,0.98906149492254947,0.9812889095007612,7.9614823308669064E-2,1.0444874274661509,1.0285714285714287,1]
["LV HH Metered",1.08,1.0778443113772456,0.99102391852358629,0.98906149492254947,0.9812889095007612,7.9614823308669064E-2,1.0444874274661509,1.0285714285714287,1]
["LV Sub HH Metered",1.05,1.0479041916167664,0.96349547634237553,0.96158756450803418,0.95403088423685123,7.7403300438983816E-2,1.0154738878143135,1,0]
["HV HH Metered",1.034,1.0319361277445109,0.94881364051239647,0.94693480162029275,0.9394932707627659,7.6223821575151687E-2,1,0,0]
["NHH UMS category A",1.08,1.0778443113772456,0.99102391852358629,0.98906149492254947,0.9812889095007612,7.9614823308669064E-2,1.0444874274661509,1.0285714285714287,1]
["NHH UMS category B",1.08,1.0778443113772456,0.99102391852358629,0.98906149492254947,0.9812889095007612,7.9614823308669064E-2,1.0444874274661509,1.0285714285714287,1]
["NHH UMS category C",{"$f":"IF(B$434=\"\",B586,B586*$I381/B$434)","v":1.08},1.0778443113772456,0.99102391852358629,0.98906149492254947,0.9812889095007612,7.9614823308669064E-2,1.0444874274661509,1.0285714285714287,1]
["NHH UMS category D",1.08,1.0778443113772456,0.99102391852358629,0.98906149492254947,0.9812889095007612,7.9614823308669064E-2,1.0444874274661509,1.0285714285714287,1]
["LV UMS (Pseudo HH Metered)",1.08,1.0778443113772456,0.99102391852358629,0.98906149492254947,0.9812889095007612,7.9614823308669064E-2,1.0444874274661509,1.0285714285714287,1]
["LV Generation NHH or Aggregate HH",1.08,1.0778443113772456,0.99102391852358629,0.98906149492254947,0.9812889095007612,7.9614823308669064E-2,1.0444874274661509,1.0285714285714287,0]
["LV Sub Generation NHH",1.05,1.0479041916167664,0.96349547634237553,0.96158756450803418,0.95403088423685123,7.7403300438983816E-2,1.0154738878143135,0,0]
["LV Generation Intermittent",1.08,1.0778443113772456,0.99102391852358629,0.98906149492254947,0.9812889095007612,7.9614823308669064E-2,1.0444874274661509,1.0285714285714287,0]
["LV Generation Intermittent no RP charge",1.08,1.0778443113772456,0.99102391852358629,0.98906149492254947,0.9812889095007612,7.9614823308669064E-2,1.0444874274661509,1.0285714285714287,0]
["LV Generation Non-Intermittent",1.08,1.0778443113772456,0.99102391852358629,0.98906149492254947,0.9812889095007612,7.9614823308669064E-2,1.0444874274661509,1.0285714285714287,0]
["LV Generation Non-Intermittent no RP charge",1.08,1.0778443113772456,0.99102391852358629,0.98906149492254947,0.9812889095007612,7.9614823308669064E-2,1.0444874274661509,1.0285714285714287,0]
["LV Sub Generation Intermittent",1.05,1.0479041916167664,0.96349547634237553,0.96158756450803418,0.95403088423685123,7.7403300438983816E-2,1.0154738878143135,0,0]
["LV Sub Generation Intermittent no RP charge",1.05,1.0479041916167664,0.96349547634237553,0.96158756450803418,0.95403088423685123,7.7403300438983816E-2,1.0154738878143135,0,0]
["LV Sub Generation Non-Intermittent",1.05,1.0479041916167664,0.96349547634237553,0.96158756450803418,0.95403088423685123,7.7403300438983816E-2,1.0154738878143135,0,0]
["LV Sub Generation Non-Intermittent no RP charge",1.05,1.0479041916167664,0.96349547634237553,0.96158756450803418,0.95403088423685123,7.7403300438983816E-2,1.0154738878143135,0,0]
["HV Generation Intermittent",1.034,1.0319361277445109,0.94881364051239647,0.94693480162029275,0.9394932707627659,7.6223821575151687E-2,0,0,0]
["HV Generation Intermittent no RP charge",1.034,1.0319361277445109,0.94881364051239647,0.94693480162029275,0.9394932707627659,7.6223821575151687E-2,0,0,0]
["HV Generation Non-Intermittent",1.034,1.0319361277445109,0.94881364051239647,0.94693480162029275,0.9394932707627659,7.6223821575151687E-2,0,0,0]
["HV Generation Non-Intermittent no RP charge",{"$f":"IF(B$434=\"\",B602,B602*$I397/B$434)","v":1.034},1.0319361277445109,0.94881364051239647,0.94693480162029275,0.9394932707627659,7.6223821575151687E-2,0,0,0]
[]
[{"$f":"\"Network model for \"&CDCM!B7&\" in \"&CDCM!C7&\" (\"&CDCM!D7&\")\"","v":"Network model for WPD East Midlands in 2023/24 (Forecast)"}]
["This sheet collects data from a network model and calculates aggregated annuitised unit costs from these data."]
[]
["2101. Annuity rate"]
["Data sources:"]
["x1 = 1010. Rate of return (in Financial and general assumptions)"]
["x2 = 1010. Annualisation period (years) (in Financial and general assumptions)"]
["x3 = 1010. Days in the charging year (in Financial and general assumptions)"]
["Calculation =PMT(x1,x2,-1)*IF(OR(x3>366,x3<365),x3/365.25,1)"]
[]
[null,"Annuity rate"]
["Annuity rate",{"$f":"PMT(B14,C14,-1)*IF(OR(F14>366,F14<365),F14/365.25,1)","v":5.211317189347376E-2}]
[]
["2102. Loss adjustment factor to transmission for each core level"]
["Data sources:"]
["x1 = 1032. Loss adjustment factors to transmission"]
["x2 = 1 for GSP level"]
["Combine tables = x1 or x2"]
[]
[null,"GSPs","132kV","132kV/EHV","EHV","EHV/HV","HV","HV/LV","LV circuits"]
["Loss adjustment factor to transmission for each core level",1,{"$f":"$B110","v":1.002},{"$f":"$C110","v":1.008},{"$f":"$D110","v":1.01},{"$f":"$E110","v":1.018},{"$f":"$F110","v":1.034},{"$f":"$G110","v":1.05},{"$f":"$H110","v":1.08}]
[]
["2103. Loss adjustment factors"]
["Data sources:"]
["x1 = 2102. Loss adjustment factor to transmission for each core level"]
["x2 = Loss adjustment factor to transmission for network level exit (in Loss adjustment factors)"]
["Kind:","Copy cells","Special copy"]
["Formula:","=x1","= x2"]
[]
[null,"Loss adjustment factor to transmission for network level exit","Loss adjustment factor to transmission for network level entry"]
["GSPs",{"$f":"$B$666","v":1}]
["132kV",{"$f":"$C$666","v":1.002},{"$f":"B676","v":1}]
["132kV/EHV",{"$f":"$D$666","v":1.008},1.002]
["EHV",{"$f":"$E$666","v":1.01},1.008]
["EHV/HV",{"$f":"$F$666","v":1.018},1.01]
["HV",{"$f":"$G$666","v":1.034},1.018]
["HV/LV",{"$f":"$H$666","v":1.05},1.034]
["LV circuits",{"$f":"$I$666","v":1.08},1.05]
[]
["2104. Diversity calculations"]
["Data sources:"]
["x1 = 1017. Diversity allowance between top and bottom of network level"]
["x2 = Coincidence to system peak at level exit (in Diversity calculations)"]
["Kind:","Special calculation","Special calculation","Special calculation"]
["Formula:","=previous/(1+x1)","=previous/(1+x1)","=1/x2-1"]
[]
[null,"Coincidence to GSP peak at level exit","Coincidence to system peak at level exit","Diversity allowance between level exit and GSP Group"]
["GSPs",null,{"$f":"1/(1+B24)","v":0.97588229628168977},{"$f":"1/C693-1","v":2.4713742436156094E-2}]
["132kV",{"$f":"1/(1+B25)","v":0.95692545677786833},{"$f":"C693/(1+B25)","v":0.93384661213079101},7.0839672179421997E-2]
["132kV/EHV",{"$f":"B694/(1+B26)","v":0.95692545677786833},0.93384661213079101,7.0839672179421997E-2]
["EHV",0.88684875846544553,0.8654600028658247,0.15545489876905783]
["EHV/HV",0.88684875846544553,0.8654600028658247,0.15545489876905783]
["HV",0.66182743169063096,0.64586567378046611,0.54830956435053779]
["HV/LV",0.66182743169063096,0.64586567378046611,0.54830956435053779]
["LV circuits",0.66182743169063096,0.64586567378046611]
[]
["2105. Network model total maximum demand at substation (MW)"]
["Data sources:"]
["x1 = 1019. Network model GSP peak demand (MW)"]
["x2 = 2104. Coincidence to GSP peak at level exit (in Diversity calculations)"]
["Calculation =x1/x2"]
[]
[null,"Network model total maximum demand at substation (MW)"]
["132kV",{"$f":"B$41/B$694","v":522.50673911799311}]
["132kV/EHV",{"$f":"B$41/B$695","v":522.50673911799311}]
["EHV",{"$f":"B$41/B$696","v":563.79398993033783}]
["EHV/HV",{"$f":"B$41/B$697","v":563.79398993033783}]
["HV",{"$f":"B$41/B$698","v":755.48394650665273}]
["HV/LV",{"$f":"B$41/B$699","v":755.48394650665273}]
["LV circuits",{"$f":"B$41/B$700","v":755.48394650665273}]
[]
["2106. Network model contribution to system maximum load measured at network level exit (MW)"]
["Data sources:"]
["x1 = 2105. Network model total maximum demand at substation (MW)"]
["x2 = 2104. Coincidence to system peak at level exit (in Diversity calculations)"]
["x3 = 2103. Loss adjustment factor to transmission for network level exit (in Loss adjustment factors)"]
["Calculation =x1*x2/x3"]
[]
[null,"Network model contribution to system maximum load measured at network level exit (MW)"]
["132kV",{"$f":"B709*C$694/B$677","v":486.96721371341806}]
["132kV/EHV",{"$f":"B710*C$695/B$678","v":484.06859934607633}]
["EHV",{"$f":"B711*C$696/B$679","v":483.11004766420291}]
["EHV/HV",{"$f":"B712*C$697/B$680","v":479.31350504994589}]
["HV",{"$f":"B713*C$698/B$681","v":471.89666164491763}]
["HV/LV",{"$f":"B714*C$699/B$682","v":464.7058553722332}]
["LV circuits",{"$f":"B715*C$700/B$683","v":451.79735938967116}]
[]
["2107. Rerouteing matrix for DRM network levels"]
["Data sources:"]
["x1 = 1018. Proportion of relevant load going through 132kV/HV direct transformation"]
["x2 = 2006. Proportion going through 132kV/EHV"]
["x3 = 2007. Proportion going through EHV"]
["x4 = 2008. Proportion going through EHV/HV"]
["x5 = Rerouteing matrix: default elements"]
["Combine tables = x1 or x2 or x3 or x4 or x5"]
[]
[null,"132kV","132kV/EHV","EHV","EHV/HV","132kV/HV","HV","HV/LV","LV circuits"]
["132kV",1,0,0,0,0,0,0,0]
["132kV/EHV",0,{"$f":"$B$482","v":0.92495565728868046},0,0,0,0,0,0]
["EHV",0,0,{"$f":"$B$490","v":0.92495565728868046},0,0,0,0,0]
["EHV/HV",0,0,0,{"$f":"$B$498","v":0.92495565728868046},{"$f":"$B$36","v":7.5044342711319545E-2},0,0,0]
["HV",0,0,0,0,0,1,0,0]
["HV/LV",0,0,0,0,0,0,1,0]
["LV circuits",0,0,0,0,0,0,0,1]
[]
["2108. GSP simultaneous maximum load assumed through each network level (MW)"]
["Data sources:"]
["x1 = 2106. Network model contribution to system maximum load measured at network level exit (MW)"]
["x2 = 2107. Rerouteing matrix for DRM network levels"]
["Sum-product calculation =SUMPRODUCT(x1, x2)"]
[]
[null,"GSP simultaneous maximum load assumed through each network level (MW)"]
["132kV",{"$f":"SUMPRODUCT(B$725:B$731,$B$743:$B$749)","v":486.96721371341806}]
["132kV/EHV",{"$f":"SUMPRODUCT(B$725:B$731,$C$743:$C$749)","v":447.74198948096097}]
["EHV",{"$f":"SUMPRODUCT(B$725:B$731,$D$743:$D$749)","v":446.85537168000855}]
["EHV/HV",{"$f":"SUMPRODUCT(B$725:B$731,$E$743:$E$749)","v":443.34373811081394}]
["132kV/HV",{"$f":"SUMPRODUCT(B$725:B$731,$F$743:$F$749)","v":35.969766939131929}]
["HV",{"$f":"SUMPRODUCT(B$725:B$731,$G$743:$G$749)","v":471.89666164491763}]
["HV/LV",{"$f":"SUMPRODUCT(B$725:B$731,$H$743:$H$749)","v":464.7058553722332}]
["LV circuits",{"$f":"SUMPRODUCT(B$725:B$731,$I$743:$I$749)","v":451.79735938967116}]
[]
["2109. Network model annuity by simultaneous maximum load for each network level (£/kW/year)"]
["Data sources:"]
["x1 = 2108. GSP simultaneous maximum load assumed through each network level (MW)"]
["x2 = 1020. Gross asset cost by network level (£)"]
["x3 = 2101. Annuity rate"]
["Calculation =IF(x1,0.001*x2*x3/x1,0)"]
[]
[null,"Model £/kW SML"]
["Assets 132kV",{"$f":"IF(B758,0.001*B46*B$657/B758,0)","v":6.8406695411945799}]
["Assets 132kV/EHV",3.7808168232159702]
["Assets EHV",4.6306306903691929]
["Assets EHV/HV",7.5768735726289158]
["Assets 132kV/HV",7.8325605575963486]
["Assets HV",16.890105569702939]
["Assets HV/LV",7.7527642363240536]
["Assets LV circuits",15.518890121433696]
[]
[{"$f":"\"Service models for \"&CDCM!B7&\" in \"&CDCM!C7&\" (\"&CDCM!D7&\")\"","v":"Service models for WPD East Midlands in 2023/24 (Forecast)"}]
["This sheet collects and processes data from the service models."]
[]
["2201. Asset £/customer from LV service models"]
["Data sources:"]
["x1 = 1025. Matrix of applicability of LV service models to tariffs with fixed charges"]
["x2 = 1022. LV service model asset cost (£)"]
["Sum-product calculation =SUMPRODUCT(x1, x2)"]
[]
[null,"Assets\nLV customer"]
["Domestic Unrestricted",{"$f":"SUMPRODUCT($B68:$I68,$B$58:$I$58)","v":246.40618671478271}]
["Domestic Two Rate",246.40618671478271]
["Small Non Domestic Unrestricted",751.35737005855106]
["Small Non Domestic Two Rate",751.35737005855106]
["LV Medium Non-Domestic",869.00697295072496]
["LV Sub Medium Non-Domestic",630.65950121043488]
["LV Network Domestic",246.40618671478271]
["LV Network Non-Domestic Non-CT",751.35737005855106]
["LV HH Metered",1391.3724556224931]
["LV Sub HH Metered",1086.1632694956525]
["LV Generation NHH or Aggregate HH",0]
["LV Sub Generation NHH",0]
["LV Generation Intermittent",0]
["LV Generation Intermittent no RP charge",0]
["LV Generation Non-Intermittent",0]
["LV Generation Non-Intermittent no RP charge",0]
["LV Sub Generation Intermittent",0]
["LV Sub Generation Intermittent no RP charge",0]
["LV Sub Generation Non-Intermittent",0]
["LV Sub Generation Non-Intermittent no RP charge",0]
[]
["2202. LV unmetered service model assets £/(MWh/year)"]
["Data sources:"]
["x1 = 1026. Matrix of applicability of LV service models to unmetered tariffs"]
["x2 = 1022. LV service model asset cost (£)"]
["Sum-product calculation =SUMPRODUCT(x1, x2)"]
[]
[null,"Assets\nLV customer"]
["LV unmetered service model assets £/(MWh/year)",{"$f":"SUMPRODUCT($B94:$I94,$B$58:$I$58)","v":290.09946427531133}]
[]
["2203. LV unmetered service model asset charge (p/kWh)"]
["Data sources:"]
["x1 = 1010. Annuity proportion for customer-contributed assets (in Financial and general assumptions)"]
["x2 = 2202. LV unmetered service model assets £/(MWh/year)"]
["x3 = 2101. Annuity rate"]
["Calculation =0.1*x1*x2*x3"]
[]
[null,"Assets\nLV customer"]
["LV unmetered service model asset charge (p/kWh)",{"$f":"0.1*$D14*B822*$B657","v":0}]
[]
["2204. Asset £/customer from HV service models"]
["Data sources:"]
["x1 = 1028. Matrix of applicability of HV service models to tariffs with fixed charges"]
["x2 = 1023. HV service model asset cost (£)"]
["Sum-product calculation =SUMPRODUCT(x1, x2)"]
[]
[null,"Assets\nHV customer"]
["HV Medium Non-Domestic",{"$f":"SUMPRODUCT($B99:$F99,$B$63:$F$63)","v":11730.273956368697}]
["HV HH Metered",11730.273956368697]
["HV Generation Intermittent",4822.5697391304357]
["HV Generation Intermittent no RP charge",4822.5697391304357]
["HV Generation Non-Intermittent",4822.5697391304357]
["HV Generation Non-Intermittent no RP charge",4822.5697391304357]
[]
["2205. Service model assets by tariff (£)"]
["Data sources:"]
["x1 = 2201. Asset £/customer from LV service models"]
["x2 = 2204. Asset £/customer from HV service models"]
["Combine tables = x1 or x2"]
[]
[null,"Assets\nLV customer","Assets\nHV customer"]
["Domestic Unrestricted",{"$f":"$B$794","v":246.40618671478271}]
["Domestic Two Rate",{"$f":"$B$795","v":246.40618671478271}]
["Domestic Off Peak (related MPAN)"]
["Small Non Domestic Unrestricted",{"$f":"$B$796","v":751.35737005855106}]
["Small Non Domestic Two Rate",{"$f":"$B$797","v":751.35737005855106}]
["Small Non Domestic Off Peak (related MPAN)"]
["LV Medium Non-Domestic",{"$f":"$B$798","v":869.00697295072496}]
["LV Sub Medium Non-Domestic",{"$f":"$B$799","v":630.65950121043488}]
["HV Medium Non-Domestic",null,{"$f":"$B$841","v":11730.273956368697}]
["LV Network Domestic",{"$f":"$B$800","v":246.40618671478271}]
["LV Network Non-Domestic Non-CT",{"$f":"$B$801","v":751.35737005855106}]
["LV HH Metered",{"$f":"$B$802","v":1391.3724556224931}]
["LV Sub HH Metered",{"$f":"$B$803","v":1086.1632694956525}]
["HV HH Metered",null,{"$f":"$B$842","v":11730.273956368697}]
["NHH UMS category A"]
["NHH UMS category B"]
["NHH UMS category C"]
["NHH UMS category D"]
["LV UMS (Pseudo HH Metered)"]
["LV Generation NHH or Aggregate HH",{"$f":"$B$804","v":0}]
["LV Sub Generation NHH",{"$f":"$B$805","v":0}]
["LV Generation Intermittent",{"$f":"$B$806","v":0}]
["LV Generation Intermittent no RP charge",{"$f":"$B$807","v":0}]
["LV Generation Non-Intermittent",{"$f":"$B$808","v":0}]
["LV Generation Non-Intermittent no RP charge",{"$f":"$B$809","v":0}]
["LV Sub Generation Intermittent",{"$f":"$B$810","v":0}]
["LV Sub Generation Intermittent no RP charge",{"$f":"$B$811","v":0}]
["LV Sub Generation Non-Intermittent",{"$f":"$B$812","v":0}]
["LV Sub Generation Non-Intermittent no RP charge",{"$f":"$B$813","v":0}]
["HV Generation Intermittent",null,{"$f":"$B$843","v":4822.5697391304357}]
["HV Generation Intermittent no RP charge",null,{"$f":"$B$844","v":4822.5697391304357}]
["HV Generation Non-Intermittent",null,{"$f":"$B$845","v":4822.5697391304357}]
["HV Generation Non-Intermittent no RP charge",null,{"$f":"$B$846","v":4822.5697391304357}]
[]
["2206. Replacement annuities for service models"]
["Data sources:"]
["x1 = 1010. Days in the charging year (in Financial and general assumptions)"]
["x2 = 2205. Service model assets by tariff (£)"]
["x3 = 2101. Annuity rate"]
["x4 = 1010. Annuity proportion for customer-contributed assets (in Financial and general assumptions)"]
["x5 = Service model p/MPAN/day charge (in Replacement annuities for service models)"]
["Kind:","Calculation",null,"Cell summation"]
["Formula:","=100/x1*x2*x3*x4",null,"=SUM(x5)"]
[]
[null,"Service model p/MPAN/day charge"]
[null,"Assets\nLV customer","Assets\nHV customer","Service model p/MPAN/day"]
["Domestic Unrestricted",{"$f":"100/$F$14*B855*$B$657*$D$14","v":0},0,{"$f":"SUM($B901:$C901)","v":0}]
["Domestic Two Rate",0,0,0]
["Domestic Off Peak (related MPAN)",0,0,0]
["Small Non Domestic Unrestricted",0,0,0]
["Small Non Domestic Two Rate",0,0,0]
["Small Non Domestic Off Peak (related MPAN)",0,0,0]
["LV Medium Non-Domestic",0,0,0]
["LV Sub Medium Non-Domestic",0,0,0]
["HV Medium Non-Domestic",0,0,0]
["LV Network Domestic",0,0,0]
["LV Network Non-Domestic Non-CT",0,0,0]
["LV HH Metered",0,0,0]
["LV Sub HH Metered",0,0,0]
["HV HH Metered",0,0,0]
["NHH UMS category A",0,0,0]
["NHH UMS category B",0,0,0]
["NHH UMS category C",{"$f":"100/$F$14*B871*$B$657*$D$14","v":0},0,0]
["NHH UMS category D",0,0,0]
["LV UMS (Pseudo HH Metered)",0,0,0]
["LV Generation NHH or Aggregate HH",0,0,0]
["LV Sub Generation NHH",0,0,0]
["LV Generation Intermittent",0,0,0]
["LV Generation Intermittent no RP charge",0,0,0]
["LV Generation Non-Intermittent",0,0,0]
["LV Generation Non-Intermittent no RP charge",0,0,0]
["LV Sub Generation Intermittent",0,0,0]
["LV Sub Generation Intermittent no RP charge",0,0,0]
["LV Sub Generation Non-Intermittent",0,0,0]
["LV Sub Generation Non-Intermittent no RP charge",0,0,0]
["HV Generation Intermittent",0,0,0]
["HV Generation Intermittent no RP charge",0,0,0]
["HV Generation Non-Intermittent",0,0,0]
["HV Generation Non-Intermittent no RP charge",{"$f":"100/$F$14*B887*$B$657*$D$14","v":0},0,0]
[]
[{"$f":"\"Load characteristics for \"&CDCM!B7&\" in \"&CDCM!C7&\" (\"&CDCM!D7&\")\"","v":"Load characteristics for WPD East Midlands in 2023/24 (Forecast)"}]
["This sheet compiles information about the assumed characteristics of network users."]
[]
["A load factor represents the average load of a user or user group, relative to the maximum load level of that user or"]
["user group. Load factors are numbers between 0 and 1."]
[]
["A coincidence factor represents the expectation value of the load of a user or user group at the time of system maximum load,"]
["relative to the maximum load level of that user or user group.  Coincidence factors are numbers between 0 and 1."]
["A load coefficient is the expectation value of the load of a user or user group at the time of system maximum load, relative to the average load level of that user or user group."]
["For demand users, the load coefficient is a demand coefficient and can be calculated as the ratio of the coincidence factor to the load factor."]
[]
["2301. Demand coefficient (load at time of system maximum load divided by average load)"]
["Data sources:"]
["x1 = 1041. Coincidence factor to system maximum load for each type of demand user (in Load profile data for demand users)"]
["x2 = 1041. Load factor for each type of demand user (in Load profile data for demand users)"]
["Calculation =x1/x2"]
[]
[null,"Demand coefficient"]
["Domestic Unrestricted",{"$f":"B122/C122","v":2.0719138209379344}]
["Domestic Two Rate",1.7110794871658754]
["Domestic Off Peak (related MPAN)",0]
["Small Non Domestic Unrestricted",1.9269903642344586]
["Small Non Domestic Two Rate",1.6142654318638558]
["Small Non Domestic Off Peak (related MPAN)",0]
["LV Medium Non-Domestic",1.5972369030582982]
["LV Sub Medium Non-Domestic",1.5972369030582982]
["HV Medium Non-Domestic",1.6033974356470511]
["LV Network Domestic",1.9413859923621957]
["LV Network Non-Domestic Non-CT",1.7582840032678664]
["LV HH Metered",1.4699548525502528]
["LV Sub HH Metered",1.4510516037285155]
["HV HH Metered",1.1869376667784579]
["NHH UMS category A",1]
["NHH UMS category B",2.1154705331451926]
["NHH UMS category C",4.1085695144268071]
["NHH UMS category D",1.0481312090416806E-2]
["LV UMS (Pseudo HH Metered)",2.1530263950599697]
[]
["2302. Load coefficient"]
["Data sources:"]
["x1 = 2301. Demand coefficient (load at time of system maximum load divided by average load)"]
["x2 = Negative of generation coefficient; set to -1"]
["Combine tables = x1 or x2"]
[]
[null,"Load coefficient"]
["Domestic Unrestricted",{"$f":"B$953","v":2.0719138209379344}]
["Domestic Two Rate",{"$f":"B$954","v":1.7110794871658754}]
["Domestic Off Peak (related MPAN)",{"$f":"B$955","v":0}]
["Small Non Domestic Unrestricted",{"$f":"B$956","v":1.9269903642344586}]
["Small Non Domestic Two Rate",{"$f":"B$957","v":1.6142654318638558}]
["Small Non Domestic Off Peak (related MPAN)",{"$f":"B$958","v":0}]
["LV Medium Non-Domestic",{"$f":"B$959","v":1.5972369030582982}]
["LV Sub Medium Non-Domestic",{"$f":"B$960","v":1.5972369030582982}]
["HV Medium Non-Domestic",{"$f":"B$961","v":1.6033974356470511}]
["LV Network Domestic",{"$f":"B$962","v":1.9413859923621957}]
["LV Network Non-Domestic Non-CT",{"$f":"B$963","v":1.7582840032678664}]
["LV HH Metered",{"$f":"B$964","v":1.4699548525502528}]
["LV Sub HH Metered",{"$f":"B$965","v":1.4510516037285155}]
["HV HH Metered",{"$f":"B$966","v":1.1869376667784579}]
["NHH UMS category A",{"$f":"B$967","v":1}]
["NHH UMS category B",{"$f":"B$968","v":2.1154705331451926}]
["NHH UMS category C",{"$f":"B$969","v":4.1085695144268071}]
["NHH UMS category D",{"$f":"B$970","v":1.0481312090416806E-2}]
["LV UMS (Pseudo HH Metered)",{"$f":"B$971","v":2.1530263950599697}]
["LV Generation NHH or Aggregate HH",-1]
["LV Sub Generation NHH",-1]
["LV Generation Intermittent",-1]
["LV Generation Intermittent no RP charge",-1]
["LV Generation Non-Intermittent",-1]
["LV Generation Non-Intermittent no RP charge",-1]
["LV Sub Generation Intermittent",-1]
["LV Sub Generation Intermittent no RP charge",-1]
["LV Sub Generation Non-Intermittent",-1]
["LV Sub Generation Non-Intermittent no RP charge",-1]
["HV Generation Intermittent",-1]
["HV Generation Intermittent no RP charge",-1]
["HV Generation Non-Intermittent",-1]
["HV Generation Non-Intermittent no RP charge",-1]
[]
["2303. Discount map"]
[]
[null,"No discount","LDNO LV: LV user","LDNO HV: LV user","LDNO HV: LV sub user","LDNO HV: HV user"]
["> Domestic Unrestricted"]
["Domestic Unrestricted",1,0,0,0,0]
["LDNO LV: Domestic Unrestricted",0,1,0,0,0]
["LDNO HV: Domestic Unrestricted",0,0,1,0,0]
["> Domestic Two Rate"]
["Domestic Two Rate",1,0,0,0,0]
["LDNO LV: Domestic Two Rate",0,1,0,0,0]
["LDNO HV: Domestic Two Rate",0,0,1,0,0]
["> Domestic Off Peak (related MPAN)"]
["Domestic Off Peak (related MPAN)",1,0,0,0,0]
["LDNO LV: Domestic Off Peak (related MPAN)",0,1,0,0,0]
["LDNO HV: Domestic Off Peak (related MPAN)",0,0,1,0,0]
["> Small Non Domestic Unrestricted"]
["Small Non Domestic Unrestricted",1,0,0,0,0]
["LDNO LV: Small Non Domestic Unrestricted",0,1,0,0,0]
["LDNO HV: Small Non Domestic Unrestricted",0,0,1,0,0]
["> Small Non Domestic Two Rate"]
["Small Non Domestic Two Rate",1,0,0,0,0]
["LDNO LV: Small Non Domestic Two Rate",0,1,0,0,0]
["LDNO HV: Small Non Domestic Two Rate",0,0,1,0,0]
["> Small Non Domestic Off Peak (related MPAN)"]
["Small Non Domestic Off Peak (related MPAN)",1,0,0,0,0]
["LDNO LV: Small Non Domestic Off Peak (related MPAN)",0,1,0,0,0]
["LDNO HV: Small Non Domestic Off Peak (related MPAN)",0,0,1,0,0]
["> LV Medium Non-Domestic"]
["LV Medium Non-Domestic",1,0,0,0,0]
["LDNO LV: LV Medium Non-Domestic",0,1,0,0,0]
["LDNO HV: LV Medium Non-Domestic",0,0,1,0,0]
["> LV Sub Medium Non-Domestic"]
["LV Sub Medium Non-Domestic",1,0,0,0,0]
["> HV Medium Non-Domestic"]
["HV Medium Non-Domestic",1,0,0,0,0]
["> LV Network Domestic"]
["LV Network Domestic",1,0,0,0,0]
["LDNO LV: LV Network Domestic",0,1,0,0,0]
["LDNO HV: LV Network Domestic",0,0,1,0,0]
["> LV Network Non-Domestic Non-CT"]
["LV Network Non-Domestic Non-CT",1,0,0,0,0]
["LDNO LV: LV Network Non-Domestic Non-CT",0,1,0,0,0]
["LDNO HV: LV Network Non-Domestic Non-CT",0,0,1,0,0]
["> LV HH Metered"]
["LV HH Metered",1,0,0,0,0]
["LDNO LV: LV HH Metered",0,1,0,0,0]
["LDNO HV: LV HH Metered",0,0,1,0,0]
["> LV Sub HH Metered"]
["LV Sub HH Metered",1,0,0,0,0]
["LDNO HV: LV Sub HH Metered",0,0,0,1,0]
["> HV HH Metered"]
["HV HH Metered",1,0,0,0,0]
["LDNO HV: HV HH Metered",0,0,0,0,1]
["> NHH UMS category A"]
["NHH UMS category A",1,0,0,0,0]
["LDNO LV: NHH UMS category A",0,1,0,0,0]
["LDNO HV: NHH UMS category A",0,0,1,0,0]
["> NHH UMS category B"]
["NHH UMS category B",1,0,0,0,0]
["LDNO LV: NHH UMS category B",0,1,0,0,0]
["LDNO HV: NHH UMS category B",0,0,1,0,0]
["> NHH UMS category C"]
["NHH UMS category C",1,0,0,0,0]
["LDNO LV: NHH UMS category C",0,1,0,0,0]
["LDNO HV: NHH UMS category C",0,0,1,0,0]
["> NHH UMS category D"]
["NHH UMS category D",1,0,0,0,0]
["LDNO LV: NHH UMS category D",0,1,0,0,0]
["LDNO HV: NHH UMS category D",0,0,1,0,0]
["> LV UMS (Pseudo HH Metered)"]
["LV UMS (Pseudo HH Metered)",1,0,0,0,0]
["LDNO LV: LV UMS (Pseudo HH Metered)",0,1,0,0,0]
["LDNO HV: LV UMS (Pseudo HH Metered)",0,0,1,0,0]
["> LV Generation NHH or Aggregate HH"]
["LV Generation NHH or Aggregate HH",1,0,0,0,0]
["LDNO LV: LV Generation NHH or Aggregate HH",1,0,0,0,0]
["LDNO HV: LV Generation NHH or Aggregate HH",1,0,0,0,0]
["> LV Sub Generation NHH"]
["LV Sub Generation NHH",1,0,0,0,0]
["LDNO HV: LV Sub Generation NHH",1,0,0,0,0]
["> LV Generation Intermittent"]
["LV Generation Intermittent",1,0,0,0,0]
["LDNO LV: LV Generation Intermittent",1,0,0,0,0]
["LDNO HV: LV Generation Intermittent",1,0,0,0,0]
["> LV Generation Intermittent no RP charge"]
["LV Generation Intermittent no RP charge",1,0,0,0,0]
["> LV Generation Non-Intermittent"]
["LV Generation Non-Intermittent",1,0,0,0,0]
["LDNO LV: LV Generation Non-Intermittent",1,0,0,0,0]
["LDNO HV: LV Generation Non-Intermittent",1,0,0,0,0]
["> LV Generation Non-Intermittent no RP charge"]
["LV Generation Non-Intermittent no RP charge",1,0,0,0,0]
["> LV Sub Generation Intermittent"]
["LV Sub Generation Intermittent",1,0,0,0,0]
["LDNO HV: LV Sub Generation Intermittent",1,0,0,0,0]
["> LV Sub Generation Intermittent no RP charge"]
["LV Sub Generation Intermittent no RP charge",1,0,0,0,0]
["> LV Sub Generation Non-Intermittent"]
["LV Sub Generation Non-Intermittent",1,0,0,0,0]
["LDNO HV: LV Sub Generation Non-Intermittent",1,0,0,0,0]
["> LV Sub Generation Non-Intermittent no RP charge"]
["LV Sub Generation Non-Intermittent no RP charge",1,0,0,0,0]
["> HV Generation Intermittent"]
["HV Generation Intermittent",1,0,0,0,0]
["LDNO HV: HV Generation Intermittent",1,0,0,0,0]
["> HV Generation Intermittent no RP charge"]
["HV Generation Intermittent no RP charge",1,0,0,0,0]
["> HV Generation Non-Intermittent"]
["HV Generation Non-Intermittent",1,0,0,0,0]
["LDNO HV: HV Generation Non-Intermittent",1,0,0,0,0]
["> HV Generation Non-Intermittent no RP charge"]
["HV Generation Non-Intermittent no RP charge",1,0,0,0,0]
[]
["2304. LDNO discounts and volumes adjusted for discount"]
["Data sources:"]
["x1 = 2303. Discount map"]
["x2 = 1037. Embedded network (LDNO) discounts"]
["x3 = 100 per cent discount for generators on LDNO networks"]
["x4 = Discount for each tariff (except for fixed charges) (in LDNO discounts and volumes adjusted for discount)"]
["x5 = 1053. Rate 1 units (MWh) by tariff (in Volume forecasts for the charging year)"]
["x6 = 1053. Rate 2 units (MWh) by tariff (in Volume forecasts for the charging year)"]
["x7 = 1053. Rate 3 units (MWh) by tariff (in Volume forecasts for the charging year)"]
["x8 = 1053. MPANs by tariff (in Volume forecasts for the charging year)"]
["x9 = Discount for each tariff for fixed charges only (in LDNO discounts and volumes adjusted for discount)"]
["x10 = 1053. Import capacity (kVA) by tariff (in Volume forecasts for the charging year)"]
["x11 = 1053. Exceeded capacity (kVA) by tariff (in Volume forecasts for the charging year)"]
["x12 = 1053. Reactive power units (MVArh) by tariff (in Volume forecasts for the charging year)"]
["Kind:","Sum-product calculation","Combine tables","Calculation","Calculation","Calculation","Calculation","Calculation","Calculation","Calculation"]
["Formula:","=SUMPRODUCT(x1, x2)","= x3 or x4","=x5*(1-x4)","=x6*(1-x4)","=x7*(1-x4)","=x8*(1-x9)","=x10*(1-x4)","=x11*(1-x4)","=x12*(1-x4)"]
[]
[null,"Discount for each tariff (except for fixed charges)","Discount for each tariff for fixed charges only","Rate 1 units (MWh)","Rate 2 units (MWh)","Rate 3 units (MWh)","MPANs","Import capacity (kVA)","Exceeded capacity (kVA)","Reactive power units (MVArh)"]
["> Domestic Unrestricted"]
["Domestic Unrestricted",{"$f":"SUMPRODUCT($B1018:$F1018,$B$116:$F$116)","v":0},{"$f":"B1146","v":0},{"$f":"B149*(1-B1146)","v":5635747.39502858},{"$f":"C149*(1-B1146)","v":0},{"$f":"D149*(1-B1146)","v":0},1671267.7755050499,{"$f":"F149*(1-B1146)","v":0},{"$f":"G149*(1-B1146)","v":0},{"$f":"H149*(1-B1146)","v":0}]
["LDNO LV: Domestic Unrestricted",{"$f":"SUMPRODUCT($B1019:$F1019,$B$116:$F$116)","v":0.30035267521805875},{"$f":"B1147","v":0.30035267521805875},{"$f":"B150*(1-B1147)","v":66453.932129493784},{"$f":"C150*(1-B1147)","v":0},0,24511.017829378819,{"$f":"F150*(1-B1147)","v":0},{"$f":"G150*(1-B1147)","v":0},{"$f":"H150*(1-B1147)","v":0}]
["LDNO HV: Domestic Unrestricted",{"$f":"SUMPRODUCT($B1020:$F1020,$B$116:$F$116)","v":0.47818139481135069},{"$f":"B1148","v":0.47818139481135069},{"$f":"B151*(1-B1148)","v":80971.256348921102},{"$f":"C151*(1-B1148)","v":0},0,30350.473399291568,{"$f":"F151*(1-B1148)","v":0},{"$f":"G151*(1-B1148)","v":0},{"$f":"H151*(1-B1148)","v":0}]
["> Domestic Two Rate"]
["Domestic Two Rate",{"$f":"SUMPRODUCT($B1022:$F1022,$B$116:$F$116)","v":0},{"$f":"B1150","v":0},{"$f":"B153*(1-B1150)","v":2417415.8454986895},{"$f":"C153*(1-B1150)","v":1076309.378668654},{"$f":"D153*(1-B1150)","v":0},792868.49064519012,{"$f":"F153*(1-B1150)","v":0},{"$f":"G153*(1-B1150)","v":0},{"$f":"H153*(1-B1150)","v":0}]
["LDNO LV: Domestic Two Rate",{"$f":"SUMPRODUCT($B1023:$F1023,$B$116:$F$116)","v":0.30035267521805875},{"$f":"B1151","v":0.30035267521805875},{"$f":"B154*(1-B1151)","v":3239.3401306282562},{"$f":"C154*(1-B1151)","v":998.33028762849756},0,1048.9386546143921,{"$f":"F154*(1-B1151)","v":0},{"$f":"G154*(1-B1151)","v":0},{"$f":"H154*(1-B1151)","v":0}]
["LDNO HV: Domestic Two Rate",{"$f":"SUMPRODUCT($B1024:$F1024,$B$116:$F$116)","v":0.47818139481135069},{"$f":"B1152","v":0.47818139481135069},{"$f":"B155*(1-B1152)","v":3988.0014108613559},{"$f":"C155*(1-B1152)","v":1355.363686704894},0,1280.2479065639905,{"$f":"F155*(1-B1152)","v":0},{"$f":"G155*(1-B1152)","v":0},{"$f":"H155*(1-B1152)","v":0}]
["> Domestic Off Peak (related MPAN)"]
["Domestic Off Peak (related MPAN)",{"$f":"SUMPRODUCT($B1026:$F1026,$B$116:$F$116)","v":0},{"$f":"B1154","v":0},{"$f":"B157*(1-B1154)","v":49585.593175668728},{"$f":"C157*(1-B1154)","v":0},{"$f":"D157*(1-B1154)","v":0},26805,{"$f":"F157*(1-B1154)","v":0},{"$f":"G157*(1-B1154)","v":0},{"$f":"H157*(1-B1154)","v":0}]
["LDNO LV: Domestic Off Peak (related MPAN)",{"$f":"SUMPRODUCT($B1027:$F1027,$B$116:$F$116)","v":0.30035267521805875},{"$f":"B1155","v":0.30035267521805875},{"$f":"B158*(1-B1155)","v":0},{"$f":"C158*(1-B1155)","v":0},0,0,{"$f":"F158*(1-B1155)","v":0},{"$f":"G158*(1-B1155)","v":0},{"$f":"H158*(1-B1155)","v":0}]
["LDNO HV: Domestic Off Peak (related MPAN)",{"$f":"SUMPRODUCT($B1028:$F1028,$B$116:$F$116)","v":0.47818139481135069},{"$f":"B1156","v":0.47818139481135069},{"$f":"B159*(1-B1156)","v":0},{"$f":"C159*(1-B1156)","v":0},0,0,{"$f":"F159*(1-B1156)","v":0},{"$f":"G159*(1-B1156)","v":0},{"$f":"H159*(1-B1156)","v":0}]
["> Small Non Domestic Unrestricted"]
["Small Non Domestic Unrestricted",{"$f":"SUMPRODUCT($B1030:$F1030,$B$116:$F$116)","v":0},{"$f":"B1158","v":0},{"$f":"B161*(1-B1158)","v":1140613.9739181774},{"$f":"C161*(1-B1158)","v":0},{"$f":"D161*(1-B1158)","v":0},95495.253097224515,{"$f":"F161*(1-B1158)","v":0},{"$f":"G161*(1-B1158)","v":0},{"$f":"H161*(1-B1158)","v":0}]
["LDNO LV: Small Non Domestic Unrestricted",{"$f":"SUMPRODUCT($B1031:$F1031,$B$116:$F$116)","v":0.30035267521805875},{"$f":"B1159","v":0.30035267521805875},{"$f":"B162*(1-B1159)","v":2976.8957646783715},{"$f":"C162*(1-B1159)","v":0},0,499.60729078755253,{"$f":"F162*(1-B1159)","v":0},{"$f":"G162*(1-B1159)","v":0},{"$f":"H162*(1-B1159)","v":0}]
["LDNO HV: Small Non Domestic Unrestricted",{"$f":"SUMPRODUCT($B1032:$F1032,$B$116:$F$116)","v":0.47818139481135069},{"$f":"B1160","v":0.47818139481135069},{"$f":"B163*(1-B1160)","v":5816.1495890265642},{"$f":"C163*(1-B1160)","v":0},0,662.80113390405154,{"$f":"F163*(1-B1160)","v":0},{"$f":"G163*(1-B1160)","v":0},{"$f":"H163*(1-B1160)","v":0}]
["> Small Non Domestic Two Rate"]
["Small Non Domestic Two Rate",{"$f":"SUMPRODUCT($B1034:$F1034,$B$116:$F$116)","v":0},{"$f":"B1162","v":0},{"$f":"B165*(1-B1162)","v":1514286.2262339729},{"$f":"C165*(1-B1162)","v":451030.46492233477},{"$f":"D165*(1-B1162)","v":0},82427.244684584759,{"$f":"F165*(1-B1162)","v":0},{"$f":"G165*(1-B1162)","v":0},{"$f":"H165*(1-B1162)","v":0}]
["LDNO LV: Small Non Domestic Two Rate",{"$f":"SUMPRODUCT($B1035:$F1035,$B$116:$F$116)","v":0.30035267521805875},{"$f":"B1163","v":0.30035267521805875},{"$f":"B166*(1-B1163)","v":281.59376176099039},{"$f":"C166*(1-B1163)","v":56.278671787593503},0,9.0280217719250828,{"$f":"F166*(1-B1163)","v":0},{"$f":"G166*(1-B1163)","v":0},{"$f":"H166*(1-B1163)","v":0}]
["LDNO HV: Small Non Domestic Two Rate",{"$f":"SUMPRODUCT($B1036:$F1036,$B$116:$F$116)","v":0.47818139481135069},{"$f":"B1164","v":0.47818139481135069},{"$f":"B167*(1-B1164)","v":580.07038639342716},{"$f":"C167*(1-B1164)","v":149.25778019626654},0,24.936695398422497,{"$f":"F167*(1-B1164)","v":0},{"$f":"G167*(1-B1164)","v":0},{"$f":"H167*(1-B1164)","v":0}]
["> Small Non Domestic Off Peak (related MPAN)"]
["Small Non Domestic Off Peak (related MPAN)",{"$f":"SUMPRODUCT($B1038:$F1038,$B$116:$F$116)","v":0},{"$f":"B1166","v":0},{"$f":"B169*(1-B1166)","v":2583.3840720654089},{"$f":"C169*(1-B1166)","v":0},{"$f":"D169*(1-B1166)","v":0},517,{"$f":"F169*(1-B1166)","v":0},{"$f":"G169*(1-B1166)","v":0},{"$f":"H169*(1-B1166)","v":0}]
["LDNO LV: Small Non Domestic Off Peak (related MPAN)",{"$f":"SUMPRODUCT($B1039:$F1039,$B$116:$F$116)","v":0.30035267521805875},{"$f":"B1167","v":0.30035267521805875},{"$f":"B170*(1-B1167)","v":0},{"$f":"C170*(1-B1167)","v":0},0,0,{"$f":"F170*(1-B1167)","v":0},{"$f":"G170*(1-B1167)","v":0},{"$f":"H170*(1-B1167)","v":0}]
["LDNO HV: Small Non Domestic Off Peak (related MPAN)",{"$f":"SUMPRODUCT($B1040:$F1040,$B$116:$F$116)","v":0.47818139481135069},{"$f":"B1168","v":0.47818139481135069},{"$f":"B171*(1-B1168)","v":0},{"$f":"C171*(1-B1168)","v":0},0,0,{"$f":"F171*(1-B1168)","v":0},{"$f":"G171*(1-B1168)","v":0},{"$f":"H171*(1-B1168)","v":0}]
["> LV Medium Non-Domestic"]
["LV Medium Non-Domestic",{"$f":"SUMPRODUCT($B1042:$F1042,$B$116:$F$116)","v":0},{"$f":"B1170","v":0},{"$f":"B173*(1-B1170)","v":41587.88901879995},{"$f":"C173*(1-B1170)","v":11522.857188044651},{"$f":"D173*(1-B1170)","v":0},1226.5130041316722,{"$f":"F173*(1-B1170)","v":0},{"$f":"G173*(1-B1170)","v":0},{"$f":"H173*(1-B1170)","v":0}]
["LDNO LV: LV Medium Non-Domestic",{"$f":"SUMPRODUCT($B1043:$F1043,$B$116:$F$116)","v":0.30035267521805875},{"$f":"B1171","v":0.30035267521805875},{"$f":"B174*(1-B1171)","v":-3.4361578889934048E-14},{"$f":"C174*(1-B1171)","v":3.8179532099926721E-15},0,0,{"$f":"F174*(1-B1171)","v":0},{"$f":"G174*(1-B1171)","v":0},{"$f":"H174*(1-B1171)","v":0}]
["LDNO HV: LV Medium Non-Domestic",{"$f":"SUMPRODUCT($B1044:$F1044,$B$116:$F$116)","v":0.47818139481135069},{"$f":"B1172","v":0.47818139481135069},{"$f":"B175*(1-B1172)","v":-1.2908882182392754E-13},{"$f":"C175*(1-B1172)","v":9.4918251341123196E-15},0,0,{"$f":"F175*(1-B1172)","v":0},{"$f":"G175*(1-B1172)","v":0},{"$f":"H175*(1-B1172)","v":0}]
["> LV Sub Medium Non-Domestic"]
["LV Sub Medium Non-Domestic",{"$f":"SUMPRODUCT($B1046:$F1046,$B$116:$F$116)","v":0},{"$f":"B1174","v":0},{"$f":"B177*(1-B1174)","v":0.14305029137837472},{"$f":"C177*(1-B1174)","v":4.1771037058284492E-2},{"$f":"D177*(1-B1174)","v":0},{"$f":"E177*(1-C1174)","v":3.1678196721310618E-3},{"$f":"F177*(1-B1174)","v":0},{"$f":"G177*(1-B1174)","v":0},{"$f":"H177*(1-B1174)","v":0}]
["> HV Medium Non-Domestic"]
["HV Medium Non-Domestic",{"$f":"SUMPRODUCT($B1048:$F1048,$B$116:$F$116)","v":0},{"$f":"B1176","v":0},{"$f":"B179*(1-B1176)","v":2605.2120716228465},{"$f":"C179*(1-B1176)","v":788.60544449936344},{"$f":"D179*(1-B1176)","v":0},{"$f":"E179*(1-C1176)","v":44},{"$f":"F179*(1-B1176)","v":0},{"$f":"G179*(1-B1176)","v":0},{"$f":"H179*(1-B1176)","v":0}]
["> LV Network Domestic"]
["LV Network Domestic",{"$f":"SUMPRODUCT($B1050:$F1050,$B$116:$F$116)","v":0},{"$f":"B1178","v":0},{"$f":"B181*(1-B1178)","v":25.916648860281796},{"$f":"C181*(1-B1178)","v":99.416406772272921},{"$f":"D181*(1-B1178)","v":122.08546012140339},76.118765573770503,{"$f":"F181*(1-B1178)","v":0},{"$f":"G181*(1-B1178)","v":0},{"$f":"H181*(1-B1178)","v":0}]
["LDNO LV: LV Network Domestic",{"$f":"SUMPRODUCT($B1051:$F1051,$B$116:$F$116)","v":0.30035267521805875},{"$f":"B1179","v":0.30035267521805875},{"$f":"B182*(1-B1179)","v":0},{"$f":"C182*(1-B1179)","v":0},0,0,{"$f":"F182*(1-B1179)","v":0},{"$f":"G182*(1-B1179)","v":0},{"$f":"H182*(1-B1179)","v":0}]
["LDNO HV: LV Network Domestic",{"$f":"SUMPRODUCT($B1052:$F1052,$B$116:$F$116)","v":0.47818139481135069},{"$f":"B1180","v":0.47818139481135069},{"$f":"B183*(1-B1180)","v":0},{"$f":"C183*(1-B1180)","v":0},0,0,{"$f":"F183*(1-B1180)","v":0},{"$f":"G183*(1-B1180)","v":0},{"$f":"H183*(1-B1180)","v":0}]
["> LV Network Non-Domestic Non-CT"]
["LV Network Non-Domestic Non-CT",{"$f":"SUMPRODUCT($B1054:$F1054,$B$116:$F$116)","v":0},{"$f":"B1182","v":0},{"$f":"B185*(1-B1182)","v":18558.487686612239},{"$f":"C185*(1-B1182)","v":73567.926730158622},{"$f":"D185*(1-B1182)","v":78280.332697577658},2509.10345882312,{"$f":"F185*(1-B1182)","v":0},{"$f":"G185*(1-B1182)","v":0},{"$f":"H185*(1-B1182)","v":0}]
["LDNO LV: LV Network Non-Domestic Non-CT",{"$f":"SUMPRODUCT($B1055:$F1055,$B$116:$F$116)","v":0.30035267521805875},{"$f":"B1183","v":0.30035267521805875},{"$f":"B186*(1-B1183)","v":13.467992764838613},{"$f":"C186*(1-B1183)","v":50.856375650618673},84.306465972696984,3.3012420430073681,{"$f":"F186*(1-B1183)","v":0},{"$f":"G186*(1-B1183)","v":0},{"$f":"H186*(1-B1183)","v":0}]
["LDNO HV: LV Network Non-Domestic Non-CT",{"$f":"SUMPRODUCT($B1056:$F1056,$B$116:$F$116)","v":0.47818139481135069},{"$f":"B1184","v":0.47818139481135069},{"$f":"B187*(1-B1184)","v":54.395600750749978},{"$f":"C187*(1-B1184)","v":189.25498468372248},217.1396184723296,10.353835715253533,{"$f":"F187*(1-B1184)","v":0},{"$f":"G187*(1-B1184)","v":0},{"$f":"H187*(1-B1184)","v":0}]
["> LV HH Metered"]
["LV HH Metered",{"$f":"SUMPRODUCT($B1058:$F1058,$B$116:$F$116)","v":0},{"$f":"B1186","v":0},{"$f":"B189*(1-B1186)","v":377835.6813072178},{"$f":"C189*(1-B1186)","v":1505767.6226554119},{"$f":"D189*(1-B1186)","v":1615847.0059507394},15832.332072650368,{"$f":"F189*(1-B1186)","v":1960000},{"$f":"G189*(1-B1186)","v":42265.317043448318},{"$f":"H189*(1-B1186)","v":367491.37832085259}]
["LDNO LV: LV HH Metered",{"$f":"SUMPRODUCT($B1059:$F1059,$B$116:$F$116)","v":0.30035267521805875},{"$f":"B1187","v":0.30035267521805875},{"$f":"B190*(1-B1187)","v":988.51110688312917},{"$f":"C190*(1-B1187)","v":3420.4631715596643},4278.2632644808336,42.839314541792,{"$f":"F190*(1-B1187)","v":7330.1480847729963},{"$f":"G190*(1-B1187)","v":9.0863598045411589},{"$f":"H190*(1-B1187)","v":933.12998700334094}]
["LDNO HV: LV HH Metered",{"$f":"SUMPRODUCT($B1060:$F1060,$B$116:$F$116)","v":0.47818139481135069},{"$f":"B1188","v":0.47818139481135069},{"$f":"B191*(1-B1188)","v":7848.2745135868199},{"$f":"C191*(1-B1188)","v":28662.288290296492},34419.591844202208,199.65912105861881,{"$f":"F191*(1-B1188)","v":56705.827227398731},{"$f":"G191*(1-B1188)","v":232.86757645604627},{"$f":"H191*(1-B1188)","v":5958.3343113006322}]
["> LV Sub HH Metered"]
["LV Sub HH Metered",{"$f":"SUMPRODUCT($B1062:$F1062,$B$116:$F$116)","v":0},{"$f":"B1190","v":0},{"$f":"B193*(1-B1190)","v":23555.939705275443},{"$f":"C193*(1-B1190)","v":90295.119473983417},{"$f":"D193*(1-B1190)","v":105307.38531244543},{"$f":"E193*(1-C1190)","v":342.84669556830613},{"$f":"F193*(1-B1190)","v":138821.86717486338},{"$f":"G193*(1-B1190)","v":1785.1010983606557},{"$f":"H193*(1-B1190)","v":18220.196801714286}]
["LDNO HV: LV Sub HH Metered",{"$f":"SUMPRODUCT($B1063:$F1063,$B$116:$F$116)","v":0.24363743688262601},{"$f":"B1191","v":0.24363743688262601},{"$f":"B194*(1-B1191)","v":673.70943520916273},{"$f":"C194*(1-B1191)","v":2327.7689849613134},{"$f":"D194*(1-B1191)","v":3999.4789941282229},{"$f":"E194*(1-C1191)","v":3.7030706601699115},{"$f":"F194*(1-B1191)","v":2591.9957057054407},{"$f":"G194*(1-B1191)","v":35.467639034381875},{"$f":"H194*(1-B1191)","v":683.69692379119556}]
["> HV HH Metered"]
["HV HH Metered",{"$f":"SUMPRODUCT($B1065:$F1065,$B$116:$F$116)","v":0},{"$f":"B1193","v":0},{"$f":"B196*(1-B1193)","v":738923.19680440472},{"$f":"C196*(1-B1193)","v":2849711.7208364718},{"$f":"D196*(1-B1193)","v":4000945.161846465},{"$f":"E196*(1-C1193)","v":3524.9192351831307},{"$f":"F196*(1-B1193)","v":2788259.5384515394},{"$f":"G196*(1-B1193)","v":58664.747249535598},{"$f":"H196*(1-B1193)","v":557819.6962977408}]
["LDNO HV: HV HH Metered",{"$f":"SUMPRODUCT($B1066:$F1066,$B$116:$F$116)","v":0.14249687495735849},{"$f":"B1194","v":0.14249687495735849},{"$f":"B197*(1-B1194)","v":6224.0349479091665},{"$f":"C197*(1-B1194)","v":20563.178805666572},{"$f":"D197*(1-B1194)","v":33119.913039281659},{"$f":"E197*(1-C1194)","v":32.935490627206228},{"$f":"F197*(1-B1194)","v":41801.779716066158},{"$f":"G197*(1-B1194)","v":170.71454757538595},{"$f":"H197*(1-B1194)","v":1901.4830511834473}]
["> NHH UMS category A"]
["NHH UMS category A",{"$f":"SUMPRODUCT($B1068:$F1068,$B$116:$F$116)","v":0},{"$f":"B1196","v":0},{"$f":"B199*(1-B1196)","v":34134.893703773516},{"$f":"C199*(1-B1196)","v":0},{"$f":"D199*(1-B1196)","v":0},1567,{"$f":"F199*(1-B1196)","v":0},{"$f":"G199*(1-B1196)","v":0},{"$f":"H199*(1-B1196)","v":0}]
["LDNO LV: NHH UMS category A",{"$f":"SUMPRODUCT($B1069:$F1069,$B$116:$F$116)","v":0.30035267521805875},{"$f":"B1197","v":0.30035267521805875},{"$f":"B200*(1-B1197)","v":192.5579722076009},{"$f":"C200*(1-B1197)","v":0},0,0,{"$f":"F200*(1-B1197)","v":0},{"$f":"G200*(1-B1197)","v":0},{"$f":"H200*(1-B1197)","v":0}]
["LDNO HV: NHH UMS category A",{"$f":"SUMPRODUCT($B1070:$F1070,$B$116:$F$116)","v":0.47818139481135069},{"$f":"B1198","v":0.47818139481135069},{"$f":"B201*(1-B1198)","v":277.48109212918985},{"$f":"C201*(1-B1198)","v":0},0,0,{"$f":"F201*(1-B1198)","v":0},{"$f":"G201*(1-B1198)","v":0},{"$f":"H201*(1-B1198)","v":0}]
["> NHH UMS category B"]
["NHH UMS category B",{"$f":"SUMPRODUCT($B1072:$F1072,$B$116:$F$116)","v":0},{"$f":"B1200","v":0},{"$f":"B203*(1-B1200)","v":22466.149975166016},{"$f":"C203*(1-B1200)","v":0},{"$f":"D203*(1-B1200)","v":0},1279,{"$f":"F203*(1-B1200)","v":0},{"$f":"G203*(1-B1200)","v":0},{"$f":"H203*(1-B1200)","v":0}]
["LDNO LV: NHH UMS category B",{"$f":"SUMPRODUCT($B1073:$F1073,$B$116:$F$116)","v":0.30035267521805875},{"$f":"B1201","v":0.30035267521805875},{"$f":"B204*(1-B1201)","v":223.46815561968799},{"$f":"C204*(1-B1201)","v":0},0,0,{"$f":"F204*(1-B1201)","v":0},{"$f":"G204*(1-B1201)","v":0},{"$f":"H204*(1-B1201)","v":0}]
["LDNO HV: NHH UMS category B",{"$f":"SUMPRODUCT($B1074:$F1074,$B$116:$F$116)","v":0.47818139481135069},{"$f":"B1202","v":0.47818139481135069},{"$f":"B205*(1-B1202)","v":320.20378153152217},{"$f":"C205*(1-B1202)","v":0},0,0,{"$f":"F205*(1-B1202)","v":0},{"$f":"G205*(1-B1202)","v":0},{"$f":"H205*(1-B1202)","v":0}]
["> NHH UMS category C"]
["NHH UMS category C",{"$f":"SUMPRODUCT($B1076:$F1076,$B$116:$F$116)","v":0},{"$f":"B1204","v":0},{"$f":"B207*(1-B1204)","v":339.10140823796002},{"$f":"C207*(1-B1204)","v":0},{"$f":"D207*(1-B1204)","v":0},194,{"$f":"F207*(1-B1204)","v":0},{"$f":"G207*(1-B1204)","v":0},{"$f":"H207*(1-B1204)","v":0}]
["LDNO LV: NHH UMS category C",{"$f":"SUMPRODUCT($B1077:$F1077,$B$116:$F$116)","v":0.30035267521805875},{"$f":"B1205","v":0.30035267521805875},{"$f":"B208*(1-B1205)","v":0},{"$f":"C208*(1-B1205)","v":0},0,0,{"$f":"F208*(1-B1205)","v":0},{"$f":"G208*(1-B1205)","v":0},{"$f":"H208*(1-B1205)","v":0}]
["LDNO HV: NHH UMS category C",{"$f":"SUMPRODUCT($B1078:$F1078,$B$116:$F$116)","v":0.47818139481135069},{"$f":"B1206","v":0.47818139481135069},{"$f":"B209*(1-B1206)","v":0},{"$f":"C209*(1-B1206)","v":0},0,0,{"$f":"F209*(1-B1206)","v":0},{"$f":"G209*(1-B1206)","v":0},{"$f":"H209*(1-B1206)","v":0}]
["> NHH UMS category D"]
["NHH UMS category D",{"$f":"SUMPRODUCT($B1080:$F1080,$B$116:$F$116)","v":0},{"$f":"B1208","v":0},{"$f":"B211*(1-B1208)","v":7208.5560845431746},{"$f":"C211*(1-B1208)","v":0},{"$f":"D211*(1-B1208)","v":0},247,{"$f":"F211*(1-B1208)","v":0},{"$f":"G211*(1-B1208)","v":0},{"$f":"H211*(1-B1208)","v":0}]
["LDNO LV: NHH UMS category D",{"$f":"SUMPRODUCT($B1081:$F1081,$B$116:$F$116)","v":0.30035267521805875},{"$f":"B1209","v":0.30035267521805875},{"$f":"B212*(1-B1209)","v":0},{"$f":"C212*(1-B1209)","v":0},0,0,{"$f":"F212*(1-B1209)","v":0},{"$f":"G212*(1-B1209)","v":0},{"$f":"H212*(1-B1209)","v":0}]
["LDNO HV: NHH UMS category D",{"$f":"SUMPRODUCT($B1082:$F1082,$B$116:$F$116)","v":0.47818139481135069},{"$f":"B1210","v":0.47818139481135069},{"$f":"B213*(1-B1210)","v":0},{"$f":"C213*(1-B1210)","v":0},0,0,{"$f":"F213*(1-B1210)","v":0},{"$f":"G213*(1-B1210)","v":0},{"$f":"H213*(1-B1210)","v":0}]
["> LV UMS (Pseudo HH Metered)"]
["LV UMS (Pseudo HH Metered)",{"$f":"SUMPRODUCT($B1084:$F1084,$B$116:$F$116)","v":0},{"$f":"B1212","v":0},{"$f":"B215*(1-B1212)","v":12092.426467732928},{"$f":"C215*(1-B1212)","v":33947.071572281049},{"$f":"D215*(1-B1212)","v":185619.80763357371},26.819672131147541,{"$f":"F215*(1-B1212)","v":0},{"$f":"G215*(1-B1212)","v":0},{"$f":"H215*(1-B1212)","v":0}]
["LDNO LV: LV UMS (Pseudo HH Metered)",{"$f":"SUMPRODUCT($B1085:$F1085,$B$116:$F$116)","v":0.30035267521805875},{"$f":"B1213","v":0.30035267521805875},{"$f":"B216*(1-B1213)","v":0},{"$f":"C216*(1-B1213)","v":0},0,0,{"$f":"F216*(1-B1213)","v":0},{"$f":"G216*(1-B1213)","v":0},{"$f":"H216*(1-B1213)","v":0}]
["LDNO HV: LV UMS (Pseudo HH Metered)",{"$f":"SUMPRODUCT($B1086:$F1086,$B$116:$F$116)","v":0.47818139481135069},{"$f":"B1214","v":0.47818139481135069},{"$f":"B217*(1-B1214)","v":0},{"$f":"C217*(1-B1214)","v":0},0,0,{"$f":"F217*(1-B1214)","v":0},{"$f":"G217*(1-B1214)","v":0},{"$f":"H217*(1-B1214)","v":0}]
["> LV Generation NHH or Aggregate HH"]
["LV Generation NHH or Aggregate HH",{"$f":"SUMPRODUCT($B1088:$F1088,$B$116:$F$116)","v":0},{"$f":"B1216","v":0},{"$f":"B219*(1-B1216)","v":10233.9538335},{"$f":"C219*(1-B1216)","v":0},{"$f":"D219*(1-B1216)","v":0},136,{"$f":"F219*(1-B1216)","v":0},{"$f":"G219*(1-B1216)","v":0},{"$f":"H219*(1-B1216)","v":0}]
["LDNO LV: LV Generation NHH or Aggregate HH",{"$f":"SUMPRODUCT($B1089:$F1089,$B$116:$F$116)","v":0},1,{"$f":"B220*(1-B1217)","v":27.785378357142857},{"$f":"C220*(1-B1217)","v":0},0,0,{"$f":"F220*(1-B1217)","v":0},{"$f":"G220*(1-B1217)","v":0},{"$f":"H220*(1-B1217)","v":0}]
["LDNO HV: LV Generation NHH or Aggregate HH",{"$f":"SUMPRODUCT($B1090:$F1090,$B$116:$F$116)","v":0},1,{"$f":"B221*(1-B1218)","v":0},{"$f":"C221*(1-B1218)","v":0},0,0,{"$f":"F221*(1-B1218)","v":0},{"$f":"G221*(1-B1218)","v":0},{"$f":"H221*(1-B1218)","v":0}]
["> LV Sub Generation NHH"]
["LV Sub Generation NHH",{"$f":"SUMPRODUCT($B1092:$F1092,$B$116:$F$116)","v":0},{"$f":"B1220","v":0},{"$f":"B223*(1-B1220)","v":0},{"$f":"C223*(1-B1220)","v":0},{"$f":"D223*(1-B1220)","v":0},{"$f":"E223*(1-C1220)","v":0},{"$f":"F223*(1-B1220)","v":0},{"$f":"G223*(1-B1220)","v":0},{"$f":"H223*(1-B1220)","v":0}]
["LDNO HV: LV Sub Generation NHH",{"$f":"SUMPRODUCT($B1093:$F1093,$B$116:$F$116)","v":0},1,{"$f":"B224*(1-B1221)","v":0},{"$f":"C224*(1-B1221)","v":0},{"$f":"D224*(1-B1221)","v":0},{"$f":"E224*(1-C1221)","v":0},{"$f":"F224*(1-B1221)","v":0},{"$f":"G224*(1-B1221)","v":0},{"$f":"H224*(1-B1221)","v":0}]
["> LV Generation Intermittent"]
["LV Generation Intermittent",{"$f":"SUMPRODUCT($B1095:$F1095,$B$116:$F$116)","v":0},{"$f":"B1223","v":0},{"$f":"B226*(1-B1223)","v":39541.455472928566},{"$f":"C226*(1-B1223)","v":0},{"$f":"D226*(1-B1223)","v":0},697.57416393442611,{"$f":"F226*(1-B1223)","v":0},{"$f":"G226*(1-B1223)","v":0},{"$f":"H226*(1-B1223)","v":4219.380690214286}]
["LDNO LV: LV Generation Intermittent",{"$f":"SUMPRODUCT($B1096:$F1096,$B$116:$F$116)","v":0},1,{"$f":"B227*(1-B1224)","v":0},{"$f":"C227*(1-B1224)","v":0},0,0,{"$f":"F227*(1-B1224)","v":0},{"$f":"G227*(1-B1224)","v":0},{"$f":"H227*(1-B1224)","v":0}]
["LDNO HV: LV Generation Intermittent",{"$f":"SUMPRODUCT($B1097:$F1097,$B$116:$F$116)","v":0},1,{"$f":"B228*(1-B1225)","v":72.668966078571486},{"$f":"C228*(1-B1225)","v":0},0,0,{"$f":"F228*(1-B1225)","v":0},{"$f":"G228*(1-B1225)","v":0},{"$f":"H228*(1-B1225)","v":40.596061285714278}]
["> LV Generation Intermittent no RP charge"]
["LV Generation Intermittent no RP charge",{"$f":"SUMPRODUCT($B1099:$F1099,$B$116:$F$116)","v":0},{"$f":"B1227","v":0},{"$f":"B230*(1-B1227)","v":0},{"$f":"C230*(1-B1227)","v":0},{"$f":"D230*(1-B1227)","v":0},{"$f":"E230*(1-C1227)","v":0},{"$f":"F230*(1-B1227)","v":0},{"$f":"G230*(1-B1227)","v":0},{"$f":"H230*(1-B1227)","v":0}]
["> LV Generation Non-Intermittent"]
["LV Generation Non-Intermittent",{"$f":"SUMPRODUCT($B1101:$F1101,$B$116:$F$116)","v":0},{"$f":"B1229","v":0},{"$f":"B232*(1-B1229)","v":1593.5852929943649},{"$f":"C232*(1-B1229)","v":6242.3922614252333},{"$f":"D232*(1-B1229)","v":9539.9119603497784},105.72703893442623,{"$f":"F232*(1-B1229)","v":0},{"$f":"G232*(1-B1229)","v":0},{"$f":"H232*(1-B1229)","v":667.62919715625003}]
["LDNO LV: LV Generation Non-Intermittent",{"$f":"SUMPRODUCT($B1102:$F1102,$B$116:$F$116)","v":0},1,{"$f":"B233*(1-B1230)","v":0},{"$f":"C233*(1-B1230)","v":0},0,0,{"$f":"F233*(1-B1230)","v":0},{"$f":"G233*(1-B1230)","v":0},{"$f":"H233*(1-B1230)","v":0}]
["LDNO HV: LV Generation Non-Intermittent",{"$f":"SUMPRODUCT($B1103:$F1103,$B$116:$F$116)","v":0},1,{"$f":"B234*(1-B1231)","v":0},{"$f":"C234*(1-B1231)","v":0},0,0,{"$f":"F234*(1-B1231)","v":0},{"$f":"G234*(1-B1231)","v":0},{"$f":"H234*(1-B1231)","v":0}]
["> LV Generation Non-Intermittent no RP charge"]
["LV Generation Non-Intermittent no RP charge",{"$f":"SUMPRODUCT($B1105:$F1105,$B$116:$F$116)","v":0},{"$f":"B1233","v":0},{"$f":"B236*(1-B1233)","v":0},{"$f":"C236*(1-B1233)","v":0},{"$f":"D236*(1-B1233)","v":0},{"$f":"E236*(1-C1233)","v":0},{"$f":"F236*(1-B1233)","v":0},{"$f":"G236*(1-B1233)","v":0},{"$f":"H236*(1-B1233)","v":0}]
["> LV Sub Generation Intermittent"]
["LV Sub Generation Intermittent",{"$f":"SUMPRODUCT($B1107:$F1107,$B$116:$F$116)","v":0},{"$f":"B1235","v":0},{"$f":"B238*(1-B1235)","v":3841.6564052142853},{"$f":"C238*(1-B1235)","v":0},{"$f":"D238*(1-B1235)","v":0},{"$f":"E238*(1-C1235)","v":31.306393442622948},{"$f":"F238*(1-B1235)","v":0},{"$f":"G238*(1-B1235)","v":0},{"$f":"H238*(1-B1235)","v":365.0749339285714}]
["LDNO HV: LV Sub Generation Intermittent",{"$f":"SUMPRODUCT($B1108:$F1108,$B$116:$F$116)","v":0},1,{"$f":"B239*(1-B1236)","v":0},{"$f":"C239*(1-B1236)","v":0},{"$f":"D239*(1-B1236)","v":0},{"$f":"E239*(1-C1236)","v":0},{"$f":"F239*(1-B1236)","v":0},{"$f":"G239*(1-B1236)","v":0},{"$f":"H239*(1-B1236)","v":0}]
["> LV Sub Generation Intermittent no RP charge"]
["LV Sub Generation Intermittent no RP charge",{"$f":"SUMPRODUCT($B1110:$F1110,$B$116:$F$116)","v":0},{"$f":"B1238","v":0},{"$f":"B241*(1-B1238)","v":0},{"$f":"C241*(1-B1238)","v":0},{"$f":"D241*(1-B1238)","v":0},{"$f":"E241*(1-C1238)","v":0},{"$f":"F241*(1-B1238)","v":0},{"$f":"G241*(1-B1238)","v":0},{"$f":"H241*(1-B1238)","v":0}]
["> LV Sub Generation Non-Intermittent"]
["LV Sub Generation Non-Intermittent",{"$f":"SUMPRODUCT($B1112:$F1112,$B$116:$F$116)","v":0},{"$f":"B1240","v":0},{"$f":"B243*(1-B1240)","v":504.40105263481149},{"$f":"C243*(1-B1240)","v":1662.050757533578},{"$f":"D243*(1-B1240)","v":3695.4007858319828},{"$f":"E243*(1-C1240)","v":6.1367981557377052},{"$f":"F243*(1-B1240)","v":0},{"$f":"G243*(1-B1240)","v":0},{"$f":"H243*(1-B1240)","v":368.17388015624999}]
["LDNO HV: LV Sub Generation Non-Intermittent",{"$f":"SUMPRODUCT($B1113:$F1113,$B$116:$F$116)","v":0},1,{"$f":"B244*(1-B1241)","v":0},{"$f":"C244*(1-B1241)","v":0},{"$f":"D244*(1-B1241)","v":0},{"$f":"E244*(1-C1241)","v":0},{"$f":"F244*(1-B1241)","v":0},{"$f":"G244*(1-B1241)","v":0},{"$f":"H244*(1-B1241)","v":0}]
["> LV Sub Generation Non-Intermittent no RP charge"]
["LV Sub Generation Non-Intermittent no RP charge",{"$f":"SUMPRODUCT($B1115:$F1115,$B$116:$F$116)","v":0},{"$f":"B1243","v":0},{"$f":"B246*(1-B1243)","v":0},{"$f":"C246*(1-B1243)","v":0},{"$f":"D246*(1-B1243)","v":0},{"$f":"E246*(1-C1243)","v":0},{"$f":"F246*(1-B1243)","v":0},{"$f":"G246*(1-B1243)","v":0},{"$f":"H246*(1-B1243)","v":0}]
["> HV Generation Intermittent"]
["HV Generation Intermittent",{"$f":"SUMPRODUCT($B1117:$F1117,$B$116:$F$116)","v":0},{"$f":"B1245","v":0},{"$f":"B248*(1-B1245)","v":479000.82970478572},{"$f":"C248*(1-B1245)","v":0},{"$f":"D248*(1-B1245)","v":0},{"$f":"E248*(1-C1245)","v":248.15567213114755},{"$f":"F248*(1-B1245)","v":0},{"$f":"G248*(1-B1245)","v":0},{"$f":"H248*(1-B1245)","v":10496.618597785713}]
["LDNO HV: HV Generation Intermittent",{"$f":"SUMPRODUCT($B1118:$F1118,$B$116:$F$116)","v":0},1,{"$f":"B249*(1-B1246)","v":18.630690000000001},{"$f":"C249*(1-B1246)","v":0},{"$f":"D249*(1-B1246)","v":0},{"$f":"E249*(1-C1246)","v":0},{"$f":"F249*(1-B1246)","v":0},{"$f":"G249*(1-B1246)","v":0},{"$f":"H249*(1-B1246)","v":9.1079999999999994E-2}]
["> HV Generation Intermittent no RP charge"]
["HV Generation Intermittent no RP charge",{"$f":"SUMPRODUCT($B1120:$F1120,$B$116:$F$116)","v":0},{"$f":"B1248","v":0},{"$f":"B251*(1-B1248)","v":0},{"$f":"C251*(1-B1248)","v":0},{"$f":"D251*(1-B1248)","v":0},{"$f":"E251*(1-C1248)","v":0},{"$f":"F251*(1-B1248)","v":0},{"$f":"G251*(1-B1248)","v":0},{"$f":"H251*(1-B1248)","v":0}]
["> HV Generation Non-Intermittent"]
["HV Generation Non-Intermittent",{"$f":"SUMPRODUCT($B1122:$F1122,$B$116:$F$116)","v":0},{"$f":"B1250","v":0},{"$f":"B253*(1-B1250)","v":87733.660045539131},{"$f":"C253*(1-B1250)","v":276082.28215805581},{"$f":"D253*(1-B1250)","v":487742.29536974273},{"$f":"E253*(1-C1250)","v":231.28838422131147},{"$f":"F253*(1-B1250)","v":0},{"$f":"G253*(1-B1250)","v":0},{"$f":"H253*(1-B1250)","v":15003.980395031253}]
["LDNO HV: HV Generation Non-Intermittent",{"$f":"SUMPRODUCT($B1123:$F1123,$B$116:$F$116)","v":0},1,{"$f":"B254*(1-B1251)","v":0},{"$f":"C254*(1-B1251)","v":0},{"$f":"D254*(1-B1251)","v":0},{"$f":"E254*(1-C1251)","v":0},{"$f":"F254*(1-B1251)","v":0},{"$f":"G254*(1-B1251)","v":0},{"$f":"H254*(1-B1251)","v":0}]
["> HV Generation Non-Intermittent no RP charge"]
["HV Generation Non-Intermittent no RP charge",{"$f":"SUMPRODUCT($B1125:$F1125,$B$116:$F$116)","v":0},{"$f":"B1253","v":0},{"$f":"B256*(1-B1253)","v":0},{"$f":"C256*(1-B1253)","v":0},{"$f":"D256*(1-B1253)","v":0},{"$f":"E256*(1-C1253)","v":0},{"$f":"F256*(1-B1253)","v":0},{"$f":"G256*(1-B1253)","v":0},{"$f":"H256*(1-B1253)","v":0}]
[]
["2305. Equivalent volume for each end user"]
["Data sources:"]
["x1 = 2304. Rate 1 units (MWh) (in LDNO discounts and volumes adjusted for discount)"]
["x2 = 2304. Rate 2 units (MWh) (in LDNO discounts and volumes adjusted for discount)"]
["x3 = 2304. Rate 3 units (MWh) (in LDNO discounts and volumes adjusted for discount)"]
["x4 = 2304. MPANs (in LDNO discounts and volumes adjusted for discount)"]
["x5 = 2304. Import capacity (kVA) (in LDNO discounts and volumes adjusted for discount)"]
["x6 = 2304. Exceeded capacity (kVA) (in LDNO discounts and volumes adjusted for discount)"]
["x7 = 2304. Reactive power units (MVArh) (in LDNO discounts and volumes adjusted for discount)"]
["Kind:","Cell summation","Cell summation","Cell summation","Cell summation","Cell summation","Cell summation","Cell summation"]
["Formula:","=SUM(x1)","=SUM(x2)","=SUM(x3)","=SUM(x4)","=SUM(x5)","=SUM(x6)","=SUM(x7)"]
[]
[null,"Rate 1 units (MWh)","Rate 2 units (MWh)","Rate 3 units (MWh)","MPANs","Import capacity (kVA)","Exceeded capacity (kVA)","Reactive power units (MVArh)"]
["Domestic Unrestricted",{"$f":"SUM(D$1146:D$1148)","v":5783172.5835069949},0,0,1726129.2667337202,0,0,0]
["Domestic Two Rate",{"$f":"SUM(D$1150:D$1152)","v":2424643.187040179},1078663.0726429876,0,795197.67720636853,0,0,0]
["Domestic Off Peak (related MPAN)",{"$f":"SUM(D$1154:D$1156)","v":49585.593175668728},0,0,26805,0,0,0]
["Small Non Domestic Unrestricted",{"$f":"SUM(D$1158:D$1160)","v":1149407.0192718825},0,0,96657.661521916118,0,0,0]
["Small Non Domestic Two Rate",{"$f":"SUM(D$1162:D$1164)","v":1515147.8903821274},451236.00137431861,0,82461.209401755114,0,0,0]
["Small Non Domestic Off Peak (related MPAN)",{"$f":"SUM(D$1166:D$1168)","v":2583.3840720654089},0,0,517,0,0,0]
["LV Medium Non-Domestic",{"$f":"SUM(D$1170:D$1172)","v":41587.88901879995},11522.857188044651,0,1226.5130041316722,0,0,0]
["LV Sub Medium Non-Domestic",{"$f":"SUM(D$1174:D$1174)","v":0.14305029137837472},4.1771037058284492E-2,0,3.1678196721310618E-3,0,0,0]
["HV Medium Non-Domestic",{"$f":"SUM(D$1176:D$1176)","v":2605.2120716228465},788.60544449936344,0,44,0,0,0]
["LV Network Domestic",{"$f":"SUM(D$1178:D$1180)","v":25.916648860281796},99.416406772272921,122.08546012140339,76.118765573770503,0,0,0]
["LV Network Non-Domestic Non-CT",{"$f":"SUM(D$1182:D$1184)","v":18626.35128012783},73808.038090492963,78581.77878202268,2522.7585365813807,0,0,0]
["LV HH Metered",{"$f":"SUM(D$1186:D$1188)","v":386672.46692768775},1537850.374117268,1654544.8610594224,16074.83050825078,2024035.9753121717,42507.270979708905,374382.84261915658]
["LV Sub HH Metered",{"$f":"SUM(D$1190:D$1191)","v":24229.649140484606},92622.888458944726,109306.86430657365,346.54976622847602,141413.86288056881,1820.5687373950375,18903.893725505481]
["HV HH Metered",{"$f":"SUM(D$1193:D$1194)","v":745147.23175231391},2870274.8996421383,4034065.0748857465,3557.8547258103367,2830061.3181676054,58835.461797110984,559721.1793489242]
["NHH UMS category A",{"$f":"SUM(D$1196:D$1198)","v":34604.932768110302},0,0,1567,0,0,0]
["NHH UMS category B",{"$f":"SUM(D$1200:D$1202)","v":23009.821912317228},0,0,1279,0,0,0]
["NHH UMS category C",{"$f":"SUM(D$1204:D$1206)","v":339.10140823796002},0,0,194,0,0,0]
["NHH UMS category D",{"$f":"SUM(D$1208:D$1210)","v":7208.5560845431746},0,0,247,0,0,0]
["LV UMS (Pseudo HH Metered)",{"$f":"SUM(D$1212:D$1214)","v":12092.426467732928},33947.071572281049,185619.80763357371,26.819672131147541,0,0,0]
["LV Generation NHH or Aggregate HH",{"$f":"SUM(D$1216:D$1218)","v":10261.739211857142},0,0,136,0,0,0]
["LV Sub Generation NHH",{"$f":"SUM(D$1220:D$1221)","v":0},0,0,0,0,0,0]
["LV Generation Intermittent",{"$f":"SUM(D$1223:D$1225)","v":39614.124439007137},0,0,697.57416393442611,0,0,4259.9767515000003]
["LV Generation Intermittent no RP charge",{"$f":"SUM(D$1227:D$1227)","v":0},0,0,0,0,0,0]
["LV Generation Non-Intermittent",{"$f":"SUM(D$1229:D$1231)","v":1593.5852929943649},6242.3922614252333,9539.9119603497784,105.72703893442623,0,0,667.62919715625003]
["LV Generation Non-Intermittent no RP charge",{"$f":"SUM(D$1233:D$1233)","v":0},0,0,0,0,0,0]
["LV Sub Generation Intermittent",{"$f":"SUM(D$1235:D$1236)","v":3841.6564052142853},0,0,31.306393442622948,0,0,365.0749339285714]
["LV Sub Generation Intermittent no RP charge",{"$f":"SUM(D$1238:D$1238)","v":0},0,0,0,0,0,0]
["LV Sub Generation Non-Intermittent",{"$f":"SUM(D$1240:D$1241)","v":504.40105263481149},1662.050757533578,3695.4007858319828,6.1367981557377052,0,0,368.17388015624999]
["LV Sub Generation Non-Intermittent no RP charge",{"$f":"SUM(D$1243:D$1243)","v":0},0,0,0,0,0,0]
["HV Generation Intermittent",{"$f":"SUM(D$1245:D$1246)","v":479019.46039478574},0,0,248.15567213114755,0,0,10496.709677785713]
["HV Generation Intermittent no RP charge",{"$f":"SUM(D$1248:D$1248)","v":0},0,0,0,0,0,0]
["HV Generation Non-Intermittent",{"$f":"SUM(D$1250:D$1251)","v":87733.660045539131},276082.28215805581,487742.29536974273,231.28838422131147,0,0,15003.980395031253]
["HV Generation Non-Intermittent no RP charge",{"$f":"SUM(D$1253:D$1253)","v":0},0,0,0,0,0,0]
[]
[{"$f":"\"Load characteristics for multiple unit rates for \"&CDCM!B7&\" in \"&CDCM!C7&\" (\"&CDCM!D7&\")\"","v":"Load characteristics for multiple unit rates for WPD East Midlands in 2023/24 (Forecast)"}]
[]
["2401. Adjust annual hours by distribution time band to match days in year"]
["Data sources:"]
["x1 = 1068. Typical annual hours by distribution time band"]
["x2 = 1010. Days in the charging year (in Financial and general assumptions)"]
["x3 = Total hours in the year according to time band hours input data (in Adjust annual hours by distribution time band to match days in year)"]
["Kind:","Cell summation","Calculation"]
["Formula:","=SUM(x1)","=x1*24*x2/x3"]
[]
[null,null,"Annual hours by distribution time band (reconciled to days in year)"]
[null,"Hours aggregate","Red","Amber","Green"]
["Adjust annual hours by distribution time band to match days in year",{"$f":"SUM($B322:$D322)","v":8760},{"$f":"B322*24*$F14/$B1314","v":783},{"$f":"C322*24*$F14/$B1314","v":2740.5},{"$f":"D322*24*$F14/$B1314","v":5236.5}]
[]
["2402. Normalisation of split of rate 1 units by time band"]
["Data sources:"]
["x1 = 1061. Average split of rate 1 units by distribution time band"]
["x2 = Total split (in Normalisation of split of rate 1 units by time band)"]
["x3 = 2401. Annual hours by distribution time band (reconciled to days in year) (in Adjust annual hours by distribution time band to match days in year)"]
["x4 = 1010. Days in the charging year (in Financial and general assumptions)"]
["Kind:","Cell summation","Calculation"]
["Formula:","=SUM(x1)","=IF(x2,x1/x2,x3/x4/24)"]
[]
[null,null,"Normalised split of rate 1 units by distribution time band"]
[null,"Total split","Red","Amber","Green"]
["Domestic Unrestricted",{"$f":"SUM($B283:$D283)","v":1},{"$f":"IF($B1327,B283/$B1327,C$1314/$F$14/24)","v":0.14320337799237601},0.39651561494177523,0.46028100706584879]
["Domestic Two Rate",1,0.1514252192479435,0.41991396852294577,0.42866081222911073]
["Domestic Off Peak (related MPAN)",1,4.4815359759835215E-2,0.32491376716050352,0.63027087307966123]
["Small Non Domestic Unrestricted",1,0.12448955251915084,0.54839946451589383,0.32711098296495528]
["Small Non Domestic Two Rate",1,0.12789989767459184,0.51407192992762296,0.35802817239778517]
["Small Non Domestic Off Peak (related MPAN)",0.99999999999999989,1.6662746927756662E-2,0.18539360436192653,0.79794364871031687]
["LV Medium Non-Domestic",1,0.13578714746948006,0.52737188616472797,0.33684096636579203]
["LV Sub Medium Non-Domestic",1,0.13396894905730031,0.52405310526112514,0.34197794568157458]
["HV Medium Non-Domestic",1,0.13341246842462706,0.54105928671962722,0.32552824485574577]
[]
["2403. Split of rate 1 units between distribution time bands"]
["Data sources:"]
["x1 = 2402. Normalised split of rate 1 units by distribution time band (in Normalisation of split of rate 1 units by time band)"]
["x2 = Split of rate 1 units between distribution time bands (default)"]
["Combine tables = x1 or x2"]
[]
[null,"Red","Amber","Green"]
["Domestic Unrestricted",{"$f":"C$1327","v":0.14320337799237601},{"$f":"D$1327","v":0.39651561494177523},{"$f":"E$1327","v":0.46028100706584879}]
["Domestic Two Rate",{"$f":"C$1328","v":0.1514252192479435},{"$f":"D$1328","v":0.41991396852294577},{"$f":"E$1328","v":0.42866081222911073}]
["Domestic Off Peak (related MPAN)",{"$f":"C$1329","v":4.4815359759835215E-2},{"$f":"D$1329","v":0.32491376716050352},{"$f":"E$1329","v":0.63027087307966123}]
["Small Non Domestic Unrestricted",{"$f":"C$1330","v":0.12448955251915084},{"$f":"D$1330","v":0.54839946451589383},{"$f":"E$1330","v":0.32711098296495528}]
["Small Non Domestic Two Rate",{"$f":"C$1331","v":0.12789989767459184},{"$f":"D$1331","v":0.51407192992762296},{"$f":"E$1331","v":0.35802817239778517}]
["Small Non Domestic Off Peak (related MPAN)",{"$f":"C$1332","v":1.6662746927756662E-2},{"$f":"D$1332","v":0.18539360436192653},{"$f":"E$1332","v":0.79794364871031687}]
["LV Medium Non-Domestic",{"$f":"C$1333","v":0.13578714746948006},{"$f":"D$1333","v":0.52737188616472797},{"$f":"E$1333","v":0.33684096636579203}]
["LV Sub Medium Non-Domestic",{"$f":"C$1334","v":0.13396894905730031},{"$f":"D$1334","v":0.52405310526112514},{"$f":"E$1334","v":0.34197794568157458}]
["HV Medium Non-Domestic",{"$f":"C$1335","v":0.13341246842462706},{"$f":"D$1335","v":0.54105928671962722},{"$f":"E$1335","v":0.32552824485574577}]
["LV Network Domestic",1,0,0]
["LV Network Non-Domestic Non-CT",1,0,0]
["LV HH Metered",1,0,0]
["LV Sub HH Metered",1,0,0]
["HV HH Metered",1,0,0]
["LV Generation Non-Intermittent",1,0,0]
["LV Generation Non-Intermittent no RP charge",1,0,0]
["LV Sub Generation Non-Intermittent",1,0,0]
["LV Sub Generation Non-Intermittent no RP charge",1,0,0]
["HV Generation Non-Intermittent",1,0,0]
["HV Generation Non-Intermittent no RP charge",1,0,0]
[]
["2404. Normalisation of split of rate 2 units by time band"]
["Data sources:"]
["x1 = 1062. Average split of rate 2 units by distribution time band"]
["x2 = Total split (in Normalisation of split of rate 2 units by time band)"]
["x3 = 2401. Annual hours by distribution time band (reconciled to days in year) (in Adjust annual hours by distribution time band to match days in year)"]
["x4 = 1010. Days in the charging year (in Financial and general assumptions)"]
["Kind:","Cell summation","Calculation"]
["Formula:","=SUM(x1)","=IF(x2,x1/x2,x3/x4/24)"]
[]
[null,null,"Normalised split of rate 2 units by distribution time band"]
[null,"Total split","Red","Amber","Green"]
["Domestic Two Rate",{"$f":"SUM($B296:$D296)","v":1},{"$f":"IF($B1376,B296/$B1376,C$1314/$F$14/24)","v":0},0,1]
["Small Non Domestic Two Rate",{"$f":"SUM($B297:$D297)","v":1},0,0,1]
["LV Medium Non-Domestic",{"$f":"SUM($B298:$D298)","v":1},0,0,1]
["LV Sub Medium Non-Domestic",{"$f":"SUM($B299:$D299)","v":1},0,0,1]
["HV Medium Non-Domestic",{"$f":"SUM($B300:$D300)","v":1},0,0,1]
[]
["2405. Split of rate 2 units between distribution time bands"]
["Data sources:"]
["x1 = 2404. Normalised split of rate 2 units by distribution time band (in Normalisation of split of rate 2 units by time band)"]
["x2 = Split of rate 2 units between distribution time bands (default)"]
["Combine tables = x1 or x2"]
[]
[null,"Red","Amber","Green"]
["Domestic Two Rate",{"$f":"C$1376","v":0},{"$f":"D$1376","v":0},{"$f":"E$1376","v":1}]
["Small Non Domestic Two Rate",{"$f":"C$1377","v":0},{"$f":"D$1377","v":0},{"$f":"E$1377","v":1}]
["LV Medium Non-Domestic",{"$f":"C$1378","v":0},{"$f":"D$1378","v":0},{"$f":"E$1378","v":1}]
["LV Sub Medium Non-Domestic",{"$f":"C$1379","v":0},{"$f":"D$1379","v":0},{"$f":"E$1379","v":1}]
["HV Medium Non-Domestic",{"$f":"C$1380","v":0},{"$f":"D$1380","v":0},{"$f":"E$1380","v":1}]
["LV Network Domestic",0,1,0]
["LV Network Non-Domestic Non-CT",0,1,0]
["LV HH Metered",0,1,0]
["LV Sub HH Metered",0,1,0]
["HV HH Metered",0,1,0]
["LV Generation Non-Intermittent",0,1,0]
["LV Generation Non-Intermittent no RP charge",0,1,0]
["LV Sub Generation Non-Intermittent",0,1,0]
["LV Sub Generation Non-Intermittent no RP charge",0,1,0]
["HV Generation Non-Intermittent",0,1,0]
["HV Generation Non-Intermittent no RP charge",0,1,0]
[]
["2406. Split of rate 3 units between distribution time bands (default)"]
[]
[null,"Red","Amber","Green"]
["LV Network Domestic",0,0,1]
["LV Network Non-Domestic Non-CT",0,0,1]
["LV HH Metered",0,0,1]
["LV Sub HH Metered",0,0,1]
["HV HH Metered",0,0,1]
["LV Generation Non-Intermittent",0,0,1]
["LV Generation Non-Intermittent no RP charge",0,0,1]
["LV Sub Generation Non-Intermittent",0,0,1]
["LV Sub Generation Non-Intermittent no RP charge",0,0,1]
["HV Generation Non-Intermittent",0,0,1]
["HV Generation Non-Intermittent no RP charge",0,0,1]
[]
["2407. All units (MWh)"]
["Data sources:"]
["x1 = 2305. Rate 1 units (MWh) (in Equivalent volume for each end user)"]
["x2 = 2305. Rate 2 units (MWh) (in Equivalent volume for each end user)"]
["x3 = 2305. Rate 3 units (MWh) (in Equivalent volume for each end user)"]
["Calculation =x1+x2+x3"]
[]
[null,"All units (MWh)"]
["Domestic Unrestricted",{"$f":"B1268+C1268+D1268","v":5783172.5835069949}]
["Domestic Two Rate",3503306.2596831666]
["Domestic Off Peak (related MPAN)",49585.593175668728]
["Small Non Domestic Unrestricted",1149407.0192718825]
["Small Non Domestic Two Rate",1966383.8917564461]
["Small Non Domestic Off Peak (related MPAN)",2583.3840720654089]
["LV Medium Non-Domestic",53110.746206844604]
["LV Sub Medium Non-Domestic",0.18482132843665922]
["HV Medium Non-Domestic",3393.8175161222098]
["LV Network Domestic",247.4185157539581]
["LV Network Non-Domestic Non-CT",171016.16815264348]
["LV HH Metered",3579067.7021043785]
["LV Sub HH Metered",226159.40190600298]
["HV HH Metered",7649487.2062801989]
["NHH UMS category A",34604.932768110302]
["NHH UMS category B",23009.821912317228]
["NHH UMS category C",339.10140823796002]
["NHH UMS category D",7208.5560845431746]
["LV UMS (Pseudo HH Metered)",231659.30567358769]
["LV Generation NHH or Aggregate HH",10261.739211857142]
["LV Sub Generation NHH",0]
["LV Generation Intermittent",39614.124439007137]
["LV Generation Intermittent no RP charge",0]
["LV Generation Non-Intermittent",17375.889514769377]
["LV Generation Non-Intermittent no RP charge",0]
["LV Sub Generation Intermittent",3841.6564052142853]
["LV Sub Generation Intermittent no RP charge",0]
["LV Sub Generation Non-Intermittent",5861.8525960003717]
["LV Sub Generation Non-Intermittent no RP charge",0]
["HV Generation Intermittent",479019.46039478574]
["HV Generation Intermittent no RP charge",0]
["HV Generation Non-Intermittent",851558.23757333774]
["HV Generation Non-Intermittent no RP charge",0]
[]
["2408. Calculation of implied load coefficients for one-rate users"]
["Data sources:"]
["x1 = 2407. All units (MWh)"]
["x2 = 2305. Rate 1 units (MWh) (in Equivalent volume for each end user)"]
["x3 = 2403. Split of rate 1 units between distribution time bands"]
["x4 = 2401. Annual hours by distribution time band (reconciled to days in year) (in Adjust annual hours by distribution time band to match days in year)"]
["x5 = Use of distribution time bands by units in demand forecast for one-rate tariffs (in Calculation of implied load coefficients for one-rate users)"]
["x6 = 1010. Days in the charging year (in Financial and general assumptions)"]
["Kind:","Calculation",null,null,"Calculation"]
["Formula:","=IF(x1>0,(x2*x3)/x1,0)",null,null,"=IF(x4>0,x5*x6*24/x4,0)"]
[]
[null,"Use of distribution time bands by units in demand forecast for one-rate tariffs"]
[null,"Red","Amber","Green","Peak band load coefficient for one-rate tariffs"]
["Domestic Unrestricted",{"$f":"IF($B$1429>0,($B$1268*B$1344)/$B$1429,0)","v":0.14320337799237601},{"$f":"IF($B$1429>0,($B$1268*C$1344)/$B$1429,0)","v":0.39651561494177523},{"$f":"IF($B$1429>0,($B$1268*D$1344)/$B$1429,0)","v":0.46028100706584879},{"$f":"IF($C$1314>0,$B1476*$F$14*24/$C$1314,0)","v":1.6021220832863521}]
["Small Non Domestic Unrestricted",{"$f":"IF($B$1432>0,($B$1271*B$1347)/$B$1432,0)","v":0.12448955251915085},{"$f":"IF($B$1432>0,($B$1271*C$1347)/$B$1432,0)","v":0.54839946451589383},{"$f":"IF($B$1432>0,($B$1271*D$1347)/$B$1432,0)","v":0.32711098296495528},{"$f":"IF($C$1314>0,$B1477*$F$14*24/$C$1314,0)","v":1.3927566795245996}]
[]
["2409. Calculation of implied load coefficients for two-rate users"]
["Data sources:"]
["x1 = 2407. All units (MWh)"]
["x2 = 2305. Rate 1 units (MWh) (in Equivalent volume for each end user)"]
["x3 = 2403. Split of rate 1 units between distribution time bands"]
["x4 = 2305. Rate 2 units (MWh) (in Equivalent volume for each end user)"]
["x5 = 2405. Split of rate 2 units between distribution time bands"]
["x6 = 2401. Annual hours by distribution time band (reconciled to days in year) (in Adjust annual hours by distribution time band to match days in year)"]
["x7 = Use of distribution time bands by units in demand forecast for two-rate tariffs (in Calculation of implied load coefficients for two-rate users)"]
["x8 = 1010. Days in the charging year (in Financial and general assumptions)"]
["Kind:","Calculation",null,null,"Calculation"]
["Formula:","=IF(x1>0,(x2*x3+x4*x5)/x1,0)",null,null,"=IF(x6>0,x7*x8*24/x6,0)"]
[]
[null,"Use of distribution time bands by units in demand forecast for two-rate tariffs"]
[null,"Red","Amber","Green","Peak band load coefficient for two-rate tariffs"]
["Domestic Two Rate",{"$f":"IF($B$1430>0,($B$1269*B$1345+$C$1269*B$1389)/$B$1430,0)","v":0.10480160710493984},{"$f":"IF($B$1430>0,($B$1269*C$1345+$C$1269*C$1389)/$B$1430,0)","v":0.29062304790168236},{"$f":"IF($B$1430>0,($B$1269*D$1345+$C$1269*D$1389)/$B$1430,0)","v":0.60457534499337784},{"$f":"IF($C$1314>0,$B1494*$F$14*24/$C$1314,0)","v":1.1724930756567982}]
["Small Non Domestic Two Rate",{"$f":"IF($B$1433>0,($B$1272*B$1348+$C$1272*B$1390)/$B$1433,0)","v":9.8550064895339379E-2},{"$f":"IF($B$1433>0,($B$1272*C$1348+$C$1272*C$1390)/$B$1433,0)","v":0.39610525869329066},{"$f":"IF($B$1433>0,($B$1272*D$1348+$C$1272*D$1390)/$B$1433,0)","v":0.50534467641136982},{"$f":"IF($C$1314>0,$B1495*$F$14*24/$C$1314,0)","v":1.1025524501700803}]
["LV Medium Non-Domestic",{"$f":"IF($B$1435>0,($B$1274*B$1350+$C$1274*B$1391)/$B$1435,0)","v":0.10632689657846293},{"$f":"IF($B$1435>0,($B$1274*C$1350+$C$1274*C$1391)/$B$1435,0)","v":0.41295378129383919},{"$f":"IF($B$1435>0,($B$1274*D$1350+$C$1274*D$1391)/$B$1435,0)","v":0.4807193221276978},{"$f":"IF($C$1314>0,$B1496*$F$14*24/$C$1314,0)","v":1.1895576168931485}]
["LV Sub Medium Non-Domestic",{"$f":"IF($B$1436>0,($B$1275*B$1351+$C$1275*B$1392)/$B$1436,0)","v":0.10369093957069632},{"$f":"IF($B$1436>0,($B$1275*C$1351+$C$1275*C$1392)/$B$1436,0)","v":0.40561308610568653},{"$f":"IF($B$1436>0,($B$1275*D$1351+$C$1275*D$1392)/$B$1436,0)","v":0.49069597432361711},{"$f":"IF($C$1314>0,$B1497*$F$14*24/$C$1314,0)","v":1.1600672166530011}]
["HV Medium Non-Domestic",{"$f":"IF($B$1437>0,($B$1276*B$1352+$C$1276*B$1393)/$B$1437,0)","v":0.10241203941983677},{"$f":"IF($B$1437>0,($B$1276*C$1352+$C$1276*C$1393)/$B$1437,0)","v":0.41533588017902773},{"$f":"IF($B$1437>0,($B$1276*D$1352+$C$1276*D$1393)/$B$1437,0)","v":0.48225208040113554},{"$f":"IF($C$1314>0,$B1498*$F$14*24/$C$1314,0)","v":1.1457592149652236}]
[]
["2410. Calculation of implied load coefficients for three-rate users"]
["Data sources:"]
["x1 = 2407. All units (MWh)"]
["x2 = 2305. Rate 1 units (MWh) (in Equivalent volume for each end user)"]
["x3 = 2403. Split of rate 1 units between distribution time bands"]
["x4 = 2305. Rate 2 units (MWh) (in Equivalent volume for each end user)"]
["x5 = 2405. Split of rate 2 units between distribution time bands"]
["x6 = 2305. Rate 3 units (MWh) (in Equivalent volume for each end user)"]
["x7 = 2406. Split of rate 3 units between distribution time bands (default)"]
["x8 = 2401. Annual hours by distribution time band (reconciled to days in year) (in Adjust annual hours by distribution time band to match days in year)"]
["x9 = Use of distribution time bands by units in demand forecast for three-rate tariffs (in Calculation of implied load coefficients for three-rate users)"]
["x10 = 1010. Days in the charging year (in Financial and general assumptions)"]
["Kind:","Calculation",null,null,"Calculation"]
["Formula:","=IF(x1>0,(x2*x3+x4*x5+x6*x7)/x1,0)",null,null,"=IF(x8>0,x9*x10*24/x8,0)"]
[]
[null,"Use of distribution time bands by units in demand forecast for three-rate tariffs"]
[null,"Red","Amber","Green","Peak band load coefficient for three-rate tariffs"]
["LV Network Domestic",{"$f":"IF($B$1438>0,($B$1277*B$1353+$C$1277*B$1394+$D$1277*B$1409)/$B$1438,0)","v":0.10474821894920042},{"$f":"IF($B$1438>0,($B$1277*C$1353+$C$1277*C$1394+$D$1277*C$1409)/$B$1438,0)","v":0.40181474078171331},{"$f":"IF($B$1438>0,($B$1277*D$1353+$C$1277*D$1394+$D$1277*D$1409)/$B$1438,0)","v":0.4934370402690863},{"$f":"IF($C$1314>0,$B1517*$F$14*24/$C$1314,0)","v":1.1718957828799434}]
["LV Network Non-Domestic Non-CT",{"$f":"IF($B$1439>0,($B$1278*B$1354+$C$1278*B$1395+$D$1278*B$1410)/$B$1439,0)","v":0.10891573283002431},{"$f":"IF($B$1439>0,($B$1278*C$1354+$C$1278*C$1395+$D$1278*C$1410)/$B$1439,0)","v":0.43158514711085272},{"$f":"IF($B$1439>0,($B$1278*D$1354+$C$1278*D$1395+$D$1278*D$1410)/$B$1439,0)","v":0.45949912005912291},{"$f":"IF($C$1314>0,$B1518*$F$14*24/$C$1314,0)","v":1.2185208423895439}]
["LV HH Metered",{"$f":"IF($B$1440>0,($B$1279*B$1355+$C$1279*B$1396+$D$1279*B$1411)/$B$1440,0)","v":0.10803720385069458},{"$f":"IF($B$1440>0,($B$1279*C$1355+$C$1279*C$1396+$D$1279*C$1411)/$B$1440,0)","v":0.429679039939105},{"$f":"IF($B$1440>0,($B$1279*D$1355+$C$1279*D$1396+$D$1279*D$1411)/$B$1440,0)","v":0.46228375621020035},{"$f":"IF($C$1314>0,$B1519*$F$14*24/$C$1314,0)","v":1.2086920890575792}]
["LV Sub HH Metered",{"$f":"IF($B$1441>0,($B$1280*B$1356+$C$1280*B$1397+$D$1280*B$1412)/$B$1441,0)","v":0.10713527245068946},{"$f":"IF($B$1441>0,($B$1280*C$1356+$C$1280*C$1397+$D$1280*C$1412)/$B$1441,0)","v":0.40954692875178772},{"$f":"IF($B$1441>0,($B$1280*D$1356+$C$1280*D$1397+$D$1280*D$1412)/$B$1441,0)","v":0.48331779879752285},{"$f":"IF($C$1314>0,$B1520*$F$14*24/$C$1314,0)","v":1.1986015155402805}]
["HV HH Metered",{"$f":"IF($B$1442>0,($B$1281*B$1357+$C$1281*B$1398+$D$1281*B$1413)/$B$1442,0)","v":9.7411396562706976E-2},{"$f":"IF($B$1442>0,($B$1281*C$1357+$C$1281*C$1398+$D$1281*C$1413)/$B$1442,0)","v":0.37522448528126878},{"$f":"IF($B$1442>0,($B$1281*D$1357+$C$1281*D$1398+$D$1281*D$1413)/$B$1442,0)","v":0.52736411815602424},{"$f":"IF($C$1314>0,$B1521*$F$14*24/$C$1314,0)","v":1.0898133255291356}]
[]
["2411. Calculation of adjusted time band load coefficients"]
["Data sources:"]
["x1 = 2408. Peak band load coefficient for one-rate tariffs (in Calculation of implied load coefficients for one-rate users)"]
["x2 = 2409. Peak band load coefficient for two-rate tariffs (in Calculation of implied load coefficients for two-rate users)"]
["x3 = 2410. Peak band load coefficient for three-rate tariffs (in Calculation of implied load coefficients for three-rate users)"]
["x4 = Peak band load coefficient (in Calculation of adjusted time band load coefficients)"]
["x5 = 2302. Load coefficient"]
["Kind:","Combine tables","Calculation"]
["Formula:","= x1 or x2 or x3","=IF(x4<>0,x5/x4,IF(x5<0,-1,1))"]
[]
[null,"Peak band load coefficient","Load coefficient correction factor (kW at peak in band / band average kW)"]
["Domestic Unrestricted",{"$f":"E$1476","v":1.6021220832863521},{"$f":"IF($B1534<>0,B$980/$B1534,IF(B$980<0,-1,1))","v":1.2932309232564365}]
["Domestic Two Rate",{"$f":"E$1494","v":1.1724930756567982},{"$f":"IF($B1535<>0,B$981/$B1535,IF(B$981<0,-1,1))","v":1.4593514645767747}]
["Domestic Off Peak (related MPAN)",null,{"$f":"IF($B1536<>0,B$982/$B1536,IF(B$982<0,-1,1))","v":1}]
["Small Non Domestic Unrestricted",{"$f":"E$1477","v":1.3927566795245996},{"$f":"IF($B1537<>0,B$983/$B1537,IF(B$983<0,-1,1))","v":1.383580055700909}]
["Small Non Domestic Two Rate",{"$f":"E$1495","v":1.1025524501700803},{"$f":"IF($B1538<>0,B$984/$B1538,IF(B$984<0,-1,1))","v":1.4641166790884537}]
["Small Non Domestic Off Peak (related MPAN)",null,{"$f":"IF($B1539<>0,B$985/$B1539,IF(B$985<0,-1,1))","v":1}]
["LV Medium Non-Domestic",{"$f":"E$1496","v":1.1895576168931485},{"$f":"IF($B1540<>0,B$986/$B1540,IF(B$986<0,-1,1))","v":1.3427150399237613}]
["LV Sub Medium Non-Domestic",{"$f":"E$1497","v":1.1600672166530011},{"$f":"IF($B1541<>0,B$987/$B1541,IF(B$987<0,-1,1))","v":1.3768485826766219}]
["HV Medium Non-Domestic",{"$f":"E$1498","v":1.1457592149652236},{"$f":"IF($B1542<>0,B$988/$B1542,IF(B$988<0,-1,1))","v":1.3994191927103268}]
["LV Network Domestic",{"$f":"E$1517","v":1.1718957828799434},{"$f":"IF($B1543<>0,B$989/$B1543,IF(B$989<0,-1,1))","v":1.6566200004502309}]
["LV Network Non-Domestic Non-CT",{"$f":"E$1518","v":1.2185208423895439},{"$f":"IF($B1544<>0,B$990/$B1544,IF(B$990<0,-1,1))","v":1.4429658829797576}]
["LV HH Metered",{"$f":"E$1519","v":1.2086920890575792},{"$f":"IF($B1545<>0,B$991/$B1545,IF(B$991<0,-1,1))","v":1.2161532832537862}]
["LV Sub HH Metered",{"$f":"E$1520","v":1.1986015155402805},{"$f":"IF($B1546<>0,B$992/$B1546,IF(B$992<0,-1,1))","v":1.2106205314402934}]
["HV HH Metered",{"$f":"E$1521","v":1.0898133255291356},{"$f":"IF($B1547<>0,B$993/$B1547,IF(B$993<0,-1,1))","v":1.0891201630354133}]
["LV Generation Non-Intermittent",null,{"$f":"IF($B1548<>0,B$1003/$B1548,IF(B$1003<0,-1,1))","v":-1}]
["LV Generation Non-Intermittent no RP charge",null,{"$f":"IF($B1549<>0,B$1004/$B1549,IF(B$1004<0,-1,1))","v":-1}]
["LV Sub Generation Non-Intermittent",null,{"$f":"IF($B1550<>0,B$1007/$B1550,IF(B$1007<0,-1,1))","v":-1}]
["LV Sub Generation Non-Intermittent no RP charge",null,{"$f":"IF($B1551<>0,B$1008/$B1551,IF(B$1008<0,-1,1))","v":-1}]
["HV Generation Non-Intermittent",null,{"$f":"IF($B1552<>0,B$1011/$B1552,IF(B$1011<0,-1,1))","v":-1}]
["HV Generation Non-Intermittent no RP charge",null,{"$f":"IF($B1553<>0,B$1012/$B1553,IF(B$1012<0,-1,1))","v":-1}]
[]
["2412. Normalisation of peaking probabilities"]
["Data sources:"]
["x1 = 1069. Red, amber and green peaking probabilities (in Peaking probabilities by network level)"]
["x2 = Total probability (should be 100%) (in Normalisation of peaking probabilities)"]
["x3 = 1068. Typical annual hours by distribution time band"]
["x4 = 2401. Total hours in the year according to time band hours input data (in Adjust annual hours by distribution time band to match days in year)"]
["Kind:","Cell summation","Calculation"]
["Formula:","=SUM(x1)","=IF(x2,x1/x2,x3/x4)"]
[]
[null,null,"Normalised peaking probabilities"]
[null,"Total probability (should be 100%)","Red","Amber","Green"]
["GSPs",{"$f":"SUM($B329:$D329)","v":1},{"$f":"IF($B1566,B329/$B1566,B$322/$B$1314)","v":1},0,0]
["132kV",1.0000000000000002,0.78083657486559999,0.20804160459605275,1.1121820538347097E-2]
["132kV/EHV",1.0000000000000002,0.78083657486559999,0.20804160459605275,1.1121820538347097E-2]
["EHV",0.99999999999999989,0.66321603936627427,0.2978698720055013,3.8914088628224548E-2]
["EHV/HV",0.99999999999999989,0.66321603936627427,0.2978698720055013,3.8914088628224548E-2]
["132kV/HV",1.0000000000000002,0.78083657486559999,0.20804160459605275,1.1121820538347097E-2]
["HV",0.99999999999999989,0.66321603936627427,0.2978698720055013,3.8914088628224548E-2]
["HV/LV",0.99999999999999989,0.66321603936627427,0.2978698720055013,3.8914088628224548E-2]
["LV circuits",0.99999999999999989,0.66321603936627427,0.2978698720055013,3.8914088628224548E-2]
[]
["2413. Peaking probabilities by network level (reshaped)"]
["Data sources:"]
["x1 = 2412. Normalised peaking probabilities (in Normalisation of peaking probabilities)"]
["Reshape table = x1"]
[]
[null,"GSPs","Red","Amber","Green","132kV","Red","Amber","Green","132kV/EHV","Red","Amber","Green","EHV","Red","Amber","Green","EHV/HV","Red","Amber","Green","132kV/HV","Red","Amber","Green","HV","Red","Amber","Green","HV/LV","Red","Amber","Green","LV circuits","Red","Amber","Green"]
["Probability of peak within timeband",null,{"$f":"C$1566","v":1},{"$f":"D$1566","v":0},{"$f":"E$1566","v":0},null,{"$f":"C$1567","v":0.78083657486559999},{"$f":"D$1567","v":0.20804160459605275},{"$f":"E$1567","v":1.1121820538347097E-2},null,{"$f":"C$1568","v":0.78083657486559999},{"$f":"D$1568","v":0.20804160459605275},{"$f":"E$1568","v":1.1121820538347097E-2},null,{"$f":"C$1569","v":0.66321603936627427},{"$f":"D$1569","v":0.2978698720055013},{"$f":"E$1569","v":3.8914088628224548E-2},null,{"$f":"C$1570","v":0.66321603936627427},{"$f":"D$1570","v":0.2978698720055013},{"$f":"E$1570","v":3.8914088628224548E-2},null,{"$f":"C$1571","v":0.78083657486559999},{"$f":"D$1571","v":0.20804160459605275},{"$f":"E$1571","v":1.1121820538347097E-2},null,{"$f":"C$1572","v":0.66321603936627427},{"$f":"D$1572","v":0.2978698720055013},{"$f":"E$1572","v":3.8914088628224548E-2},null,{"$f":"C$1573","v":0.66321603936627427},{"$f":"D$1573","v":0.2978698720055013},{"$f":"E$1573","v":3.8914088628224548E-2},null,{"$f":"C$1574","v":0.66321603936627427},{"$f":"D$1574","v":0.2978698720055013},{"$f":"E$1574","v":3.8914088628224548E-2}]
[]
["2414. Pseudo load coefficient by time band and network level"]
["Data sources:"]
["x1 = 2401. Annual hours by distribution time band (reconciled to days in year) (in Adjust annual hours by distribution time band to match days in year)"]
["x2 = 2411. Load coefficient correction factor (kW at peak in band / band average kW) (in Calculation of adjusted time band load coefficients)"]
["x3 = 2413. Peaking probabilities by network level (reshaped)"]
["x4 = 1010. Days in the charging year (in Financial and general assumptions)"]
["Calculation =IF(x1>0,x2*x3*24*x4/x1,0)"]
[]
[null,"GSPs","Red","Amber","Green","132kV","Red","Amber","Green","132kV/EHV","Red","Amber","Green","EHV","Red","Amber","Green","EHV/HV","Red","Amber","Green","132kV/HV","Red","Amber","Green","HV","Red","Amber","Green","HV/LV","Red","Amber","Green","LV circuits","Red","Amber","Green"]
["Domestic Unrestricted",null,{"$f":"IF(C$1314>0,$C1534*C$1582*24*$F$14/C$1314,0)","v":14.468330635665879},0,0,null,{"$f":"IF(C$1314>0,$C1534*G$1582*24*$F$14/C$1314,0)","v":11.297401737576378},0.86000420607718786,2.4061071412116369E-2,null,{"$f":"IF(C$1314>0,$C1534*K$1582*24*$F$14/C$1314,0)","v":11.297401737576378},0.86000420607718786,2.4061071412116369E-2,null,{"$f":"IF(C$1314>0,$C1534*O$1582*24*$F$14/C$1314,0)","v":9.595628940428055},1.2313370841654483,8.418717620849954E-2,null,{"$f":"IF(C$1314>0,$C1534*S$1582*24*$F$14/C$1314,0)","v":9.595628940428055},1.2313370841654483,8.418717620849954E-2,null,{"$f":"IF(C$1314>0,$C1534*W$1582*24*$F$14/C$1314,0)","v":11.297401737576378},0.86000420607718786,2.4061071412116369E-2,null,{"$f":"IF(C$1314>0,$C1534*AA$1582*24*$F$14/C$1314,0)","v":9.595628940428055},1.2313370841654483,8.418717620849954E-2,null,{"$f":"IF(C$1314>0,$C1534*AE$1582*24*$F$14/C$1314,0)","v":9.595628940428055},1.2313370841654483,8.418717620849954E-2,null,{"$f":"IF(C$1314>0,$C1534*AI$1582*24*$F$14/C$1314,0)","v":9.595628940428055},1.2313370841654483,8.418717620849954E-2]
["Domestic Two Rate",null,16.326843971510275,0,0,null,12.748596925079156,0.97047509080639671,2.7151809605774225E-2,null,12.748596925079156,0.97047509080639671,2.7151809605774225E-2,null,10.828224794136178,1.3895071211564447,9.500134638683938E-2,null,10.828224794136178,1.3895071211564447,9.500134638683938E-2,null,12.748596925079156,0.97047509080639671,2.7151809605774225E-2,null,10.828224794136178,1.3895071211564447,9.500134638683938E-2,null,10.828224794136178,1.3895071211564447,9.500134638683938E-2,null,10.828224794136178,1.3895071211564447,9.500134638683938E-2]
["Domestic Off Peak (related MPAN)",null,11.187739463601533,0,0,null,8.7357961632473256,0.6650043628029273,1.8605394426796637E-2,null,8.7357961632473256,0.6650043628029273,1.8605394426796637E-2,null,7.419888256511574,0.95214014915825262,6.5098332165233849E-2,null,7.419888256511574,0.95214014915825262,6.5098332165233849E-2,null,8.7357961632473256,0.6650043628029273,1.8605394426796637E-2,null,7.419888256511574,0.95214014915825262,6.5098332165233849E-2,null,7.419888256511574,0.95214014915825262,6.5098332165233849E-2,null,7.419888256511574,0.95214014915825262,6.5098332165233849E-2]
["Small Non Domestic Unrestricted",null,15.479133190217068,0,0,null,12.086673342137523,0.92008677332822142,2.5742052657364671E-2,null,12.086673342137523,0.92008677332822142,2.5742052657364671E-2,null,10.266009407238805,1.3173621206074468,9.0068754043210519E-2,null,10.266009407238805,1.3173621206074468,9.0068754043210519E-2,null,12.086673342137523,0.92008677332822142,2.5742052657364671E-2,null,10.266009407238805,1.3173621206074468,9.0068754043210519E-2,null,10.266009407238805,1.3173621206074468,9.0068754043210519E-2,null,10.266009407238805,1.3173621206074468,9.0068754043210519E-2]
["Small Non Domestic Two Rate",null,16.380155949955114,0,0,null,12.790224867727328,0.97364397924635504,2.7240468301292311E-2,null,12.790224867727328,0.97364397924635504,2.7240468301292311E-2,null,10.863582153331143,1.3940442732123659,9.5311553903959248E-2,null,10.863582153331143,1.3940442732123659,9.5311553903959248E-2,null,12.790224867727328,0.97364397924635504,2.7240468301292311E-2,null,10.863582153331143,1.3940442732123659,9.5311553903959248E-2,null,10.863582153331143,1.3940442732123659,9.5311553903959248E-2,null,10.863582153331143,1.3940442732123659,9.5311553903959248E-2]
["Small Non Domestic Off Peak (related MPAN)",null,11.187739463601533,0,0,null,8.7357961632473256,0.6650043628029273,1.8605394426796637E-2,null,8.7357961632473256,0.6650043628029273,1.8605394426796637E-2,null,7.419888256511574,0.95214014915825262,6.5098332165233849E-2,null,7.419888256511574,0.95214014915825262,6.5098332165233849E-2,null,8.7357961632473256,0.6650043628029273,1.8605394426796637E-2,null,7.419888256511574,0.95214014915825262,6.5098332165233849E-2,null,7.419888256511574,0.95214014915825262,6.5098332165233849E-2,null,7.419888256511574,0.95214014915825262,6.5098332165233849E-2]
["LV Medium Non-Domestic",null,15.021946040526371,0,0,null,11.729684894100476,0.8929113595504079,2.4981742920573567E-2,null,11.729684894100476,0.8929113595504079,2.4981742920573567E-2,null,9.9627955565717858,1.2784528983900394,8.7408509672212253E-2,null,9.9627955565717858,1.2784528983900394,8.7408509672212253E-2,null,11.729684894100476,0.8929113595504079,2.4981742920573567E-2,null,9.9627955565717858,1.2784528983900394,8.7408509672212253E-2,null,9.9627955565717858,1.2784528983900394,8.7408509672212253E-2,null,9.9627955565717858,1.2784528983900394,8.7408509672212253E-2]
["LV Sub Medium Non-Domestic",null,15.403823223815079,0,0,null,12.027868565918951,0.91561031439898055,2.5616810946674465E-2,null,12.027868565918951,0.91561031439898055,2.5616810946674465E-2,null,10.216062629596872,1.3109528148780476,8.9630546376314152E-2,null,10.216062629596872,1.3109528148780476,8.9630546376314152E-2,null,12.027868565918951,0.91561031439898055,2.5616810946674465E-2,null,10.216062629596872,1.3109528148780476,8.9630546376314152E-2,null,10.216062629596872,1.3109528148780476,8.9630546376314152E-2,null,10.216062629596872,1.3109528148780476,8.9630546376314152E-2]
["HV Medium Non-Domestic",null,15.656337328406721,0,0,null,12.225040814453543,0.93061986854251777,2.603674604880496E-2,null,12.225040814453543,0.93061986854251777,2.603674604880496E-2,null,10.38353403392826,1.3324431988821319,9.1099855445460259E-2,null,10.38353403392826,1.3324431988821319,9.1099855445460259E-2,null,12.225040814453543,0.93061986854251777,2.603674604880496E-2,null,10.38353403392826,1.3324431988821319,9.1099855445460259E-2,null,10.38353403392826,1.3324431988821319,9.1099855445460259E-2,null,10.38353403392826,1.3324431988821319,9.1099855445460259E-2]
["LV Network Domestic",null,18.533832955228636,0,0,null,14.471894643891908,1.1016595278059909,3.0822068523696563E-2,null,14.471894643891908,1.1016595278059909,3.0822068523696563E-2,null,12.29193528684287,1.5773344143272277,0.10784319906087897,null,12.29193528684287,1.5773344143272277,0.10784319906087897,null,14.471894643891908,1.1016595278059909,3.0822068523696563E-2,null,12.29193528684287,1.5773344143272277,0.10784319906087897,null,12.29193528684287,1.5773344143272277,0.10784319906087897,null,12.29193528684287,1.5773344143272277,0.10784319906087897]
["LV Network Non-Domestic Non-CT",null,16.143526353643264,0,0,null,12.605455824231356,0.95957860755731694,2.6846949397249267E-2,null,12.605455824231356,0.95957860755731694,2.6846949397249267E-2,null,10.706645609668358,1.3739057510506161,9.393467235331622E-2,null,10.706645609668358,1.3739057510506161,9.393467235331622E-2,null,12.605455824231356,0.95957860755731694,2.6846949397249267E-2,null,10.706645609668358,1.3739057510506161,9.393467235331622E-2,null,10.706645609668358,1.3739057510506161,9.393467235331622E-2,null,10.706645609668358,1.3739057510506161,9.393467235331622E-2]
["LV HH Metered",null,13.606006080846958,0,0,null,10.624067185769063,0.8087472392008721,2.2627011518380424E-2,null,10.624067185769063,0.8087472392008721,2.2627011518380424E-2,null,9.0237214645327626,1.1579483685165588,7.916955039709471E-2,null,9.0237214645327626,1.1579483685165588,7.916955039709471E-2,null,10.624067185769063,0.8087472392008721,2.2627011518380424E-2,null,9.0237214645327626,1.1579483685165588,7.916955039709471E-2,null,9.0237214645327626,1.1579483685165588,7.916955039709471E-2,null,9.0237214645327626,1.1579483685165588,7.916955039709471E-2]
["LV Sub HH Metered",null,13.544107095040831,0,0,null,10.575734193704553,0.80506793510659358,2.252407248862481E-2,null,10.575734193704553,0.80506793510659358,2.252407248862481E-2,null,8.9826690643256324,1.152680413379604,7.8809377481752152E-2,null,8.9826690643256324,1.152680413379604,7.8809377481752152E-2,null,10.575734193704553,0.80506793510659358,2.252407248862481E-2,null,8.9826690643256324,1.152680413379604,7.8809377481752152E-2,null,8.9826690643256324,1.152680413379604,7.8809377481752152E-2,null,8.9826690643256324,1.152680413379604,7.8809377481752152E-2]
["HV HH Metered",null,12.18479262859543,0,0,null,9.5143317415600652,0.72426966003518534,2.0263510211450918E-2,null,9.5143317415600652,0.72426966003518534,2.0263510211450918E-2,null,8.0811499076364353,1.0369950344837988,7.0899906141132993E-2,null,8.0811499076364353,1.0369950344837988,7.0899906141132993E-2,null,9.5143317415600652,0.72426966003518534,2.0263510211450918E-2,null,8.0811499076364353,1.0369950344837988,7.0899906141132993E-2,null,8.0811499076364353,1.0369950344837988,7.0899906141132993E-2,null,8.0811499076364353,1.0369950344837988,7.0899906141132993E-2]
["LV Generation Non-Intermittent",null,-11.187739463601533,0,0,null,-8.7357961632473256,-0.6650043628029273,-1.8605394426796637E-2,null,-8.7357961632473256,-0.6650043628029273,-1.8605394426796637E-2,null,-7.419888256511574,-0.95214014915825262,-6.5098332165233849E-2,null,-7.419888256511574,-0.95214014915825262,-6.5098332165233849E-2,null,-8.7357961632473256,-0.6650043628029273,-1.8605394426796637E-2,null,-7.419888256511574,-0.95214014915825262,-6.5098332165233849E-2,null,-7.419888256511574,-0.95214014915825262,-6.5098332165233849E-2,null,-7.419888256511574,-0.95214014915825262,-6.5098332165233849E-2]
["LV Generation Non-Intermittent no RP charge",null,-11.187739463601533,0,0,null,-8.7357961632473256,-0.6650043628029273,-1.8605394426796637E-2,null,-8.7357961632473256,-0.6650043628029273,-1.8605394426796637E-2,null,-7.419888256511574,-0.95214014915825262,-6.5098332165233849E-2,null,-7.419888256511574,-0.95214014915825262,-6.5098332165233849E-2,null,-8.7357961632473256,-0.6650043628029273,-1.8605394426796637E-2,null,-7.419888256511574,-0.95214014915825262,-6.5098332165233849E-2,null,-7.419888256511574,-0.95214014915825262,-6.5098332165233849E-2,null,-7.419888256511574,-0.95214014915825262,-6.5098332165233849E-2]
["LV Sub Generation Non-Intermittent",null,{"$f":"IF(C$1314>0,$C1550*C$1582*24*$F$14/C$1314,0)","v":-11.187739463601533},0,0,null,{"$f":"IF(C$1314>0,$C1550*G$1582*24*$F$14/C$1314,0)","v":-8.7357961632473256},-0.6650043628029273,-1.8605394426796637E-2,null,{"$f":"IF(C$1314>0,$C1550*K$1582*24*$F$14/C$1314,0)","v":-8.7357961632473256},-0.6650043628029273,-1.8605394426796637E-2,null,{"$f":"IF(C$1314>0,$C1550*O$1582*24*$F$14/C$1314,0)","v":-7.419888256511574},-0.95214014915825262,-6.5098332165233849E-2,null,{"$f":"IF(C$1314>0,$C1550*S$1582*24*$F$14/C$1314,0)","v":-7.419888256511574},-0.95214014915825262,-6.5098332165233849E-2,null,{"$f":"IF(C$1314>0,$C1550*W$1582*24*$F$14/C$1314,0)","v":-8.7357961632473256},-0.6650043628029273,-1.8605394426796637E-2,null,{"$f":"IF(C$1314>0,$C1550*AA$1582*24*$F$14/C$1314,0)","v":-7.419888256511574},-0.95214014915825262,-6.5098332165233849E-2,null,{"$f":"IF(C$1314>0,$C1550*AE$1582*24*$F$14/C$1314,0)","v":-7.419888256511574},-0.95214014915825262,-6.5098332165233849E-2,null,{"$f":"IF(C$1314>0,$C1550*AI$1582*24*$F$14/C$1314,0)","v":-7.419888256511574},-0.95214014915825262,-6.5098332165233849E-2]
["LV Sub Generation Non-Intermittent no RP charge",null,-11.187739463601533,0,0,null,-8.7357961632473256,-0.6650043628029273,-1.8605394426796637E-2,null,-8.7357961632473256,-0.6650043628029273,-1.8605394426796637E-2,null,-7.419888256511574,-0.95214014915825262,-6.5098332165233849E-2,null,-7.419888256511574,-0.95214014915825262,-6.5098332165233849E-2,null,-8.7357961632473256,-0.6650043628029273,-1.8605394426796637E-2,null,-7.419888256511574,-0.95214014915825262,-6.5098332165233849E-2,null,-7.419888256511574,-0.95214014915825262,-6.5098332165233849E-2,null,-7.419888256511574,-0.95214014915825262,-6.5098332165233849E-2]
["HV Generation Non-Intermittent",null,-11.187739463601533,0,0,null,-8.7357961632473256,-0.6650043628029273,-1.8605394426796637E-2,null,-8.7357961632473256,-0.6650043628029273,-1.8605394426796637E-2,null,-7.419888256511574,-0.95214014915825262,-6.5098332165233849E-2,null,-7.419888256511574,-0.95214014915825262,-6.5098332165233849E-2,null,-8.7357961632473256,-0.6650043628029273,-1.8605394426796637E-2,null,-7.419888256511574,-0.95214014915825262,-6.5098332165233849E-2,null,-7.419888256511574,-0.95214014915825262,-6.5098332165233849E-2,null,-7.419888256511574,-0.95214014915825262,-6.5098332165233849E-2]
["HV Generation Non-Intermittent no RP charge",null,-11.187739463601533,0,0,null,-8.7357961632473256,-0.6650043628029273,-1.8605394426796637E-2,null,-8.7357961632473256,-0.6650043628029273,-1.8605394426796637E-2,null,-7.419888256511574,-0.95214014915825262,-6.5098332165233849E-2,null,-7.419888256511574,-0.95214014915825262,-6.5098332165233849E-2,null,-8.7357961632473256,-0.6650043628029273,-1.8605394426796637E-2,null,-7.419888256511574,-0.95214014915825262,-6.5098332165233849E-2,null,-7.419888256511574,-0.95214014915825262,-6.5098332165233849E-2,null,-7.419888256511574,-0.95214014915825262,-6.5098332165233849E-2]
[]
["2415. Single rate non half hourly pseudo timeband load coefficients"]
["Data sources:"]
["x1 = 2414. Pseudo load coefficient by time band and network level"]
["Copy cells = x1"]
[]
[null,"GSPs","Red","Amber","Green","132kV","Red","Amber","Green","132kV/EHV","Red","Amber","Green","EHV","Red","Amber","Green","EHV/HV","Red","Amber","Green","132kV/HV","Red","Amber","Green","HV","Red","Amber","Green","HV/LV","Red","Amber","Green","LV circuits","Red","Amber","Green"]
["Domestic Unrestricted",null,{"$f":"C$1593","v":14.468330635665879},{"$f":"D$1593","v":0},{"$f":"E$1593","v":0},null,{"$f":"G$1593","v":11.297401737576378},{"$f":"H$1593","v":0.86000420607718786},{"$f":"I$1593","v":2.4061071412116369E-2},null,{"$f":"K$1593","v":11.297401737576378},{"$f":"L$1593","v":0.86000420607718786},{"$f":"M$1593","v":2.4061071412116369E-2},null,{"$f":"O$1593","v":9.595628940428055},{"$f":"P$1593","v":1.2313370841654483},{"$f":"Q$1593","v":8.418717620849954E-2},null,{"$f":"S$1593","v":9.595628940428055},{"$f":"T$1593","v":1.2313370841654483},{"$f":"U$1593","v":8.418717620849954E-2},null,{"$f":"W$1593","v":11.297401737576378},{"$f":"X$1593","v":0.86000420607718786},{"$f":"Y$1593","v":2.4061071412116369E-2},null,{"$f":"AA$1593","v":9.595628940428055},{"$f":"AB$1593","v":1.2313370841654483},{"$f":"AC$1593","v":8.418717620849954E-2},null,{"$f":"AE$1593","v":9.595628940428055},{"$f":"AF$1593","v":1.2313370841654483},{"$f":"AG$1593","v":8.418717620849954E-2},null,{"$f":"AI$1593","v":9.595628940428055},{"$f":"AJ$1593","v":1.2313370841654483},{"$f":"AK$1593","v":8.418717620849954E-2}]
["Small Non Domestic Unrestricted",null,{"$f":"C$1596","v":15.479133190217068},{"$f":"D$1596","v":0},{"$f":"E$1596","v":0},null,{"$f":"G$1596","v":12.086673342137523},{"$f":"H$1596","v":0.92008677332822142},{"$f":"I$1596","v":2.5742052657364671E-2},null,{"$f":"K$1596","v":12.086673342137523},{"$f":"L$1596","v":0.92008677332822142},{"$f":"M$1596","v":2.5742052657364671E-2},null,{"$f":"O$1596","v":10.266009407238805},{"$f":"P$1596","v":1.3173621206074468},{"$f":"Q$1596","v":9.0068754043210519E-2},null,{"$f":"S$1596","v":10.266009407238805},{"$f":"T$1596","v":1.3173621206074468},{"$f":"U$1596","v":9.0068754043210519E-2},null,{"$f":"W$1596","v":12.086673342137523},{"$f":"X$1596","v":0.92008677332822142},{"$f":"Y$1596","v":2.5742052657364671E-2},null,{"$f":"AA$1596","v":10.266009407238805},{"$f":"AB$1596","v":1.3173621206074468},{"$f":"AC$1596","v":9.0068754043210519E-2},null,{"$f":"AE$1596","v":10.266009407238805},{"$f":"AF$1596","v":1.3173621206074468},{"$f":"AG$1596","v":9.0068754043210519E-2},null,{"$f":"AI$1596","v":10.266009407238805},{"$f":"AJ$1596","v":1.3173621206074468},{"$f":"AK$1596","v":9.0068754043210519E-2}]
[]
["2416. Single rate non half hourly units (MWh)"]
["Data sources:"]
["x1 = 2407. All units (MWh)"]
["Copy cells = x1"]
[]
[null,"Single rate non half hourly units (MWh)"]
["Domestic Unrestricted",{"$f":"B$1429","v":5783172.5835069949}]
["Small Non Domestic Unrestricted",{"$f":"B$1432","v":1149407.0192718825}]
[]
["2417. Single rate non half hourly timeband use"]
["Data sources:"]
["x1 = 2403. Split of rate 1 units between distribution time bands"]
["Copy cells = x1"]
[]
[null,"Red","Amber","Green"]
["Domestic Unrestricted",{"$f":"B$1344","v":0.14320337799237601},{"$f":"C$1344","v":0.39651561494177523},{"$f":"D$1344","v":0.46028100706584879}]
["Small Non Domestic Unrestricted",{"$f":"B$1347","v":0.12448955251915084},{"$f":"C$1347","v":0.54839946451589383},{"$f":"D$1347","v":0.32711098296495528}]
[]
["2418. Single rate non half hourly tariff pseudo load coefficient"]
["Data sources:"]
["x1 = 2415. Single rate non half hourly pseudo timeband load coefficients"]
["x2 = 2417. Single rate non half hourly timeband use"]
["Sum-product calculation =SUMPRODUCT(x1, x2)"]
[]
[null,"GSPs","132kV","132kV/EHV","EHV","EHV/HV","132kV/HV","HV","HV/LV","LV circuits"]
["Domestic Unrestricted",{"$f":"SUMPRODUCT($C1620:$E1620,$B1638:$D1638)","v":2.0719138209379349},{"$f":"SUMPRODUCT($G1620:$I1620,$B1638:$D1638)","v":1.9699060421637371},{"$f":"SUMPRODUCT($K1620:$M1620,$B1638:$D1638)","v":1.9699060421637371},{"$f":"SUMPRODUCT($O1620:$Q1620,$B1638:$D1638)","v":1.9011206176064546},{"$f":"SUMPRODUCT($S1620:$U1620,$B1638:$D1638)","v":1.9011206176064546},{"$f":"SUMPRODUCT($W1620:$Y1620,$B1638:$D1638)","v":1.9699060421637371},{"$f":"SUMPRODUCT($AA1620:$AC1620,$B1638:$D1638)","v":1.9011206176064546},{"$f":"SUMPRODUCT($AE1620:$AG1620,$B1638:$D1638)","v":1.9011206176064546},{"$f":"SUMPRODUCT($AI1620:$AK1620,$B1638:$D1638)","v":1.9011206176064546}]
["Small Non Domestic Unrestricted",{"$f":"SUMPRODUCT($C1621:$E1621,$B1639:$D1639)","v":1.9269903642344586},{"$f":"SUMPRODUCT($G1621:$I1621,$B1639:$D1639)","v":2.0176601577574891},{"$f":"SUMPRODUCT($K1621:$M1621,$B1639:$D1639)","v":2.0176601577574891},{"$f":"SUMPRODUCT($O1621:$Q1621,$B1639:$D1639)","v":2.029914077448701},{"$f":"SUMPRODUCT($S1621:$U1621,$B1639:$D1639)","v":2.029914077448701},{"$f":"SUMPRODUCT($W1621:$Y1621,$B1639:$D1639)","v":2.0176601577574891},{"$f":"SUMPRODUCT($AA1621:$AC1621,$B1639:$D1639)","v":2.029914077448701},{"$f":"SUMPRODUCT($AE1621:$AG1621,$B1639:$D1639)","v":2.029914077448701},{"$f":"SUMPRODUCT($AI1621:$AK1621,$B1639:$D1639)","v":2.029914077448701}]
[]
["2419. Multi rate non half hourly units (MWh)"]
["Data sources:"]
["x1 = 2407. All units (MWh)"]
["Copy cells = x1"]
[]
[null,"Multi rate non half hourly units (MWh)"]
["Domestic Two Rate",{"$f":"B$1430","v":3503306.2596831666}]
["Small Non Domestic Two Rate",{"$f":"B$1433","v":1966383.8917564461}]
[]
["2420. Multi rate non half hourly pseudo timeband load coefficients"]
["Data sources:"]
["x1 = 2414. Pseudo load coefficient by time band and network level"]
["Copy cells = x1"]
[]
[null,"GSPs","Red","Amber","Green","132kV","Red","Amber","Green","132kV/EHV","Red","Amber","Green","EHV","Red","Amber","Green","EHV/HV","Red","Amber","Green","132kV/HV","Red","Amber","Green","HV","Red","Amber","Green","HV/LV","Red","Amber","Green","LV circuits","Red","Amber","Green"]
["Domestic Two Rate",null,{"$f":"C$1594","v":16.326843971510275},{"$f":"D$1594","v":0},{"$f":"E$1594","v":0},null,{"$f":"G$1594","v":12.748596925079156},{"$f":"H$1594","v":0.97047509080639671},{"$f":"I$1594","v":2.7151809605774225E-2},null,{"$f":"K$1594","v":12.748596925079156},{"$f":"L$1594","v":0.97047509080639671},{"$f":"M$1594","v":2.7151809605774225E-2},null,{"$f":"O$1594","v":10.828224794136178},{"$f":"P$1594","v":1.3895071211564447},{"$f":"Q$1594","v":9.500134638683938E-2},null,{"$f":"S$1594","v":10.828224794136178},{"$f":"T$1594","v":1.3895071211564447},{"$f":"U$1594","v":9.500134638683938E-2},null,{"$f":"W$1594","v":12.748596925079156},{"$f":"X$1594","v":0.97047509080639671},{"$f":"Y$1594","v":2.7151809605774225E-2},null,{"$f":"AA$1594","v":10.828224794136178},{"$f":"AB$1594","v":1.3895071211564447},{"$f":"AC$1594","v":9.500134638683938E-2},null,{"$f":"AE$1594","v":10.828224794136178},{"$f":"AF$1594","v":1.3895071211564447},{"$f":"AG$1594","v":9.500134638683938E-2},null,{"$f":"AI$1594","v":10.828224794136178},{"$f":"AJ$1594","v":1.3895071211564447},{"$f":"AK$1594","v":9.500134638683938E-2}]
["Small Non Domestic Two Rate",null,{"$f":"C$1597","v":16.380155949955114},{"$f":"D$1597","v":0},{"$f":"E$1597","v":0},null,{"$f":"G$1597","v":12.790224867727328},{"$f":"H$1597","v":0.97364397924635504},{"$f":"I$1597","v":2.7240468301292311E-2},null,{"$f":"K$1597","v":12.790224867727328},{"$f":"L$1597","v":0.97364397924635504},{"$f":"M$1597","v":2.7240468301292311E-2},null,{"$f":"O$1597","v":10.863582153331143},{"$f":"P$1597","v":1.3940442732123659},{"$f":"Q$1597","v":9.5311553903959248E-2},null,{"$f":"S$1597","v":10.863582153331143},{"$f":"T$1597","v":1.3940442732123659},{"$f":"U$1597","v":9.5311553903959248E-2},null,{"$f":"W$1597","v":12.790224867727328},{"$f":"X$1597","v":0.97364397924635504},{"$f":"Y$1597","v":2.7240468301292311E-2},null,{"$f":"AA$1597","v":10.863582153331143},{"$f":"AB$1597","v":1.3940442732123659},{"$f":"AC$1597","v":9.5311553903959248E-2},null,{"$f":"AE$1597","v":10.863582153331143},{"$f":"AF$1597","v":1.3940442732123659},{"$f":"AG$1597","v":9.5311553903959248E-2},null,{"$f":"AI$1597","v":10.863582153331143},{"$f":"AJ$1597","v":1.3940442732123659},{"$f":"AK$1597","v":9.5311553903959248E-2}]
[]
["2421. Multi rate non half hourly timeband use"]
["Data sources:"]
["x1 = 2409. Use of distribution time bands by units in demand forecast for two-rate tariffs (in Calculation of implied load coefficients for two-rate users)"]
["Copy cells = x1"]
[]
[null,"Red","Amber","Green"]
["Domestic Two Rate",{"$f":"B$1494","v":0.10480160710493984},{"$f":"C$1494","v":0.29062304790168236},{"$f":"D$1494","v":0.60457534499337784}]
["Small Non Domestic Two Rate",{"$f":"B$1495","v":9.8550064895339379E-2},{"$f":"C$1495","v":0.39610525869329066},{"$f":"D$1495","v":0.50534467641136982}]
[]
["2422. Multi rate non half hourly tariff pseudo load coefficient"]
["Data sources:"]
["x1 = 2420. Multi rate non half hourly pseudo timeband load coefficients"]
["x2 = 2421. Multi rate non half hourly timeband use"]
["Sum-product calculation =SUMPRODUCT(x1, x2)"]
[]
[null,"GSPs","132kV","132kV/EHV","EHV","EHV/HV","132kV/HV","HV","HV/LV","LV circuits"]
["Domestic Two Rate",{"$f":"SUMPRODUCT($C1666:$E1666,$B1675:$D1675)","v":1.7110794871658754},{"$f":"SUMPRODUCT($G1666:$I1666,$B1675:$D1675)","v":1.6345311895438124},{"$f":"SUMPRODUCT($K1666:$M1666,$B1675:$D1675)","v":1.6345311895438124},{"$f":"SUMPRODUCT($O1666:$Q1666,$B1675:$D1675)","v":1.5960736269172648},{"$f":"SUMPRODUCT($S1666:$U1666,$B1675:$D1675)","v":1.5960736269172648},{"$f":"SUMPRODUCT($W1666:$Y1666,$B1675:$D1675)","v":1.6345311895438124},{"$f":"SUMPRODUCT($AA1666:$AC1666,$B1675:$D1675)","v":1.5960736269172648},{"$f":"SUMPRODUCT($AE1666:$AG1666,$B1675:$D1675)","v":1.5960736269172648},{"$f":"SUMPRODUCT($AI1666:$AK1666,$B1675:$D1675)","v":1.5960736269172648}]
["Small Non Domestic Two Rate",{"$f":"SUMPRODUCT($C1667:$E1667,$B1676:$D1676)","v":1.6142654318638558},{"$f":"SUMPRODUCT($G1667:$I1667,$B1676:$D1676)","v":1.659908816654065},{"$f":"SUMPRODUCT($K1667:$M1667,$B1676:$D1676)","v":1.659908816654065},{"$f":"SUMPRODUCT($O1667:$Q1667,$B1676:$D1676)","v":1.6709601800431806},{"$f":"SUMPRODUCT($S1667:$U1667,$B1676:$D1676)","v":1.6709601800431806},{"$f":"SUMPRODUCT($W1667:$Y1667,$B1676:$D1676)","v":1.659908816654065},{"$f":"SUMPRODUCT($AA1667:$AC1667,$B1676:$D1676)","v":1.6709601800431806},{"$f":"SUMPRODUCT($AE1667:$AG1667,$B1676:$D1676)","v":1.6709601800431806},{"$f":"SUMPRODUCT($AI1667:$AK1667,$B1676:$D1676)","v":1.6709601800431806}]
[]
["2423. Off-peak non half hourly units (MWh)"]
["Data sources:"]
["x1 = 2407. All units (MWh)"]
["Copy cells = x1"]
[]
[null,"Off-peak non half hourly units (MWh)"]
["Domestic Off Peak (related MPAN)",{"$f":"B$1431","v":49585.593175668728}]
["Small Non Domestic Off Peak (related MPAN)",{"$f":"B$1434","v":2583.3840720654089}]
[]
["2424. Off-peak non half hourly pseudo timeband load coefficients"]
["Data sources:"]
["x1 = 2414. Pseudo load coefficient by time band and network level"]
["Copy cells = x1"]
[]
[null,"GSPs","Red","Amber","Green","132kV","Red","Amber","Green","132kV/EHV","Red","Amber","Green","EHV","Red","Amber","Green","EHV/HV","Red","Amber","Green","132kV/HV","Red","Amber","Green","HV","Red","Amber","Green","HV/LV","Red","Amber","Green","LV circuits","Red","Amber","Green"]
["Domestic Off Peak (related MPAN)",null,{"$f":"C$1595","v":11.187739463601533},{"$f":"D$1595","v":0},{"$f":"E$1595","v":0},null,{"$f":"G$1595","v":8.7357961632473256},{"$f":"H$1595","v":0.6650043628029273},{"$f":"I$1595","v":1.8605394426796637E-2},null,{"$f":"K$1595","v":8.7357961632473256},{"$f":"L$1595","v":0.6650043628029273},{"$f":"M$1595","v":1.8605394426796637E-2},null,{"$f":"O$1595","v":7.419888256511574},{"$f":"P$1595","v":0.95214014915825262},{"$f":"Q$1595","v":6.5098332165233849E-2},null,{"$f":"S$1595","v":7.419888256511574},{"$f":"T$1595","v":0.95214014915825262},{"$f":"U$1595","v":6.5098332165233849E-2},null,{"$f":"W$1595","v":8.7357961632473256},{"$f":"X$1595","v":0.6650043628029273},{"$f":"Y$1595","v":1.8605394426796637E-2},null,{"$f":"AA$1595","v":7.419888256511574},{"$f":"AB$1595","v":0.95214014915825262},{"$f":"AC$1595","v":6.5098332165233849E-2},null,{"$f":"AE$1595","v":7.419888256511574},{"$f":"AF$1595","v":0.95214014915825262},{"$f":"AG$1595","v":6.5098332165233849E-2},null,{"$f":"AI$1595","v":7.419888256511574},{"$f":"AJ$1595","v":0.95214014915825262},{"$f":"AK$1595","v":6.5098332165233849E-2}]
["Small Non Domestic Off Peak (related MPAN)",null,{"$f":"C$1598","v":11.187739463601533},{"$f":"D$1598","v":0},{"$f":"E$1598","v":0},null,{"$f":"G$1598","v":8.7357961632473256},{"$f":"H$1598","v":0.6650043628029273},{"$f":"I$1598","v":1.8605394426796637E-2},null,{"$f":"K$1598","v":8.7357961632473256},{"$f":"L$1598","v":0.6650043628029273},{"$f":"M$1598","v":1.8605394426796637E-2},null,{"$f":"O$1598","v":7.419888256511574},{"$f":"P$1598","v":0.95214014915825262},{"$f":"Q$1598","v":6.5098332165233849E-2},null,{"$f":"S$1598","v":7.419888256511574},{"$f":"T$1598","v":0.95214014915825262},{"$f":"U$1598","v":6.5098332165233849E-2},null,{"$f":"W$1598","v":8.7357961632473256},{"$f":"X$1598","v":0.6650043628029273},{"$f":"Y$1598","v":1.8605394426796637E-2},null,{"$f":"AA$1598","v":7.419888256511574},{"$f":"AB$1598","v":0.95214014915825262},{"$f":"AC$1598","v":6.5098332165233849E-2},null,{"$f":"AE$1598","v":7.419888256511574},{"$f":"AF$1598","v":0.95214014915825262},{"$f":"AG$1598","v":6.5098332165233849E-2},null,{"$f":"AI$1598","v":7.419888256511574},{"$f":"AJ$1598","v":0.95214014915825262},{"$f":"AK$1598","v":6.5098332165233849E-2}]
[]
["2425. Off-peak non half hourly timeband use"]
["Data sources:"]
["x1 = 2403. Split of rate 1 units between distribution time bands"]
["Copy cells = x1"]
[]
[null,"Red","Amber","Green"]
["Domestic Off Peak (related MPAN)",{"$f":"B$1346","v":4.4815359759835215E-2},{"$f":"C$1346","v":0.32491376716050352},{"$f":"D$1346","v":0.63027087307966123}]
["Small Non Domestic Off Peak (related MPAN)",{"$f":"B$1349","v":1.6662746927756662E-2},{"$f":"C$1349","v":0.18539360436192653},{"$f":"D$1349","v":0.79794364871031687}]
[]
["2426. Off-peak non half hourly tariff pseudo load coefficient"]
["Data sources:"]
["x1 = 2424. Off-peak non half hourly pseudo timeband load coefficients"]
["x2 = 2425. Off-peak non half hourly timeband use"]
["Sum-product calculation =SUMPRODUCT(x1, x2)"]
[]
[null,"GSPs","132kV","132kV/EHV","EHV","EHV/HV","132kV/HV","HV","HV/LV","LV circuits"]
["Domestic Off Peak (related MPAN)",{"$f":"SUMPRODUCT($C1703:$E1703,$B1712:$D1712)","v":0.50138256896060851},{"$f":"SUMPRODUCT($G1703:$I1703,$B1712:$D1712)","v":0.61929335873035496},{"$f":"SUMPRODUCT($K1703:$M1703,$B1712:$D1712)","v":0.61929335873035496},{"$f":"SUMPRODUCT($O1703:$Q1703,$B1712:$D1712)","v":0.68291798697092598},{"$f":"SUMPRODUCT($S1703:$U1703,$B1712:$D1712)","v":0.68291798697092598},{"$f":"SUMPRODUCT($W1703:$Y1703,$B1712:$D1712)","v":0.61929335873035496},{"$f":"SUMPRODUCT($AA1703:$AC1703,$B1712:$D1712)","v":0.68291798697092598},{"$f":"SUMPRODUCT($AE1703:$AG1703,$B1712:$D1712)","v":0.68291798697092598},{"$f":"SUMPRODUCT($AI1703:$AK1703,$B1712:$D1712)","v":0.68291798697092598}]
["Small Non Domestic Off Peak (related MPAN)",{"$f":"SUMPRODUCT($C1704:$E1704,$B1713:$D1713)","v":0.18641847137566842},{"$f":"SUMPRODUCT($G1704:$I1704,$B1713:$D1713)","v":0.28369597273171149},{"$f":"SUMPRODUCT($K1704:$M1704,$B1713:$D1713)","v":0.28369597273171149},{"$f":"SUMPRODUCT($O1704:$Q1704,$B1713:$D1713)","v":0.35210121505351966},{"$f":"SUMPRODUCT($S1704:$U1704,$B1713:$D1713)","v":0.35210121505351966},{"$f":"SUMPRODUCT($W1704:$Y1704,$B1713:$D1713)","v":0.28369597273171149},{"$f":"SUMPRODUCT($AA1704:$AC1704,$B1713:$D1713)","v":0.35210121505351966},{"$f":"SUMPRODUCT($AE1704:$AG1704,$B1713:$D1713)","v":0.35210121505351966},{"$f":"SUMPRODUCT($AI1704:$AK1704,$B1713:$D1713)","v":0.35210121505351966}]
[]
["2427. Aggregated half hourly units (MWh)"]
["Data sources:"]
["x1 = 2407. All units (MWh)"]
["Copy cells = x1"]
[]
[null,"Aggregated half hourly units (MWh)"]
["LV Network Domestic",{"$f":"B$1438","v":247.4185157539581}]
["LV Network Non-Domestic Non-CT",{"$f":"B$1439","v":171016.16815264348}]
[]
["2428. Aggregated half hourly pseudo timeband load coefficients"]
["Data sources:"]
["x1 = 2414. Pseudo load coefficient by time band and network level"]
["Copy cells = x1"]
[]
[null,"GSPs","Red","Amber","Green","132kV","Red","Amber","Green","132kV/EHV","Red","Amber","Green","EHV","Red","Amber","Green","EHV/HV","Red","Amber","Green","132kV/HV","Red","Amber","Green","HV","Red","Amber","Green","HV/LV","Red","Amber","Green","LV circuits","Red","Amber","Green"]
["LV Network Domestic",null,{"$f":"C$1602","v":18.533832955228636},{"$f":"D$1602","v":0},{"$f":"E$1602","v":0},null,{"$f":"G$1602","v":14.471894643891908},{"$f":"H$1602","v":1.1016595278059909},{"$f":"I$1602","v":3.0822068523696563E-2},null,{"$f":"K$1602","v":14.471894643891908},{"$f":"L$1602","v":1.1016595278059909},{"$f":"M$1602","v":3.0822068523696563E-2},null,{"$f":"O$1602","v":12.29193528684287},{"$f":"P$1602","v":1.5773344143272277},{"$f":"Q$1602","v":0.10784319906087897},null,{"$f":"S$1602","v":12.29193528684287},{"$f":"T$1602","v":1.5773344143272277},{"$f":"U$1602","v":0.10784319906087897},null,{"$f":"W$1602","v":14.471894643891908},{"$f":"X$1602","v":1.1016595278059909},{"$f":"Y$1602","v":3.0822068523696563E-2},null,{"$f":"AA$1602","v":12.29193528684287},{"$f":"AB$1602","v":1.5773344143272277},{"$f":"AC$1602","v":0.10784319906087897},null,{"$f":"AE$1602","v":12.29193528684287},{"$f":"AF$1602","v":1.5773344143272277},{"$f":"AG$1602","v":0.10784319906087897},null,{"$f":"AI$1602","v":12.29193528684287},{"$f":"AJ$1602","v":1.5773344143272277},{"$f":"AK$1602","v":0.10784319906087897}]
["LV Network Non-Domestic Non-CT",null,{"$f":"C$1603","v":16.143526353643264},{"$f":"D$1603","v":0},{"$f":"E$1603","v":0},null,{"$f":"G$1603","v":12.605455824231356},{"$f":"H$1603","v":0.95957860755731694},{"$f":"I$1603","v":2.6846949397249267E-2},null,{"$f":"K$1603","v":12.605455824231356},{"$f":"L$1603","v":0.95957860755731694},{"$f":"M$1603","v":2.6846949397249267E-2},null,{"$f":"O$1603","v":10.706645609668358},{"$f":"P$1603","v":1.3739057510506161},{"$f":"Q$1603","v":9.393467235331622E-2},null,{"$f":"S$1603","v":10.706645609668358},{"$f":"T$1603","v":1.3739057510506161},{"$f":"U$1603","v":9.393467235331622E-2},null,{"$f":"W$1603","v":12.605455824231356},{"$f":"X$1603","v":0.95957860755731694},{"$f":"Y$1603","v":2.6846949397249267E-2},null,{"$f":"AA$1603","v":10.706645609668358},{"$f":"AB$1603","v":1.3739057510506161},{"$f":"AC$1603","v":9.393467235331622E-2},null,{"$f":"AE$1603","v":10.706645609668358},{"$f":"AF$1603","v":1.3739057510506161},{"$f":"AG$1603","v":9.393467235331622E-2},null,{"$f":"AI$1603","v":10.706645609668358},{"$f":"AJ$1603","v":1.3739057510506161},{"$f":"AK$1603","v":9.393467235331622E-2}]
[]
["2429. Aggregated half hourly timeband use"]
["Data sources:"]
["x1 = 2410. Use of distribution time bands by units in demand forecast for three-rate tariffs (in Calculation of implied load coefficients for three-rate users)"]
["Copy cells = x1"]
[]
[null,"Red","Amber","Green"]
["LV Network Domestic",{"$f":"B$1517","v":0.10474821894920042},{"$f":"C$1517","v":0.40181474078171331},{"$f":"D$1517","v":0.4934370402690863}]
["LV Network Non-Domestic Non-CT",{"$f":"B$1518","v":0.10891573283002431},{"$f":"C$1518","v":0.43158514711085272},{"$f":"D$1518","v":0.45949912005912291}]
[]
["2430. Aggregated half hourly tariff pseudo load coefficient"]
["Data sources:"]
["x1 = 2428. Aggregated half hourly pseudo timeband load coefficients"]
["x2 = 2429. Aggregated half hourly timeband use"]
["Sum-product calculation =SUMPRODUCT(x1, x2)"]
[]
[null,"GSPs","132kV","132kV/EHV","EHV","EHV/HV","132kV/HV","HV","HV/LV","LV circuits"]
["LV Network Domestic",{"$f":"SUMPRODUCT($C1740:$E1740,$B1749:$D1749)","v":1.9413859923621954},{"$f":"SUMPRODUCT($G1740:$I1740,$B1749:$D1749)","v":1.9737769766305229},{"$f":"SUMPRODUCT($K1740:$M1740,$B1749:$D1749)","v":1.9737769766305229},{"$f":"SUMPRODUCT($O1740:$Q1740,$B1749:$D1749)","v":1.9745683765123401},{"$f":"SUMPRODUCT($S1740:$U1740,$B1749:$D1749)","v":1.9745683765123401},{"$f":"SUMPRODUCT($W1740:$Y1740,$B1749:$D1749)","v":1.9737769766305229},{"$f":"SUMPRODUCT($AA1740:$AC1740,$B1749:$D1749)","v":1.9745683765123401},{"$f":"SUMPRODUCT($AE1740:$AG1740,$B1749:$D1749)","v":1.9745683765123401},{"$f":"SUMPRODUCT($AI1740:$AK1740,$B1749:$D1749)","v":1.9745683765123401}]
["LV Network Non-Domestic Non-CT",{"$f":"SUMPRODUCT($C1741:$E1741,$B1750:$D1750)","v":1.7582840032678664},{"$f":"SUMPRODUCT($G1741:$I1741,$B1750:$D1750)","v":1.799408482884016},{"$f":"SUMPRODUCT($K1741:$M1741,$B1750:$D1750)","v":1.799408482884016},{"$f":"SUMPRODUCT($O1741:$Q1741,$B1750:$D1750)","v":1.8022423677014094},{"$f":"SUMPRODUCT($S1741:$U1741,$B1750:$D1750)","v":1.8022423677014094},{"$f":"SUMPRODUCT($W1741:$Y1741,$B1750:$D1750)","v":1.799408482884016},{"$f":"SUMPRODUCT($AA1741:$AC1741,$B1750:$D1750)","v":1.8022423677014094},{"$f":"SUMPRODUCT($AE1741:$AG1741,$B1750:$D1750)","v":1.8022423677014094},{"$f":"SUMPRODUCT($AI1741:$AK1741,$B1750:$D1750)","v":1.8022423677014094}]
[]
["2431. Average non half hourly tariff pseudo load coefficient"]
["Data sources:"]
["x1 = 2416. Single rate non half hourly units (MWh)"]
["x2 = 2418. Single rate non half hourly tariff pseudo load coefficient"]
["x3 = 2419. Multi rate non half hourly units (MWh)"]
["x4 = 2422. Multi rate non half hourly tariff pseudo load coefficient"]
["x5 = 2423. Off-peak non half hourly units (MWh)"]
["x6 = 2426. Off-peak non half hourly tariff pseudo load coefficient"]
["Calculation =(x1*x2+x3*x4+x5*x6)/(x1+x3+x5)"]
[]
[null,"GSPs","132kV","132kV/EHV","EHV","EHV/HV","132kV/HV","HV","HV/LV","LV circuits"]
["Domestic equalisation group",{"$f":"($B1629*B1648+$B1657*B1685+$B1694*B1722)/($B1629+$B1657+$B1694)","v":1.9281713571739565},1.836885135972804,1.836885135972804,1.7801833276249084,1.7801833276249084,1.836885135972804,1.7801833276249084,1.7801833276249084,1.7801833276249084]
["Non-domestic equalisation group",1.7283503753653446,1.7906328984033091,1.7906328984033091,1.8021750283288247,1.8021750283288247,1.7906328984033091,1.8021750283288247,1.8021750283288247,1.8021750283288247]
[]
["2432. Average non half hourly timeband use"]
["Data sources:"]
["x1 = 2416. Single rate non half hourly units (MWh)"]
["x2 = 2417. Single rate non half hourly timeband use"]
["x3 = 2419. Multi rate non half hourly units (MWh)"]
["x4 = 2421. Multi rate non half hourly timeband use"]
["x5 = 2423. Off-peak non half hourly units (MWh)"]
["x6 = 2425. Off-peak non half hourly timeband use"]
["Calculation =(x1*x2+x3*x4+x5*x6)/(x1+x3+x5)"]
[]
[null,"Red","Amber","Green"]
["LV Network Domestic",{"$f":"($B1629*B1638+$B1657*B1675+$B1694*B1712)/($B1629+$B1657+$B1694)","v":0.12827076976879989},0.35639972718061785,0.51532950305058234]
["LV Network Non-Domestic Non-CT",0.10804330719299961,0.45206508375647181,0.43989160905052865]
[]
["2433. Aggregated half hourly tariff pseudo load coefficient using average non half hourly unit mix"]
["Data sources:"]
["x1 = 2428. Aggregated half hourly pseudo timeband load coefficients"]
["x2 = 2432. Average non half hourly timeband use"]
["Sum-product calculation =SUMPRODUCT(x1, x2)"]
[]
[null,"GSPs","132kV","132kV/EHV","EHV","EHV/HV","132kV/HV","HV","HV/LV","LV circuits"]
["LV Network Domestic",{"$f":"SUMPRODUCT($C1740:$E1740,$B1787:$D1787)","v":2.3773490199335283},{"$f":"SUMPRODUCT($G1740:$I1740,$B1787:$D1787)","v":2.2648357423962779},{"$f":"SUMPRODUCT($K1740:$M1740,$B1787:$D1787)","v":2.2648357423962779},{"$f":"SUMPRODUCT($O1740:$Q1740,$B1787:$D1787)","v":2.1944323383098605},{"$f":"SUMPRODUCT($S1740:$U1740,$B1787:$D1787)","v":2.1944323383098605},{"$f":"SUMPRODUCT($W1740:$Y1740,$B1787:$D1787)","v":2.2648357423962779},{"$f":"SUMPRODUCT($AA1740:$AC1740,$B1787:$D1787)","v":2.1944323383098605},{"$f":"SUMPRODUCT($AE1740:$AG1740,$B1787:$D1787)","v":2.1944323383098605},{"$f":"SUMPRODUCT($AI1740:$AK1740,$B1787:$D1787)","v":2.1944323383098605}]
["LV Network Non-Domestic Non-CT",{"$f":"SUMPRODUCT($C1741:$E1741,$B1788:$D1788)","v":1.7441999770049639},{"$f":"SUMPRODUCT($G1741:$I1741,$B1788:$D1788)","v":1.8075368672899856},{"$f":"SUMPRODUCT($K1741:$M1741,$B1788:$D1788)","v":1.8075368672899856},{"$f":"SUMPRODUCT($O1741:$Q1741,$B1788:$D1788)","v":1.8191972932013083},{"$f":"SUMPRODUCT($S1741:$U1741,$B1788:$D1788)","v":1.8191972932013083},{"$f":"SUMPRODUCT($W1741:$Y1741,$B1788:$D1788)","v":1.8075368672899856},{"$f":"SUMPRODUCT($AA1741:$AC1741,$B1788:$D1788)","v":1.8191972932013083},{"$f":"SUMPRODUCT($AE1741:$AG1741,$B1788:$D1788)","v":1.8191972932013083},{"$f":"SUMPRODUCT($AI1741:$AK1741,$B1788:$D1788)","v":1.8191972932013083}]
[]
["2434. Relative correction factor for aggregated half hourly tariff"]
["Data sources:"]
["x1 = 2431. Average non half hourly tariff pseudo load coefficient"]
["x2 = 2433. Aggregated half hourly tariff pseudo load coefficient using average non half hourly unit mix"]
["Calculation =x1/x2"]
[]
[null,"GSPs","132kV","132kV/EHV","EHV","EHV/HV","132kV/HV","HV","HV/LV","LV circuits"]
["Domestic equalisation group",{"$f":"B1773/B1797","v":0.81105943679564096},0.8110456319579773,0.8110456319579773,0.8112272575220959,0.8112272575220959,0.8110456319579773,0.8112272575220959,0.8112272575220959,0.8112272575220959]
["Non-domestic equalisation group",0.99091296763640879,0.99064806411831563,0.99064806411831563,0.99064298032099152,0.99064298032099152,0.99064806411831563,0.99064298032099152,0.99064298032099152,0.99064298032099152]
[]
["2435. Correction factor for non half hourly tariffs"]
["Data sources:"]
["x1 = 2416. Single rate non half hourly units (MWh)"]
["x2 = 2418. Single rate non half hourly tariff pseudo load coefficient"]
["x3 = 2419. Multi rate non half hourly units (MWh)"]
["x4 = 2422. Multi rate non half hourly tariff pseudo load coefficient"]
["x5 = 2423. Off-peak non half hourly units (MWh)"]
["x6 = 2426. Off-peak non half hourly tariff pseudo load coefficient"]
["x7 = 2427. Aggregated half hourly units (MWh)"]
["x8 = 2430. Aggregated half hourly tariff pseudo load coefficient"]
["x9 = 2434. Relative correction factor for aggregated half hourly tariff"]
["Calculation =(x1*x2+x3*x4+x5*x6+x7*x8)/(x1*x2+x3*x4+x5*x6+x7*x8*x9)"]
[]
[null,"GSPs","132kV","132kV/EHV","EHV","EHV/HV","132kV/HV","HV","HV/LV","LV circuits"]
["Domestic equalisation group",{"$f":"($B1629*B1648+$B1657*B1685+$B1694*B1722+$B1731*B1759)/($B1629*B1648+$B1657*B1685+$B1694*B1722+$B1731*B1759*B1807)","v":1.00000504139154},1.0000053806078564,1.0000053806078564,1.0000055488723476,1.0000055488723476,1.0000053806078564,1.0000055488723476,1.0000055488723476,1.0000055488723476]
["Non-domestic equalisation group",1.0004804174470419,1.0004887063878238,1.0004887063878238,1.0004867276300708,1.0004867276300708,1.0004887063878238,1.0004867276300708,1.0004867276300708,1.0004867276300708]
[]
["2436. Single rate non half hourly corrected pseudo timeband load coefficient"]
["Data sources:"]
["x1 = 2415. Single rate non half hourly pseudo timeband load coefficients"]
["x2 = 2435. Correction factor for non half hourly tariffs"]
["Calculation =x1*x2"]
[]
[null,"GSPs","Red","Amber","Green","132kV","Red","Amber","Green","132kV/EHV","Red","Amber","Green","EHV","Red","Amber","Green","EHV/HV","Red","Amber","Green","132kV/HV","Red","Amber","Green","HV","Red","Amber","Green","HV/LV","Red","Amber","Green","LV circuits","Red","Amber","Green"]
["Domestic Unrestricted",null,{"$f":"C1620*$B1824","v":14.468403576185544},0,0,null,{"$f":"G1620*$C1824","v":11.297462524464924},0.86000883342257561,2.4061200875306242E-2,null,{"$f":"K1620*$D1824","v":11.297462524464924},0.86000883342257561,2.4061200875306242E-2,null,{"$f":"O1620*$E1824","v":9.5956821853481404},1.2313439166977451,8.4187643352393621E-2,null,{"$f":"S1620*$F1824","v":9.5956821853481404},1.2313439166977451,8.4187643352393621E-2,null,{"$f":"W1620*$G1824","v":11.297462524464924},0.86000883342257561,2.4061200875306242E-2,null,{"$f":"AA1620*$H1824","v":9.5956821853481404},1.2313439166977451,8.4187643352393621E-2,null,{"$f":"AE1620*$I1824","v":9.5956821853481404},1.2313439166977451,8.4187643352393621E-2,null,{"$f":"AI1620*$J1824","v":9.5956821853481404},1.2313439166977451,8.4187643352393621E-2]
["Small Non Domestic Unrestricted",null,15.486569635866733,0,0,null,12.092580176607365,0.92053642561169913,2.5754632962934024E-2,null,12.092580176607365,0.92053642561169913,2.5754632962934024E-2,null,10.271006157667875,1.3180033171503551,9.0112592994409407E-2,null,10.271006157667875,1.3180033171503551,9.0112592994409407E-2,null,12.092580176607365,0.92053642561169913,2.5754632962934024E-2,null,10.271006157667875,1.3180033171503551,9.0112592994409407E-2,null,10.271006157667875,1.3180033171503551,9.0112592994409407E-2,null,10.271006157667875,1.3180033171503551,9.0112592994409407E-2]
[]
["2437. Multi rate non half hourly corrected pseudo timeband load coefficient"]
["Data sources:"]
["x1 = 2420. Multi rate non half hourly pseudo timeband load coefficients"]
["x2 = 2435. Correction factor for non half hourly tariffs"]
["Calculation =x1*x2"]
[]
[null,"GSPs","Red","Amber","Green","132kV","Red","Amber","Green","132kV/EHV","Red","Amber","Green","EHV","Red","Amber","Green","EHV/HV","Red","Amber","Green","132kV/HV","Red","Amber","Green","HV","Red","Amber","Green","HV/LV","Red","Amber","Green","LV circuits","Red","Amber","Green"]
["Domestic Two Rate",null,{"$f":"C1666*$B1824","v":16.326926281523349},0,0,null,{"$f":"G1666*$C1824","v":12.748665520279928},0.97048031255229472,2.7151955699014303E-2,null,{"$f":"K1666*$D1824","v":12.748665520279928},0.97048031255229472,2.7151955699014303E-2,null,{"$f":"O1666*$E1824","v":10.828284878573312},1.3895148313540862,9.5001873537183326E-2,null,{"$f":"S1666*$F1824","v":10.828284878573312},1.3895148313540862,9.5001873537183326E-2,null,{"$f":"W1666*$G1824","v":12.748665520279928},0.97048031255229472,2.7151955699014303E-2,null,{"$f":"AA1666*$H1824","v":10.828284878573312},1.3895148313540862,9.5001873537183326E-2,null,{"$f":"AE1666*$I1824","v":10.828284878573312},1.3895148313540862,9.5001873537183326E-2,null,{"$f":"AI1666*$J1824","v":10.828284878573312},1.3895148313540862,9.5001873537183326E-2]
["Small Non Domestic Two Rate",null,16.38802526265874,0,0,null,12.796475532321891,0.97411980527847897,2.7253780892158463E-2,null,12.796475532321891,0.97411980527847897,2.7253780892158463E-2,null,10.868869758926714,1.3947227930776804,9.5357944670709294E-2,null,10.868869758926714,1.3947227930776804,9.5357944670709294E-2,null,12.796475532321891,0.97411980527847897,2.7253780892158463E-2,null,10.868869758926714,1.3947227930776804,9.5357944670709294E-2,null,10.868869758926714,1.3947227930776804,9.5357944670709294E-2,null,10.868869758926714,1.3947227930776804,9.5357944670709294E-2]
[]
["2438. Off-peak non half hourly corrected pseudo timeband load coefficient"]
["Data sources:"]
["x1 = 2424. Off-peak non half hourly pseudo timeband load coefficients"]
["x2 = 2435. Correction factor for non half hourly tariffs"]
["Calculation =x1*x2"]
[]
[null,"GSPs","Red","Amber","Green","132kV","Red","Amber","Green","132kV/EHV","Red","Amber","Green","EHV","Red","Amber","Green","EHV/HV","Red","Amber","Green","132kV/HV","Red","Amber","Green","HV","Red","Amber","Green","HV/LV","Red","Amber","Green","LV circuits","Red","Amber","Green"]
["Domestic Off Peak (related MPAN)",null,{"$f":"C1703*$B1824","v":11.187795865376616},0,0,null,{"$f":"G1703*$C1824","v":8.7358431671407928},0.66500794093062632,1.860549453512806E-2,null,{"$f":"K1703*$D1824","v":8.7358431671407928},0.66500794093062632,1.860549453512806E-2,null,{"$f":"O1703*$E1824","v":7.4199294285243429},0.95214543246239736,6.5098693387569073E-2,null,{"$f":"S1703*$F1824","v":7.4199294285243429},0.95214543246239736,6.5098693387569073E-2,null,{"$f":"W1703*$G1824","v":8.7358431671407928},0.66500794093062632,1.860549453512806E-2,null,{"$f":"AA1703*$H1824","v":7.4199294285243429},0.95214543246239736,6.5098693387569073E-2,null,{"$f":"AE1703*$I1824","v":7.4199294285243429},0.95214543246239736,6.5098693387569073E-2,null,{"$f":"AI1703*$J1824","v":7.4199294285243429},0.95214543246239736,6.5098693387569073E-2]
["Small Non Domestic Off Peak (related MPAN)",null,11.193114248832806,0,0,null,8.7400654026350306,0.66532935468295984,1.8614487001900996E-2,null,8.7400654026350306,0.66532935468295984,1.8614487001900996E-2,null,7.4234997211380565,0.95260358207654772,6.5130017322170192E-2,null,7.4234997211380565,0.95260358207654772,6.5130017322170192E-2,null,8.7400654026350306,0.66532935468295984,1.8614487001900996E-2,null,7.4234997211380565,0.95260358207654772,6.5130017322170192E-2,null,7.4234997211380565,0.95260358207654772,6.5130017322170192E-2,null,7.4234997211380565,0.95260358207654772,6.5130017322170192E-2]
[]
["2439. Aggregated half hourly corrected pseudo timeband load coefficient"]
["Data sources:"]
["x1 = 2428. Aggregated half hourly pseudo timeband load coefficients"]
["x2 = 2435. Correction factor for non half hourly tariffs"]
["x3 = 2434. Relative correction factor for aggregated half hourly tariff"]
["Calculation =x1*x2*x3"]
[]
[null,"GSPs","Red","Amber","Green","132kV","Red","Amber","Green","132kV/EHV","Red","Amber","Green","EHV","Red","Amber","Green","EHV/HV","Red","Amber","Green","132kV/HV","Red","Amber","Green","HV","Red","Amber","Green","HV/LV","Red","Amber","Green","LV circuits","Red","Amber","Green"]
["LV Network Domestic",null,{"$f":"C1740*$B1824*$B1807","v":15.032115900732109},0,0,null,{"$f":"G1740*$C1824*$C1807","v":11.737430091253334},0.89350095548432984,2.4998238549048573E-2,null,{"$f":"K1740*$D1824*$D1807","v":11.737430091253334},0.89350095548432984,2.4998238549048573E-2,null,{"$f":"O1740*$E1824*$E1807","v":9.9716082832590587},1.2795837713375053,8.7485828061564783E-2,null,{"$f":"S1740*$F1824*$F1807","v":9.9716082832590587},1.2795837713375053,8.7485828061564783E-2,null,{"$f":"W1740*$G1824*$G1807","v":11.737430091253334},0.89350095548432984,2.4998238549048573E-2,null,{"$f":"AA1740*$H1824*$H1807","v":9.9716082832590587},1.2795837713375053,8.7485828061564783E-2,null,{"$f":"AE1740*$I1824*$I1807","v":9.9716082832590587},1.2795837713375053,8.7485828061564783E-2,null,{"$f":"AI1740*$J1824*$J1807","v":9.9716082832590587},1.2795837713375053,8.7485828061564783E-2]
["LV Network Non-Domestic Non-CT",null,16.004514763245879,0,0,null,12.493673165031314,0.95106925653027685,2.6608876023554624E-2,null,12.493673165031314,0.95106925653027685,2.6608876023554624E-2,null,10.611625774755753,1.3617125485846244,9.3101016567462835E-2,null,10.611625774755753,1.3617125485846244,9.3101016567462835E-2,null,12.493673165031314,0.95106925653027685,2.6608876023554624E-2,null,10.611625774755753,1.3617125485846244,9.3101016567462835E-2,null,10.611625774755753,1.3617125485846244,9.3101016567462835E-2,null,10.611625774755753,1.3617125485846244,9.3101016567462835E-2]
[]
["2440. Pseudo load coefficient by time band and network level (equalised)"]
["Data sources:"]
["x1 = 2436. Single rate non half hourly corrected pseudo timeband load coefficient"]
["x2 = 2437. Multi rate non half hourly corrected pseudo timeband load coefficient"]
["x3 = 2438. Off-peak non half hourly corrected pseudo timeband load coefficient"]
["x4 = 2439. Aggregated half hourly corrected pseudo timeband load coefficient"]
["x5 = 2414. Pseudo load coefficient by time band and network level"]
["Combine tables = x1 or x2 or x3 or x4 or x5"]
[]
[null,"GSPs","Red","Amber","Green","132kV","Red","Amber","Green","132kV/EHV","Red","Amber","Green","EHV","Red","Amber","Green","EHV/HV","Red","Amber","Green","132kV/HV","Red","Amber","Green","HV","Red","Amber","Green","HV/LV","Red","Amber","Green","LV circuits","Red","Amber","Green"]
["Domestic Unrestricted",null,{"$f":"C$1834","v":14.468403576185544},{"$f":"D$1834","v":0},{"$f":"E$1834","v":0},null,{"$f":"G$1834","v":11.297462524464924},{"$f":"H$1834","v":0.86000883342257561},{"$f":"I$1834","v":2.4061200875306242E-2},null,{"$f":"K$1834","v":11.297462524464924},{"$f":"L$1834","v":0.86000883342257561},{"$f":"M$1834","v":2.4061200875306242E-2},null,{"$f":"O$1834","v":9.5956821853481404},{"$f":"P$1834","v":1.2313439166977451},{"$f":"Q$1834","v":8.4187643352393621E-2},null,{"$f":"S$1834","v":9.5956821853481404},{"$f":"T$1834","v":1.2313439166977451},{"$f":"U$1834","v":8.4187643352393621E-2},null,{"$f":"W$1834","v":11.297462524464924},{"$f":"X$1834","v":0.86000883342257561},{"$f":"Y$1834","v":2.4061200875306242E-2},null,{"$f":"AA$1834","v":9.5956821853481404},{"$f":"AB$1834","v":1.2313439166977451},{"$f":"AC$1834","v":8.4187643352393621E-2},null,{"$f":"AE$1834","v":9.5956821853481404},{"$f":"AF$1834","v":1.2313439166977451},{"$f":"AG$1834","v":8.4187643352393621E-2},null,{"$f":"AI$1834","v":9.5956821853481404},{"$f":"AJ$1834","v":1.2313439166977451},{"$f":"AK$1834","v":8.4187643352393621E-2}]
["Domestic Two Rate",null,{"$f":"C$1844","v":16.326926281523349},{"$f":"D$1844","v":0},{"$f":"E$1844","v":0},null,{"$f":"G$1844","v":12.748665520279928},{"$f":"H$1844","v":0.97048031255229472},{"$f":"I$1844","v":2.7151955699014303E-2},null,{"$f":"K$1844","v":12.748665520279928},{"$f":"L$1844","v":0.97048031255229472},{"$f":"M$1844","v":2.7151955699014303E-2},null,{"$f":"O$1844","v":10.828284878573312},{"$f":"P$1844","v":1.3895148313540862},{"$f":"Q$1844","v":9.5001873537183326E-2},null,{"$f":"S$1844","v":10.828284878573312},{"$f":"T$1844","v":1.3895148313540862},{"$f":"U$1844","v":9.5001873537183326E-2},null,{"$f":"W$1844","v":12.748665520279928},{"$f":"X$1844","v":0.97048031255229472},{"$f":"Y$1844","v":2.7151955699014303E-2},null,{"$f":"AA$1844","v":10.828284878573312},{"$f":"AB$1844","v":1.3895148313540862},{"$f":"AC$1844","v":9.5001873537183326E-2},null,{"$f":"AE$1844","v":10.828284878573312},{"$f":"AF$1844","v":1.3895148313540862},{"$f":"AG$1844","v":9.5001873537183326E-2},null,{"$f":"AI$1844","v":10.828284878573312},{"$f":"AJ$1844","v":1.3895148313540862},{"$f":"AK$1844","v":9.5001873537183326E-2}]
["Domestic Off Peak (related MPAN)",null,{"$f":"C$1854","v":11.187795865376616},{"$f":"D$1854","v":0},{"$f":"E$1854","v":0},null,{"$f":"G$1854","v":8.7358431671407928},{"$f":"H$1854","v":0.66500794093062632},{"$f":"I$1854","v":1.860549453512806E-2},null,{"$f":"K$1854","v":8.7358431671407928},{"$f":"L$1854","v":0.66500794093062632},{"$f":"M$1854","v":1.860549453512806E-2},null,{"$f":"O$1854","v":7.4199294285243429},{"$f":"P$1854","v":0.95214543246239736},{"$f":"Q$1854","v":6.5098693387569073E-2},null,{"$f":"S$1854","v":7.4199294285243429},{"$f":"T$1854","v":0.95214543246239736},{"$f":"U$1854","v":6.5098693387569073E-2},null,{"$f":"W$1854","v":8.7358431671407928},{"$f":"X$1854","v":0.66500794093062632},{"$f":"Y$1854","v":1.860549453512806E-2},null,{"$f":"AA$1854","v":7.4199294285243429},{"$f":"AB$1854","v":0.95214543246239736},{"$f":"AC$1854","v":6.5098693387569073E-2},null,{"$f":"AE$1854","v":7.4199294285243429},{"$f":"AF$1854","v":0.95214543246239736},{"$f":"AG$1854","v":6.5098693387569073E-2},null,{"$f":"AI$1854","v":7.4199294285243429},{"$f":"AJ$1854","v":0.95214543246239736},{"$f":"AK$1854","v":6.5098693387569073E-2}]
["Small Non Domestic Unrestricted",null,{"$f":"C$1835","v":15.486569635866733},{"$f":"D$1835","v":0},{"$f":"E$1835","v":0},null,{"$f":"G$1835","v":12.092580176607365},{"$f":"H$1835","v":0.92053642561169913},{"$f":"I$1835","v":2.5754632962934024E-2},null,{"$f":"K$1835","v":12.092580176607365},{"$f":"L$1835","v":0.92053642561169913},{"$f":"M$1835","v":2.5754632962934024E-2},null,{"$f":"O$1835","v":10.271006157667875},{"$f":"P$1835","v":1.3180033171503551},{"$f":"Q$1835","v":9.0112592994409407E-2},null,{"$f":"S$1835","v":10.271006157667875},{"$f":"T$1835","v":1.3180033171503551},{"$f":"U$1835","v":9.0112592994409407E-2},null,{"$f":"W$1835","v":12.092580176607365},{"$f":"X$1835","v":0.92053642561169913},{"$f":"Y$1835","v":2.5754632962934024E-2},null,{"$f":"AA$1835","v":10.271006157667875},{"$f":"AB$1835","v":1.3180033171503551},{"$f":"AC$1835","v":9.0112592994409407E-2},null,{"$f":"AE$1835","v":10.271006157667875},{"$f":"AF$1835","v":1.3180033171503551},{"$f":"AG$1835","v":9.0112592994409407E-2},null,{"$f":"AI$1835","v":10.271006157667875},{"$f":"AJ$1835","v":1.3180033171503551},{"$f":"AK$1835","v":9.0112592994409407E-2}]
["Small Non Domestic Two Rate",null,{"$f":"C$1845","v":16.38802526265874},{"$f":"D$1845","v":0},{"$f":"E$1845","v":0},null,{"$f":"G$1845","v":12.796475532321891},{"$f":"H$1845","v":0.97411980527847897},{"$f":"I$1845","v":2.7253780892158463E-2},null,{"$f":"K$1845","v":12.796475532321891},{"$f":"L$1845","v":0.97411980527847897},{"$f":"M$1845","v":2.7253780892158463E-2},null,{"$f":"O$1845","v":10.868869758926714},{"$f":"P$1845","v":1.3947227930776804},{"$f":"Q$1845","v":9.5357944670709294E-2},null,{"$f":"S$1845","v":10.868869758926714},{"$f":"T$1845","v":1.3947227930776804},{"$f":"U$1845","v":9.5357944670709294E-2},null,{"$f":"W$1845","v":12.796475532321891},{"$f":"X$1845","v":0.97411980527847897},{"$f":"Y$1845","v":2.7253780892158463E-2},null,{"$f":"AA$1845","v":10.868869758926714},{"$f":"AB$1845","v":1.3947227930776804},{"$f":"AC$1845","v":9.5357944670709294E-2},null,{"$f":"AE$1845","v":10.868869758926714},{"$f":"AF$1845","v":1.3947227930776804},{"$f":"AG$1845","v":9.5357944670709294E-2},null,{"$f":"AI$1845","v":10.868869758926714},{"$f":"AJ$1845","v":1.3947227930776804},{"$f":"AK$1845","v":9.5357944670709294E-2}]
["Small Non Domestic Off Peak (related MPAN)",null,{"$f":"C$1855","v":11.193114248832806},{"$f":"D$1855","v":0},{"$f":"E$1855","v":0},null,{"$f":"G$1855","v":8.7400654026350306},{"$f":"H$1855","v":0.66532935468295984},{"$f":"I$1855","v":1.8614487001900996E-2},null,{"$f":"K$1855","v":8.7400654026350306},{"$f":"L$1855","v":0.66532935468295984},{"$f":"M$1855","v":1.8614487001900996E-2},null,{"$f":"O$1855","v":7.4234997211380565},{"$f":"P$1855","v":0.95260358207654772},{"$f":"Q$1855","v":6.5130017322170192E-2},null,{"$f":"S$1855","v":7.4234997211380565},{"$f":"T$1855","v":0.95260358207654772},{"$f":"U$1855","v":6.5130017322170192E-2},null,{"$f":"W$1855","v":8.7400654026350306},{"$f":"X$1855","v":0.66532935468295984},{"$f":"Y$1855","v":1.8614487001900996E-2},null,{"$f":"AA$1855","v":7.4234997211380565},{"$f":"AB$1855","v":0.95260358207654772},{"$f":"AC$1855","v":6.5130017322170192E-2},null,{"$f":"AE$1855","v":7.4234997211380565},{"$f":"AF$1855","v":0.95260358207654772},{"$f":"AG$1855","v":6.5130017322170192E-2},null,{"$f":"AI$1855","v":7.4234997211380565},{"$f":"AJ$1855","v":0.95260358207654772},{"$f":"AK$1855","v":6.5130017322170192E-2}]
["LV Medium Non-Domestic",null,{"$f":"C1599","v":15.021946040526371},0,0,null,{"$f":"G1599","v":11.729684894100476},0.8929113595504079,2.4981742920573567E-2,null,{"$f":"K1599","v":11.729684894100476},0.8929113595504079,2.4981742920573567E-2,null,{"$f":"O1599","v":9.9627955565717858},1.2784528983900394,8.7408509672212253E-2,null,{"$f":"S1599","v":9.9627955565717858},1.2784528983900394,8.7408509672212253E-2,null,{"$f":"W1599","v":11.729684894100476},0.8929113595504079,2.4981742920573567E-2,null,{"$f":"AA1599","v":9.9627955565717858},1.2784528983900394,8.7408509672212253E-2,null,{"$f":"AE1599","v":9.9627955565717858},1.2784528983900394,8.7408509672212253E-2,null,{"$f":"AI1599","v":9.9627955565717858},1.2784528983900394,8.7408509672212253E-2]
["LV Sub Medium Non-Domestic",null,15.403823223815079,0,0,null,12.027868565918951,0.91561031439898055,2.5616810946674465E-2,null,12.027868565918951,0.91561031439898055,2.5616810946674465E-2,null,10.216062629596872,1.3109528148780476,8.9630546376314152E-2,null,10.216062629596872,1.3109528148780476,8.9630546376314152E-2,null,12.027868565918951,0.91561031439898055,2.5616810946674465E-2,null,10.216062629596872,1.3109528148780476,8.9630546376314152E-2,null,10.216062629596872,1.3109528148780476,8.9630546376314152E-2,null,10.216062629596872,1.3109528148780476,8.9630546376314152E-2]
["HV Medium Non-Domestic",null,15.656337328406721,0,0,null,12.225040814453543,0.93061986854251777,2.603674604880496E-2,null,12.225040814453543,0.93061986854251777,2.603674604880496E-2,null,10.38353403392826,1.3324431988821319,9.1099855445460259E-2,null,10.38353403392826,1.3324431988821319,9.1099855445460259E-2,null,12.225040814453543,0.93061986854251777,2.603674604880496E-2,null,10.38353403392826,1.3324431988821319,9.1099855445460259E-2,null,10.38353403392826,1.3324431988821319,9.1099855445460259E-2,null,10.38353403392826,1.3324431988821319,9.1099855445460259E-2]
["LV Network Domestic",null,{"$f":"C$1865","v":15.032115900732109},{"$f":"D$1865","v":0},{"$f":"E$1865","v":0},null,{"$f":"G$1865","v":11.737430091253334},{"$f":"H$1865","v":0.89350095548432984},{"$f":"I$1865","v":2.4998238549048573E-2},null,{"$f":"K$1865","v":11.737430091253334},{"$f":"L$1865","v":0.89350095548432984},{"$f":"M$1865","v":2.4998238549048573E-2},null,{"$f":"O$1865","v":9.9716082832590587},{"$f":"P$1865","v":1.2795837713375053},{"$f":"Q$1865","v":8.7485828061564783E-2},null,{"$f":"S$1865","v":9.9716082832590587},{"$f":"T$1865","v":1.2795837713375053},{"$f":"U$1865","v":8.7485828061564783E-2},null,{"$f":"W$1865","v":11.737430091253334},{"$f":"X$1865","v":0.89350095548432984},{"$f":"Y$1865","v":2.4998238549048573E-2},null,{"$f":"AA$1865","v":9.9716082832590587},{"$f":"AB$1865","v":1.2795837713375053},{"$f":"AC$1865","v":8.7485828061564783E-2},null,{"$f":"AE$1865","v":9.9716082832590587},{"$f":"AF$1865","v":1.2795837713375053},{"$f":"AG$1865","v":8.7485828061564783E-2},null,{"$f":"AI$1865","v":9.9716082832590587},{"$f":"AJ$1865","v":1.2795837713375053},{"$f":"AK$1865","v":8.7485828061564783E-2}]
["LV Network Non-Domestic Non-CT",null,{"$f":"C$1866","v":16.004514763245879},{"$f":"D$1866","v":0},{"$f":"E$1866","v":0},null,{"$f":"G$1866","v":12.493673165031314},{"$f":"H$1866","v":0.95106925653027685},{"$f":"I$1866","v":2.6608876023554624E-2},null,{"$f":"K$1866","v":12.493673165031314},{"$f":"L$1866","v":0.95106925653027685},{"$f":"M$1866","v":2.6608876023554624E-2},null,{"$f":"O$1866","v":10.611625774755753},{"$f":"P$1866","v":1.3617125485846244},{"$f":"Q$1866","v":9.3101016567462835E-2},null,{"$f":"S$1866","v":10.611625774755753},{"$f":"T$1866","v":1.3617125485846244},{"$f":"U$1866","v":9.3101016567462835E-2},null,{"$f":"W$1866","v":12.493673165031314},{"$f":"X$1866","v":0.95106925653027685},{"$f":"Y$1866","v":2.6608876023554624E-2},null,{"$f":"AA$1866","v":10.611625774755753},{"$f":"AB$1866","v":1.3617125485846244},{"$f":"AC$1866","v":9.3101016567462835E-2},null,{"$f":"AE$1866","v":10.611625774755753},{"$f":"AF$1866","v":1.3617125485846244},{"$f":"AG$1866","v":9.3101016567462835E-2},null,{"$f":"AI$1866","v":10.611625774755753},{"$f":"AJ$1866","v":1.3617125485846244},{"$f":"AK$1866","v":9.3101016567462835E-2}]
["LV HH Metered",null,{"$f":"C1604","v":13.606006080846958},0,0,null,{"$f":"G1604","v":10.624067185769063},0.8087472392008721,2.2627011518380424E-2,null,{"$f":"K1604","v":10.624067185769063},0.8087472392008721,2.2627011518380424E-2,null,{"$f":"O1604","v":9.0237214645327626},1.1579483685165588,7.916955039709471E-2,null,{"$f":"S1604","v":9.0237214645327626},1.1579483685165588,7.916955039709471E-2,null,{"$f":"W1604","v":10.624067185769063},0.8087472392008721,2.2627011518380424E-2,null,{"$f":"AA1604","v":9.0237214645327626},1.1579483685165588,7.916955039709471E-2,null,{"$f":"AE1604","v":9.0237214645327626},1.1579483685165588,7.916955039709471E-2,null,{"$f":"AI1604","v":9.0237214645327626},1.1579483685165588,7.916955039709471E-2]
["LV Sub HH Metered",null,13.544107095040831,0,0,null,10.575734193704553,0.80506793510659358,2.252407248862481E-2,null,10.575734193704553,0.80506793510659358,2.252407248862481E-2,null,8.9826690643256324,1.152680413379604,7.8809377481752152E-2,null,8.9826690643256324,1.152680413379604,7.8809377481752152E-2,null,10.575734193704553,0.80506793510659358,2.252407248862481E-2,null,8.9826690643256324,1.152680413379604,7.8809377481752152E-2,null,8.9826690643256324,1.152680413379604,7.8809377481752152E-2,null,8.9826690643256324,1.152680413379604,7.8809377481752152E-2]
["HV HH Metered",null,12.18479262859543,0,0,null,9.5143317415600652,0.72426966003518534,2.0263510211450918E-2,null,9.5143317415600652,0.72426966003518534,2.0263510211450918E-2,null,8.0811499076364353,1.0369950344837988,7.0899906141132993E-2,null,8.0811499076364353,1.0369950344837988,7.0899906141132993E-2,null,9.5143317415600652,0.72426966003518534,2.0263510211450918E-2,null,8.0811499076364353,1.0369950344837988,7.0899906141132993E-2,null,8.0811499076364353,1.0369950344837988,7.0899906141132993E-2,null,8.0811499076364353,1.0369950344837988,7.0899906141132993E-2]
["LV Generation Non-Intermittent",null,-11.187739463601533,0,0,null,-8.7357961632473256,-0.6650043628029273,-1.8605394426796637E-2,null,-8.7357961632473256,-0.6650043628029273,-1.8605394426796637E-2,null,-7.419888256511574,-0.95214014915825262,-6.5098332165233849E-2,null,-7.419888256511574,-0.95214014915825262,-6.5098332165233849E-2,null,-8.7357961632473256,-0.6650043628029273,-1.8605394426796637E-2,null,-7.419888256511574,-0.95214014915825262,-6.5098332165233849E-2,null,-7.419888256511574,-0.95214014915825262,-6.5098332165233849E-2,null,-7.419888256511574,-0.95214014915825262,-6.5098332165233849E-2]
["LV Generation Non-Intermittent no RP charge",null,-11.187739463601533,0,0,null,-8.7357961632473256,-0.6650043628029273,-1.8605394426796637E-2,null,-8.7357961632473256,-0.6650043628029273,-1.8605394426796637E-2,null,-7.419888256511574,-0.95214014915825262,-6.5098332165233849E-2,null,-7.419888256511574,-0.95214014915825262,-6.5098332165233849E-2,null,-8.7357961632473256,-0.6650043628029273,-1.8605394426796637E-2,null,-7.419888256511574,-0.95214014915825262,-6.5098332165233849E-2,null,-7.419888256511574,-0.95214014915825262,-6.5098332165233849E-2,null,-7.419888256511574,-0.95214014915825262,-6.5098332165233849E-2]
["LV Sub Generation Non-Intermittent",null,-11.187739463601533,0,0,null,-8.7357961632473256,-0.6650043628029273,-1.8605394426796637E-2,null,-8.7357961632473256,-0.6650043628029273,-1.8605394426796637E-2,null,-7.419888256511574,-0.95214014915825262,-6.5098332165233849E-2,null,-7.419888256511574,-0.95214014915825262,-6.5098332165233849E-2,null,-8.7357961632473256,-0.6650043628029273,-1.8605394426796637E-2,null,-7.419888256511574,-0.95214014915825262,-6.5098332165233849E-2,null,-7.419888256511574,-0.95214014915825262,-6.5098332165233849E-2,null,-7.419888256511574,-0.95214014915825262,-6.5098332165233849E-2]
["LV Sub Generation Non-Intermittent no RP charge",null,-11.187739463601533,0,0,null,-8.7357961632473256,-0.6650043628029273,-1.8605394426796637E-2,null,-8.7357961632473256,-0.6650043628029273,-1.8605394426796637E-2,null,-7.419888256511574,-0.95214014915825262,-6.5098332165233849E-2,null,-7.419888256511574,-0.95214014915825262,-6.5098332165233849E-2,null,-8.7357961632473256,-0.6650043628029273,-1.8605394426796637E-2,null,-7.419888256511574,-0.95214014915825262,-6.5098332165233849E-2,null,-7.419888256511574,-0.95214014915825262,-6.5098332165233849E-2,null,-7.419888256511574,-0.95214014915825262,-6.5098332165233849E-2]
["HV Generation Non-Intermittent",null,-11.187739463601533,0,0,null,-8.7357961632473256,-0.6650043628029273,-1.8605394426796637E-2,null,-8.7357961632473256,-0.6650043628029273,-1.8605394426796637E-2,null,-7.419888256511574,-0.95214014915825262,-6.5098332165233849E-2,null,-7.419888256511574,-0.95214014915825262,-6.5098332165233849E-2,null,-8.7357961632473256,-0.6650043628029273,-1.8605394426796637E-2,null,-7.419888256511574,-0.95214014915825262,-6.5098332165233849E-2,null,-7.419888256511574,-0.95214014915825262,-6.5098332165233849E-2,null,-7.419888256511574,-0.95214014915825262,-6.5098332165233849E-2]
["HV Generation Non-Intermittent no RP charge",null,-11.187739463601533,0,0,null,-8.7357961632473256,-0.6650043628029273,-1.8605394426796637E-2,null,-8.7357961632473256,-0.6650043628029273,-1.8605394426796637E-2,null,-7.419888256511574,-0.95214014915825262,-6.5098332165233849E-2,null,-7.419888256511574,-0.95214014915825262,-6.5098332165233849E-2,null,-8.7357961632473256,-0.6650043628029273,-1.8605394426796637E-2,null,-7.419888256511574,-0.95214014915825262,-6.5098332165233849E-2,null,-7.419888256511574,-0.95214014915825262,-6.5098332165233849E-2,null,-7.419888256511574,-0.95214014915825262,-6.5098332165233849E-2]
[]
["2441. Unit rate 1 pseudo load coefficient by network level"]
["Data sources:"]
["x1 = 2440. Pseudo load coefficient by time band and network level (equalised)"]
["x2 = 2403. Split of rate 1 units between distribution time bands"]
["Sum-product calculation =SUMPRODUCT(x1, x2)"]
[]
[null,"GSPs","132kV","132kV/EHV","EHV","EHV/HV","132kV/HV","HV","HV/LV","LV circuits"]
["Domestic Unrestricted",{"$f":"SUMPRODUCT($C1878:$E1878,$B1344:$D1344)","v":2.0719242662667434},{"$f":"SUMPRODUCT($G1878:$I1878,$B1344:$D1344)","v":1.9699166414556639},{"$f":"SUMPRODUCT($K1878:$M1878,$B1344:$D1344)","v":1.9699166414556639},{"$f":"SUMPRODUCT($O1878:$Q1878,$B1344:$D1344)","v":1.9011311666820792},{"$f":"SUMPRODUCT($S1878:$U1878,$B1344:$D1344)","v":1.9011311666820792},{"$f":"SUMPRODUCT($W1878:$Y1878,$B1344:$D1344)","v":1.9699166414556639},{"$f":"SUMPRODUCT($AA1878:$AC1878,$B1344:$D1344)","v":1.9011311666820792},{"$f":"SUMPRODUCT($AE1878:$AG1878,$B1344:$D1344)","v":1.9011311666820792},{"$f":"SUMPRODUCT($AI1878:$AK1878,$B1344:$D1344)","v":1.9011311666820792}]
["Domestic Two Rate",2.4723083918246842,2.3496266903278573,2.3496266903278573,2.2638756792462775,2.2638756792462775,2.3496266903278573,2.2638756792462775,2.2638756792462775,2.2638756792462775]
["Domestic Off Peak (related MPAN)",0.50138509662645003,0.61929669090506634,0.61929669090506634,0.68292177639565954,0.68292177639565954,0.61929669090506634,0.68292177639565954,0.68292177639565954,0.68292177639565954]
["Small Non Domestic Unrestricted",1.9279161240257183,2.0186462011650423,2.0186462011650423,2.0309020927168651,2.0309020927168651,2.0186462011650423,2.0309020927168651,2.0309020927168651,2.0309020927168651]
["Small Non Domestic Two Rate",2.0960267541826787,2.1471931808233653,2.1471931808233653,2.1412559986107436,2.1412559986107436,2.1471931808233653,2.1412559986107436,2.1412559986107436,2.1412559986107436]
["Small Non Domestic Off Peak (related MPAN)",0.18650803006176817,0.28383461676578536,0.28383461676578536,0.3522725924434677,0.3522725924434677,0.28383461676578536,0.3522725924434677,0.3522725924434677,0.3522725924434677]
["LV Medium Non-Domestic",2.0397872022835264,2.072051674776632,2.072051674776632,2.0564824727117941,2.0564824727117941,2.072051674776632,2.0564824727117941,2.0564824727117941,2.0564824727117941]
["LV Sub Medium Non-Domestic",2.0636340087589415,2.0999497240278577,2.0999497240278577,2.0862957375983955,2.0862957375983955,2.0999497240278577,2.0862957375983955,2.0862957375983955,2.0862957375983955]
["HV Medium Non-Domestic",2.0887506094713717,2.1429690901718104,2.1429690901718104,2.1358792492688523,2.1358792492688523,2.1429690901718104,2.1358792492688523,2.1358792492688523,2.1358792492688523]
["LV Network Domestic",15.032115900732109,11.737430091253334,11.737430091253334,9.9716082832590587,9.9716082832590587,11.737430091253334,9.9716082832590587,9.9716082832590587,9.9716082832590587]
["LV Network Non-Domestic Non-CT",16.004514763245879,12.493673165031314,12.493673165031314,10.611625774755753,10.611625774755753,12.493673165031314,10.611625774755753,10.611625774755753,10.611625774755753]
["LV HH Metered",13.606006080846958,10.624067185769063,10.624067185769063,9.0237214645327626,9.0237214645327626,10.624067185769063,9.0237214645327626,9.0237214645327626,9.0237214645327626]
["LV Sub HH Metered",13.544107095040831,10.575734193704553,10.575734193704553,8.9826690643256324,8.9826690643256324,10.575734193704553,8.9826690643256324,8.9826690643256324,8.9826690643256324]
["HV HH Metered",12.18479262859543,9.5143317415600652,9.5143317415600652,8.0811499076364353,8.0811499076364353,9.5143317415600652,8.0811499076364353,8.0811499076364353,8.0811499076364353]
["LV Generation Non-Intermittent",-11.187739463601533,-8.7357961632473256,-8.7357961632473256,-7.419888256511574,-7.419888256511574,-8.7357961632473256,-7.419888256511574,-7.419888256511574,-7.419888256511574]
["LV Generation Non-Intermittent no RP charge",-11.187739463601533,-8.7357961632473256,-8.7357961632473256,-7.419888256511574,-7.419888256511574,-8.7357961632473256,-7.419888256511574,-7.419888256511574,-7.419888256511574]
["LV Sub Generation Non-Intermittent",-11.187739463601533,-8.7357961632473256,-8.7357961632473256,-7.419888256511574,-7.419888256511574,-8.7357961632473256,-7.419888256511574,-7.419888256511574,-7.419888256511574]
["LV Sub Generation Non-Intermittent no RP charge",-11.187739463601533,-8.7357961632473256,-8.7357961632473256,-7.419888256511574,-7.419888256511574,-8.7357961632473256,-7.419888256511574,-7.419888256511574,-7.419888256511574]
["HV Generation Non-Intermittent",-11.187739463601533,-8.7357961632473256,-8.7357961632473256,-7.419888256511574,-7.419888256511574,-8.7357961632473256,-7.419888256511574,-7.419888256511574,-7.419888256511574]
["HV Generation Non-Intermittent no RP charge",-11.187739463601533,-8.7357961632473256,-8.7357961632473256,-7.419888256511574,-7.419888256511574,-8.7357961632473256,-7.419888256511574,-7.419888256511574,-7.419888256511574]
[]
["2442. Unit rate 2 pseudo load coefficient by network level"]
["Data sources:"]
["x1 = 2440. Pseudo load coefficient by time band and network level (equalised)"]
["x2 = 2405. Split of rate 2 units between distribution time bands"]
["Sum-product calculation =SUMPRODUCT(x1, x2)"]
[]
[null,"GSPs","132kV","132kV/EHV","EHV","EHV/HV","132kV/HV","HV","HV/LV","LV circuits"]
["Domestic Two Rate",{"$f":"SUMPRODUCT($C$1879:$E$1879,$B1389:$D1389)","v":0},{"$f":"SUMPRODUCT($G$1879:$I$1879,$B1389:$D1389)","v":2.7151955699014303E-2},{"$f":"SUMPRODUCT($K$1879:$M$1879,$B1389:$D1389)","v":2.7151955699014303E-2},{"$f":"SUMPRODUCT($O$1879:$Q$1879,$B1389:$D1389)","v":9.5001873537183326E-2},{"$f":"SUMPRODUCT($S$1879:$U$1879,$B1389:$D1389)","v":9.5001873537183326E-2},{"$f":"SUMPRODUCT($W$1879:$Y$1879,$B1389:$D1389)","v":2.7151955699014303E-2},{"$f":"SUMPRODUCT($AA$1879:$AC$1879,$B1389:$D1389)","v":9.5001873537183326E-2},{"$f":"SUMPRODUCT($AE$1879:$AG$1879,$B1389:$D1389)","v":9.5001873537183326E-2},{"$f":"SUMPRODUCT($AI$1879:$AK$1879,$B1389:$D1389)","v":9.5001873537183326E-2}]
["Small Non Domestic Two Rate",{"$f":"SUMPRODUCT($C$1882:$E$1882,$B1390:$D1390)","v":0},{"$f":"SUMPRODUCT($G$1882:$I$1882,$B1390:$D1390)","v":2.7253780892158463E-2},{"$f":"SUMPRODUCT($K$1882:$M$1882,$B1390:$D1390)","v":2.7253780892158463E-2},{"$f":"SUMPRODUCT($O$1882:$Q$1882,$B1390:$D1390)","v":9.5357944670709294E-2},{"$f":"SUMPRODUCT($S$1882:$U$1882,$B1390:$D1390)","v":9.5357944670709294E-2},{"$f":"SUMPRODUCT($W$1882:$Y$1882,$B1390:$D1390)","v":2.7253780892158463E-2},{"$f":"SUMPRODUCT($AA$1882:$AC$1882,$B1390:$D1390)","v":9.5357944670709294E-2},{"$f":"SUMPRODUCT($AE$1882:$AG$1882,$B1390:$D1390)","v":9.5357944670709294E-2},{"$f":"SUMPRODUCT($AI$1882:$AK$1882,$B1390:$D1390)","v":9.5357944670709294E-2}]
["LV Medium Non-Domestic",{"$f":"SUMPRODUCT($C$1884:$E$1884,$B1391:$D1391)","v":0},{"$f":"SUMPRODUCT($G$1884:$I$1884,$B1391:$D1391)","v":2.4981742920573567E-2},{"$f":"SUMPRODUCT($K$1884:$M$1884,$B1391:$D1391)","v":2.4981742920573567E-2},{"$f":"SUMPRODUCT($O$1884:$Q$1884,$B1391:$D1391)","v":8.7408509672212253E-2},{"$f":"SUMPRODUCT($S$1884:$U$1884,$B1391:$D1391)","v":8.7408509672212253E-2},{"$f":"SUMPRODUCT($W$1884:$Y$1884,$B1391:$D1391)","v":2.4981742920573567E-2},{"$f":"SUMPRODUCT($AA$1884:$AC$1884,$B1391:$D1391)","v":8.7408509672212253E-2},{"$f":"SUMPRODUCT($AE$1884:$AG$1884,$B1391:$D1391)","v":8.7408509672212253E-2},{"$f":"SUMPRODUCT($AI$1884:$AK$1884,$B1391:$D1391)","v":8.7408509672212253E-2}]
["LV Sub Medium Non-Domestic",{"$f":"SUMPRODUCT($C$1885:$E$1885,$B1392:$D1392)","v":0},{"$f":"SUMPRODUCT($G$1885:$I$1885,$B1392:$D1392)","v":2.5616810946674465E-2},{"$f":"SUMPRODUCT($K$1885:$M$1885,$B1392:$D1392)","v":2.5616810946674465E-2},{"$f":"SUMPRODUCT($O$1885:$Q$1885,$B1392:$D1392)","v":8.9630546376314152E-2},{"$f":"SUMPRODUCT($S$1885:$U$1885,$B1392:$D1392)","v":8.9630546376314152E-2},{"$f":"SUMPRODUCT($W$1885:$Y$1885,$B1392:$D1392)","v":2.5616810946674465E-2},{"$f":"SUMPRODUCT($AA$1885:$AC$1885,$B1392:$D1392)","v":8.9630546376314152E-2},{"$f":"SUMPRODUCT($AE$1885:$AG$1885,$B1392:$D1392)","v":8.9630546376314152E-2},{"$f":"SUMPRODUCT($AI$1885:$AK$1885,$B1392:$D1392)","v":8.9630546376314152E-2}]
["HV Medium Non-Domestic",{"$f":"SUMPRODUCT($C$1886:$E$1886,$B1393:$D1393)","v":0},{"$f":"SUMPRODUCT($G$1886:$I$1886,$B1393:$D1393)","v":2.603674604880496E-2},{"$f":"SUMPRODUCT($K$1886:$M$1886,$B1393:$D1393)","v":2.603674604880496E-2},{"$f":"SUMPRODUCT($O$1886:$Q$1886,$B1393:$D1393)","v":9.1099855445460259E-2},{"$f":"SUMPRODUCT($S$1886:$U$1886,$B1393:$D1393)","v":9.1099855445460259E-2},{"$f":"SUMPRODUCT($W$1886:$Y$1886,$B1393:$D1393)","v":2.603674604880496E-2},{"$f":"SUMPRODUCT($AA$1886:$AC$1886,$B1393:$D1393)","v":9.1099855445460259E-2},{"$f":"SUMPRODUCT($AE$1886:$AG$1886,$B1393:$D1393)","v":9.1099855445460259E-2},{"$f":"SUMPRODUCT($AI$1886:$AK$1886,$B1393:$D1393)","v":9.1099855445460259E-2}]
["LV Network Domestic",{"$f":"SUMPRODUCT($C$1887:$E$1887,$B1394:$D1394)","v":0},{"$f":"SUMPRODUCT($G$1887:$I$1887,$B1394:$D1394)","v":0.89350095548432984},{"$f":"SUMPRODUCT($K$1887:$M$1887,$B1394:$D1394)","v":0.89350095548432984},{"$f":"SUMPRODUCT($O$1887:$Q$1887,$B1394:$D1394)","v":1.2795837713375053},{"$f":"SUMPRODUCT($S$1887:$U$1887,$B1394:$D1394)","v":1.2795837713375053},{"$f":"SUMPRODUCT($W$1887:$Y$1887,$B1394:$D1394)","v":0.89350095548432984},{"$f":"SUMPRODUCT($AA$1887:$AC$1887,$B1394:$D1394)","v":1.2795837713375053},{"$f":"SUMPRODUCT($AE$1887:$AG$1887,$B1394:$D1394)","v":1.2795837713375053},{"$f":"SUMPRODUCT($AI$1887:$AK$1887,$B1394:$D1394)","v":1.2795837713375053}]
["LV Network Non-Domestic Non-CT",{"$f":"SUMPRODUCT($C$1888:$E$1888,$B1395:$D1395)","v":0},{"$f":"SUMPRODUCT($G$1888:$I$1888,$B1395:$D1395)","v":0.95106925653027685},{"$f":"SUMPRODUCT($K$1888:$M$1888,$B1395:$D1395)","v":0.95106925653027685},{"$f":"SUMPRODUCT($O$1888:$Q$1888,$B1395:$D1395)","v":1.3617125485846244},{"$f":"SUMPRODUCT($S$1888:$U$1888,$B1395:$D1395)","v":1.3617125485846244},{"$f":"SUMPRODUCT($W$1888:$Y$1888,$B1395:$D1395)","v":0.95106925653027685},{"$f":"SUMPRODUCT($AA$1888:$AC$1888,$B1395:$D1395)","v":1.3617125485846244},{"$f":"SUMPRODUCT($AE$1888:$AG$1888,$B1395:$D1395)","v":1.3617125485846244},{"$f":"SUMPRODUCT($AI$1888:$AK$1888,$B1395:$D1395)","v":1.3617125485846244}]
["LV HH Metered",{"$f":"SUMPRODUCT($C$1889:$E$1889,$B1396:$D1396)","v":0},{"$f":"SUMPRODUCT($G$1889:$I$1889,$B1396:$D1396)","v":0.8087472392008721},{"$f":"SUMPRODUCT($K$1889:$M$1889,$B1396:$D1396)","v":0.8087472392008721},{"$f":"SUMPRODUCT($O$1889:$Q$1889,$B1396:$D1396)","v":1.1579483685165588},{"$f":"SUMPRODUCT($S$1889:$U$1889,$B1396:$D1396)","v":1.1579483685165588},{"$f":"SUMPRODUCT($W$1889:$Y$1889,$B1396:$D1396)","v":0.8087472392008721},{"$f":"SUMPRODUCT($AA$1889:$AC$1889,$B1396:$D1396)","v":1.1579483685165588},{"$f":"SUMPRODUCT($AE$1889:$AG$1889,$B1396:$D1396)","v":1.1579483685165588},{"$f":"SUMPRODUCT($AI$1889:$AK$1889,$B1396:$D1396)","v":1.1579483685165588}]
["LV Sub HH Metered",{"$f":"SUMPRODUCT($C$1890:$E$1890,$B1397:$D1397)","v":0},{"$f":"SUMPRODUCT($G$1890:$I$1890,$B1397:$D1397)","v":0.80506793510659358},{"$f":"SUMPRODUCT($K$1890:$M$1890,$B1397:$D1397)","v":0.80506793510659358},{"$f":"SUMPRODUCT($O$1890:$Q$1890,$B1397:$D1397)","v":1.152680413379604},{"$f":"SUMPRODUCT($S$1890:$U$1890,$B1397:$D1397)","v":1.152680413379604},{"$f":"SUMPRODUCT($W$1890:$Y$1890,$B1397:$D1397)","v":0.80506793510659358},{"$f":"SUMPRODUCT($AA$1890:$AC$1890,$B1397:$D1397)","v":1.152680413379604},{"$f":"SUMPRODUCT($AE$1890:$AG$1890,$B1397:$D1397)","v":1.152680413379604},{"$f":"SUMPRODUCT($AI$1890:$AK$1890,$B1397:$D1397)","v":1.152680413379604}]
["HV HH Metered",{"$f":"SUMPRODUCT($C$1891:$E$1891,$B1398:$D1398)","v":0},{"$f":"SUMPRODUCT($G$1891:$I$1891,$B1398:$D1398)","v":0.72426966003518534},{"$f":"SUMPRODUCT($K$1891:$M$1891,$B1398:$D1398)","v":0.72426966003518534},{"$f":"SUMPRODUCT($O$1891:$Q$1891,$B1398:$D1398)","v":1.0369950344837988},{"$f":"SUMPRODUCT($S$1891:$U$1891,$B1398:$D1398)","v":1.0369950344837988},{"$f":"SUMPRODUCT($W$1891:$Y$1891,$B1398:$D1398)","v":0.72426966003518534},{"$f":"SUMPRODUCT($AA$1891:$AC$1891,$B1398:$D1398)","v":1.0369950344837988},{"$f":"SUMPRODUCT($AE$1891:$AG$1891,$B1398:$D1398)","v":1.0369950344837988},{"$f":"SUMPRODUCT($AI$1891:$AK$1891,$B1398:$D1398)","v":1.0369950344837988}]
["LV Generation Non-Intermittent",{"$f":"SUMPRODUCT($C$1892:$E$1892,$B1399:$D1399)","v":0},{"$f":"SUMPRODUCT($G$1892:$I$1892,$B1399:$D1399)","v":-0.6650043628029273},{"$f":"SUMPRODUCT($K$1892:$M$1892,$B1399:$D1399)","v":-0.6650043628029273},{"$f":"SUMPRODUCT($O$1892:$Q$1892,$B1399:$D1399)","v":-0.95214014915825262},{"$f":"SUMPRODUCT($S$1892:$U$1892,$B1399:$D1399)","v":-0.95214014915825262},{"$f":"SUMPRODUCT($W$1892:$Y$1892,$B1399:$D1399)","v":-0.6650043628029273},{"$f":"SUMPRODUCT($AA$1892:$AC$1892,$B1399:$D1399)","v":-0.95214014915825262},{"$f":"SUMPRODUCT($AE$1892:$AG$1892,$B1399:$D1399)","v":-0.95214014915825262},{"$f":"SUMPRODUCT($AI$1892:$AK$1892,$B1399:$D1399)","v":-0.95214014915825262}]
["LV Generation Non-Intermittent no RP charge",{"$f":"SUMPRODUCT($C$1893:$E$1893,$B1400:$D1400)","v":0},{"$f":"SUMPRODUCT($G$1893:$I$1893,$B1400:$D1400)","v":-0.6650043628029273},{"$f":"SUMPRODUCT($K$1893:$M$1893,$B1400:$D1400)","v":-0.6650043628029273},{"$f":"SUMPRODUCT($O$1893:$Q$1893,$B1400:$D1400)","v":-0.95214014915825262},{"$f":"SUMPRODUCT($S$1893:$U$1893,$B1400:$D1400)","v":-0.95214014915825262},{"$f":"SUMPRODUCT($W$1893:$Y$1893,$B1400:$D1400)","v":-0.6650043628029273},{"$f":"SUMPRODUCT($AA$1893:$AC$1893,$B1400:$D1400)","v":-0.95214014915825262},{"$f":"SUMPRODUCT($AE$1893:$AG$1893,$B1400:$D1400)","v":-0.95214014915825262},{"$f":"SUMPRODUCT($AI$1893:$AK$1893,$B1400:$D1400)","v":-0.95214014915825262}]
["LV Sub Generation Non-Intermittent",{"$f":"SUMPRODUCT($C$1894:$E$1894,$B1401:$D1401)","v":0},{"$f":"SUMPRODUCT($G$1894:$I$1894,$B1401:$D1401)","v":-0.6650043628029273},{"$f":"SUMPRODUCT($K$1894:$M$1894,$B1401:$D1401)","v":-0.6650043628029273},{"$f":"SUMPRODUCT($O$1894:$Q$1894,$B1401:$D1401)","v":-0.95214014915825262},{"$f":"SUMPRODUCT($S$1894:$U$1894,$B1401:$D1401)","v":-0.95214014915825262},{"$f":"SUMPRODUCT($W$1894:$Y$1894,$B1401:$D1401)","v":-0.6650043628029273},{"$f":"SUMPRODUCT($AA$1894:$AC$1894,$B1401:$D1401)","v":-0.95214014915825262},{"$f":"SUMPRODUCT($AE$1894:$AG$1894,$B1401:$D1401)","v":-0.95214014915825262},{"$f":"SUMPRODUCT($AI$1894:$AK$1894,$B1401:$D1401)","v":-0.95214014915825262}]
["LV Sub Generation Non-Intermittent no RP charge",{"$f":"SUMPRODUCT($C$1895:$E$1895,$B1402:$D1402)","v":0},{"$f":"SUMPRODUCT($G$1895:$I$1895,$B1402:$D1402)","v":-0.6650043628029273},{"$f":"SUMPRODUCT($K$1895:$M$1895,$B1402:$D1402)","v":-0.6650043628029273},{"$f":"SUMPRODUCT($O$1895:$Q$1895,$B1402:$D1402)","v":-0.95214014915825262},{"$f":"SUMPRODUCT($S$1895:$U$1895,$B1402:$D1402)","v":-0.95214014915825262},{"$f":"SUMPRODUCT($W$1895:$Y$1895,$B1402:$D1402)","v":-0.6650043628029273},{"$f":"SUMPRODUCT($AA$1895:$AC$1895,$B1402:$D1402)","v":-0.95214014915825262},{"$f":"SUMPRODUCT($AE$1895:$AG$1895,$B1402:$D1402)","v":-0.95214014915825262},{"$f":"SUMPRODUCT($AI$1895:$AK$1895,$B1402:$D1402)","v":-0.95214014915825262}]
["HV Generation Non-Intermittent",{"$f":"SUMPRODUCT($C$1896:$E$1896,$B1403:$D1403)","v":0},{"$f":"SUMPRODUCT($G$1896:$I$1896,$B1403:$D1403)","v":-0.6650043628029273},{"$f":"SUMPRODUCT($K$1896:$M$1896,$B1403:$D1403)","v":-0.6650043628029273},{"$f":"SUMPRODUCT($O$1896:$Q$1896,$B1403:$D1403)","v":-0.95214014915825262},{"$f":"SUMPRODUCT($S$1896:$U$1896,$B1403:$D1403)","v":-0.95214014915825262},{"$f":"SUMPRODUCT($W$1896:$Y$1896,$B1403:$D1403)","v":-0.6650043628029273},{"$f":"SUMPRODUCT($AA$1896:$AC$1896,$B1403:$D1403)","v":-0.95214014915825262},{"$f":"SUMPRODUCT($AE$1896:$AG$1896,$B1403:$D1403)","v":-0.95214014915825262},{"$f":"SUMPRODUCT($AI$1896:$AK$1896,$B1403:$D1403)","v":-0.95214014915825262}]
["HV Generation Non-Intermittent no RP charge",{"$f":"SUMPRODUCT($C$1897:$E$1897,$B1404:$D1404)","v":0},{"$f":"SUMPRODUCT($G$1897:$I$1897,$B1404:$D1404)","v":-0.6650043628029273},{"$f":"SUMPRODUCT($K$1897:$M$1897,$B1404:$D1404)","v":-0.6650043628029273},{"$f":"SUMPRODUCT($O$1897:$Q$1897,$B1404:$D1404)","v":-0.95214014915825262},{"$f":"SUMPRODUCT($S$1897:$U$1897,$B1404:$D1404)","v":-0.95214014915825262},{"$f":"SUMPRODUCT($W$1897:$Y$1897,$B1404:$D1404)","v":-0.6650043628029273},{"$f":"SUMPRODUCT($AA$1897:$AC$1897,$B1404:$D1404)","v":-0.95214014915825262},{"$f":"SUMPRODUCT($AE$1897:$AG$1897,$B1404:$D1404)","v":-0.95214014915825262},{"$f":"SUMPRODUCT($AI$1897:$AK$1897,$B1404:$D1404)","v":-0.95214014915825262}]
[]
["2443. Unit rate 3 pseudo load coefficient by network level"]
["Data sources:"]
["x1 = 2440. Pseudo load coefficient by time band and network level (equalised)"]
["x2 = 2406. Split of rate 3 units between distribution time bands (default)"]
["Sum-product calculation =SUMPRODUCT(x1, x2)"]
[]
[null,"GSPs","132kV","132kV/EHV","EHV","EHV/HV","132kV/HV","HV","HV/LV","LV circuits"]
["LV Network Domestic",{"$f":"SUMPRODUCT($C$1887:$E$1887,$B1409:$D1409)","v":0},{"$f":"SUMPRODUCT($G$1887:$I$1887,$B1409:$D1409)","v":2.4998238549048573E-2},{"$f":"SUMPRODUCT($K$1887:$M$1887,$B1409:$D1409)","v":2.4998238549048573E-2},{"$f":"SUMPRODUCT($O$1887:$Q$1887,$B1409:$D1409)","v":8.7485828061564783E-2},{"$f":"SUMPRODUCT($S$1887:$U$1887,$B1409:$D1409)","v":8.7485828061564783E-2},{"$f":"SUMPRODUCT($W$1887:$Y$1887,$B1409:$D1409)","v":2.4998238549048573E-2},{"$f":"SUMPRODUCT($AA$1887:$AC$1887,$B1409:$D1409)","v":8.7485828061564783E-2},{"$f":"SUMPRODUCT($AE$1887:$AG$1887,$B1409:$D1409)","v":8.7485828061564783E-2},{"$f":"SUMPRODUCT($AI$1887:$AK$1887,$B1409:$D1409)","v":8.7485828061564783E-2}]
["LV Network Non-Domestic Non-CT",{"$f":"SUMPRODUCT($C$1888:$E$1888,$B1410:$D1410)","v":0},{"$f":"SUMPRODUCT($G$1888:$I$1888,$B1410:$D1410)","v":2.6608876023554624E-2},{"$f":"SUMPRODUCT($K$1888:$M$1888,$B1410:$D1410)","v":2.6608876023554624E-2},{"$f":"SUMPRODUCT($O$1888:$Q$1888,$B1410:$D1410)","v":9.3101016567462835E-2},{"$f":"SUMPRODUCT($S$1888:$U$1888,$B1410:$D1410)","v":9.3101016567462835E-2},{"$f":"SUMPRODUCT($W$1888:$Y$1888,$B1410:$D1410)","v":2.6608876023554624E-2},{"$f":"SUMPRODUCT($AA$1888:$AC$1888,$B1410:$D1410)","v":9.3101016567462835E-2},{"$f":"SUMPRODUCT($AE$1888:$AG$1888,$B1410:$D1410)","v":9.3101016567462835E-2},{"$f":"SUMPRODUCT($AI$1888:$AK$1888,$B1410:$D1410)","v":9.3101016567462835E-2}]
["LV HH Metered",{"$f":"SUMPRODUCT($C$1889:$E$1889,$B1411:$D1411)","v":0},{"$f":"SUMPRODUCT($G$1889:$I$1889,$B1411:$D1411)","v":2.2627011518380424E-2},{"$f":"SUMPRODUCT($K$1889:$M$1889,$B1411:$D1411)","v":2.2627011518380424E-2},{"$f":"SUMPRODUCT($O$1889:$Q$1889,$B1411:$D1411)","v":7.916955039709471E-2},{"$f":"SUMPRODUCT($S$1889:$U$1889,$B1411:$D1411)","v":7.916955039709471E-2},{"$f":"SUMPRODUCT($W$1889:$Y$1889,$B1411:$D1411)","v":2.2627011518380424E-2},{"$f":"SUMPRODUCT($AA$1889:$AC$1889,$B1411:$D1411)","v":7.916955039709471E-2},{"$f":"SUMPRODUCT($AE$1889:$AG$1889,$B1411:$D1411)","v":7.916955039709471E-2},{"$f":"SUMPRODUCT($AI$1889:$AK$1889,$B1411:$D1411)","v":7.916955039709471E-2}]
["LV Sub HH Metered",{"$f":"SUMPRODUCT($C$1890:$E$1890,$B1412:$D1412)","v":0},{"$f":"SUMPRODUCT($G$1890:$I$1890,$B1412:$D1412)","v":2.252407248862481E-2},{"$f":"SUMPRODUCT($K$1890:$M$1890,$B1412:$D1412)","v":2.252407248862481E-2},{"$f":"SUMPRODUCT($O$1890:$Q$1890,$B1412:$D1412)","v":7.8809377481752152E-2},{"$f":"SUMPRODUCT($S$1890:$U$1890,$B1412:$D1412)","v":7.8809377481752152E-2},{"$f":"SUMPRODUCT($W$1890:$Y$1890,$B1412:$D1412)","v":2.252407248862481E-2},{"$f":"SUMPRODUCT($AA$1890:$AC$1890,$B1412:$D1412)","v":7.8809377481752152E-2},{"$f":"SUMPRODUCT($AE$1890:$AG$1890,$B1412:$D1412)","v":7.8809377481752152E-2},{"$f":"SUMPRODUCT($AI$1890:$AK$1890,$B1412:$D1412)","v":7.8809377481752152E-2}]
["HV HH Metered",{"$f":"SUMPRODUCT($C$1891:$E$1891,$B1413:$D1413)","v":0},{"$f":"SUMPRODUCT($G$1891:$I$1891,$B1413:$D1413)","v":2.0263510211450918E-2},{"$f":"SUMPRODUCT($K$1891:$M$1891,$B1413:$D1413)","v":2.0263510211450918E-2},{"$f":"SUMPRODUCT($O$1891:$Q$1891,$B1413:$D1413)","v":7.0899906141132993E-2},{"$f":"SUMPRODUCT($S$1891:$U$1891,$B1413:$D1413)","v":7.0899906141132993E-2},{"$f":"SUMPRODUCT($W$1891:$Y$1891,$B1413:$D1413)","v":2.0263510211450918E-2},{"$f":"SUMPRODUCT($AA$1891:$AC$1891,$B1413:$D1413)","v":7.0899906141132993E-2},{"$f":"SUMPRODUCT($AE$1891:$AG$1891,$B1413:$D1413)","v":7.0899906141132993E-2},{"$f":"SUMPRODUCT($AI$1891:$AK$1891,$B1413:$D1413)","v":7.0899906141132993E-2}]
["LV Generation Non-Intermittent",{"$f":"SUMPRODUCT($C$1892:$E$1892,$B1414:$D1414)","v":0},{"$f":"SUMPRODUCT($G$1892:$I$1892,$B1414:$D1414)","v":-1.8605394426796637E-2},{"$f":"SUMPRODUCT($K$1892:$M$1892,$B1414:$D1414)","v":-1.8605394426796637E-2},{"$f":"SUMPRODUCT($O$1892:$Q$1892,$B1414:$D1414)","v":-6.5098332165233849E-2},{"$f":"SUMPRODUCT($S$1892:$U$1892,$B1414:$D1414)","v":-6.5098332165233849E-2},{"$f":"SUMPRODUCT($W$1892:$Y$1892,$B1414:$D1414)","v":-1.8605394426796637E-2},{"$f":"SUMPRODUCT($AA$1892:$AC$1892,$B1414:$D1414)","v":-6.5098332165233849E-2},{"$f":"SUMPRODUCT($AE$1892:$AG$1892,$B1414:$D1414)","v":-6.5098332165233849E-2},{"$f":"SUMPRODUCT($AI$1892:$AK$1892,$B1414:$D1414)","v":-6.5098332165233849E-2}]
["LV Generation Non-Intermittent no RP charge",{"$f":"SUMPRODUCT($C$1893:$E$1893,$B1415:$D1415)","v":0},{"$f":"SUMPRODUCT($G$1893:$I$1893,$B1415:$D1415)","v":-1.8605394426796637E-2},{"$f":"SUMPRODUCT($K$1893:$M$1893,$B1415:$D1415)","v":-1.8605394426796637E-2},{"$f":"SUMPRODUCT($O$1893:$Q$1893,$B1415:$D1415)","v":-6.5098332165233849E-2},{"$f":"SUMPRODUCT($S$1893:$U$1893,$B1415:$D1415)","v":-6.5098332165233849E-2},{"$f":"SUMPRODUCT($W$1893:$Y$1893,$B1415:$D1415)","v":-1.8605394426796637E-2},{"$f":"SUMPRODUCT($AA$1893:$AC$1893,$B1415:$D1415)","v":-6.5098332165233849E-2},{"$f":"SUMPRODUCT($AE$1893:$AG$1893,$B1415:$D1415)","v":-6.5098332165233849E-2},{"$f":"SUMPRODUCT($AI$1893:$AK$1893,$B1415:$D1415)","v":-6.5098332165233849E-2}]
["LV Sub Generation Non-Intermittent",{"$f":"SUMPRODUCT($C$1894:$E$1894,$B1416:$D1416)","v":0},{"$f":"SUMPRODUCT($G$1894:$I$1894,$B1416:$D1416)","v":-1.8605394426796637E-2},{"$f":"SUMPRODUCT($K$1894:$M$1894,$B1416:$D1416)","v":-1.8605394426796637E-2},{"$f":"SUMPRODUCT($O$1894:$Q$1894,$B1416:$D1416)","v":-6.5098332165233849E-2},{"$f":"SUMPRODUCT($S$1894:$U$1894,$B1416:$D1416)","v":-6.5098332165233849E-2},{"$f":"SUMPRODUCT($W$1894:$Y$1894,$B1416:$D1416)","v":-1.8605394426796637E-2},{"$f":"SUMPRODUCT($AA$1894:$AC$1894,$B1416:$D1416)","v":-6.5098332165233849E-2},{"$f":"SUMPRODUCT($AE$1894:$AG$1894,$B1416:$D1416)","v":-6.5098332165233849E-2},{"$f":"SUMPRODUCT($AI$1894:$AK$1894,$B1416:$D1416)","v":-6.5098332165233849E-2}]
["LV Sub Generation Non-Intermittent no RP charge",{"$f":"SUMPRODUCT($C$1895:$E$1895,$B1417:$D1417)","v":0},{"$f":"SUMPRODUCT($G$1895:$I$1895,$B1417:$D1417)","v":-1.8605394426796637E-2},{"$f":"SUMPRODUCT($K$1895:$M$1895,$B1417:$D1417)","v":-1.8605394426796637E-2},{"$f":"SUMPRODUCT($O$1895:$Q$1895,$B1417:$D1417)","v":-6.5098332165233849E-2},{"$f":"SUMPRODUCT($S$1895:$U$1895,$B1417:$D1417)","v":-6.5098332165233849E-2},{"$f":"SUMPRODUCT($W$1895:$Y$1895,$B1417:$D1417)","v":-1.8605394426796637E-2},{"$f":"SUMPRODUCT($AA$1895:$AC$1895,$B1417:$D1417)","v":-6.5098332165233849E-2},{"$f":"SUMPRODUCT($AE$1895:$AG$1895,$B1417:$D1417)","v":-6.5098332165233849E-2},{"$f":"SUMPRODUCT($AI$1895:$AK$1895,$B1417:$D1417)","v":-6.5098332165233849E-2}]
["HV Generation Non-Intermittent",{"$f":"SUMPRODUCT($C$1896:$E$1896,$B1418:$D1418)","v":0},{"$f":"SUMPRODUCT($G$1896:$I$1896,$B1418:$D1418)","v":-1.8605394426796637E-2},{"$f":"SUMPRODUCT($K$1896:$M$1896,$B1418:$D1418)","v":-1.8605394426796637E-2},{"$f":"SUMPRODUCT($O$1896:$Q$1896,$B1418:$D1418)","v":-6.5098332165233849E-2},{"$f":"SUMPRODUCT($S$1896:$U$1896,$B1418:$D1418)","v":-6.5098332165233849E-2},{"$f":"SUMPRODUCT($W$1896:$Y$1896,$B1418:$D1418)","v":-1.8605394426796637E-2},{"$f":"SUMPRODUCT($AA$1896:$AC$1896,$B1418:$D1418)","v":-6.5098332165233849E-2},{"$f":"SUMPRODUCT($AE$1896:$AG$1896,$B1418:$D1418)","v":-6.5098332165233849E-2},{"$f":"SUMPRODUCT($AI$1896:$AK$1896,$B1418:$D1418)","v":-6.5098332165233849E-2}]
["HV Generation Non-Intermittent no RP charge",{"$f":"SUMPRODUCT($C$1897:$E$1897,$B1419:$D1419)","v":0},{"$f":"SUMPRODUCT($G$1897:$I$1897,$B1419:$D1419)","v":-1.8605394426796637E-2},{"$f":"SUMPRODUCT($K$1897:$M$1897,$B1419:$D1419)","v":-1.8605394426796637E-2},{"$f":"SUMPRODUCT($O$1897:$Q$1897,$B1419:$D1419)","v":-6.5098332165233849E-2},{"$f":"SUMPRODUCT($S$1897:$U$1897,$B1419:$D1419)","v":-6.5098332165233849E-2},{"$f":"SUMPRODUCT($W$1897:$Y$1897,$B1419:$D1419)","v":-1.8605394426796637E-2},{"$f":"SUMPRODUCT($AA$1897:$AC$1897,$B1419:$D1419)","v":-6.5098332165233849E-2},{"$f":"SUMPRODUCT($AE$1897:$AG$1897,$B1419:$D1419)","v":-6.5098332165233849E-2},{"$f":"SUMPRODUCT($AI$1897:$AK$1897,$B1419:$D1419)","v":-6.5098332165233849E-2}]
[]
["2444. Adjust annual hours by special distribution time band to match days in year"]
["Data sources:"]
["x1 = 1066. Typical annual hours by special distribution time band"]
["x2 = 1010. Days in the charging year (in Financial and general assumptions)"]
["x3 = Total hours in the year according to special time band hours input data (in Adjust annual hours by special distribution time band to match days in year)"]
["Kind:","Cell summation","Calculation"]
["Formula:","=SUM(x1)","=x1*24*x2/x3"]
[]
[null,null,"Annual hours by special distribution time band (reconciled to days in year)"]
[null,"Hours aggregate","Black","Yellow","Green"]
["Adjust annual hours by special distribution time band to match days in year",{"$f":"SUM($B315:$D315)","v":8760},{"$f":"B315*24*$F14/$B1980","v":258},{"$f":"C315*24*$F14/$B1980","v":3265.5},{"$f":"D315*24*$F14/$B1980","v":5236.5}]
[]
["2445. Normalisation of split of rate 1 units by special time band"]
["Data sources:"]
["x1 = 1064. Average split of rate 1 units by special distribution time band"]
["x2 = Total split (in Normalisation of split of rate 1 units by special time band)"]
["x3 = 2444. Annual hours by special distribution time band (reconciled to days in year) (in Adjust annual hours by special distribution time band to match days in year)"]
["x4 = 1010. Days in the charging year (in Financial and general assumptions)"]
["Kind:","Cell summation","Calculation"]
["Formula:","=SUM(x1)","=IF(x2,x1/x2,x3/x4/24)"]
[]
[null,null,"Normalised split of rate 1 units by special distribution time band"]
[null,"Total split","Black","Yellow","Green"]
["NHH UMS category A",{"$f":"SUM($B305:$D305)","v":1},{"$f":"IF($B1993,B305/$B1993,C$1980/$F$14/24)","v":2.9311076178356665E-2},0.37306092022856002,0.59762800359308332]
["NHH UMS category B",{"$f":"SUM($B306:$D306)","v":1},5.0432747136262314E-2,9.024866969588996E-2,0.8593185831678477]
["NHH UMS category C",{"$f":"SUM($B307:$D307)","v":1},9.6185231748668151E-2,0.16334039820901594,0.74047437004231587]
["NHH UMS category D",{"$f":"SUM($B308:$D308)","v":1},8.830567560272817E-3,0.63540611125889146,0.35576332118083581]
[]
["2446. Split of rate 1 units between special distribution time bands"]
["Data sources:"]
["x1 = 2445. Normalised split of rate 1 units by special distribution time band (in Normalisation of split of rate 1 units by special time band)"]
["x2 = Split of rate 1 units between special distribution time bands (default)"]
["Combine tables = x1 or x2"]
[]
[null,"Black","Yellow","Green"]
["NHH UMS category A",{"$f":"C$1993","v":2.9311076178356665E-2},{"$f":"D$1993","v":0.37306092022856002},{"$f":"E$1993","v":0.59762800359308332}]
["NHH UMS category B",{"$f":"C$1994","v":5.0432747136262314E-2},{"$f":"D$1994","v":9.024866969588996E-2},{"$f":"E$1994","v":0.8593185831678477}]
["NHH UMS category C",{"$f":"C$1995","v":9.6185231748668151E-2},{"$f":"D$1995","v":0.16334039820901594},{"$f":"E$1995","v":0.74047437004231587}]
["NHH UMS category D",{"$f":"C$1996","v":8.830567560272817E-3},{"$f":"D$1996","v":0.63540611125889146},{"$f":"E$1996","v":0.35576332118083581}]
["LV UMS (Pseudo HH Metered)",1,0,0]
[]
["2447. Split of rate 2 units between special distribution time bands (default)"]
[]
[null,"Black","Yellow","Green"]
["LV UMS (Pseudo HH Metered)",0,1,0]
[]
["2448. Split of rate 3 units between special distribution time bands (default)"]
[]
[null,"Black","Yellow","Green"]
["LV UMS (Pseudo HH Metered)",0,0,1]
[]
["2449. Calculation of implied special load coefficients for one-rate users"]
["Data sources:"]
["x1 = 2407. All units (MWh)"]
["x2 = 2305. Rate 1 units (MWh) (in Equivalent volume for each end user)"]
["x3 = 2446. Split of rate 1 units between special distribution time bands"]
["x4 = 2444. Annual hours by special distribution time band (reconciled to days in year) (in Adjust annual hours by special distribution time band to match days in year)"]
["x5 = Use of special distribution time bands by units in demand forecast for one-rate tariffs (in Calculation of implied special load coefficients for one-rate users)"]
["x6 = 1010. Days in the charging year (in Financial and general assumptions)"]
["Kind:","Calculation",null,null,"Calculation"]
["Formula:","=IF(x1>0,(x2*x3)/x1,0)",null,null,"=IF(x4>0,x5*x6*24/x4,0)"]
[]
[null,"Use of special distribution time bands by units in demand forecast for one-rate tariffs"]
[null,"Black","Yellow","Green","Peak band special load coefficient for one-rate tariffs"]
["NHH UMS category A",{"$f":"IF($B$1443>0,($B$1282*B$2005)/$B$1443,0)","v":2.9311076178356665E-2},{"$f":"IF($B$1443>0,($B$1282*C$2005)/$B$1443,0)","v":0.37306092022856002},{"$f":"IF($B$1443>0,($B$1282*D$2005)/$B$1443,0)","v":0.59762800359308332},{"$f":"IF($C$1980>0,$B2034*$F$14*24/$C$1980,0)","v":0.9952132841953657}]
["NHH UMS category B",{"$f":"IF($B$1444>0,($B$1283*B$2006)/$B$1444,0)","v":5.0432747136262314E-2},{"$f":"IF($B$1444>0,($B$1283*C$2006)/$B$1444,0)","v":9.024866969588996E-2},{"$f":"IF($B$1444>0,($B$1283*D$2006)/$B$1444,0)","v":0.8593185831678477},{"$f":"IF($C$1980>0,$B2035*$F$14*24/$C$1980,0)","v":1.7123676934637901}]
["NHH UMS category C",{"$f":"IF($B$1445>0,($B$1284*B$2007)/$B$1445,0)","v":9.6185231748668151E-2},{"$f":"IF($B$1445>0,($B$1284*C$2007)/$B$1445,0)","v":0.16334039820901594},{"$f":"IF($B$1445>0,($B$1284*D$2007)/$B$1445,0)","v":0.74047437004231587},{"$f":"IF($C$1980>0,$B2036*$F$14*24/$C$1980,0)","v":3.265824147745477}]
["NHH UMS category D",{"$f":"IF($B$1446>0,($B$1285*B$2008)/$B$1446,0)","v":8.830567560272817E-3},{"$f":"IF($B$1446>0,($B$1285*C$2008)/$B$1446,0)","v":0.63540611125889146},{"$f":"IF($B$1446>0,($B$1285*D$2008)/$B$1446,0)","v":0.35576332118083581},{"$f":"IF($C$1980>0,$B2037*$F$14*24/$C$1980,0)","v":0.2998285729767049}]
[]
["2450. Calculation of implied special load coefficients for three-rate users"]
["Data sources:"]
["x1 = 2407. All units (MWh)"]
["x2 = 2305. Rate 1 units (MWh) (in Equivalent volume for each end user)"]
["x3 = 2446. Split of rate 1 units between special distribution time bands"]
["x4 = 2305. Rate 2 units (MWh) (in Equivalent volume for each end user)"]
["x5 = 2447. Split of rate 2 units between special distribution time bands (default)"]
["x6 = 2305. Rate 3 units (MWh) (in Equivalent volume for each end user)"]
["x7 = 2448. Split of rate 3 units between special distribution time bands (default)"]
["x8 = 2444. Annual hours by special distribution time band (reconciled to days in year) (in Adjust annual hours by special distribution time band to match days in year)"]
["x9 = Use of special distribution time bands by units in demand forecast for three-rate tariffs (in Calculation of implied special load coefficients for three-rate users)"]
["x10 = 1010. Days in the charging year (in Financial and general assumptions)"]
["Kind:","Calculation",null,null,"Calculation"]
["Formula:","=IF(x1>0,(x2*x3+x4*x5+x6*x7)/x1,0)",null,null,"=IF(x8>0,x9*x10*24/x8,0)"]
[]
[null,"Use of special distribution time bands by units in demand forecast for three-rate tariffs"]
[null,"Black","Yellow","Green","Peak band special load coefficient for three-rate tariffs"]
["LV UMS (Pseudo HH Metered)",{"$f":"IF($B$1447>0,($B$1286*B$2009+$C$1286*B$2014+$D$1286*B$2019)/$B$1447,0)","v":5.2199182901684876E-2},{"$f":"IF($B$1447>0,($B$1286*C$2009+$C$1286*C$2014+$D$1286*C$2019)/$B$1447,0)","v":0.14653877802825288},{"$f":"IF($B$1447>0,($B$1286*D$2009+$C$1286*D$2014+$D$1286*D$2019)/$B$1447,0)","v":0.80126203907006222},{"$f":"IF($C$1980>0,$B2056*$F$14*24/$C$1980,0)","v":1.7723443496851146}]
[]
["2451. Estimated contributions to peak demand"]
["Data sources:"]
["x1 = 2449. Peak band special load coefficient for one-rate tariffs (in Calculation of implied special load coefficients for one-rate users)"]
["x2 = 2450. Peak band special load coefficient for three-rate tariffs (in Calculation of implied special load coefficients for three-rate users)"]
["x3 = Peak band special load coefficient (in Estimated contributions to peak demand)"]
["x4 = 2407. All units (MWh)"]
["x5 = 1010. Days in the charging year (in Financial and general assumptions)"]
["x6 = 2302. Load coefficient"]
["Kind:","Combine tables","Calculation","Calculation"]
["Formula:","= x1 or x2","=x3*x4/24/x5*1000","=x6*x4/24/x5*1000"]
[]
[null,"Peak band special load coefficient","Contribution to peak band kW","Contribution to system-peak-time kW"]
["NHH UMS category A",{"$f":"E$2034","v":0.9952132841953657},{"$f":"B2070*$B$1443/24/$F$14*1000","v":3931.4256609030681},{"$f":"B$994*B$1443/24/F$14*1000","v":3950.3347908801716}]
["NHH UMS category B",{"$f":"E$2035","v":1.7123676934637901},{"$f":"B2071*$B$1444/24/$F$14*1000","v":4497.8625199779945},{"$f":"B$995*B$1444/24/F$14*1000","v":5556.6895237928829}]
["NHH UMS category C",{"$f":"E$2036","v":3.265824147745477},{"$f":"B2072*$B$1445/24/$F$14*1000","v":126.42072689018572},{"$f":"B$996*B$1445/24/F$14*1000","v":159.0435739937993}]
["NHH UMS category D",{"$f":"E$2037","v":0.2998285729767049},{"$f":"B2073*$B$1446/24/$F$14*1000","v":246.72729269989992},{"$f":"B$997*B$1446/24/F$14*1000","v":8.6250143885125574}]
["LV UMS (Pseudo HH Metered)",{"$f":"E$2056","v":1.7723443496851146},{"$f":"B2074*$B$1447/24/$F$14*1000","v":46869.870029972604},{"$f":"B$998*B$1447/24/F$14*1000","v":56937.054769006856}]
[]
["2452. Load coefficient correction factor for the group"]
["Data sources:"]
["x1 = 2451. Contribution to peak band kW (in Estimated contributions to peak demand)"]
["x2 = 2451. Contribution to system-peak-time kW (in Estimated contributions to peak demand)"]
["Calculation =IF(SUM(x1),SUM(x2)/SUM(x1),0)"]
[]
[null,"Load coefficient correction factor for the group"]
["Load coefficient correction factor for the group",{"$f":"IF(SUM($C$2070:$C$2074),SUM($D$2070:$D$2074)/SUM($C$2070:$C$2074),0)","v":1.1964970051058592}]
[]
["2453. Calculation of special peaking probabilities"]
["Data sources:"]
["x1 = 2412. Normalised peaking probabilities (in Normalisation of peaking probabilities)"]
["x2 = 1069. Black peaking probabilities (in Peaking probabilities by network level)"]
["x3 = Amber peaking probabilities (in Calculation of special peaking probabilities)"]
["x4 = Red peaking probabilities (in Calculation of special peaking probabilities)"]
["x5 = 2412. Total probability (should be 100%) (in Normalisation of peaking probabilities)"]
["x6 = Yellow peaking probabilities (in Calculation of special peaking probabilities)"]
["x7 = Green peaking probabilities (in Calculation of special peaking probabilities)"]
["Kind:","Copy cells","Copy cells","Copy cells","Calculation","Calculation"]
["Formula:","=x1","=x1","=x1","=IF(x2,MAX(0,x3+x4-x2),IF(x5,1/0,0))","=1-x6-x7"]
[]
[null,"Red peaking probabilities","Amber peaking probabilities","Green peaking probabilities","Yellow peaking probabilities","Black peaking probabilities"]
["GSPs",{"$f":"$C1566","v":1},{"$f":"$D1566","v":0},{"$f":"$E1566","v":0},{"$f":"IF($E329,MAX(0,$C2098+$B2098-$E329),IF($B1566,1/0,0))","v":0},{"$f":"1-$E2098-$D2098","v":1}]
["132kV",0.78083657486559999,0.20804160459605275,1.1121820538347097E-2,0.2212327657400559,0.767645413721597]
["132kV/EHV",0.78083657486559999,0.20804160459605275,1.1121820538347097E-2,0.2212327657400559,0.767645413721597]
["EHV",0.66321603936627427,0.2978698720055013,3.8914088628224548E-2,0.30852557111691581,0.65256034025485965]
["EHV/HV",0.66321603936627427,0.2978698720055013,3.8914088628224548E-2,0.30852557111691581,0.65256034025485965]
["132kV/HV",0.78083657486559999,0.20804160459605275,1.1121820538347097E-2,0.2212327657400559,0.767645413721597]
["HV",0.66321603936627427,0.2978698720055013,3.8914088628224548E-2,0.30852557111691581,0.65256034025485965]
["HV/LV",0.66321603936627427,0.2978698720055013,3.8914088628224548E-2,0.30852557111691581,0.65256034025485965]
["LV circuits",0.66321603936627427,0.2978698720055013,3.8914088628224548E-2,0.30852557111691581,0.65256034025485965]
[]
["2454. Special peaking probabilities by network level"]
["Data sources:"]
["x1 = 2453. Green peaking probabilities (in Calculation of special peaking probabilities)"]
["x2 = 2453. Yellow peaking probabilities (in Calculation of special peaking probabilities)"]
["x3 = 2453. Black peaking probabilities (in Calculation of special peaking probabilities)"]
["Combine tables = x1 or x2 or x3"]
[]
[null,"Black","Yellow","Green"]
["GSPs",{"$f":"$F$2098","v":1},{"$f":"$E$2098","v":0},{"$f":"$D$2098","v":0}]
["132kV",{"$f":"$F$2099","v":0.767645413721597},{"$f":"$E$2099","v":0.2212327657400559},{"$f":"$D$2099","v":1.1121820538347097E-2}]
["132kV/EHV",{"$f":"$F$2100","v":0.767645413721597},{"$f":"$E$2100","v":0.2212327657400559},{"$f":"$D$2100","v":1.1121820538347097E-2}]
["EHV",{"$f":"$F$2101","v":0.65256034025485965},{"$f":"$E$2101","v":0.30852557111691581},{"$f":"$D$2101","v":3.8914088628224548E-2}]
["EHV/HV",{"$f":"$F$2102","v":0.65256034025485965},{"$f":"$E$2102","v":0.30852557111691581},{"$f":"$D$2102","v":3.8914088628224548E-2}]
["132kV/HV",{"$f":"$F$2103","v":0.767645413721597},{"$f":"$E$2103","v":0.2212327657400559},{"$f":"$D$2103","v":1.1121820538347097E-2}]
["HV",{"$f":"$F$2104","v":0.65256034025485965},{"$f":"$E$2104","v":0.30852557111691581},{"$f":"$D$2104","v":3.8914088628224548E-2}]
["HV/LV",{"$f":"$F$2105","v":0.65256034025485965},{"$f":"$E$2105","v":0.30852557111691581},{"$f":"$D$2105","v":3.8914088628224548E-2}]
["LV circuits",{"$f":"$F$2106","v":0.65256034025485965},{"$f":"$E$2106","v":0.30852557111691581},{"$f":"$D$2106","v":3.8914088628224548E-2}]
[]
["2455. Special peaking probabilities by network level (reshaped)"]
["Data sources:"]
["x1 = 2454. Special peaking probabilities by network level"]
["Reshape table = x1"]
[]
[null,"GSPs","Black","Yellow","Green","132kV","Black","Yellow","Green","132kV/EHV","Black","Yellow","Green","EHV","Black","Yellow","Green","EHV/HV","Black","Yellow","Green","132kV/HV","Black","Yellow","Green","HV","Black","Yellow","Green","HV/LV","Black","Yellow","Green","LV circuits","Black","Yellow","Green"]
["Probability of peak within timeband",null,{"$f":"B$2116","v":1},{"$f":"C$2116","v":0},{"$f":"D$2116","v":0},null,{"$f":"B$2117","v":0.767645413721597},{"$f":"C$2117","v":0.2212327657400559},{"$f":"D$2117","v":1.1121820538347097E-2},null,{"$f":"B$2118","v":0.767645413721597},{"$f":"C$2118","v":0.2212327657400559},{"$f":"D$2118","v":1.1121820538347097E-2},null,{"$f":"B$2119","v":0.65256034025485965},{"$f":"C$2119","v":0.30852557111691581},{"$f":"D$2119","v":3.8914088628224548E-2},null,{"$f":"B$2120","v":0.65256034025485965},{"$f":"C$2120","v":0.30852557111691581},{"$f":"D$2120","v":3.8914088628224548E-2},null,{"$f":"B$2121","v":0.767645413721597},{"$f":"C$2121","v":0.2212327657400559},{"$f":"D$2121","v":1.1121820538347097E-2},null,{"$f":"B$2122","v":0.65256034025485965},{"$f":"C$2122","v":0.30852557111691581},{"$f":"D$2122","v":3.8914088628224548E-2},null,{"$f":"B$2123","v":0.65256034025485965},{"$f":"C$2123","v":0.30852557111691581},{"$f":"D$2123","v":3.8914088628224548E-2},null,{"$f":"B$2124","v":0.65256034025485965},{"$f":"C$2124","v":0.30852557111691581},{"$f":"D$2124","v":3.8914088628224548E-2}]
[]
["2456. Pseudo load coefficient by special time band and network level"]
["Data sources:"]
["x1 = 2444. Annual hours by special distribution time band (reconciled to days in year) (in Adjust annual hours by special distribution time band to match days in year)"]
["x2 = 2452. Load coefficient correction factor for the group"]
["x3 = 2455. Special peaking probabilities by network level (reshaped)"]
["x4 = 1010. Days in the charging year (in Financial and general assumptions)"]
["Calculation =IF(x1>0,x2*x3*24*x4/x1,0)"]
[]
[null,"GSPs","Black","Yellow","Green","132kV","Black","Yellow","Green","132kV/EHV","Black","Yellow","Green","EHV","Black","Yellow","Green","EHV/HV","Black","Yellow","Green","132kV/HV","Black","Yellow","Green","HV","Black","Yellow","Green","HV/LV","Black","Yellow","Green","LV circuits","Black","Yellow","Green"]
["Pseudo load coefficient by special time band and network level",null,{"$f":"IF(C1980>0,$B2083*C2132*24*$F14/C1980,0)","v":40.62524715010592},{"$f":"IF(D1980>0,$B2083*D2132*24*$F14/D1980,0)","v":0},{"$f":"IF(E1980>0,$B2083*E2132*24*$F14/E1980,0)","v":0},null,{"$f":"IF(C1980>0,$B2083*G2132*24*$F14/C1980,0)","v":31.18578465608519},{"$f":"IF(D1980>0,$B2083*H2132*24*$F14/D1980,0)","v":0.71009341073647037},{"$f":"IF(E1980>0,$B2083*I2132*24*$F14/E1980,0)","v":2.2261298710475417E-2},null,{"$f":"IF(C1980>0,$B2083*K2132*24*$F14/C1980,0)","v":31.18578465608519},{"$f":"IF(D1980>0,$B2083*L2132*24*$F14/D1980,0)","v":0.71009341073647037},{"$f":"IF(E1980>0,$B2083*M2132*24*$F14/E1980,0)","v":2.2261298710475417E-2},null,{"$f":"IF(C1980>0,$B2083*O2132*24*$F14/C1980,0)","v":26.510425103210885},{"$f":"IF(D1980>0,$B2083*P2132*24*$F14/D1980,0)","v":0.99027815505070871},{"$f":"IF(E1980>0,$B2083*Q2132*24*$F14/E1980,0)","v":7.788995947308873E-2},null,{"$f":"IF(C1980>0,$B2083*S2132*24*$F14/C1980,0)","v":26.510425103210885},{"$f":"IF(D1980>0,$B2083*T2132*24*$F14/D1980,0)","v":0.99027815505070871},{"$f":"IF(E1980>0,$B2083*U2132*24*$F14/E1980,0)","v":7.788995947308873E-2},null,{"$f":"IF(C1980>0,$B2083*W2132*24*$F14/C1980,0)","v":31.18578465608519},{"$f":"IF(D1980>0,$B2083*X2132*24*$F14/D1980,0)","v":0.71009341073647037},{"$f":"IF(E1980>0,$B2083*Y2132*24*$F14/E1980,0)","v":2.2261298710475417E-2},null,{"$f":"IF(C1980>0,$B2083*AA2132*24*$F14/C1980,0)","v":26.510425103210885},{"$f":"IF(D1980>0,$B2083*AB2132*24*$F14/D1980,0)","v":0.99027815505070871},{"$f":"IF(E1980>0,$B2083*AC2132*24*$F14/E1980,0)","v":7.788995947308873E-2},null,{"$f":"IF(C1980>0,$B2083*AE2132*24*$F14/C1980,0)","v":26.510425103210885},{"$f":"IF(D1980>0,$B2083*AF2132*24*$F14/D1980,0)","v":0.99027815505070871},{"$f":"IF(E1980>0,$B2083*AG2132*24*$F14/E1980,0)","v":7.788995947308873E-2},null,{"$f":"IF(C1980>0,$B2083*AI2132*24*$F14/C1980,0)","v":26.510425103210885},{"$f":"IF(D1980>0,$B2083*AJ2132*24*$F14/D1980,0)","v":0.99027815505070871},{"$f":"IF(E1980>0,$B2083*AK2132*24*$F14/E1980,0)","v":7.788995947308873E-2}]
[]
["2457. Unit rate 1 pseudo load coefficient by network level (special)"]
["Data sources:"]
["x1 = 2456. Pseudo load coefficient by special time band and network level"]
["x2 = 2446. Split of rate 1 units between special distribution time bands"]
["Sum-product calculation =SUMPRODUCT(x1, x2)"]
[]
[null,"GSPs","132kV","132kV/EHV","EHV","EHV/HV","132kV/HV","HV","HV/LV","LV circuits"]
["NHH UMS category A",{"$f":"SUMPRODUCT($C$2143:$E$2143,$B2005:$D2005)","v":1.1907697139813216},{"$f":"SUMPRODUCT($G$2143:$I$2143,$B2005:$D2005)","v":1.1923009864996545},{"$f":"SUMPRODUCT($K$2143:$M$2143,$B2005:$D2005)","v":1.1923009864996545},{"$f":"SUMPRODUCT($O$2143:$Q$2143,$B2005:$D2005)","v":1.1930323905061393},{"$f":"SUMPRODUCT($S$2143:$U$2143,$B2005:$D2005)","v":1.1930323905061393},{"$f":"SUMPRODUCT($W$2143:$Y$2143,$B2005:$D2005)","v":1.1923009864996545},{"$f":"SUMPRODUCT($AA$2143:$AC$2143,$B2005:$D2005)","v":1.1930323905061393},{"$f":"SUMPRODUCT($AE$2143:$AG$2143,$B2005:$D2005)","v":1.1930323905061393},{"$f":"SUMPRODUCT($AI$2143:$AK$2143,$B2005:$D2005)","v":1.1930323905061393}]
["NHH UMS category B",{"$f":"SUMPRODUCT($C$2143:$E$2143,$B2006:$D2006)","v":2.048842816869453},{"$f":"SUMPRODUCT($G$2143:$I$2143,$B2006:$D2006)","v":1.6559993251524194},{"$f":"SUMPRODUCT($K$2143:$M$2143,$B2006:$D2006)","v":1.6559993251524194},{"$f":"SUMPRODUCT($O$2143:$Q$2143,$B2006:$D2006)","v":1.4932971414446976},{"$f":"SUMPRODUCT($S$2143:$U$2143,$B2006:$D2006)","v":1.4932971414446976},{"$f":"SUMPRODUCT($W$2143:$Y$2143,$B2006:$D2006)","v":1.6559993251524194},{"$f":"SUMPRODUCT($AA$2143:$AC$2143,$B2006:$D2006)","v":1.4932971414446976},{"$f":"SUMPRODUCT($AE$2143:$AG$2143,$B2006:$D2006)","v":1.4932971414446976},{"$f":"SUMPRODUCT($AI$2143:$AK$2143,$B2006:$D2006)","v":1.4932971414446976}]
["NHH UMS category C",{"$f":"SUMPRODUCT($C$2143:$E$2143,$B2007:$D2007)","v":3.9075488119798583},{"$f":"SUMPRODUCT($G$2143:$I$2143,$B2007:$D2007)","v":3.1320827860238696},{"$f":"SUMPRODUCT($K$2143:$M$2143,$B2007:$D2007)","v":3.1320827860238696},{"$f":"SUMPRODUCT($O$2143:$Q$2143,$B2007:$D2007)","v":2.7693393291651778},{"$f":"SUMPRODUCT($S$2143:$U$2143,$B2007:$D2007)","v":2.7693393291651778},{"$f":"SUMPRODUCT($W$2143:$Y$2143,$B2007:$D2007)","v":3.1320827860238696},{"$f":"SUMPRODUCT($AA$2143:$AC$2143,$B2007:$D2007)","v":2.7693393291651778},{"$f":"SUMPRODUCT($AE$2143:$AG$2143,$B2007:$D2007)","v":2.7693393291651778},{"$f":"SUMPRODUCT($AI$2143:$AK$2143,$B2007:$D2007)","v":2.7693393291651778}]
["NHH UMS category D",{"$f":"SUMPRODUCT($C$2143:$E$2143,$B2008:$D2008)","v":0.35874398961179105},{"$f":"SUMPRODUCT($G$2143:$I$2143,$B2008:$D2008)","v":0.73450562463534042},{"$f":"SUMPRODUCT($K$2143:$M$2143,$B2008:$D2008)","v":0.73450562463534042},{"$f":"SUMPRODUCT($O$2143:$Q$2143,$B2008:$D2008)","v":0.89104128215964329},{"$f":"SUMPRODUCT($S$2143:$U$2143,$B2008:$D2008)","v":0.89104128215964329},{"$f":"SUMPRODUCT($W$2143:$Y$2143,$B2008:$D2008)","v":0.73450562463534042},{"$f":"SUMPRODUCT($AA$2143:$AC$2143,$B2008:$D2008)","v":0.89104128215964329},{"$f":"SUMPRODUCT($AE$2143:$AG$2143,$B2008:$D2008)","v":0.89104128215964329},{"$f":"SUMPRODUCT($AI$2143:$AK$2143,$B2008:$D2008)","v":0.89104128215964329}]
["LV UMS (Pseudo HH Metered)",{"$f":"SUMPRODUCT($C$2143:$E$2143,$B2009:$D2009)","v":40.62524715010592},{"$f":"SUMPRODUCT($G$2143:$I$2143,$B2009:$D2009)","v":31.18578465608519},{"$f":"SUMPRODUCT($K$2143:$M$2143,$B2009:$D2009)","v":31.18578465608519},{"$f":"SUMPRODUCT($O$2143:$Q$2143,$B2009:$D2009)","v":26.510425103210885},{"$f":"SUMPRODUCT($S$2143:$U$2143,$B2009:$D2009)","v":26.510425103210885},{"$f":"SUMPRODUCT($W$2143:$Y$2143,$B2009:$D2009)","v":31.18578465608519},{"$f":"SUMPRODUCT($AA$2143:$AC$2143,$B2009:$D2009)","v":26.510425103210885},{"$f":"SUMPRODUCT($AE$2143:$AG$2143,$B2009:$D2009)","v":26.510425103210885},{"$f":"SUMPRODUCT($AI$2143:$AK$2143,$B2009:$D2009)","v":26.510425103210885}]
[]
["2458. Unit rate 2 pseudo load coefficient by network level (special)"]
["Data sources:"]
["x1 = 2456. Pseudo load coefficient by special time band and network level"]
["x2 = 2447. Split of rate 2 units between special distribution time bands (default)"]
["Sum-product calculation =SUMPRODUCT(x1, x2)"]
[]
[null,"GSPs","132kV","132kV/EHV","EHV","EHV/HV","132kV/HV","HV","HV/LV","LV circuits"]
["LV UMS (Pseudo HH Metered)",{"$f":"SUMPRODUCT($C$2143:$E$2143,$B2014:$D2014)","v":0},{"$f":"SUMPRODUCT($G$2143:$I$2143,$B2014:$D2014)","v":0.71009341073647037},{"$f":"SUMPRODUCT($K$2143:$M$2143,$B2014:$D2014)","v":0.71009341073647037},{"$f":"SUMPRODUCT($O$2143:$Q$2143,$B2014:$D2014)","v":0.99027815505070871},{"$f":"SUMPRODUCT($S$2143:$U$2143,$B2014:$D2014)","v":0.99027815505070871},{"$f":"SUMPRODUCT($W$2143:$Y$2143,$B2014:$D2014)","v":0.71009341073647037},{"$f":"SUMPRODUCT($AA$2143:$AC$2143,$B2014:$D2014)","v":0.99027815505070871},{"$f":"SUMPRODUCT($AE$2143:$AG$2143,$B2014:$D2014)","v":0.99027815505070871},{"$f":"SUMPRODUCT($AI$2143:$AK$2143,$B2014:$D2014)","v":0.99027815505070871}]
[]
["2459. Unit rate 3 pseudo load coefficient by network level (special)"]
["Data sources:"]
["x1 = 2456. Pseudo load coefficient by special time band and network level"]
["x2 = 2448. Split of rate 3 units between special distribution time bands (default)"]
["Sum-product calculation =SUMPRODUCT(x1, x2)"]
[]
[null,"GSPs","132kV","132kV/EHV","EHV","EHV/HV","132kV/HV","HV","HV/LV","LV circuits"]
["LV UMS (Pseudo HH Metered)",{"$f":"SUMPRODUCT($C$2143:$E$2143,$B2019:$D2019)","v":0},{"$f":"SUMPRODUCT($G$2143:$I$2143,$B2019:$D2019)","v":2.2261298710475417E-2},{"$f":"SUMPRODUCT($K$2143:$M$2143,$B2019:$D2019)","v":2.2261298710475417E-2},{"$f":"SUMPRODUCT($O$2143:$Q$2143,$B2019:$D2019)","v":7.788995947308873E-2},{"$f":"SUMPRODUCT($S$2143:$U$2143,$B2019:$D2019)","v":7.788995947308873E-2},{"$f":"SUMPRODUCT($W$2143:$Y$2143,$B2019:$D2019)","v":2.2261298710475417E-2},{"$f":"SUMPRODUCT($AA$2143:$AC$2143,$B2019:$D2019)","v":7.788995947308873E-2},{"$f":"SUMPRODUCT($AE$2143:$AG$2143,$B2019:$D2019)","v":7.788995947308873E-2},{"$f":"SUMPRODUCT($AI$2143:$AK$2143,$B2019:$D2019)","v":7.788995947308873E-2}]
[]
["2460. Unit rate 1 pseudo load coefficient by network level (combined)"]
["Data sources:"]
["x1 = 2441. Unit rate 1 pseudo load coefficient by network level"]
["x2 = 2457. Unit rate 1 pseudo load coefficient by network level (special)"]
["Combine tables = x1 or x2"]
[]
[null,"GSPs","132kV","132kV/EHV","EHV","EHV/HV","132kV/HV","HV","HV/LV","LV circuits"]
["Domestic Unrestricted",{"$f":"$B$1906","v":2.0719242662667434},{"$f":"$C$1906","v":1.9699166414556639},{"$f":"$D$1906","v":1.9699166414556639},{"$f":"$E$1906","v":1.9011311666820792},{"$f":"$F$1906","v":1.9011311666820792},{"$f":"$G$1906","v":1.9699166414556639},{"$f":"$H$1906","v":1.9011311666820792},{"$f":"$I$1906","v":1.9011311666820792},{"$f":"$J$1906","v":1.9011311666820792}]
["Domestic Two Rate",{"$f":"$B$1907","v":2.4723083918246842},{"$f":"$C$1907","v":2.3496266903278573},{"$f":"$D$1907","v":2.3496266903278573},{"$f":"$E$1907","v":2.2638756792462775},{"$f":"$F$1907","v":2.2638756792462775},{"$f":"$G$1907","v":2.3496266903278573},{"$f":"$H$1907","v":2.2638756792462775},{"$f":"$I$1907","v":2.2638756792462775},{"$f":"$J$1907","v":2.2638756792462775}]
["Domestic Off Peak (related MPAN)",{"$f":"$B$1908","v":0.50138509662645003},{"$f":"$C$1908","v":0.61929669090506634},{"$f":"$D$1908","v":0.61929669090506634},{"$f":"$E$1908","v":0.68292177639565954},{"$f":"$F$1908","v":0.68292177639565954},{"$f":"$G$1908","v":0.61929669090506634},{"$f":"$H$1908","v":0.68292177639565954},{"$f":"$I$1908","v":0.68292177639565954},{"$f":"$J$1908","v":0.68292177639565954}]
["Small Non Domestic Unrestricted",{"$f":"$B$1909","v":1.9279161240257183},{"$f":"$C$1909","v":2.0186462011650423},{"$f":"$D$1909","v":2.0186462011650423},{"$f":"$E$1909","v":2.0309020927168651},{"$f":"$F$1909","v":2.0309020927168651},{"$f":"$G$1909","v":2.0186462011650423},{"$f":"$H$1909","v":2.0309020927168651},{"$f":"$I$1909","v":2.0309020927168651},{"$f":"$J$1909","v":2.0309020927168651}]
["Small Non Domestic Two Rate",{"$f":"$B$1910","v":2.0960267541826787},{"$f":"$C$1910","v":2.1471931808233653},{"$f":"$D$1910","v":2.1471931808233653},{"$f":"$E$1910","v":2.1412559986107436},{"$f":"$F$1910","v":2.1412559986107436},{"$f":"$G$1910","v":2.1471931808233653},{"$f":"$H$1910","v":2.1412559986107436},{"$f":"$I$1910","v":2.1412559986107436},{"$f":"$J$1910","v":2.1412559986107436}]
["Small Non Domestic Off Peak (related MPAN)",{"$f":"$B$1911","v":0.18650803006176817},{"$f":"$C$1911","v":0.28383461676578536},{"$f":"$D$1911","v":0.28383461676578536},{"$f":"$E$1911","v":0.3522725924434677},{"$f":"$F$1911","v":0.3522725924434677},{"$f":"$G$1911","v":0.28383461676578536},{"$f":"$H$1911","v":0.3522725924434677},{"$f":"$I$1911","v":0.3522725924434677},{"$f":"$J$1911","v":0.3522725924434677}]
["LV Medium Non-Domestic",{"$f":"$B$1912","v":2.0397872022835264},{"$f":"$C$1912","v":2.072051674776632},{"$f":"$D$1912","v":2.072051674776632},{"$f":"$E$1912","v":2.0564824727117941},{"$f":"$F$1912","v":2.0564824727117941},{"$f":"$G$1912","v":2.072051674776632},{"$f":"$H$1912","v":2.0564824727117941},{"$f":"$I$1912","v":2.0564824727117941},{"$f":"$J$1912","v":2.0564824727117941}]
["LV Sub Medium Non-Domestic",{"$f":"$B$1913","v":2.0636340087589415},{"$f":"$C$1913","v":2.0999497240278577},{"$f":"$D$1913","v":2.0999497240278577},{"$f":"$E$1913","v":2.0862957375983955},{"$f":"$F$1913","v":2.0862957375983955},{"$f":"$G$1913","v":2.0999497240278577},{"$f":"$H$1913","v":2.0862957375983955},{"$f":"$I$1913","v":2.0862957375983955},{"$f":"$J$1913","v":2.0862957375983955}]
["HV Medium Non-Domestic",{"$f":"$B$1914","v":2.0887506094713717},{"$f":"$C$1914","v":2.1429690901718104},{"$f":"$D$1914","v":2.1429690901718104},{"$f":"$E$1914","v":2.1358792492688523},{"$f":"$F$1914","v":2.1358792492688523},{"$f":"$G$1914","v":2.1429690901718104},{"$f":"$H$1914","v":2.1358792492688523},{"$f":"$I$1914","v":2.1358792492688523},{"$f":"$J$1914","v":2.1358792492688523}]
["LV Network Domestic",{"$f":"$B$1915","v":15.032115900732109},{"$f":"$C$1915","v":11.737430091253334},{"$f":"$D$1915","v":11.737430091253334},{"$f":"$E$1915","v":9.9716082832590587},{"$f":"$F$1915","v":9.9716082832590587},{"$f":"$G$1915","v":11.737430091253334},{"$f":"$H$1915","v":9.9716082832590587},{"$f":"$I$1915","v":9.9716082832590587},{"$f":"$J$1915","v":9.9716082832590587}]
["LV Network Non-Domestic Non-CT",{"$f":"$B$1916","v":16.004514763245879},{"$f":"$C$1916","v":12.493673165031314},{"$f":"$D$1916","v":12.493673165031314},{"$f":"$E$1916","v":10.611625774755753},{"$f":"$F$1916","v":10.611625774755753},{"$f":"$G$1916","v":12.493673165031314},{"$f":"$H$1916","v":10.611625774755753},{"$f":"$I$1916","v":10.611625774755753},{"$f":"$J$1916","v":10.611625774755753}]
["LV HH Metered",{"$f":"$B$1917","v":13.606006080846958},{"$f":"$C$1917","v":10.624067185769063},{"$f":"$D$1917","v":10.624067185769063},{"$f":"$E$1917","v":9.0237214645327626},{"$f":"$F$1917","v":9.0237214645327626},{"$f":"$G$1917","v":10.624067185769063},{"$f":"$H$1917","v":9.0237214645327626},{"$f":"$I$1917","v":9.0237214645327626},{"$f":"$J$1917","v":9.0237214645327626}]
["LV Sub HH Metered",{"$f":"$B$1918","v":13.544107095040831},{"$f":"$C$1918","v":10.575734193704553},{"$f":"$D$1918","v":10.575734193704553},{"$f":"$E$1918","v":8.9826690643256324},{"$f":"$F$1918","v":8.9826690643256324},{"$f":"$G$1918","v":10.575734193704553},{"$f":"$H$1918","v":8.9826690643256324},{"$f":"$I$1918","v":8.9826690643256324},{"$f":"$J$1918","v":8.9826690643256324}]
["HV HH Metered",{"$f":"$B$1919","v":12.18479262859543},{"$f":"$C$1919","v":9.5143317415600652},{"$f":"$D$1919","v":9.5143317415600652},{"$f":"$E$1919","v":8.0811499076364353},{"$f":"$F$1919","v":8.0811499076364353},{"$f":"$G$1919","v":9.5143317415600652},{"$f":"$H$1919","v":8.0811499076364353},{"$f":"$I$1919","v":8.0811499076364353},{"$f":"$J$1919","v":8.0811499076364353}]
["NHH UMS category A",{"$f":"$B$2152","v":1.1907697139813216},{"$f":"$C$2152","v":1.1923009864996545},{"$f":"$D$2152","v":1.1923009864996545},{"$f":"$E$2152","v":1.1930323905061393},{"$f":"$F$2152","v":1.1930323905061393},{"$f":"$G$2152","v":1.1923009864996545},{"$f":"$H$2152","v":1.1930323905061393},{"$f":"$I$2152","v":1.1930323905061393},{"$f":"$J$2152","v":1.1930323905061393}]
["NHH UMS category B",{"$f":"$B$2153","v":2.048842816869453},{"$f":"$C$2153","v":1.6559993251524194},{"$f":"$D$2153","v":1.6559993251524194},{"$f":"$E$2153","v":1.4932971414446976},{"$f":"$F$2153","v":1.4932971414446976},{"$f":"$G$2153","v":1.6559993251524194},{"$f":"$H$2153","v":1.4932971414446976},{"$f":"$I$2153","v":1.4932971414446976},{"$f":"$J$2153","v":1.4932971414446976}]
["NHH UMS category C",{"$f":"$B$2154","v":3.9075488119798583},{"$f":"$C$2154","v":3.1320827860238696},{"$f":"$D$2154","v":3.1320827860238696},{"$f":"$E$2154","v":2.7693393291651778},{"$f":"$F$2154","v":2.7693393291651778},{"$f":"$G$2154","v":3.1320827860238696},{"$f":"$H$2154","v":2.7693393291651778},{"$f":"$I$2154","v":2.7693393291651778},{"$f":"$J$2154","v":2.7693393291651778}]
["NHH UMS category D",{"$f":"$B$2155","v":0.35874398961179105},{"$f":"$C$2155","v":0.73450562463534042},{"$f":"$D$2155","v":0.73450562463534042},{"$f":"$E$2155","v":0.89104128215964329},{"$f":"$F$2155","v":0.89104128215964329},{"$f":"$G$2155","v":0.73450562463534042},{"$f":"$H$2155","v":0.89104128215964329},{"$f":"$I$2155","v":0.89104128215964329},{"$f":"$J$2155","v":0.89104128215964329}]
["LV UMS (Pseudo HH Metered)",{"$f":"$B$2156","v":40.62524715010592},{"$f":"$C$2156","v":31.18578465608519},{"$f":"$D$2156","v":31.18578465608519},{"$f":"$E$2156","v":26.510425103210885},{"$f":"$F$2156","v":26.510425103210885},{"$f":"$G$2156","v":31.18578465608519},{"$f":"$H$2156","v":26.510425103210885},{"$f":"$I$2156","v":26.510425103210885},{"$f":"$J$2156","v":26.510425103210885}]
["LV Generation Non-Intermittent",{"$f":"$B$1920","v":-11.187739463601533},{"$f":"$C$1920","v":-8.7357961632473256},{"$f":"$D$1920","v":-8.7357961632473256},{"$f":"$E$1920","v":-7.419888256511574},{"$f":"$F$1920","v":-7.419888256511574},{"$f":"$G$1920","v":-8.7357961632473256},{"$f":"$H$1920","v":-7.419888256511574},{"$f":"$I$1920","v":-7.419888256511574},{"$f":"$J$1920","v":-7.419888256511574}]
["LV Generation Non-Intermittent no RP charge",{"$f":"$B$1921","v":-11.187739463601533},{"$f":"$C$1921","v":-8.7357961632473256},{"$f":"$D$1921","v":-8.7357961632473256},{"$f":"$E$1921","v":-7.419888256511574},{"$f":"$F$1921","v":-7.419888256511574},{"$f":"$G$1921","v":-8.7357961632473256},{"$f":"$H$1921","v":-7.419888256511574},{"$f":"$I$1921","v":-7.419888256511574},{"$f":"$J$1921","v":-7.419888256511574}]
["LV Sub Generation Non-Intermittent",{"$f":"$B$1922","v":-11.187739463601533},{"$f":"$C$1922","v":-8.7357961632473256},{"$f":"$D$1922","v":-8.7357961632473256},{"$f":"$E$1922","v":-7.419888256511574},{"$f":"$F$1922","v":-7.419888256511574},{"$f":"$G$1922","v":-8.7357961632473256},{"$f":"$H$1922","v":-7.419888256511574},{"$f":"$I$1922","v":-7.419888256511574},{"$f":"$J$1922","v":-7.419888256511574}]
["LV Sub Generation Non-Intermittent no RP charge",{"$f":"$B$1923","v":-11.187739463601533},{"$f":"$C$1923","v":-8.7357961632473256},{"$f":"$D$1923","v":-8.7357961632473256},{"$f":"$E$1923","v":-7.419888256511574},{"$f":"$F$1923","v":-7.419888256511574},{"$f":"$G$1923","v":-8.7357961632473256},{"$f":"$H$1923","v":-7.419888256511574},{"$f":"$I$1923","v":-7.419888256511574},{"$f":"$J$1923","v":-7.419888256511574}]
["HV Generation Non-Intermittent",{"$f":"$B$1924","v":-11.187739463601533},{"$f":"$C$1924","v":-8.7357961632473256},{"$f":"$D$1924","v":-8.7357961632473256},{"$f":"$E$1924","v":-7.419888256511574},{"$f":"$F$1924","v":-7.419888256511574},{"$f":"$G$1924","v":-8.7357961632473256},{"$f":"$H$1924","v":-7.419888256511574},{"$f":"$I$1924","v":-7.419888256511574},{"$f":"$J$1924","v":-7.419888256511574}]
["HV Generation Non-Intermittent no RP charge",{"$f":"$B$1925","v":-11.187739463601533},{"$f":"$C$1925","v":-8.7357961632473256},{"$f":"$D$1925","v":-8.7357961632473256},{"$f":"$E$1925","v":-7.419888256511574},{"$f":"$F$1925","v":-7.419888256511574},{"$f":"$G$1925","v":-8.7357961632473256},{"$f":"$H$1925","v":-7.419888256511574},{"$f":"$I$1925","v":-7.419888256511574},{"$f":"$J$1925","v":-7.419888256511574}]
[]
["2461. Unit rate 2 pseudo load coefficient by network level (combined)"]
["Data sources:"]
["x1 = 2442. Unit rate 2 pseudo load coefficient by network level"]
["x2 = 2458. Unit rate 2 pseudo load coefficient by network level (special)"]
["Combine tables = x1 or x2"]
[]
[null,"GSPs","132kV","132kV/EHV","EHV","EHV/HV","132kV/HV","HV","HV/LV","LV circuits"]
["Domestic Two Rate",{"$f":"$B$1934","v":0},{"$f":"$C$1934","v":2.7151955699014303E-2},{"$f":"$D$1934","v":2.7151955699014303E-2},{"$f":"$E$1934","v":9.5001873537183326E-2},{"$f":"$F$1934","v":9.5001873537183326E-2},{"$f":"$G$1934","v":2.7151955699014303E-2},{"$f":"$H$1934","v":9.5001873537183326E-2},{"$f":"$I$1934","v":9.5001873537183326E-2},{"$f":"$J$1934","v":9.5001873537183326E-2}]
["Small Non Domestic Two Rate",{"$f":"$B$1935","v":0},{"$f":"$C$1935","v":2.7253780892158463E-2},{"$f":"$D$1935","v":2.7253780892158463E-2},{"$f":"$E$1935","v":9.5357944670709294E-2},{"$f":"$F$1935","v":9.5357944670709294E-2},{"$f":"$G$1935","v":2.7253780892158463E-2},{"$f":"$H$1935","v":9.5357944670709294E-2},{"$f":"$I$1935","v":9.5357944670709294E-2},{"$f":"$J$1935","v":9.5357944670709294E-2}]
["LV Medium Non-Domestic",{"$f":"$B$1936","v":0},{"$f":"$C$1936","v":2.4981742920573567E-2},{"$f":"$D$1936","v":2.4981742920573567E-2},{"$f":"$E$1936","v":8.7408509672212253E-2},{"$f":"$F$1936","v":8.7408509672212253E-2},{"$f":"$G$1936","v":2.4981742920573567E-2},{"$f":"$H$1936","v":8.7408509672212253E-2},{"$f":"$I$1936","v":8.7408509672212253E-2},{"$f":"$J$1936","v":8.7408509672212253E-2}]
["LV Sub Medium Non-Domestic",{"$f":"$B$1937","v":0},{"$f":"$C$1937","v":2.5616810946674465E-2},{"$f":"$D$1937","v":2.5616810946674465E-2},{"$f":"$E$1937","v":8.9630546376314152E-2},{"$f":"$F$1937","v":8.9630546376314152E-2},{"$f":"$G$1937","v":2.5616810946674465E-2},{"$f":"$H$1937","v":8.9630546376314152E-2},{"$f":"$I$1937","v":8.9630546376314152E-2},{"$f":"$J$1937","v":8.9630546376314152E-2}]
["HV Medium Non-Domestic",{"$f":"$B$1938","v":0},{"$f":"$C$1938","v":2.603674604880496E-2},{"$f":"$D$1938","v":2.603674604880496E-2},{"$f":"$E$1938","v":9.1099855445460259E-2},{"$f":"$F$1938","v":9.1099855445460259E-2},{"$f":"$G$1938","v":2.603674604880496E-2},{"$f":"$H$1938","v":9.1099855445460259E-2},{"$f":"$I$1938","v":9.1099855445460259E-2},{"$f":"$J$1938","v":9.1099855445460259E-2}]
["LV Network Domestic",{"$f":"$B$1939","v":0},{"$f":"$C$1939","v":0.89350095548432984},{"$f":"$D$1939","v":0.89350095548432984},{"$f":"$E$1939","v":1.2795837713375053},{"$f":"$F$1939","v":1.2795837713375053},{"$f":"$G$1939","v":0.89350095548432984},{"$f":"$H$1939","v":1.2795837713375053},{"$f":"$I$1939","v":1.2795837713375053},{"$f":"$J$1939","v":1.2795837713375053}]
["LV Network Non-Domestic Non-CT",{"$f":"$B$1940","v":0},{"$f":"$C$1940","v":0.95106925653027685},{"$f":"$D$1940","v":0.95106925653027685},{"$f":"$E$1940","v":1.3617125485846244},{"$f":"$F$1940","v":1.3617125485846244},{"$f":"$G$1940","v":0.95106925653027685},{"$f":"$H$1940","v":1.3617125485846244},{"$f":"$I$1940","v":1.3617125485846244},{"$f":"$J$1940","v":1.3617125485846244}]
["LV HH Metered",{"$f":"$B$1941","v":0},{"$f":"$C$1941","v":0.8087472392008721},{"$f":"$D$1941","v":0.8087472392008721},{"$f":"$E$1941","v":1.1579483685165588},{"$f":"$F$1941","v":1.1579483685165588},{"$f":"$G$1941","v":0.8087472392008721},{"$f":"$H$1941","v":1.1579483685165588},{"$f":"$I$1941","v":1.1579483685165588},{"$f":"$J$1941","v":1.1579483685165588}]
["LV Sub HH Metered",{"$f":"$B$1942","v":0},{"$f":"$C$1942","v":0.80506793510659358},{"$f":"$D$1942","v":0.80506793510659358},{"$f":"$E$1942","v":1.152680413379604},{"$f":"$F$1942","v":1.152680413379604},{"$f":"$G$1942","v":0.80506793510659358},{"$f":"$H$1942","v":1.152680413379604},{"$f":"$I$1942","v":1.152680413379604},{"$f":"$J$1942","v":1.152680413379604}]
["HV HH Metered",{"$f":"$B$1943","v":0},{"$f":"$C$1943","v":0.72426966003518534},{"$f":"$D$1943","v":0.72426966003518534},{"$f":"$E$1943","v":1.0369950344837988},{"$f":"$F$1943","v":1.0369950344837988},{"$f":"$G$1943","v":0.72426966003518534},{"$f":"$H$1943","v":1.0369950344837988},{"$f":"$I$1943","v":1.0369950344837988},{"$f":"$J$1943","v":1.0369950344837988}]
["LV UMS (Pseudo HH Metered)",{"$f":"$B$2165","v":0},{"$f":"$C$2165","v":0.71009341073647037},{"$f":"$D$2165","v":0.71009341073647037},{"$f":"$E$2165","v":0.99027815505070871},{"$f":"$F$2165","v":0.99027815505070871},{"$f":"$G$2165","v":0.71009341073647037},{"$f":"$H$2165","v":0.99027815505070871},{"$f":"$I$2165","v":0.99027815505070871},{"$f":"$J$2165","v":0.99027815505070871}]
["LV Generation Non-Intermittent",{"$f":"$B$1944","v":0},{"$f":"$C$1944","v":-0.6650043628029273},{"$f":"$D$1944","v":-0.6650043628029273},{"$f":"$E$1944","v":-0.95214014915825262},{"$f":"$F$1944","v":-0.95214014915825262},{"$f":"$G$1944","v":-0.6650043628029273},{"$f":"$H$1944","v":-0.95214014915825262},{"$f":"$I$1944","v":-0.95214014915825262},{"$f":"$J$1944","v":-0.95214014915825262}]
["LV Generation Non-Intermittent no RP charge",{"$f":"$B$1945","v":0},{"$f":"$C$1945","v":-0.6650043628029273},{"$f":"$D$1945","v":-0.6650043628029273},{"$f":"$E$1945","v":-0.95214014915825262},{"$f":"$F$1945","v":-0.95214014915825262},{"$f":"$G$1945","v":-0.6650043628029273},{"$f":"$H$1945","v":-0.95214014915825262},{"$f":"$I$1945","v":-0.95214014915825262},{"$f":"$J$1945","v":-0.95214014915825262}]
["LV Sub Generation Non-Intermittent",{"$f":"$B$1946","v":0},{"$f":"$C$1946","v":-0.6650043628029273},{"$f":"$D$1946","v":-0.6650043628029273},{"$f":"$E$1946","v":-0.95214014915825262},{"$f":"$F$1946","v":-0.95214014915825262},{"$f":"$G$1946","v":-0.6650043628029273},{"$f":"$H$1946","v":-0.95214014915825262},{"$f":"$I$1946","v":-0.95214014915825262},{"$f":"$J$1946","v":-0.95214014915825262}]
["LV Sub Generation Non-Intermittent no RP charge",{"$f":"$B$1947","v":0},{"$f":"$C$1947","v":-0.6650043628029273},{"$f":"$D$1947","v":-0.6650043628029273},{"$f":"$E$1947","v":-0.95214014915825262},{"$f":"$F$1947","v":-0.95214014915825262},{"$f":"$G$1947","v":-0.6650043628029273},{"$f":"$H$1947","v":-0.95214014915825262},{"$f":"$I$1947","v":-0.95214014915825262},{"$f":"$J$1947","v":-0.95214014915825262}]
["HV Generation Non-Intermittent",{"$f":"$B$1948","v":0},{"$f":"$C$1948","v":-0.6650043628029273},{"$f":"$D$1948","v":-0.6650043628029273},{"$f":"$E$1948","v":-0.95214014915825262},{"$f":"$F$1948","v":-0.95214014915825262},{"$f":"$G$1948","v":-0.6650043628029273},{"$f":"$H$1948","v":-0.95214014915825262},{"$f":"$I$1948","v":-0.95214014915825262},{"$f":"$J$1948","v":-0.95214014915825262}]
["HV Generation Non-Intermittent no RP charge",{"$f":"$B$1949","v":0},{"$f":"$C$1949","v":-0.6650043628029273},{"$f":"$D$1949","v":-0.6650043628029273},{"$f":"$E$1949","v":-0.95214014915825262},{"$f":"$F$1949","v":-0.95214014915825262},{"$f":"$G$1949","v":-0.6650043628029273},{"$f":"$H$1949","v":-0.95214014915825262},{"$f":"$I$1949","v":-0.95214014915825262},{"$f":"$J$1949","v":-0.95214014915825262}]
[]
["2462. Unit rate 3 pseudo load coefficient by network level (combined)"]
["Data sources:"]
["x1 = 2443. Unit rate 3 pseudo load coefficient by network level"]
["x2 = 2459. Unit rate 3 pseudo load coefficient by network level (special)"]
["Combine tables = x1 or x2"]
[]
[null,"GSPs","132kV","132kV/EHV","EHV","EHV/HV","132kV/HV","HV","HV/LV","LV circuits"]
["LV Network Domestic",{"$f":"$B$1958","v":0},{"$f":"$C$1958","v":2.4998238549048573E-2},{"$f":"$D$1958","v":2.4998238549048573E-2},{"$f":"$E$1958","v":8.7485828061564783E-2},{"$f":"$F$1958","v":8.7485828061564783E-2},{"$f":"$G$1958","v":2.4998238549048573E-2},{"$f":"$H$1958","v":8.7485828061564783E-2},{"$f":"$I$1958","v":8.7485828061564783E-2},{"$f":"$J$1958","v":8.7485828061564783E-2}]
["LV Network Non-Domestic Non-CT",{"$f":"$B$1959","v":0},{"$f":"$C$1959","v":2.6608876023554624E-2},{"$f":"$D$1959","v":2.6608876023554624E-2},{"$f":"$E$1959","v":9.3101016567462835E-2},{"$f":"$F$1959","v":9.3101016567462835E-2},{"$f":"$G$1959","v":2.6608876023554624E-2},{"$f":"$H$1959","v":9.3101016567462835E-2},{"$f":"$I$1959","v":9.3101016567462835E-2},{"$f":"$J$1959","v":9.3101016567462835E-2}]
["LV HH Metered",{"$f":"$B$1960","v":0},{"$f":"$C$1960","v":2.2627011518380424E-2},{"$f":"$D$1960","v":2.2627011518380424E-2},{"$f":"$E$1960","v":7.916955039709471E-2},{"$f":"$F$1960","v":7.916955039709471E-2},{"$f":"$G$1960","v":2.2627011518380424E-2},{"$f":"$H$1960","v":7.916955039709471E-2},{"$f":"$I$1960","v":7.916955039709471E-2},{"$f":"$J$1960","v":7.916955039709471E-2}]
["LV Sub HH Metered",{"$f":"$B$1961","v":0},{"$f":"$C$1961","v":2.252407248862481E-2},{"$f":"$D$1961","v":2.252407248862481E-2},{"$f":"$E$1961","v":7.8809377481752152E-2},{"$f":"$F$1961","v":7.8809377481752152E-2},{"$f":"$G$1961","v":2.252407248862481E-2},{"$f":"$H$1961","v":7.8809377481752152E-2},{"$f":"$I$1961","v":7.8809377481752152E-2},{"$f":"$J$1961","v":7.8809377481752152E-2}]
["HV HH Metered",{"$f":"$B$1962","v":0},{"$f":"$C$1962","v":2.0263510211450918E-2},{"$f":"$D$1962","v":2.0263510211450918E-2},{"$f":"$E$1962","v":7.0899906141132993E-2},{"$f":"$F$1962","v":7.0899906141132993E-2},{"$f":"$G$1962","v":2.0263510211450918E-2},{"$f":"$H$1962","v":7.0899906141132993E-2},{"$f":"$I$1962","v":7.0899906141132993E-2},{"$f":"$J$1962","v":7.0899906141132993E-2}]
["LV UMS (Pseudo HH Metered)",{"$f":"$B$2174","v":0},{"$f":"$C$2174","v":2.2261298710475417E-2},{"$f":"$D$2174","v":2.2261298710475417E-2},{"$f":"$E$2174","v":7.788995947308873E-2},{"$f":"$F$2174","v":7.788995947308873E-2},{"$f":"$G$2174","v":2.2261298710475417E-2},{"$f":"$H$2174","v":7.788995947308873E-2},{"$f":"$I$2174","v":7.788995947308873E-2},{"$f":"$J$2174","v":7.788995947308873E-2}]
["LV Generation Non-Intermittent",{"$f":"$B$1963","v":0},{"$f":"$C$1963","v":-1.8605394426796637E-2},{"$f":"$D$1963","v":-1.8605394426796637E-2},{"$f":"$E$1963","v":-6.5098332165233849E-2},{"$f":"$F$1963","v":-6.5098332165233849E-2},{"$f":"$G$1963","v":-1.8605394426796637E-2},{"$f":"$H$1963","v":-6.5098332165233849E-2},{"$f":"$I$1963","v":-6.5098332165233849E-2},{"$f":"$J$1963","v":-6.5098332165233849E-2}]
["LV Generation Non-Intermittent no RP charge",{"$f":"$B$1964","v":0},{"$f":"$C$1964","v":-1.8605394426796637E-2},{"$f":"$D$1964","v":-1.8605394426796637E-2},{"$f":"$E$1964","v":-6.5098332165233849E-2},{"$f":"$F$1964","v":-6.5098332165233849E-2},{"$f":"$G$1964","v":-1.8605394426796637E-2},{"$f":"$H$1964","v":-6.5098332165233849E-2},{"$f":"$I$1964","v":-6.5098332165233849E-2},{"$f":"$J$1964","v":-6.5098332165233849E-2}]
["LV Sub Generation Non-Intermittent",{"$f":"$B$1965","v":0},{"$f":"$C$1965","v":-1.8605394426796637E-2},{"$f":"$D$1965","v":-1.8605394426796637E-2},{"$f":"$E$1965","v":-6.5098332165233849E-2},{"$f":"$F$1965","v":-6.5098332165233849E-2},{"$f":"$G$1965","v":-1.8605394426796637E-2},{"$f":"$H$1965","v":-6.5098332165233849E-2},{"$f":"$I$1965","v":-6.5098332165233849E-2},{"$f":"$J$1965","v":-6.5098332165233849E-2}]
["LV Sub Generation Non-Intermittent no RP charge",{"$f":"$B$1966","v":0},{"$f":"$C$1966","v":-1.8605394426796637E-2},{"$f":"$D$1966","v":-1.8605394426796637E-2},{"$f":"$E$1966","v":-6.5098332165233849E-2},{"$f":"$F$1966","v":-6.5098332165233849E-2},{"$f":"$G$1966","v":-1.8605394426796637E-2},{"$f":"$H$1966","v":-6.5098332165233849E-2},{"$f":"$I$1966","v":-6.5098332165233849E-2},{"$f":"$J$1966","v":-6.5098332165233849E-2}]
["HV Generation Non-Intermittent",{"$f":"$B$1967","v":0},{"$f":"$C$1967","v":-1.8605394426796637E-2},{"$f":"$D$1967","v":-1.8605394426796637E-2},{"$f":"$E$1967","v":-6.5098332165233849E-2},{"$f":"$F$1967","v":-6.5098332165233849E-2},{"$f":"$G$1967","v":-1.8605394426796637E-2},{"$f":"$H$1967","v":-6.5098332165233849E-2},{"$f":"$I$1967","v":-6.5098332165233849E-2},{"$f":"$J$1967","v":-6.5098332165233849E-2}]
["HV Generation Non-Intermittent no RP charge",{"$f":"$B$1968","v":0},{"$f":"$C$1968","v":-1.8605394426796637E-2},{"$f":"$D$1968","v":-1.8605394426796637E-2},{"$f":"$E$1968","v":-6.5098332165233849E-2},{"$f":"$F$1968","v":-6.5098332165233849E-2},{"$f":"$G$1968","v":-1.8605394426796637E-2},{"$f":"$H$1968","v":-6.5098332165233849E-2},{"$f":"$I$1968","v":-6.5098332165233849E-2},{"$f":"$J$1968","v":-6.5098332165233849E-2}]
[]
[{"$f":"\"Forecast simultaneous maximum load for \"&CDCM!B7&\" in \"&CDCM!C7&\" (\"&CDCM!D7&\")\"","v":"Forecast simultaneous maximum load for WPD East Midlands in 2023/24 (Forecast)"}]
[]
["2501. Contributions of users on one-rate multi tariffs to system simultaneous maximum load by network level (kW)"]
["Data sources:"]
["x1 = 2305. Rate 1 units (MWh) (in Equivalent volume for each end user)"]
["x2 = 2460. Unit rate 1 pseudo load coefficient by network level (combined)"]
["x3 = 2012. Loss adjustment factors between end user meter reading and each network level, scaled by network use"]
["x4 = 1010. Days in the charging year (in Financial and general assumptions)"]
["Calculation =(x1*x2)*x3/(24*x4)*1000"]
[]
[null,"GSPs","132kV","132kV/EHV","EHV","EHV/HV","132kV/HV","HV","HV/LV","LV circuits"]
["Domestic Unrestricted",{"$f":"($B$1268*B$2183)*B$612/(24*$F$14)*1000","v":1477269.3219998647},1401735.0397006697,1288825.238592152,1241359.0736262696,1231603.7960339214,103538.9678577423,1310923.4886099759,1290947.5116406812,1255087.858539551]
["Domestic Off Peak (related MPAN)",{"$f":"($B$1270*B$2185)*B$614/(24*$F$14)*1000","v":3065.1136552186654},3778.3849278471598,3474.0359042215937,3823.3641424200764,3793.318058786127,279.08988825882898,4037.6213186778518,3976.0956604884755,3865.6485588082401]
["Small Non Domestic Unrestricted",{"$f":"($B$1271*B$2186)*B$615/(24*$F$14)*1000","v":273200.58807812899},285486.76643166522,262490.79850337788,263561.53037992463,261490.31992507257,21087.441132734388,278331.23244488065,274089.99461714918,266476.38365556166]
["Small Non Domestic Off Peak (related MPAN)",{"$f":"($B$1273*B$2188)*B$617/(24*$F$14)*1000","v":59.402696815956368},90.220715452405798,82.953434012559214,102.75122816009926,101.94375288968591,6.6641408631148575,108.50929544915071,106.85582047087796,103.88760323557578]
["NHH UMS category A",{"$f":"($B$1282*B$2197)*B$626/(24*$F$14)*1000","v":5080.2541513921933},5076.6338459320978,4667.710831517501,4661.325525944013,4624.6942840898364,374.98486783332072,4922.5411485226387,4847.5309976880089,4712.8773588633403]
["NHH UMS category B",{"$f":"($B$1283*B$2198)*B$627/(24*$F$14)*1000","v":5812.2133572940884},4688.4073774105518,4310.7560171276727,3879.5261151855379,3849.0386800956717,346.30857259398579,4096.9305474329503,4034.5011295673057,3922.4316537459918]
["NHH UMS category C",{"$f":"($B$1284*B$2199)*B$628/(24*$F$14)*1000","v":163.36298279600601},130.68169347779929,120.15527899774644,106.02907077081061,105.19583642290638,9.6527854960967261,111.97082480164957,110.26460270943397,107.20169707861636]
["NHH UMS category D",{"$f":"($B$1285*B$2200)*B$629/(24*$F$14)*1000","v":318.82514413677166},651.47137104375383,598.99533181443473,725.21252440706814,719.51340830170807,48.120844122682826,765.85264705253485,754.18251147840112,733.23299727066762]
[]
["2502. Contributions of users on two-rate multi tariffs to system simultaneous maximum load by network level (kW)"]
["Data sources:"]
["x1 = 2305. Rate 1 units (MWh) (in Equivalent volume for each end user)"]
["x2 = 2460. Unit rate 1 pseudo load coefficient by network level (combined)"]
["x3 = 2305. Rate 2 units (MWh) (in Equivalent volume for each end user)"]
["x4 = 2461. Unit rate 2 pseudo load coefficient by network level (combined)"]
["x5 = 2012. Loss adjustment factors between end user meter reading and each network level, scaled by network use"]
["x6 = 1010. Days in the charging year (in Financial and general assumptions)"]
["Calculation =(x1*x2+x3*x4)*x5/(24*x6)*1000"]
[]
[null,"GSPs","132kV","132kV/EHV","EHV","EHV/HV","132kV/HV","HV","HV/LV","LV circuits"]
["Domestic Two Rate",{"$f":"($B$1269*B$2184+$C$1269*B$2216)*B$613/(24*$F$14)*1000","v":739043.71625342255},704572.32697323069,647819.00408982683,631324.47310582758,626363.18058633187,52043.139002585056,666703.21127238451,656543.92424347217,638306.59301448672]
["Small Non Domestic Two Rate",{"$f":"($B$1272*B$2187+$C$1272*B$2217)*B$616/(24*$F$14)*1000","v":391535.8168912254},401806.2224525701,369440.71871873148,371163.21564382192,368246.41237746575,29679.361914532325,391962.79934872757,385990.03288246127,375268.08752461511]
["LV Medium Non-Domestic",{"$f":"($B$1274*B$2189+$C$1274*B$2218)*B$618/(24*$F$14)*1000","v":10458.547864586597},10638.189994398903,9781.2834589963932,9770.0262931089037,9693.2480904125659,785.7884555199779,10317.527961155813,10160.308487462011,9878.0776961436204]
["LV Sub Medium Non-Domestic",{"$f":"($B$1275*B$2190+$C$1275*B$2219)*B$619/(24*$F$14)*1000","v":3.5383974721901204E-2},3.6062792644683893E-2,3.315793357388655E-2,3.3171387201484215E-2,3.2910708323672939E-2,2.6637732686597467E-3,3.5030275732526581E-2,3.4496481054697596E-2,0]
["HV Medium Non-Domestic",{"$f":"($B$1276*B$2191+$C$1276*B$2220)*B$620/(24*$F$14)*1000","v":642.31210099156897},660.08827083812844,606.91814006197706,609.26609334046691,604.47814761676977,48.757330252781756,643.40870384946936,0,0]
[]
["2503. Contributions of users on three-rate multi tariffs to system simultaneous maximum load by network level (kW)"]
["Data sources:"]
["x1 = 2305. Rate 1 units (MWh) (in Equivalent volume for each end user)"]
["x2 = 2460. Unit rate 1 pseudo load coefficient by network level (combined)"]
["x3 = 2305. Rate 2 units (MWh) (in Equivalent volume for each end user)"]
["x4 = 2461. Unit rate 2 pseudo load coefficient by network level (combined)"]
["x5 = 2305. Rate 3 units (MWh) (in Equivalent volume for each end user)"]
["x6 = 2462. Unit rate 3 pseudo load coefficient by network level (combined)"]
["x7 = 2012. Loss adjustment factors between end user meter reading and each network level, scaled by network use"]
["x8 = 1010. Days in the charging year (in Financial and general assumptions)"]
["Calculation =(x1*x2+x3*x4+x5*x6)*x7/(24*x8)*1000"]
[]
[null,"GSPs","132kV","132kV/EHV","EHV","EHV/HV","132kV/HV","HV","HV/LV","LV circuits"]
["LV Network Domestic",{"$f":"($B$1277*B$2192+$C$1277*B$2221+$D$1277*B$2241)*B$621/(24*$F$14)*1000","v":48.030666093657459},48.733749909086356,44.808244835971969,44.747472278709772,44.395822201863325,3.5997118018121657,47.255072051573904,46.534994763168974,45.242356019747611]
["LV Network Non-Domestic Non-CT",{"$f":"($B$1278*B$2193+$C$1278*B$2222+$D$1278*B$2242)*B$622/(24*$F$14)*1000","v":36752.759266217639},37527.570405174047,34504.723440144968,34490.385854638218,34219.341565014336,2771.9688785051785,36423.189638422817,35868.169605837335,34871.831561230741]
["LV HH Metered",{"$f":"($B$1279*B$2194+$C$1279*B$2223+$D$1279*B$2243)*B$623/(24*$F$14)*1000","v":648624.81406613614},663096.2083742586,609683.788135882,609804.45833630383,605012.2818464312,48979.511149349746,643977.2382352748,634164.25174788013,616548.57808821683]
["LV Sub HH Metered",{"$f":"($B$1280*B$2195+$C$1280*B$2224+$D$1280*B$2244)*B$624/(24*$F$14)*1000","v":39335.320887635484},39867.740126736011,36656.392417744537,36556.344586985986,36269.064865280787,2944.8251963683661,38604.922455521453,38016.656970484932,0]
["HV HH Metered",{"$f":"($B$1281*B$2196+$C$1281*B$2225+$D$1281*B$2245)*B$625/(24*$F$14)*1000","v":1071708.4805434702},1089679.2333296901,1001905.5371441327,1003591.136277531,995704.36899833637,80489.008207332037,1059831.2941506575,0,0]
["LV UMS (Pseudo HH Metered)",{"$f":"($B$1286*B$2201+$C$1286*B$2226+$D$1286*B$2246)*B$630/(24*$F$14)*1000","v":60566.031850208135},49874.85082608302,45857.430038562045,41623.041711703016,41295.945116719093,3683.999065682367,43955.551787179167,43285.75290280312,42083.370877725247]
["LV Generation Non-Intermittent",{"$f":"($B$1291*B$2202+$C$1291*B$2227+$D$1291*B$2247)*B$635/(24*$F$14)*1000","v":-2198.0486799922273},-2245.5026086467606,-2064.6273035783329,-2076.2263124492879,-2059.910192115698,-165.86374445687076,-2192.5757812435168,-2159.1651026721875,0]
["LV Generation Non-Intermittent no RP charge",{"$f":"($B$1292*B$2203+$C$1292*B$2228+$D$1292*B$2248)*B$636/(24*$F$14)*1000","v":0},0,0,0,0,0,0,0,0]
["LV Sub Generation Non-Intermittent",{"$f":"($B$1295*B$2204+$C$1295*B$2229+$D$1295*B$2249)*B$639/(24*$F$14)*1000","v":-676.39987901219934},-667.54489687461307,-613.7741346389671,-610.94500280566729,-606.14386329442436,-49.308112919728316,-645.18169757863393,0,0]
["LV Sub Generation Non-Intermittent no RP charge",{"$f":"($B$1296*B$2205+$C$1296*B$2230+$D$1296*B$2250)*B$640/(24*$F$14)*1000","v":0},0,0,0,0,0,0,0,0]
["HV Generation Non-Intermittent",{"$f":"($B$1299*B$2206+$C$1299*B$2231+$D$1299*B$2251)*B$643/(24*$F$14)*1000","v":-115857.7324228448},-112982.15491047608,-103881.4388133186,-102216.4435968164,-101413.17095558406,-8345.4114896580486,0,0,0]
["HV Generation Non-Intermittent no RP charge",{"$f":"($B$1300*B$2207+$C$1300*B$2232+$D$1300*B$2252)*B$644/(24*$F$14)*1000","v":0},0,0,0,0,0,0,0,0]
[]
["2504. Estimated contributions of users on each tariff to system simultaneous maximum load by network level (kW)"]
["Data sources:"]
["x1 = 2407. All units (MWh)"]
["x2 = 2302. Load coefficient"]
["x3 = 2012. Loss adjustment factors between end user meter reading and each network level, scaled by network use"]
["x4 = 1010. Days in the charging year (in Financial and general assumptions)"]
["Calculation =x1*x2*x3/(24*x4)*1000"]
[]
[null,"GSPs","132kV","132kV/EHV","EHV","EHV/HV","132kV/HV","HV","HV/LV","LV circuits"]
["Domestic Unrestricted",{"$f":"$B1429*$B980*B612/(24*$F$14)*1000","v":1477261.8745443474},1474313.2480482506,1355557.2699967013,1352872.9981749256,1342241.3832580303,108899.94733563098,1428686.5324413416,1406916.0709946165,1367835.0690225437]
["Domestic Two Rate",739039.99046346662,737564.8607419827,678153.98823586898,676811.10905124352,671492.35770310019,54480.128017397561,714738.86892018048,703847.60996520636,684296.28746617283]
["Domestic Off Peak (related MPAN)",0,0,0,0,0,0,0,0,0]
["Small Non Domestic Unrestricted",273069.40077374398,272524.35206960485,250572.50702192908,250076.32383970745,248111.08750304961,20129.974160746086,264090.32956841786,260066.09597499436,252842.03775346669]
["Small Non Domestic Two Rate",391347.80657708418,390566.6732306229,359106.51553669677,358395.41352573293,355578.94662179792,28849.154141546067,378479.50345946237,372712.1967400802,362359.08016396681]
["Small Non Domestic Off Peak (related MPAN)",0,0,0,0,0,0,0,0,0]
["LV Medium Non-Domestic",10458.547864586597,10437.672519547503,9596.9176729899027,9577.9138756176453,9502.6453972237941,770.97725954103714,10114.649772327464,9960.5217757967603,9683.8406153579599]
["LV Sub Medium Non-Domestic",3.5383974721901218E-2,3.5313348025849518E-2,3.246885674244266E-2,3.2404561976616036E-2,3.2149909230237909E-2,2.6084156439283128E-3,3.4220478454449921E-2,3.3699023544667826E-2,0]
["HV Medium Non-Domestic",642.31210099156897,641.03004090974946,589.39505114794645,588.2279322347822,583.60531587144408,47.349596693947944,621.19158703246524,0,0]
["LV Network Domestic",59.219363926328981,59.10116160312274,54.340561195134121,54.232956123460589,53.806763933885264,4.3654992550430123,57.272112114438087,56.399394215551418,54.832744376230536]
["LV Network Non-Domestic Non-CT",37071.985409132132,36997.989430271591,34017.80022926606,33950.438248614038,33683.637162180923,2732.851451897789,35852.983954673233,35306.652770602035,34325.912415863088]
["LV HH Metered",648624.81406613614,647330.15375861875,595187.68971060612,594009.10022603069,589341.05228712282,47814.953671753465,627296.72540245263,617737.91815822478,600578.53154271841]
["LV Sub HH Metered",39335.320887635484,39256.807273089311,36094.670224488138,36023.195629984199,35740.105683972542,2899.6987243137951,38041.896409705507,37462.210369176653,0]
["HV HH Metered",1071708.48054347,1069569.3418597502,983415.49805847043,981468.1406365725,973755.22794001806,79003.593811917191,1036468.5498486169,0,0]
["NHH UMS category A",4266.3615741505855,4257.8458823858136,3914.8762639381198,3907.1240337124991,3876.419719105721,314.50520638601296,4126.075023356465,4063.2014991910337,3950.3347908801716]
["NHH UMS category B",6001.2246856963156,5989.2461933096947,5506.812225888184,5495.907647223059,5452.717803237023,442.39485461790287,5803.8923459345397,5715.4520816155382,5556.6895237928829]
["NHH UMS category C",{"$f":"$B1445*$B996*B628/(24*$F$14)*1000","v":171.76705991330323},171.42421149032262,157.6159859153309,157.30387505213224,156.06769528747893,12.662226041895565,166.11901345580586,163.58767610790787,159.0435739937993]
["NHH UMS category D",9.3150155395935617,9.2964226942051518,8.54759555662603,8.5306696248307308,8.4636309637318625,0.68667899657615561,9.0087190905160188,8.8714433710414884,8.6250143885125574]
["LV UMS (Pseudo HH Metered)",61492.019150527412,61369.280589348717,56425.983126373227,56314.24850632099,55871.70038446386,4533.0335551504941,59470.037863179314,58563.827762407062,56937.054769006856]
["LV Generation NHH or Aggregate HH",-1265.1459302289629,-1262.6206888512604,-1160.9165530367356,-1158.6177083772568,-1149.512657623801,-93.2633052730191,-1223.5453870686295,-1204.9008859323455,0]
["LV Sub Generation NHH",0,0,0,0,0,0,0,0,0]
["LV Generation Intermittent",-4883.933150014579,-4874.1847804536719,-4481.569044569158,-4472.6946504214957,-4437.545773011504,-360.03099517570575,-4723.3396034957241,-4651.3649047757899,0]
["LV Generation Intermittent no RP charge",0,0,0,0,0,0,0,0,0]
["LV Generation Non-Intermittent",-2142.2329538756767,-2137.9570397960842,-1965.7445336483613,-1961.8519702153942,-1946.4346659307939,-157.919905656315,-2071.7920250248321,-2040.2218608339776,0]
["LV Generation Non-Intermittent no RP charge",0,0,0,0,0,0,0,0,0]
["LV Sub Generation Intermittent",-460.47251432363009,-459.55340750861285,-422.53636621982599,-421.69966054414323,-418.3857142923228,-33.944849876272592,-445.33125176366548,0,0]
["LV Sub Generation Intermittent no RP charge",0,0,0,0,0,0,0,0,0]
["LV Sub Generation Non-Intermittent",-702.61931801374317,-701.21688424525269,-644.73384237810149,-643.45714170012491,-638.4005040443285,-51.795289682334932,-679.51578144462599,0,0]
["LV Sub Generation Non-Intermittent no RP charge",0,0,0,0,0,0,0,0,0]
["HV Generation Intermittent",-56541.794754361705,-56428.936880600486,-51883.584257244329,-51780.844486437913,-51373.92232937357,-4168.1157397440174,0,0,0]
["HV Generation Intermittent no RP charge",0,0,0,0,0,0,0,0,0]
["HV Generation Non-Intermittent",-100514.97918388485,-100314.35048291899,-92234.026426972458,-92051.384790483411,-91327.994733190804,-7409.7058403699457,0,0,0]
["HV Generation Non-Intermittent no RP charge",{"$f":"$B1461*$B1012*B644/(24*$F$14)*1000","v":0},0,0,0,0,0,0,0,0]
[]
["2505. Contributions of users on each tariff to system simultaneous maximum load by network level (kW)"]
["Data sources:"]
["x1 = 2501. Contributions of users on one-rate multi tariffs to system simultaneous maximum load by network level (kW)"]
["x2 = 2502. Contributions of users on two-rate multi tariffs to system simultaneous maximum load by network level (kW)"]
["x3 = 2503. Contributions of users on three-rate multi tariffs to system simultaneous maximum load by network level (kW)"]
["x4 = 2504. Estimated contributions of users on each tariff to system simultaneous maximum load by network level (kW)"]
["Combine tables = x1 or x2 or x3 or x4"]
[]
[null,"GSPs","132kV","132kV/EHV","EHV","EHV/HV","132kV/HV","HV","HV/LV","LV circuits"]
["Domestic Unrestricted",{"$f":"B$2265","v":1477269.3219998647},1401735.0397006697,1288825.238592152,1241359.0736262696,1231603.7960339214,103538.9678577423,1310923.4886099759,1290947.5116406812,1255087.858539551]
["Domestic Two Rate",{"$f":"B$2285","v":739043.71625342255},704572.32697323069,647819.00408982683,631324.47310582758,626363.18058633187,52043.139002585056,666703.21127238451,656543.92424347217,638306.59301448672]
["Domestic Off Peak (related MPAN)",{"$f":"B$2266","v":3065.1136552186654},3778.3849278471598,3474.0359042215937,3823.3641424200764,3793.318058786127,279.08988825882898,4037.6213186778518,3976.0956604884755,3865.6485588082401]
["Small Non Domestic Unrestricted",{"$f":"B$2267","v":273200.58807812899},285486.76643166522,262490.79850337788,263561.53037992463,261490.31992507257,21087.441132734388,278331.23244488065,274089.99461714918,266476.38365556166]
["Small Non Domestic Two Rate",{"$f":"B$2286","v":391535.8168912254},401806.2224525701,369440.71871873148,371163.21564382192,368246.41237746575,29679.361914532325,391962.79934872757,385990.03288246127,375268.08752461511]
["Small Non Domestic Off Peak (related MPAN)",{"$f":"B$2268","v":59.402696815956368},90.220715452405798,82.953434012559214,102.75122816009926,101.94375288968591,6.6641408631148575,108.50929544915071,106.85582047087796,103.88760323557578]
["LV Medium Non-Domestic",{"$f":"B$2287","v":10458.547864586597},10638.189994398903,9781.2834589963932,9770.0262931089037,9693.2480904125659,785.7884555199779,10317.527961155813,10160.308487462011,9878.0776961436204]
["LV Sub Medium Non-Domestic",{"$f":"B$2288","v":3.5383974721901204E-2},3.6062792644683893E-2,3.315793357388655E-2,3.3171387201484215E-2,3.2910708323672939E-2,2.6637732686597467E-3,3.5030275732526581E-2,3.4496481054697596E-2,0]
["HV Medium Non-Domestic",{"$f":"B$2289","v":642.31210099156897},660.08827083812844,606.91814006197706,609.26609334046691,604.47814761676977,48.757330252781756,643.40870384946936,0,0]
["LV Network Domestic",{"$f":"B$2304","v":48.030666093657459},48.733749909086356,44.808244835971969,44.747472278709772,44.395822201863325,3.5997118018121657,47.255072051573904,46.534994763168974,45.242356019747611]
["LV Network Non-Domestic Non-CT",{"$f":"B$2305","v":36752.759266217639},37527.570405174047,34504.723440144968,34490.385854638218,34219.341565014336,2771.9688785051785,36423.189638422817,35868.169605837335,34871.831561230741]
["LV HH Metered",{"$f":"B$2306","v":648624.81406613614},663096.2083742586,609683.788135882,609804.45833630383,605012.2818464312,48979.511149349746,643977.2382352748,634164.25174788013,616548.57808821683]
["LV Sub HH Metered",{"$f":"B$2307","v":39335.320887635484},39867.740126736011,36656.392417744537,36556.344586985986,36269.064865280787,2944.8251963683661,38604.922455521453,38016.656970484932,0]
["HV HH Metered",{"$f":"B$2308","v":1071708.4805434702},1089679.2333296901,1001905.5371441327,1003591.136277531,995704.36899833637,80489.008207332037,1059831.2941506575,0,0]
["NHH UMS category A",{"$f":"B$2269","v":5080.2541513921933},5076.6338459320978,4667.710831517501,4661.325525944013,4624.6942840898364,374.98486783332072,4922.5411485226387,4847.5309976880089,4712.8773588633403]
["NHH UMS category B",{"$f":"B$2270","v":5812.2133572940884},4688.4073774105518,4310.7560171276727,3879.5261151855379,3849.0386800956717,346.30857259398579,4096.9305474329503,4034.5011295673057,3922.4316537459918]
["NHH UMS category C",{"$f":"B$2271","v":163.36298279600601},130.68169347779929,120.15527899774644,106.02907077081061,105.19583642290638,9.6527854960967261,111.97082480164957,110.26460270943397,107.20169707861636]
["NHH UMS category D",{"$f":"B$2272","v":318.82514413677166},651.47137104375383,598.99533181443473,725.21252440706814,719.51340830170807,48.120844122682826,765.85264705253485,754.18251147840112,733.23299727066762]
["LV UMS (Pseudo HH Metered)",{"$f":"B$2309","v":60566.031850208135},49874.85082608302,45857.430038562045,41623.041711703016,41295.945116719093,3683.999065682367,43955.551787179167,43285.75290280312,42083.370877725247]
["LV Generation NHH or Aggregate HH",{"$f":"B2345","v":-1265.1459302289629},-1262.6206888512604,-1160.9165530367356,-1158.6177083772568,-1149.512657623801,-93.2633052730191,-1223.5453870686295,-1204.9008859323455,0]
["LV Sub Generation NHH",0,0,0,0,0,0,0,0,0]
["LV Generation Intermittent",-4883.933150014579,-4874.1847804536719,-4481.569044569158,-4472.6946504214957,-4437.545773011504,-360.03099517570575,-4723.3396034957241,-4651.3649047757899,0]
["LV Generation Intermittent no RP charge",0,0,0,0,0,0,0,0,0]
["LV Generation Non-Intermittent",{"$f":"B$2310","v":-2198.0486799922273},-2245.5026086467606,-2064.6273035783329,-2076.2263124492879,-2059.910192115698,-165.86374445687076,-2192.5757812435168,-2159.1651026721875,0]
["LV Generation Non-Intermittent no RP charge",{"$f":"B$2311","v":0},0,0,0,0,0,0,0,0]
["LV Sub Generation Intermittent",{"$f":"B2351","v":-460.47251432363009},-459.55340750861285,-422.53636621982599,-421.69966054414323,-418.3857142923228,-33.944849876272592,-445.33125176366548,0,0]
["LV Sub Generation Intermittent no RP charge",0,0,0,0,0,0,0,0,0]
["LV Sub Generation Non-Intermittent",{"$f":"B$2312","v":-676.39987901219934},-667.54489687461307,-613.7741346389671,-610.94500280566729,-606.14386329442436,-49.308112919728316,-645.18169757863393,0,0]
["LV Sub Generation Non-Intermittent no RP charge",{"$f":"B$2313","v":0},0,0,0,0,0,0,0,0]
["HV Generation Intermittent",{"$f":"B2355","v":-56541.794754361705},-56428.936880600486,-51883.584257244329,-51780.844486437913,-51373.92232937357,-4168.1157397440174,0,0,0]
["HV Generation Intermittent no RP charge",0,0,0,0,0,0,0,0,0]
["HV Generation Non-Intermittent",{"$f":"B$2314","v":-115857.7324228448},-112982.15491047608,-103881.4388133186,-102216.4435968164,-101413.17095558406,-8345.4114896580486,0,0,0]
["HV Generation Non-Intermittent no RP charge",{"$f":"B$2315","v":0},0,0,0,0,0,0,0,0]
[]
["2506. Forecast system simultaneous maximum load (kW) from forecast units"]
["Data sources:"]
["x1 = 2505. Contributions of users on each tariff to system simultaneous maximum load by network level (kW)"]
["Cell summation =SUM(x1)"]
[]
[null,"GSPs","132kV","132kV/EHV","EHV","EHV/HV","132kV/HV","HV","HV/LV","LV circuits"]
["Forecast system simultaneous maximum load (kW) from forecast units",{"$f":"SUM(B$2369:B$2401)","v":4581801.4205088308},4520488.3084557671,4156362.8344074693,4094458.4697421547,4062281.9788208022,333905.25342824386,4486534.6067711432,3374927.172418498,3252011.3031825526]
[]
[{"$f":"\"Forecast aggregate maximum load for \"&CDCM!B7&\" in \"&CDCM!C7&\" (\"&CDCM!D7&\")\"","v":"Forecast aggregate maximum load for WPD East Midlands in 2023/24 (Forecast)"}]
[]
["2601. Pre-processing of data for standing charge factors"]
["Data sources:"]
["x1 = Standing charges factors (in Pre-processing of data for standing charge factors)"]
["x2 = 1018. Proportion of relevant load going through 132kV/HV direct transformation"]
["x3 = Standing charges factors for 132kV/HV (in Pre-processing of data for standing charge factors)"]
["Kind:","Fixed data",null,null,null,null,null,null,null,"Fixed data","Calculation"]
["Formula:","",null,null,null,null,null,null,null,"","=x1+0.2*x2*x3"]
[]
[null,"Standing charges factors"]
[null,"GSPs","132kV","132kV/EHV","EHV","EHV/HV","HV","HV/LV","LV circuits","Standing charges factors for 132kV/HV","Adjusted standing charges factors for 132kV"]
["Domestic Unrestricted",0,0,0,0,0,0,0,1,0,{"$f":"$C2423+0.2*$B$36*$J2423","v":0}]
["Domestic Two Rate",0,0,0,0,0,0,0,1,0,0]
["Domestic Off Peak (related MPAN)",0,0,0,0,0,0,0,1,0,0]
["Small Non Domestic Unrestricted",0,0,0,0,0,0,0,1,0,0]
["Small Non Domestic Two Rate",0,0,0,0,0,0,0,1,0,0]
["Small Non Domestic Off Peak (related MPAN)",0,0,0,0,0,0,0,1,0,0]
["LV Medium Non-Domestic",0,0,0,0,0,0,0,1,0,0]
["LV Sub Medium Non-Domestic",0,0,0,0,0,0,1,0,0,0]
["HV Medium Non-Domestic",0,0,0,0.2,1,1,0,0,1,1.5008868542263909E-2]
["LV Network Domestic",0,0,0,0,0,0,0,1,0,0]
["LV Network Non-Domestic Non-CT",0,0,0,0,0,0,0,1,0,0]
["LV HH Metered",0,0,0,0,0,0.2,1,1,0,0]
["LV Sub HH Metered",0,0,0,0,0,1,1,0,0,0]
["HV HH Metered",0,0,0,0.2,1,1,0,0,1,1.5008868542263909E-2]
["NHH UMS category A",0,0,0,0,0,0,0,0,0,0]
["NHH UMS category B",0,0,0,0,0,0,0,0,0,0]
["NHH UMS category C",0,0,0,0,0,0,0,0,0,0]
["NHH UMS category D",0,0,0,0,0,0,0,0,0,0]
["LV UMS (Pseudo HH Metered)",0,0,0,0,0,0,0,0,0,0]
[]
["2602. Standing charges factors adapted to use 132kV/HV"]
["Data sources:"]
["x1 = 2601. Standing charges factors for 132kV/HV (in Pre-processing of data for standing charge factors)"]
["x2 = 2601. Adjusted standing charges factors for 132kV (in Pre-processing of data for standing charge factors)"]
["x3 = 2601. Standing charges factors (in Pre-processing of data for standing charge factors)"]
["Combine tables = x1 or x2 or x3"]
[]
[null,"GSPs","132kV","132kV/EHV","EHV","EHV/HV","132kV/HV","HV","HV/LV","LV circuits"]
["Domestic Unrestricted",{"$f":"$B2423","v":0},{"$f":"$K2423","v":0},{"$f":"$D2423","v":0},{"$f":"$E2423","v":0},{"$f":"$F2423","v":0},0,{"$f":"$G2423","v":0},{"$f":"$H2423","v":0},{"$f":"$I2423","v":1}]
["Domestic Two Rate",0,0,0,0,0,0,0,0,1]
["Domestic Off Peak (related MPAN)",0,0,0,0,0,0,0,0,1]
["Small Non Domestic Unrestricted",0,0,0,0,0,0,0,0,1]
["Small Non Domestic Two Rate",0,0,0,0,0,0,0,0,1]
["Small Non Domestic Off Peak (related MPAN)",0,0,0,0,0,0,0,0,1]
["LV Medium Non-Domestic",0,0,0,0,0,0,0,0,1]
["LV Sub Medium Non-Domestic",0,0,0,0,0,0,0,1,0]
["HV Medium Non-Domestic",0,1.5008868542263909E-2,0,0.2,1,1,1,0,0]
["LV Network Domestic",0,0,0,0,0,0,0,0,1]
["LV Network Non-Domestic Non-CT",0,0,0,0,0,0,0,0,1]
["LV HH Metered",0,0,0,0,0,0,0.2,1,1]
["LV Sub HH Metered",0,0,0,0,0,0,1,1,0]
["HV HH Metered",0,1.5008868542263909E-2,0,0.2,1,1,1,0,0]
["NHH UMS category A",0,0,0,0,0,0,0,0,0]
["NHH UMS category B",0,0,0,0,0,0,0,0,0]
["NHH UMS category C",0,0,0,0,0,0,0,0,0]
["NHH UMS category D",0,0,0,0,0,0,0,0,0]
["LV UMS (Pseudo HH Metered)",0,0,0,0,0,0,0,0,0]
[]
["2603. Capacity-based contributions to chargeable aggregate maximum load by network level (kW)"]
["Data sources:"]
["x1 = 2305. Import capacity (kVA) (in Equivalent volume for each end user)"]
["x2 = 2305. Exceeded capacity (kVA) (in Equivalent volume for each end user)"]
["x3 = 1010. Power factor for all flows in the network model (in Financial and general assumptions)"]
["x4 = 2602. Standing charges factors adapted to use 132kV/HV"]
["x5 = 2012. Loss adjustment factors between end user meter reading and each network level, scaled by network use"]
["Calculation =(x1+x2)*x3*x4*x5"]
[]
[null,"GSPs","132kV","132kV/EHV","EHV","EHV/HV","132kV/HV","HV","HV/LV","LV circuits"]
["LV HH Metered",{"$f":"($F$1279+$G$1279)*$E$14*B$2462*B$623","v":0},0,0,0,0,0,410110.90342272143,2019307.9720909237,1963216.0839772867]
["LV Sub HH Metered",{"$f":"($F$1280+$G$1280)*$E$14*B$2463*B$624","v":0},0,0,0,0,0,138178.28388676883,136072.71003706567,0]
["HV HH Metered",{"$f":"($F$1281+$G$1281)*$E$14*B$2464*B$625","v":0},42506.603221769314,0,519763.41085510439,2578394.1304698205,209192.61506980777,2744451.9409664809,0,0]
[]
["2604. Unit-based contributions to chargeable aggregate maximum load (kW)"]
["Data sources:"]
["x1 = 2407. All units (MWh)"]
["x2 = 1041. Load factor for each type of demand user (in Load profile data for demand users)"]
["x3 = 2602. Standing charges factors adapted to use 132kV/HV"]
["x4 = 2012. Loss adjustment factors between end user meter reading and each network level, scaled by network use"]
["x5 = 1010. Days in the charging year (in Financial and general assumptions)"]
["Calculation =x1/x2*x3*x4/(24*x5)*1000"]
[]
[null,"GSPs","132kV","132kV/EHV","EHV","EHV/HV","132kV/HV","HV","HV/LV","LV circuits"]
["Domestic Unrestricted",{"$f":"$B$1429/$C$122*B$2451*B$612/(24*$F$14)*1000","v":0},0,0,0,0,0,0,0,1586065.996296325]
["Domestic Two Rate",{"$f":"$B$1430/$C$123*B$2452*B$613/(24*$F$14)*1000","v":0},0,0,0,0,0,0,0,795372.14637345169]
["Small Non Domestic Unrestricted",{"$f":"$B$1432/$C$125*B$2454*B$615/(24*$F$14)*1000","v":0},0,0,0,0,0,0,0,349591.78672929941]
["Small Non Domestic Two Rate",{"$f":"$B$1433/$C$126*B$2455*B$616/(24*$F$14)*1000","v":0},0,0,0,0,0,0,0,420172.15532503137]
["LV Medium Non-Domestic",{"$f":"$B$1435/$C$128*B$2457*B$618/(24*$F$14)*1000","v":0},0,0,0,0,0,0,0,11511.555794661339]
["LV Sub Medium Non-Domestic",{"$f":"$B$1436/$C$129*B$2458*B$619/(24*$F$14)*1000","v":0},0,0,0,0,0,0,4.0059332362907769E-2,0]
["HV Medium Non-Domestic",{"$f":"$B$1437/$C$130*B$2459*B$620/(24*$F$14)*1000","v":0},12.196136422974762,0,149.13225207355612,739.80144692677652,60.022243103245152,787.44730797926684,0,0]
["LV Network Domestic",{"$f":"$B$1438/$C$131*B$2460*B$621/(24*$F$14)*1000","v":0},0,0,0,0,0,0,0,63.637318197858647]
["LV Network Non-Domestic Non-CT",{"$f":"$B$1439/$C$132*B$2461*B$622/(24*$F$14)*1000","v":0},0,0,0,0,0,0,0,43587.088864613885]
[]
["2605. Contributions to aggregate maximum load by network level (kW)"]
["Data sources:"]
["x1 = 2603. Capacity-based contributions to chargeable aggregate maximum load by network level (kW)"]
["x2 = 2604. Unit-based contributions to chargeable aggregate maximum load (kW)"]
["Combine tables = x1 or x2"]
[]
[null,"GSPs","132kV","132kV/EHV","EHV","EHV/HV","132kV/HV","HV","HV/LV","LV circuits"]
["Domestic Unrestricted",{"$f":"B$2495","v":0},0,0,0,0,0,0,0,1586065.996296325]
["Domestic Two Rate",{"$f":"B$2496","v":0},0,0,0,0,0,0,0,795372.14637345169]
["Small Non Domestic Unrestricted",{"$f":"B$2497","v":0},0,0,0,0,0,0,0,349591.78672929941]
["Small Non Domestic Two Rate",{"$f":"B$2498","v":0},0,0,0,0,0,0,0,420172.15532503137]
["LV Medium Non-Domestic",{"$f":"B$2499","v":0},0,0,0,0,0,0,0,11511.555794661339]
["LV Sub Medium Non-Domestic",{"$f":"B$2500","v":0},0,0,0,0,0,0,4.0059332362907769E-2,0]
["HV Medium Non-Domestic",{"$f":"B$2501","v":0},12.196136422974762,0,149.13225207355612,739.80144692677652,60.022243103245152,787.44730797926684,0,0]
["LV Network Domestic",{"$f":"B$2502","v":0},0,0,0,0,0,0,0,63.637318197858647]
["LV Network Non-Domestic Non-CT",{"$f":"B$2503","v":0},0,0,0,0,0,0,0,43587.088864613885]
["LV HH Metered",{"$f":"B$2481","v":0},0,0,0,0,0,410110.90342272143,2019307.9720909237,1963216.0839772867]
["LV Sub HH Metered",{"$f":"B$2482","v":0},0,0,0,0,0,138178.28388676883,136072.71003706567,0]
["HV HH Metered",{"$f":"B$2483","v":0},42506.603221769314,0,519763.41085510439,2578394.1304698205,209192.61506980777,2744451.9409664809,0,0]
[]
["2606. Forecast chargeable aggregate maximum load (kW)"]
["Data sources:"]
["x1 = 2605. Contributions to aggregate maximum load by network level (kW)"]
["Cell summation =SUM(x1)"]
[]
[null,"GSPs","132kV","132kV/EHV","EHV","EHV/HV","132kV/HV","HV","HV/LV","LV circuits"]
["Forecast chargeable aggregate maximum load (kW)",{"$f":"SUM(B$2512:B$2523)","v":0},42518.799358192286,0,519912.54310717795,2579133.9319167472,209252.63731291101,3293528.5755839506,2155380.7221873216,5169580.4506788664]
[]
["2607. Forecast simultaneous load subject to standing charge factors (kW)"]
["Data sources:"]
["x1 = 2505. Contributions of users on each tariff to system simultaneous maximum load by network level (kW)"]
["x2 = 2602. Standing charges factors adapted to use 132kV/HV"]
["Calculation =x1*x2"]
[]
[null,"GSPs","132kV","132kV/EHV","EHV","EHV/HV","132kV/HV","HV","HV/LV","LV circuits"]
["Domestic Unrestricted",{"$f":"B$2369*B2451","v":0},0,0,0,0,0,0,0,1255087.858539551]
["Domestic Two Rate",{"$f":"B$2370*B2452","v":0},0,0,0,0,0,0,0,638306.59301448672]
["Domestic Off Peak (related MPAN)",{"$f":"B$2371*B2453","v":0},0,0,0,0,0,0,0,3865.6485588082401]
["Small Non Domestic Unrestricted",{"$f":"B$2372*B2454","v":0},0,0,0,0,0,0,0,266476.38365556166]
["Small Non Domestic Two Rate",{"$f":"B$2373*B2455","v":0},0,0,0,0,0,0,0,375268.08752461511]
["Small Non Domestic Off Peak (related MPAN)",{"$f":"B$2374*B2456","v":0},0,0,0,0,0,0,0,103.88760323557578]
["LV Medium Non-Domestic",{"$f":"B$2375*B2457","v":0},0,0,0,0,0,0,0,9878.0776961436204]
["LV Sub Medium Non-Domestic",{"$f":"B$2376*B2458","v":0},0,0,0,0,0,0,3.4496481054697596E-2,0]
["HV Medium Non-Domestic",{"$f":"B$2377*B2459","v":0},9.9071780832997653,0,121.85321866809339,604.47814761676977,48.757330252781756,643.40870384946936,0,0]
["LV Network Domestic",{"$f":"B$2378*B2460","v":0},0,0,0,0,0,0,0,45.242356019747611]
["LV Network Non-Domestic Non-CT",{"$f":"B$2379*B2461","v":0},0,0,0,0,0,0,0,34871.831561230741]
["LV HH Metered",{"$f":"B$2380*B2462","v":0},0,0,0,0,0,128795.44764705497,634164.25174788013,616548.57808821683]
["LV Sub HH Metered",{"$f":"B$2381*B2463","v":0},0,0,0,0,0,38604.922455521453,38016.656970484932,0]
["HV HH Metered",{"$f":"B$2382*B2464","v":0},16354.85236628024,0,200718.22725550621,995704.36899833637,80489.008207332037,1059831.2941506575,0,0]
["NHH UMS category A",{"$f":"B$2383*B2465","v":0},0,0,0,0,0,0,0,0]
["NHH UMS category B",{"$f":"B$2384*B2466","v":0},0,0,0,0,0,0,0,0]
["NHH UMS category C",{"$f":"B$2385*B2467","v":0},0,0,0,0,0,0,0,0]
["NHH UMS category D",{"$f":"B$2386*B2468","v":0},0,0,0,0,0,0,0,0]
["LV UMS (Pseudo HH Metered)",{"$f":"B$2387*B2469","v":0},0,0,0,0,0,0,0,0]
[]
["2608. Forecast simultaneous load replaced by standing charge (kW)"]
["Data sources:"]
["x1 = 2607. Forecast simultaneous load subject to standing charge factors (kW)"]
["Cell summation =SUM(x1)"]
[]
[null,"GSPs","132kV","132kV/EHV","EHV","EHV/HV","132kV/HV","HV","HV/LV","LV circuits"]
["Forecast simultaneous load replaced by standing charge (kW)",{"$f":"SUM(B$2540:B$2558)","v":0},16364.75954436354,0,200840.08047417429,996308.8471459531,80537.765537584826,1227875.0729570834,672180.94321484608,3200452.1885978691]
[]
["2609. Calculated LV diversity allowance"]
["Data sources:"]
["x1 = 2606. Forecast chargeable aggregate maximum load (kW)"]
["x2 = 2608. Forecast simultaneous load replaced by standing charge (kW)"]
["Calculation =x1/x2-1"]
[]
[null,"LV circuits"]
["Calculated LV diversity allowance",{"$f":"$J2531/$J2566-1","v":0.61526563936694223}]
[]
["2610. Network level mapping for diversity allowances"]
[]
[null,"GSPs","132kV","132kV/EHV","EHV","EHV/HV","132kV/HV","HV","HV/LV","LV circuits"]
["GSPs",1,0,0,0,0,0,0,0,0]
["132kV",0,1,0,0,0,0,0,0,0]
["132kV/EHV",0,0,1,0,0,1,0,0,0]
["EHV",0,0,0,1,0,0,0,0,0]
["EHV/HV",0,0,0,0,1,0,0,0,0]
["HV",0,0,0,0,0,0,1,0,0]
["HV/LV",0,0,0,0,0,0,0,1,0]
["LV circuits",0,0,0,0,0,0,0,0,1]
[]
["2611. Diversity allowances including 132kV/HV"]
["Data sources:"]
["x1 = 2104. Diversity allowance between level exit and GSP Group (in Diversity calculations)"]
["x2 = 2610. Network level mapping for diversity allowances"]
["Sum-product calculation =SUMPRODUCT(x1, x2)"]
[]
[null,"Diversity allowances including 132kV/HV"]
["GSPs",{"$f":"SUMPRODUCT(D$693:D$700,$B$2580:$B$2587)","v":2.4713742436156094E-2}]
["132kV",{"$f":"SUMPRODUCT(D$693:D$700,$C$2580:$C$2587)","v":7.0839672179421997E-2}]
["132kV/EHV",{"$f":"SUMPRODUCT(D$693:D$700,$D$2580:$D$2587)","v":7.0839672179421997E-2}]
["EHV",{"$f":"SUMPRODUCT(D$693:D$700,$E$2580:$E$2587)","v":0.15545489876905783}]
["EHV/HV",{"$f":"SUMPRODUCT(D$693:D$700,$F$2580:$F$2587)","v":0.15545489876905783}]
["132kV/HV",{"$f":"SUMPRODUCT(D$693:D$700,$G$2580:$G$2587)","v":7.0839672179421997E-2}]
["HV",{"$f":"SUMPRODUCT(D$693:D$700,$H$2580:$H$2587)","v":0.54830956435053779}]
["HV/LV",{"$f":"SUMPRODUCT(D$693:D$700,$I$2580:$I$2587)","v":0.54830956435053779}]
["LV circuits",{"$f":"SUMPRODUCT(D$693:D$700,$J$2580:$J$2587)","v":0}]
[]
["2612. Diversity allowances (including calculated LV value)"]
["Data sources:"]
["x1 = 2609. Calculated LV diversity allowance"]
["x2 = 2611. Diversity allowances including 132kV/HV"]
["Combine tables = x1 or x2"]
[]
[null,"GSPs","132kV","132kV/EHV","EHV","EHV/HV","132kV/HV","HV","HV/LV","LV circuits"]
["Diversity allowances (including calculated LV value)",{"$f":"$B$2596","v":2.4713742436156094E-2},{"$f":"$B$2597","v":7.0839672179421997E-2},{"$f":"$B$2598","v":7.0839672179421997E-2},{"$f":"$B$2599","v":0.15545489876905783},{"$f":"$B$2600","v":0.15545489876905783},{"$f":"$B$2601","v":7.0839672179421997E-2},{"$f":"$B$2602","v":0.54830956435053779},{"$f":"$B$2603","v":0.54830956435053779},{"$f":"$B2575","v":0.61526563936694223}]
[]
["2613. Forecast simultaneous maximum load (kW) adjusted for standing charges"]
["Data sources:"]
["x1 = 2506. Forecast system simultaneous maximum load (kW) from forecast units"]
["x2 = 2608. Forecast simultaneous load replaced by standing charge (kW)"]
["x3 = 2606. Forecast chargeable aggregate maximum load (kW)"]
["x4 = 2612. Diversity allowances (including calculated LV value)"]
["Calculation =x1-x2+x3/(1+x4)"]
[]
[null,"GSPs","132kV","132kV/EHV","EHV","EHV/HV","132kV/HV","HV","HV/LV","LV circuits"]
["Forecast simultaneous maximum load (kW) adjusted for standing charges",{"$f":"B2409-B2566+B2531/(1+B2613)","v":4581801.4205088308},4543829.5856439201,4156362.8344074693,4343581.9003154971,5298110.3917828631,448777.35432475409,5385836.5863988064,4094832.6515925936,3252011.3031825526]
[]
[{"$f":"\"Other expenditure for \"&CDCM!B7&\" in \"&CDCM!C7&\" (\"&CDCM!D7&\")\"","v":"Other expenditure for WPD East Midlands in 2023/24 (Forecast)"}]
[]
["2701. Operating expenditure coded by network level (£/year)"]
["Data sources:"]
["x1 = 1055. Transmission exit charges (£/year)"]
["x2 = Zero for levels other than transmission exit"]
["Combine tables = x1 or x2"]
[]
[null,"Transmission\nexit","Operating\n132kV","Operating\n132kV/EHV","Operating\nEHV","Operating\nEHV/HV","Operating\n132kV/HV","Operating\nHV","Operating\nHV/LV","Operating\nLV circuits","Operating\nLV customer","Operating\nHV customer"]
["Operating expenditure coded by network level (£/year)",{"$f":"$B262","v":16632117.075494064},0,0,0,0,0,0,0,0,0,0]
[]
["2702. Network model assets (£) scaled by load forecast"]
["Data sources:"]
["x1 = 2108. GSP simultaneous maximum load assumed through each network level (MW)"]
["x2 = 2613. Forecast simultaneous maximum load (kW) adjusted for standing charges"]
["x3 = 1020. Gross asset cost by network level (£)"]
["Calculation =IF(x1,x2*x3/x1/1000,0)"]
[]
[null,"Assets\n132kV","Assets\n132kV/EHV","Assets\nEHV","Assets\nEHV/HV","Assets\n132kV/HV","Assets\nHV","Assets\nHV/LV","Assets\nLV circuits"]
["Network model assets (£) scaled by load forecast",{"$f":"IF($B$758,$C2624*$B$46/$B$758/1000,0)","v":596448757.91538084},{"$f":"IF($B$759,$D2624*$B$47/$B$759/1000,0)","v":301544618.31338513},{"$f":"IF($B$760,$E2624*$B$48/$B$760/1000,0)","v":385958538.368146},{"$f":"IF($B$761,$F2624*$B$49/$B$761/1000,0)","v":770306453.31717777},{"$f":"IF($B$762,$G2624*$B$50/$B$762/1000,0)","v":67450812.854220256},{"$f":"IF($B$763,$H2624*$B$51/$B$763/1000,0)","v":1745573052.2677393},{"$f":"IF($B$764,$I2624*$B$52/$B$764/1000,0)","v":609179425.88281977},{"$f":"IF($B$765,$J2624*$B$53/$B$765/1000,0)","v":968423226.8746357}]
[]
["2703. Annual consumption by tariff for unmetered users (MWh)"]
["Data sources:"]
["x1 = 2407. All units (MWh)"]
["Copy cells = x1"]
[]
[null,"Annual consumption by tariff for unmetered users (MWh)"]
["NHH UMS category A",{"$f":"B$1443","v":34604.932768110302}]
["NHH UMS category B",{"$f":"B$1444","v":23009.821912317228}]
["NHH UMS category C",{"$f":"B$1445","v":339.10140823796002}]
["NHH UMS category D",{"$f":"B$1446","v":7208.5560845431746}]
["LV UMS (Pseudo HH Metered)",{"$f":"B$1447","v":231659.30567358769}]
[]
["2704. Total unmetered units"]
["Data sources:"]
["x1 = 2703. Annual consumption by tariff for unmetered users (MWh)"]
["Cell summation =SUM(x1)"]
[]
[null,"Total unmetered units"]
["Total unmetered units",{"$f":"SUM(B$2653:B$2657)","v":296821.71784679638}]
[]
["2705. Service model asset data"]
["Data sources:"]
["x1 = 2205. Service model assets by tariff (£)"]
["x2 = 2305. MPANs (in Equivalent volume for each end user)"]
["x3 = 2202. LV unmetered service model assets £/(MWh/year)"]
["x4 = 2704. Total unmetered units"]
["x5 = Service model assets (£) scaled by annual MWh (in Service model asset data)"]
["x6 = Service model assets (£) scaled by user count (in Service model asset data)"]
["x7 = Service model assets (£) scaled by annual MWh (in Service model asset data)"]
["Kind:","Sum-product calculation",null,"Calculation","Copy cells",null,"Calculation"]
["Formula:","=SUMPRODUCT(x1, x2)",null,"=x3*x4","= x5",null,"=x6+x7"]
[]
[null,"Service model assets (£) scaled by user count",null,null,"Service model assets (£) scaled by annual MWh",null,"Service model assets (£)"]
[null,"Assets\nLV customer","Assets\nHV customer","Service model assets (£) scaled by annual MWh","Assets\nLV customer","Assets\nHV customer","Assets\nLV customer","Assets\nHV customer"]
["Service model asset data",{"$f":"SUMPRODUCT(B$855:B$887,$E$1268:$E$1300)","v":781575427.23261225},{"$f":"SUMPRODUCT(C$855:C$887,$E$1268:$E$1300)","v":44562895.082567826},{"$f":"B822*$B2665","v":86107821.332633242},{"$f":"$D2681","v":86107821.332633242},null,{"$f":"B2681+E2681","v":867683248.56524551},{"$f":"C2681+F2681","v":44562895.082567826}]
[]
["2706. Data for allocation of operating expenditure"]
["Data sources:"]
["x1 = 2702. Network model assets (£) scaled by load forecast"]
["x2 = 2705. Service model assets (£) (in Service model asset data)"]
["x3 = Model assets (£) scaled by demand forecast (in Data for allocation of operating expenditure)"]
["Kind:","Combine tables",null,null,null,null,null,null,null,null,null,null,"Cell summation"]
["Formula:","= x1 or x2",null,null,null,null,null,null,null,null,null,null,"=SUM(x3)"]
[]
[null,"Model assets (£) scaled by demand forecast"]
[null,"GSPs","Assets\n132kV","Assets\n132kV/EHV","Assets\nEHV","Assets\nEHV/HV","Assets\n132kV/HV","Assets\nHV","Assets\nHV/LV","Assets\nLV circuits","Assets\nLV customer","Assets\nHV customer","Denominator for allocation of operating expenditure"]
["Data for allocation of operating expenditure",null,{"$f":"$B2645","v":596448757.91538084},{"$f":"$C2645","v":301544618.31338513},{"$f":"$D2645","v":385958538.368146},{"$f":"$E2645","v":770306453.31717777},{"$f":"$F2645","v":67450812.854220256},{"$f":"$G2645","v":1745573052.2677393},{"$f":"$H2645","v":609179425.88281977},{"$f":"$I2645","v":968423226.8746357},{"$f":"$G2681","v":867683248.56524551},{"$f":"$H2681","v":44562895.082567826},{"$f":"SUM($B2693:$L2693)","v":6357131029.4413185}]
[]
["2707. Amount of expenditure to be allocated according to asset values (£/year)"]
["Data sources:"]
["x1 = 1059. Direct cost (£/year) (in Other expenditure)"]
["x2 = 1059. Network rates (£/year) (in Other expenditure)"]
["x3 = 1059. Indirect cost (£/year) (in Other expenditure)"]
["x4 = 1059. Indirect cost proportion (in Other expenditure)"]
["Calculation =x1+x2+x3*x4"]
[]
[null,"Amount of expenditure to be allocated according to asset values (£/year)"]
["Other expenditure",{"$f":"B267+E267+C267*D267","v":156394674.61424428}]
[]
["2708. Total operating expenditure by network level  (£/year)"]
["Data sources:"]
["x1 = 2701. Operating expenditure coded by network level (£/year)"]
["x2 = 2707. Amount of expenditure to be allocated according to asset values (£/year)"]
["x3 = 2706. Denominator for allocation of operating expenditure (in Data for allocation of operating expenditure)"]
["x4 = 2706. Model assets (£) scaled by demand forecast (in Data for allocation of operating expenditure)"]
["Calculation =x1+x2/x3*x4"]
[]
[null,"Transmission\nexit","Operating\n132kV","Operating\n132kV/EHV","Operating\nEHV","Operating\nEHV/HV","Operating\n132kV/HV","Operating\nHV","Operating\nHV/LV","Operating\nLV circuits","Operating\nLV customer","Operating\nHV customer"]
["Total operating expenditure by network level  (£/year)",{"$f":"B2635+$B2704/$M2693*B2693","v":16632117.075494064},14673507.433815466,7418436.4368753461,9495141.7145762797,18950659.749163605,1659388.1548056016,42943637.351580299,14986700.392269332,23824620.69045091,21346270.62099706,1096312.0697103818]
[]
["2709. Operating expenditure percentage by network level"]
["Data sources:"]
["x1 = 2706. Model assets (£) scaled by demand forecast (in Data for allocation of operating expenditure)"]
["x2 = 2708. Total operating expenditure by network level  (£/year)"]
["Calculation =IF(x1=\"\",\"\",IF(x1>0,x2/x1,0))"]
[]
[null,"Transmission\nexit","Operating\n132kV","Operating\n132kV/EHV","Operating\nEHV","Operating\nEHV/HV","Operating\n132kV/HV","Operating\nHV","Operating\nHV/LV","Operating\nLV circuits","Operating\nLV customer","Operating\nHV customer"]
["Operating expenditure percentage by network level",{"$f":"IF(B2693=\"\",\"\",IF(B2693>0,B2715/B2693,0))","v":""},2.4601455261806782E-2,2.4601455261806782E-2,2.4601455261806782E-2,2.4601455261806786E-2,2.4601455261806782E-2,2.4601455261806782E-2,2.4601455261806782E-2,2.4601455261806782E-2,2.4601455261806782E-2,2.4601455261806782E-2]
[]
["2710. Unit operating expenditure based on simultaneous maximum load (£/kW/year)"]
["Data sources:"]
["x1 = 2613. Forecast simultaneous maximum load (kW) adjusted for standing charges"]
["x2 = 2708. Total operating expenditure by network level  (£/year)"]
["Calculation =IF(x1>0,x2/x1,0)"]
[]
[null,"Transmission\nexit","Operating\n132kV","Operating\n132kV/EHV","Operating\nEHV","Operating\nEHV/HV","Operating\n132kV/HV","Operating\nHV","Operating\nHV/LV","Operating\nLV circuits"]
["Unit operating expenditure based on simultaneous maximum load (£/kW/year)",{"$f":"IF(B2624>0,$B2715/B2624,0)","v":3.6300388316800922},{"$f":"IF(C2624>0,$C2715/C2624,0)","v":3.2293260909643111},{"$f":"IF(D2624>0,$D2715/D2624,0)","v":1.7848385072312671},{"$f":"IF(E2624>0,$E2715/E2624,0)","v":2.1860165026211655},{"$f":"IF(F2624>0,$F2715/F2624,0)","v":3.5768714405338264},{"$f":"IF(G2624>0,$G2715/G2624,0)","v":3.6975755100262897},{"$f":"IF(H2624>0,$H2715/H2624,0)","v":7.9734386037683693},{"$f":"IF(I2624>0,$I2715/I2624,0)","v":3.6599054631550301},{"$f":"IF(J2624>0,$J2715/J2624,0)","v":7.3261186598998451}]
[]
["2711. Operating expenditure for customer assets p/MPAN/day"]
["Data sources:"]
["x1 = 1010. Days in the charging year (in Financial and general assumptions)"]
["x2 = 2709. Operating expenditure percentage by network level"]
["x3 = 2205. Service model assets by tariff (£)"]
["x4 = Operating expenditure p/MPAN/day by level (in Operating expenditure for customer assets p/MPAN/day)"]
["Kind:","Calculation",null,"Cell summation"]
["Formula:","=100/x1*x2*x3",null,"=SUM(x4)"]
[]
[null,"Operating expenditure p/MPAN/day by level"]
[null,"Operating\nLV customer","Operating\nHV customer","Operating expenditure for customer assets p/MPAN/day total"]
["Domestic Unrestricted",{"$f":"100/$F$14*$K$2724*$B855","v":1.660808432519489},{"$f":"100/$F$14*$L$2724*$C855","v":0},{"$f":"SUM($B2746:$C2746)","v":1.660808432519489}]
["Domestic Two Rate",1.660808432519489,0,1.660808432519489]
["Domestic Off Peak (related MPAN)",0,0,0]
["Small Non Domestic Unrestricted",5.0642423904449991,0,5.0642423904449991]
["Small Non Domestic Two Rate",5.0642423904449991,0,5.0642423904449991]
["Small Non Domestic Off Peak (related MPAN)",0,0,0]
["LV Medium Non-Domestic",5.8572153882864093,0,5.8572153882864093]
["LV Sub Medium Non-Domestic",4.250723699852573,0,4.250723699852573]
["HV Medium Non-Domestic",0,79.063509574340202,79.063509574340202]
["LV Network Domestic",1.660808432519489,0,1.660808432519489]
["LV Network Non-Domestic Non-CT",5.0642423904449991,0,5.0642423904449991]
["LV HH Metered",9.3780238957553443,0,9.3780238957553443]
["LV Sub HH Metered",7.3208759127438565,0,7.3208759127438565]
["HV HH Metered",0,79.063509574340202,79.063509574340202]
["NHH UMS category A",0,0,0]
["NHH UMS category B",0,0,0]
["NHH UMS category C",0,0,0]
["NHH UMS category D",0,0,0]
["LV UMS (Pseudo HH Metered)",0,0,0]
["LV Generation NHH or Aggregate HH",0,0,0]
["LV Sub Generation NHH",0,0,0]
["LV Generation Intermittent",0,0,0]
["LV Generation Intermittent no RP charge",0,0,0]
["LV Generation Non-Intermittent",0,0,0]
["LV Generation Non-Intermittent no RP charge",0,0,0]
["LV Sub Generation Intermittent",0,0,0]
["LV Sub Generation Intermittent no RP charge",0,0,0]
["LV Sub Generation Non-Intermittent",0,0,0]
["LV Sub Generation Non-Intermittent no RP charge",0,0,0]
["HV Generation Intermittent",0,32.504721557304279,32.504721557304279]
["HV Generation Intermittent no RP charge",0,32.504721557304279,32.504721557304279]
["HV Generation Non-Intermittent",0,32.504721557304279,32.504721557304279]
["HV Generation Non-Intermittent no RP charge",0,32.504721557304279,32.504721557304279]
[]
["2712. Operating expenditure for unmetered customer assets (p/kWh)"]
["Data sources:"]
["x1 = 2709. Operating expenditure percentage by network level"]
["x2 = 2202. LV unmetered service model assets £/(MWh/year)"]
["Calculation =0.1*x1*x2"]
[]
[null,"Operating\nLV customer"]
["NHH UMS category A",{"$f":"0.1*$K$2724*$B$822","v":0.71368689918431871}]
["NHH UMS category B",{"$f":"0.1*$K$2724*$B$822","v":0.71368689918431871}]
["NHH UMS category C",{"$f":"0.1*$K$2724*$B$822","v":0.71368689918431871}]
["NHH UMS category D",{"$f":"0.1*$K$2724*$B$822","v":0.71368689918431871}]
["LV UMS (Pseudo HH Metered)",{"$f":"0.1*$K$2724*$B$822","v":0.71368689918431871}]
[]
[{"$f":"\"Customer contributions for \"&CDCM!B7&\" in \"&CDCM!C7&\" (\"&CDCM!D7&\")\"","v":"Customer contributions for WPD East Midlands in 2023/24 (Forecast)"}]
["This sheet calculates factors used to take account of the costs deemed to be covered by connection charges."]
[]
["2801. Network level of supply (for customer contributions) by tariff"]
[]
[null,"LV network","LV substation","HV network","HV substation"]
["Domestic Unrestricted",1,0,0,0]
["Domestic Two Rate",1,0,0,0]
["Domestic Off Peak (related MPAN)",1,0,0,0]
["Small Non Domestic Unrestricted",1,0,0,0]
["Small Non Domestic Two Rate",1,0,0,0]
["Small Non Domestic Off Peak (related MPAN)",1,0,0,0]
["LV Medium Non-Domestic",1,0,0,0]
["LV Sub Medium Non-Domestic",0,1,0,0]
["HV Medium Non-Domestic",0,0,1,0]
["LV Network Domestic",1,0,0,0]
["LV Network Non-Domestic Non-CT",1,0,0,0]
["LV HH Metered",1,0,0,0]
["LV Sub HH Metered",0,1,0,0]
["HV HH Metered",0,0,1,0]
["NHH UMS category A",1,0,0,0]
["NHH UMS category B",1,0,0,0]
["NHH UMS category C",1,0,0,0]
["NHH UMS category D",1,0,0,0]
["LV UMS (Pseudo HH Metered)",1,0,0,0]
["LV Generation NHH or Aggregate HH",1,0,0,0]
["LV Sub Generation NHH",0,1,0,0]
["LV Generation Intermittent",1,0,0,0]
["LV Generation Intermittent no RP charge",1,0,0,0]
["LV Generation Non-Intermittent",1,0,0,0]
["LV Generation Non-Intermittent no RP charge",1,0,0,0]
["LV Sub Generation Intermittent",0,1,0,0]
["LV Sub Generation Intermittent no RP charge",0,1,0,0]
["LV Sub Generation Non-Intermittent",0,1,0,0]
["LV Sub Generation Non-Intermittent no RP charge",0,1,0,0]
["HV Generation Intermittent",0,0,1,0]
["HV Generation Intermittent no RP charge",0,0,1,0]
["HV Generation Non-Intermittent",0,0,1,0]
["HV Generation Non-Intermittent no RP charge",0,0,1,0]
[]
["2802. Contribution proportion of asset annuities, by customer type and network level of assets"]
["Data sources:"]
["x1 = 1060. Customer contributions under current connection charging policy"]
["x2 = 1010. Annuity proportion for customer-contributed assets (in Financial and general assumptions)"]
["Calculation =x1*(1-x2)"]
[]
[null,"LV network","LV substation","HV network","HV substation"]
["Assets 132kV",{"$f":"$B$275*(1-$D$14)","v":0},{"$f":"$B$276*(1-$D$14)","v":0},{"$f":"$B$277*(1-$D$14)","v":0},{"$f":"$B$278*(1-$D$14)","v":0}]
["Assets 132kV/EHV",{"$f":"$C$275*(1-$D$14)","v":0},{"$f":"$C$276*(1-$D$14)","v":0},{"$f":"$C$277*(1-$D$14)","v":0},{"$f":"$C$278*(1-$D$14)","v":0}]
["Assets EHV",{"$f":"$D$275*(1-$D$14)","v":0},{"$f":"$D$276*(1-$D$14)","v":0},{"$f":"$D$277*(1-$D$14)","v":6.5420049562801799E-2},{"$f":"$D$278*(1-$D$14)","v":6.5420049562801799E-2}]
["Assets EHV/HV",{"$f":"$E$275*(1-$D$14)","v":0},{"$f":"$E$276*(1-$D$14)","v":0},{"$f":"$E$277*(1-$D$14)","v":0.35162962287700078},{"$f":"$E$278*(1-$D$14)","v":0.35162962287700078}]
["Assets 132kV/HV",{"$f":"$F$275*(1-$D$14)","v":0},{"$f":"$F$276*(1-$D$14)","v":0},{"$f":"$F$277*(1-$D$14)","v":0.35162962287700078},{"$f":"$F$278*(1-$D$14)","v":0}]
["Assets HV",{"$f":"$G$275*(1-$D$14)","v":0.47913351897273304},{"$f":"$G$276*(1-$D$14)","v":0.47913351897273304},{"$f":"$G$277*(1-$D$14)","v":0.63783919619119978},{"$f":"$G$278*(1-$D$14)","v":0}]
["Assets HV/LV",{"$f":"$H$275*(1-$D$14)","v":0.70892384564689981},{"$f":"$H$276*(1-$D$14)","v":0.70892384564689981},{"$f":"$H$277*(1-$D$14)","v":0},{"$f":"$H$278*(1-$D$14)","v":0}]
["Assets LV circuits",{"$f":"$I$275*(1-$D$14)","v":0.93871417232106646},{"$f":"$I$276*(1-$D$14)","v":0},{"$f":"$I$277*(1-$D$14)","v":0},{"$f":"$I$278*(1-$D$14)","v":0}]
[]
["2803. Proportion of asset annuities deemed to be covered by customer contributions"]
["Data sources:"]
["x1 = 2801. Network level of supply (for customer contributions) by tariff"]
["x2 = 2802. Contribution proportion of asset annuities, by customer type and network level of assets"]
["Sum-product calculation =SUMPRODUCT(x1, x2)"]
[]
[null,"Assets\n132kV","Assets\n132kV/EHV","Assets\nEHV","Assets\nEHV/HV","Assets\n132kV/HV","Assets\nHV","Assets\nHV/LV","Assets\nLV circuits"]
["Domestic Unrestricted",{"$f":"SUMPRODUCT($B2799:$E2799,$B$2840:$E$2840)","v":0},{"$f":"SUMPRODUCT($B2799:$E2799,$B$2841:$E$2841)","v":0},{"$f":"SUMPRODUCT($B2799:$E2799,$B$2842:$E$2842)","v":0},{"$f":"SUMPRODUCT($B2799:$E2799,$B$2843:$E$2843)","v":0},{"$f":"SUMPRODUCT($B2799:$E2799,$B$2844:$E$2844)","v":0},{"$f":"SUMPRODUCT($B2799:$E2799,$B$2845:$E$2845)","v":0.47913351897273304},{"$f":"SUMPRODUCT($B2799:$E2799,$B$2846:$E$2846)","v":0.70892384564689981},{"$f":"SUMPRODUCT($B2799:$E2799,$B$2847:$E$2847)","v":0.93871417232106646}]
["Domestic Two Rate",0,0,0,0,0,0.47913351897273304,0.70892384564689981,0.93871417232106646]
["Domestic Off Peak (related MPAN)",0,0,0,0,0,0.47913351897273304,0.70892384564689981,0.93871417232106646]
["Small Non Domestic Unrestricted",0,0,0,0,0,0.47913351897273304,0.70892384564689981,0.93871417232106646]
["Small Non Domestic Two Rate",0,0,0,0,0,0.47913351897273304,0.70892384564689981,0.93871417232106646]
["Small Non Domestic Off Peak (related MPAN)",0,0,0,0,0,0.47913351897273304,0.70892384564689981,0.93871417232106646]
["LV Medium Non-Domestic",0,0,0,0,0,0.47913351897273304,0.70892384564689981,0.93871417232106646]
["LV Sub Medium Non-Domestic",0,0,0,0,0,0.47913351897273304,0.70892384564689981,0]
["HV Medium Non-Domestic",0,0,6.5420049562801799E-2,0.35162962287700078,0.35162962287700078,0.63783919619119978,0,0]
["LV Network Domestic",0,0,0,0,0,0.47913351897273304,0.70892384564689981,0.93871417232106646]
["LV Network Non-Domestic Non-CT",0,0,0,0,0,0.47913351897273304,0.70892384564689981,0.93871417232106646]
["LV HH Metered",0,0,0,0,0,0.47913351897273304,0.70892384564689981,0.93871417232106646]
["LV Sub HH Metered",0,0,0,0,0,0.47913351897273304,0.70892384564689981,0]
["HV HH Metered",0,0,6.5420049562801799E-2,0.35162962287700078,0.35162962287700078,0.63783919619119978,0,0]
["NHH UMS category A",0,0,0,0,0,0.47913351897273304,0.70892384564689981,0.93871417232106646]
["NHH UMS category B",0,0,0,0,0,0.47913351897273304,0.70892384564689981,0.93871417232106646]
["NHH UMS category C",0,0,0,0,0,0.47913351897273304,0.70892384564689981,0.93871417232106646]
["NHH UMS category D",0,0,0,0,0,0.47913351897273304,0.70892384564689981,0.93871417232106646]
["LV UMS (Pseudo HH Metered)",0,0,0,0,0,0.47913351897273304,0.70892384564689981,0.93871417232106646]
["LV Generation NHH or Aggregate HH",0,0,0,0,0,0.47913351897273304,0.70892384564689981,0.93871417232106646]
["LV Sub Generation NHH",0,0,0,0,0,0.47913351897273304,0.70892384564689981,0]
["LV Generation Intermittent",0,0,0,0,0,0.47913351897273304,0.70892384564689981,0.93871417232106646]
["LV Generation Intermittent no RP charge",0,0,0,0,0,0.47913351897273304,0.70892384564689981,0.93871417232106646]
["LV Generation Non-Intermittent",0,0,0,0,0,0.47913351897273304,0.70892384564689981,0.93871417232106646]
["LV Generation Non-Intermittent no RP charge",0,0,0,0,0,0.47913351897273304,0.70892384564689981,0.93871417232106646]
["LV Sub Generation Intermittent",0,0,0,0,0,0.47913351897273304,0.70892384564689981,0]
["LV Sub Generation Intermittent no RP charge",0,0,0,0,0,0.47913351897273304,0.70892384564689981,0]
["LV Sub Generation Non-Intermittent",0,0,0,0,0,0.47913351897273304,0.70892384564689981,0]
["LV Sub Generation Non-Intermittent no RP charge",0,0,0,0,0,0.47913351897273304,0.70892384564689981,0]
["HV Generation Intermittent",0,0,6.5420049562801799E-2,0.35162962287700078,0.35162962287700078,0.63783919619119978,0,0]
["HV Generation Intermittent no RP charge",0,0,6.5420049562801799E-2,0.35162962287700078,0.35162962287700078,0.63783919619119978,0,0]
["HV Generation Non-Intermittent",0,0,6.5420049562801799E-2,0.35162962287700078,0.35162962287700078,0.63783919619119978,0,0]
["HV Generation Non-Intermittent no RP charge",0,0,6.5420049562801799E-2,0.35162962287700078,0.35162962287700078,0.63783919619119978,0,0]
[]
["2804. Proportion of annual charge covered by contributions (for all charging levels)"]
["Data sources:"]
["x1 = Zero for operating expenditure"]
["x2 = Zero for GSPs level"]
["x3 = 2803. Proportion of asset annuities deemed to be covered by customer contributions"]
["Combine tables = x1 or x2 or x3"]
[]
[null,"GSPs","Assets\n132kV","Assets\n132kV/EHV","Assets\nEHV","Assets\nEHV/HV","Assets\n132kV/HV","Assets\nHV","Assets\nHV/LV","Assets\nLV circuits","Transmission\nexit","Operating\n132kV","Operating\n132kV/EHV","Operating\nEHV","Operating\nEHV/HV","Operating\n132kV/HV","Operating\nHV","Operating\nHV/LV","Operating\nLV circuits"]
["Domestic Unrestricted",0,{"$f":"$B2856","v":0},{"$f":"$C2856","v":0},{"$f":"$D2856","v":0},{"$f":"$E2856","v":0},{"$f":"$F2856","v":0},{"$f":"$G2856","v":0.47913351897273304},{"$f":"$H2856","v":0.70892384564689981},{"$f":"$I2856","v":0.93871417232106646},0,0,0,0,0,0,0,0,0]
["Domestic Two Rate",0,0,0,0,0,0,0.47913351897273304,0.70892384564689981,0.93871417232106646,0,0,0,0,0,0,0,0,0]
["Domestic Off Peak (related MPAN)",0,0,0,0,0,0,0.47913351897273304,0.70892384564689981,0.93871417232106646,0,0,0,0,0,0,0,0,0]
["Small Non Domestic Unrestricted",0,0,0,0,0,0,0.47913351897273304,0.70892384564689981,0.93871417232106646,0,0,0,0,0,0,0,0,0]
["Small Non Domestic Two Rate",0,0,0,0,0,0,0.47913351897273304,0.70892384564689981,0.93871417232106646,0,0,0,0,0,0,0,0,0]
["Small Non Domestic Off Peak (related MPAN)",0,0,0,0,0,0,0.47913351897273304,0.70892384564689981,0.93871417232106646,0,0,0,0,0,0,0,0,0]
["LV Medium Non-Domestic",0,0,0,0,0,0,0.47913351897273304,0.70892384564689981,0.93871417232106646,0,0,0,0,0,0,0,0,0]
["LV Sub Medium Non-Domestic",0,0,0,0,0,0,0.47913351897273304,0.70892384564689981,0,0,0,0,0,0,0,0,0,0]
["HV Medium Non-Domestic",0,0,0,6.5420049562801799E-2,0.35162962287700078,0.35162962287700078,0.63783919619119978,0,0,0,0,0,0,0,0,0,0,0]
["LV Network Domestic",0,0,0,0,0,0,0.47913351897273304,0.70892384564689981,0.93871417232106646,0,0,0,0,0,0,0,0,0]
["LV Network Non-Domestic Non-CT",0,0,0,0,0,0,0.47913351897273304,0.70892384564689981,0.93871417232106646,0,0,0,0,0,0,0,0,0]
["LV HH Metered",0,0,0,0,0,0,0.47913351897273304,0.70892384564689981,0.93871417232106646,0,0,0,0,0,0,0,0,0]
["LV Sub HH Metered",0,0,0,0,0,0,0.47913351897273304,0.70892384564689981,0,0,0,0,0,0,0,0,0,0]
["HV HH Metered",0,0,0,6.5420049562801799E-2,0.35162962287700078,0.35162962287700078,0.63783919619119978,0,0,0,0,0,0,0,0,0,0,0]
["NHH UMS category A",0,0,0,0,0,0,0.47913351897273304,0.70892384564689981,0.93871417232106646,0,0,0,0,0,0,0,0,0]
["NHH UMS category B",0,0,0,0,0,0,0.47913351897273304,0.70892384564689981,0.93871417232106646,0,0,0,0,0,0,0,0,0]
["NHH UMS category C",0,0,0,0,0,0,0.47913351897273304,0.70892384564689981,0.93871417232106646,0,0,0,0,0,0,0,0,0]
["NHH UMS category D",0,0,0,0,0,0,0.47913351897273304,0.70892384564689981,0.93871417232106646,0,0,0,0,0,0,0,0,0]
["LV UMS (Pseudo HH Metered)",0,0,0,0,0,0,0.47913351897273304,0.70892384564689981,0.93871417232106646,0,0,0,0,0,0,0,0,0]
["LV Generation NHH or Aggregate HH",0,0,0,0,0,0,0.47913351897273304,0.70892384564689981,0.93871417232106646,0,0,0,0,0,0,0,0,0]
["LV Sub Generation NHH",0,0,0,0,0,0,0.47913351897273304,0.70892384564689981,0,0,0,0,0,0,0,0,0,0]
["LV Generation Intermittent",0,0,0,0,0,0,0.47913351897273304,0.70892384564689981,0.93871417232106646,0,0,0,0,0,0,0,0,0]
["LV Generation Intermittent no RP charge",0,0,0,0,0,0,0.47913351897273304,0.70892384564689981,0.93871417232106646,0,0,0,0,0,0,0,0,0]
["LV Generation Non-Intermittent",0,0,0,0,0,0,0.47913351897273304,0.70892384564689981,0.93871417232106646,0,0,0,0,0,0,0,0,0]
["LV Generation Non-Intermittent no RP charge",0,0,0,0,0,0,0.47913351897273304,0.70892384564689981,0.93871417232106646,0,0,0,0,0,0,0,0,0]
["LV Sub Generation Intermittent",0,0,0,0,0,0,0.47913351897273304,0.70892384564689981,0,0,0,0,0,0,0,0,0,0]
["LV Sub Generation Intermittent no RP charge",0,0,0,0,0,0,0.47913351897273304,0.70892384564689981,0,0,0,0,0,0,0,0,0,0]
["LV Sub Generation Non-Intermittent",0,0,0,0,0,0,0.47913351897273304,0.70892384564689981,0,0,0,0,0,0,0,0,0,0]
["LV Sub Generation Non-Intermittent no RP charge",0,0,0,0,0,0,0.47913351897273304,0.70892384564689981,0,0,0,0,0,0,0,0,0,0]
["HV Generation Intermittent",0,0,0,6.5420049562801799E-2,0.35162962287700078,0.35162962287700078,0.63783919619119978,0,0,0,0,0,0,0,0,0,0,0]
["HV Generation Intermittent no RP charge",0,0,0,6.5420049562801799E-2,0.35162962287700078,0.35162962287700078,0.63783919619119978,0,0,0,0,0,0,0,0,0,0,0]
["HV Generation Non-Intermittent",0,0,0,6.5420049562801799E-2,0.35162962287700078,0.35162962287700078,0.63783919619119978,0,0,0,0,0,0,0,0,0,0,0]
["HV Generation Non-Intermittent no RP charge",0,0,0,6.5420049562801799E-2,0.35162962287700078,0.35162962287700078,0.63783919619119978,0,0,0,0,0,0,0,0,0,0,0]
[]
[{"$f":"\"Yardsticks for \"&CDCM!B7&\" in \"&CDCM!C7&\" (\"&CDCM!D7&\")\"","v":"Yardsticks for WPD East Midlands in 2023/24 (Forecast)"}]
["This sheet calculates average p/kWh and p/kW/day charges that would apply if no costs were recovered through capacity or fixed charges."]
[]
["2901. Unit cost at each level, £/kW/year (relative to system simultaneous maximum load)"]
["Data sources:"]
["x1 = 2109. Network model annuity by simultaneous maximum load for each network level (£/kW/year)"]
["x2 = 2710. Unit operating expenditure based on simultaneous maximum load (£/kW/year)"]
["Combine tables = x1 or x2"]
[]
[null,"GSPs","Assets\n132kV","Assets\n132kV/EHV","Assets\nEHV","Assets\nEHV/HV","Assets\n132kV/HV","Assets\nHV","Assets\nHV/LV","Assets\nLV circuits","Transmission\nexit","Operating\n132kV","Operating\n132kV/EHV","Operating\nEHV","Operating\nEHV/HV","Operating\n132kV/HV","Operating\nHV","Operating\nHV/LV","Operating\nLV circuits"]
["Unit cost at each level, £/kW/year (relative to system simultaneous maximum load)",null,{"$f":"$B$775","v":6.8406695411945799},{"$f":"$B$776","v":3.7808168232159702},{"$f":"$B$777","v":4.6306306903691929},{"$f":"$B$778","v":7.5768735726289158},{"$f":"$B$779","v":7.8325605575963486},{"$f":"$B$780","v":16.890105569702939},{"$f":"$B$781","v":7.7527642363240536},{"$f":"$B$782","v":15.518890121433696},{"$f":"$B2733","v":3.6300388316800922},{"$f":"$C2733","v":3.2293260909643111},{"$f":"$D2733","v":1.7848385072312671},{"$f":"$E2733","v":2.1860165026211655},{"$f":"$F2733","v":3.5768714405338264},{"$f":"$G2733","v":3.6975755100262897},{"$f":"$H2733","v":7.9734386037683693},{"$f":"$I2733","v":3.6599054631550301},{"$f":"$J2733","v":7.3261186598998451}]
[]
["2902. Pay-as-you-go yardstick unit costs by charging level (p/kWh)"]
["Data sources:"]
["x1 = 2901. Unit cost at each level, £/kW/year (relative to system simultaneous maximum load)"]
["x2 = 2302. Load coefficient"]
["x3 = 2012. Loss adjustment factors between end user meter reading and each network level, scaled by network use"]
["x4 = 2804. Proportion of annual charge covered by contributions (for all charging levels)"]
["x5 = 1010. Days in the charging year (in Financial and general assumptions)"]
["Calculation =x1*x2*x3*(1-x4)/(24*x5)*100"]
[]
[null,"GSPs","Assets\n132kV","Assets\n132kV/EHV","Assets\nEHV","Assets\nEHV/HV","Assets\n132kV/HV","Assets\nHV","Assets\nHV/LV","Assets\nLV circuits","Transmission\nexit","Operating\n132kV","Operating\n132kV/EHV","Operating\nEHV","Operating\nEHV/HV","Operating\n132kV/HV","Operating\nHV","Operating\nHV/LV","Operating\nLV circuits"]
["Domestic Unrestricted",{"$f":"B$2942*$B980*B612*(1-B2898)/(24*$F$14)*100","v":0},0.17439026044053249,8.86211444882785E-2,0.10832557968936878,0.17585491558561489,1.474909178152406E-2,0.21733495049193041,5.4899102337343866E-2,2.2495119012340335E-2,{"$f":"K$2942*$B980*B612*(1-K2898)/(24*$F$14)*100","v":9.2726231004238879E-2},8.2325716022284015E-2,4.1836047244161893E-2,5.1138067509781136E-2,8.3017146743472423E-2,6.9627141935854134E-3,0.19697742348100178,8.9037284294761168E-2,0.17327724321093363]
["Domestic Two Rate",0,0.14401930929068715,7.3187321273049666E-2,8.9460128828101323E-2,0.14522888729011765,1.2180462404690237E-2,0.17948496306791761,4.5338144339770389E-2,1.8577479581629593E-2,7.6577486085658203E-2,6.7988273705421154E-2,3.4550086755626812E-2,4.223211286349704E-2,6.8559288248529027E-2,5.7501220906231772E-3,0.16267280296462888,7.3530988214922446E-2,0.14310012967463218]
["Domestic Off Peak (related MPAN)",0,0,0,0,0,0,0,0,0,0,0,0,0,0,0,0,0,0]
["Small Non Domestic Unrestricted",0,0.16219224375515681,8.2422391206906254E-2,0.10074856692979151,0.16355445116116879,1.3717442036918525E-2,0.20213309606658031,5.1059093356157548E-2,2.0921660515524746E-2,8.6240340621917877E-2,7.6567306950937067E-2,3.8909755368426835E-2,4.7561130362222453E-2,7.7210374400847978E-2,6.4756955740001843E-3,0.18319951012624244,8.2809423422803882E-2,0.16115707836604184]
["Small Non Domestic Two Rate",0,0.13587059762719703,6.9046332252795689E-2,8.439841315407666E-2,0.13701173687073848,1.1491283456723846E-2,0.16932958029892659,4.2772880921954692E-2,1.7526352998044017E-2,7.2244679206495466E-2,6.4141450375601525E-2,3.2595219062490494E-2,3.9842590844821023E-2,6.468015652277026E-2,5.4247762243145193E-3,0.15346866378788157,6.9370554282514763E-2,0.13500342582658764]
["Small Non Domestic Off Peak (related MPAN)",0,0,0,0,0,0,0,0,0,0,0,0,0,0,0,0,0,0]
["LV Medium Non-Domestic",0,0.13443732876084236,6.8317977773738742E-2,8.3508112970990811E-2,0.13556643037903651,1.1370064450547326E-2,0.16754336002880413,4.2321679266700746E-2,1.7341471378830395E-2,7.1482586073214616E-2,6.346483641002211E-2,3.2251379309886606E-2,3.9422300171120778E-2,6.3997859865259438E-2,5.3675514604212687E-3,0.15184975681603066,6.8638779657016286E-2,0.13357930456365341]
["LV Sub Medium Non-Domestic",0,0.13070295851748562,6.6420256168912672E-2,8.1188443166241075E-2,0.13180069620184107,1.1054229326921012E-2,0.16288937780578178,4.1146077064847943E-2,0,6.9496958682291984E-2,6.1701924287521484E-2,3.1355507662389752E-2,3.8327236277478527E-2,6.2220141535668898E-2,5.2184528087429001E-3,0.14763170801558534,6.6732146888765831E-2,0]
["HV Medium Non-Domestic",0,0.12920773303251859,6.5660416752358758E-2,7.5009066764919197E-2,8.4478064966557534E-2,7.0852425681027214E-3,0.11196206193603572,0,0,6.8701922174104896E-2,6.099606199708326E-2,3.099680457959296E-2,3.7888777491996865E-2,6.1508350904778644E-2,5.158754361819941E-3,0.14594281975538134,0,0]
["LV Network Domestic",0,0.16340390483537717,8.3038129674122135E-2,0.10150121153603477,0.16477628864476601,1.3819918519464779E-2,0.20364313625011732,5.144053154813661E-2,2.1077956286477344E-2,8.6884601172590475E-2,7.7139304869590836E-2,3.9200431637089757E-2,4.7916436937043533E-2,7.7787176370441385E-2,6.524072414425524E-3,0.18456810649803007,8.3428053223550486E-2,0.16236100621818331]
["LV Network Non-Domestic Non-CT",0,0.14799245130740912,7.5206381235727093E-2,9.1928115922462972E-2,0.14923539861818899,1.2516491699661358E-2,0.18443651610373718,4.6588913331260036E-2,1.9089987002017146E-2,7.869007243953223E-2,6.9863904606817726E-2,3.5503239510255712E-2,4.339719401059678E-2,7.0450672050592564E-2,5.9087539559755107E-3,0.16716054944543013,7.5559529111602672E-2,0.14704791376420223]
["LV HH Metered",0,0.1237241660254083,6.2873793331872541E-2,7.6853443377110753E-2,0.12476329077860482,1.0463996531065081E-2,0.15419201410595357,3.894911123518633E-2,1.5959548614775932E-2,6.5786217479679485E-2,5.8407393460915356E-2,2.9681302396177021E-2,3.6280780467990811E-2,5.8897940863776511E-2,4.9398171933368231E-3,0.13974901685711488,6.3169030866222123E-2,0.122934516831949]
["LV Sub HH Metered",0,0.11874051820723354,6.0341217417039447E-2,7.3757762818416173E-2,0.1197377866927708,1.0042503502203431E-2,0.14798111190822685,3.7380228942722783E-2,0,6.3136328215998794E-2,5.6054725519496466E-2,2.8485730320977776E-2,3.4819379367224054E-2,5.6525513520677931E-2,4.7408398232028446E-3,0.13411988307245876,6.0624562691847739E-2,0]
["HV HH Metered",0,9.5647854839846669E-2,4.8606053700151572E-2,5.5526524312578991E-2,6.2536084376922277E-2,5.2449511863847413E-3,8.2881502494379936E-2,0,0,5.0857571177054944E-2,4.5153199013490831E-2,2.294582371615355E-2,2.8047704301891071E-2,4.5532428134916411E-2,3.8188409994748228E-3,0.10803623986938485,0,0]
["NHH UMS category A",0,8.4168684372011068E-2,4.2772601636568354E-2,5.2282859738022727E-2,8.4875593670207361E-2,7.1185836169804081E-3,0.10489574821869042,2.6496807822099282E-2,1.0857169243727049E-2,4.4753903404275111E-2,3.9734141058538813E-2,2.0191982321553864E-2,2.4681561073149012E-2,4.0067857024039449E-2,3.3605230696484587E-3,9.5070278256955715E-2,4.2973449665225406E-2,8.3631491551368092E-2]
["NHH UMS category B",0,0.17805637160258772,9.0484178388118189E-2,0.11060284916435026,0.17955181739252832,1.5059153879452176E-2,0.22190386440885693,5.6053216170062078E-2,2.2968021608474845E-2,9.4675563894970324E-2,8.405640456917339E-2,4.2715543607035854E-2,5.221311516227016E-2,8.4762370860630085E-2,7.1090875297959433E-3,0.20111837223050394,9.0909066474382488E-2,0.17691995601990032]
["NHH UMS category C",{"$f":"B$2942*$B996*B628*(1-B2914)/(24*$F$14)*100","v":0},0.34581289068025672,0.17573420713672691,0.21480776364669291,0.34871727667229085,2.9247195634623819E-2,0.43097147332430152,0.10886397684750286,4.46074345677493E-2,{"$f":"K$2942*$B996*B628*(1-K2914)/(24*$F$14)*100","v":0.18387452317840683},0.1632504806350471,8.2960163002181245E-2,0.10140590939360342,0.16462157587738047,1.380694263648565E-2,0.39060284697460201,0.17655940522429997,0.34360579663399404]
["NHH UMS category D",0,8.8219824914283565E-4,4.4831298667194562E-4,5.4799296989370362E-4,8.8960758611684868E-4,7.4612096531299755E-5,1.0994450740378771E-3,2.7772131218321979E-4,1.1379737926197778E-4,4.6907962884457452E-4,4.1646593307918974E-4,2.1163846843638495E-4,2.5869514448635748E-4,4.1996371426315663E-4,3.5222691080030986E-5,9.9646125693392002E-4,4.5041813754304511E-4,8.7656776353694534E-4]
["LV UMS (Pseudo HH Metered)",0,0.18121739909041143,9.2090540308916932E-2,0.11256637702518112,0.18273939346834131,1.5326498422800289E-2,0.2258433146444053,5.7048326625811212E-2,2.3375771957377625E-2,9.6356335311368557E-2,8.5548654484070161E-2,4.3473870906889756E-2,5.3140052461774487E-2,8.6267153766245927E-2,7.2352948701610827E-3,0.20468881847292161,9.2522971416011318E-2,0.18006080876833036]
["LV Generation NHH or Aggregate HH",0,-8.4168684372011068E-2,-4.2772601636568354E-2,-5.2282859738022727E-2,-8.4875593670207361E-2,-7.1185836169804081E-3,-0.10489574821869042,-2.6496807822099282E-2,0,-4.4753903404275111E-2,-3.9734141058538813E-2,-2.0191982321553864E-2,-2.4681561073149012E-2,-4.0067857024039449E-2,-3.3605230696484587E-3,-9.5070278256955715E-2,-4.2973449665225406E-2,0]
["LV Sub Generation NHH",0,-8.1830665361677435E-2,-4.1584473813330344E-2,-5.0830558078633216E-2,-8.251793829047939E-2,-6.9208451831753968E-3,-0.10198197743483792,0,0,-4.3510739420823022E-2,-3.8630414918023846E-2,-1.9631093923732926E-2,-2.3995962154450424E-2,-3.8954860995593907E-2,-3.2671752066026683E-3,-9.242943719426254E-2,0,0]
["LV Generation Intermittent",0,-8.4168684372011068E-2,-4.2772601636568354E-2,-5.2282859738022727E-2,-8.4875593670207361E-2,-7.1185836169804081E-3,-0.10489574821869042,-2.6496807822099282E-2,0,-4.4753903404275111E-2,-3.9734141058538813E-2,-2.0191982321553864E-2,-2.4681561073149012E-2,-4.0067857024039449E-2,-3.3605230696484587E-3,-9.5070278256955715E-2,-4.2973449665225406E-2,0]
["LV Generation Intermittent no RP charge",0,-8.4168684372011068E-2,-4.2772601636568354E-2,-5.2282859738022727E-2,-8.4875593670207361E-2,-7.1185836169804081E-3,-0.10489574821869042,-2.6496807822099282E-2,0,-4.4753903404275111E-2,-3.9734141058538813E-2,-2.0191982321553864E-2,-2.4681561073149012E-2,-4.0067857024039449E-2,-3.3605230696484587E-3,-9.5070278256955715E-2,-4.2973449665225406E-2,0]
["LV Generation Non-Intermittent",0,-8.4168684372011068E-2,-4.2772601636568354E-2,-5.2282859738022727E-2,-8.4875593670207361E-2,-7.1185836169804081E-3,-0.10489574821869042,-2.6496807822099282E-2,0,-4.4753903404275111E-2,-3.9734141058538813E-2,-2.0191982321553864E-2,-2.4681561073149012E-2,-4.0067857024039449E-2,-3.3605230696484587E-3,-9.5070278256955715E-2,-4.2973449665225406E-2,0]
["LV Generation Non-Intermittent no RP charge",0,-8.4168684372011068E-2,-4.2772601636568354E-2,-5.2282859738022727E-2,-8.4875593670207361E-2,-7.1185836169804081E-3,-0.10489574821869042,-2.6496807822099282E-2,0,-4.4753903404275111E-2,-3.9734141058538813E-2,-2.0191982321553864E-2,-2.4681561073149012E-2,-4.0067857024039449E-2,-3.3605230696484587E-3,-9.5070278256955715E-2,-4.2973449665225406E-2,0]
["LV Sub Generation Intermittent",0,-8.1830665361677435E-2,-4.1584473813330344E-2,-5.0830558078633216E-2,-8.251793829047939E-2,-6.9208451831753968E-3,-0.10198197743483792,0,0,-4.3510739420823022E-2,-3.8630414918023846E-2,-1.9631093923732926E-2,-2.3995962154450424E-2,-3.8954860995593907E-2,-3.2671752066026683E-3,-9.242943719426254E-2,0,0]
["LV Sub Generation Intermittent no RP charge",0,-8.1830665361677435E-2,-4.1584473813330344E-2,-5.0830558078633216E-2,-8.251793829047939E-2,-6.9208451831753968E-3,-0.10198197743483792,0,0,-4.3510739420823022E-2,-3.8630414918023846E-2,-1.9631093923732926E-2,-2.3995962154450424E-2,-3.8954860995593907E-2,-3.2671752066026683E-3,-9.242943719426254E-2,0,0]
["LV Sub Generation Non-Intermittent",0,-8.1830665361677435E-2,-4.1584473813330344E-2,-5.0830558078633216E-2,-8.251793829047939E-2,-6.9208451831753968E-3,-0.10198197743483792,0,0,-4.3510739420823022E-2,-3.8630414918023846E-2,-1.9631093923732926E-2,-2.3995962154450424E-2,-3.8954860995593907E-2,-3.2671752066026683E-3,-9.242943719426254E-2,0,0]
["LV Sub Generation Non-Intermittent no RP charge",0,-8.1830665361677435E-2,-4.1584473813330344E-2,-5.0830558078633216E-2,-8.251793829047939E-2,-6.9208451831753968E-3,-0.10198197743483792,0,0,-4.3510739420823022E-2,-3.8630414918023846E-2,-1.9631093923732926E-2,-2.3995962154450424E-2,-3.8954860995593907E-2,-3.2671752066026683E-3,-9.242943719426254E-2,0,0]
["HV Generation Intermittent",0,-8.0583721889499485E-2,-4.0950805640936741E-2,-4.6781331376303026E-2,-5.2686915351381008E-2,-4.4188935385464628E-3,0,0,0,-4.2847718629648576E-2,-3.8041760976415866E-2,-1.9331953444895088E-2,-2.3630309397811178E-2,-3.8361263113756289E-2,-3.217389679644913E-3,0,0,0]
["HV Generation Intermittent no RP charge",0,-8.0583721889499485E-2,-4.0950805640936741E-2,-4.6781331376303026E-2,-5.2686915351381008E-2,-4.4188935385464628E-3,0,0,0,-4.2847718629648576E-2,-3.8041760976415866E-2,-1.9331953444895088E-2,-2.3630309397811178E-2,-3.8361263113756289E-2,-3.217389679644913E-3,0,0,0]
["HV Generation Non-Intermittent",0,-8.0583721889499485E-2,-4.0950805640936741E-2,-4.6781331376303026E-2,-5.2686915351381008E-2,-4.4188935385464628E-3,0,0,0,-4.2847718629648576E-2,-3.8041760976415866E-2,-1.9331953444895088E-2,-2.3630309397811178E-2,-3.8361263113756289E-2,-3.217389679644913E-3,0,0,0]
["HV Generation Non-Intermittent no RP charge",{"$f":"B$2942*$B1012*B644*(1-B2930)/(24*$F$14)*100","v":0},-8.0583721889499485E-2,-4.0950805640936741E-2,-4.6781331376303026E-2,-5.2686915351381008E-2,-4.4188935385464628E-3,0,0,0,{"$f":"K$2942*$B1012*B644*(1-K2930)/(24*$F$14)*100","v":-4.2847718629648576E-2},-3.8041760976415866E-2,-1.9331953444895088E-2,-2.3630309397811178E-2,-3.8361263113756289E-2,-3.217389679644913E-3,0,0,0]
[]
["2903. Contributions to pay-as-you-go unit rate 1 (p/kWh)"]
["Data sources:"]
["x1 = 2460. Unit rate 1 pseudo load coefficient by network level (combined)"]
["x2 = 2901. Unit cost at each level, £/kW/year (relative to system simultaneous maximum load)"]
["x3 = 2012. Loss adjustment factors between end user meter reading and each network level, scaled by network use"]
["x4 = 2804. Proportion of annual charge covered by contributions (for all charging levels)"]
["x5 = 1010. Days in the charging year (in Financial and general assumptions)"]
["Calculation =x1*x2*x3*(1-x4)*100/(24*x5)"]
[]
[null,"GSPs","Assets\n132kV","Assets\n132kV/EHV","Assets\nEHV","Assets\nEHV/HV","Assets\n132kV/HV","Assets\nHV","Assets\nHV/LV","Assets\nLV circuits","Transmission\nexit","Operating\n132kV","Operating\n132kV/EHV","Operating\nEHV","Operating\nEHV/HV","Operating\n132kV/HV","Operating\nHV","Operating\nHV/LV","Operating\nLV circuits"]
["Domestic Unrestricted",{"$f":"B2183*B$2942*B$612*(1-B$2898)*100/(24*$F$14)","v":0},0.16580529203385388,8.4258459762229773E-2,9.9396574131222659E-2,0.16135963641707543,1.4023016330683357E-2,0.19942057619098852,5.0373907168178439E-2,2.064090283119159E-2,{"$f":"B2183*K$2942*B$612*(1-K$2898)*100/(24*$F$14)","v":9.2726698473475422E-2},7.8272945705162383E-2,3.9776521999207538E-2,4.6922884998530763E-2,7.6174251770562848E-2,6.6199503188961693E-3,0.18074106901943612,8.1698164498403572E-2,0.15899443510441488]
["Domestic Two Rate",{"$f":"B2184*B$2942*B$613*(1-B$2899)*100/(24*$F$14)","v":0},0.19776498729025846,0.100499646420042,0.11836189460235406,0.19214779227157175,1.6726014063787781E-2,0.23747093324863427,5.9985478806113088E-2,2.4579281396334363E-2,{"$f":"B2184*K$2942*B$613*(1-K$2899)*100/(24*$F$14)","v":0.11064545095330065},9.3360398348394769E-2,4.7443620593351221E-2,5.5875985839333689E-2,9.0708647036240042E-2,7.8959746979085192E-3,0.21522729076509825,9.7286547550417879E-2,0.18933129974223276]
["Domestic Off Peak (related MPAN)",{"$f":"B2185*B$2942*B$614*(1-B$2900)*100/(24*$F$14)","v":0},5.2125387709419428E-2,2.6488930654927412E-2,3.5705103447335594E-2,5.7963391201894213E-2,4.4085152779269852E-3,7.163559070985992E-2,1.8095247066682446E-2,7.4145973065543941E-3,{"$f":"B2185*K$2942*B$614*(1-K$2900)*100/(24*$F$14)","v":2.2438940182763288E-2},2.4607222073508218E-2,1.2504827834551908E-2,1.6855575532292881E-2,2.7363212095224323E-2,2.0811608167434258E-3,6.4925563309669851E-2,2.9347504583225194E-2,5.7113766772878889E-2]
["Small Non Domestic Unrestricted",{"$f":"B2186*B$2942*B$615*(1-B$2901)*100/(24*$F$14)","v":0},0.16990679496461963,8.6342749807604383E-2,0.10618136925517269,0.17237402080541045,1.4369901776093208E-2,0.21303299457443975,5.3812422456218027E-2,2.2049847738066446E-2,{"$f":"B2186*K$2942*B$615*(1-K$2901)*100/(24*$F$14)","v":8.6281771986191483E-2},8.020917290437532E-2,4.0760468407396402E-2,5.0125834034977439E-2,8.1373894680801848E-2,6.7837071284733473E-3,0.19307842706722605,8.7274868856369148E-2,0.16984737120870627]
["Small Non Domestic Two Rate",{"$f":"B2187*B$2942*B$616*(1-B$2902)*100/(24*$F$14)","v":0},0.18072642512245635,9.18410385601139E-2,0.11195098703856531,0.1817403740819796,1.5284974199501259E-2,0.22460865010203307,5.6736448693106165E-2,2.3247978771062616E-2,{"$f":"B2187*K$2942*B$616*(1-K$2902)*100/(24*$F$14)","v":9.3805378889467897E-2},8.5316876726768243E-2,4.3356086748146408E-2,5.2849540702957748E-2,8.5795539204202076E-2,7.215692219148773E-3,0.20356980360729901,9.2017156876660747E-2,0.17907643295713066]
["Small Non Domestic Off Peak (related MPAN)",{"$f":"B2188*B$2942*B$617*(1-B$2903)*100/(24*$F$14)","v":0},2.3889986272410114E-2,1.2140344993590985E-2,1.8417818540271469E-2,2.9899345417382324E-2,2.0205004528408323E-3,3.6951897161295336E-2,9.3340991829672683E-3,3.8246831560852109E-3,{"$f":"B2188*K$2942*B$617*(1-K$2903)*100/(24*$F$14)","v":8.3469623615060121E-3},1.1277924699868023E-2,5.7311835639797543E-3,8.6946375047899788E-3,1.4114807867512583E-2,9.5383277760625071E-4,3.3490653385899634E-2,1.5138368519807826E-2,2.9461082338714407E-2]
["LV Medium Non-Domestic",{"$f":"B2189*B$2942*B$618*(1-B$2904)*100/(24*$F$14)","v":0},0.1744018634167713,8.8627040855605188E-2,0.10751878467449287,0.17454517074378953,1.475007310560175E-2,0.21571626767372626,5.4490220868959938E-2,2.2327578252990241E-2,{"$f":"B2189*K$2942*B$618*(1-K$2904)*100/(24*$F$14)","v":9.1288439416273515E-2},8.2331193526156282E-2,4.1838830786435834E-2,5.0757197746096647E-2,8.2398845689059266E-2,6.963177454590597E-3,0.19551036091126264,8.8374146028498565E-2,0.17198669654213297]
["LV Sub Medium Non-Domestic",{"$f":"B2190*B$2942*B$619*(1-B$2905)*100/(24*$F$14)","v":0},0.17184028314327049,8.7325304308146737E-2,0.10604757665920016,0.17215682293083459,1.4533426932448704E-2,0.21276456483415812,5.3744616740898178E-2,0,{"$f":"B2190*K$2942*B$619*(1-K$2905)*100/(24*$F$14)","v":8.9790241615058719E-2},8.1121929146185809E-2,4.1224310267507912E-2,5.0062673562402335E-2,8.1271360453845545E-2,6.8609036734559323E-3,0.19283514084700848,8.7164899175723981E-2,0]
["HV Medium Non-Domestic",{"$f":"B2191*B$2942*B$620*(1-B$2906)*100/(24*$F$14)","v":0},0.17268842518019892,8.7756310706160842E-2,9.9919274939815519E-2,0.11253288920699921,9.4695522658650045E-3,0.14914421058558625,0,0,{"$f":"B2191*K$2942*B$620*(1-K$2906)*100/(24*$F$14)","v":8.9498198402136311E-2},8.1522317908163375E-2,4.1427778685050626E-2,5.0471487496587655E-2,8.1935025860414692E-2,6.8947666345168324E-3,0.19440984085739807,0,0]
["LV Network Domestic",{"$f":"B2192*B$2942*B$621*(1-B$2907)*100/(24*$F$14)","v":0},0.9879240486892471,0.50204042153024897,0.52134419723613901,0.84634617288837,8.3553877553048841E-2,1.04597931181615,0.26421578835876858,0.10826343876349412,{"$f":"B2192*K$2942*B$621*(1-K$2907)*100/(24*$F$14)","v":0.6727458629832328},0.46637670291059807,0.23700198090306168,0.24611485884077702,0.39954097499335139,3.9443904600042837E-2,0.94800357415880343,0.42851440664197787,0.8339404738949322]
["LV Network Non-Domestic Non-CT",{"$f":"B2193*B$2942*B$622*(1-B$2908)*100/(24*$F$14)","v":0},1.0515760332745852,0.53438690526536847,0.55480614197394185,0.90066803743846879,8.8937257108499673E-2,1.1131144254597451,0.28117420883373856,0.11521221698761938,{"$f":"B2193*K$2942*B$622*(1-K$2908)*100/(24*$F$14)","v":0.716264507746601},0.49642537187863534,0.25227202767958423,0.26191148964503624,0.42518510433552525,4.1985276895735599E-2,1.0088502151647127,0.45601816609767493,0.88746609132776577]
["LV HH Metered",{"$f":"B2194*B$2942*B$623*(1-B$2909)*100/(24*$F$14)","v":0},0.89421375770603606,0.45441899349703802,0.47178596364515141,0.76589371641681137,7.5628310614314798E-2,0.94655001473922107,0.23909981348587692,9.7972071148684697E-2,{"$f":"B2194*K$2942*B$623*(1-K$2909)*100/(24*$F$14)","v":0.60892188186020457},0.42213818417474142,0.21452097679804943,0.22271953243395101,0.36156118146565464,3.5702422871272115E-2,0.85788771054639368,0.38778044014911278,0.75466728542297068]
["LV Sub HH Metered",{"$f":"B2195*B$2942*B$624*(1-B$2910)*100/(24*$F$14)","v":0},0.86541936575908673,0.43978634163484931,0.45659408157534592,0.74123133153382081,7.3193019053043512E-2,0.91607035382267332,0.2314006099289817,0,{"$f":"B2195*K$2942*B$624*(1-K$2910)*100/(24*$F$14)","v":0.5893141145000419},0.40854499996553933,0.20761323126904796,0.21554778691351051,0.34991862477022662,3.4552776549291578E-2,0.830263046117931,0.37529360253697558,0]
["HV HH Metered",{"$f":"B2196*B$2942*B$625*(1-B$2911)*100/(24*$F$14)","v":0},0.76670026302631356,0.38961954995202147,0.37804695173072062,0.42577086112546125,4.2042819056367288E-2,0.564290665781223,0,0,{"$f":"B2196*K$2942*B$625*(1-K$2911)*100/(24*$F$14)","v":0.52209056611067306},0.36194193396275443,0.18393061828712678,0.19096007260754222,0.31000311786854862,3.0611312754013364E-2,0.73555425384004058,0,0]
["NHH UMS category A",{"$f":"B2197*B$2942*B$626*(1-B$2912)*100/(24*$F$14)","v":0},0.10035440540912687,5.0997815126437189E-2,6.2375145135750439E-2,0.10125933241199524,8.4874942690060205E-3,0.12514402525127433,3.1611549976780881E-2,1.2952954576973414E-2,{"$f":"B2197*K$2942*B$626*(1-K$2912)*100/(24*$F$14)","v":5.3291592756256369E-2},4.737505558181225E-2,2.4074920441372261E-2,2.9445901808522239E-2,4.7802251247847996E-2,4.0067549710967043E-3,0.11342192133497973,5.1268717382399125E-2,9.9775078287122676E-2]
["NHH UMS category B",{"$f":"B2198*B$2942*B$627*(1-B$2913)*100/(24*$F$14)","v":0},0.13938328451901733,7.0831399445170473E-2,7.8073844993343411E-2,0.12674448140614233,1.1788369665760624E-2,0.15664052096467312,3.9567607378150363E-2,1.621297979583889E-2,{"$f":"B2198*K$2942*B$627*(1-K$2913)*100/(24*$F$14)","v":9.1693713516718428E-2},6.5799710778451315E-2,3.3437909097982783E-2,3.6856904596926136E-2,5.9833216357812954E-2,5.5650239354969842E-3,0.14196817475746396,6.4172129543098699E-2,0.12488666726841434]
["NHH UMS category C",{"$f":"B2199*B$2942*B$628*(1-B$2914)*100/(24*$F$14)","v":0},0.26362328744385222,0.13396732929935212,0.14478897971373295,0.23504931963714831,2.2295993207615872E-2,0.29049192100422755,7.3378651999071065E-2,3.0067185790055868E-2,{"$f":"B2199*K$2942*B$628*(1-K$2914)*100/(24*$F$14)","v":0.17487806207883655},0.12445061922689368,6.3242960245037144E-2,6.8351617785063837E-2,0.11096149229203964,1.0525436458482029E-2,0.26328186061166453,0.11900806426780887,0.23160397870994895]
["NHH UMS category D",{"$f":"B2200*B$2942*B$629*(1-B$2915)*100/(24*$F$14)","v":0},6.1822372089398815E-2,3.1416716482346223E-2,4.6586186375940565E-2,7.5627657807962476E-2,5.2286397061090959E-3,9.3466441985877044E-2,2.3609749614941007E-2,9.6741860035547914E-3,{"$f":"B2200*K$2942*B$629*(1-K$2915)*100/(24*$F$14)","v":1.6055193857950373E-2},2.9184950097550781E-2,1.4831124587718672E-2,2.1992289824320235E-2,3.5702114696089374E-2,2.4683230963736123E-3,8.4711542633351886E-2,3.829111768852534E-2,7.4519111460854409E-2]
["LV UMS (Pseudo HH Metered)",{"$f":"B2201*B$2942*B$630*(1-B$2916)*100/(24*$F$14)","v":0},2.6248664656115399,1.3338971438185379,1.3860408372665314,2.2500880690845921,0.22199861573548699,2.780830876796859,0.70244163924193526,0.28782817206871064,{"$f":"B2201*K$2942*B$630*(1-K$2916)*100/(24*$F$14)","v":1.8181383867306431},1.2391403665461043,0.62970281245945803,0.65431867626004203,1.0622159226819599,0.10480054878186319,2.5203534912724428,1.1392444187765611,2.217106393042358]
["LV Generation Non-Intermittent",{"$f":"B2202*B$2942*B$635*(1-B$2921)*100/(24*$F$14)","v":0},-0.73528047000258956,-0.37365272926884008,-0.38793297698699669,-0.62976742073801972,-6.2186495448972715E-2,-0.77831473036585597,-0.19660335319423847,0,{"$f":"B2202*K$2942*B$635*(1-K$2921)*100/(24*$F$14)","v":-0.50069501126621963},-0.34710935700911139,-0.17639304169298808,-0.18313442515903153,-0.29729902179625506,-2.935684453833913E-2,-0.70541084118207342,-0.31885819451279718,0]
["LV Generation Non-Intermittent no RP charge",{"$f":"B2203*B$2942*B$636*(1-B$2922)*100/(24*$F$14)","v":0},-0.73528047000258956,-0.37365272926884008,-0.38793297698699669,-0.62976742073801972,-6.2186495448972715E-2,-0.77831473036585597,-0.19660335319423847,0,{"$f":"B2203*K$2942*B$636*(1-K$2922)*100/(24*$F$14)","v":-0.50069501126621963},-0.34710935700911139,-0.17639304169298808,-0.18313442515903153,-0.29729902179625506,-2.935684453833913E-2,-0.70541084118207342,-0.31885819451279718,0]
["LV Sub Generation Non-Intermittent",{"$f":"B2204*B$2942*B$639*(1-B$2925)*100/(24*$F$14)","v":0},-0.7148560125025174,-0.36327348678915011,-0.37715706095958001,-0.6122738812730748,-6.0459092797612371E-2,-0.75669487674458236,0,0,{"$f":"B2204*K$2942*B$639*(1-K$2925)*100/(24*$F$14)","v":-0.48678681650882466},-0.33746743042552496,-0.17149323497929397,-0.17804735779350286,-0.28904071563524802,-2.8541376634496376E-2,-0.68581609559368262,0,0]
["LV Sub Generation Non-Intermittent no RP charge",{"$f":"B2205*B$2942*B$640*(1-B$2926)*100/(24*$F$14)","v":0},-0.7148560125025174,-0.36327348678915011,-0.37715706095958001,-0.6122738812730748,-6.0459092797612371E-2,-0.75669487674458236,0,0,{"$f":"B2205*K$2942*B$640*(1-K$2926)*100/(24*$F$14)","v":-0.48678681650882466},-0.33746743042552496,-0.17149323497929397,-0.17804735779350286,-0.28904071563524802,-2.8541376634496376E-2,-0.68581609559368262,0,0]
["HV Generation Non-Intermittent",{"$f":"B2206*B$2942*B$643*(1-B$2929)*100/(24*$F$14)","v":0},-0.70396296850247908,-0.35773789079998214,-0.34711225130300727,-0.39093102448753125,-3.8602553219832587E-2,0,0,0,{"$f":"B2206*K$2942*B$643*(1-K$2929)*100/(24*$F$14)","v":-0.47936911263821397},-0.33232506958094554,-0.16888000473199044,-0.17533425519855428,-0.28463628568271088,-2.8106460419113573E-2,0,0,0]
["HV Generation Non-Intermittent no RP charge",{"$f":"B2207*B$2942*B$644*(1-B$2930)*100/(24*$F$14)","v":0},-0.70396296850247908,-0.35773789079998214,-0.34711225130300727,-0.39093102448753125,-3.8602553219832587E-2,0,0,0,{"$f":"B2207*K$2942*B$644*(1-K$2930)*100/(24*$F$14)","v":-0.47936911263821397},-0.33232506958094554,-0.16888000473199044,-0.17533425519855428,-0.28463628568271088,-2.8106460419113573E-2,0,0,0]
[]
["2904. Contributions to pay-as-you-go unit rate 2 (p/kWh)"]
["Data sources:"]
["x1 = 2461. Unit rate 2 pseudo load coefficient by network level (combined)"]
["x2 = 2901. Unit cost at each level, £/kW/year (relative to system simultaneous maximum load)"]
["x3 = 2012. Loss adjustment factors between end user meter reading and each network level, scaled by network use"]
["x4 = 2804. Proportion of annual charge covered by contributions (for all charging levels)"]
["x5 = 1010. Days in the charging year (in Financial and general assumptions)"]
["Calculation =x1*x2*x3*(1-x4)*100/(24*x5)"]
[]
[null,"GSPs","Assets\n132kV","Assets\n132kV/EHV","Assets\nEHV","Assets\nEHV/HV","Assets\n132kV/HV","Assets\nHV","Assets\nHV/LV","Assets\nLV circuits","Transmission\nexit","Operating\n132kV","Operating\n132kV/EHV","Operating\nEHV","Operating\nEHV/HV","Operating\n132kV/HV","Operating\nHV","Operating\nHV/LV","Operating\nLV circuits"]
["Domestic Two Rate",{"$f":"B2216*B$2942*B$613*(1-B$2899)*100/(24*$F$14)","v":0},2.2853443893131624E-3,1.1613597847676908E-3,4.9669696289939289E-3,8.0633404162503992E-3,1.9328346700798102E-4,9.9652926068602519E-3,2.5172463858541259E-3,1.0314514194643533E-3,{"$f":"B2216*K$2942*B$613*(1-K$2899)*100/(24*$F$14)","v":0},1.0788596377598312E-3,5.4825180947011055E-4,2.3447945437715689E-3,3.8065214859037385E-3,9.1244773512610486E-5,9.0318545521121379E-3,4.082558230552257E-3,7.9451483840890878E-3]
["Small Non Domestic Two Rate",{"$f":"B2217*B$2942*B$616*(1-B$2902)*100/(24*$F$14)","v":0},2.2939148818560324E-3,1.1657151131906126E-3,4.9855860461248255E-3,8.0935621650972383E-3,1.9400831815969292E-4,1.0002642954830535E-2,2.5266811342501603E-3,1.0353173440238506E-3,{"$f":"B2217*K$2942*B$616*(1-K$2902)*100/(24*$F$14)","v":0},1.0829055743475341E-3,5.503078619699662E-4,2.3535829352000757E-3,3.8207884931722438E-3,9.1586959423242852E-5,9.0657063338557206E-3,4.097859835486075E-3,7.9749271440842495E-3]
["LV Medium Non-Domestic",{"$f":"B2218*B$2942*B$618*(1-B$2904)*100/(24*$F$14)","v":0},2.1026804349444789E-3,1.0685341381288548E-3,4.5699668511018773E-3,7.4188491502570767E-3,1.7783462587801126E-4,9.1687810227473431E-3,2.3160464828007143E-3,9.4900898285316115E-4,{"$f":"B2218*K$2942*B$618*(1-K$2904)*100/(24*$F$14)","v":0},9.9262809709422346E-4,5.0443091141382488E-4,2.157378469787643E-3,3.5022716682305698E-3,8.3951723404614528E-5,8.3099513365630269E-3,3.7562451907111813E-3,7.3101040381692954E-3]
["LV Sub Medium Non-Domestic",{"$f":"B2219*B$2942*B$619*(1-B$2905)*100/(24*$F$14)","v":0},2.0962406842106734E-3,1.0652616039930184E-3,4.5559706932008642E-3,7.3961278948226428E-3,1.7728998264860676E-4,9.140700358021463E-3,2.308953268925093E-3,0,{"$f":"B2219*K$2942*B$619*(1-K$2905)*100/(24*$F$14)","v":0},9.8958803574660968E-4,5.0288602172067606E-4,2.1507711987287484E-3,3.4915454750484511E-3,8.369460959720262E-5,8.2845009569769631E-3,3.7447411683589316E-3,0]
["HV Medium Non-Domestic",{"$f":"B2220*B$2942*B$620*(1-B$2906)*100/(24*$F$14)","v":0},2.0981379025044235E-3,1.0662257269670396E-3,4.2617725259273802E-3,4.7997703723780096E-3,1.1505360887983937E-4,6.3613221718995848E-3,0,0,{"$f":"B2220*K$2942*B$620*(1-K$2906)*100/(24*$F$14)","v":0},9.904836697922784E-4,5.0334116247205364E-4,2.1527177702720997E-3,3.4947055243684643E-3,8.3770358028960543E-5,8.2919989064674758E-3,0,0]
["LV Network Domestic",{"$f":"B2221*B$2942*B$621*(1-B$2907)*100/(24*$F$14)","v":0},7.520479990825088E-2,3.8217360430824444E-2,6.6900298839888933E-2,0.10860543224303364,6.3604612634670906E-3,0.1342228971029413,3.3904885281406914E-2,1.3892657566937828E-2,{"$f":"B2221*K$2942*B$621*(1-K$2907)*100/(24*$F$14)","v":0},3.5502493001153573E-2,1.8041555497431076E-2,3.1582125000476975E-2,5.1270179600232342E-2,3.0026305736580304E-3,0.12165038519414145,5.4988128790011574E-2,0.1070134993618803]
["LV Network Non-Domestic Non-CT",{"$f":"B2222*B$2942*B$622*(1-B$2908)*100/(24*$F$14)","v":0},8.0050248068820121E-2,4.0679706438356771E-2,7.1194226181155382E-2,0.1155761609692911,6.7702660281501658E-3,0.14283785664256402,3.6081035708787824E-2,1.478434360129016E-2,{"$f":"B2222*K$2942*B$622*(1-K$2908)*100/(24*$F$14)","v":0},3.7789919995413652E-2,1.920397361443273E-2,3.3609191431964794E-2,5.4560903704529096E-2,3.1960901774034031E-3,0.12945839089992861,5.8517485665107165E-2,0.11388205150234693]
["LV HH Metered",{"$f":"B2223*B$2942*B$623*(1-B$2909)*100/(24*$F$14)","v":0},6.8071191113033558E-2,3.4592223487013359E-2,6.0540852135023498E-2,9.8281555217290997E-2,5.7571348472534641E-3,0.12146386051415632,3.0681935388496655E-2,1.2572041412481895E-2,{"$f":"B2223*K$2942*B$623*(1-K$2909)*100/(24*$F$14)","v":0},3.2134876883111278E-2,1.6330209956549505E-2,2.8579973377094701E-2,4.6396509670941215E-2,2.7178137548490304E-3,0.11008647360205714,4.9761035929376224E-2,9.6840949198513049E-2]
["LV Sub HH Metered",{"$f":"B2224*B$2942*B$624*(1-B$2910)*100/(24*$F$14)","v":0},6.5879244791124308E-2,3.3478326465392075E-2,5.8591388698394906E-2,9.5116811219902439E-2,5.5717505408114307E-3,0.11755262790685843,2.9693952743794615E-2,0,{"$f":"B2224*K$2942*B$624*(1-K$2910)*100/(24*$F$14)","v":0},3.1100108370364404E-2,1.5804364249063261E-2,2.7659675575633248E-2,4.4902505275546199E-2,2.6302979972110683E-3,0.10654160187352668,4.8158691121002406E-2,0]
["HV HH Metered",{"$f":"B2225*B$2942*B$625*(1-B$2911)*100/(24*$F$14)","v":0},5.836434485727772E-2,2.9659426079728202E-2,4.8512008343767371E-2,5.4636069601650329E-2,3.2004705208947236E-3,7.2411305953837199E-2,0,0,{"$f":"B2225*K$2942*B$625*(1-K$2911)*100/(24*$F$14)","v":0},2.7552493289528499E-2,1.4001547349350198E-2,2.450451350884604E-2,3.9780439365491777E-2,2.330257729477135E-3,9.4388313240516344E-2,0,0]
["LV UMS (Pseudo HH Metered)",{"$f":"B2226*B$2942*B$630*(1-B$2916)*100/(24*$F$14)","v":0},5.9767628162922797E-2,3.0372542582183165E-2,5.1774573882144126E-2,8.4050446308566562E-2,5.0548593201943772E-3,0.10387596801866841,2.6239209964801665E-2,1.075161752775132E-2,{"$f":"B2226*K$2942*B$630*(1-K$2916)*100/(24*$F$14)","v":0},2.8214951746941854E-2,1.4338193596242698E-2,2.4441610763289389E-2,3.9678323530601356E-2,2.3862852883852672E-3,9.4146019752455637E-2,4.2555668450643916E-2,8.2818439157627738E-2]
["LV Generation Non-Intermittent",{"$f":"B2227*B$2942*B$635*(1-B$2921)*100/(24*$F$14)","v":0},-5.5972542318769934E-2,-2.8443966696749583E-2,-4.9780609869380966E-2,-8.0813460417046484E-2,-4.7338891622694139E-3,-9.9875453355010399E-2,-2.5228674551951168E-2,0,{"$f":"B2227*K$2942*B$635*(1-K$2921)*100/(24*$F$14)","v":0},-2.6423377156155236E-2,-1.3427756337472901E-2,-2.3500305241646618E-2,-3.8150215363320458E-2,-2.2347625026161106E-3,-9.0520228920094412E-2,-4.0916746774092377E-2,0]
["LV Generation Non-Intermittent no RP charge",{"$f":"B2228*B$2942*B$636*(1-B$2922)*100/(24*$F$14)","v":0},-5.5972542318769934E-2,-2.8443966696749583E-2,-4.9780609869380966E-2,-8.0813460417046484E-2,-4.7338891622694139E-3,-9.9875453355010399E-2,-2.5228674551951168E-2,0,{"$f":"B2228*K$2942*B$636*(1-K$2922)*100/(24*$F$14)","v":0},-2.6423377156155236E-2,-1.3427756337472901E-2,-2.3500305241646618E-2,-3.8150215363320458E-2,-2.2347625026161106E-3,-9.0520228920094412E-2,-4.0916746774092377E-2,0]
["LV Sub Generation Non-Intermittent",{"$f":"B2229*B$2942*B$639*(1-B$2925)*100/(24*$F$14)","v":0},-5.4417749476581873E-2,-2.7653856510728759E-2,-4.8397815150787046E-2,-7.8568642072128533E-2,-4.6023922410952638E-3,-9.7101135206260139E-2,0,0,{"$f":"B2229*K$2942*B$639*(1-K$2925)*100/(24*$F$14)","v":0},-2.5689394457373147E-2,-1.3054763105876431E-2,-2.2847518984934211E-2,-3.7090487158783776E-2,-2.1726857664323292E-3,-8.8005778116758471E-2,0,0]
["LV Sub Generation Non-Intermittent no RP charge",{"$f":"B2230*B$2942*B$640*(1-B$2926)*100/(24*$F$14)","v":0},-5.4417749476581873E-2,-2.7653856510728759E-2,-4.8397815150787046E-2,-7.8568642072128533E-2,-4.6023922410952638E-3,-9.7101135206260139E-2,0,0,{"$f":"B2230*K$2942*B$640*(1-K$2926)*100/(24*$F$14)","v":0},-2.5689394457373147E-2,-1.3054763105876431E-2,-2.2847518984934211E-2,-3.7090487158783776E-2,-2.1726857664323292E-3,-8.8005778116758471E-2,0,0]
["HV Generation Non-Intermittent",{"$f":"B2231*B$2942*B$643*(1-B$2929)*100/(24*$F$14)","v":0},-5.3588526627414923E-2,-2.7232464411517655E-2,-4.4542383834454802E-2,-5.0165327441352145E-2,-2.9385834818950632E-3,0,0,0,{"$f":"B2231*K$2942*B$643*(1-K$2929)*100/(24*$F$14)","v":0},-2.5297937018022697E-2,-1.2855833382358314E-2,-2.2499366314687595E-2,-3.6525298783030881E-2,-2.1395781738009802E-3,0,0,0]
["HV Generation Non-Intermittent no RP charge",{"$f":"B2232*B$2942*B$644*(1-B$2930)*100/(24*$F$14)","v":0},-5.3588526627414923E-2,-2.7232464411517655E-2,-4.4542383834454802E-2,-5.0165327441352145E-2,-2.9385834818950632E-3,0,0,0,{"$f":"B2232*K$2942*B$644*(1-K$2930)*100/(24*$F$14)","v":0},-2.5297937018022697E-2,-1.2855833382358314E-2,-2.2499366314687595E-2,-3.6525298783030881E-2,-2.1395781738009802E-3,0,0,0]
[]
["2905. Contributions to pay-as-you-go unit rate 3 (p/kWh)"]
["Data sources:"]
["x1 = 2462. Unit rate 3 pseudo load coefficient by network level (combined)"]
["x2 = 2901. Unit cost at each level, £/kW/year (relative to system simultaneous maximum load)"]
["x3 = 2012. Loss adjustment factors between end user meter reading and each network level, scaled by network use"]
["x4 = 2804. Proportion of annual charge covered by contributions (for all charging levels)"]
["x5 = 1010. Days in the charging year (in Financial and general assumptions)"]
["Calculation =x1*x2*x3*(1-x4)*100/(24*x5)"]
[]
[null,"GSPs","Assets\n132kV","Assets\n132kV/EHV","Assets\nEHV","Assets\nEHV/HV","Assets\n132kV/HV","Assets\nHV","Assets\nHV/LV","Assets\nLV circuits","Transmission\nexit","Operating\n132kV","Operating\n132kV/EHV","Operating\nEHV","Operating\nEHV/HV","Operating\n132kV/HV","Operating\nHV","Operating\nHV/LV","Operating\nLV circuits"]
["LV Network Domestic",{"$f":"B2241*B$2942*B$621*(1-B$2907)*100/(24*$F$14)","v":0},2.1040688502911094E-3,1.0692396990743612E-3,4.5740092776075649E-3,7.4254115944549981E-3,1.7795205138862525E-4,9.1768913930495421E-3,2.3180951733045027E-3,9.498484416920139E-4,{"$f":"B2241*K$2942*B$621*(1-K$2907)*100/(24*$F$14)","v":0},9.9328353672289873E-4,5.0476399085237506E-4,2.1592868083365247E-3,3.5053696504004752E-3,8.4007157344653132E-5,8.3173020173531488E-3,3.7595678286242188E-3,7.3165702903951971E-3]
["LV Network Non-Domestic Non-CT",{"$f":"B2242*B$2942*B$622*(1-B$2908)*100/(24*$F$14)","v":0},2.2396340875205419E-3,1.1381308541523372E-3,4.8675873906639903E-3,7.9020040524632202E-3,1.8941750892753872E-4,9.7659007927647073E-3,2.4668797440301439E-3,1.0108134936359799E-3,{"$f":"B2242*K$2942*B$622*(1-K$2908)*100/(24*$F$14)","v":0},1.0572808333290907E-3,5.3728595426403355E-4,2.2978784263820917E-3,3.7303582206178279E-3,8.9419741734571027E-5,8.8511395510741369E-3,4.0008718492431814E-3,7.7861768804855496E-3]
["LV HH Metered",{"$f":"B2243*B$2942*B$623*(1-B$2909)*100/(24*$F$14)","v":0},1.9044857907724209E-3,9.6781614990172973E-4,4.1392104989336244E-3,6.7195625905568145E-3,1.6107227349596988E-4,8.3045492250405709E-3,2.0977403622338226E-3,8.5955720761103529E-4,{"$f":"B2243*K$2942*B$623*(1-K$2909)*100/(24*$F$14)","v":0},8.990648674045104E-4,4.5688421656873317E-4,1.9540280932596413E-3,3.1721542259682757E-3,7.6038594204718801E-5,7.5266711857298737E-3,3.4021886890080759E-3,6.6210675851602367E-3]
["LV Sub HH Metered",{"$f":"B2244*B$2942*B$624*(1-B$2910)*100/(24*$F$14)","v":0},1.843159838398822E-3,9.3665170257277279E-4,4.0059246392271314E-3,6.5031873477503213E-3,1.5588561858839248E-4,8.0371361559976734E-3,2.0301914594434522E-3,0,{"$f":"B2244*K$2942*B$624*(1-K$2910)*100/(24*$F$14)","v":0},8.7011426587922235E-4,4.4217218256916249E-4,1.8911068394679221E-3,3.0700083449509436E-3,7.3590091186556236E-5,7.284306406268537E-3,3.2926355159053847E-3,0]
["HV HH Metered",{"$f":"B2245*B$2942*B$625*(1-B$2911)*100/(24*$F$14)","v":0},1.6329090713845936E-3,8.298070682722635E-4,3.316792003737125E-3,3.7354973532787317E-3,8.9542294341650721E-5,4.9507997868471288E-3,0,0,{"$f":"B2245*K$2942*B$625*(1-K$2911)*100/(24*$F$14)","v":0},7.7085961200717794E-4,3.9173323603792538E-4,1.6753867183907456E-3,2.7198099542206275E-3,6.5195608627701489E-5,6.453379550562373E-3,0,0]
["LV UMS (Pseudo HH Metered)",{"$f":"B2246*B$2942*B$630*(1-B$2916)*100/(24*$F$14)","v":0},1.8737042248730628E-3,9.5217366165581776E-4,4.072309826131772E-3,6.610956551226798E-3,1.5846891629309737E-4,8.1703255776531172E-3,2.0638352874295333E-3,8.4566447238636504E-4,{"$f":"B2246*K$2942*B$630*(1-K$2916)*100/(24*$F$14)","v":0},8.8453358310829847E-4,4.494997500167494E-4,1.9224457917201407E-3,3.1208837597759467E-3,7.4809607876888116E-5,7.4050201205295499E-3,3.3472002528432258E-3,6.5140534876100232E-3]
["LV Generation Non-Intermittent",{"$f":"B2247*B$2942*B$635*(1-B$2921)*100/(24*$F$14)","v":0},-1.5659915711258199E-3,-7.9580112410860171E-4,-3.4035269697741352E-3,-5.525259589464579E-3,-1.3244405595405314E-4,-6.8285382602610448E-3,-1.7248979969213857E-3,0,{"$f":"B2247*K$2942*B$635*(1-K$2921)*100/(24*$F$14)","v":0},-7.392693666040894E-4,-3.7567979535141447E-4,-1.6067284610963599E-3,-2.6083506657000178E-3,-6.2523857191158953E-5,-6.1889165530125143E-3,-2.797499900592801E-3,0]
["LV Generation Non-Intermittent no RP charge",{"$f":"B2248*B$2942*B$636*(1-B$2922)*100/(24*$F$14)","v":0},-1.5659915711258199E-3,-7.9580112410860171E-4,-3.4035269697741352E-3,-5.525259589464579E-3,-1.3244405595405314E-4,-6.8285382602610448E-3,-1.7248979969213857E-3,0,{"$f":"B2248*K$2942*B$636*(1-K$2922)*100/(24*$F$14)","v":0},-7.392693666040894E-4,-3.7567979535141447E-4,-1.6067284610963599E-3,-2.6083506657000178E-3,-6.2523857191158953E-5,-6.1889165530125143E-3,-2.797499900592801E-3,0]
["LV Sub Generation Non-Intermittent",{"$f":"B2249*B$2942*B$639*(1-B$2925)*100/(24*$F$14)","v":0},-1.5224918052612136E-3,-7.7369553732780727E-4,-3.3089845539470753E-3,-5.3717801564238969E-3,-1.2876505439977386E-4,-6.6388566419204624E-3,0,0,{"$f":"B2249*K$2942*B$639*(1-K$2925)*100/(24*$F$14)","v":0},-7.1873410642064254E-4,-3.6524424548054185E-4,-1.5620971149547941E-3,-2.5358964805416843E-3,-6.0787083380293432E-5,-6.0170022043177221E-3,0,0]
["LV Sub Generation Non-Intermittent no RP charge",{"$f":"B2250*B$2942*B$640*(1-B$2926)*100/(24*$F$14)","v":0},-1.5224918052612136E-3,-7.7369553732780727E-4,-3.3089845539470753E-3,-5.3717801564238969E-3,-1.2876505439977386E-4,-6.6388566419204624E-3,0,0,{"$f":"B2250*K$2942*B$640*(1-K$2926)*100/(24*$F$14)","v":0},-7.1873410642064254E-4,-3.6524424548054185E-4,-1.5620971149547941E-3,-2.5358964805416843E-3,-6.0787083380293432E-5,-6.0170022043177221E-3,0,0]
["HV Generation Non-Intermittent",{"$f":"B2251*B$2942*B$643*(1-B$2929)*100/(24*$F$14)","v":0},-1.4992919301334237E-3,-7.6190589104471686E-4,-3.0453866490664509E-3,-3.429830316305759E-3,-8.2215257214680014E-5,0,0,0,{"$f":"B2251*K$2942*B$643*(1-K$2929)*100/(24*$F$14)","v":0},-7.0778196765613739E-4,-3.5967861888274306E-4,-1.5382937303459593E-3,-2.4972542484572396E-3,-5.9860804014498499E-5,0,0,0]
["HV Generation Non-Intermittent no RP charge",{"$f":"B2252*B$2942*B$644*(1-B$2930)*100/(24*$F$14)","v":0},-1.4992919301334237E-3,-7.6190589104471686E-4,-3.0453866490664509E-3,-3.429830316305759E-3,-8.2215257214680014E-5,0,0,0,{"$f":"B2252*K$2942*B$644*(1-K$2930)*100/(24*$F$14)","v":0},-7.0778196765613739E-4,-3.5967861888274306E-4,-1.5382937303459593E-3,-2.4972542484572396E-3,-5.9860804014498499E-5,0,0,0]
[]
[{"$f":"\"Allocation to standing charges for \"&CDCM!B7&\" in \"&CDCM!C7&\" (\"&CDCM!D7&\")\"","v":"Allocation to standing charges for WPD East Midlands in 2023/24 (Forecast)"}]
["This sheet reallocates some costs from unit charges to fixed or capacity charges, for demand users only."]
[]
["3001. Costs based on aggregate maximum load (£/kW/year)"]
["Data sources:"]
["x1 = 2901. Unit cost at each level, £/kW/year (relative to system simultaneous maximum load)"]
["x2 = 2612. Diversity allowances (including calculated LV value)"]
["Calculation =x1/(1+x2)"]
[]
[null,"GSPs","Assets\n132kV","Assets\n132kV/EHV","Assets\nEHV","Assets\nEHV/HV","Assets\n132kV/HV","Assets\nHV","Assets\nHV/LV","Assets\nLV circuits","Transmission\nexit","Operating\n132kV","Operating\n132kV/EHV","Operating\nEHV","Operating\nEHV/HV","Operating\n132kV/HV","Operating\nHV","Operating\nHV/LV","Operating\nLV circuits"]
["Costs based on aggregate maximum load (£/kW/year)",{"$f":"B2942/(1+B2613)","v":0},6.3881360757508503,3.5307029814473334,4.0076256505574976,6.5574810238814134,7.314410141020609,10.908739413999392,5.0072442971545357,9.6076396000820559,{"$f":"K2942/(1+B2613)","v":3.5424906306516708},3.0156952295125925,1.6667653931784969,1.891909848623254,3.0956391671750922,3.4529683631358319,5.1497702961700362,2.3638073079334321,4.5355503648125088]
[]
["3002. Capacity elements p/kVA/day"]
["This calculation uses aggregate maximum load and no coincidence factor."]
["Data sources:"]
["x1 = 2602. Standing charges factors adapted to use 132kV/HV"]
["x2 = 2012. Loss adjustment factors between end user meter reading and each network level, scaled by network use"]
["x3 = 3001. Costs based on aggregate maximum load (£/kW/year)"]
["x4 = 1010. Power factor for all flows in the network model (in Financial and general assumptions)"]
["x5 = 1010. Days in the charging year (in Financial and general assumptions)"]
["x6 = 2804. Proportion of annual charge covered by contributions (for all charging levels)"]
["Calculation =100*x1*x2*x3*x4/x5*(1-x6)"]
[]
[null,"GSPs","Assets\n132kV","Assets\n132kV/EHV","Assets\nEHV","Assets\nEHV/HV","Assets\n132kV/HV","Assets\nHV","Assets\nHV/LV","Assets\nLV circuits","Transmission\nexit","Operating\n132kV","Operating\n132kV/EHV","Operating\nEHV","Operating\nEHV/HV","Operating\n132kV/HV","Operating\nHV","Operating\nHV/LV","Operating\nLV circuits"]
["Domestic Unrestricted",{"$f":"100*B2451*B$612*B$3085*$E$14/$F$14*(1-B$2898)","v":0},0,0,0,0,0,0,0,0.15325247607817272,{"$f":"100*B2451*B$612*K$3085*$E$14/$F$14*(1-K$2898)","v":0},0,0,0,0,0,0,0,1.180485711389557]
["Domestic Two Rate",{"$f":"100*B2452*B$613*B$3085*$E$14/$F$14*(1-B$2899)","v":0},0,0,0,0,0,0,0,0.15325247607817272,{"$f":"100*B2452*B$613*K$3085*$E$14/$F$14*(1-K$2899)","v":0},0,0,0,0,0,0,0,1.180485711389557]
["Domestic Off Peak (related MPAN)",{"$f":"100*B2453*B$614*B$3085*$E$14/$F$14*(1-B$2900)","v":0},0,0,0,0,0,0,0,0.15325247607817272,{"$f":"100*B2453*B$614*K$3085*$E$14/$F$14*(1-K$2900)","v":0},0,0,0,0,0,0,0,1.180485711389557]
["Small Non Domestic Unrestricted",{"$f":"100*B2454*B$615*B$3085*$E$14/$F$14*(1-B$2901)","v":0},0,0,0,0,0,0,0,0.15325247607817272,{"$f":"100*B2454*B$615*K$3085*$E$14/$F$14*(1-K$2901)","v":0},0,0,0,0,0,0,0,1.180485711389557]
["Small Non Domestic Two Rate",{"$f":"100*B2455*B$616*B$3085*$E$14/$F$14*(1-B$2902)","v":0},0,0,0,0,0,0,0,0.15325247607817272,{"$f":"100*B2455*B$616*K$3085*$E$14/$F$14*(1-K$2902)","v":0},0,0,0,0,0,0,0,1.180485711389557]
["Small Non Domestic Off Peak (related MPAN)",{"$f":"100*B2456*B$617*B$3085*$E$14/$F$14*(1-B$2903)","v":0},0,0,0,0,0,0,0,0.15325247607817272,{"$f":"100*B2456*B$617*K$3085*$E$14/$F$14*(1-K$2903)","v":0},0,0,0,0,0,0,0,1.180485711389557]
["LV Medium Non-Domestic",{"$f":"100*B2457*B$618*B$3085*$E$14/$F$14*(1-B$2904)","v":0},0,0,0,0,0,0,0,0.15325247607817272,{"$f":"100*B2457*B$618*K$3085*$E$14/$F$14*(1-K$2904)","v":0},0,0,0,0,0,0,0,1.180485711389557]
["LV Sub Medium Non-Domestic",{"$f":"100*B2458*B$619*B$3085*$E$14/$F$14*(1-B$2905)","v":0},0,0,0,0,0,0,0.37934655978797877,0,{"$f":"100*B2458*B$619*K$3085*$E$14/$F$14*(1-K$2905)","v":0},0,0,0,0,0,0,0.61523751850322206,0]
["HV Medium Non-Domestic",{"$f":"100*B2459*B$620*B$3085*$E$14/$F$14*(1-B$2906)","v":0},2.575168613369884E-2,0,0.18462241261273049,1.0396439283707468,9.4085767735712242E-2,1.0282690254737046,0,0,{"$f":"100*B2459*B$620*K$3085*$E$14/$F$14*(1-K$2906)","v":0},1.2156791293174393E-2,0,9.3256959634523948E-2,0.7569631665635943,6.8503704711094182E-2,1.3403511729757629,0,0]
["LV Network Domestic",{"$f":"100*B2460*B$621*B$3085*$E$14/$F$14*(1-B$2907)","v":0},0,0,0,0,0,0,0,0.15325247607817272,{"$f":"100*B2460*B$621*K$3085*$E$14/$F$14*(1-K$2907)","v":0},0,0,0,0,0,0,0,1.180485711389557]
["LV Network Non-Domestic Non-CT",{"$f":"100*B2461*B$622*B$3085*$E$14/$F$14*(1-B$2908)","v":0},0,0,0,0,0,0,0,0.15325247607817272,{"$f":"100*B2461*B$622*K$3085*$E$14/$F$14*(1-K$2908)","v":0},0,0,0,0,0,0,0,1.180485711389557]
["LV HH Metered",{"$f":"100*B2462*B$623*B$3085*$E$14/$F$14*(1-B$2909)","v":0},0,0,0,0,0,0.30893344773586595,0.39018503292477824,0.15325247607817272,{"$f":"100*B2462*B$623*K$3085*$E$14/$F$14*(1-K$2909)","v":0},0,0,0,0,0,0.27999598971253847,0.63281573331759988,1.180485711389557]
["LV Sub HH Metered",{"$f":"100*B2463*B$624*B$3085*$E$14/$F$14*(1-B$2910)","v":0},0,0,0,0,0,1.5017598153826821,0.37934655978797877,0,{"$f":"100*B2463*B$624*K$3085*$E$14/$F$14*(1-K$2910)","v":0},0,0,0,0,0,1.3610916166581732,0.61523751850322206,0]
["HV HH Metered",{"$f":"100*B2464*B$625*B$3085*$E$14/$F$14*(1-B$2911)","v":0},2.575168613369884E-2,0,0.18462241261273049,1.0396439283707468,9.4085767735712242E-2,1.0282690254737046,0,0,{"$f":"100*B2464*B$625*K$3085*$E$14/$F$14*(1-K$2911)","v":0},1.2156791293174393E-2,0,9.3256959634523948E-2,0.7569631665635943,6.8503704711094182E-2,1.3403511729757629,0,0]
["NHH UMS category A",{"$f":"100*B2465*B$626*B$3085*$E$14/$F$14*(1-B$2912)","v":0},0,0,0,0,0,0,0,0,{"$f":"100*B2465*B$626*K$3085*$E$14/$F$14*(1-K$2912)","v":0},0,0,0,0,0,0,0,0]
["NHH UMS category B",{"$f":"100*B2466*B$627*B$3085*$E$14/$F$14*(1-B$2913)","v":0},0,0,0,0,0,0,0,0,{"$f":"100*B2466*B$627*K$3085*$E$14/$F$14*(1-K$2913)","v":0},0,0,0,0,0,0,0,0]
["NHH UMS category C",{"$f":"100*B2467*B$628*B$3085*$E$14/$F$14*(1-B$2914)","v":0},0,0,0,0,0,0,0,0,{"$f":"100*B2467*B$628*K$3085*$E$14/$F$14*(1-K$2914)","v":0},0,0,0,0,0,0,0,0]
["NHH UMS category D",{"$f":"100*B2468*B$629*B$3085*$E$14/$F$14*(1-B$2915)","v":0},0,0,0,0,0,0,0,0,{"$f":"100*B2468*B$629*K$3085*$E$14/$F$14*(1-K$2915)","v":0},0,0,0,0,0,0,0,0]
["LV UMS (Pseudo HH Metered)",{"$f":"100*B2469*B$630*B$3085*$E$14/$F$14*(1-B$2916)","v":0},0,0,0,0,0,0,0,0,{"$f":"100*B2469*B$630*K$3085*$E$14/$F$14*(1-K$2916)","v":0},0,0,0,0,0,0,0,0]
[]
["3003. Yardstick components p/kWh (taking account of standing charges)"]
["Data sources:"]
["x1 = 2602. Standing charges factors adapted to use 132kV/HV"]
["x2 = 2902. Pay-as-you-go yardstick unit costs by charging level (p/kWh)"]
["Calculation =(1-x1)*x2"]
[]
[null,"GSPs","Assets\n132kV","Assets\n132kV/EHV","Assets\nEHV","Assets\nEHV/HV","Assets\n132kV/HV","Assets\nHV","Assets\nHV/LV","Assets\nLV circuits","Transmission\nexit","Operating\n132kV","Operating\n132kV/EHV","Operating\nEHV","Operating\nEHV/HV","Operating\n132kV/HV","Operating\nHV","Operating\nHV/LV","Operating\nLV circuits"]
["Domestic Unrestricted",{"$f":"(1-B2451)*B$2954","v":0},0.17439026044053249,8.86211444882785E-2,0.10832557968936878,0.17585491558561489,1.474909178152406E-2,0.21733495049193041,5.4899102337343866E-2,0,{"$f":"(1-B2451)*K$2954","v":9.2726231004238879E-2},8.2325716022284015E-2,4.1836047244161893E-2,5.1138067509781136E-2,8.3017146743472423E-2,6.9627141935854134E-3,0.19697742348100178,8.9037284294761168E-2,0]
["Domestic Two Rate",{"$f":"(1-B2452)*B$2955","v":0},0.14401930929068715,7.3187321273049666E-2,8.9460128828101323E-2,0.14522888729011765,1.2180462404690237E-2,0.17948496306791761,4.5338144339770389E-2,0,{"$f":"(1-B2452)*K$2955","v":7.6577486085658203E-2},6.7988273705421154E-2,3.4550086755626812E-2,4.223211286349704E-2,6.8559288248529027E-2,5.7501220906231772E-3,0.16267280296462888,7.3530988214922446E-2,0]
["Domestic Off Peak (related MPAN)",{"$f":"(1-B2453)*B$2956","v":0},0,0,0,0,0,0,0,0,{"$f":"(1-B2453)*K$2956","v":0},0,0,0,0,0,0,0,0]
["Small Non Domestic Unrestricted",{"$f":"(1-B2454)*B$2957","v":0},0.16219224375515681,8.2422391206906254E-2,0.10074856692979151,0.16355445116116879,1.3717442036918525E-2,0.20213309606658031,5.1059093356157548E-2,0,{"$f":"(1-B2454)*K$2957","v":8.6240340621917877E-2},7.6567306950937067E-2,3.8909755368426835E-2,4.7561130362222453E-2,7.7210374400847978E-2,6.4756955740001843E-3,0.18319951012624244,8.2809423422803882E-2,0]
["Small Non Domestic Two Rate",{"$f":"(1-B2455)*B$2958","v":0},0.13587059762719703,6.9046332252795689E-2,8.439841315407666E-2,0.13701173687073848,1.1491283456723846E-2,0.16932958029892659,4.2772880921954692E-2,0,{"$f":"(1-B2455)*K$2958","v":7.2244679206495466E-2},6.4141450375601525E-2,3.2595219062490494E-2,3.9842590844821023E-2,6.468015652277026E-2,5.4247762243145193E-3,0.15346866378788157,6.9370554282514763E-2,0]
["Small Non Domestic Off Peak (related MPAN)",{"$f":"(1-B2456)*B$2959","v":0},0,0,0,0,0,0,0,0,{"$f":"(1-B2456)*K$2959","v":0},0,0,0,0,0,0,0,0]
["LV Medium Non-Domestic",{"$f":"(1-B2457)*B$2960","v":0},0.13443732876084236,6.8317977773738742E-2,8.3508112970990811E-2,0.13556643037903651,1.1370064450547326E-2,0.16754336002880413,4.2321679266700746E-2,0,{"$f":"(1-B2457)*K$2960","v":7.1482586073214616E-2},6.346483641002211E-2,3.2251379309886606E-2,3.9422300171120778E-2,6.3997859865259438E-2,5.3675514604212687E-3,0.15184975681603066,6.8638779657016286E-2,0]
["LV Sub Medium Non-Domestic",{"$f":"(1-B2458)*B$2961","v":0},0.13070295851748562,6.6420256168912672E-2,8.1188443166241075E-2,0.13180069620184107,1.1054229326921012E-2,0.16288937780578178,0,0,{"$f":"(1-B2458)*K$2961","v":6.9496958682291984E-2},6.1701924287521484E-2,3.1355507662389752E-2,3.8327236277478527E-2,6.2220141535668898E-2,5.2184528087429001E-3,0.14763170801558534,0,0]
["HV Medium Non-Domestic",{"$f":"(1-B2459)*B$2962","v":0},0.12726847115278958,6.5660416752358758E-2,6.0007253411935357E-2,0,0,0,0,0,{"$f":"(1-B2459)*K$2962","v":6.8701922174104896E-2},6.0080580120973261E-2,3.099680457959296E-2,3.0311021993597493E-2,0,0,0,0,0]
["LV Network Domestic",{"$f":"(1-B2460)*B$2963","v":0},0.16340390483537717,8.3038129674122135E-2,0.10150121153603477,0.16477628864476601,1.3819918519464779E-2,0.20364313625011732,5.144053154813661E-2,0,{"$f":"(1-B2460)*K$2963","v":8.6884601172590475E-2},7.7139304869590836E-2,3.9200431637089757E-2,4.7916436937043533E-2,7.7787176370441385E-2,6.524072414425524E-3,0.18456810649803007,8.3428053223550486E-2,0]
["LV Network Non-Domestic Non-CT",{"$f":"(1-B2461)*B$2964","v":0},0.14799245130740912,7.5206381235727093E-2,9.1928115922462972E-2,0.14923539861818899,1.2516491699661358E-2,0.18443651610373718,4.6588913331260036E-2,0,{"$f":"(1-B2461)*K$2964","v":7.869007243953223E-2},6.9863904606817726E-2,3.5503239510255712E-2,4.339719401059678E-2,7.0450672050592564E-2,5.9087539559755107E-3,0.16716054944543013,7.5559529111602672E-2,0]
["LV HH Metered",{"$f":"(1-B2462)*B$2965","v":0},0.1237241660254083,6.2873793331872541E-2,7.6853443377110753E-2,0.12476329077860482,1.0463996531065081E-2,0.12335361128476285,0,0,{"$f":"(1-B2462)*K$2965","v":6.5786217479679485E-2},5.8407393460915356E-2,2.9681302396177021E-2,3.6280780467990811E-2,5.8897940863776511E-2,4.9398171933368231E-3,0.11179921348569191,0,0]
["LV Sub HH Metered",{"$f":"(1-B2463)*B$2966","v":0},0.11874051820723354,6.0341217417039447E-2,7.3757762818416173E-2,0.1197377866927708,1.0042503502203431E-2,0,0,0,{"$f":"(1-B2463)*K$2966","v":6.3136328215998794E-2},5.6054725519496466E-2,2.8485730320977776E-2,3.4819379367224054E-2,5.6525513520677931E-2,4.7408398232028446E-3,0,0,0]
["HV HH Metered",{"$f":"(1-B2464)*B$2967","v":0},9.4212288760205876E-2,4.8606053700151572E-2,4.4421219450063193E-2,0,0,0,0,0,{"$f":"(1-B2464)*K$2967","v":5.0857571177054944E-2},4.4475500585234667E-2,2.294582371615355E-2,2.2438163441512858E-2,0,0,0,0,0]
["NHH UMS category A",{"$f":"(1-B2465)*B$2968","v":0},8.4168684372011068E-2,4.2772601636568354E-2,5.2282859738022727E-2,8.4875593670207361E-2,7.1185836169804081E-3,0.10489574821869042,2.6496807822099282E-2,1.0857169243727049E-2,{"$f":"(1-B2465)*K$2968","v":4.4753903404275111E-2},3.9734141058538813E-2,2.0191982321553864E-2,2.4681561073149012E-2,4.0067857024039449E-2,3.3605230696484587E-3,9.5070278256955715E-2,4.2973449665225406E-2,8.3631491551368092E-2]
["NHH UMS category B",{"$f":"(1-B2466)*B$2969","v":0},0.17805637160258772,9.0484178388118189E-2,0.11060284916435026,0.17955181739252832,1.5059153879452176E-2,0.22190386440885693,5.6053216170062078E-2,2.2968021608474845E-2,{"$f":"(1-B2466)*K$2969","v":9.4675563894970324E-2},8.405640456917339E-2,4.2715543607035854E-2,5.221311516227016E-2,8.4762370860630085E-2,7.1090875297959433E-3,0.20111837223050394,9.0909066474382488E-2,0.17691995601990032]
["NHH UMS category C",{"$f":"(1-B2467)*B$2970","v":0},0.34581289068025672,0.17573420713672691,0.21480776364669291,0.34871727667229085,2.9247195634623819E-2,0.43097147332430152,0.10886397684750286,4.46074345677493E-2,{"$f":"(1-B2467)*K$2970","v":0.18387452317840683},0.1632504806350471,8.2960163002181245E-2,0.10140590939360342,0.16462157587738047,1.380694263648565E-2,0.39060284697460201,0.17655940522429997,0.34360579663399404]
["NHH UMS category D",{"$f":"(1-B2468)*B$2971","v":0},8.8219824914283565E-4,4.4831298667194562E-4,5.4799296989370362E-4,8.8960758611684868E-4,7.4612096531299755E-5,1.0994450740378771E-3,2.7772131218321979E-4,1.1379737926197778E-4,{"$f":"(1-B2468)*K$2971","v":4.6907962884457452E-4},4.1646593307918974E-4,2.1163846843638495E-4,2.5869514448635748E-4,4.1996371426315663E-4,3.5222691080030986E-5,9.9646125693392002E-4,4.5041813754304511E-4,8.7656776353694534E-4]
["LV UMS (Pseudo HH Metered)",{"$f":"(1-B2469)*B$2972","v":0},0.18121739909041143,9.2090540308916932E-2,0.11256637702518112,0.18273939346834131,1.5326498422800289E-2,0.2258433146444053,5.7048326625811212E-2,2.3375771957377625E-2,{"$f":"(1-B2469)*K$2972","v":9.6356335311368557E-2},8.5548654484070161E-2,4.3473870906889756E-2,5.3140052461774487E-2,8.6267153766245927E-2,7.2352948701610827E-3,0.20468881847292161,9.2522971416011318E-2,0.18006080876833036]
[]
["3004. Contributions to unit rate 1 p/kWh by network level (taking account of standing charges)"]
["Data sources:"]
["x1 = 2602. Standing charges factors adapted to use 132kV/HV"]
["x2 = 2903. Contributions to pay-as-you-go unit rate 1 (p/kWh)"]
["Calculation =(1-x1)*x2"]
[]
[null,"GSPs","Assets\n132kV","Assets\n132kV/EHV","Assets\nEHV","Assets\nEHV/HV","Assets\n132kV/HV","Assets\nHV","Assets\nHV/LV","Assets\nLV circuits","Transmission\nexit","Operating\n132kV","Operating\n132kV/EHV","Operating\nEHV","Operating\nEHV/HV","Operating\n132kV/HV","Operating\nHV","Operating\nHV/LV","Operating\nLV circuits"]
["Domestic Unrestricted",{"$f":"(1-B$2451)*B$2998","v":0},0.16580529203385388,8.4258459762229773E-2,9.9396574131222659E-2,0.16135963641707543,1.4023016330683357E-2,0.19942057619098852,5.0373907168178439E-2,0,{"$f":"(1-B$2451)*K$2998","v":9.2726698473475422E-2},7.8272945705162383E-2,3.9776521999207538E-2,4.6922884998530763E-2,7.6174251770562848E-2,6.6199503188961693E-3,0.18074106901943612,8.1698164498403572E-2,0]
["Domestic Two Rate",{"$f":"(1-B$2452)*B$2999","v":0},0.19776498729025846,0.100499646420042,0.11836189460235406,0.19214779227157175,1.6726014063787781E-2,0.23747093324863427,5.9985478806113088E-2,0,{"$f":"(1-B$2452)*K$2999","v":0.11064545095330065},9.3360398348394769E-2,4.7443620593351221E-2,5.5875985839333689E-2,9.0708647036240042E-2,7.8959746979085192E-3,0.21522729076509825,9.7286547550417879E-2,0]
["Domestic Off Peak (related MPAN)",{"$f":"(1-B$2453)*B$3000","v":0},5.2125387709419428E-2,2.6488930654927412E-2,3.5705103447335594E-2,5.7963391201894213E-2,4.4085152779269852E-3,7.163559070985992E-2,1.8095247066682446E-2,0,{"$f":"(1-B$2453)*K$3000","v":2.2438940182763288E-2},2.4607222073508218E-2,1.2504827834551908E-2,1.6855575532292881E-2,2.7363212095224323E-2,2.0811608167434258E-3,6.4925563309669851E-2,2.9347504583225194E-2,0]
["Small Non Domestic Unrestricted",{"$f":"(1-B$2454)*B$3001","v":0},0.16990679496461963,8.6342749807604383E-2,0.10618136925517269,0.17237402080541045,1.4369901776093208E-2,0.21303299457443975,5.3812422456218027E-2,0,{"$f":"(1-B$2454)*K$3001","v":8.6281771986191483E-2},8.020917290437532E-2,4.0760468407396402E-2,5.0125834034977439E-2,8.1373894680801848E-2,6.7837071284733473E-3,0.19307842706722605,8.7274868856369148E-2,0]
["Small Non Domestic Two Rate",{"$f":"(1-B$2455)*B$3002","v":0},0.18072642512245635,9.18410385601139E-2,0.11195098703856531,0.1817403740819796,1.5284974199501259E-2,0.22460865010203307,5.6736448693106165E-2,0,{"$f":"(1-B$2455)*K$3002","v":9.3805378889467897E-2},8.5316876726768243E-2,4.3356086748146408E-2,5.2849540702957748E-2,8.5795539204202076E-2,7.215692219148773E-3,0.20356980360729901,9.2017156876660747E-2,0]
["Small Non Domestic Off Peak (related MPAN)",{"$f":"(1-B$2456)*B$3003","v":0},2.3889986272410114E-2,1.2140344993590985E-2,1.8417818540271469E-2,2.9899345417382324E-2,2.0205004528408323E-3,3.6951897161295336E-2,9.3340991829672683E-3,0,{"$f":"(1-B$2456)*K$3003","v":8.3469623615060121E-3},1.1277924699868023E-2,5.7311835639797543E-3,8.6946375047899788E-3,1.4114807867512583E-2,9.5383277760625071E-4,3.3490653385899634E-2,1.5138368519807826E-2,0]
["LV Medium Non-Domestic",{"$f":"(1-B$2457)*B$3004","v":0},0.1744018634167713,8.8627040855605188E-2,0.10751878467449287,0.17454517074378953,1.475007310560175E-2,0.21571626767372626,5.4490220868959938E-2,0,{"$f":"(1-B$2457)*K$3004","v":9.1288439416273515E-2},8.2331193526156282E-2,4.1838830786435834E-2,5.0757197746096647E-2,8.2398845689059266E-2,6.963177454590597E-3,0.19551036091126264,8.8374146028498565E-2,0]
["LV Sub Medium Non-Domestic",{"$f":"(1-B$2458)*B$3005","v":0},0.17184028314327049,8.7325304308146737E-2,0.10604757665920016,0.17215682293083459,1.4533426932448704E-2,0.21276456483415812,0,0,{"$f":"(1-B$2458)*K$3005","v":8.9790241615058719E-2},8.1121929146185809E-2,4.1224310267507912E-2,5.0062673562402335E-2,8.1271360453845545E-2,6.8609036734559323E-3,0.19283514084700848,0,0]
["HV Medium Non-Domestic",{"$f":"(1-B$2459)*B$3006","v":0},0.17009656730789874,8.7756310706160842E-2,7.9935419951852424E-2,0,0,0,0,0,{"$f":"(1-B$2459)*K$3006","v":8.9498198402136311E-2},8.0298760155419105E-2,4.1427778685050626E-2,4.0377189997270128E-2,0,0,0,0,0]
["LV Network Domestic",{"$f":"(1-B$2460)*B$3007","v":0},0.9879240486892471,0.50204042153024897,0.52134419723613901,0.84634617288837,8.3553877553048841E-2,1.04597931181615,0.26421578835876858,0,{"$f":"(1-B$2460)*K$3007","v":0.6727458629832328},0.46637670291059807,0.23700198090306168,0.24611485884077702,0.39954097499335139,3.9443904600042837E-2,0.94800357415880343,0.42851440664197787,0]
["LV Network Non-Domestic Non-CT",{"$f":"(1-B$2461)*B$3008","v":0},1.0515760332745852,0.53438690526536847,0.55480614197394185,0.90066803743846879,8.8937257108499673E-2,1.1131144254597451,0.28117420883373856,0,{"$f":"(1-B$2461)*K$3008","v":0.716264507746601},0.49642537187863534,0.25227202767958423,0.26191148964503624,0.42518510433552525,4.1985276895735599E-2,1.0088502151647127,0.45601816609767493,0]
["LV HH Metered",{"$f":"(1-B$2462)*B$3009","v":0},0.89421375770603606,0.45441899349703802,0.47178596364515141,0.76589371641681137,7.5628310614314798E-2,0.7572400117913769,0,0,{"$f":"(1-B$2462)*K$3009","v":0.60892188186020457},0.42213818417474142,0.21452097679804943,0.22271953243395101,0.36156118146565464,3.5702422871272115E-2,0.68631016843711501,0,0]
["LV Sub HH Metered",{"$f":"(1-B$2463)*B$3010","v":0},0.86541936575908673,0.43978634163484931,0.45659408157534592,0.74123133153382081,7.3193019053043512E-2,0,0,0,{"$f":"(1-B$2463)*K$3010","v":0.5893141145000419},0.40854499996553933,0.20761323126904796,0.21554778691351051,0.34991862477022662,3.4552776549291578E-2,0,0,0]
["HV HH Metered",{"$f":"(1-B$2464)*B$3011","v":0},0.75519295956723242,0.38961954995202147,0.3024375613845765,0,0,0,0,0,{"$f":"(1-B$2464)*K$3011","v":0.52209056611067306},0.35650959505597468,0.18393061828712678,0.15276805808603378,0,0,0,0,0]
["NHH UMS category A",{"$f":"(1-B$2465)*B$3012","v":0},0.10035440540912687,5.0997815126437189E-2,6.2375145135750439E-2,0.10125933241199524,8.4874942690060205E-3,0.12514402525127433,3.1611549976780881E-2,1.2952954576973414E-2,{"$f":"(1-B$2465)*K$3012","v":5.3291592756256369E-2},4.737505558181225E-2,2.4074920441372261E-2,2.9445901808522239E-2,4.7802251247847996E-2,4.0067549710967043E-3,0.11342192133497973,5.1268717382399125E-2,9.9775078287122676E-2]
["NHH UMS category B",{"$f":"(1-B$2466)*B$3013","v":0},0.13938328451901733,7.0831399445170473E-2,7.8073844993343411E-2,0.12674448140614233,1.1788369665760624E-2,0.15664052096467312,3.9567607378150363E-2,1.621297979583889E-2,{"$f":"(1-B$2466)*K$3013","v":9.1693713516718428E-2},6.5799710778451315E-2,3.3437909097982783E-2,3.6856904596926136E-2,5.9833216357812954E-2,5.5650239354969842E-3,0.14196817475746396,6.4172129543098699E-2,0.12488666726841434]
["NHH UMS category C",{"$f":"(1-B$2467)*B$3014","v":0},0.26362328744385222,0.13396732929935212,0.14478897971373295,0.23504931963714831,2.2295993207615872E-2,0.29049192100422755,7.3378651999071065E-2,3.0067185790055868E-2,{"$f":"(1-B$2467)*K$3014","v":0.17487806207883655},0.12445061922689368,6.3242960245037144E-2,6.8351617785063837E-2,0.11096149229203964,1.0525436458482029E-2,0.26328186061166453,0.11900806426780887,0.23160397870994895]
["NHH UMS category D",{"$f":"(1-B$2468)*B$3015","v":0},6.1822372089398815E-2,3.1416716482346223E-2,4.6586186375940565E-2,7.5627657807962476E-2,5.2286397061090959E-3,9.3466441985877044E-2,2.3609749614941007E-2,9.6741860035547914E-3,{"$f":"(1-B$2468)*K$3015","v":1.6055193857950373E-2},2.9184950097550781E-2,1.4831124587718672E-2,2.1992289824320235E-2,3.5702114696089374E-2,2.4683230963736123E-3,8.4711542633351886E-2,3.829111768852534E-2,7.4519111460854409E-2]
["LV UMS (Pseudo HH Metered)",{"$f":"(1-B$2469)*B$3016","v":0},2.6248664656115399,1.3338971438185379,1.3860408372665314,2.2500880690845921,0.22199861573548699,2.780830876796859,0.70244163924193526,0.28782817206871064,{"$f":"(1-B$2469)*K$3016","v":1.8181383867306431},1.2391403665461043,0.62970281245945803,0.65431867626004203,1.0622159226819599,0.10480054878186319,2.5203534912724428,1.1392444187765611,2.217106393042358]
[]
["3005. Contributions to unit rate 2 p/kWh by network level (taking account of standing charges)"]
["Data sources:"]
["x1 = 2602. Standing charges factors adapted to use 132kV/HV"]
["x2 = 2904. Contributions to pay-as-you-go unit rate 2 (p/kWh)"]
["Calculation =(1-x1)*x2"]
[]
[null,"GSPs","Assets\n132kV","Assets\n132kV/EHV","Assets\nEHV","Assets\nEHV/HV","Assets\n132kV/HV","Assets\nHV","Assets\nHV/LV","Assets\nLV circuits","Transmission\nexit","Operating\n132kV","Operating\n132kV/EHV","Operating\nEHV","Operating\nEHV/HV","Operating\n132kV/HV","Operating\nHV","Operating\nHV/LV","Operating\nLV circuits"]
["Domestic Two Rate",{"$f":"(1-B$2452)*B$3034","v":0},2.2853443893131624E-3,1.1613597847676908E-3,4.9669696289939289E-3,8.0633404162503992E-3,1.9328346700798102E-4,9.9652926068602519E-3,2.5172463858541259E-3,0,{"$f":"(1-B$2452)*K$3034","v":0},1.0788596377598312E-3,5.4825180947011055E-4,2.3447945437715689E-3,3.8065214859037385E-3,9.1244773512610486E-5,9.0318545521121379E-3,4.082558230552257E-3,0]
["Small Non Domestic Two Rate",{"$f":"(1-B$2455)*B$3035","v":0},2.2939148818560324E-3,1.1657151131906126E-3,4.9855860461248255E-3,8.0935621650972383E-3,1.9400831815969292E-4,1.0002642954830535E-2,2.5266811342501603E-3,0,{"$f":"(1-B$2455)*K$3035","v":0},1.0829055743475341E-3,5.503078619699662E-4,2.3535829352000757E-3,3.8207884931722438E-3,9.1586959423242852E-5,9.0657063338557206E-3,4.097859835486075E-3,0]
["LV Medium Non-Domestic",{"$f":"(1-B$2457)*B$3036","v":0},2.1026804349444789E-3,1.0685341381288548E-3,4.5699668511018773E-3,7.4188491502570767E-3,1.7783462587801126E-4,9.1687810227473431E-3,2.3160464828007143E-3,0,{"$f":"(1-B$2457)*K$3036","v":0},9.9262809709422346E-4,5.0443091141382488E-4,2.157378469787643E-3,3.5022716682305698E-3,8.3951723404614528E-5,8.3099513365630269E-3,3.7562451907111813E-3,0]
["LV Sub Medium Non-Domestic",{"$f":"(1-B$2458)*B$3037","v":0},2.0962406842106734E-3,1.0652616039930184E-3,4.5559706932008642E-3,7.3961278948226428E-3,1.7728998264860676E-4,9.140700358021463E-3,0,0,{"$f":"(1-B$2458)*K$3037","v":0},9.8958803574660968E-4,5.0288602172067606E-4,2.1507711987287484E-3,3.4915454750484511E-3,8.369460959720262E-5,8.2845009569769631E-3,0,0]
["HV Medium Non-Domestic",{"$f":"(1-B$2459)*B$3038","v":0},2.0666472265421934E-3,1.0662257269670396E-3,3.4094180207419043E-3,0,0,0,0,0,{"$f":"(1-B$2459)*K$3038","v":0},9.7561763059910692E-4,5.0334116247205364E-4,1.72217421621768E-3,0,0,0,0,0]
["LV Network Domestic",{"$f":"(1-B$2460)*B$3039","v":0},7.520479990825088E-2,3.8217360430824444E-2,6.6900298839888933E-2,0.10860543224303364,6.3604612634670906E-3,0.1342228971029413,3.3904885281406914E-2,0,{"$f":"(1-B$2460)*K$3039","v":0},3.5502493001153573E-2,1.8041555497431076E-2,3.1582125000476975E-2,5.1270179600232342E-2,3.0026305736580304E-3,0.12165038519414145,5.4988128790011574E-2,0]
["LV Network Non-Domestic Non-CT",{"$f":"(1-B$2461)*B$3040","v":0},8.0050248068820121E-2,4.0679706438356771E-2,7.1194226181155382E-2,0.1155761609692911,6.7702660281501658E-3,0.14283785664256402,3.6081035708787824E-2,0,{"$f":"(1-B$2461)*K$3040","v":0},3.7789919995413652E-2,1.920397361443273E-2,3.3609191431964794E-2,5.4560903704529096E-2,3.1960901774034031E-3,0.12945839089992861,5.8517485665107165E-2,0]
["LV HH Metered",{"$f":"(1-B$2462)*B$3041","v":0},6.8071191113033558E-2,3.4592223487013359E-2,6.0540852135023498E-2,9.8281555217290997E-2,5.7571348472534641E-3,9.717108841132506E-2,0,0,{"$f":"(1-B$2462)*K$3041","v":0},3.2134876883111278E-2,1.6330209956549505E-2,2.8579973377094701E-2,4.6396509670941215E-2,2.7178137548490304E-3,8.8069178881645727E-2,0,0]
["LV Sub HH Metered",{"$f":"(1-B$2463)*B$3042","v":0},6.5879244791124308E-2,3.3478326465392075E-2,5.8591388698394906E-2,9.5116811219902439E-2,5.5717505408114307E-3,0,0,0,{"$f":"(1-B$2463)*K$3042","v":0},3.1100108370364404E-2,1.5804364249063261E-2,2.7659675575633248E-2,4.4902505275546199E-2,2.6302979972110683E-3,0,0,0]
["HV HH Metered",{"$f":"(1-B$2464)*B$3043","v":0},5.7488362077759481E-2,2.9659426079728202E-2,3.8809606675013902E-2,0,0,0,0,0,{"$f":"(1-B$2464)*K$3043","v":0},2.7138961539734358E-2,1.4001547349350198E-2,1.9603610807076833E-2,0,0,0,0,0]
["LV UMS (Pseudo HH Metered)",{"$f":"(1-B$2469)*B$3044","v":0},5.9767628162922797E-2,3.0372542582183165E-2,5.1774573882144126E-2,8.4050446308566562E-2,5.0548593201943772E-3,0.10387596801866841,2.6239209964801665E-2,1.075161752775132E-2,{"$f":"(1-B$2469)*K$3044","v":0},2.8214951746941854E-2,1.4338193596242698E-2,2.4441610763289389E-2,3.9678323530601356E-2,2.3862852883852672E-3,9.4146019752455637E-2,4.2555668450643916E-2,8.2818439157627738E-2]
[]
["3006. Contributions to unit rate 3 p/kWh by network level (taking account of standing charges)"]
["Data sources:"]
["x1 = 2602. Standing charges factors adapted to use 132kV/HV"]
["x2 = 2905. Contributions to pay-as-you-go unit rate 3 (p/kWh)"]
["Calculation =(1-x1)*x2"]
[]
[null,"GSPs","Assets\n132kV","Assets\n132kV/EHV","Assets\nEHV","Assets\nEHV/HV","Assets\n132kV/HV","Assets\nHV","Assets\nHV/LV","Assets\nLV circuits","Transmission\nexit","Operating\n132kV","Operating\n132kV/EHV","Operating\nEHV","Operating\nEHV/HV","Operating\n132kV/HV","Operating\nHV","Operating\nHV/LV","Operating\nLV circuits"]
["LV Network Domestic",{"$f":"(1-B$2460)*B$3062","v":0},2.1040688502911094E-3,1.0692396990743612E-3,4.5740092776075649E-3,7.4254115944549981E-3,1.7795205138862525E-4,9.1768913930495421E-3,2.3180951733045027E-3,0,{"$f":"(1-B$2460)*K$3062","v":0},9.9328353672289873E-4,5.0476399085237506E-4,2.1592868083365247E-3,3.5053696504004752E-3,8.4007157344653132E-5,8.3173020173531488E-3,3.7595678286242188E-3,0]
["LV Network Non-Domestic Non-CT",{"$f":"(1-B$2461)*B$3063","v":0},2.2396340875205419E-3,1.1381308541523372E-3,4.8675873906639903E-3,7.9020040524632202E-3,1.8941750892753872E-4,9.7659007927647073E-3,2.4668797440301439E-3,0,{"$f":"(1-B$2461)*K$3063","v":0},1.0572808333290907E-3,5.3728595426403355E-4,2.2978784263820917E-3,3.7303582206178279E-3,8.9419741734571027E-5,8.8511395510741369E-3,4.0008718492431814E-3,0]
["LV HH Metered",{"$f":"(1-B$2462)*B$3064","v":0},1.9044857907724209E-3,9.6781614990172973E-4,4.1392104989336244E-3,6.7195625905568145E-3,1.6107227349596988E-4,6.6436393800324567E-3,0,0,{"$f":"(1-B$2462)*K$3064","v":0},8.990648674045104E-4,4.5688421656873317E-4,1.9540280932596413E-3,3.1721542259682757E-3,7.6038594204718801E-5,6.0213369485838993E-3,0,0]
["LV Sub HH Metered",{"$f":"(1-B$2463)*B$3065","v":0},1.843159838398822E-3,9.3665170257277279E-4,4.0059246392271314E-3,6.5031873477503213E-3,1.5588561858839248E-4,0,0,0,{"$f":"(1-B$2463)*K$3065","v":0},8.7011426587922235E-4,4.4217218256916249E-4,1.8911068394679221E-3,3.0700083449509436E-3,7.3590091186556236E-5,0,0,0]
["HV HH Metered",{"$f":"(1-B$2464)*B$3066","v":0},1.6084009537907121E-3,8.298070682722635E-4,2.6534336029897E-3,0,0,0,0,0,{"$f":"(1-B$2464)*K$3066","v":0},7.5928988142602159E-4,3.9173323603792538E-4,1.3403093747125965E-3,0,0,0,0,0]
["LV UMS (Pseudo HH Metered)",{"$f":"(1-B$2469)*B$3067","v":0},1.8737042248730628E-3,9.5217366165581776E-4,4.072309826131772E-3,6.610956551226798E-3,1.5846891629309737E-4,8.1703255776531172E-3,2.0638352874295333E-3,8.4566447238636504E-4,{"$f":"(1-B$2469)*K$3067","v":0},8.8453358310829847E-4,4.494997500167494E-4,1.9224457917201407E-3,3.1208837597759467E-3,7.4809607876888116E-5,7.4050201205295499E-3,3.3472002528432258E-3,6.5140534876100232E-3]
[]
["3007. Exceeded capacity charge elements p/kVA/day"]
["Data sources:"]
["x1 = 2602. Standing charges factors adapted to use 132kV/HV"]
["x2 = 2012. Loss adjustment factors between end user meter reading and each network level, scaled by network use"]
["x3 = 3001. Costs based on aggregate maximum load (£/kW/year)"]
["x4 = 1010. Power factor for all flows in the network model (in Financial and general assumptions)"]
["x5 = 1010. Days in the charging year (in Financial and general assumptions)"]
["Calculation =100*x1*x2*x3*x4/x5"]
[]
[null,"GSPs","Assets\n132kV","Assets\n132kV/EHV","Assets\nEHV","Assets\nEHV/HV","Assets\n132kV/HV","Assets\nHV","Assets\nHV/LV","Assets\nLV circuits","Transmission\nexit","Operating\n132kV","Operating\n132kV/EHV","Operating\nEHV","Operating\nEHV/HV","Operating\n132kV/HV","Operating\nHV","Operating\nHV/LV","Operating\nLV circuits"]
["Domestic Unrestricted",{"$f":"100*B2451*B$612*B$3085*$E$14/$F$14","v":0},0,0,0,0,0,0,0,2.5006185260487541,{"$f":"100*B2451*B$612*K$3085*$E$14/$F$14","v":0},0,0,0,0,0,0,0,1.180485711389557]
["Domestic Two Rate",{"$f":"100*B2452*B$613*B$3085*$E$14/$F$14","v":0},0,0,0,0,0,0,0,2.5006185260487541,{"$f":"100*B2452*B$613*K$3085*$E$14/$F$14","v":0},0,0,0,0,0,0,0,1.180485711389557]
["Domestic Off Peak (related MPAN)",{"$f":"100*B2453*B$614*B$3085*$E$14/$F$14","v":0},0,0,0,0,0,0,0,2.5006185260487541,{"$f":"100*B2453*B$614*K$3085*$E$14/$F$14","v":0},0,0,0,0,0,0,0,1.180485711389557]
["Small Non Domestic Unrestricted",{"$f":"100*B2454*B$615*B$3085*$E$14/$F$14","v":0},0,0,0,0,0,0,0,2.5006185260487541,{"$f":"100*B2454*B$615*K$3085*$E$14/$F$14","v":0},0,0,0,0,0,0,0,1.180485711389557]
["Small Non Domestic Two Rate",{"$f":"100*B2455*B$616*B$3085*$E$14/$F$14","v":0},0,0,0,0,0,0,0,2.5006185260487541,{"$f":"100*B2455*B$616*K$3085*$E$14/$F$14","v":0},0,0,0,0,0,0,0,1.180485711389557]
["Small Non Domestic Off Peak (related MPAN)",{"$f":"100*B2456*B$617*B$3085*$E$14/$F$14","v":0},0,0,0,0,0,0,0,2.5006185260487541,{"$f":"100*B2456*B$617*K$3085*$E$14/$F$14","v":0},0,0,0,0,0,0,0,1.180485711389557]
["LV Medium Non-Domestic",{"$f":"100*B2457*B$618*B$3085*$E$14/$F$14","v":0},0,0,0,0,0,0,0,2.5006185260487541,{"$f":"100*B2457*B$618*K$3085*$E$14/$F$14","v":0},0,0,0,0,0,0,0,1.180485711389557]
["LV Sub Medium Non-Domestic",{"$f":"100*B2458*B$619*B$3085*$E$14/$F$14","v":0},0,0,0,0,0,0,1.3032553650128242,0,{"$f":"100*B2458*B$619*K$3085*$E$14/$F$14","v":0},0,0,0,0,0,0,0.61523751850322206,0]
["HV Medium Non-Domestic",{"$f":"100*B2459*B$620*B$3085*$E$14/$F$14","v":0},2.575168613369884E-2,0,0.19754587344438942,1.6034722822839902,0.14511114488789129,2.8392609433697045,0,0,{"$f":"100*B2459*B$620*K$3085*$E$14/$F$14","v":0},1.2156791293174393E-2,0,9.3256959634523948E-2,0.7569631665635943,6.8503704711094182E-2,1.3403511729757629,0,0]
["LV Network Domestic",{"$f":"100*B2460*B$621*B$3085*$E$14/$F$14","v":0},0,0,0,0,0,0,0,2.5006185260487541,{"$f":"100*B2460*B$621*K$3085*$E$14/$F$14","v":0},0,0,0,0,0,0,0,1.180485711389557]
["LV Network Non-Domestic Non-CT",{"$f":"100*B2461*B$622*B$3085*$E$14/$F$14","v":0},0,0,0,0,0,0,0,2.5006185260487541,{"$f":"100*B2461*B$622*K$3085*$E$14/$F$14","v":0},0,0,0,0,0,0,0,1.180485711389557]
["LV HH Metered",{"$f":"100*B2462*B$623*B$3085*$E$14/$F$14","v":0},0,0,0,0,0,0.59311447172906784,1.3404912325846194,2.5006185260487541,{"$f":"100*B2462*B$623*K$3085*$E$14/$F$14","v":0},0,0,0,0,0,0.27999598971253847,0.63281573331759988,1.180485711389557]
["LV Sub HH Metered",{"$f":"100*B2463*B$624*B$3085*$E$14/$F$14","v":0},0,0,0,0,0,2.8831953486829693,1.3032553650128242,0,{"$f":"100*B2463*B$624*K$3085*$E$14/$F$14","v":0},0,0,0,0,0,1.3610916166581732,0.61523751850322206,0]
["HV HH Metered",{"$f":"100*B2464*B$625*B$3085*$E$14/$F$14","v":0},2.575168613369884E-2,0,0.19754587344438942,1.6034722822839902,0.14511114488789129,2.8392609433697045,0,0,{"$f":"100*B2464*B$625*K$3085*$E$14/$F$14","v":0},1.2156791293174393E-2,0,9.3256959634523948E-2,0.7569631665635943,6.8503704711094182E-2,1.3403511729757629,0,0]
["NHH UMS category A",{"$f":"100*B2465*B$626*B$3085*$E$14/$F$14","v":0},0,0,0,0,0,0,0,0,{"$f":"100*B2465*B$626*K$3085*$E$14/$F$14","v":0},0,0,0,0,0,0,0,0]
["NHH UMS category B",{"$f":"100*B2466*B$627*B$3085*$E$14/$F$14","v":0},0,0,0,0,0,0,0,0,{"$f":"100*B2466*B$627*K$3085*$E$14/$F$14","v":0},0,0,0,0,0,0,0,0]
["NHH UMS category C",{"$f":"100*B2467*B$628*B$3085*$E$14/$F$14","v":0},0,0,0,0,0,0,0,0,{"$f":"100*B2467*B$628*K$3085*$E$14/$F$14","v":0},0,0,0,0,0,0,0,0]
["NHH UMS category D",{"$f":"100*B2468*B$629*B$3085*$E$14/$F$14","v":0},0,0,0,0,0,0,0,0,{"$f":"100*B2468*B$629*K$3085*$E$14/$F$14","v":0},0,0,0,0,0,0,0,0]
["LV UMS (Pseudo HH Metered)",{"$f":"100*B2469*B$630*B$3085*$E$14/$F$14","v":0},0,0,0,0,0,0,0,0,{"$f":"100*B2469*B$630*K$3085*$E$14/$F$14","v":0},0,0,0,0,0,0,0,0]
[]
[{"$f":"\"Standing charges as fixed charges for \"&CDCM!B7&\" in \"&CDCM!C7&\" (\"&CDCM!D7&\")\"","v":"Standing charges as fixed charges for WPD East Midlands in 2023/24 (Forecast)"}]
["This sheet allocates standing charges to fixed charges for non half hourly settled demand users."]
[]
["3101. Mapping of tariffs to tariff groups"]
[]
[null,"LV domestic and small non-domestic tariffs","LV medium non-domestic tariffs","LV substation aggregated tariffs","HV network aggregated tariffs"]
["Domestic Unrestricted",1,0,0,0]
["Domestic Two Rate",1,0,0,0]
["Small Non Domestic Unrestricted",1,0,0,0]
["Small Non Domestic Two Rate",1,0,0,0]
["LV Medium Non-Domestic",0,1,0,0]
["LV Sub Medium Non-Domestic",0,0,1,0]
["HV Medium Non-Domestic",0,0,0,1]
["LV Network Domestic",1,0,0,0]
["LV Network Non-Domestic Non-CT",1,0,0,0]
[]
["3102. Capacity use for tariffs charged for capacity on an exit point basis"]
["Data sources:"]
["x1 = 2407. All units (MWh)"]
["x2 = 1041. Load factor for each type of demand user (in Load profile data for demand users)"]
["x3 = 1010. Days in the charging year (in Financial and general assumptions)"]
["x4 = 2305. MPANs (in Equivalent volume for each end user)"]
["Kind:","Calculation","Copy cells"]
["Formula:","=x1/x2/(24*x3)*1000","= x4"]
[]
[null,"Unit-based contributions to aggregate maximum load (kW)","MPANs"]
["Domestic Unrestricted",{"$f":"B$1429/C$122/(24*F$14)*1000","v":1586065.996296325},{"$f":"E$1268","v":1726129.2667337202}]
["Domestic Two Rate",{"$f":"B$1430/C$123/(24*F$14)*1000","v":795372.14637345169},{"$f":"E$1269","v":795197.67720636853}]
["Small Non Domestic Unrestricted",{"$f":"B$1432/C$125/(24*F$14)*1000","v":349591.78672929941},{"$f":"E$1271","v":96657.661521916118}]
["Small Non Domestic Two Rate",{"$f":"B$1433/C$126/(24*F$14)*1000","v":420172.15532503137},{"$f":"E$1272","v":82461.209401755114}]
["LV Medium Non-Domestic",{"$f":"B$1435/C$128/(24*F$14)*1000","v":11511.555794661339},{"$f":"E$1274","v":1226.5130041316722}]
["LV Sub Medium Non-Domestic",{"$f":"B$1436/C$129/(24*F$14)*1000","v":4.0059332362907769E-2},{"$f":"E$1275","v":3.1678196721310618E-3}]
["HV Medium Non-Domestic",{"$f":"B$1437/C$130/(24*F$14)*1000","v":787.44730797926684},{"$f":"E$1276","v":44}]
["LV Network Domestic",{"$f":"B$1438/C$131/(24*F$14)*1000","v":63.637318197858647},{"$f":"E$1277","v":76.118765573770503}]
["LV Network Non-Domestic Non-CT",{"$f":"B$1439/C$132/(24*F$14)*1000","v":43587.088864613885},{"$f":"E$1278","v":2522.7585365813807}]
[]
["3103. Aggregate capacity (kW)"]
["Data sources:"]
["x1 = 3101. Mapping of tariffs to tariff groups"]
["x2 = 3102. Unit-based contributions to aggregate maximum load (kW) (in Capacity use for tariffs charged for capacity on an exit point basis)"]
["Sum-product calculation =SUMPRODUCT(x1, x2)"]
[]
[null,"LV domestic and small non-domestic tariffs","LV medium non-domestic tariffs","LV substation aggregated tariffs","HV network aggregated tariffs"]
["Aggregate capacity (kW)",{"$f":"SUMPRODUCT(B$3242:B$3250,$B$3262:$B$3270)","v":3194852.8109069187},{"$f":"SUMPRODUCT(C$3242:C$3250,$B$3262:$B$3270)","v":11511.555794661339},{"$f":"SUMPRODUCT(D$3242:D$3250,$B$3262:$B$3270)","v":4.0059332362907769E-2},{"$f":"SUMPRODUCT(E$3242:E$3250,$B$3262:$B$3270)","v":787.44730797926684}]
[]
["3104. Aggregate number of users charged for capacity on an exit point basis"]
["Data sources:"]
["x1 = 3101. Mapping of tariffs to tariff groups"]
["x2 = 3102. MPANs (in Equivalent volume for each end user) (in Capacity use for tariffs charged for capacity on an exit point basis)"]
["Sum-product calculation =SUMPRODUCT(x1, x2)"]
[]
[null,"LV domestic and small non-domestic tariffs","LV medium non-domestic tariffs","LV substation aggregated tariffs","HV network aggregated tariffs"]
["Aggregate number of users charged for capacity on an exit point basis",{"$f":"SUMPRODUCT(B$3242:B$3250,$C$3262:$C$3270)","v":2703044.6921659154},{"$f":"SUMPRODUCT(C$3242:C$3250,$C$3262:$C$3270)","v":1226.5130041316722},{"$f":"SUMPRODUCT(D$3242:D$3250,$C$3262:$C$3270)","v":3.1678196721310618E-3},{"$f":"SUMPRODUCT(E$3242:E$3250,$C$3262:$C$3270)","v":44}]
[]
["3105. Average maximum kVA by exit point"]
["Data sources:"]
["x1 = 3104. Aggregate number of users charged for capacity on an exit point basis"]
["x2 = 3103. Aggregate capacity (kW)"]
["x3 = 1010. Power factor for all flows in the network model (in Financial and general assumptions)"]
["Calculation =IF(x1,x2/x1/x3,0)"]
[]
[null,"LV domestic and small non-domestic tariffs","LV medium non-domestic tariffs","LV substation aggregated tariffs","HV network aggregated tariffs"]
["Average maximum kVA by exit point",{"$f":"IF(B3288,B3279/B3288/$E14,0)","v":1.2441536644200495},{"$f":"IF(C3288,C3279/C3288/$E14,0)","v":9.87957495065762},{"$f":"IF(D3288,D3279/D3288/$E14,0)","v":13.311274832881468},{"$f":"IF(E3288,E3279/E3288/$E14,0)","v":18.838452344001599}]
[]
["3106. Deemed average maximum kVA for each tariff"]
["Data sources:"]
["x1 = 3101. Mapping of tariffs to tariff groups"]
["x2 = 3105. Average maximum kVA by exit point"]
["Sum-product calculation =SUMPRODUCT(x1, x2)"]
[]
[null,"Deemed average maximum kVA for each tariff"]
["Domestic Unrestricted",{"$f":"SUMPRODUCT($B3242:$E3242,$B$3298:$E$3298)","v":1.2441536644200495}]
["Domestic Two Rate",1.2441536644200495]
["Small Non Domestic Unrestricted",1.2441536644200495]
["Small Non Domestic Two Rate",1.2441536644200495]
["LV Medium Non-Domestic",9.87957495065762]
["LV Sub Medium Non-Domestic",13.311274832881468]
["HV Medium Non-Domestic",18.838452344001599]
["LV Network Domestic",1.2441536644200495]
["LV Network Non-Domestic Non-CT",1.2441536644200495]
[]
["3107. Capacity-driven fixed charge elements from standing charges factors p/MPAN/day"]
["Data sources:"]
["x1 = 3002. Capacity elements p/kVA/day"]
["x2 = 3106. Deemed average maximum kVA for each tariff"]
["Calculation =x1*x2"]
[]
[null,"GSPs","Assets\n132kV","Assets\n132kV/EHV","Assets\nEHV","Assets\nEHV/HV","Assets\n132kV/HV","Assets\nHV","Assets\nHV/LV","Assets\nLV circuits","Transmission\nexit","Operating\n132kV","Operating\n132kV/EHV","Operating\nEHV","Operating\nEHV/HV","Operating\n132kV/HV","Operating\nHV","Operating\nHV/LV","Operating\nLV circuits"]
["Domestic Unrestricted",{"$f":"B$3099*$B3307","v":0},0,0,0,0,0,0,0,0.19066962969410456,0,0,0,0,0,0,0,0,1.4687056236208262]
["Domestic Two Rate",{"$f":"B$3100*$B3308","v":0},0,0,0,0,0,0,0,0.19066962969410456,0,0,0,0,0,0,0,0,1.4687056236208262]
["Small Non Domestic Unrestricted",{"$f":"B$3102*$B3309","v":0},0,0,0,0,0,0,0,0.19066962969410456,0,0,0,0,0,0,0,0,1.4687056236208262]
["Small Non Domestic Two Rate",{"$f":"B$3103*$B3310","v":0},0,0,0,0,0,0,0,0.19066962969410456,0,0,0,0,0,0,0,0,1.4687056236208262]
["LV Medium Non-Domestic",{"$f":"B$3105*$B3311","v":0},0,0,0,0,0,0,0,1.5140693237881713,0,0,0,0,0,0,0,0,11.662697063853509]
["LV Sub Medium Non-Domestic",{"$f":"B$3106*$B3312","v":0},0,0,0,0,0,0,5.0495863142458868,0,0,0,0,0,0,0,0,8.1895956962963865,0]
["HV Medium Non-Domestic",{"$f":"B$3107*$B3313","v":0},0.48512191200737237,0,3.4780005216395229,19.585282599342925,1.7724302517380184,19.370997033199348,0,0,0,0.22901513343243937,0,1.7568167898214602,14.260014539472817,1.2905037765875056,25.250141696330552,0,0]
["LV Network Domestic",{"$f":"B$3108*$B3314","v":0},0,0,0,0,0,0,0,0.19066962969410456,0,0,0,0,0,0,0,0,1.4687056236208262]
["LV Network Non-Domestic Non-CT",{"$f":"B$3109*$B3315","v":0},0,0,0,0,0,0,0,0.19066962969410456,0,0,0,0,0,0,0,0,1.4687056236208262]
[]
[{"$f":"\"Reactive power unit charges for \"&CDCM!B7&\" in \"&CDCM!C7&\" (\"&CDCM!D7&\")\"","v":"Reactive power unit charges for WPD East Midlands in 2023/24 (Forecast)"}]
[]
["3201. Network use factors for generator reactive unit charges"]
["These factors differ from the network use factors for active power charges/credits in the case of generators, who do not qualify"]
["for active power credits at the voltage of connection but are charged reactive unit charges for costs caused at that voltage."]
[]
[null,"GSPs","132kV","132kV/EHV","EHV","EHV/HV","132kV/HV","HV","HV/LV","LV circuits"]
["LV Generation Intermittent",1,1,1,1,1,1,1,1,1]
["LV Generation Non-Intermittent",1,1,1,1,1,1,1,1,1]
["LV Sub Generation Intermittent",1,1,1,1,1,1,1,1,0]
["LV Sub Generation Non-Intermittent",1,1,1,1,1,1,1,1,0]
["HV Generation Intermittent",1,1,1,1,1,1,1,0,0]
["HV Generation Non-Intermittent",1,1,1,1,1,1,1,0,0]
[]
["3202. Standard components p/kWh for reactive power (absolute value)"]
["Data sources:"]
["x1 = 3003. Yardstick components p/kWh (taking account of standing charges)"]
["Calculation =ABS(x1)"]
[]
[null,"GSPs","Assets\n132kV","Assets\n132kV/EHV","Assets\nEHV","Assets\nEHV/HV","Assets\n132kV/HV","Assets\nHV","Assets\nHV/LV","Assets\nLV circuits","Transmission\nexit","Operating\n132kV","Operating\n132kV/EHV","Operating\nEHV","Operating\nEHV/HV","Operating\n132kV/HV","Operating\nHV","Operating\nHV/LV","Operating\nLV circuits"]
["LV HH Metered",{"$f":"ABS(B$3137)","v":0},0.1237241660254083,6.2873793331872541E-2,7.6853443377110753E-2,0.12476329077860482,1.0463996531065081E-2,0.12335361128476285,0,0,6.5786217479679485E-2,5.8407393460915356E-2,2.9681302396177021E-2,3.6280780467990811E-2,5.8897940863776511E-2,4.9398171933368231E-3,0.11179921348569191,0,0]
["LV Sub HH Metered",{"$f":"ABS(B$3138)","v":0},0.11874051820723354,6.0341217417039447E-2,7.3757762818416173E-2,0.1197377866927708,1.0042503502203431E-2,0,0,0,6.3136328215998794E-2,5.6054725519496466E-2,2.8485730320977776E-2,3.4819379367224054E-2,5.6525513520677931E-2,4.7408398232028446E-3,0,0,0]
["HV HH Metered",{"$f":"ABS(B$3139)","v":0},9.4212288760205876E-2,4.8606053700151572E-2,4.4421219450063193E-2,0,0,0,0,0,5.0857571177054944E-2,4.4475500585234667E-2,2.294582371615355E-2,2.2438163441512858E-2,0,0,0,0,0]
[]
["3203. Standard reactive p/kVArh"]
["Data sources:"]
["x1 = 3202. Standard components p/kWh for reactive power (absolute value)"]
["x2 = 1092. Average kVAr by kVA, by network level"]
["x3 = 1010. Power factor for all flows in the network model (in Financial and general assumptions)"]
["Calculation =x1*x2*x3"]
[]
[null,"GSPs","Assets\n132kV","Assets\n132kV/EHV","Assets\nEHV","Assets\nEHV/HV","Assets\n132kV/HV","Assets\nHV","Assets\nHV/LV","Assets\nLV circuits","Transmission\nexit","Operating\n132kV","Operating\n132kV/EHV","Operating\nEHV","Operating\nEHV/HV","Operating\n132kV/HV","Operating\nHV","Operating\nHV/LV","Operating\nLV circuits"]
["LV HH Metered",{"$f":"B3354*B$350*$E$14","v":0},2.0556211503566957E-2,1.0446196852893795E-2,1.2768852582226022E-2,2.0728857389100044E-2,1.7385457730302359E-3,2.0494645506663869E-2,0,0,{"$f":"K3354*B$350*$E$14","v":1.093008297388103E-2},9.7041246825463681E-3,4.9314143659844488E-3,6.0278878474019507E-3,9.7856269184447998E-3,8.2072832072543466E-4,1.857493448670618E-2,0,0]
["LV Sub HH Metered",0,1.9728200922443685E-2,1.0025420800594867E-2,1.2254519236071659E-2,1.9893892578108884E-2,1.668516609553961E-3,0,0,0,1.0489815838404318E-2,9.3132395276483652E-3,4.7327754643449174E-3,5.7850826535262639E-3,9.3914588281821046E-3,7.8766912916816353E-4,0,0,0]
["HV HH Metered",0,1.5652946358047797E-2,8.0756763396478241E-3,7.3803850257866208E-3,0,0,0,0,0,8.4497558016156538E-3,7.3894035912866656E-3,3.8123449976292414E-3,3.7279995353585167E-3,0,0,0,0,0]
[]
["3204. Absolute value of load coefficient (kW peak / average kW)"]
["Data sources:"]
["x1 = 2302. Load coefficient"]
["Calculation =ABS(x1)"]
[]
[null,"Absolute load coefficient"]
["LV Generation Intermittent",{"$f":"ABS(B$1001)","v":1}]
["LV Generation Non-Intermittent",{"$f":"ABS(B$1003)","v":1}]
["LV Sub Generation Intermittent",{"$f":"ABS(B$1005)","v":1}]
["LV Sub Generation Non-Intermittent",{"$f":"ABS(B$1007)","v":1}]
["HV Generation Intermittent",{"$f":"ABS(B$1009)","v":1}]
["HV Generation Non-Intermittent",{"$f":"ABS(B$1011)","v":1}]
[]
["3205. Pay-as-you-go components p/kWh for reactive power (absolute value)"]
["Data sources:"]
["x1 = 2901. Unit cost at each level, £/kW/year (relative to system simultaneous maximum load)"]
["x2 = 3204. Absolute value of load coefficient (kW peak / average kW)"]
["x3 = 2001. Loss adjustment factor to transmission (in Loss adjustment factors to transmission)"]
["x4 = 2004. Loss adjustment factor to transmission for each network level"]
["x5 = 2804. Proportion of annual charge covered by contributions (for all charging levels)"]
["x6 = 3201. Network use factors for generator reactive unit charges"]
["x7 = 1010. Days in the charging year (in Financial and general assumptions)"]
["Calculation =x1*x2*x3/x4*(1-x5)*x6/(24*x7)*100"]
[]
[null,"GSPs","Assets\n132kV","Assets\n132kV/EHV","Assets\nEHV","Assets\nEHV/HV","Assets\n132kV/HV","Assets\nHV","Assets\nHV/LV","Assets\nLV circuits","Transmission\nexit","Operating\n132kV","Operating\n132kV/EHV","Operating\nEHV","Operating\nEHV/HV","Operating\n132kV/HV","Operating\nHV","Operating\nHV/LV","Operating\nLV circuits"]
["LV Generation Intermittent",{"$f":"B$2942*$B$3376*$I$386/B$434*(1-B$2919)*B3341/(24*$F$14)*100","v":0},8.4168684372011068E-2,4.6242867211545628E-2,5.6524720213376831E-2,9.1761797445515311E-2,9.4858364532076245E-2,0.10489574821869042,2.6496807822099282E-2,1.0857169243727051E-2,{"$f":"K$2942*$B$3376*$I$386/B$434*(1-K$2919)*B3341/(24*$F$14)*100","v":4.4753903404275111E-2},3.9734141058538813E-2,2.1830216575724891E-2,2.6684047909386263E-2,4.3318678801846811E-2,4.4780498412461456E-2,9.5070278256955715E-2,4.2973449665225399E-2,8.3631491551368092E-2]
["LV Generation Non-Intermittent",{"$f":"B$2942*$B$3377*$I$388/B$434*(1-B$2921)*B3342/(24*$F$14)*100","v":0},8.4168684372011068E-2,4.6242867211545628E-2,5.6524720213376831E-2,9.1761797445515311E-2,9.4858364532076245E-2,0.10489574821869042,2.6496807822099282E-2,1.0857169243727051E-2,{"$f":"K$2942*$B$3377*$I$388/B$434*(1-K$2921)*B3342/(24*$F$14)*100","v":4.4753903404275111E-2},3.9734141058538813E-2,2.1830216575724891E-2,2.6684047909386263E-2,4.3318678801846811E-2,4.4780498412461456E-2,9.5070278256955715E-2,4.2973449665225399E-2,8.3631491551368092E-2]
["LV Sub Generation Intermittent",{"$f":"B$2942*$B$3378*$I$390/B$434*(1-B$2923)*B3343/(24*$F$14)*100","v":0},8.1830665361677435E-2,4.4958343122336021E-2,5.4954589096338588E-2,8.921285862758431E-2,9.222340996174079E-2,0.10198197743483792,2.5760785382596518E-2,0,{"$f":"K$2942*$B$3378*$I$390/B$434*(1-K$2923)*B3343/(24*$F$14)*100","v":4.3510739420823022E-2},3.8630414918023846E-2,2.1223821670843648E-2,2.5942824356347753E-2,4.2115382168462175E-2,4.3536595678781972E-2,9.2429437194262512E-2,4.1779742730080255E-2,0]
["LV Sub Generation Non-Intermittent",{"$f":"B$2942*$B$3379*$I$392/B$434*(1-B$2925)*B3344/(24*$F$14)*100","v":0},8.1830665361677435E-2,4.4958343122336021E-2,5.4954589096338588E-2,8.921285862758431E-2,9.222340996174079E-2,0.10198197743483792,2.5760785382596518E-2,0,{"$f":"K$2942*$B$3379*$I$392/B$434*(1-K$2925)*B3344/(24*$F$14)*100","v":4.3510739420823022E-2},3.8630414918023846E-2,2.1223821670843648E-2,2.5942824356347753E-2,4.2115382168462175E-2,4.3536595678781972E-2,9.2429437194262512E-2,4.1779742730080255E-2,0]
["HV Generation Intermittent",{"$f":"B$2942*$B$3380*$I$394/B$434*(1-B$2927)*B3345/(24*$F$14)*100","v":0},8.0583721889499485E-2,4.4273263608090904E-2,5.0576836854463902E-2,5.6961558033843465E-2,5.8883766302611974E-2,6.9828016090629108E-2,0,0,{"$f":"K$2942*$B$3380*$I$394/B$434*(1-K$2927)*B3345/(24*$F$14)*100","v":4.2847718629648576E-2},3.8041760976415866E-2,2.0900411054906982E-2,2.5547505128060553E-2,4.1473623963990375E-2,4.2873180887486248E-2,9.1020988627492805E-2,0,0]
["HV Generation Non-Intermittent",{"$f":"B$2942*$B$3381*$I$396/B$434*(1-B$2929)*B3346/(24*$F$14)*100","v":0},8.0583721889499485E-2,4.4273263608090904E-2,5.0576836854463902E-2,5.6961558033843465E-2,5.8883766302611974E-2,6.9828016090629108E-2,0,0,{"$f":"K$2942*$B$3381*$I$396/B$434*(1-K$2929)*B3346/(24*$F$14)*100","v":4.2847718629648576E-2},3.8041760976415866E-2,2.0900411054906982E-2,2.5547505128060553E-2,4.1473623963990375E-2,4.2873180887486248E-2,9.1020988627492805E-2,0,0]
[]
["3206. Pay-as-you-go reactive p/kVArh"]
["Data sources:"]
["x1 = 3205. Pay-as-you-go components p/kWh for reactive power (absolute value)"]
["x2 = 1092. Average kVAr by kVA, by network level"]
["x3 = 1010. Power factor for all flows in the network model (in Financial and general assumptions)"]
["Calculation =x1*x2*x3"]
[]
[null,"GSPs","Assets\n132kV","Assets\n132kV/EHV","Assets\nEHV","Assets\nEHV/HV","Assets\n132kV/HV","Assets\nHV","Assets\nHV/LV","Assets\nLV circuits","Transmission\nexit","Operating\n132kV","Operating\n132kV/EHV","Operating\nEHV","Operating\nEHV/HV","Operating\n132kV/HV","Operating\nHV","Operating\nHV/LV","Operating\nLV circuits"]
["LV Generation Intermittent",{"$f":"B3395*B$350*$E$14","v":0},1.3984246841257465E-2,7.6830435756316219E-3,9.391327023756238E-3,1.5245808291406163E-2,1.5760288930162368E-2,1.7427954905474913E-2,4.4023249722175096E-3,1.8038696438514856E-3,{"$f":"K3395*B$350*$E$14","v":7.4356589625308679E-3},6.6016481157298813E-3,3.626991908816895E-3,4.4334340672299351E-3,7.1972028756530611E-3,7.4400776030501773E-3,1.5795497438645958E-2,7.1398446134997634E-3,1.3894994679823885E-2]
["LV Generation Non-Intermittent",0,1.3984246841257465E-2,7.6830435756316219E-3,9.391327023756238E-3,1.5245808291406163E-2,1.5760288930162368E-2,1.7427954905474913E-2,4.4023249722175096E-3,1.8038696438514856E-3,7.4356589625308679E-3,6.6016481157298813E-3,3.626991908816895E-3,4.4334340672299351E-3,7.1972028756530611E-3,7.4400776030501773E-3,1.5795497438645958E-2,7.1398446134997634E-3,1.3894994679823885E-2]
["LV Sub Generation Intermittent",0,1.3595795540111425E-2,7.4696256985307434E-3,9.1304568286518992E-3,1.4822313616644878E-2,1.5322503126546745E-2,1.6943845046989502E-2,4.2800381674336883E-3,0,7.2291128802383442E-3,6.4182690014040512E-3,3.5262421335719813E-3,4.3102831209179925E-3,6.9972805735515871E-3,7.2334087807432289E-3,1.5356733620905796E-2,6.9415155964581048E-3,0]
["LV Sub Generation Non-Intermittent",0,1.3595795540111425E-2,7.4696256985307434E-3,9.1304568286518992E-3,1.4822313616644878E-2,1.5322503126546745E-2,1.6943845046989502E-2,4.2800381674336883E-3,0,7.2291128802383442E-3,6.4182690014040512E-3,3.5262421335719813E-3,4.3102831209179925E-3,6.9972805735515871E-3,7.2334087807432289E-3,1.5356733620905796E-2,6.9415155964581048E-3,0]
["HV Generation Intermittent",0,1.3388621512833534E-2,7.3558028307436083E-3,8.403113061584519E-3,9.4639056550676441E-3,9.7832718791131239E-3,1.1601609562182633E-2,0,0,7.1189549696823303E-3,6.3204668070969416E-3,3.4725089201080275E-3,4.24460261621829E-3,6.8906553457641359E-3,7.1231854088461884E-3,1.5122726251444379E-2,0,0]
["HV Generation Non-Intermittent",0,1.3388621512833534E-2,7.3558028307436083E-3,8.403113061584519E-3,9.4639056550676441E-3,9.7832718791131239E-3,1.1601609562182633E-2,0,0,7.1189549696823303E-3,6.3204668070969416E-3,3.4725089201080275E-3,4.24460261621829E-3,6.8906553457641359E-3,7.1231854088461884E-3,1.5122726251444379E-2,0,0]
[]
[{"$f":"\"Aggregation for \"&CDCM!B7&\" in \"&CDCM!C7&\" (\"&CDCM!D7&\")\"","v":"Aggregation for WPD East Midlands in 2023/24 (Forecast)"}]
["This sheet aggregates elements of tariffs excluding revenue matching and final adjustments and rounding."]
[]
["3301. Unit rate 1 p/kWh (elements)"]
["Data sources:"]
["x1 = 3004. Unit rate 1 total p/kWh (taking account of standing charges) — for Tariffs with Unit rate 1 p/kWh from Standard 1 kWh"]
["x2 = 2903. Pay-as-you-go unit rate 1 (p/kWh) — for Tariffs with Unit rate 1 p/kWh from PAYG 1 kWh"]
["x3 = 2903. Pay-as-you-go unit rate 1 (p/kWh) — for Tariffs with Unit rate 1 p/kWh from PAYG 1 kWh & customer"]
["x4 = 2902. Pay-as-you-go yardstick unit rate (p/kWh) — for Tariffs with Unit rate 1 p/kWh from PAYG yardstick kWh"]
["x5 = 2203. LV unmetered service model asset charge (p/kWh) — for Tariffs with Unit rate 1 p/kWh from PAYG 1 kWh & customer"]
["x6 = 2712. Operating expenditure for unmetered customer assets (p/kWh) — for Tariffs with Unit rate 1 p/kWh from PAYG 1 kWh & customer"]
["Combine tables = x1 or x2 or x3 or x4 or x5 or x6"]
[]
[null,"GSPs","Assets\n132kV","Assets\n132kV/EHV","Assets\nEHV","Assets\nEHV/HV","Assets\n132kV/HV","Assets\nHV","Assets\nHV/LV","Assets\nLV circuits","Assets\nLV customer","Assets\nHV customer","Transmission\nexit","Operating\n132kV","Operating\n132kV/EHV","Operating\nEHV","Operating\nEHV/HV","Operating\n132kV/HV","Operating\nHV","Operating\nHV/LV","Operating\nLV circuits","Operating\nLV customer","Operating\nHV customer"]
["Domestic Unrestricted",{"$f":"$B$3153","v":0},{"$f":"$C$3153","v":0.16580529203385388},{"$f":"$D$3153","v":8.4258459762229773E-2},{"$f":"$E$3153","v":9.9396574131222659E-2},{"$f":"$F$3153","v":0.16135963641707543},{"$f":"$G$3153","v":1.4023016330683357E-2},{"$f":"$H$3153","v":0.19942057619098852},{"$f":"$I$3153","v":5.0373907168178439E-2},{"$f":"$J$3153","v":0},null,null,{"$f":"$K$3153","v":9.2726698473475422E-2},{"$f":"$L$3153","v":7.8272945705162383E-2},{"$f":"$M$3153","v":3.9776521999207538E-2},{"$f":"$N$3153","v":4.6922884998530763E-2},{"$f":"$O$3153","v":7.6174251770562848E-2},{"$f":"$P$3153","v":6.6199503188961693E-3},{"$f":"$Q$3153","v":0.18074106901943612},{"$f":"$R$3153","v":8.1698164498403572E-2},{"$f":"$S$3153","v":0}]
["Domestic Two Rate",{"$f":"$B$3154","v":0},{"$f":"$C$3154","v":0.19776498729025846},{"$f":"$D$3154","v":0.100499646420042},{"$f":"$E$3154","v":0.11836189460235406},{"$f":"$F$3154","v":0.19214779227157175},{"$f":"$G$3154","v":1.6726014063787781E-2},{"$f":"$H$3154","v":0.23747093324863427},{"$f":"$I$3154","v":5.9985478806113088E-2},{"$f":"$J$3154","v":0},null,null,{"$f":"$K$3154","v":0.11064545095330065},{"$f":"$L$3154","v":9.3360398348394769E-2},{"$f":"$M$3154","v":4.7443620593351221E-2},{"$f":"$N$3154","v":5.5875985839333689E-2},{"$f":"$O$3154","v":9.0708647036240042E-2},{"$f":"$P$3154","v":7.8959746979085192E-3},{"$f":"$Q$3154","v":0.21522729076509825},{"$f":"$R$3154","v":9.7286547550417879E-2},{"$f":"$S$3154","v":0}]
["Domestic Off Peak (related MPAN)",{"$f":"$B$3155","v":0},{"$f":"$C$3155","v":5.2125387709419428E-2},{"$f":"$D$3155","v":2.6488930654927412E-2},{"$f":"$E$3155","v":3.5705103447335594E-2},{"$f":"$F$3155","v":5.7963391201894213E-2},{"$f":"$G$3155","v":4.4085152779269852E-3},{"$f":"$H$3155","v":7.163559070985992E-2},{"$f":"$I$3155","v":1.8095247066682446E-2},{"$f":"$J$3155","v":0},null,null,{"$f":"$K$3155","v":2.2438940182763288E-2},{"$f":"$L$3155","v":2.4607222073508218E-2},{"$f":"$M$3155","v":1.2504827834551908E-2},{"$f":"$N$3155","v":1.6855575532292881E-2},{"$f":"$O$3155","v":2.7363212095224323E-2},{"$f":"$P$3155","v":2.0811608167434258E-3},{"$f":"$Q$3155","v":6.4925563309669851E-2},{"$f":"$R$3155","v":2.9347504583225194E-2},{"$f":"$S$3155","v":0}]
["Small Non Domestic Unrestricted",{"$f":"$B$3156","v":0},{"$f":"$C$3156","v":0.16990679496461963},{"$f":"$D$3156","v":8.6342749807604383E-2},{"$f":"$E$3156","v":0.10618136925517269},{"$f":"$F$3156","v":0.17237402080541045},{"$f":"$G$3156","v":1.4369901776093208E-2},{"$f":"$H$3156","v":0.21303299457443975},{"$f":"$I$3156","v":5.3812422456218027E-2},{"$f":"$J$3156","v":0},null,null,{"$f":"$K$3156","v":8.6281771986191483E-2},{"$f":"$L$3156","v":8.020917290437532E-2},{"$f":"$M$3156","v":4.0760468407396402E-2},{"$f":"$N$3156","v":5.0125834034977439E-2},{"$f":"$O$3156","v":8.1373894680801848E-2},{"$f":"$P$3156","v":6.7837071284733473E-3},{"$f":"$Q$3156","v":0.19307842706722605},{"$f":"$R$3156","v":8.7274868856369148E-2},{"$f":"$S$3156","v":0}]
["Small Non Domestic Two Rate",{"$f":"$B$3157","v":0},{"$f":"$C$3157","v":0.18072642512245635},{"$f":"$D$3157","v":9.18410385601139E-2},{"$f":"$E$3157","v":0.11195098703856531},{"$f":"$F$3157","v":0.1817403740819796},{"$f":"$G$3157","v":1.5284974199501259E-2},{"$f":"$H$3157","v":0.22460865010203307},{"$f":"$I$3157","v":5.6736448693106165E-2},{"$f":"$J$3157","v":0},null,null,{"$f":"$K$3157","v":9.3805378889467897E-2},{"$f":"$L$3157","v":8.5316876726768243E-2},{"$f":"$M$3157","v":4.3356086748146408E-2},{"$f":"$N$3157","v":5.2849540702957748E-2},{"$f":"$O$3157","v":8.5795539204202076E-2},{"$f":"$P$3157","v":7.215692219148773E-3},{"$f":"$Q$3157","v":0.20356980360729901},{"$f":"$R$3157","v":9.2017156876660747E-2},{"$f":"$S$3157","v":0}]
["Small Non Domestic Off Peak (related MPAN)",{"$f":"$B$3158","v":0},{"$f":"$C$3158","v":2.3889986272410114E-2},{"$f":"$D$3158","v":1.2140344993590985E-2},{"$f":"$E$3158","v":1.8417818540271469E-2},{"$f":"$F$3158","v":2.9899345417382324E-2},{"$f":"$G$3158","v":2.0205004528408323E-3},{"$f":"$H$3158","v":3.6951897161295336E-2},{"$f":"$I$3158","v":9.3340991829672683E-3},{"$f":"$J$3158","v":0},null,null,{"$f":"$K$3158","v":8.3469623615060121E-3},{"$f":"$L$3158","v":1.1277924699868023E-2},{"$f":"$M$3158","v":5.7311835639797543E-3},{"$f":"$N$3158","v":8.6946375047899788E-3},{"$f":"$O$3158","v":1.4114807867512583E-2},{"$f":"$P$3158","v":9.5383277760625071E-4},{"$f":"$Q$3158","v":3.3490653385899634E-2},{"$f":"$R$3158","v":1.5138368519807826E-2},{"$f":"$S$3158","v":0}]
["LV Medium Non-Domestic",{"$f":"$B$3159","v":0},{"$f":"$C$3159","v":0.1744018634167713},{"$f":"$D$3159","v":8.8627040855605188E-2},{"$f":"$E$3159","v":0.10751878467449287},{"$f":"$F$3159","v":0.17454517074378953},{"$f":"$G$3159","v":1.475007310560175E-2},{"$f":"$H$3159","v":0.21571626767372626},{"$f":"$I$3159","v":5.4490220868959938E-2},{"$f":"$J$3159","v":0},null,null,{"$f":"$K$3159","v":9.1288439416273515E-2},{"$f":"$L$3159","v":8.2331193526156282E-2},{"$f":"$M$3159","v":4.1838830786435834E-2},{"$f":"$N$3159","v":5.0757197746096647E-2},{"$f":"$O$3159","v":8.2398845689059266E-2},{"$f":"$P$3159","v":6.963177454590597E-3},{"$f":"$Q$3159","v":0.19551036091126264},{"$f":"$R$3159","v":8.8374146028498565E-2},{"$f":"$S$3159","v":0}]
["LV Sub Medium Non-Domestic",{"$f":"$B$3160","v":0},{"$f":"$C$3160","v":0.17184028314327049},{"$f":"$D$3160","v":8.7325304308146737E-2},{"$f":"$E$3160","v":0.10604757665920016},{"$f":"$F$3160","v":0.17215682293083459},{"$f":"$G$3160","v":1.4533426932448704E-2},{"$f":"$H$3160","v":0.21276456483415812},{"$f":"$I$3160","v":0},{"$f":"$J$3160","v":0},null,null,{"$f":"$K$3160","v":8.9790241615058719E-2},{"$f":"$L$3160","v":8.1121929146185809E-2},{"$f":"$M$3160","v":4.1224310267507912E-2},{"$f":"$N$3160","v":5.0062673562402335E-2},{"$f":"$O$3160","v":8.1271360453845545E-2},{"$f":"$P$3160","v":6.8609036734559323E-3},{"$f":"$Q$3160","v":0.19283514084700848},{"$f":"$R$3160","v":0},{"$f":"$S$3160","v":0}]
["HV Medium Non-Domestic",{"$f":"$B$3161","v":0},{"$f":"$C$3161","v":0.17009656730789874},{"$f":"$D$3161","v":8.7756310706160842E-2},{"$f":"$E$3161","v":7.9935419951852424E-2},{"$f":"$F$3161","v":0},{"$f":"$G$3161","v":0},{"$f":"$H$3161","v":0},{"$f":"$I$3161","v":0},{"$f":"$J$3161","v":0},null,null,{"$f":"$K$3161","v":8.9498198402136311E-2},{"$f":"$L$3161","v":8.0298760155419105E-2},{"$f":"$M$3161","v":4.1427778685050626E-2},{"$f":"$N$3161","v":4.0377189997270128E-2},{"$f":"$O$3161","v":0},{"$f":"$P$3161","v":0},{"$f":"$Q$3161","v":0},{"$f":"$R$3161","v":0},{"$f":"$S$3161","v":0}]
["LV Network Domestic",{"$f":"$B$3162","v":0},{"$f":"$C$3162","v":0.9879240486892471},{"$f":"$D$3162","v":0.50204042153024897},{"$f":"$E$3162","v":0.52134419723613901},{"$f":"$F$3162","v":0.84634617288837},{"$f":"$G$3162","v":8.3553877553048841E-2},{"$f":"$H$3162","v":1.04597931181615},{"$f":"$I$3162","v":0.26421578835876858},{"$f":"$J$3162","v":0},null,null,{"$f":"$K$3162","v":0.6727458629832328},{"$f":"$L$3162","v":0.46637670291059807},{"$f":"$M$3162","v":0.23700198090306168},{"$f":"$N$3162","v":0.24611485884077702},{"$f":"$O$3162","v":0.39954097499335139},{"$f":"$P$3162","v":3.9443904600042837E-2},{"$f":"$Q$3162","v":0.94800357415880343},{"$f":"$R$3162","v":0.42851440664197787},{"$f":"$S$3162","v":0}]
["LV Network Non-Domestic Non-CT",{"$f":"$B$3163","v":0},{"$f":"$C$3163","v":1.0515760332745852},{"$f":"$D$3163","v":0.53438690526536847},{"$f":"$E$3163","v":0.55480614197394185},{"$f":"$F$3163","v":0.90066803743846879},{"$f":"$G$3163","v":8.8937257108499673E-2},{"$f":"$H$3163","v":1.1131144254597451},{"$f":"$I$3163","v":0.28117420883373856},{"$f":"$J$3163","v":0},null,null,{"$f":"$K$3163","v":0.716264507746601},{"$f":"$L$3163","v":0.49642537187863534},{"$f":"$M$3163","v":0.25227202767958423},{"$f":"$N$3163","v":0.26191148964503624},{"$f":"$O$3163","v":0.42518510433552525},{"$f":"$P$3163","v":4.1985276895735599E-2},{"$f":"$Q$3163","v":1.0088502151647127},{"$f":"$R$3163","v":0.45601816609767493},{"$f":"$S$3163","v":0}]
["LV HH Metered",{"$f":"$B$3164","v":0},{"$f":"$C$3164","v":0.89421375770603606},{"$f":"$D$3164","v":0.45441899349703802},{"$f":"$E$3164","v":0.47178596364515141},{"$f":"$F$3164","v":0.76589371641681137},{"$f":"$G$3164","v":7.5628310614314798E-2},{"$f":"$H$3164","v":0.7572400117913769},{"$f":"$I$3164","v":0},{"$f":"$J$3164","v":0},null,null,{"$f":"$K$3164","v":0.60892188186020457},{"$f":"$L$3164","v":0.42213818417474142},{"$f":"$M$3164","v":0.21452097679804943},{"$f":"$N$3164","v":0.22271953243395101},{"$f":"$O$3164","v":0.36156118146565464},{"$f":"$P$3164","v":3.5702422871272115E-2},{"$f":"$Q$3164","v":0.68631016843711501},{"$f":"$R$3164","v":0},{"$f":"$S$3164","v":0}]
["LV Sub HH Metered",{"$f":"$B$3165","v":0},{"$f":"$C$3165","v":0.86541936575908673},{"$f":"$D$3165","v":0.43978634163484931},{"$f":"$E$3165","v":0.45659408157534592},{"$f":"$F$3165","v":0.74123133153382081},{"$f":"$G$3165","v":7.3193019053043512E-2},{"$f":"$H$3165","v":0},{"$f":"$I$3165","v":0},{"$f":"$J$3165","v":0},null,null,{"$f":"$K$3165","v":0.5893141145000419},{"$f":"$L$3165","v":0.40854499996553933},{"$f":"$M$3165","v":0.20761323126904796},{"$f":"$N$3165","v":0.21554778691351051},{"$f":"$O$3165","v":0.34991862477022662},{"$f":"$P$3165","v":3.4552776549291578E-2},{"$f":"$Q$3165","v":0},{"$f":"$R$3165","v":0},{"$f":"$S$3165","v":0}]
["HV HH Metered",{"$f":"$B$3166","v":0},{"$f":"$C$3166","v":0.75519295956723242},{"$f":"$D$3166","v":0.38961954995202147},{"$f":"$E$3166","v":0.3024375613845765},{"$f":"$F$3166","v":0},{"$f":"$G$3166","v":0},{"$f":"$H$3166","v":0},{"$f":"$I$3166","v":0},{"$f":"$J$3166","v":0},null,null,{"$f":"$K$3166","v":0.52209056611067306},{"$f":"$L$3166","v":0.35650959505597468},{"$f":"$M$3166","v":0.18393061828712678},{"$f":"$N$3166","v":0.15276805808603378},{"$f":"$O$3166","v":0},{"$f":"$P$3166","v":0},{"$f":"$Q$3166","v":0},{"$f":"$R$3166","v":0},{"$f":"$S$3166","v":0}]
["NHH UMS category A",{"$f":"$B$3012","v":0},{"$f":"$C$3012","v":0.10035440540912687},{"$f":"$D$3012","v":5.0997815126437189E-2},{"$f":"$E$3012","v":6.2375145135750439E-2},{"$f":"$F$3012","v":0.10125933241199524},{"$f":"$G$3012","v":8.4874942690060205E-3},{"$f":"$H$3012","v":0.12514402525127433},{"$f":"$I$3012","v":3.1611549976780881E-2},{"$f":"$J$3012","v":1.2952954576973414E-2},null,null,{"$f":"$K$3012","v":5.3291592756256369E-2},{"$f":"$L$3012","v":4.737505558181225E-2},{"$f":"$M$3012","v":2.4074920441372261E-2},{"$f":"$N$3012","v":2.9445901808522239E-2},{"$f":"$O$3012","v":4.7802251247847996E-2},{"$f":"$P$3012","v":4.0067549710967043E-3},{"$f":"$Q$3012","v":0.11342192133497973},{"$f":"$R$3012","v":5.1268717382399125E-2},{"$f":"$S$3012","v":9.9775078287122676E-2},{"$f":"$B$2787","v":0.71368689918431871}]
["NHH UMS category B",{"$f":"$B$3013","v":0},{"$f":"$C$3013","v":0.13938328451901733},{"$f":"$D$3013","v":7.0831399445170473E-2},{"$f":"$E$3013","v":7.8073844993343411E-2},{"$f":"$F$3013","v":0.12674448140614233},{"$f":"$G$3013","v":1.1788369665760624E-2},{"$f":"$H$3013","v":0.15664052096467312},{"$f":"$I$3013","v":3.9567607378150363E-2},{"$f":"$J$3013","v":1.621297979583889E-2},null,null,{"$f":"$K$3013","v":9.1693713516718428E-2},{"$f":"$L$3013","v":6.5799710778451315E-2},{"$f":"$M$3013","v":3.3437909097982783E-2},{"$f":"$N$3013","v":3.6856904596926136E-2},{"$f":"$O$3013","v":5.9833216357812954E-2},{"$f":"$P$3013","v":5.5650239354969842E-3},{"$f":"$Q$3013","v":0.14196817475746396},{"$f":"$R$3013","v":6.4172129543098699E-2},{"$f":"$S$3013","v":0.12488666726841434},{"$f":"$B$2788","v":0.71368689918431871}]
["NHH UMS category C",{"$f":"$B$3014","v":0},{"$f":"$C$3014","v":0.26362328744385222},{"$f":"$D$3014","v":0.13396732929935212},{"$f":"$E$3014","v":0.14478897971373295},{"$f":"$F$3014","v":0.23504931963714831},{"$f":"$G$3014","v":2.2295993207615872E-2},{"$f":"$H$3014","v":0.29049192100422755},{"$f":"$I$3014","v":7.3378651999071065E-2},{"$f":"$J$3014","v":3.0067185790055868E-2},null,null,{"$f":"$K$3014","v":0.17487806207883655},{"$f":"$L$3014","v":0.12445061922689368},{"$f":"$M$3014","v":6.3242960245037144E-2},{"$f":"$N$3014","v":6.8351617785063837E-2},{"$f":"$O$3014","v":0.11096149229203964},{"$f":"$P$3014","v":1.0525436458482029E-2},{"$f":"$Q$3014","v":0.26328186061166453},{"$f":"$R$3014","v":0.11900806426780887},{"$f":"$S$3014","v":0.23160397870994895},{"$f":"$B$2789","v":0.71368689918431871}]
["NHH UMS category D",{"$f":"$B$3015","v":0},{"$f":"$C$3015","v":6.1822372089398815E-2},{"$f":"$D$3015","v":3.1416716482346223E-2},{"$f":"$E$3015","v":4.6586186375940565E-2},{"$f":"$F$3015","v":7.5627657807962476E-2},{"$f":"$G$3015","v":5.2286397061090959E-3},{"$f":"$H$3015","v":9.3466441985877044E-2},{"$f":"$I$3015","v":2.3609749614941007E-2},{"$f":"$J$3015","v":9.6741860035547914E-3},null,null,{"$f":"$K$3015","v":1.6055193857950373E-2},{"$f":"$L$3015","v":2.9184950097550781E-2},{"$f":"$M$3015","v":1.4831124587718672E-2},{"$f":"$N$3015","v":2.1992289824320235E-2},{"$f":"$O$3015","v":3.5702114696089374E-2},{"$f":"$P$3015","v":2.4683230963736123E-3},{"$f":"$Q$3015","v":8.4711542633351886E-2},{"$f":"$R$3015","v":3.829111768852534E-2},{"$f":"$S$3015","v":7.4519111460854409E-2},{"$f":"$B$2790","v":0.71368689918431871}]
["LV UMS (Pseudo HH Metered)",{"$f":"$B$3016","v":0},{"$f":"$C$3016","v":2.6248664656115399},{"$f":"$D$3016","v":1.3338971438185379},{"$f":"$E$3016","v":1.3860408372665314},{"$f":"$F$3016","v":2.2500880690845921},{"$f":"$G$3016","v":0.22199861573548699},{"$f":"$H$3016","v":2.780830876796859},{"$f":"$I$3016","v":0.70244163924193526},{"$f":"$J$3016","v":0.28782817206871064},null,null,{"$f":"$K$3016","v":1.8181383867306431},{"$f":"$L$3016","v":1.2391403665461043},{"$f":"$M$3016","v":0.62970281245945803},{"$f":"$N$3016","v":0.65431867626004203},{"$f":"$O$3016","v":1.0622159226819599},{"$f":"$P$3016","v":0.10480054878186319},{"$f":"$Q$3016","v":2.5203534912724428},{"$f":"$R$3016","v":1.1392444187765611},{"$f":"$S$3016","v":2.217106393042358},{"$f":"$B$2791","v":0.71368689918431871}]
["LV Generation NHH or Aggregate HH",{"$f":"$B$2973","v":0},{"$f":"$C$2973","v":-8.4168684372011068E-2},{"$f":"$D$2973","v":-4.2772601636568354E-2},{"$f":"$E$2973","v":-5.2282859738022727E-2},{"$f":"$F$2973","v":-8.4875593670207361E-2},{"$f":"$G$2973","v":-7.1185836169804081E-3},{"$f":"$H$2973","v":-0.10489574821869042},{"$f":"$I$2973","v":-2.6496807822099282E-2},{"$f":"$J$2973","v":0},null,null,{"$f":"$K$2973","v":-4.4753903404275111E-2},{"$f":"$L$2973","v":-3.9734141058538813E-2},{"$f":"$M$2973","v":-2.0191982321553864E-2},{"$f":"$N$2973","v":-2.4681561073149012E-2},{"$f":"$O$2973","v":-4.0067857024039449E-2},{"$f":"$P$2973","v":-3.3605230696484587E-3},{"$f":"$Q$2973","v":-9.5070278256955715E-2},{"$f":"$R$2973","v":-4.2973449665225406E-2},{"$f":"$S$2973","v":0}]
["LV Sub Generation NHH",{"$f":"$B$2974","v":0},{"$f":"$C$2974","v":-8.1830665361677435E-2},{"$f":"$D$2974","v":-4.1584473813330344E-2},{"$f":"$E$2974","v":-5.0830558078633216E-2},{"$f":"$F$2974","v":-8.251793829047939E-2},{"$f":"$G$2974","v":-6.9208451831753968E-3},{"$f":"$H$2974","v":-0.10198197743483792},{"$f":"$I$2974","v":0},{"$f":"$J$2974","v":0},null,null,{"$f":"$K$2974","v":-4.3510739420823022E-2},{"$f":"$L$2974","v":-3.8630414918023846E-2},{"$f":"$M$2974","v":-1.9631093923732926E-2},{"$f":"$N$2974","v":-2.3995962154450424E-2},{"$f":"$O$2974","v":-3.8954860995593907E-2},{"$f":"$P$2974","v":-3.2671752066026683E-3},{"$f":"$Q$2974","v":-9.242943719426254E-2},{"$f":"$R$2974","v":0},{"$f":"$S$2974","v":0}]
["LV Generation Intermittent",{"$f":"$B$2975","v":0},{"$f":"$C$2975","v":-8.4168684372011068E-2},{"$f":"$D$2975","v":-4.2772601636568354E-2},{"$f":"$E$2975","v":-5.2282859738022727E-2},{"$f":"$F$2975","v":-8.4875593670207361E-2},{"$f":"$G$2975","v":-7.1185836169804081E-3},{"$f":"$H$2975","v":-0.10489574821869042},{"$f":"$I$2975","v":-2.6496807822099282E-2},{"$f":"$J$2975","v":0},null,null,{"$f":"$K$2975","v":-4.4753903404275111E-2},{"$f":"$L$2975","v":-3.9734141058538813E-2},{"$f":"$M$2975","v":-2.0191982321553864E-2},{"$f":"$N$2975","v":-2.4681561073149012E-2},{"$f":"$O$2975","v":-4.0067857024039449E-2},{"$f":"$P$2975","v":-3.3605230696484587E-3},{"$f":"$Q$2975","v":-9.5070278256955715E-2},{"$f":"$R$2975","v":-4.2973449665225406E-2},{"$f":"$S$2975","v":0}]
["LV Generation Intermittent no RP charge",{"$f":"$B$2976","v":0},{"$f":"$C$2976","v":-8.4168684372011068E-2},{"$f":"$D$2976","v":-4.2772601636568354E-2},{"$f":"$E$2976","v":-5.2282859738022727E-2},{"$f":"$F$2976","v":-8.4875593670207361E-2},{"$f":"$G$2976","v":-7.1185836169804081E-3},{"$f":"$H$2976","v":-0.10489574821869042},{"$f":"$I$2976","v":-2.6496807822099282E-2},{"$f":"$J$2976","v":0},null,null,{"$f":"$K$2976","v":-4.4753903404275111E-2},{"$f":"$L$2976","v":-3.9734141058538813E-2},{"$f":"$M$2976","v":-2.0191982321553864E-2},{"$f":"$N$2976","v":-2.4681561073149012E-2},{"$f":"$O$2976","v":-4.0067857024039449E-2},{"$f":"$P$2976","v":-3.3605230696484587E-3},{"$f":"$Q$2976","v":-9.5070278256955715E-2},{"$f":"$R$2976","v":-4.2973449665225406E-2},{"$f":"$S$2976","v":0}]
["LV Generation Non-Intermittent",{"$f":"$B$3017","v":0},{"$f":"$C$3017","v":-0.73528047000258956},{"$f":"$D$3017","v":-0.37365272926884008},{"$f":"$E$3017","v":-0.38793297698699669},{"$f":"$F$3017","v":-0.62976742073801972},{"$f":"$G$3017","v":-6.2186495448972715E-2},{"$f":"$H$3017","v":-0.77831473036585597},{"$f":"$I$3017","v":-0.19660335319423847},{"$f":"$J$3017","v":0},null,null,{"$f":"$K$3017","v":-0.50069501126621963},{"$f":"$L$3017","v":-0.34710935700911139},{"$f":"$M$3017","v":-0.17639304169298808},{"$f":"$N$3017","v":-0.18313442515903153},{"$f":"$O$3017","v":-0.29729902179625506},{"$f":"$P$3017","v":-2.935684453833913E-2},{"$f":"$Q$3017","v":-0.70541084118207342},{"$f":"$R$3017","v":-0.31885819451279718},{"$f":"$S$3017","v":0}]
["LV Generation Non-Intermittent no RP charge",{"$f":"$B$3018","v":0},{"$f":"$C$3018","v":-0.73528047000258956},{"$f":"$D$3018","v":-0.37365272926884008},{"$f":"$E$3018","v":-0.38793297698699669},{"$f":"$F$3018","v":-0.62976742073801972},{"$f":"$G$3018","v":-6.2186495448972715E-2},{"$f":"$H$3018","v":-0.77831473036585597},{"$f":"$I$3018","v":-0.19660335319423847},{"$f":"$J$3018","v":0},null,null,{"$f":"$K$3018","v":-0.50069501126621963},{"$f":"$L$3018","v":-0.34710935700911139},{"$f":"$M$3018","v":-0.17639304169298808},{"$f":"$N$3018","v":-0.18313442515903153},{"$f":"$O$3018","v":-0.29729902179625506},{"$f":"$P$3018","v":-2.935684453833913E-2},{"$f":"$Q$3018","v":-0.70541084118207342},{"$f":"$R$3018","v":-0.31885819451279718},{"$f":"$S$3018","v":0}]
["LV Sub Generation Intermittent",{"$f":"$B$2979","v":0},{"$f":"$C$2979","v":-8.1830665361677435E-2},{"$f":"$D$2979","v":-4.1584473813330344E-2},{"$f":"$E$2979","v":-5.0830558078633216E-2},{"$f":"$F$2979","v":-8.251793829047939E-2},{"$f":"$G$2979","v":-6.9208451831753968E-3},{"$f":"$H$2979","v":-0.10198197743483792},{"$f":"$I$2979","v":0},{"$f":"$J$2979","v":0},null,null,{"$f":"$K$2979","v":-4.3510739420823022E-2},{"$f":"$L$2979","v":-3.8630414918023846E-2},{"$f":"$M$2979","v":-1.9631093923732926E-2},{"$f":"$N$2979","v":-2.3995962154450424E-2},{"$f":"$O$2979","v":-3.8954860995593907E-2},{"$f":"$P$2979","v":-3.2671752066026683E-3},{"$f":"$Q$2979","v":-9.242943719426254E-2},{"$f":"$R$2979","v":0},{"$f":"$S$2979","v":0}]
["LV Sub Generation Intermittent no RP charge",{"$f":"$B$2980","v":0},{"$f":"$C$2980","v":-8.1830665361677435E-2},{"$f":"$D$2980","v":-4.1584473813330344E-2},{"$f":"$E$2980","v":-5.0830558078633216E-2},{"$f":"$F$2980","v":-8.251793829047939E-2},{"$f":"$G$2980","v":-6.9208451831753968E-3},{"$f":"$H$2980","v":-0.10198197743483792},{"$f":"$I$2980","v":0},{"$f":"$J$2980","v":0},null,null,{"$f":"$K$2980","v":-4.3510739420823022E-2},{"$f":"$L$2980","v":-3.8630414918023846E-2},{"$f":"$M$2980","v":-1.9631093923732926E-2},{"$f":"$N$2980","v":-2.3995962154450424E-2},{"$f":"$O$2980","v":-3.8954860995593907E-2},{"$f":"$P$2980","v":-3.2671752066026683E-3},{"$f":"$Q$2980","v":-9.242943719426254E-2},{"$f":"$R$2980","v":0},{"$f":"$S$2980","v":0}]
["LV Sub Generation Non-Intermittent",{"$f":"$B$3019","v":0},{"$f":"$C$3019","v":-0.7148560125025174},{"$f":"$D$3019","v":-0.36327348678915011},{"$f":"$E$3019","v":-0.37715706095958001},{"$f":"$F$3019","v":-0.6122738812730748},{"$f":"$G$3019","v":-6.0459092797612371E-2},{"$f":"$H$3019","v":-0.75669487674458236},{"$f":"$I$3019","v":0},{"$f":"$J$3019","v":0},null,null,{"$f":"$K$3019","v":-0.48678681650882466},{"$f":"$L$3019","v":-0.33746743042552496},{"$f":"$M$3019","v":-0.17149323497929397},{"$f":"$N$3019","v":-0.17804735779350286},{"$f":"$O$3019","v":-0.28904071563524802},{"$f":"$P$3019","v":-2.8541376634496376E-2},{"$f":"$Q$3019","v":-0.68581609559368262},{"$f":"$R$3019","v":0},{"$f":"$S$3019","v":0}]
["LV Sub Generation Non-Intermittent no RP charge",{"$f":"$B$3020","v":0},{"$f":"$C$3020","v":-0.7148560125025174},{"$f":"$D$3020","v":-0.36327348678915011},{"$f":"$E$3020","v":-0.37715706095958001},{"$f":"$F$3020","v":-0.6122738812730748},{"$f":"$G$3020","v":-6.0459092797612371E-2},{"$f":"$H$3020","v":-0.75669487674458236},{"$f":"$I$3020","v":0},{"$f":"$J$3020","v":0},null,null,{"$f":"$K$3020","v":-0.48678681650882466},{"$f":"$L$3020","v":-0.33746743042552496},{"$f":"$M$3020","v":-0.17149323497929397},{"$f":"$N$3020","v":-0.17804735779350286},{"$f":"$O$3020","v":-0.28904071563524802},{"$f":"$P$3020","v":-2.8541376634496376E-2},{"$f":"$Q$3020","v":-0.68581609559368262},{"$f":"$R$3020","v":0},{"$f":"$S$3020","v":0}]
["HV Generation Intermittent",{"$f":"$B$2983","v":0},{"$f":"$C$2983","v":-8.0583721889499485E-2},{"$f":"$D$2983","v":-4.0950805640936741E-2},{"$f":"$E$2983","v":-4.6781331376303026E-2},{"$f":"$F$2983","v":-5.2686915351381008E-2},{"$f":"$G$2983","v":-4.4188935385464628E-3},{"$f":"$H$2983","v":0},{"$f":"$I$2983","v":0},{"$f":"$J$2983","v":0},null,null,{"$f":"$K$2983","v":-4.2847718629648576E-2},{"$f":"$L$2983","v":-3.8041760976415866E-2},{"$f":"$M$2983","v":-1.9331953444895088E-2},{"$f":"$N$2983","v":-2.3630309397811178E-2},{"$f":"$O$2983","v":-3.8361263113756289E-2},{"$f":"$P$2983","v":-3.217389679644913E-3},{"$f":"$Q$2983","v":0},{"$f":"$R$2983","v":0},{"$f":"$S$2983","v":0}]
["HV Generation Intermittent no RP charge",{"$f":"$B$2984","v":0},{"$f":"$C$2984","v":-8.0583721889499485E-2},{"$f":"$D$2984","v":-4.0950805640936741E-2},{"$f":"$E$2984","v":-4.6781331376303026E-2},{"$f":"$F$2984","v":-5.2686915351381008E-2},{"$f":"$G$2984","v":-4.4188935385464628E-3},{"$f":"$H$2984","v":0},{"$f":"$I$2984","v":0},{"$f":"$J$2984","v":0},null,null,{"$f":"$K$2984","v":-4.2847718629648576E-2},{"$f":"$L$2984","v":-3.8041760976415866E-2},{"$f":"$M$2984","v":-1.9331953444895088E-2},{"$f":"$N$2984","v":-2.3630309397811178E-2},{"$f":"$O$2984","v":-3.8361263113756289E-2},{"$f":"$P$2984","v":-3.217389679644913E-3},{"$f":"$Q$2984","v":0},{"$f":"$R$2984","v":0},{"$f":"$S$2984","v":0}]
["HV Generation Non-Intermittent",{"$f":"$B$3021","v":0},{"$f":"$C$3021","v":-0.70396296850247908},{"$f":"$D$3021","v":-0.35773789079998214},{"$f":"$E$3021","v":-0.34711225130300727},{"$f":"$F$3021","v":-0.39093102448753125},{"$f":"$G$3021","v":-3.8602553219832587E-2},{"$f":"$H$3021","v":0},{"$f":"$I$3021","v":0},{"$f":"$J$3021","v":0},null,null,{"$f":"$K$3021","v":-0.47936911263821397},{"$f":"$L$3021","v":-0.33232506958094554},{"$f":"$M$3021","v":-0.16888000473199044},{"$f":"$N$3021","v":-0.17533425519855428},{"$f":"$O$3021","v":-0.28463628568271088},{"$f":"$P$3021","v":-2.8106460419113573E-2},{"$f":"$Q$3021","v":0},{"$f":"$R$3021","v":0},{"$f":"$S$3021","v":0}]
["HV Generation Non-Intermittent no RP charge",{"$f":"$B$3022","v":0},{"$f":"$C$3022","v":-0.70396296850247908},{"$f":"$D$3022","v":-0.35773789079998214},{"$f":"$E$3022","v":-0.34711225130300727},{"$f":"$F$3022","v":-0.39093102448753125},{"$f":"$G$3022","v":-3.8602553219832587E-2},{"$f":"$H$3022","v":0},{"$f":"$I$3022","v":0},{"$f":"$J$3022","v":0},null,null,{"$f":"$K$3022","v":-0.47936911263821397},{"$f":"$L$3022","v":-0.33232506958094554},{"$f":"$M$3022","v":-0.16888000473199044},{"$f":"$N$3022","v":-0.17533425519855428},{"$f":"$O$3022","v":-0.28463628568271088},{"$f":"$P$3022","v":-2.8106460419113573E-2},{"$f":"$Q$3022","v":0},{"$f":"$R$3022","v":0},{"$f":"$S$3022","v":0}]
[]
["3302. Unit rate 2 p/kWh (elements)"]
["Data sources:"]
["x1 = 3005. Unit rate 2 total p/kWh (taking account of standing charges) — for Tariffs with Unit rate 2 p/kWh from Standard 2 kWh"]
["x2 = 2904. Pay-as-you-go unit rate 2 (p/kWh) — for Tariffs with Unit rate 2 p/kWh from PAYG 2 kWh"]
["x3 = 2904. Pay-as-you-go unit rate 2 (p/kWh) — for Tariffs with Unit rate 2 p/kWh from PAYG 2 kWh & customer"]
["x4 = 2203. LV unmetered service model asset charge (p/kWh) — for Tariffs with Unit rate 2 p/kWh from PAYG 2 kWh & customer"]
["x5 = 2712. Operating expenditure for unmetered customer assets (p/kWh) — for Tariffs with Unit rate 2 p/kWh from PAYG 2 kWh & customer"]
["Combine tables = x1 or x2 or x3 or x4 or x5"]
[]
[null,"GSPs","Assets\n132kV","Assets\n132kV/EHV","Assets\nEHV","Assets\nEHV/HV","Assets\n132kV/HV","Assets\nHV","Assets\nHV/LV","Assets\nLV circuits","Assets\nLV customer","Assets\nHV customer","Transmission\nexit","Operating\n132kV","Operating\n132kV/EHV","Operating\nEHV","Operating\nEHV/HV","Operating\n132kV/HV","Operating\nHV","Operating\nHV/LV","Operating\nLV circuits","Operating\nLV customer","Operating\nHV customer"]
["Domestic Unrestricted"]
["Domestic Two Rate",{"$f":"$B$3180","v":0},{"$f":"$C$3180","v":2.2853443893131624E-3},{"$f":"$D$3180","v":1.1613597847676908E-3},{"$f":"$E$3180","v":4.9669696289939289E-3},{"$f":"$F$3180","v":8.0633404162503992E-3},{"$f":"$G$3180","v":1.9328346700798102E-4},{"$f":"$H$3180","v":9.9652926068602519E-3},{"$f":"$I$3180","v":2.5172463858541259E-3},{"$f":"$J$3180","v":0},null,null,{"$f":"$K$3180","v":0},{"$f":"$L$3180","v":1.0788596377598312E-3},{"$f":"$M$3180","v":5.4825180947011055E-4},{"$f":"$N$3180","v":2.3447945437715689E-3},{"$f":"$O$3180","v":3.8065214859037385E-3},{"$f":"$P$3180","v":9.1244773512610486E-5},{"$f":"$Q$3180","v":9.0318545521121379E-3},{"$f":"$R$3180","v":4.082558230552257E-3},{"$f":"$S$3180","v":0}]
["Domestic Off Peak (related MPAN)"]
["Small Non Domestic Unrestricted"]
["Small Non Domestic Two Rate",{"$f":"$B$3181","v":0},{"$f":"$C$3181","v":2.2939148818560324E-3},{"$f":"$D$3181","v":1.1657151131906126E-3},{"$f":"$E$3181","v":4.9855860461248255E-3},{"$f":"$F$3181","v":8.0935621650972383E-3},{"$f":"$G$3181","v":1.9400831815969292E-4},{"$f":"$H$3181","v":1.0002642954830535E-2},{"$f":"$I$3181","v":2.5266811342501603E-3},{"$f":"$J$3181","v":0},null,null,{"$f":"$K$3181","v":0},{"$f":"$L$3181","v":1.0829055743475341E-3},{"$f":"$M$3181","v":5.503078619699662E-4},{"$f":"$N$3181","v":2.3535829352000757E-3},{"$f":"$O$3181","v":3.8207884931722438E-3},{"$f":"$P$3181","v":9.1586959423242852E-5},{"$f":"$Q$3181","v":9.0657063338557206E-3},{"$f":"$R$3181","v":4.097859835486075E-3},{"$f":"$S$3181","v":0}]
["Small Non Domestic Off Peak (related MPAN)"]
["LV Medium Non-Domestic",{"$f":"$B$3182","v":0},{"$f":"$C$3182","v":2.1026804349444789E-3},{"$f":"$D$3182","v":1.0685341381288548E-3},{"$f":"$E$3182","v":4.5699668511018773E-3},{"$f":"$F$3182","v":7.4188491502570767E-3},{"$f":"$G$3182","v":1.7783462587801126E-4},{"$f":"$H$3182","v":9.1687810227473431E-3},{"$f":"$I$3182","v":2.3160464828007143E-3},{"$f":"$J$3182","v":0},null,null,{"$f":"$K$3182","v":0},{"$f":"$L$3182","v":9.9262809709422346E-4},{"$f":"$M$3182","v":5.0443091141382488E-4},{"$f":"$N$3182","v":2.157378469787643E-3},{"$f":"$O$3182","v":3.5022716682305698E-3},{"$f":"$P$3182","v":8.3951723404614528E-5},{"$f":"$Q$3182","v":8.3099513365630269E-3},{"$f":"$R$3182","v":3.7562451907111813E-3},{"$f":"$S$3182","v":0}]
["LV Sub Medium Non-Domestic",{"$f":"$B$3183","v":0},{"$f":"$C$3183","v":2.0962406842106734E-3},{"$f":"$D$3183","v":1.0652616039930184E-3},{"$f":"$E$3183","v":4.5559706932008642E-3},{"$f":"$F$3183","v":7.3961278948226428E-3},{"$f":"$G$3183","v":1.7728998264860676E-4},{"$f":"$H$3183","v":9.140700358021463E-3},{"$f":"$I$3183","v":0},{"$f":"$J$3183","v":0},null,null,{"$f":"$K$3183","v":0},{"$f":"$L$3183","v":9.8958803574660968E-4},{"$f":"$M$3183","v":5.0288602172067606E-4},{"$f":"$N$3183","v":2.1507711987287484E-3},{"$f":"$O$3183","v":3.4915454750484511E-3},{"$f":"$P$3183","v":8.369460959720262E-5},{"$f":"$Q$3183","v":8.2845009569769631E-3},{"$f":"$R$3183","v":0},{"$f":"$S$3183","v":0}]
["HV Medium Non-Domestic",{"$f":"$B$3184","v":0},{"$f":"$C$3184","v":2.0666472265421934E-3},{"$f":"$D$3184","v":1.0662257269670396E-3},{"$f":"$E$3184","v":3.4094180207419043E-3},{"$f":"$F$3184","v":0},{"$f":"$G$3184","v":0},{"$f":"$H$3184","v":0},{"$f":"$I$3184","v":0},{"$f":"$J$3184","v":0},null,null,{"$f":"$K$3184","v":0},{"$f":"$L$3184","v":9.7561763059910692E-4},{"$f":"$M$3184","v":5.0334116247205364E-4},{"$f":"$N$3184","v":1.72217421621768E-3},{"$f":"$O$3184","v":0},{"$f":"$P$3184","v":0},{"$f":"$Q$3184","v":0},{"$f":"$R$3184","v":0},{"$f":"$S$3184","v":0}]
["LV Network Domestic",{"$f":"$B$3185","v":0},{"$f":"$C$3185","v":7.520479990825088E-2},{"$f":"$D$3185","v":3.8217360430824444E-2},{"$f":"$E$3185","v":6.6900298839888933E-2},{"$f":"$F$3185","v":0.10860543224303364},{"$f":"$G$3185","v":6.3604612634670906E-3},{"$f":"$H$3185","v":0.1342228971029413},{"$f":"$I$3185","v":3.3904885281406914E-2},{"$f":"$J$3185","v":0},null,null,{"$f":"$K$3185","v":0},{"$f":"$L$3185","v":3.5502493001153573E-2},{"$f":"$M$3185","v":1.8041555497431076E-2},{"$f":"$N$3185","v":3.1582125000476975E-2},{"$f":"$O$3185","v":5.1270179600232342E-2},{"$f":"$P$3185","v":3.0026305736580304E-3},{"$f":"$Q$3185","v":0.12165038519414145},{"$f":"$R$3185","v":5.4988128790011574E-2},{"$f":"$S$3185","v":0}]
["LV Network Non-Domestic Non-CT",{"$f":"$B$3186","v":0},{"$f":"$C$3186","v":8.0050248068820121E-2},{"$f":"$D$3186","v":4.0679706438356771E-2},{"$f":"$E$3186","v":7.1194226181155382E-2},{"$f":"$F$3186","v":0.1155761609692911},{"$f":"$G$3186","v":6.7702660281501658E-3},{"$f":"$H$3186","v":0.14283785664256402},{"$f":"$I$3186","v":3.6081035708787824E-2},{"$f":"$J$3186","v":0},null,null,{"$f":"$K$3186","v":0},{"$f":"$L$3186","v":3.7789919995413652E-2},{"$f":"$M$3186","v":1.920397361443273E-2},{"$f":"$N$3186","v":3.3609191431964794E-2},{"$f":"$O$3186","v":5.4560903704529096E-2},{"$f":"$P$3186","v":3.1960901774034031E-3},{"$f":"$Q$3186","v":0.12945839089992861},{"$f":"$R$3186","v":5.8517485665107165E-2},{"$f":"$S$3186","v":0}]
["LV HH Metered",{"$f":"$B$3187","v":0},{"$f":"$C$3187","v":6.8071191113033558E-2},{"$f":"$D$3187","v":3.4592223487013359E-2},{"$f":"$E$3187","v":6.0540852135023498E-2},{"$f":"$F$3187","v":9.8281555217290997E-2},{"$f":"$G$3187","v":5.7571348472534641E-3},{"$f":"$H$3187","v":9.717108841132506E-2},{"$f":"$I$3187","v":0},{"$f":"$J$3187","v":0},null,null,{"$f":"$K$3187","v":0},{"$f":"$L$3187","v":3.2134876883111278E-2},{"$f":"$M$3187","v":1.6330209956549505E-2},{"$f":"$N$3187","v":2.8579973377094701E-2},{"$f":"$O$3187","v":4.6396509670941215E-2},{"$f":"$P$3187","v":2.7178137548490304E-3},{"$f":"$Q$3187","v":8.8069178881645727E-2},{"$f":"$R$3187","v":0},{"$f":"$S$3187","v":0}]
["LV Sub HH Metered",{"$f":"$B$3188","v":0},{"$f":"$C$3188","v":6.5879244791124308E-2},{"$f":"$D$3188","v":3.3478326465392075E-2},{"$f":"$E$3188","v":5.8591388698394906E-2},{"$f":"$F$3188","v":9.5116811219902439E-2},{"$f":"$G$3188","v":5.5717505408114307E-3},{"$f":"$H$3188","v":0},{"$f":"$I$3188","v":0},{"$f":"$J$3188","v":0},null,null,{"$f":"$K$3188","v":0},{"$f":"$L$3188","v":3.1100108370364404E-2},{"$f":"$M$3188","v":1.5804364249063261E-2},{"$f":"$N$3188","v":2.7659675575633248E-2},{"$f":"$O$3188","v":4.4902505275546199E-2},{"$f":"$P$3188","v":2.6302979972110683E-3},{"$f":"$Q$3188","v":0},{"$f":"$R$3188","v":0},{"$f":"$S$3188","v":0}]
["HV HH Metered",{"$f":"$B$3189","v":0},{"$f":"$C$3189","v":5.7488362077759481E-2},{"$f":"$D$3189","v":2.9659426079728202E-2},{"$f":"$E$3189","v":3.8809606675013902E-2},{"$f":"$F$3189","v":0},{"$f":"$G$3189","v":0},{"$f":"$H$3189","v":0},{"$f":"$I$3189","v":0},{"$f":"$J$3189","v":0},null,null,{"$f":"$K$3189","v":0},{"$f":"$L$3189","v":2.7138961539734358E-2},{"$f":"$M$3189","v":1.4001547349350198E-2},{"$f":"$N$3189","v":1.9603610807076833E-2},{"$f":"$O$3189","v":0},{"$f":"$P$3189","v":0},{"$f":"$Q$3189","v":0},{"$f":"$R$3189","v":0},{"$f":"$S$3189","v":0}]
["NHH UMS category A"]
["NHH UMS category B"]
["NHH UMS category C"]
["NHH UMS category D"]
["LV UMS (Pseudo HH Metered)",{"$f":"$B$3044","v":0},{"$f":"$C$3044","v":5.9767628162922797E-2},{"$f":"$D$3044","v":3.0372542582183165E-2},{"$f":"$E$3044","v":5.1774573882144126E-2},{"$f":"$F$3044","v":8.4050446308566562E-2},{"$f":"$G$3044","v":5.0548593201943772E-3},{"$f":"$H$3044","v":0.10387596801866841},{"$f":"$I$3044","v":2.6239209964801665E-2},{"$f":"$J$3044","v":1.075161752775132E-2},null,null,{"$f":"$K$3044","v":0},{"$f":"$L$3044","v":2.8214951746941854E-2},{"$f":"$M$3044","v":1.4338193596242698E-2},{"$f":"$N$3044","v":2.4441610763289389E-2},{"$f":"$O$3044","v":3.9678323530601356E-2},{"$f":"$P$3044","v":2.3862852883852672E-3},{"$f":"$Q$3044","v":9.4146019752455637E-2},{"$f":"$R$3044","v":4.2555668450643916E-2},{"$f":"$S$3044","v":8.2818439157627738E-2},{"$f":"$B$2791","v":0.71368689918431871}]
["LV Generation NHH or Aggregate HH"]
["LV Sub Generation NHH"]
["LV Generation Intermittent"]
["LV Generation Intermittent no RP charge"]
["LV Generation Non-Intermittent",{"$f":"$B$3045","v":0},{"$f":"$C$3045","v":-5.5972542318769934E-2},{"$f":"$D$3045","v":-2.8443966696749583E-2},{"$f":"$E$3045","v":-4.9780609869380966E-2},{"$f":"$F$3045","v":-8.0813460417046484E-2},{"$f":"$G$3045","v":-4.7338891622694139E-3},{"$f":"$H$3045","v":-9.9875453355010399E-2},{"$f":"$I$3045","v":-2.5228674551951168E-2},{"$f":"$J$3045","v":0},null,null,{"$f":"$K$3045","v":0},{"$f":"$L$3045","v":-2.6423377156155236E-2},{"$f":"$M$3045","v":-1.3427756337472901E-2},{"$f":"$N$3045","v":-2.3500305241646618E-2},{"$f":"$O$3045","v":-3.8150215363320458E-2},{"$f":"$P$3045","v":-2.2347625026161106E-3},{"$f":"$Q$3045","v":-9.0520228920094412E-2},{"$f":"$R$3045","v":-4.0916746774092377E-2},{"$f":"$S$3045","v":0}]
["LV Generation Non-Intermittent no RP charge",{"$f":"$B$3046","v":0},{"$f":"$C$3046","v":-5.5972542318769934E-2},{"$f":"$D$3046","v":-2.8443966696749583E-2},{"$f":"$E$3046","v":-4.9780609869380966E-2},{"$f":"$F$3046","v":-8.0813460417046484E-2},{"$f":"$G$3046","v":-4.7338891622694139E-3},{"$f":"$H$3046","v":-9.9875453355010399E-2},{"$f":"$I$3046","v":-2.5228674551951168E-2},{"$f":"$J$3046","v":0},null,null,{"$f":"$K$3046","v":0},{"$f":"$L$3046","v":-2.6423377156155236E-2},{"$f":"$M$3046","v":-1.3427756337472901E-2},{"$f":"$N$3046","v":-2.3500305241646618E-2},{"$f":"$O$3046","v":-3.8150215363320458E-2},{"$f":"$P$3046","v":-2.2347625026161106E-3},{"$f":"$Q$3046","v":-9.0520228920094412E-2},{"$f":"$R$3046","v":-4.0916746774092377E-2},{"$f":"$S$3046","v":0}]
["LV Sub Generation Intermittent"]
["LV Sub Generation Intermittent no RP charge"]
["LV Sub Generation Non-Intermittent",{"$f":"$B$3047","v":0},{"$f":"$C$3047","v":-5.4417749476581873E-2},{"$f":"$D$3047","v":-2.7653856510728759E-2},{"$f":"$E$3047","v":-4.8397815150787046E-2},{"$f":"$F$3047","v":-7.8568642072128533E-2},{"$f":"$G$3047","v":-4.6023922410952638E-3},{"$f":"$H$3047","v":-9.7101135206260139E-2},{"$f":"$I$3047","v":0},{"$f":"$J$3047","v":0},null,null,{"$f":"$K$3047","v":0},{"$f":"$L$3047","v":-2.5689394457373147E-2},{"$f":"$M$3047","v":-1.3054763105876431E-2},{"$f":"$N$3047","v":-2.2847518984934211E-2},{"$f":"$O$3047","v":-3.7090487158783776E-2},{"$f":"$P$3047","v":-2.1726857664323292E-3},{"$f":"$Q$3047","v":-8.8005778116758471E-2},{"$f":"$R$3047","v":0},{"$f":"$S$3047","v":0}]
["LV Sub Generation Non-Intermittent no RP charge",{"$f":"$B$3048","v":0},{"$f":"$C$3048","v":-5.4417749476581873E-2},{"$f":"$D$3048","v":-2.7653856510728759E-2},{"$f":"$E$3048","v":-4.8397815150787046E-2},{"$f":"$F$3048","v":-7.8568642072128533E-2},{"$f":"$G$3048","v":-4.6023922410952638E-3},{"$f":"$H$3048","v":-9.7101135206260139E-2},{"$f":"$I$3048","v":0},{"$f":"$J$3048","v":0},null,null,{"$f":"$K$3048","v":0},{"$f":"$L$3048","v":-2.5689394457373147E-2},{"$f":"$M$3048","v":-1.3054763105876431E-2},{"$f":"$N$3048","v":-2.2847518984934211E-2},{"$f":"$O$3048","v":-3.7090487158783776E-2},{"$f":"$P$3048","v":-2.1726857664323292E-3},{"$f":"$Q$3048","v":-8.8005778116758471E-2},{"$f":"$R$3048","v":0},{"$f":"$S$3048","v":0}]
["HV Generation Intermittent"]
["HV Generation Intermittent no RP charge"]
["HV Generation Non-Intermittent",{"$f":"$B$3049","v":0},{"$f":"$C$3049","v":-5.3588526627414923E-2},{"$f":"$D$3049","v":-2.7232464411517655E-2},{"$f":"$E$3049","v":-4.4542383834454802E-2},{"$f":"$F$3049","v":-5.0165327441352145E-2},{"$f":"$G$3049","v":-2.9385834818950632E-3},{"$f":"$H$3049","v":0},{"$f":"$I$3049","v":0},{"$f":"$J$3049","v":0},null,null,{"$f":"$K$3049","v":0},{"$f":"$L$3049","v":-2.5297937018022697E-2},{"$f":"$M$3049","v":-1.2855833382358314E-2},{"$f":"$N$3049","v":-2.2499366314687595E-2},{"$f":"$O$3049","v":-3.6525298783030881E-2},{"$f":"$P$3049","v":-2.1395781738009802E-3},{"$f":"$Q$3049","v":0},{"$f":"$R$3049","v":0},{"$f":"$S$3049","v":0}]
["HV Generation Non-Intermittent no RP charge",{"$f":"$B$3050","v":0},{"$f":"$C$3050","v":-5.3588526627414923E-2},{"$f":"$D$3050","v":-2.7232464411517655E-2},{"$f":"$E$3050","v":-4.4542383834454802E-2},{"$f":"$F$3050","v":-5.0165327441352145E-2},{"$f":"$G$3050","v":-2.9385834818950632E-3},{"$f":"$H$3050","v":0},{"$f":"$I$3050","v":0},{"$f":"$J$3050","v":0},null,null,{"$f":"$K$3050","v":0},{"$f":"$L$3050","v":-2.5297937018022697E-2},{"$f":"$M$3050","v":-1.2855833382358314E-2},{"$f":"$N$3050","v":-2.2499366314687595E-2},{"$f":"$O$3050","v":-3.6525298783030881E-2},{"$f":"$P$3050","v":-2.1395781738009802E-3},{"$f":"$Q$3050","v":0},{"$f":"$R$3050","v":0},{"$f":"$S$3050","v":0}]
[]
["3303. Unit rate 3 p/kWh (elements)"]
["Data sources:"]
["x1 = 3006. Unit rate 3 total p/kWh (taking account of standing charges) — for Tariffs with Unit rate 3 p/kWh from Standard 3 kWh"]
["x2 = 2905. Pay-as-you-go unit rate 3 (p/kWh) — for Tariffs with Unit rate 3 p/kWh from PAYG 3 kWh"]
["x3 = 2905. Pay-as-you-go unit rate 3 (p/kWh) — for Tariffs with Unit rate 3 p/kWh from PAYG 3 kWh & customer"]
["x4 = 2203. LV unmetered service model asset charge (p/kWh) — for Tariffs with Unit rate 3 p/kWh from PAYG 3 kWh & customer"]
["x5 = 2712. Operating expenditure for unmetered customer assets (p/kWh) — for Tariffs with Unit rate 3 p/kWh from PAYG 3 kWh & customer"]
["Combine tables = x1 or x2 or x3 or x4 or x5"]
[]
[null,"GSPs","Assets\n132kV","Assets\n132kV/EHV","Assets\nEHV","Assets\nEHV/HV","Assets\n132kV/HV","Assets\nHV","Assets\nHV/LV","Assets\nLV circuits","Assets\nLV customer","Assets\nHV customer","Transmission\nexit","Operating\n132kV","Operating\n132kV/EHV","Operating\nEHV","Operating\nEHV/HV","Operating\n132kV/HV","Operating\nHV","Operating\nHV/LV","Operating\nLV circuits","Operating\nLV customer","Operating\nHV customer"]
["Domestic Unrestricted"]
["Domestic Two Rate"]
["Domestic Off Peak (related MPAN)"]
["Small Non Domestic Unrestricted"]
["Small Non Domestic Two Rate"]
["Small Non Domestic Off Peak (related MPAN)"]
["LV Medium Non-Domestic"]
["LV Sub Medium Non-Domestic"]
["HV Medium Non-Domestic"]
["LV Network Domestic",{"$f":"$B$3199","v":0},{"$f":"$C$3199","v":2.1040688502911094E-3},{"$f":"$D$3199","v":1.0692396990743612E-3},{"$f":"$E$3199","v":4.5740092776075649E-3},{"$f":"$F$3199","v":7.4254115944549981E-3},{"$f":"$G$3199","v":1.7795205138862525E-4},{"$f":"$H$3199","v":9.1768913930495421E-3},{"$f":"$I$3199","v":2.3180951733045027E-3},{"$f":"$J$3199","v":0},null,null,{"$f":"$K$3199","v":0},{"$f":"$L$3199","v":9.9328353672289873E-4},{"$f":"$M$3199","v":5.0476399085237506E-4},{"$f":"$N$3199","v":2.1592868083365247E-3},{"$f":"$O$3199","v":3.5053696504004752E-3},{"$f":"$P$3199","v":8.4007157344653132E-5},{"$f":"$Q$3199","v":8.3173020173531488E-3},{"$f":"$R$3199","v":3.7595678286242188E-3},{"$f":"$S$3199","v":0}]
["LV Network Non-Domestic Non-CT",{"$f":"$B$3200","v":0},{"$f":"$C$3200","v":2.2396340875205419E-3},{"$f":"$D$3200","v":1.1381308541523372E-3},{"$f":"$E$3200","v":4.8675873906639903E-3},{"$f":"$F$3200","v":7.9020040524632202E-3},{"$f":"$G$3200","v":1.8941750892753872E-4},{"$f":"$H$3200","v":9.7659007927647073E-3},{"$f":"$I$3200","v":2.4668797440301439E-3},{"$f":"$J$3200","v":0},null,null,{"$f":"$K$3200","v":0},{"$f":"$L$3200","v":1.0572808333290907E-3},{"$f":"$M$3200","v":5.3728595426403355E-4},{"$f":"$N$3200","v":2.2978784263820917E-3},{"$f":"$O$3200","v":3.7303582206178279E-3},{"$f":"$P$3200","v":8.9419741734571027E-5},{"$f":"$Q$3200","v":8.8511395510741369E-3},{"$f":"$R$3200","v":4.0008718492431814E-3},{"$f":"$S$3200","v":0}]
["LV HH Metered",{"$f":"$B$3201","v":0},{"$f":"$C$3201","v":1.9044857907724209E-3},{"$f":"$D$3201","v":9.6781614990172973E-4},{"$f":"$E$3201","v":4.1392104989336244E-3},{"$f":"$F$3201","v":6.7195625905568145E-3},{"$f":"$G$3201","v":1.6107227349596988E-4},{"$f":"$H$3201","v":6.6436393800324567E-3},{"$f":"$I$3201","v":0},{"$f":"$J$3201","v":0},null,null,{"$f":"$K$3201","v":0},{"$f":"$L$3201","v":8.990648674045104E-4},{"$f":"$M$3201","v":4.5688421656873317E-4},{"$f":"$N$3201","v":1.9540280932596413E-3},{"$f":"$O$3201","v":3.1721542259682757E-3},{"$f":"$P$3201","v":7.6038594204718801E-5},{"$f":"$Q$3201","v":6.0213369485838993E-3},{"$f":"$R$3201","v":0},{"$f":"$S$3201","v":0}]
["LV Sub HH Metered",{"$f":"$B$3202","v":0},{"$f":"$C$3202","v":1.843159838398822E-3},{"$f":"$D$3202","v":9.3665170257277279E-4},{"$f":"$E$3202","v":4.0059246392271314E-3},{"$f":"$F$3202","v":6.5031873477503213E-3},{"$f":"$G$3202","v":1.5588561858839248E-4},{"$f":"$H$3202","v":0},{"$f":"$I$3202","v":0},{"$f":"$J$3202","v":0},null,null,{"$f":"$K$3202","v":0},{"$f":"$L$3202","v":8.7011426587922235E-4},{"$f":"$M$3202","v":4.4217218256916249E-4},{"$f":"$N$3202","v":1.8911068394679221E-3},{"$f":"$O$3202","v":3.0700083449509436E-3},{"$f":"$P$3202","v":7.3590091186556236E-5},{"$f":"$Q$3202","v":0},{"$f":"$R$3202","v":0},{"$f":"$S$3202","v":0}]
["HV HH Metered",{"$f":"$B$3203","v":0},{"$f":"$C$3203","v":1.6084009537907121E-3},{"$f":"$D$3203","v":8.298070682722635E-4},{"$f":"$E$3203","v":2.6534336029897E-3},{"$f":"$F$3203","v":0},{"$f":"$G$3203","v":0},{"$f":"$H$3203","v":0},{"$f":"$I$3203","v":0},{"$f":"$J$3203","v":0},null,null,{"$f":"$K$3203","v":0},{"$f":"$L$3203","v":7.5928988142602159E-4},{"$f":"$M$3203","v":3.9173323603792538E-4},{"$f":"$N$3203","v":1.3403093747125965E-3},{"$f":"$O$3203","v":0},{"$f":"$P$3203","v":0},{"$f":"$Q$3203","v":0},{"$f":"$R$3203","v":0},{"$f":"$S$3203","v":0}]
["NHH UMS category A"]
["NHH UMS category B"]
["NHH UMS category C"]
["NHH UMS category D"]
["LV UMS (Pseudo HH Metered)",{"$f":"$B$3067","v":0},{"$f":"$C$3067","v":1.8737042248730628E-3},{"$f":"$D$3067","v":9.5217366165581776E-4},{"$f":"$E$3067","v":4.072309826131772E-3},{"$f":"$F$3067","v":6.610956551226798E-3},{"$f":"$G$3067","v":1.5846891629309737E-4},{"$f":"$H$3067","v":8.1703255776531172E-3},{"$f":"$I$3067","v":2.0638352874295333E-3},{"$f":"$J$3067","v":8.4566447238636504E-4},null,null,{"$f":"$K$3067","v":0},{"$f":"$L$3067","v":8.8453358310829847E-4},{"$f":"$M$3067","v":4.494997500167494E-4},{"$f":"$N$3067","v":1.9224457917201407E-3},{"$f":"$O$3067","v":3.1208837597759467E-3},{"$f":"$P$3067","v":7.4809607876888116E-5},{"$f":"$Q$3067","v":7.4050201205295499E-3},{"$f":"$R$3067","v":3.3472002528432258E-3},{"$f":"$S$3067","v":6.5140534876100232E-3},{"$f":"$B$2791","v":0.71368689918431871}]
["LV Generation NHH or Aggregate HH"]
["LV Sub Generation NHH"]
["LV Generation Intermittent"]
["LV Generation Intermittent no RP charge"]
["LV Generation Non-Intermittent",{"$f":"$B$3068","v":0},{"$f":"$C$3068","v":-1.5659915711258199E-3},{"$f":"$D$3068","v":-7.9580112410860171E-4},{"$f":"$E$3068","v":-3.4035269697741352E-3},{"$f":"$F$3068","v":-5.525259589464579E-3},{"$f":"$G$3068","v":-1.3244405595405314E-4},{"$f":"$H$3068","v":-6.8285382602610448E-3},{"$f":"$I$3068","v":-1.7248979969213857E-3},{"$f":"$J$3068","v":0},null,null,{"$f":"$K$3068","v":0},{"$f":"$L$3068","v":-7.392693666040894E-4},{"$f":"$M$3068","v":-3.7567979535141447E-4},{"$f":"$N$3068","v":-1.6067284610963599E-3},{"$f":"$O$3068","v":-2.6083506657000178E-3},{"$f":"$P$3068","v":-6.2523857191158953E-5},{"$f":"$Q$3068","v":-6.1889165530125143E-3},{"$f":"$R$3068","v":-2.797499900592801E-3},{"$f":"$S$3068","v":0}]
["LV Generation Non-Intermittent no RP charge",{"$f":"$B$3069","v":0},{"$f":"$C$3069","v":-1.5659915711258199E-3},{"$f":"$D$3069","v":-7.9580112410860171E-4},{"$f":"$E$3069","v":-3.4035269697741352E-3},{"$f":"$F$3069","v":-5.525259589464579E-3},{"$f":"$G$3069","v":-1.3244405595405314E-4},{"$f":"$H$3069","v":-6.8285382602610448E-3},{"$f":"$I$3069","v":-1.7248979969213857E-3},{"$f":"$J$3069","v":0},null,null,{"$f":"$K$3069","v":0},{"$f":"$L$3069","v":-7.392693666040894E-4},{"$f":"$M$3069","v":-3.7567979535141447E-4},{"$f":"$N$3069","v":-1.6067284610963599E-3},{"$f":"$O$3069","v":-2.6083506657000178E-3},{"$f":"$P$3069","v":-6.2523857191158953E-5},{"$f":"$Q$3069","v":-6.1889165530125143E-3},{"$f":"$R$3069","v":-2.797499900592801E-3},{"$f":"$S$3069","v":0}]
["LV Sub Generation Intermittent"]
["LV Sub Generation Intermittent no RP charge"]
["LV Sub Generation Non-Intermittent",{"$f":"$B$3070","v":0},{"$f":"$C$3070","v":-1.5224918052612136E-3},{"$f":"$D$3070","v":-7.7369553732780727E-4},{"$f":"$E$3070","v":-3.3089845539470753E-3},{"$f":"$F$3070","v":-5.3717801564238969E-3},{"$f":"$G$3070","v":-1.2876505439977386E-4},{"$f":"$H$3070","v":-6.6388566419204624E-3},{"$f":"$I$3070","v":0},{"$f":"$J$3070","v":0},null,null,{"$f":"$K$3070","v":0},{"$f":"$L$3070","v":-7.1873410642064254E-4},{"$f":"$M$3070","v":-3.6524424548054185E-4},{"$f":"$N$3070","v":-1.5620971149547941E-3},{"$f":"$O$3070","v":-2.5358964805416843E-3},{"$f":"$P$3070","v":-6.0787083380293432E-5},{"$f":"$Q$3070","v":-6.0170022043177221E-3},{"$f":"$R$3070","v":0},{"$f":"$S$3070","v":0}]
["LV Sub Generation Non-Intermittent no RP charge",{"$f":"$B$3071","v":0},{"$f":"$C$3071","v":-1.5224918052612136E-3},{"$f":"$D$3071","v":-7.7369553732780727E-4},{"$f":"$E$3071","v":-3.3089845539470753E-3},{"$f":"$F$3071","v":-5.3717801564238969E-3},{"$f":"$G$3071","v":-1.2876505439977386E-4},{"$f":"$H$3071","v":-6.6388566419204624E-3},{"$f":"$I$3071","v":0},{"$f":"$J$3071","v":0},null,null,{"$f":"$K$3071","v":0},{"$f":"$L$3071","v":-7.1873410642064254E-4},{"$f":"$M$3071","v":-3.6524424548054185E-4},{"$f":"$N$3071","v":-1.5620971149547941E-3},{"$f":"$O$3071","v":-2.5358964805416843E-3},{"$f":"$P$3071","v":-6.0787083380293432E-5},{"$f":"$Q$3071","v":-6.0170022043177221E-3},{"$f":"$R$3071","v":0},{"$f":"$S$3071","v":0}]
["HV Generation Intermittent"]
["HV Generation Intermittent no RP charge"]
["HV Generation Non-Intermittent",{"$f":"$B$3072","v":0},{"$f":"$C$3072","v":-1.4992919301334237E-3},{"$f":"$D$3072","v":-7.6190589104471686E-4},{"$f":"$E$3072","v":-3.0453866490664509E-3},{"$f":"$F$3072","v":-3.429830316305759E-3},{"$f":"$G$3072","v":-8.2215257214680014E-5},{"$f":"$H$3072","v":0},{"$f":"$I$3072","v":0},{"$f":"$J$3072","v":0},null,null,{"$f":"$K$3072","v":0},{"$f":"$L$3072","v":-7.0778196765613739E-4},{"$f":"$M$3072","v":-3.5967861888274306E-4},{"$f":"$N$3072","v":-1.5382937303459593E-3},{"$f":"$O$3072","v":-2.4972542484572396E-3},{"$f":"$P$3072","v":-5.9860804014498499E-5},{"$f":"$Q$3072","v":0},{"$f":"$R$3072","v":0},{"$f":"$S$3072","v":0}]
["HV Generation Non-Intermittent no RP charge",{"$f":"$B$3073","v":0},{"$f":"$C$3073","v":-1.4992919301334237E-3},{"$f":"$D$3073","v":-7.6190589104471686E-4},{"$f":"$E$3073","v":-3.0453866490664509E-3},{"$f":"$F$3073","v":-3.429830316305759E-3},{"$f":"$G$3073","v":-8.2215257214680014E-5},{"$f":"$H$3073","v":0},{"$f":"$I$3073","v":0},{"$f":"$J$3073","v":0},null,null,{"$f":"$K$3073","v":0},{"$f":"$L$3073","v":-7.0778196765613739E-4},{"$f":"$M$3073","v":-3.5967861888274306E-4},{"$f":"$N$3073","v":-1.5382937303459593E-3},{"$f":"$O$3073","v":-2.4972542484572396E-3},{"$f":"$P$3073","v":-5.9860804014498499E-5},{"$f":"$Q$3073","v":0},{"$f":"$R$3073","v":0},{"$f":"$S$3073","v":0}]
[]
["3304. Fixed charge p/MPAN/day (elements)"]
["Data sources:"]
["x1 = 3107. Fixed charge from standing charges factors p/MPAN/day — for Tariffs with Fixed charge p/MPAN/day from Fixed from network & customer"]
["x2 = 2206. Service model p/MPAN/day (in Replacement annuities for service models) — for Tariffs with Fixed charge p/MPAN/day from Customer"]
["x3 = 2206. Service model p/MPAN/day (in Replacement annuities for service models) — for Tariffs with Fixed charge p/MPAN/day from Fixed from network & customer"]
["x4 = 2711. Operating expenditure for customer assets p/MPAN/day total (in Operating expenditure for customer assets p/MPAN/day) — for Tariffs with Fixed charge p/MPAN/day from Customer"]
["x5 = 2711. Operating expenditure for customer assets p/MPAN/day total (in Operating expenditure for customer assets p/MPAN/day) — for Tariffs with Fixed charge p/MPAN/day from Fixed from network & customer"]
["Combine tables = x1 or x2 or x3 or x4 or x5"]
[]
[null,"GSPs","Assets\n132kV","Assets\n132kV/EHV","Assets\nEHV","Assets\nEHV/HV","Assets\n132kV/HV","Assets\nHV","Assets\nHV/LV","Assets\nLV circuits","Assets\nLV customer","Assets\nHV customer","Transmission\nexit","Operating\n132kV","Operating\n132kV/EHV","Operating\nEHV","Operating\nEHV/HV","Operating\n132kV/HV","Operating\nHV","Operating\nHV/LV","Operating\nLV circuits","Operating\nLV customer","Operating\nHV customer"]
["Domestic Unrestricted",{"$f":"$B$3324","v":0},{"$f":"$C$3324","v":0},{"$f":"$D$3324","v":0},{"$f":"$E$3324","v":0},{"$f":"$F$3324","v":0},{"$f":"$G$3324","v":0},{"$f":"$H$3324","v":0},{"$f":"$I$3324","v":0},{"$f":"$J$3324","v":0.19066962969410456},{"$f":"$B$901","v":0},{"$f":"$C$901","v":0},{"$f":"$K$3324","v":0},{"$f":"$L$3324","v":0},{"$f":"$M$3324","v":0},{"$f":"$N$3324","v":0},{"$f":"$O$3324","v":0},{"$f":"$P$3324","v":0},{"$f":"$Q$3324","v":0},{"$f":"$R$3324","v":0},{"$f":"$S$3324","v":1.4687056236208262},{"$f":"$B$2746","v":1.660808432519489},{"$f":"$C$2746","v":0}]
["Domestic Two Rate",{"$f":"$B$3325","v":0},{"$f":"$C$3325","v":0},{"$f":"$D$3325","v":0},{"$f":"$E$3325","v":0},{"$f":"$F$3325","v":0},{"$f":"$G$3325","v":0},{"$f":"$H$3325","v":0},{"$f":"$I$3325","v":0},{"$f":"$J$3325","v":0.19066962969410456},{"$f":"$B$902","v":0},{"$f":"$C$902","v":0},{"$f":"$K$3325","v":0},{"$f":"$L$3325","v":0},{"$f":"$M$3325","v":0},{"$f":"$N$3325","v":0},{"$f":"$O$3325","v":0},{"$f":"$P$3325","v":0},{"$f":"$Q$3325","v":0},{"$f":"$R$3325","v":0},{"$f":"$S$3325","v":1.4687056236208262},{"$f":"$B$2747","v":1.660808432519489},{"$f":"$C$2747","v":0}]
["Domestic Off Peak (related MPAN)"]
["Small Non Domestic Unrestricted",{"$f":"$B$3326","v":0},{"$f":"$C$3326","v":0},{"$f":"$D$3326","v":0},{"$f":"$E$3326","v":0},{"$f":"$F$3326","v":0},{"$f":"$G$3326","v":0},{"$f":"$H$3326","v":0},{"$f":"$I$3326","v":0},{"$f":"$J$3326","v":0.19066962969410456},{"$f":"$B$904","v":0},{"$f":"$C$904","v":0},{"$f":"$K$3326","v":0},{"$f":"$L$3326","v":0},{"$f":"$M$3326","v":0},{"$f":"$N$3326","v":0},{"$f":"$O$3326","v":0},{"$f":"$P$3326","v":0},{"$f":"$Q$3326","v":0},{"$f":"$R$3326","v":0},{"$f":"$S$3326","v":1.4687056236208262},{"$f":"$B$2749","v":5.0642423904449991},{"$f":"$C$2749","v":0}]
["Small Non Domestic Two Rate",{"$f":"$B$3327","v":0},{"$f":"$C$3327","v":0},{"$f":"$D$3327","v":0},{"$f":"$E$3327","v":0},{"$f":"$F$3327","v":0},{"$f":"$G$3327","v":0},{"$f":"$H$3327","v":0},{"$f":"$I$3327","v":0},{"$f":"$J$3327","v":0.19066962969410456},{"$f":"$B$905","v":0},{"$f":"$C$905","v":0},{"$f":"$K$3327","v":0},{"$f":"$L$3327","v":0},{"$f":"$M$3327","v":0},{"$f":"$N$3327","v":0},{"$f":"$O$3327","v":0},{"$f":"$P$3327","v":0},{"$f":"$Q$3327","v":0},{"$f":"$R$3327","v":0},{"$f":"$S$3327","v":1.4687056236208262},{"$f":"$B$2750","v":5.0642423904449991},{"$f":"$C$2750","v":0}]
["Small Non Domestic Off Peak (related MPAN)"]
["LV Medium Non-Domestic",{"$f":"$B$3328","v":0},{"$f":"$C$3328","v":0},{"$f":"$D$3328","v":0},{"$f":"$E$3328","v":0},{"$f":"$F$3328","v":0},{"$f":"$G$3328","v":0},{"$f":"$H$3328","v":0},{"$f":"$I$3328","v":0},{"$f":"$J$3328","v":1.5140693237881713},{"$f":"$B$907","v":0},{"$f":"$C$907","v":0},{"$f":"$K$3328","v":0},{"$f":"$L$3328","v":0},{"$f":"$M$3328","v":0},{"$f":"$N$3328","v":0},{"$f":"$O$3328","v":0},{"$f":"$P$3328","v":0},{"$f":"$Q$3328","v":0},{"$f":"$R$3328","v":0},{"$f":"$S$3328","v":11.662697063853509},{"$f":"$B$2752","v":5.8572153882864093},{"$f":"$C$2752","v":0}]
["LV Sub Medium Non-Domestic",{"$f":"$B$3329","v":0},{"$f":"$C$3329","v":0},{"$f":"$D$3329","v":0},{"$f":"$E$3329","v":0},{"$f":"$F$3329","v":0},{"$f":"$G$3329","v":0},{"$f":"$H$3329","v":0},{"$f":"$I$3329","v":5.0495863142458868},{"$f":"$J$3329","v":0},{"$f":"$B$908","v":0},{"$f":"$C$908","v":0},{"$f":"$K$3329","v":0},{"$f":"$L$3329","v":0},{"$f":"$M$3329","v":0},{"$f":"$N$3329","v":0},{"$f":"$O$3329","v":0},{"$f":"$P$3329","v":0},{"$f":"$Q$3329","v":0},{"$f":"$R$3329","v":8.1895956962963865},{"$f":"$S$3329","v":0},{"$f":"$B$2753","v":4.250723699852573},{"$f":"$C$2753","v":0}]
["HV Medium Non-Domestic",{"$f":"$B$3330","v":0},{"$f":"$C$3330","v":0.48512191200737237},{"$f":"$D$3330","v":0},{"$f":"$E$3330","v":3.4780005216395229},{"$f":"$F$3330","v":19.585282599342925},{"$f":"$G$3330","v":1.7724302517380184},{"$f":"$H$3330","v":19.370997033199348},{"$f":"$I$3330","v":0},{"$f":"$J$3330","v":0},{"$f":"$B$909","v":0},{"$f":"$C$909","v":0},{"$f":"$K$3330","v":0},{"$f":"$L$3330","v":0.22901513343243937},{"$f":"$M$3330","v":0},{"$f":"$N$3330","v":1.7568167898214602},{"$f":"$O$3330","v":14.260014539472817},{"$f":"$P$3330","v":1.2905037765875056},{"$f":"$Q$3330","v":25.250141696330552},{"$f":"$R$3330","v":0},{"$f":"$S$3330","v":0},{"$f":"$B$2754","v":0},{"$f":"$C$2754","v":79.063509574340202}]
["LV Network Domestic",{"$f":"$B$3331","v":0},{"$f":"$C$3331","v":0},{"$f":"$D$3331","v":0},{"$f":"$E$3331","v":0},{"$f":"$F$3331","v":0},{"$f":"$G$3331","v":0},{"$f":"$H$3331","v":0},{"$f":"$I$3331","v":0},{"$f":"$J$3331","v":0.19066962969410456},{"$f":"$B$910","v":0},{"$f":"$C$910","v":0},{"$f":"$K$3331","v":0},{"$f":"$L$3331","v":0},{"$f":"$M$3331","v":0},{"$f":"$N$3331","v":0},{"$f":"$O$3331","v":0},{"$f":"$P$3331","v":0},{"$f":"$Q$3331","v":0},{"$f":"$R$3331","v":0},{"$f":"$S$3331","v":1.4687056236208262},{"$f":"$B$2755","v":1.660808432519489},{"$f":"$C$2755","v":0}]
["LV Network Non-Domestic Non-CT",{"$f":"$B$3332","v":0},{"$f":"$C$3332","v":0},{"$f":"$D$3332","v":0},{"$f":"$E$3332","v":0},{"$f":"$F$3332","v":0},{"$f":"$G$3332","v":0},{"$f":"$H$3332","v":0},{"$f":"$I$3332","v":0},{"$f":"$J$3332","v":0.19066962969410456},{"$f":"$B$911","v":0},{"$f":"$C$911","v":0},{"$f":"$K$3332","v":0},{"$f":"$L$3332","v":0},{"$f":"$M$3332","v":0},{"$f":"$N$3332","v":0},{"$f":"$O$3332","v":0},{"$f":"$P$3332","v":0},{"$f":"$Q$3332","v":0},{"$f":"$R$3332","v":0},{"$f":"$S$3332","v":1.4687056236208262},{"$f":"$B$2756","v":5.0642423904449991},{"$f":"$C$2756","v":0}]
["LV HH Metered",null,null,null,null,null,null,null,null,null,{"$f":"$B$912","v":0},{"$f":"$C$912","v":0},null,null,null,null,null,null,null,null,null,{"$f":"$B$2757","v":9.3780238957553443},{"$f":"$C$2757","v":0}]
["LV Sub HH Metered",null,null,null,null,null,null,null,null,null,{"$f":"$B$913","v":0},{"$f":"$C$913","v":0},null,null,null,null,null,null,null,null,null,{"$f":"$B$2758","v":7.3208759127438565},{"$f":"$C$2758","v":0}]
["HV HH Metered",null,null,null,null,null,null,null,null,null,{"$f":"$B$914","v":0},{"$f":"$C$914","v":0},null,null,null,null,null,null,null,null,null,{"$f":"$B$2759","v":0},{"$f":"$C$2759","v":79.063509574340202}]
["NHH UMS category A"]
["NHH UMS category B"]
["NHH UMS category C"]
["NHH UMS category D"]
["LV UMS (Pseudo HH Metered)"]
["LV Generation NHH or Aggregate HH",null,null,null,null,null,null,null,null,null,{"$f":"$B$920","v":0},{"$f":"$C$920","v":0},null,null,null,null,null,null,null,null,null,{"$f":"$B$2765","v":0},{"$f":"$C$2765","v":0}]
["LV Sub Generation NHH",null,null,null,null,null,null,null,null,null,{"$f":"$B$921","v":0},{"$f":"$C$921","v":0},null,null,null,null,null,null,null,null,null,{"$f":"$B$2766","v":0},{"$f":"$C$2766","v":0}]
["LV Generation Intermittent",null,null,null,null,null,null,null,null,null,{"$f":"$B$922","v":0},{"$f":"$C$922","v":0},null,null,null,null,null,null,null,null,null,{"$f":"$B$2767","v":0},{"$f":"$C$2767","v":0}]
["LV Generation Intermittent no RP charge",null,null,null,null,null,null,null,null,null,{"$f":"$B$923","v":0},{"$f":"$C$923","v":0},null,null,null,null,null,null,null,null,null,{"$f":"$B$2768","v":0},{"$f":"$C$2768","v":0}]
["LV Generation Non-Intermittent",null,null,null,null,null,null,null,null,null,{"$f":"$B$924","v":0},{"$f":"$C$924","v":0},null,null,null,null,null,null,null,null,null,{"$f":"$B$2769","v":0},{"$f":"$C$2769","v":0}]
["LV Generation Non-Intermittent no RP charge",null,null,null,null,null,null,null,null,null,{"$f":"$B$925","v":0},{"$f":"$C$925","v":0},null,null,null,null,null,null,null,null,null,{"$f":"$B$2770","v":0},{"$f":"$C$2770","v":0}]
["LV Sub Generation Intermittent",null,null,null,null,null,null,null,null,null,{"$f":"$B$926","v":0},{"$f":"$C$926","v":0},null,null,null,null,null,null,null,null,null,{"$f":"$B$2771","v":0},{"$f":"$C$2771","v":0}]
["LV Sub Generation Intermittent no RP charge",null,null,null,null,null,null,null,null,null,{"$f":"$B$927","v":0},{"$f":"$C$927","v":0},null,null,null,null,null,null,null,null,null,{"$f":"$B$2772","v":0},{"$f":"$C$2772","v":0}]
["LV Sub Generation Non-Intermittent",null,null,null,null,null,null,null,null,null,{"$f":"$B$928","v":0},{"$f":"$C$928","v":0},null,null,null,null,null,null,null,null,null,{"$f":"$B$2773","v":0},{"$f":"$C$2773","v":0}]
["LV Sub Generation Non-Intermittent no RP charge",null,null,null,null,null,null,null,null,null,{"$f":"$B$929","v":0},{"$f":"$C$929","v":0},null,null,null,null,null,null,null,null,null,{"$f":"$B$2774","v":0},{"$f":"$C$2774","v":0}]
["HV Generation Intermittent",null,null,null,null,null,null,null,null,null,{"$f":"$B$930","v":0},{"$f":"$C$930","v":0},null,null,null,null,null,null,null,null,null,{"$f":"$B$2775","v":0},{"$f":"$C$2775","v":32.504721557304279}]
["HV Generation Intermittent no RP charge",null,null,null,null,null,null,null,null,null,{"$f":"$B$931","v":0},{"$f":"$C$931","v":0},null,null,null,null,null,null,null,null,null,{"$f":"$B$2776","v":0},{"$f":"$C$2776","v":32.504721557304279}]
["HV Generation Non-Intermittent",null,null,null,null,null,null,null,null,null,{"$f":"$B$932","v":0},{"$f":"$C$932","v":0},null,null,null,null,null,null,null,null,null,{"$f":"$B$2777","v":0},{"$f":"$C$2777","v":32.504721557304279}]
["HV Generation Non-Intermittent no RP charge",null,null,null,null,null,null,null,null,null,{"$f":"$B$933","v":0},{"$f":"$C$933","v":0},null,null,null,null,null,null,null,null,null,{"$f":"$B$2778","v":0},{"$f":"$C$2778","v":32.504721557304279}]
[]
["3305. Capacity charge p/kVA/day (elements)"]
["Data sources:"]
["x1 = 3002. Capacity charge p/kVA/day — for Tariffs with Capacity charge p/kVA/day from Capacity"]
["Copy cells = x1"]
[]
[null,"GSPs","Assets\n132kV","Assets\n132kV/EHV","Assets\nEHV","Assets\nEHV/HV","Assets\n132kV/HV","Assets\nHV","Assets\nHV/LV","Assets\nLV circuits","Assets\nLV customer","Assets\nHV customer","Transmission\nexit","Operating\n132kV","Operating\n132kV/EHV","Operating\nEHV","Operating\nEHV/HV","Operating\n132kV/HV","Operating\nHV","Operating\nHV/LV","Operating\nLV circuits","Operating\nLV customer","Operating\nHV customer"]
["Domestic Unrestricted"]
["Domestic Two Rate"]
["Domestic Off Peak (related MPAN)"]
["Small Non Domestic Unrestricted"]
["Small Non Domestic Two Rate"]
["Small Non Domestic Off Peak (related MPAN)"]
["LV Medium Non-Domestic"]
["LV Sub Medium Non-Domestic"]
["HV Medium Non-Domestic"]
["LV Network Domestic"]
["LV Network Non-Domestic Non-CT"]
["LV HH Metered",{"$f":"$B$3110","v":0},{"$f":"$C$3110","v":0},{"$f":"$D$3110","v":0},{"$f":"$E$3110","v":0},{"$f":"$F$3110","v":0},{"$f":"$G$3110","v":0},{"$f":"$H$3110","v":0.30893344773586595},{"$f":"$I$3110","v":0.39018503292477824},{"$f":"$J$3110","v":0.15325247607817272},null,null,{"$f":"$K$3110","v":0},{"$f":"$L$3110","v":0},{"$f":"$M$3110","v":0},{"$f":"$N$3110","v":0},{"$f":"$O$3110","v":0},{"$f":"$P$3110","v":0},{"$f":"$Q$3110","v":0.27999598971253847},{"$f":"$R$3110","v":0.63281573331759988},{"$f":"$S$3110","v":1.180485711389557}]
["LV Sub HH Metered",{"$f":"$B$3111","v":0},{"$f":"$C$3111","v":0},{"$f":"$D$3111","v":0},{"$f":"$E$3111","v":0},{"$f":"$F$3111","v":0},{"$f":"$G$3111","v":0},{"$f":"$H$3111","v":1.5017598153826821},{"$f":"$I$3111","v":0.37934655978797877},{"$f":"$J$3111","v":0},null,null,{"$f":"$K$3111","v":0},{"$f":"$L$3111","v":0},{"$f":"$M$3111","v":0},{"$f":"$N$3111","v":0},{"$f":"$O$3111","v":0},{"$f":"$P$3111","v":0},{"$f":"$Q$3111","v":1.3610916166581732},{"$f":"$R$3111","v":0.61523751850322206},{"$f":"$S$3111","v":0}]
["HV HH Metered",{"$f":"$B$3112","v":0},{"$f":"$C$3112","v":2.575168613369884E-2},{"$f":"$D$3112","v":0},{"$f":"$E$3112","v":0.18462241261273049},{"$f":"$F$3112","v":1.0396439283707468},{"$f":"$G$3112","v":9.4085767735712242E-2},{"$f":"$H$3112","v":1.0282690254737046},{"$f":"$I$3112","v":0},{"$f":"$J$3112","v":0},null,null,{"$f":"$K$3112","v":0},{"$f":"$L$3112","v":1.2156791293174393E-2},{"$f":"$M$3112","v":0},{"$f":"$N$3112","v":9.3256959634523948E-2},{"$f":"$O$3112","v":0.7569631665635943},{"$f":"$P$3112","v":6.8503704711094182E-2},{"$f":"$Q$3112","v":1.3403511729757629},{"$f":"$R$3112","v":0},{"$f":"$S$3112","v":0}]
["NHH UMS category A"]
["NHH UMS category B"]
["NHH UMS category C"]
["NHH UMS category D"]
["LV UMS (Pseudo HH Metered)"]
["LV Generation NHH or Aggregate HH"]
["LV Sub Generation NHH"]
["LV Generation Intermittent"]
["LV Generation Intermittent no RP charge"]
["LV Generation Non-Intermittent"]
["LV Generation Non-Intermittent no RP charge"]
["LV Sub Generation Intermittent"]
["LV Sub Generation Intermittent no RP charge"]
["LV Sub Generation Non-Intermittent"]
["LV Sub Generation Non-Intermittent no RP charge"]
["HV Generation Intermittent"]
["HV Generation Intermittent no RP charge"]
["HV Generation Non-Intermittent"]
["HV Generation Non-Intermittent no RP charge"]
[]
["3306. Exceeded capacity charge p/kVA/day (elements)"]
["Data sources:"]
["x1 = 3007. Exceeded capacity charge p/kVA/day — for Tariffs with Exceeded capacity charge p/kVA/day from Capacity"]
["Copy cells = x1"]
[]
[null,"GSPs","Assets\n132kV","Assets\n132kV/EHV","Assets\nEHV","Assets\nEHV/HV","Assets\n132kV/HV","Assets\nHV","Assets\nHV/LV","Assets\nLV circuits","Assets\nLV customer","Assets\nHV customer","Transmission\nexit","Operating\n132kV","Operating\n132kV/EHV","Operating\nEHV","Operating\nEHV/HV","Operating\n132kV/HV","Operating\nHV","Operating\nHV/LV","Operating\nLV circuits","Operating\nLV customer","Operating\nHV customer"]
["Domestic Unrestricted"]
["Domestic Two Rate"]
["Domestic Off Peak (related MPAN)"]
["Small Non Domestic Unrestricted"]
["Small Non Domestic Two Rate"]
["Small Non Domestic Off Peak (related MPAN)"]
["LV Medium Non-Domestic"]
["LV Sub Medium Non-Domestic"]
["HV Medium Non-Domestic"]
["LV Network Domestic"]
["LV Network Non-Domestic Non-CT"]
["LV HH Metered",{"$f":"$B$3227","v":0},{"$f":"$C$3227","v":0},{"$f":"$D$3227","v":0},{"$f":"$E$3227","v":0},{"$f":"$F$3227","v":0},{"$f":"$G$3227","v":0},{"$f":"$H$3227","v":0.59311447172906784},{"$f":"$I$3227","v":1.3404912325846194},{"$f":"$J$3227","v":2.5006185260487541},null,null,{"$f":"$K$3227","v":0},{"$f":"$L$3227","v":0},{"$f":"$M$3227","v":0},{"$f":"$N$3227","v":0},{"$f":"$O$3227","v":0},{"$f":"$P$3227","v":0},{"$f":"$Q$3227","v":0.27999598971253847},{"$f":"$R$3227","v":0.63281573331759988},{"$f":"$S$3227","v":1.180485711389557}]
["LV Sub HH Metered",{"$f":"$B$3228","v":0},{"$f":"$C$3228","v":0},{"$f":"$D$3228","v":0},{"$f":"$E$3228","v":0},{"$f":"$F$3228","v":0},{"$f":"$G$3228","v":0},{"$f":"$H$3228","v":2.8831953486829693},{"$f":"$I$3228","v":1.3032553650128242},{"$f":"$J$3228","v":0},null,null,{"$f":"$K$3228","v":0},{"$f":"$L$3228","v":0},{"$f":"$M$3228","v":0},{"$f":"$N$3228","v":0},{"$f":"$O$3228","v":0},{"$f":"$P$3228","v":0},{"$f":"$Q$3228","v":1.3610916166581732},{"$f":"$R$3228","v":0.61523751850322206},{"$f":"$S$3228","v":0}]
["HV HH Metered",{"$f":"$B$3229","v":0},{"$f":"$C$3229","v":2.575168613369884E-2},{"$f":"$D$3229","v":0},{"$f":"$E$3229","v":0.19754587344438942},{"$f":"$F$3229","v":1.6034722822839902},{"$f":"$G$3229","v":0.14511114488789129},{"$f":"$H$3229","v":2.8392609433697045},{"$f":"$I$3229","v":0},{"$f":"$J$3229","v":0},null,null,{"$f":"$K$3229","v":0},{"$f":"$L$3229","v":1.2156791293174393E-2},{"$f":"$M$3229","v":0},{"$f":"$N$3229","v":9.3256959634523948E-2},{"$f":"$O$3229","v":0.7569631665635943},{"$f":"$P$3229","v":6.8503704711094182E-2},{"$f":"$Q$3229","v":1.3403511729757629},{"$f":"$R$3229","v":0},{"$f":"$S$3229","v":0}]
["NHH UMS category A"]
["NHH UMS category B"]
["NHH UMS category C"]
["NHH UMS category D"]
["LV UMS (Pseudo HH Metered)"]
["LV Generation NHH or Aggregate HH"]
["LV Sub Generation NHH"]
["LV Generation Intermittent"]
["LV Generation Intermittent no RP charge"]
["LV Generation Non-Intermittent"]
["LV Generation Non-Intermittent no RP charge"]
["LV Sub Generation Intermittent"]
["LV Sub Generation Intermittent no RP charge"]
["LV Sub Generation Non-Intermittent"]
["LV Sub Generation Non-Intermittent no RP charge"]
["HV Generation Intermittent"]
["HV Generation Intermittent no RP charge"]
["HV Generation Non-Intermittent"]
["HV Generation Non-Intermittent no RP charge"]
[]
["3307. Reactive power charge p/kVArh (elements)"]
["Data sources:"]
["x1 = 3206. Pay-as-you-go reactive p/kVArh"]
["x2 = 3203. Standard reactive p/kVArh"]
["Combine tables = x1 or x2"]
[]
[null,"GSPs","Assets\n132kV","Assets\n132kV/EHV","Assets\nEHV","Assets\nEHV/HV","Assets\n132kV/HV","Assets\nHV","Assets\nHV/LV","Assets\nLV circuits","Assets\nLV customer","Assets\nHV customer","Transmission\nexit","Operating\n132kV","Operating\n132kV/EHV","Operating\nEHV","Operating\nEHV/HV","Operating\n132kV/HV","Operating\nHV","Operating\nHV/LV","Operating\nLV circuits","Operating\nLV customer","Operating\nHV customer"]
["Domestic Unrestricted"]
["Domestic Two Rate"]
["Domestic Off Peak (related MPAN)"]
["Small Non Domestic Unrestricted"]
["Small Non Domestic Two Rate"]
["Small Non Domestic Off Peak (related MPAN)"]
["LV Medium Non-Domestic"]
["LV Sub Medium Non-Domestic"]
["HV Medium Non-Domestic"]
["LV Network Domestic"]
["LV Network Non-Domestic Non-CT"]
["LV HH Metered",{"$f":"$B$3366","v":0},{"$f":"$C$3366","v":2.0556211503566957E-2},{"$f":"$D$3366","v":1.0446196852893795E-2},{"$f":"$E$3366","v":1.2768852582226022E-2},{"$f":"$F$3366","v":2.0728857389100044E-2},{"$f":"$G$3366","v":1.7385457730302359E-3},{"$f":"$H$3366","v":2.0494645506663869E-2},{"$f":"$I$3366","v":0},{"$f":"$J$3366","v":0},null,null,{"$f":"$K$3366","v":1.093008297388103E-2},{"$f":"$L$3366","v":9.7041246825463681E-3},{"$f":"$M$3366","v":4.9314143659844488E-3},{"$f":"$N$3366","v":6.0278878474019507E-3},{"$f":"$O$3366","v":9.7856269184447998E-3},{"$f":"$P$3366","v":8.2072832072543466E-4},{"$f":"$Q$3366","v":1.857493448670618E-2},{"$f":"$R$3366","v":0},{"$f":"$S$3366","v":0}]
["LV Sub HH Metered",{"$f":"$B$3367","v":0},{"$f":"$C$3367","v":1.9728200922443685E-2},{"$f":"$D$3367","v":1.0025420800594867E-2},{"$f":"$E$3367","v":1.2254519236071659E-2},{"$f":"$F$3367","v":1.9893892578108884E-2},{"$f":"$G$3367","v":1.668516609553961E-3},{"$f":"$H$3367","v":0},{"$f":"$I$3367","v":0},{"$f":"$J$3367","v":0},null,null,{"$f":"$K$3367","v":1.0489815838404318E-2},{"$f":"$L$3367","v":9.3132395276483652E-3},{"$f":"$M$3367","v":4.7327754643449174E-3},{"$f":"$N$3367","v":5.7850826535262639E-3},{"$f":"$O$3367","v":9.3914588281821046E-3},{"$f":"$P$3367","v":7.8766912916816353E-4},{"$f":"$Q$3367","v":0},{"$f":"$R$3367","v":0},{"$f":"$S$3367","v":0}]
["HV HH Metered",{"$f":"$B$3368","v":0},{"$f":"$C$3368","v":1.5652946358047797E-2},{"$f":"$D$3368","v":8.0756763396478241E-3},{"$f":"$E$3368","v":7.3803850257866208E-3},{"$f":"$F$3368","v":0},{"$f":"$G$3368","v":0},{"$f":"$H$3368","v":0},{"$f":"$I$3368","v":0},{"$f":"$J$3368","v":0},null,null,{"$f":"$K$3368","v":8.4497558016156538E-3},{"$f":"$L$3368","v":7.3894035912866656E-3},{"$f":"$M$3368","v":3.8123449976292414E-3},{"$f":"$N$3368","v":3.7279995353585167E-3},{"$f":"$O$3368","v":0},{"$f":"$P$3368","v":0},{"$f":"$Q$3368","v":0},{"$f":"$R$3368","v":0},{"$f":"$S$3368","v":0}]
["NHH UMS category A"]
["NHH UMS category B"]
["NHH UMS category C"]
["NHH UMS category D"]
["LV UMS (Pseudo HH Metered)"]
["LV Generation NHH or Aggregate HH"]
["LV Sub Generation NHH"]
["LV Generation Intermittent",{"$f":"$B$3410","v":0},{"$f":"$C$3410","v":1.3984246841257465E-2},{"$f":"$D$3410","v":7.6830435756316219E-3},{"$f":"$E$3410","v":9.391327023756238E-3},{"$f":"$F$3410","v":1.5245808291406163E-2},{"$f":"$G$3410","v":1.5760288930162368E-2},{"$f":"$H$3410","v":1.7427954905474913E-2},{"$f":"$I$3410","v":4.4023249722175096E-3},{"$f":"$J$3410","v":1.8038696438514856E-3},null,null,{"$f":"$K$3410","v":7.4356589625308679E-3},{"$f":"$L$3410","v":6.6016481157298813E-3},{"$f":"$M$3410","v":3.626991908816895E-3},{"$f":"$N$3410","v":4.4334340672299351E-3},{"$f":"$O$3410","v":7.1972028756530611E-3},{"$f":"$P$3410","v":7.4400776030501773E-3},{"$f":"$Q$3410","v":1.5795497438645958E-2},{"$f":"$R$3410","v":7.1398446134997634E-3},{"$f":"$S$3410","v":1.3894994679823885E-2}]
["LV Generation Intermittent no RP charge"]
["LV Generation Non-Intermittent",{"$f":"$B$3411","v":0},{"$f":"$C$3411","v":1.3984246841257465E-2},{"$f":"$D$3411","v":7.6830435756316219E-3},{"$f":"$E$3411","v":9.391327023756238E-3},{"$f":"$F$3411","v":1.5245808291406163E-2},{"$f":"$G$3411","v":1.5760288930162368E-2},{"$f":"$H$3411","v":1.7427954905474913E-2},{"$f":"$I$3411","v":4.4023249722175096E-3},{"$f":"$J$3411","v":1.8038696438514856E-3},null,null,{"$f":"$K$3411","v":7.4356589625308679E-3},{"$f":"$L$3411","v":6.6016481157298813E-3},{"$f":"$M$3411","v":3.626991908816895E-3},{"$f":"$N$3411","v":4.4334340672299351E-3},{"$f":"$O$3411","v":7.1972028756530611E-3},{"$f":"$P$3411","v":7.4400776030501773E-3},{"$f":"$Q$3411","v":1.5795497438645958E-2},{"$f":"$R$3411","v":7.1398446134997634E-3},{"$f":"$S$3411","v":1.3894994679823885E-2}]
["LV Generation Non-Intermittent no RP charge"]
["LV Sub Generation Intermittent",{"$f":"$B$3412","v":0},{"$f":"$C$3412","v":1.3595795540111425E-2},{"$f":"$D$3412","v":7.4696256985307434E-3},{"$f":"$E$3412","v":9.1304568286518992E-3},{"$f":"$F$3412","v":1.4822313616644878E-2},{"$f":"$G$3412","v":1.5322503126546745E-2},{"$f":"$H$3412","v":1.6943845046989502E-2},{"$f":"$I$3412","v":4.2800381674336883E-3},{"$f":"$J$3412","v":0},null,null,{"$f":"$K$3412","v":7.2291128802383442E-3},{"$f":"$L$3412","v":6.4182690014040512E-3},{"$f":"$M$3412","v":3.5262421335719813E-3},{"$f":"$N$3412","v":4.3102831209179925E-3},{"$f":"$O$3412","v":6.9972805735515871E-3},{"$f":"$P$3412","v":7.2334087807432289E-3},{"$f":"$Q$3412","v":1.5356733620905796E-2},{"$f":"$R$3412","v":6.9415155964581048E-3},{"$f":"$S$3412","v":0}]
["LV Sub Generation Intermittent no RP charge"]
["LV Sub Generation Non-Intermittent",{"$f":"$B$3413","v":0},{"$f":"$C$3413","v":1.3595795540111425E-2},{"$f":"$D$3413","v":7.4696256985307434E-3},{"$f":"$E$3413","v":9.1304568286518992E-3},{"$f":"$F$3413","v":1.4822313616644878E-2},{"$f":"$G$3413","v":1.5322503126546745E-2},{"$f":"$H$3413","v":1.6943845046989502E-2},{"$f":"$I$3413","v":4.2800381674336883E-3},{"$f":"$J$3413","v":0},null,null,{"$f":"$K$3413","v":7.2291128802383442E-3},{"$f":"$L$3413","v":6.4182690014040512E-3},{"$f":"$M$3413","v":3.5262421335719813E-3},{"$f":"$N$3413","v":4.3102831209179925E-3},{"$f":"$O$3413","v":6.9972805735515871E-3},{"$f":"$P$3413","v":7.2334087807432289E-3},{"$f":"$Q$3413","v":1.5356733620905796E-2},{"$f":"$R$3413","v":6.9415155964581048E-3},{"$f":"$S$3413","v":0}]
["LV Sub Generation Non-Intermittent no RP charge"]
["HV Generation Intermittent",{"$f":"$B$3414","v":0},{"$f":"$C$3414","v":1.3388621512833534E-2},{"$f":"$D$3414","v":7.3558028307436083E-3},{"$f":"$E$3414","v":8.403113061584519E-3},{"$f":"$F$3414","v":9.4639056550676441E-3},{"$f":"$G$3414","v":9.7832718791131239E-3},{"$f":"$H$3414","v":1.1601609562182633E-2},{"$f":"$I$3414","v":0},{"$f":"$J$3414","v":0},null,null,{"$f":"$K$3414","v":7.1189549696823303E-3},{"$f":"$L$3414","v":6.3204668070969416E-3},{"$f":"$M$3414","v":3.4725089201080275E-3},{"$f":"$N$3414","v":4.24460261621829E-3},{"$f":"$O$3414","v":6.8906553457641359E-3},{"$f":"$P$3414","v":7.1231854088461884E-3},{"$f":"$Q$3414","v":1.5122726251444379E-2},{"$f":"$R$3414","v":0},{"$f":"$S$3414","v":0}]
["HV Generation Intermittent no RP charge"]
["HV Generation Non-Intermittent",{"$f":"$B$3415","v":0},{"$f":"$C$3415","v":1.3388621512833534E-2},{"$f":"$D$3415","v":7.3558028307436083E-3},{"$f":"$E$3415","v":8.403113061584519E-3},{"$f":"$F$3415","v":9.4639056550676441E-3},{"$f":"$G$3415","v":9.7832718791131239E-3},{"$f":"$H$3415","v":1.1601609562182633E-2},{"$f":"$I$3415","v":0},{"$f":"$J$3415","v":0},null,null,{"$f":"$K$3415","v":7.1189549696823303E-3},{"$f":"$L$3415","v":6.3204668070969416E-3},{"$f":"$M$3415","v":3.4725089201080275E-3},{"$f":"$N$3415","v":4.24460261621829E-3},{"$f":"$O$3415","v":6.8906553457641359E-3},{"$f":"$P$3415","v":7.1231854088461884E-3},{"$f":"$Q$3415","v":1.5122726251444379E-2},{"$f":"$R$3415","v":0},{"$f":"$S$3415","v":0}]
["HV Generation Non-Intermittent no RP charge"]
[]
["3308. Summary of charges before revenue matching"]
["Data sources:"]
["x1 = 3301. Unit rate 1 p/kWh (elements)"]
["x2 = 3302. Unit rate 2 p/kWh (elements)"]
["x3 = 3303. Unit rate 3 p/kWh (elements)"]
["x4 = 3304. Fixed charge p/MPAN/day (elements)"]
["x5 = 3305. Capacity charge p/kVA/day (elements)"]
["x6 = 3306. Exceeded capacity charge p/kVA/day (elements)"]
["x7 = 3307. Reactive power charge p/kVArh (elements)"]
["Kind:","Cell summation","Cell summation","Cell summation","Cell summation","Cell summation","Cell summation","Cell summation"]
["Formula:","=SUM(x1)","=SUM(x2)","=SUM(x3)","=SUM(x4)","=SUM(x5)","=SUM(x6)","=SUM(x7)"]
[]
[null,"Unit rate 1 p/kWh (total)","Unit rate 2 p/kWh (total)","Unit rate 3 p/kWh (total)","Fixed charge p/MPAN/day (total)","Capacity charge p/kVA/day (total)","Exceeded capacity charge p/kVA/day (total)","Reactive power charge p/kVArh"]
["Domestic Unrestricted",{"$f":"SUM($B3431:$W3431)","v":1.3775699488179072},{"$f":"SUM($B3475:$W3475)","v":0},{"$f":"SUM($B3519:$W3519)","v":0},{"$f":"SUM($B3563:$W3563)","v":3.3201836858344196},{"$f":"SUM($B3603:$W3603)","v":0},{"$f":"SUM($B3643:$W3643)","v":0},{"$f":"SUM($B3684:$W3684)","v":0}]
["Domestic Two Rate",1.6414006624868067,5.0136921712129807E-2,0,3.3201836858344196,0,0,0]
["Domestic Off Peak (related MPAN)",0.46654617249602515,0,0,0,0,0,0]
["Small Non Domestic Unrestricted",1.4419083987053691,0,0,6.7236176437599298,0,0,0]
["Small Non Domestic Two Rate",1.5268149727724065,5.0324848606963957E-2,0,6.7236176437599298,0,0,0]
["Small Non Domestic Off Peak (related MPAN)",0.23040236270172837,0,0,0,0,0,0]
["LV Medium Non-Domestic",1.4695116128973202,4.6129550103063445E-2,0,19.03398177592809,0,0,0]
["LV Sub Medium Non-Domestic",1.3078345383735233,3.9934577514715922E-2,0,17.489905710394844,0,0,0]
["HV Medium Non-Domestic",0.58939022520578821,9.7434239835399762E-3,0,166.54183382791217,0,0,0]
["LV Network Domestic",7.6891460841038164,0.77945363272691814,4.6169249028804996E-2,3.3201836858344196,0,0,0]
["LV Network Non-Domestic Non-CT",8.1835751687978533,0.82952545552590506,4.913378900716741E-2,6.7236176437599298,0,0,0]
["LV HH Metered",5.9710551017117171,0.57864260773513143,3.3115293629682789E-2,9.3780238957553443,2.9456683911585122,6.5275216647821361,0.14750810920317114]
["LV Sub HH Metered",4.3817156735238028,0.38073447318344339,1.9791800870591243E-2,7.3208759127438565,3.8574355103320563,6.1627798488571894,0.10407059158804718]
["HV HH Metered",2.6625489084436387,0.18670151452866296,7.5829741172292187E-3,79.063509574340202,4.643604615504743,7.0823737252978232,5.4488511649372316E-2]
["NHH UMS category A",1.6773318151530723,0,0,0,0,0,0]
["NHH UMS category B",1.9771428372047808,0,0,0,0,0,0]
["NHH UMS category C",3.0736536589551502,0,0,0,0,0,0]
["NHH UMS category D",1.3788746171931834,0,0,0,0,0,0]
["LV UMS (Pseudo HH Metered)",23.686699735359941,1.414153237237739,0.76215278405544906,0,0,0,0]
["LV Generation NHH or Aggregate HH",-0.71344457494796554,0,0,0,0,0,0]
["LV Sub Generation NHH",-0.62608614197562307,0,0,0,0,0,0]
["LV Generation Intermittent",-0.71344457494796554,0,0,0,0,0,0.1592642144487382]
["LV Generation Intermittent no RP charge",-0.71344457494796554,0,0,0,0,0,0]
["LV Generation Non-Intermittent",-5.7219949131623284,-0.58002198866657606,-3.4355428167157975E-2,0,0,0,0.1592642144487382]
["LV Generation Non-Intermittent no RP charge",-5.7219949131623284,-0.58002198866657606,-3.4355428167157975E-2,0,0,0,0]
["LV Sub Generation Intermittent",-0.62608614197562307,0,0,0,0,0,0.13957742373269999]
["LV Sub Generation Intermittent no RP charge",-0.62608614197562307,0,0,0,0,0,0]
["LV Sub Generation Non-Intermittent",-5.0619074386370908,-0.49960221824773998,-2.9004334984375907E-2,0,0,0,0.13957742373269999]
["LV Sub Generation Non-Intermittent no RP charge",-5.0619074386370908,-0.49960221824773998,-2.9004334984375907E-2,0,0,0,0]
["HV Generation Intermittent",-0.39085206303883868,0,0,32.504721557304279,0,0,0.11028942482068535]
["HV Generation Intermittent no RP charge",-0.39085206303883868,0,0,32.504721557304279,0,0,0]
["HV Generation Non-Intermittent",-3.3069978765643611,-0.27778529946853514,-1.3981499413121608E-2,32.504721557304279,0,0,0.11028942482068535]
["HV Generation Non-Intermittent no RP charge",-3.3069978765643611,-0.27778529946853514,-1.3981499413121608E-2,32.504721557304279,0,0,0]
[]
[{"$f":"\"Revenue shortfall or surplus for \"&CDCM!B7&\" in \"&CDCM!C7&\" (\"&CDCM!D7&\")\"","v":"Revenue shortfall or surplus for WPD East Midlands in 2023/24 (Forecast)"}]
[]
["3401. Net revenues by tariff before matching (£)"]
["Data sources:"]
["x1 = 1010. Days in the charging year (in Financial and general assumptions)"]
["x2 = 3308. Fixed charge p/MPAN/day (total) (in Summary of charges before revenue matching)"]
["x3 = 2305. MPANs (in Equivalent volume for each end user)"]
["x4 = 3308. Capacity charge p/kVA/day (total) (in Summary of charges before revenue matching)"]
["x5 = 2305. Import capacity (kVA) (in Equivalent volume for each end user)"]
["x6 = 3308. Exceeded capacity charge p/kVA/day (total) (in Summary of charges before revenue matching)"]
["x7 = 2305. Exceeded capacity (kVA) (in Equivalent volume for each end user)"]
["x8 = 3308. Unit rate 1 p/kWh (total) (in Summary of charges before revenue matching)"]
["x9 = 2305. Rate 1 units (MWh) (in Equivalent volume for each end user)"]
["x10 = 3308. Unit rate 2 p/kWh (total) (in Summary of charges before revenue matching)"]
["x11 = 2305. Rate 2 units (MWh) (in Equivalent volume for each end user)"]
["x12 = 3308. Unit rate 3 p/kWh (total) (in Summary of charges before revenue matching)"]
["x13 = 2305. Rate 3 units (MWh) (in Equivalent volume for each end user)"]
["x14 = 3308. Reactive power charge p/kVArh (in Summary of charges before revenue matching)"]
["x15 = 2305. Reactive power units (MVArh) (in Equivalent volume for each end user)"]
["Calculation =0.01*x1*(x2*x3+x4*x5+x6*x7)+10*(x8*x9+x10*x11+x12*x13+x14*x15)"]
[]
[null,"Net revenues"]
["Domestic Unrestricted",{"$f":"0.01*F$14*(E3731*E1268+F3731*F1268+G3731*G1268)+10*(B3731*B1268+C3731*C1268+D3731*D1268+H3731*H1268)","v":100585639.34200333}]
["Domestic Two Rate",49975656.390577525]
["Domestic Off Peak (related MPAN)",231339.6870705327]
["Small Non Domestic Unrestricted",18945491.774398968]
["Small Non Domestic Two Rate",25384286.079528209]
["Small Non Domestic Off Peak (related MPAN)",5952.1779396988231]
["LV Medium Non-Domestic",701665.106385299]
["LV Sub Medium Non-Domestic",2.0897699709749258]
["HV Medium Non-Domestic",42178.320980803823]
["LV Network Domestic",3746.4979604959476]
["LV Network Non-Domestic Non-CT",2237079.6606807276]
["LV HH Metered",56412035.675003037]
["LV Sub HH Metered",3496897.3814046821]
["HV HH Metered",76324463.127927318]
["NHH UMS category A",580439.54693184479]
["NHH UMS category B",454937.0457929562]
["NHH UMS category C",10422.8028418745]
["NHH UMS category D",99396.950115900632]
["LV UMS (Pseudo HH Metered)",4759066.8913555667]
["LV Generation NHH or Aggregate HH",-73211.821702302899]
["LV Sub Generation NHH",0]
["LV Generation Intermittent",-275840.20321425726]
["LV Generation Intermittent no RP charge",0]
["LV Generation Non-Intermittent",-129606.3003415944]
["LV Generation Non-Intermittent no RP charge",0]
["LV Sub Generation Intermittent",-23542.516187894173]
["LV Sub Generation Intermittent no RP charge",0]
["LV Sub Generation Non-Intermittent",-34393.89566308559]
["LV Sub Generation Non-Intermittent no RP charge",0]
["HV Generation Intermittent",-1831238.9393387721]
["HV Generation Intermittent no RP charge",0]
["HV Generation Non-Intermittent",-3692471.5809680568]
["HV Generation Non-Intermittent no RP charge",0]
[]
["3402. Revenue surplus or shortfall"]
["Data sources:"]
["x1 = 3401. Net revenues by tariff before matching (£)"]
["x2 = 1076. Target CDCM net revenue (£/year)"]
["x3 = Total net revenues before matching (£) (in Revenue surplus or shortfall)"]
["Kind:","Cell summation","Calculation"]
["Formula:","=SUM(x1)","=x2-x3"]
[]
[null,"Total net revenues before matching (£)","Revenue shortfall (surplus) £"]
["Revenue surplus or shortfall",{"$f":"SUM(B$3787:B$3819)","v":334190391.29125285},{"$f":"B343-B3830","v":232770627.61690569}]
[]
[{"$f":"\"Adder for \"&CDCM!B7&\" in \"&CDCM!C7&\" (\"&CDCM!D7&\")\"","v":"Adder for WPD East Midlands in 2023/24 (Forecast)"}]
[]
["3501. Adder value at which the minimum is breached"]
["Data sources:"]
["x1 = 3308. Unit rate 1 p/kWh (total) (in Summary of charges before revenue matching)"]
["x2 = 3308. Unit rate 2 p/kWh (total) (in Summary of charges before revenue matching)"]
["x3 = 3308. Unit rate 3 p/kWh (total) (in Summary of charges before revenue matching)"]
["Kind:","Calculation","Calculation","Calculation"]
["Formula:","=0-x1","=0-x2","=0-x3"]
[]
[null,"Adder threshold for Unit rate 1 p/kWh","Adder threshold for Unit rate 2 p/kWh","Adder threshold for Unit rate 3 p/kWh"]
["Domestic Unrestricted",{"$f":"0-B3731","v":-1.3775699488179072}]
["Domestic Two Rate",-1.6414006624868067,{"$f":"0-C3732","v":-5.0136921712129807E-2}]
["Domestic Off Peak (related MPAN)",-0.46654617249602515]
["Small Non Domestic Unrestricted",-1.4419083987053691]
["Small Non Domestic Two Rate",-1.5268149727724065,{"$f":"0-C3735","v":-5.0324848606963957E-2}]
["Small Non Domestic Off Peak (related MPAN)",-0.23040236270172837]
["LV Medium Non-Domestic",-1.4695116128973202,-4.6129550103063445E-2]
["LV Sub Medium Non-Domestic",-1.3078345383735233,-3.9934577514715922E-2]
["HV Medium Non-Domestic",-0.58939022520578821,-9.7434239835399762E-3]
["LV Network Domestic",-7.6891460841038164,-0.77945363272691814,{"$f":"0-D3740","v":-4.6169249028804996E-2}]
["LV Network Non-Domestic Non-CT",-8.1835751687978533,-0.82952545552590506,{"$f":"0-D3741","v":-4.913378900716741E-2}]
["LV HH Metered",-5.9710551017117171,-0.57864260773513143,{"$f":"0-D3742","v":-3.3115293629682789E-2}]
["LV Sub HH Metered",-4.3817156735238028,-0.38073447318344339,{"$f":"0-D3743","v":-1.9791800870591243E-2}]
["HV HH Metered",-2.6625489084436387,-0.18670151452866296,{"$f":"0-D3744","v":-7.5829741172292187E-3}]
["NHH UMS category A",-1.6773318151530723]
["NHH UMS category B",-1.9771428372047808]
["NHH UMS category C",{"$f":"0-B3747","v":-3.0736536589551502}]
["NHH UMS category D",-1.3788746171931834]
["LV UMS (Pseudo HH Metered)",-23.686699735359941,{"$f":"0-C3749","v":-1.414153237237739},{"$f":"0-D3749","v":-0.76215278405544906}]
["LV Generation NHH or Aggregate HH",0.71344457494796554]
["LV Sub Generation NHH",0.62608614197562307]
["LV Generation Intermittent",0.71344457494796554]
["LV Generation Intermittent no RP charge",0.71344457494796554]
["LV Generation Non-Intermittent",5.7219949131623284,{"$f":"0-C3754","v":0.58002198866657606},{"$f":"0-D3754","v":3.4355428167157975E-2}]
["LV Generation Non-Intermittent no RP charge",5.7219949131623284,{"$f":"0-C3755","v":0.58002198866657606},{"$f":"0-D3755","v":3.4355428167157975E-2}]
["LV Sub Generation Intermittent",0.62608614197562307]
["LV Sub Generation Intermittent no RP charge",0.62608614197562307]
["LV Sub Generation Non-Intermittent",5.0619074386370908,{"$f":"0-C3758","v":0.49960221824773998},{"$f":"0-D3758","v":2.9004334984375907E-2}]
["LV Sub Generation Non-Intermittent no RP charge",5.0619074386370908,{"$f":"0-C3759","v":0.49960221824773998},{"$f":"0-D3759","v":2.9004334984375907E-2}]
["HV Generation Intermittent",0.39085206303883868]
["HV Generation Intermittent no RP charge",0.39085206303883868]
["HV Generation Non-Intermittent",3.3069978765643611,{"$f":"0-C3762","v":0.27778529946853514},{"$f":"0-D3762","v":1.3981499413121608E-2}]
["HV Generation Non-Intermittent no RP charge",3.3069978765643611,{"$f":"0-C3763","v":0.27778529946853514},{"$f":"0-D3763","v":1.3981499413121608E-2}]
[]
["3502. Marginal revenue effect of adder"]
["Data sources:"]
["x1 = 2302. Load coefficient"]
["x2 = 2305. Rate 1 units (MWh) (in Equivalent volume for each end user)"]
["x3 = 2305. Rate 2 units (MWh) (in Equivalent volume for each end user)"]
["x4 = 2305. Rate 3 units (MWh) (in Equivalent volume for each end user)"]
["Kind:","Calculation","Calculation","Calculation"]
["Formula:","=IF(x1<0,0,x2*10)","=IF(x1<0,0,x3*10)","=IF(x1<0,0,x4*10)"]
[]
[null,"Effect through Unit rate 1 p/kWh","Effect through Unit rate 2 p/kWh","Effect through Unit rate 3 p/kWh"]
["Domestic Unrestricted",{"$f":"IF(B980<0,0,B1268*10)","v":57831725.835069947},{"$f":"IF(B980<0,0,C1268*10)","v":0},{"$f":"IF(B980<0,0,D1268*10)","v":0}]
["Domestic Two Rate",24246431.870401792,10786630.726429876,0]
["Domestic Off Peak (related MPAN)",495855.93175668729,0,0]
["Small Non Domestic Unrestricted",11494070.192718824,0,0]
["Small Non Domestic Two Rate",15151478.903821275,4512360.0137431864,0]
["Small Non Domestic Off Peak (related MPAN)",25833.840720654087,0,0]
["LV Medium Non-Domestic",415878.89018799947,115228.57188044651,0]
["LV Sub Medium Non-Domestic",1.4305029137837471,0.41771037058284494,0]
["HV Medium Non-Domestic",26052.120716228463,7886.0544449936342,0]
["LV Network Domestic",259.16648860281794,994.16406772272921,1220.8546012140339]
["LV Network Non-Domestic Non-CT",186263.5128012783,738080.3809049296,785817.78782022675]
["LV HH Metered",3866724.6692768773,15378503.741172681,16545448.610594224]
["LV Sub HH Metered",242296.49140484605,926228.88458944729,1093068.6430657366]
["HV HH Metered",7451472.3175231386,28702748.996421382,40340650.748857468]
["NHH UMS category A",346049.32768110302,0,0]
["NHH UMS category B",230098.21912317228,0,0]
["NHH UMS category C",3391.0140823796,0,0]
["NHH UMS category D",72085.560845431741,0,0]
["LV UMS (Pseudo HH Metered)",120924.26467732928,339470.71572281048,1856198.076335737]
["LV Generation NHH or Aggregate HH",0,0,0]
["LV Sub Generation NHH",0,0,0]
["LV Generation Intermittent",0,0,0]
["LV Generation Intermittent no RP charge",0,0,0]
["LV Generation Non-Intermittent",0,0,0]
["LV Generation Non-Intermittent no RP charge",0,0,0]
["LV Sub Generation Intermittent",0,0,0]
["LV Sub Generation Intermittent no RP charge",0,0,0]
["LV Sub Generation Non-Intermittent",0,0,0]
["LV Sub Generation Non-Intermittent no RP charge",0,0,0]
["HV Generation Intermittent",0,0,0]
["HV Generation Intermittent no RP charge",0,0,0]
["HV Generation Non-Intermittent",0,0,0]
["HV Generation Non-Intermittent no RP charge",0,0,0]
[]
["3503. Constraint-free solution"]
["Data sources:"]
["x1 = 3402. Revenue shortfall (surplus) £ (in Revenue surplus or shortfall)"]
["x2 = 3502. Effect through Unit rate 1 p/kWh (in Marginal revenue effect of adder)"]
["x3 = 3502. Effect through Unit rate 2 p/kWh (in Marginal revenue effect of adder)"]
["x4 = 3502. Effect through Unit rate 3 p/kWh (in Marginal revenue effect of adder)"]
["Calculation =x1/SUM(x2,x3,x4)"]
[]
[null,"Constraint-free solution"]
["Constraint-free solution",{"$f":"C3830/SUM($B$3887:$B$3919,$C$3887:$C$3919,$D$3887:$D$3919)","v":0.95266053471065948}]
[]
["3504. Starting point"]
["Data sources:"]
["x1 = 3503. Constraint-free solution"]
["x2 = 3501. Adder threshold for Unit rate 1 p/kWh (in Adder value at which the minimum is breached)"]
["x3 = 3501. Adder threshold for Unit rate 2 p/kWh (in Adder value at which the minimum is breached)"]
["x4 = 3501. Adder threshold for Unit rate 3 p/kWh (in Adder value at which the minimum is breached)"]
["Calculation =MIN(x1,x2,x3,x4)"]
[]
[null,"Starting point"]
["Starting point",{"$f":"MIN(B3930,$B$3843:$B$3875,$C$3843:$C$3875,$D$3843:$D$3875)","v":-23.686699735359941}]
[]
["3505. Solve for General adder rate (p/kWh)"]
["Data sources:"]
["x1 = 3504. Starting point"]
["x2 = 3501. Adder threshold for Unit rate 1 p/kWh (in Adder value at which the minimum is breached)"]
["x3 = 3501. Adder threshold for Unit rate 2 p/kWh (in Adder value at which the minimum is breached)"]
["x4 = 3501. Adder threshold for Unit rate 3 p/kWh (in Adder value at which the minimum is breached)"]
["x5 = 3502. Effect through Unit rate 1 p/kWh (in Marginal revenue effect of adder)"]
["x6 = 3502. Effect through Unit rate 2 p/kWh (in Marginal revenue effect of adder)"]
["x7 = 3502. Effect through Unit rate 3 p/kWh (in Marginal revenue effect of adder)"]
["x8 = Location (in Solve for General adder rate (p/kWh))"]
["x9 = Kink (in Solve for General adder rate (p/kWh))"]
["x10 = Ranking before tie break (in Solve for General adder rate (p/kWh))"]
["x11 = Counter (in Solve for General adder rate (p/kWh))"]
["x12 = Tie breaker (in Solve for General adder rate (p/kWh))"]
["x13 = Ranking (in Solve for General adder rate (p/kWh))"]
["x14 = Kink reordering (in Solve for General adder rate (p/kWh))"]
["x15 = Starting slope contributions (in Solve for General adder rate (p/kWh))"]
["x16 = New slope (in Solve for General adder rate (p/kWh))"]
["x17 = Location (ordered) (in Solve for General adder rate (p/kWh))"]
["x18 = Starting values (in Solve for General adder rate (p/kWh))"]
["x19 = 3402. Revenue shortfall (surplus) £ (in Revenue surplus or shortfall)"]
["x20 = 3503. Constraint-free solution"]
["x21 = Value (in Solve for General adder rate (p/kWh))"]
["Kind:","Special calculation","Special calculation","Special calculation","Special calculation","Special calculation","Fixed data","Calculation","Special calculation","Special calculation","Special calculation","Special calculation","Special calculation","Special calculation"]
["Formula:","= x1 or x2 or x3 or x4","Special calculation","=IF(ISERROR(x8),x9,0)","=MAX(x1,x8)*x9","=RANK(x8,x8,1)","","=x10*99+x11","=RANK(x12,x12,1)","=MATCH(x11,x13,0)","=INDEX(x8,x14,1) or =x8","Special calculation","Special calculation","Special calculation"]
[]
[null,"Location","Kink","Starting slope contributions","Starting values","Ranking before tie break","Counter","Tie breaker","Ranking","Kink reordering","Location (ordered)","New slope","Value","Root"]
["Starting point",{"$f":"B3941","v":-23.686699735359941},null,null,null,null,0,{"$f":"F3970*99+G3970","v":0},null,null,{"$f":"B3970","v":-23.686699735359941},{"$f":"SUM(D$3971:D$4069)","v":0},{"$f":"SUM($E$3971:$E$4069)-$C$3830","v":-461137817.86423123},{"$f":"IF(M$3970>0,K3970,IF(M$4069>0,\"\",$B$3930))","v":""}]
["Kink 1",{"$f":"B3843","v":-1.3775699488179072},{"$f":"B3887","v":57831725.835069947},{"$f":"IF(ISERROR(B3971),C3971,0)","v":0},{"$f":"MAX($B$3941,B3971)*C3971","v":-79667247.598668545},{"$f":"RANK(B3971,B$3971:B$4069,1)","v":16},1,1585,{"$f":"RANK(H3971,H$3971:H$4069,1)","v":16},{"$f":"MATCH(G3971,I$3971:I$4069,0)","v":19},{"$f":"INDEX(B$3971:B$4069,J3971,1)","v":-23.686699735359941},{"$f":"L3970+INDEX(C$3971:C$4069,J3971,1)","v":120924.26467732928},{"$f":"M3970+(K3971-K3970)*L3970","v":-461137817.86423123},{"$f":"IF((M3970>0)=(M3971>0),\"\",K3971-M3971/L3970)","v":""}]
["Kink 2",-1.6414006624868067,24246431.870401792,0,-39798109.335018724,10,2,992,10,11,-8.1835751687978533,307187.7774786076,-459263113.92581868,""]
["Kink 3",-0.46654617249602515,495855.93175668729,0,-231339.6870705327,23,3,2280,23,10,-7.6891460841038164,307446.94396721042,-459111231.35417074,""]
["Kink 4",-1.4419083987053691,11494070.192718824,0,-16573396.346190313,13,4,1291,13,12,-5.9710551017117171,4174171.6132440879,-458583009.53217667,""]
["Kink 5",-1.5268149727724065,15151478.903821275,0,-23133504.849999573,11,5,1094,11,13,-4.3817156735238028,4416468.1046489337,-451948834.0072251,""]
["Kink 6",-0.23040236270172837,25833.840720654087,0,-5952.1779396988231,25,6,2481,25,17,-3.0736536589551502,4419859.1187313134,-446171819.84097981,""]
["Kink 7",-1.4695116128973202,415878.89018799947,0,-611138.85869011458,12,7,1195,12,14,-2.6625489084436387,11871331.436254453,-444354794.76067775,""]
["Kink 8",-1.3078345383735233,1.4305029137837471,0,-1.8708611178903467,17,8,1691,17,16,-1.9771428372047808,12101429.655377625,-436218112.12058026,""]
["Kink 9",-0.58939022520578821,26052.120716228463,0,-15354.865296026273,21,9,2088,21,15,-1.6773318151530723,12447478.983058728,-432589970.12731463,""]
["Kink 10",-7.6891460841038164,259.16648860281794,0,-1992.768990971294,3,10,307,3,2,-1.6414006624868067,36693910.853460521,-432142717.8596642,""]
["Kink 11",-8.1835751687978533,186263.5128012783,0,-1524301.4582136022,2,11,209,2,5,-1.5268149727724065,51845389.757281795,-427938120.77620173,""]
["Kink 12",-5.9710551017117171,3866724.6692768773,0,-23088426.06340025,4,12,408,4,7,-1.4695116128973202,52261268.647469796,-424967205.74907607,""]
["Kink 13",-4.3817156735238028,242296.49140484605,0,-1061674.3340284394,5,13,508,5,4,-1.4419083987053691,63755338.840188622,-423524626.75665689,""]
["Kink 14",-2.6625489084436387,7451472.3175231386,0,-19839909.485319223,7,14,707,7,52,-1.414153237237739,64094809.555911437,-421755087.03272396,""]
["Kink 15",-1.6773318151530723,346049.32768110302,0,-580439.54693184479,9,15,906,9,18,-1.3788746171931834,64166895.116756871,-419493910.59957284,""]
["Kink 16",-1.9771428372047808,230098.21912317228,0,-454937.0457929562,8,16,808,8,1,-1.3775699488179072,121998620.95182681,-419410194.08077437,""]
["Kink 17",-3.0736536589551502,3391.0140823796,0,-10422.802841874498,6,17,611,6,8,-1.3078345383735233,121998622.38232972,-410902570.1750499,""]
["Kink 18",-1.3788746171931834,72085.560845431741,0,-99396.950115900618,15,18,1503,15,44,-0.82952545552590506,122736702.76323465,-352549520.99468488,""]
["Kink 19",-23.686699735359941,120924.26467732928,0,-2864296.7481310908,1,19,118,1,43,-0.77945363272691814,122737696.92730236,-346403870.56299227,""]
["Kink 20",0.71344457494796554,0,0,0,91,20,9029,91,85,-0.76215278405544906,124593895.0036381,-344280404.24216837,""]
["Kink 21",0.62608614197562307,0,0,0,88,21,8733,88,9,-0.58939022520578821,124619947.12435433,-322755244.12429386,""]
["Kink 22",0.71344457494796554,0,0,0,91,22,9031,92,45,-0.57864260773513143,139998450.865527,-321415876.60338783,""]
["Kink 23",0.71344457494796554,0,0,0,91,23,9032,93,3,-0.46654617249602515,140494306.79728368,-305722549.32236511,""]
["Kink 24",5.7219949131623284,0,0,0,98,24,9726,98,46,-0.38073447318344339,141420535.68187311,-293666494.11234701,""]
["Kink 25",5.7219949131623284,0,0,0,98,25,9727,99,6,-0.23040236270172837,141446369.52259377,-272406446.51783633,""]
["Kink 26",0.62608614197562307,0,0,0,88,26,8738,89,47,-0.18670151452866296,170149118.51901513,-266225120.19869816,""]
["Kink 27",0.62608614197562307,0,0,0,88,27,8739,90,38,-5.0324848606963957E-2,174661478.53275833,-243020750.70555887,""]
["Kink 28",5.0619074386370908,0,0,0,96,28,9532,96,35,-5.0136921712129807E-2,185448109.25918821,-242987927.11625105,""]
["Kink 29",5.0619074386370908,0,0,0,96,29,9533,97,77,-4.913378900716741E-2,186233927.04700842,-242801898.05277973,""]
["Kink 30",0.39085206303883868,0,0,0,82,30,8148,82,76,-4.6169249028804996E-2,186235147.90160963,-242249800.13072145,""]
["Kink 31",0.39085206303883868,0,0,0,82,31,8149,83,40,-4.6129550103063445E-2,186350376.47349009,-242242406.79541445,""]
["Kink 32",3.3069978765643611,0,0,0,94,32,9338,94,41,-3.9934577514715922E-2,186350376.89120045,-241087971.32133293,""]
["Kink 33",3.3069978765643611,0,0,0,94,33,9339,95,78,-3.3115293629682789E-2,202895825.50179467,-239817195.19922891,""]
["Kink 34",{"$f":"C3843","v":0},{"$f":"C3887","v":0},0,0,37,34,3697,37,79,-1.9791800870591243E-2,203988894.14486042,-237113914.13730586,""]
["Kink 35",-5.0136921712129807E-2,10786630.726429876,0,-540808.4602686686,28,35,2807,28,42,-9.7434239835399762E-3,203996780.19930542,-235064156.84816548,""]
["Kink 36",0,0,0,0,37,36,3699,38,80,-7.5829741172292187E-3,244337430.94816288,-234623432.03165606,""]
["Kink 37",0,0,0,0,37,37,3700,39,34,0,244337430.94816288,-232770627.61690587,""]
["Kink 38",-5.0324848606963957E-2,4512360.0137431864,0,-227083.83455174364,27,38,2711,27,36,0,244337430.94816288,-232770627.61690587,""]
["Kink 39",0,0,0,0,37,39,3702,40,37,0,244337430.94816288,-232770627.61690587,""]
["Kink 40",-4.6129550103063445E-2,115228.57188044651,0,-5315.4421798635049,31,40,3109,31,39,0,244337430.94816288,-232770627.61690587,""]
["Kink 41",-3.9934577514715922E-2,0.41771037058284494,0,-1.6681087172741336E-2,32,41,3209,32,48,0,244337430.94816288,-232770627.61690587,""]
["Kink 42",-9.7434239835399762E-3,7886.0544449936342,0,-76.83717201485301,35,42,3507,35,49,0,244337430.94816288,-232770627.61690587,""]
["Kink 43",-0.77945363272691814,994.16406772272921,0,-774.90479411305114,19,43,1924,19,50,0,244337430.94816288,-232770627.61690587,""]
["Kink 44",-0.82952545552590506,738080.3809049296,0,-612256.46418489527,18,44,1826,18,51,0,244337430.94816288,-232770627.61690587,""]
["Kink 45",-0.57864260773513143,15378503.741172681,0,-8898657.5078566354,22,45,2223,22,53,0,244337430.94816288,-232770627.61690587,""]
["Kink 46",-0.38073447318344339,926228.88458944729,0,-352647.26642145158,24,46,2422,24,54,0,244337430.94816288,-232770627.61690587,""]
["Kink 47",-0.18670151452866296,28702748.996421382,0,-5358846.7087679328,26,47,2621,26,55,0,244337430.94816288,-232770627.61690587,""]
["Kink 48",0,0,0,0,37,48,3711,41,56,0,244337430.94816288,-232770627.61690587,""]
["Kink 49",0,0,0,0,37,49,3712,42,59,0,244337430.94816288,-232770627.61690587,""]
["Kink 50",0,0,0,0,37,50,3713,43,60,0,244337430.94816288,-232770627.61690587,""]
["Kink 51",0,0,0,0,37,51,3714,44,63,0,244337430.94816288,-232770627.61690587,""]
["Kink 52",-1.414153237237739,339470.71572281048,0,-480063.61158682464,14,52,1438,14,64,0,244337430.94816288,-232770627.61690587,""]
["Kink 53",0,0,0,0,37,53,3716,45,67,0,244337430.94816288,-232770627.61690587,""]
["Kink 54",0,0,0,0,37,54,3717,46,68,0,244337430.94816288,-232770627.61690587,""]
["Kink 55",0,0,0,0,37,55,3718,47,69,0,244337430.94816288,-232770627.61690587,""]
["Kink 56",0,0,0,0,37,56,3719,48,70,0,244337430.94816288,-232770627.61690587,""]
["Kink 57",0.58002198866657606,0,0,0,86,57,8571,86,71,0,244337430.94816288,-232770627.61690587,""]
["Kink 58",0.58002198866657606,0,0,0,86,58,8572,87,72,0,244337430.94816288,-232770627.61690587,""]
["Kink 59",0,0,0,0,37,59,3722,49,73,0,244337430.94816288,-232770627.61690587,""]
["Kink 60",0,0,0,0,37,60,3723,50,74,0,244337430.94816288,-232770627.61690587,""]
["Kink 61",0.49960221824773998,0,0,0,84,61,8377,84,75,0,244337430.94816288,-232770627.61690587,""]
["Kink 62",0.49960221824773998,0,0,0,84,62,8378,85,81,0,244337430.94816288,-232770627.61690587,""]
["Kink 63",0,0,0,0,37,63,3726,51,82,0,244337430.94816288,-232770627.61690587,""]
["Kink 64",0,0,0,0,37,64,{"$f":"F4034*99+G4034","v":3727},52,83,0,244337430.94816288,-232770627.61690587,""]
["Kink 65",0.27778529946853514,0,{"$f":"IF(ISERROR(B4035),C4035,0)","v":0},{"$f":"MAX($B$3941,B4035)*C4035","v":0},{"$f":"RANK(B4035,B$3971:B$4069,1)","v":80},65,7985,{"$f":"RANK(H4035,H$3971:H$4069,1)","v":80},{"$f":"MATCH(G4035,I$3971:I$4069,0)","v":84},{"$f":"INDEX(B$3971:B$4069,J4035,1)","v":0},{"$f":"L4034+INDEX(C$3971:C$4069,J4035,1)","v":244337430.94816288},{"$f":"M4034+(K4035-K4034)*L4034","v":-232770627.61690587},{"$f":"IF((M4034>0)=(M4035>0),\"\",K4035-M4035/L4034)","v":""}]
["Kink 66",0.27778529946853514,0,0,0,80,66,7986,81,86,0,244337430.94816288,-232770627.61690587,""]
["Kink 67",{"$f":"D3843","v":0},{"$f":"D3887","v":0},0,0,37,67,3730,53,87,0,244337430.94816288,-232770627.61690587,""]
["Kink 68",0,0,0,0,37,68,3731,54,88,0,244337430.94816288,-232770627.61690587,""]
["Kink 69",0,0,0,0,37,69,3732,55,89,0,244337430.94816288,-232770627.61690587,""]
["Kink 70",0,0,0,0,37,70,3733,56,92,0,244337430.94816288,-232770627.61690587,""]
["Kink 71",0,0,0,0,37,71,3734,57,93,0,244337430.94816288,-232770627.61690587,""]
["Kink 72",0,0,0,0,37,72,3735,58,96,0,244337430.94816288,-232770627.61690587,""]
["Kink 73",0,0,0,0,37,73,3736,59,97,0,244337430.94816288,-232770627.61690587,""]
["Kink 74",0,0,0,0,37,74,3737,60,98,1.3981499413121608E-2,244337430.94816288,-229354423.96950048,""]
["Kink 75",0,0,0,0,37,75,3738,61,99,1.3981499413121608E-2,244337430.94816288,-229354423.96950048,""]
["Kink 76",-4.6169249028804996E-2,1220.8546012140339,0,-56.365940111413146,30,76,3046,30,94,2.9004334984375907E-2,244337430.94816288,-225683782.92046353,""]
["Kink 77",-4.913378900716741E-2,785817.78782022675,0,-38610.205384838067,29,77,2948,29,95,2.9004334984375907E-2,244337430.94816288,-225683782.92046353,""]
["Kink 78",-3.3115293629682789E-2,16545448.610594224,0,-547907.38897465484,33,78,3345,33,90,3.4355428167157975E-2,244337430.94816288,-224376310.55941832,""]
["Kink 79",-1.9791800870591243E-2,1093068.6430657366,0,-21633.796921444435,34,79,3445,34,91,3.4355428167157975E-2,244337430.94816288,-224376310.55941832,""]
["Kink 80",-7.5829741172292187E-3,40340650.748857468,0,-305902.11050076969,36,80,3644,36,65,0.27778529946853514,244337430.94816288,-164897281.1895979,""]
["Kink 81",0,0,0,0,37,81,3744,62,66,0.27778529946853514,244337430.94816288,-164897281.1895979,""]
["Kink 82",0,0,0,0,37,82,3745,63,30,0.39085206303883868,244337430.94816288,-137270838.65320662,""]
["Kink 83",0,0,0,0,37,83,3746,64,31,0.39085206303883868,244337430.94816288,-137270838.65320662,""]
["Kink 84",0,0,0,0,37,84,3747,65,61,0.49960221824773998,244337430.94816288,-110699105.11424971,""]
["Kink 85",-0.76215278405544906,1856198.076335737,0,-1414706.5316376509,20,85,2065,20,62,0.49960221824773998,244337430.94816288,-110699105.11424971,""]
["Kink 86",0,0,0,0,37,86,3749,66,57,0.58002198866657606,244337430.94816288,-91049545.012670234,""]
["Kink 87",0,0,0,0,37,87,3750,67,58,0.58002198866657606,244337430.94816288,-91049545.012670234,""]
["Kink 88",0,0,0,0,37,88,3751,68,21,0.62608614197562307,244337430.94816288,-79794348.134335369,""]
["Kink 89",0,0,0,0,37,89,3752,69,26,0.62608614197562307,244337430.94816288,-79794348.134335369,""]
["Kink 90",3.4355428167157975E-2,0,0,0,78,90,7812,78,27,0.62608614197562307,244337430.94816288,-79794348.134335369,""]
["Kink 91",3.4355428167157975E-2,0,0,0,78,91,7813,79,20,0.71344457494796554,244337430.94816288,-58449413.05021593,""]
["Kink 92",0,0,0,0,37,92,3755,70,22,0.71344457494796554,244337430.94816288,-58449413.05021593,""]
["Kink 93",0,0,0,0,37,93,3756,71,23,0.71344457494796554,244337430.94816288,-58449413.05021593,""]
["Kink 94",2.9004334984375907E-2,0,0,0,76,94,7618,76,32,3.3069978765643611,244337430.94816288,575252737.69385993,0.95266053471066048]
["Kink 95",2.9004334984375907E-2,0,0,0,76,95,7619,77,33,3.3069978765643611,244337430.94816288,575252737.69385993,""]
["Kink 96",0,0,0,0,37,96,3759,72,28,5.0619074386370908,244337430.94816288,1004042831.6370764,""]
["Kink 97",0,0,0,0,37,97,3760,73,29,5.0619074386370908,244337430.94816288,1004042831.6370764,""]
["Kink 98",1.3981499413121608E-2,0,0,0,74,98,7424,74,24,5.7219949131623284,244337430.94816288,1165326909.3636339,""]
["Kink 99",1.3981499413121608E-2,0,0,0,74,99,7425,75,25,5.7219949131623284,244337430.94816288,1165326909.3636339,""]
[]
["3506. General adder rate (p/kWh)"]
["Data sources:"]
["x1 = 3505. Root (in Solve for General adder rate (p/kWh))"]
["Calculation =MIN(x1)"]
[]
[null,"General adder rate (p/kWh)"]
["General adder rate (p/kWh)",{"$f":"MIN($N$3970:$N$4069)","v":0.95266053471066048}]
[]
["3507. Adder"]
["Data sources:"]
["x1 = 2302. Load coefficient"]
["x2 = 3506. General adder rate (p/kWh)"]
["x3 = 3501. Adder threshold for Unit rate 1 p/kWh (in Adder value at which the minimum is breached)"]
["x4 = 3501. Adder threshold for Unit rate 2 p/kWh (in Adder value at which the minimum is breached)"]
["x5 = 3501. Adder threshold for Unit rate 3 p/kWh (in Adder value at which the minimum is breached)"]
["x6 = Adder on Unit rate 1 p/kWh (in Adder)"]
["x7 = 2305. Rate 1 units (MWh) (in Equivalent volume for each end user)"]
["x8 = Adder on Unit rate 2 p/kWh (in Adder)"]
["x9 = 2305. Rate 2 units (MWh) (in Equivalent volume for each end user)"]
["x10 = Adder on Unit rate 3 p/kWh (in Adder)"]
["x11 = 2305. Rate 3 units (MWh) (in Equivalent volume for each end user)"]
["Kind:","Calculation","Calculation","Calculation","Calculation"]
["Formula:","=IF(x1<0,0,MAX(x2,x3))","=IF(x1<0,0,MAX(x2,x4))","=IF(x1<0,0,MAX(x2,x5))","=0+10*(x6*x7+x8*x9+x10*x11)"]
[]
[null,"Adder on Unit rate 1 p/kWh","Adder on Unit rate 2 p/kWh","Adder on Unit rate 3 p/kWh","Net revenues by tariff from adder"]
["Domestic Unrestricted",{"$f":"IF($B980<0,0,MAX($B$4077,$B3843))","v":0.95266053471066048},null,null,{"$f":"0+10*($B4096*B1268+$C4096*C1268+$D4096*D1268)","v":55094002.857278056}]
["Domestic Two Rate",0.95266053471066048,{"$f":"IF($B981<0,0,MAX($B$4077,$C3844))","v":0.95266053471066048},null,33374616.146049693]
["Domestic Off Peak (related MPAN)",0.95266053471066048,null,null,472382.37708677852]
["Small Non Domestic Unrestricted",0.95266053471066048,null,null,10949947.055797379]
["Small Non Domestic Two Rate",0.95266053471066048,{"$f":"IF($B984<0,0,MAX($B$4077,$C3847))","v":0.95266053471066048},null,18732963.297671251]
["Small Non Domestic Off Peak (related MPAN)",0.95266053471066048,null,null,24610.880514568358]
["LV Medium Non-Domestic",0.95266053471066048,{"$f":"IF($B986<0,0,MAX($B$4077,$C3849))","v":0.95266053471066048},null,505965.11880294757]
["LV Sub Medium Non-Domestic",0.95266053471066048,0.95266053471066048,null,1.7607198557440236]
["HV Medium Non-Domestic",0.95266053471066048,0.95266053471066048,null,32331.560096193898]
["LV Network Domestic",0.95266053471066048,0.95266053471066048,{"$f":"IF($B989<0,0,MAX($B$4077,$D3852))","v":0.95266053471066048},2357.058555154837]
["LV Network Non-Domestic Non-CT",0.95266053471066048,0.95266053471066048,{"$f":"IF($B990<0,0,MAX($B$4077,$D3853))","v":0.95266053471066048},1629203.5419646557]
["LV HH Metered",0.95266053471066048,0.95266053471066048,{"$f":"IF($B991<0,0,MAX($B$4077,$D3854))","v":0.95266053471066048},34096365.508524112]
["LV Sub HH Metered",0.95266053471066048,0.95266053471066048,{"$f":"IF($B992<0,0,MAX($B$4077,$D3855))","v":0.95266053471066048},2154531.3674961599]
["HV HH Metered",0.95266053471066048,0.95266053471066048,{"$f":"IF($B993<0,0,MAX($B$4077,$D3856))","v":0.95266053471066048},72873645.721972495]
["NHH UMS category A",0.95266053471066048,null,null,329667.53754494415]
["NHH UMS category B",0.95266053471066048,null,null,219205.49246585203]
["NHH UMS category C",0.95266053471066048,null,null,3230.4852889311296]
["NHH UMS category D",0.95266053471066048,null,null,68673.068939926859]
["LV UMS (Pseudo HH Metered)",0.95266053471066048,{"$f":"IF($B998<0,0,MAX($B$4077,$C3861))","v":0.95266053471066048},{"$f":"IF($B998<0,0,MAX($B$4077,$D3861))","v":0.95266053471066048},2206926.7801370043]
["LV Generation NHH or Aggregate HH",0,null,null,0]
["LV Sub Generation NHH",0,null,null,0]
["LV Generation Intermittent",0,null,null,0]
["LV Generation Intermittent no RP charge",0,null,null,0]
["LV Generation Non-Intermittent",0,{"$f":"IF($B1003<0,0,MAX($B$4077,$C3866))","v":0},{"$f":"IF($B1003<0,0,MAX($B$4077,$D3866))","v":0},0]
["LV Generation Non-Intermittent no RP charge",0,{"$f":"IF($B1004<0,0,MAX($B$4077,$C3867))","v":0},{"$f":"IF($B1004<0,0,MAX($B$4077,$D3867))","v":0},0]
["LV Sub Generation Intermittent",0,null,null,0]
["LV Sub Generation Intermittent no RP charge",0,null,null,0]
["LV Sub Generation Non-Intermittent",0,{"$f":"IF($B1007<0,0,MAX($B$4077,$C3870))","v":0},{"$f":"IF($B1007<0,0,MAX($B$4077,$D3870))","v":0},0]
["LV Sub Generation Non-Intermittent no RP charge",0,{"$f":"IF($B1008<0,0,MAX($B$4077,$C3871))","v":0},{"$f":"IF($B1008<0,0,MAX($B$4077,$D3871))","v":0},0]
["HV Generation Intermittent",0,null,null,0]
["HV Generation Intermittent no RP charge",0,null,null,0]
["HV Generation Non-Intermittent",0,{"$f":"IF($B1011<0,0,MAX($B$4077,$C3874))","v":0},{"$f":"IF($B1011<0,0,MAX($B$4077,$D3874))","v":0},0]
["HV Generation Non-Intermittent no RP charge",0,{"$f":"IF($B1012<0,0,MAX($B$4077,$C3875))","v":0},{"$f":"IF($B1012<0,0,MAX($B$4077,$D3875))","v":0},0]
[]
[{"$f":"\"Tariff component adjustment and rounding for \"&CDCM!B7&\" in \"&CDCM!C7&\" (\"&CDCM!D7&\")\"","v":"Tariff component adjustment and rounding for WPD East Midlands in 2023/24 (Forecast)"}]
[]
["3601. Tariffs before rounding"]
["Data sources:"]
["x1 = 3308. Unit rate 1 p/kWh (total) (in Summary of charges before revenue matching)"]
["x2 = 3507. Adder on Unit rate 1 p/kWh (in Adder)"]
["x3 = 3308. Unit rate 2 p/kWh (total) (in Summary of charges before revenue matching)"]
["x4 = 3507. Adder on Unit rate 2 p/kWh (in Adder)"]
["x5 = 3308. Unit rate 3 p/kWh (total) (in Summary of charges before revenue matching)"]
["x6 = 3507. Adder on Unit rate 3 p/kWh (in Adder)"]
["x7 = 3308. Fixed charge p/MPAN/day (total) (in Summary of charges before revenue matching)"]
["x8 = 3308. Capacity charge p/kVA/day (total) (in Summary of charges before revenue matching)"]
["x9 = 3308. Exceeded capacity charge p/kVA/day (total) (in Summary of charges before revenue matching)"]
["x10 = 3308. Reactive power charge p/kVArh (in Summary of charges before revenue matching)"]
["Kind:","Calculation","Calculation","Calculation","Copy cells","Copy cells","Copy cells","Copy cells"]
["Formula:","=x1+x2","=x3+x4","=x5+x6","=x7","=x8","=x9","=x10"]
[]
[null,"Unit rate 1 p/kWh","Unit rate 2 p/kWh","Unit rate 3 p/kWh","Fixed charge p/MPAN/day","Capacity charge p/kVA/day","Exceeded capacity charge p/kVA/day","Reactive power charge p/kVArh"]
["Domestic Unrestricted",{"$f":"$B3731+$B4096","v":2.3302304835285677},null,null,{"$f":"$E3731","v":3.3201836858344196}]
["Domestic Two Rate",2.5940611971974672,{"$f":"$C3732+$C4097","v":1.0027974564227904},null,{"$f":"$E3732","v":3.3201836858344196}]
["Domestic Off Peak (related MPAN)",1.4192067072066856]
["Small Non Domestic Unrestricted",2.3945689334160294,null,null,{"$f":"$E3734","v":6.7236176437599298}]
["Small Non Domestic Two Rate",2.479475507483067,{"$f":"$C3735+$C4100","v":1.0029853833176245},null,{"$f":"$E3735","v":6.7236176437599298}]
["Small Non Domestic Off Peak (related MPAN)",1.1830628974123889]
["LV Medium Non-Domestic",2.4221721476079807,{"$f":"$C3737+$C4102","v":0.99879008481372389},null,{"$f":"$E3737","v":19.03398177592809}]
["LV Sub Medium Non-Domestic",2.2604950730841837,0.99259511222537644,null,17.489905710394844]
["HV Medium Non-Domestic",1.5420507599164486,0.96240395869420048,null,166.54183382791217]
["LV Network Domestic",8.6418066188144778,1.7321141674375786,{"$f":"$D3740+$D4105","v":0.99882978373946552},3.3201836858344196]
["LV Network Non-Domestic Non-CT",9.1362357035085147,1.7821859902365655,{"$f":"$D3741+$D4106","v":1.001794323717828},6.7236176437599298]
["LV HH Metered",6.9237156364223775,1.5313031424457919,{"$f":"$D3742+$D4107","v":0.98577582834034327},9.3780238957553443,{"$f":"$F3742","v":2.9456683911585122},{"$f":"$G3742","v":6.5275216647821361},{"$f":"$H3742","v":0.14750810920317114}]
["LV Sub HH Metered",5.3343762082344632,1.3333950078941039,{"$f":"$D3743+$D4108","v":0.97245233558125177},7.3208759127438565,{"$f":"$F3743","v":3.8574355103320563},{"$f":"$G3743","v":6.1627798488571894},{"$f":"$H3743","v":0.10407059158804718}]
["HV HH Metered",3.6152094431542992,1.1393620492393235,{"$f":"$D3744+$D4109","v":0.96024350882788967},79.063509574340202,{"$f":"$F3744","v":4.643604615504743},{"$f":"$G3744","v":7.0823737252978232},{"$f":"$H3744","v":5.4488511649372316E-2}]
["NHH UMS category A",2.6299923498637328]
["NHH UMS category B",2.9298033719154413]
["NHH UMS category C",4.0263141936658107]
["NHH UMS category D",2.3315351519038439]
["LV UMS (Pseudo HH Metered)",24.6393602700706,{"$f":"$C3749+$C4114","v":2.3668137719483995},{"$f":"$D3749+$D4114","v":1.7148133187661094}]
["LV Generation NHH or Aggregate HH",-0.71344457494796554,null,null,{"$f":"$E3750","v":0}]
["LV Sub Generation NHH",-0.62608614197562307,null,null,0]
["LV Generation Intermittent",-0.71344457494796554,null,null,0,null,null,{"$f":"$H3752","v":0.1592642144487382}]
["LV Generation Intermittent no RP charge",-0.71344457494796554,null,null,0]
["LV Generation Non-Intermittent",-5.7219949131623284,{"$f":"$C3754+$C4119","v":-0.58002198866657606},{"$f":"$D3754+$D4119","v":-3.4355428167157975E-2},0,null,null,{"$f":"$H3754","v":0.1592642144487382}]
["LV Generation Non-Intermittent no RP charge",-5.7219949131623284,{"$f":"$C3755+$C4120","v":-0.58002198866657606},{"$f":"$D3755+$D4120","v":-3.4355428167157975E-2},0]
["LV Sub Generation Intermittent",-0.62608614197562307,null,null,0,null,null,{"$f":"$H3756","v":0.13957742373269999}]
["LV Sub Generation Intermittent no RP charge",-0.62608614197562307,null,null,0]
["LV Sub Generation Non-Intermittent",-5.0619074386370908,{"$f":"$C3758+$C4123","v":-0.49960221824773998},{"$f":"$D3758+$D4123","v":-2.9004334984375907E-2},0,null,null,{"$f":"$H3758","v":0.13957742373269999}]
["LV Sub Generation Non-Intermittent no RP charge",-5.0619074386370908,{"$f":"$C3759+$C4124","v":-0.49960221824773998},{"$f":"$D3759+$D4124","v":-2.9004334984375907E-2},0]
["HV Generation Intermittent",-0.39085206303883868,null,null,32.504721557304279,null,null,{"$f":"$H3760","v":0.11028942482068535}]
["HV Generation Intermittent no RP charge",-0.39085206303883868,null,null,32.504721557304279]
["HV Generation Non-Intermittent",-3.3069978765643611,{"$f":"$C3762+$C4127","v":-0.27778529946853514},{"$f":"$D3762+$D4127","v":-1.3981499413121608E-2},32.504721557304279,null,null,{"$f":"$H3762","v":0.11028942482068535}]
["HV Generation Non-Intermittent no RP charge",-3.3069978765643611,{"$f":"$C3763+$C4128","v":-0.27778529946853514},{"$f":"$D3763+$D4128","v":-1.3981499413121608E-2},32.504721557304279]
[]
["3602. Decimal places"]
[]
[null,"Unit rate 1 p/kWh","Unit rate 2 p/kWh","Unit rate 3 p/kWh","Fixed charge p/MPAN/day","Capacity charge p/kVA/day","Exceeded capacity charge p/kVA/day","Reactive power charge p/kVArh"]
["Decimal places",3,3,3,2,2,2,3]
[]
["3603. Tariff rounding"]
["Data sources:"]
["x1 = 3601. Unit rate 1 p/kWh before rounding (in Tariffs before rounding)"]
["x2 = 3602. Unit rate 1 p/kWh decimal places (in Decimal places)"]
["x3 = 3601. Unit rate 2 p/kWh before rounding (in Tariffs before rounding)"]
["x4 = 3602. Unit rate 2 p/kWh decimal places (in Decimal places)"]
["x5 = 3601. Unit rate 3 p/kWh before rounding (in Tariffs before rounding)"]
["x6 = 3602. Unit rate 3 p/kWh decimal places (in Decimal places)"]
["x7 = 3601. Fixed charge p/MPAN/day before rounding (in Tariffs before rounding)"]
["x8 = 3602. Fixed charge p/MPAN/day decimal places (in Decimal places)"]
["x9 = 3601. Capacity charge p/kVA/day before rounding (in Tariffs before rounding)"]
["x10 = 3602. Capacity charge p/kVA/day decimal places (in Decimal places)"]
["x11 = 3601. Exceeded capacity charge p/kVA/day before rounding (in Tariffs before rounding)"]
["x12 = 3602. Exceeded capacity charge p/kVA/day decimal places (in Decimal places)"]
["x13 = 3601. Reactive power charge p/kVArh before rounding (in Tariffs before rounding)"]
["x14 = 3602. Reactive power charge p/kVArh decimal places (in Decimal places)"]
["Kind:","Calculation","Calculation","Calculation","Calculation","Calculation","Calculation","Calculation"]
["Formula:","=ROUND(x1,x2)-x1","=ROUND(x3,x4)-x3","=ROUND(x5,x6)-x5","=ROUND(x7,x8)-x7","=ROUND(x9,x10)-x9","=ROUND(x11,x12)-x11","=ROUND(x13,x14)-x13"]
[]
[null,"Unit rate 1 p/kWh","Unit rate 2 p/kWh","Unit rate 3 p/kWh","Fixed charge p/MPAN/day","Capacity charge p/kVA/day","Exceeded capacity charge p/kVA/day","Reactive power charge p/kVArh"]
["Domestic Unrestricted",{"$f":"ROUND(B4148,B$4185)-B4148","v":-2.3048352856758214E-4},null,null,{"$f":"ROUND(E4148,E$4185)-E4148","v":-1.8368583441974451E-4}]
["Domestic Two Rate",-6.1197197467333098E-5,{"$f":"ROUND(C4149,C$4185)-C4149","v":2.0254357720950189E-4},null,{"$f":"ROUND(E4149,E$4185)-E4149","v":-1.8368583441974451E-4}]
["Domestic Off Peak (related MPAN)",-2.0670720668558573E-4]
["Small Non Domestic Unrestricted",4.3106658397062958E-4,null,null,{"$f":"ROUND(E4151,E$4185)-E4151","v":-3.6176437599300115E-3}]
["Small Non Domestic Two Rate",-4.7550748306690593E-4,{"$f":"ROUND(C4152,C$4185)-C4152","v":1.4616682375345746E-5},null,{"$f":"ROUND(E4152,E$4185)-E4152","v":-3.6176437599300115E-3}]
["Small Non Domestic Off Peak (related MPAN)",-6.2897412388851492E-5]
["LV Medium Non-Domestic",-1.7214760798056616E-4,2.0991518627611061E-4,null,{"$f":"ROUND(E4154,E$4185)-E4154","v":-3.9817759280893483E-3}]
["LV Sub Medium Non-Domestic",-4.9507308418395013E-4,4.0488777462355241E-4,null,9.4289605154784795E-5]
["HV Medium Non-Domestic",-5.0759916448539499E-5,-4.0395869420051245E-4,null,-1.8338279121792311E-3]
["LV Network Domestic",1.9338118552170158E-4,-1.1416743757863834E-4,{"$f":"ROUND(D4157,D$4185)-D4157","v":1.7021626053448369E-4},-1.8368583441974451E-4]
["LV Network Non-Domestic Non-CT",-2.3570350851542798E-4,-1.8599023656551417E-4,{"$f":"ROUND(D4158,D$4185)-D4158","v":2.0567628217205147E-4},-3.6176437599300115E-3]
["LV HH Metered",2.8436357762284814E-4,-3.031424457919929E-4,{"$f":"ROUND(D4159,D$4185)-D4159","v":2.2417165965671337E-4},1.9761042446564403E-3,4.3316088414879772E-3,2.4783352178641138E-3,4.9189079682884773E-4]
["LV Sub HH Metered",-3.7620823446360419E-4,-3.9500789410396031E-4,{"$f":"ROUND(D4160,D$4185)-D4160","v":-4.5233558125179485E-4},-8.7591274385623308E-4,2.5644896679435369E-3,-2.7798488571892932E-3,-7.0591588047189124E-5]
["HV HH Metered",-2.0944315429893834E-4,-3.6204923932348088E-4,{"$f":"ROUND(D4161,D$4185)-D4161","v":-2.4350882788970463E-4},-3.509574340199606E-3,-3.6046155047433359E-3,-2.3737252978230927E-3,-4.8851164937231684E-4]
["NHH UMS category A",7.6501362671343998E-6]
["NHH UMS category B",1.9662808455889191E-4]
["NHH UMS category C",{"$f":"ROUND(B4164,B$4185)-B4164","v":-3.1419366581086905E-4}]
["NHH UMS category D",4.6484809615598977E-4]
["LV UMS (Pseudo HH Metered)",-3.6027007060113192E-4,{"$f":"ROUND(C4166,C$4185)-C4166","v":1.8622805160051215E-4},{"$f":"ROUND(D4166,D$4185)-D4166","v":1.8668123389065094E-4}]
["LV Generation NHH or Aggregate HH",4.4457494796557029E-4,null,null,{"$f":"ROUND(E4167,E$4185)-E4167","v":0}]
["LV Sub Generation NHH",8.6141975623066358E-5,null,null,0]
["LV Generation Intermittent",4.4457494796557029E-4,null,null,0,null,null,{"$f":"ROUND(H4169,H$4185)-H4169","v":-2.642144487381981E-4}]
["LV Generation Intermittent no RP charge",4.4457494796557029E-4,null,null,0]
["LV Generation Non-Intermittent",-5.0868376719748198E-6,{"$f":"ROUND(C4171,C$4185)-C4171","v":2.1988666576100435E-5},{"$f":"ROUND(D4171,D$4185)-D4171","v":3.5542816715797287E-4},0,null,null,{"$f":"ROUND(H4171,H$4185)-H4171","v":-2.642144487381981E-4}]
["LV Generation Non-Intermittent no RP charge",-5.0868376719748198E-6,{"$f":"ROUND(C4172,C$4185)-C4172","v":2.1988666576100435E-5},{"$f":"ROUND(D4172,D$4185)-D4172","v":3.5542816715797287E-4},0]
["LV Sub Generation Intermittent",8.6141975623066358E-5,null,null,0,null,null,{"$f":"ROUND(H4173,H$4185)-H4173","v":4.2257626730002329E-4}]
["LV Sub Generation Intermittent no RP charge",8.6141975623066358E-5,null,null,0]
["LV Sub Generation Non-Intermittent",-9.2561362909471256E-5,{"$f":"ROUND(C4175,C$4185)-C4175","v":-3.97781752260018E-4},{"$f":"ROUND(D4175,D$4185)-D4175","v":4.3349843759053763E-6},0,null,null,{"$f":"ROUND(H4175,H$4185)-H4175","v":4.2257626730002329E-4}]
["LV Sub Generation Non-Intermittent no RP charge",-9.2561362909471256E-5,{"$f":"ROUND(C4176,C$4185)-C4176","v":-3.97781752260018E-4},{"$f":"ROUND(D4176,D$4185)-D4176","v":4.3349843759053763E-6},0]
["HV Generation Intermittent",-1.4793696116133237E-4,null,null,-4.7215573042791448E-3,null,null,{"$f":"ROUND(H4177,H$4185)-H4177","v":-2.8942482068534947E-4}]
["HV Generation Intermittent no RP charge",-1.4793696116133237E-4,null,null,-4.7215573042791448E-3]
["HV Generation Non-Intermittent",-2.1234356388788456E-6,{"$f":"ROUND(C4179,C$4185)-C4179","v":-2.1470053146488421E-4},{"$f":"ROUND(D4179,D$4185)-D4179","v":-1.8500586878392525E-5},-4.7215573042791448E-3,null,null,{"$f":"ROUND(H4179,H$4185)-H4179","v":-2.8942482068534947E-4}]
["HV Generation Non-Intermittent no RP charge",-2.1234356388788456E-6,{"$f":"ROUND(C4180,C$4185)-C4180","v":-2.1470053146488421E-4},{"$f":"ROUND(D4180,D$4185)-D4180","v":-1.8500586878392525E-5},-4.7215573042791448E-3]
[]
["3604. All the way tariffs"]
["Data sources:"]
["x1 = 3601. Unit rate 1 p/kWh before rounding (in Tariffs before rounding)"]
["x2 = 3603. Unit rate 1 p/kWh rounding (in Tariff rounding)"]
["x3 = 3601. Unit rate 2 p/kWh before rounding (in Tariffs before rounding)"]
["x4 = 3603. Unit rate 2 p/kWh rounding (in Tariff rounding)"]
["x5 = 3601. Unit rate 3 p/kWh before rounding (in Tariffs before rounding)"]
["x6 = 3603. Unit rate 3 p/kWh rounding (in Tariff rounding)"]
["x7 = 3601. Fixed charge p/MPAN/day before rounding (in Tariffs before rounding)"]
["x8 = 3603. Fixed charge p/MPAN/day rounding (in Tariff rounding)"]
["x9 = 3601. Capacity charge p/kVA/day before rounding (in Tariffs before rounding)"]
["x10 = 3603. Capacity charge p/kVA/day rounding (in Tariff rounding)"]
["x11 = 3601. Exceeded capacity charge p/kVA/day before rounding (in Tariffs before rounding)"]
["x12 = 3603. Exceeded capacity charge p/kVA/day rounding (in Tariff rounding)"]
["x13 = 3601. Reactive power charge p/kVArh before rounding (in Tariffs before rounding)"]
["x14 = 3603. Reactive power charge p/kVArh rounding (in Tariff rounding)"]
["Kind:","Calculation","Calculation","Calculation","Calculation","Calculation","Calculation","Calculation"]
["Formula:","=x1+x2","=x3+x4","=x5+x6","=x7+x8","=x9+x10","=x11+x12","=x13+x14"]
[]
[null,"Unit rate 1 p/kWh","Unit rate 2 p/kWh","Unit rate 3 p/kWh","Fixed charge p/MPAN/day","Capacity charge p/kVA/day","Exceeded capacity charge p/kVA/day","Reactive power charge p/kVArh"]
["Domestic Unrestricted",{"$f":"B4148+B4207","v":2.33},null,null,{"$f":"E4148+E4207","v":3.32}]
["Domestic Two Rate",2.5939999999999999,{"$f":"C4149+C4208","v":1.0029999999999999},null,{"$f":"E4149+E4208","v":3.32}]
["Domestic Off Peak (related MPAN)",1.419]
["Small Non Domestic Unrestricted",2.395,null,null,{"$f":"E4151+E4210","v":6.72}]
["Small Non Domestic Two Rate",2.4790000000000001,{"$f":"C4152+C4211","v":1.0029999999999999},null,{"$f":"E4152+E4211","v":6.72}]
["Small Non Domestic Off Peak (related MPAN)",1.1830000000000001]
["LV Medium Non-Domestic",2.4220000000000002,0.999,null,{"$f":"E4154+E4213","v":19.03}]
["LV Sub Medium Non-Domestic",2.2599999999999998,0.99299999999999999,null,17.489999999999998]
["HV Medium Non-Domestic",1.542,0.96199999999999997,null,166.54]
["LV Network Domestic",8.6419999999999995,1.732,{"$f":"D4157+D4216","v":0.999},3.32]
["LV Network Non-Domestic Non-CT",9.1359999999999992,1.782,{"$f":"D4158+D4217","v":1.002},6.72]
["LV HH Metered",6.9240000000000004,1.5309999999999999,{"$f":"D4159+D4218","v":0.98599999999999999},9.3800000000000008,2.95,6.53,0.14799999999999999]
["LV Sub HH Metered",5.3339999999999996,1.333,{"$f":"D4160+D4219","v":0.97199999999999998},7.32,3.86,6.16,0.104]
["HV HH Metered",3.6150000000000002,1.139,{"$f":"D4161+D4220","v":0.96},79.06,4.6399999999999997,7.08,5.3999999999999999E-2]
["NHH UMS category A",2.63]
["NHH UMS category B",2.93]
["NHH UMS category C",{"$f":"B4164+B4223","v":4.0259999999999998}]
["NHH UMS category D",2.3319999999999999]
["LV UMS (Pseudo HH Metered)",24.638999999999999,{"$f":"C4166+C4225","v":2.367},{"$f":"D4166+D4225","v":1.7150000000000001}]
["LV Generation NHH or Aggregate HH",-0.71299999999999997,null,null,{"$f":"E4167+E4226","v":0}]
["LV Sub Generation NHH",-0.626,null,null,0]
["LV Generation Intermittent",-0.71299999999999997,null,null,0,null,null,{"$f":"H4169+H4228","v":0.159}]
["LV Generation Intermittent no RP charge",-0.71299999999999997,null,null,0]
["LV Generation Non-Intermittent",-5.7220000000000004,{"$f":"C4171+C4230","v":-0.57999999999999996},{"$f":"D4171+D4230","v":-3.4000000000000002E-2},0,null,null,{"$f":"H4171+H4230","v":0.159}]
["LV Generation Non-Intermittent no RP charge",-5.7220000000000004,{"$f":"C4172+C4231","v":-0.57999999999999996},{"$f":"D4172+D4231","v":-3.4000000000000002E-2},0]
["LV Sub Generation Intermittent",-0.626,null,null,0,null,null,{"$f":"H4173+H4232","v":0.14000000000000001}]
["LV Sub Generation Intermittent no RP charge",-0.626,null,null,0]
["LV Sub Generation Non-Intermittent",-5.0620000000000003,{"$f":"C4175+C4234","v":-0.5},{"$f":"D4175+D4234","v":-2.9000000000000001E-2},0,null,null,{"$f":"H4175+H4234","v":0.14000000000000001}]
["LV Sub Generation Non-Intermittent no RP charge",-5.0620000000000003,{"$f":"C4176+C4235","v":-0.5},{"$f":"D4176+D4235","v":-2.9000000000000001E-2},0]
["HV Generation Intermittent",-0.39100000000000001,null,null,32.5,null,null,{"$f":"H4177+H4236","v":0.11}]
["HV Generation Intermittent no RP charge",-0.39100000000000001,null,null,32.5]
["HV Generation Non-Intermittent",-3.3069999999999999,{"$f":"C4179+C4238","v":-0.27800000000000002},{"$f":"D4179+D4238","v":-1.4E-2},32.5,null,null,{"$f":"H4179+H4238","v":0.11}]
["HV Generation Non-Intermittent no RP charge",-3.3069999999999999,{"$f":"C4180+C4239","v":-0.27800000000000002},{"$f":"D4180+D4239","v":-1.4E-2},32.5]
[]
["3605. Net revenues by tariff from rounding"]
["Data sources:"]
["x1 = 1010. Days in the charging year (in Financial and general assumptions)"]
["x2 = 3603. Fixed charge p/MPAN/day rounding (in Tariff rounding)"]
["x3 = 2305. MPANs (in Equivalent volume for each end user)"]
["x4 = 3603. Capacity charge p/kVA/day rounding (in Tariff rounding)"]
["x5 = 2305. Import capacity (kVA) (in Equivalent volume for each end user)"]
["x6 = 3603. Exceeded capacity charge p/kVA/day rounding (in Tariff rounding)"]
["x7 = 2305. Exceeded capacity (kVA) (in Equivalent volume for each end user)"]
["x8 = 3603. Unit rate 1 p/kWh rounding (in Tariff rounding)"]
["x9 = 2305. Rate 1 units (MWh) (in Equivalent volume for each end user)"]
["x10 = 3603. Unit rate 2 p/kWh rounding (in Tariff rounding)"]
["x11 = 2305. Rate 2 units (MWh) (in Equivalent volume for each end user)"]
["x12 = 3603. Unit rate 3 p/kWh rounding (in Tariff rounding)"]
["x13 = 2305. Rate 3 units (MWh) (in Equivalent volume for each end user)"]
["x14 = 3603. Reactive power charge p/kVArh rounding (in Tariff rounding)"]
["x15 = 2305. Reactive power units (MVArh) (in Equivalent volume for each end user)"]
["Calculation =0.01*x1*(x2*x3+x4*x5+x6*x7)+10*(x8*x9+x10*x11+x12*x13+x14*x15)"]
[]
[null,"Net revenues by tariff from rounding"]
["Domestic Unrestricted",{"$f":"0.01*F$14*($E4207*E1268+$F4207*F1268+$G4207*G1268)+10*($B4207*B1268+$C4207*C1268+$D4207*D1268+$H4207*H1268)","v":-14486.54928918851}]
["Domestic Two Rate",167.80619095584348]
["Domestic Off Peak (related MPAN)",-102.49699457190324]
["Small Non Domestic Unrestricted",3678.4031747961571]
["Small Non Domestic Two Rate",-8227.5366358574574]
["Small Non Domestic Off Peak (related MPAN)",-1.6248817333948848]
["LV Medium Non-Domestic",-65.229833861853692]
["LV Sub Medium Non-Domestic",-5.3798743957736276E-4]
["HV Medium Non-Domestic",-4.8025564895527824]
["LV Network Domestic",9.3391986305441627E-2]
["LV Network Non-Domestic Non-CT",-52.866139184521415]
["LV HH Metered",34489.477854239776]
["LV Sub HH Metered",339.30821477790914]
["HV HH Metered",-62300.090758267055]
["NHH UMS category A",2.6473245119106821]
["NHH UMS category B",45.24377208660156]
["NHH UMS category C",-1.0654351453591269]
["NHH UMS category D",33.508835719335707]
["LV UMS (Pseudo HH Metered)",366.170923827607]
["LV Generation NHH or Aggregate HH",45.621121761476417]
["LV Sub Generation NHH",0]
["LV Generation Intermittent",164.85899902138115]
["LV Generation Intermittent no RP charge",0]
["LV Generation Non-Intermittent",33.435117149991818]
["LV Generation Non-Intermittent no RP charge",0]
["LV Sub Generation Intermittent",4.8519987527450406]
["LV Sub Generation Intermittent no RP charge",0]
["LV Sub Generation Non-Intermittent",-5.3622046289856273]
["LV Sub Generation Non-Intermittent no RP charge",0]
["HV Generation Intermittent",-743.30355271842541]
["HV Generation Intermittent no RP charge",0]
["HV Generation Non-Intermittent",-732.25947629364612]
["HV Generation Non-Intermittent no RP charge",0]
[]
["3606. Revenue forecast summary"]
["Data sources:"]
["x1 = 3402. Total net revenues before matching (£) (in Revenue surplus or shortfall)"]
["x2 = 3507. Net revenues by tariff from adder (in Adder)"]
["x3 = 3605. Net revenues by tariff from rounding"]
["x4 = Total net revenues before matching (£) (in Revenue forecast summary)"]
["x5 = Total net revenues from adder (£) (in Revenue forecast summary)"]
["x6 = Total net revenues from rounding (£) (in Revenue forecast summary)"]
["x7 = Total net revenues (£) (in Revenue forecast summary)"]
["x8 = 1076. Target CDCM net revenue (£/year)"]
["Kind:","Copy cells","Cell summation","Cell summation","Calculation","Calculation"]
["Formula:","=x1","=SUM(x2)","=SUM(x3)","=x4+x5+x6","=x7-x8"]
[]
[null,"Total net revenues before matching (£)","Total net revenues from adder (£)","Total net revenues from rounding (£)","Total net revenues (£)","Deviation from target revenue (£)"]
["Revenue forecast summary",{"$f":"B3830","v":334190391.29125285},{"$f":"SUM(E$4096:E$4128)","v":232770627.61690593},{"$f":"SUM(B$4315:B$4347)","v":-47351.761376341048},{"$f":"B4363+C4363+D4363","v":566913667.1467824},{"$f":"E4363-B343","v":-47351.761376142502}]
[]
["3607. Tariffs"]
["Data sources:"]
["x1 = 3604. Unit rate 1 p/kWh (in All the way tariffs)"]
["x2 = 2304. Discount for each tariff (except for fixed charges) (in LDNO discounts and volumes adjusted for discount)"]
["x3 = 3604. Unit rate 2 p/kWh (in All the way tariffs)"]
["x4 = 3604. Unit rate 3 p/kWh (in All the way tariffs)"]
["x5 = 3604. Fixed charge p/MPAN/day (in All the way tariffs)"]
["x6 = 2304. Discount for each tariff for fixed charges only (in LDNO discounts and volumes adjusted for discount)"]
["x7 = 3604. Capacity charge p/kVA/day (in All the way tariffs)"]
["x8 = 3604. Exceeded capacity charge p/kVA/day (in All the way tariffs)"]
["x9 = 3604. Reactive power charge p/kVArh (in All the way tariffs)"]
["Kind:","Calculation","Calculation","Calculation","Calculation","Calculation","Calculation","Calculation"]
["Formula:","=ROUND(x1*(1-x2),3)","=ROUND(x3*(1-x2),3)","=ROUND(x4*(1-x2),3)","=ROUND(x5*(1-x6),2)","=ROUND(x7*(1-x2),2)","=ROUND(x8*(1-x2),2)","=ROUND(x9*(1-x2),3)"]
[]
[null,"Unit rate 1 p/kWh","Unit rate 2 p/kWh","Unit rate 3 p/kWh","Fixed charge p/MPAN/day","Capacity charge p/kVA/day","Exceeded capacity charge p/kVA/day","Reactive power charge p/kVArh"]
["> Domestic Unrestricted"]
["Domestic Unrestricted",{"$f":"ROUND(B$4261*(1-$B1146),3)","v":2.33},0,0,{"$f":"ROUND(E$4261*(1-$C1146),2)","v":3.32},{"$f":"ROUND(F$4261*(1-$B1146),2)","v":0},0,{"$f":"ROUND(H$4261*(1-$B1146),3)","v":0}]
["LDNO LV: Domestic Unrestricted",1.63,0,0,{"$f":"ROUND(E$4261*(1-$C1147),2)","v":2.3199999999999998},0,0,{"$f":"ROUND(H$4261*(1-$B1147),3)","v":0}]
["LDNO HV: Domestic Unrestricted",1.216,0,0,{"$f":"ROUND(E$4261*(1-$C1148),2)","v":1.73},0,0,{"$f":"ROUND(H$4261*(1-$B1148),3)","v":0}]
["> Domestic Two Rate"]
["Domestic Two Rate",{"$f":"ROUND(B$4262*(1-$B1150),3)","v":2.5939999999999999},1.0029999999999999,0,{"$f":"ROUND(E$4262*(1-$C1150),2)","v":3.32},{"$f":"ROUND(F$4262*(1-$B1150),2)","v":0},0,{"$f":"ROUND(H$4262*(1-$B1150),3)","v":0}]
["LDNO LV: Domestic Two Rate",1.8149999999999999,0.70199999999999996,0,{"$f":"ROUND(E$4262*(1-$C1151),2)","v":2.3199999999999998},0,0,{"$f":"ROUND(H$4262*(1-$B1151),3)","v":0}]
["LDNO HV: Domestic Two Rate",1.3540000000000001,0.52300000000000002,0,{"$f":"ROUND(E$4262*(1-$C1152),2)","v":1.73},0,0,{"$f":"ROUND(H$4262*(1-$B1152),3)","v":0}]
["> Domestic Off Peak (related MPAN)"]
["Domestic Off Peak (related MPAN)",{"$f":"ROUND(B$4263*(1-$B1154),3)","v":1.419},0,0,{"$f":"ROUND(E$4263*(1-$C1154),2)","v":0},{"$f":"ROUND(F$4263*(1-$B1154),2)","v":0},0,{"$f":"ROUND(H$4263*(1-$B1154),3)","v":0}]
["LDNO LV: Domestic Off Peak (related MPAN)",0.99299999999999999,0,0,{"$f":"ROUND(E$4263*(1-$C1155),2)","v":0},0,0,{"$f":"ROUND(H$4263*(1-$B1155),3)","v":0}]
["LDNO HV: Domestic Off Peak (related MPAN)",0.74,0,0,{"$f":"ROUND(E$4263*(1-$C1156),2)","v":0},0,0,{"$f":"ROUND(H$4263*(1-$B1156),3)","v":0}]
["> Small Non Domestic Unrestricted"]
["Small Non Domestic Unrestricted",{"$f":"ROUND(B$4264*(1-$B1158),3)","v":2.395},0,0,{"$f":"ROUND(E$4264*(1-$C1158),2)","v":6.72},{"$f":"ROUND(F$4264*(1-$B1158),2)","v":0},0,{"$f":"ROUND(H$4264*(1-$B1158),3)","v":0}]
["LDNO LV: Small Non Domestic Unrestricted",1.6759999999999999,0,0,{"$f":"ROUND(E$4264*(1-$C1159),2)","v":4.7},0,0,{"$f":"ROUND(H$4264*(1-$B1159),3)","v":0}]
["LDNO HV: Small Non Domestic Unrestricted",1.25,0,0,{"$f":"ROUND(E$4264*(1-$C1160),2)","v":3.51},0,0,{"$f":"ROUND(H$4264*(1-$B1160),3)","v":0}]
["> Small Non Domestic Two Rate"]
["Small Non Domestic Two Rate",{"$f":"ROUND(B$4265*(1-$B1162),3)","v":2.4790000000000001},1.0029999999999999,0,{"$f":"ROUND(E$4265*(1-$C1162),2)","v":6.72},{"$f":"ROUND(F$4265*(1-$B1162),2)","v":0},0,{"$f":"ROUND(H$4265*(1-$B1162),3)","v":0}]
["LDNO LV: Small Non Domestic Two Rate",1.734,0.70199999999999996,0,{"$f":"ROUND(E$4265*(1-$C1163),2)","v":4.7},0,0,{"$f":"ROUND(H$4265*(1-$B1163),3)","v":0}]
["LDNO HV: Small Non Domestic Two Rate",1.294,0.52300000000000002,0,{"$f":"ROUND(E$4265*(1-$C1164),2)","v":3.51},0,0,{"$f":"ROUND(H$4265*(1-$B1164),3)","v":0}]
["> Small Non Domestic Off Peak (related MPAN)"]
["Small Non Domestic Off Peak (related MPAN)",{"$f":"ROUND(B$4266*(1-$B1166),3)","v":1.1830000000000001},0,0,{"$f":"ROUND(E$4266*(1-$C1166),2)","v":0},{"$f":"ROUND(F$4266*(1-$B1166),2)","v":0},0,{"$f":"ROUND(H$4266*(1-$B1166),3)","v":0}]
["LDNO LV: Small Non Domestic Off Peak (related MPAN)",0.82799999999999996,0,0,{"$f":"ROUND(E$4266*(1-$C1167),2)","v":0},0,0,{"$f":"ROUND(H$4266*(1-$B1167),3)","v":0}]
["LDNO HV: Small Non Domestic Off Peak (related MPAN)",0.61699999999999999,0,0,{"$f":"ROUND(E$4266*(1-$C1168),2)","v":0},0,0,{"$f":"ROUND(H$4266*(1-$B1168),3)","v":0}]
["> LV Medium Non-Domestic"]
["LV Medium Non-Domestic",{"$f":"ROUND(B$4267*(1-$B1170),3)","v":2.4220000000000002},0.999,0,{"$f":"ROUND(E$4267*(1-$C1170),2)","v":19.03},{"$f":"ROUND(F$4267*(1-$B1170),2)","v":0},0,{"$f":"ROUND(H$4267*(1-$B1170),3)","v":0}]
["LDNO LV: LV Medium Non-Domestic",1.6950000000000001,0.69899999999999995,0,{"$f":"ROUND(E$4267*(1-$C1171),2)","v":13.31},0,0,{"$f":"ROUND(H$4267*(1-$B1171),3)","v":0}]
["LDNO HV: LV Medium Non-Domestic",1.264,0.52100000000000002,0,{"$f":"ROUND(E$4267*(1-$C1172),2)","v":9.93},0,0,{"$f":"ROUND(H$4267*(1-$B1172),3)","v":0}]
["> LV Sub Medium Non-Domestic"]
["LV Sub Medium Non-Domestic",{"$f":"ROUND(B$4268*(1-$B1174),3)","v":2.2599999999999998},{"$f":"ROUND(C$4268*(1-$B1174),3)","v":0.99299999999999999},{"$f":"ROUND(D$4268*(1-$B1174),3)","v":0},{"$f":"ROUND(E$4268*(1-$C1174),2)","v":17.489999999999998},{"$f":"ROUND(F$4268*(1-$B1174),2)","v":0},{"$f":"ROUND(G$4268*(1-$B1174),2)","v":0},{"$f":"ROUND(H$4268*(1-$B1174),3)","v":0}]
["> HV Medium Non-Domestic"]
["HV Medium Non-Domestic",{"$f":"ROUND(B$4269*(1-$B1176),3)","v":1.542},{"$f":"ROUND(C$4269*(1-$B1176),3)","v":0.96199999999999997},{"$f":"ROUND(D$4269*(1-$B1176),3)","v":0},{"$f":"ROUND(E$4269*(1-$C1176),2)","v":166.54},{"$f":"ROUND(F$4269*(1-$B1176),2)","v":0},{"$f":"ROUND(G$4269*(1-$B1176),2)","v":0},{"$f":"ROUND(H$4269*(1-$B1176),3)","v":0}]
["> LV Network Domestic"]
["LV Network Domestic",{"$f":"ROUND(B$4270*(1-$B1178),3)","v":8.6419999999999995},1.732,0.999,{"$f":"ROUND(E$4270*(1-$C1178),2)","v":3.32},{"$f":"ROUND(F$4270*(1-$B1178),2)","v":0},0,{"$f":"ROUND(H$4270*(1-$B1178),3)","v":0}]
["LDNO LV: LV Network Domestic",6.0460000000000003,1.212,0.69899999999999995,{"$f":"ROUND(E$4270*(1-$C1179),2)","v":2.3199999999999998},0,0,{"$f":"ROUND(H$4270*(1-$B1179),3)","v":0}]
["LDNO HV: LV Network Domestic",4.51,0.90400000000000003,0.52100000000000002,{"$f":"ROUND(E$4270*(1-$C1180),2)","v":1.73},0,0,{"$f":"ROUND(H$4270*(1-$B1180),3)","v":0}]
["> LV Network Non-Domestic Non-CT"]
["LV Network Non-Domestic Non-CT",{"$f":"ROUND(B$4271*(1-$B1182),3)","v":9.1359999999999992},1.782,1.002,{"$f":"ROUND(E$4271*(1-$C1182),2)","v":6.72},{"$f":"ROUND(F$4271*(1-$B1182),2)","v":0},0,{"$f":"ROUND(H$4271*(1-$B1182),3)","v":0}]
["LDNO LV: LV Network Non-Domestic Non-CT",6.3920000000000003,1.2470000000000001,0.70099999999999996,{"$f":"ROUND(E$4271*(1-$C1183),2)","v":4.7},0,0,{"$f":"ROUND(H$4271*(1-$B1183),3)","v":0}]
["LDNO HV: LV Network Non-Domestic Non-CT",4.7670000000000003,0.93,0.52300000000000002,{"$f":"ROUND(E$4271*(1-$C1184),2)","v":3.51},0,0,{"$f":"ROUND(H$4271*(1-$B1184),3)","v":0}]
["> LV HH Metered"]
["LV HH Metered",{"$f":"ROUND(B$4272*(1-$B1186),3)","v":6.9240000000000004},1.5309999999999999,0.98599999999999999,{"$f":"ROUND(E$4272*(1-$C1186),2)","v":9.3800000000000008},{"$f":"ROUND(F$4272*(1-$B1186),2)","v":2.95},6.53,{"$f":"ROUND(H$4272*(1-$B1186),3)","v":0.14799999999999999}]
["LDNO LV: LV HH Metered",4.8440000000000003,1.071,0.69,{"$f":"ROUND(E$4272*(1-$C1187),2)","v":6.56},2.06,4.57,{"$f":"ROUND(H$4272*(1-$B1187),3)","v":0.104}]
["LDNO HV: LV HH Metered",3.613,0.79900000000000004,0.51500000000000001,{"$f":"ROUND(E$4272*(1-$C1188),2)","v":4.8899999999999997},1.54,3.41,{"$f":"ROUND(H$4272*(1-$B1188),3)","v":7.6999999999999999E-2}]
["> LV Sub HH Metered"]
["LV Sub HH Metered",{"$f":"ROUND(B$4273*(1-$B1190),3)","v":5.3339999999999996},1.333,0.97199999999999998,{"$f":"ROUND(E$4273*(1-$C1190),2)","v":7.32},{"$f":"ROUND(F$4273*(1-$B1190),2)","v":3.86},{"$f":"ROUND(G$4273*(1-$B1190),2)","v":6.16},{"$f":"ROUND(H$4273*(1-$B1190),3)","v":0.104}]
["LDNO HV: LV Sub HH Metered",4.0339999999999998,1.008,0.73499999999999999,{"$f":"ROUND(E$4273*(1-$C1191),2)","v":5.54},{"$f":"ROUND(F$4273*(1-$B1191),2)","v":2.92},{"$f":"ROUND(G$4273*(1-$B1191),2)","v":4.66},{"$f":"ROUND(H$4273*(1-$B1191),3)","v":7.9000000000000001E-2}]
["> HV HH Metered"]
["HV HH Metered",{"$f":"ROUND(B$4274*(1-$B1193),3)","v":3.6150000000000002},1.139,0.96,{"$f":"ROUND(E$4274*(1-$C1193),2)","v":79.06},{"$f":"ROUND(F$4274*(1-$B1193),2)","v":4.6399999999999997},{"$f":"ROUND(G$4274*(1-$B1193),2)","v":7.08},{"$f":"ROUND(H$4274*(1-$B1193),3)","v":5.3999999999999999E-2}]
["LDNO HV: HV HH Metered",3.1,0.97699999999999998,0.82299999999999995,{"$f":"ROUND(E$4274*(1-$C1194),2)","v":67.790000000000006},{"$f":"ROUND(F$4274*(1-$B1194),2)","v":3.98},{"$f":"ROUND(G$4274*(1-$B1194),2)","v":6.07},{"$f":"ROUND(H$4274*(1-$B1194),3)","v":4.5999999999999999E-2}]
["> NHH UMS category A"]
["NHH UMS category A",{"$f":"ROUND(B$4275*(1-$B1196),3)","v":2.63},0,0,{"$f":"ROUND(E$4275*(1-$C1196),2)","v":0},{"$f":"ROUND(F$4275*(1-$B1196),2)","v":0},0,{"$f":"ROUND(H$4275*(1-$B1196),3)","v":0}]
["LDNO LV: NHH UMS category A",1.84,0,0,{"$f":"ROUND(E$4275*(1-$C1197),2)","v":0},0,0,{"$f":"ROUND(H$4275*(1-$B1197),3)","v":0}]
["LDNO HV: NHH UMS category A",1.3720000000000001,0,0,{"$f":"ROUND(E$4275*(1-$C1198),2)","v":0},0,0,{"$f":"ROUND(H$4275*(1-$B1198),3)","v":0}]
["> NHH UMS category B"]
["NHH UMS category B",{"$f":"ROUND(B$4276*(1-$B1200),3)","v":2.93},0,0,{"$f":"ROUND(E$4276*(1-$C1200),2)","v":0},{"$f":"ROUND(F$4276*(1-$B1200),2)","v":0},0,{"$f":"ROUND(H$4276*(1-$B1200),3)","v":0}]
["LDNO LV: NHH UMS category B",2.0499999999999998,0,0,{"$f":"ROUND(E$4276*(1-$C1201),2)","v":0},0,0,{"$f":"ROUND(H$4276*(1-$B1201),3)","v":0}]
["LDNO HV: NHH UMS category B",1.5289999999999999,0,0,{"$f":"ROUND(E$4276*(1-$C1202),2)","v":0},0,0,{"$f":"ROUND(H$4276*(1-$B1202),3)","v":0}]
["> NHH UMS category C"]
["NHH UMS category C",{"$f":"ROUND(B$4277*(1-$B1204),3)","v":4.0259999999999998},0,0,{"$f":"ROUND(E$4277*(1-$C1204),2)","v":0},{"$f":"ROUND(F$4277*(1-$B1204),2)","v":0},0,{"$f":"ROUND(H$4277*(1-$B1204),3)","v":0}]
["LDNO LV: NHH UMS category C",2.8170000000000002,0,0,{"$f":"ROUND(E$4277*(1-$C1205),2)","v":0},0,0,{"$f":"ROUND(H$4277*(1-$B1205),3)","v":0}]
["LDNO HV: NHH UMS category C",2.101,0,0,{"$f":"ROUND(E$4277*(1-$C1206),2)","v":0},0,0,{"$f":"ROUND(H$4277*(1-$B1206),3)","v":0}]
["> NHH UMS category D"]
["NHH UMS category D",{"$f":"ROUND(B$4278*(1-$B1208),3)","v":2.3319999999999999},0,0,{"$f":"ROUND(E$4278*(1-$C1208),2)","v":0},{"$f":"ROUND(F$4278*(1-$B1208),2)","v":0},0,{"$f":"ROUND(H$4278*(1-$B1208),3)","v":0}]
["LDNO LV: NHH UMS category D",1.6319999999999999,0,0,{"$f":"ROUND(E$4278*(1-$C1209),2)","v":0},0,0,{"$f":"ROUND(H$4278*(1-$B1209),3)","v":0}]
["LDNO HV: NHH UMS category D",1.2170000000000001,0,0,{"$f":"ROUND(E$4278*(1-$C1210),2)","v":0},0,0,{"$f":"ROUND(H$4278*(1-$B1210),3)","v":0}]
["> LV UMS (Pseudo HH Metered)"]
["LV UMS (Pseudo HH Metered)",{"$f":"ROUND(B$4279*(1-$B1212),3)","v":24.638999999999999},2.367,1.7150000000000001,{"$f":"ROUND(E$4279*(1-$C1212),2)","v":0},{"$f":"ROUND(F$4279*(1-$B1212),2)","v":0},0,{"$f":"ROUND(H$4279*(1-$B1212),3)","v":0}]
["LDNO LV: LV UMS (Pseudo HH Metered)",17.239000000000001,1.6559999999999999,1.2,{"$f":"ROUND(E$4279*(1-$C1213),2)","v":0},0,0,{"$f":"ROUND(H$4279*(1-$B1213),3)","v":0}]
["LDNO HV: LV UMS (Pseudo HH Metered)",12.856999999999999,1.2350000000000001,0.89500000000000002,{"$f":"ROUND(E$4279*(1-$C1214),2)","v":0},0,0,{"$f":"ROUND(H$4279*(1-$B1214),3)","v":0}]
["> LV Generation NHH or Aggregate HH"]
["LV Generation NHH or Aggregate HH",{"$f":"ROUND(B$4280*(1-$B1216),3)","v":-0.71299999999999997},0,0,{"$f":"ROUND(E$4280*(1-$C1216),2)","v":0},{"$f":"ROUND(F$4280*(1-$B1216),2)","v":0},0,{"$f":"ROUND(H$4280*(1-$B1216),3)","v":0}]
["LDNO LV: LV Generation NHH or Aggregate HH",-0.71299999999999997,0,0,{"$f":"ROUND(E$4280*(1-$C1217),2)","v":0},0,0,{"$f":"ROUND(H$4280*(1-$B1217),3)","v":0}]
["LDNO HV: LV Generation NHH or Aggregate HH",-0.71299999999999997,0,0,{"$f":"ROUND(E$4280*(1-$C1218),2)","v":0},0,0,{"$f":"ROUND(H$4280*(1-$B1218),3)","v":0}]
["> LV Sub Generation NHH"]
["LV Sub Generation NHH",{"$f":"ROUND(B$4281*(1-$B1220),3)","v":-0.626},0,0,{"$f":"ROUND(E$4281*(1-$C1220),2)","v":0},{"$f":"ROUND(F$4281*(1-$B1220),2)","v":0},{"$f":"ROUND(G$4281*(1-$B1220),2)","v":0},{"$f":"ROUND(H$4281*(1-$B1220),3)","v":0}]
["LDNO HV: LV Sub Generation NHH",-0.626,0,0,{"$f":"ROUND(E$4281*(1-$C1221),2)","v":0},{"$f":"ROUND(F$4281*(1-$B1221),2)","v":0},{"$f":"ROUND(G$4281*(1-$B1221),2)","v":0},{"$f":"ROUND(H$4281*(1-$B1221),3)","v":0}]
["> LV Generation Intermittent"]
["LV Generation Intermittent",{"$f":"ROUND(B$4282*(1-$B1223),3)","v":-0.71299999999999997},0,0,{"$f":"ROUND(E$4282*(1-$C1223),2)","v":0},{"$f":"ROUND(F$4282*(1-$B1223),2)","v":0},0,{"$f":"ROUND(H$4282*(1-$B1223),3)","v":0.159}]
["LDNO LV: LV Generation Intermittent",-0.71299999999999997,0,0,{"$f":"ROUND(E$4282*(1-$C1224),2)","v":0},0,0,{"$f":"ROUND(H$4282*(1-$B1224),3)","v":0.159}]
["LDNO HV: LV Generation Intermittent",-0.71299999999999997,0,0,{"$f":"ROUND(E$4282*(1-$C1225),2)","v":0},0,0,{"$f":"ROUND(H$4282*(1-$B1225),3)","v":0.159}]
["> LV Generation Intermittent no RP charge"]
["LV Generation Intermittent no RP charge",{"$f":"ROUND(B$4283*(1-$B1227),3)","v":-0.71299999999999997},{"$f":"ROUND(C$4283*(1-$B1227),3)","v":0},{"$f":"ROUND(D$4283*(1-$B1227),3)","v":0},{"$f":"ROUND(E$4283*(1-$C1227),2)","v":0},{"$f":"ROUND(F$4283*(1-$B1227),2)","v":0},{"$f":"ROUND(G$4283*(1-$B1227),2)","v":0},{"$f":"ROUND(H$4283*(1-$B1227),3)","v":0}]
["> LV Generation Non-Intermittent"]
["LV Generation Non-Intermittent",{"$f":"ROUND(B$4284*(1-$B1229),3)","v":-5.7220000000000004},-0.57999999999999996,-3.4000000000000002E-2,{"$f":"ROUND(E$4284*(1-$C1229),2)","v":0},{"$f":"ROUND(F$4284*(1-$B1229),2)","v":0},0,{"$f":"ROUND(H$4284*(1-$B1229),3)","v":0.159}]
["LDNO LV: LV Generation Non-Intermittent",-5.7220000000000004,-0.57999999999999996,-3.4000000000000002E-2,{"$f":"ROUND(E$4284*(1-$C1230),2)","v":0},0,0,{"$f":"ROUND(H$4284*(1-$B1230),3)","v":0.159}]
["LDNO HV: LV Generation Non-Intermittent",-5.7220000000000004,-0.57999999999999996,-3.4000000000000002E-2,{"$f":"ROUND(E$4284*(1-$C1231),2)","v":0},0,0,{"$f":"ROUND(H$4284*(1-$B1231),3)","v":0.159}]
["> LV Generation Non-Intermittent no RP charge"]
["LV Generation Non-Intermittent no RP charge",{"$f":"ROUND(B$4285*(1-$B1233),3)","v":-5.7220000000000004},{"$f":"ROUND(C$4285*(1-$B1233),3)","v":-0.57999999999999996},{"$f":"ROUND(D$4285*(1-$B1233),3)","v":-3.4000000000000002E-2},{"$f":"ROUND(E$4285*(1-$C1233),2)","v":0},{"$f":"ROUND(F$4285*(1-$B1233),2)","v":0},{"$f":"ROUND(G$4285*(1-$B1233),2)","v":0},{"$f":"ROUND(H$4285*(1-$B1233),3)","v":0}]
["> LV Sub Generation Intermittent"]
["LV Sub Generation Intermittent",{"$f":"ROUND(B$4286*(1-$B1235),3)","v":-0.626},0,0,{"$f":"ROUND(E$4286*(1-$C1235),2)","v":0},{"$f":"ROUND(F$4286*(1-$B1235),2)","v":0},{"$f":"ROUND(G$4286*(1-$B1235),2)","v":0},{"$f":"ROUND(H$4286*(1-$B1235),3)","v":0.14000000000000001}]
["LDNO HV: LV Sub Generation Intermittent",-0.626,0,0,{"$f":"ROUND(E$4286*(1-$C1236),2)","v":0},{"$f":"ROUND(F$4286*(1-$B1236),2)","v":0},{"$f":"ROUND(G$4286*(1-$B1236),2)","v":0},{"$f":"ROUND(H$4286*(1-$B1236),3)","v":0.14000000000000001}]
["> LV Sub Generation Intermittent no RP charge"]
["LV Sub Generation Intermittent no RP charge",{"$f":"ROUND(B$4287*(1-$B1238),3)","v":-0.626},{"$f":"ROUND(C$4287*(1-$B1238),3)","v":0},{"$f":"ROUND(D$4287*(1-$B1238),3)","v":0},{"$f":"ROUND(E$4287*(1-$C1238),2)","v":0},{"$f":"ROUND(F$4287*(1-$B1238),2)","v":0},{"$f":"ROUND(G$4287*(1-$B1238),2)","v":0},{"$f":"ROUND(H$4287*(1-$B1238),3)","v":0}]
["> LV Sub Generation Non-Intermittent"]
["LV Sub Generation Non-Intermittent",{"$f":"ROUND(B$4288*(1-$B1240),3)","v":-5.0620000000000003},-0.5,-2.9000000000000001E-2,{"$f":"ROUND(E$4288*(1-$C1240),2)","v":0},{"$f":"ROUND(F$4288*(1-$B1240),2)","v":0},{"$f":"ROUND(G$4288*(1-$B1240),2)","v":0},{"$f":"ROUND(H$4288*(1-$B1240),3)","v":0.14000000000000001}]
["LDNO HV: LV Sub Generation Non-Intermittent",-5.0620000000000003,-0.5,-2.9000000000000001E-2,{"$f":"ROUND(E$4288*(1-$C1241),2)","v":0},{"$f":"ROUND(F$4288*(1-$B1241),2)","v":0},{"$f":"ROUND(G$4288*(1-$B1241),2)","v":0},{"$f":"ROUND(H$4288*(1-$B1241),3)","v":0.14000000000000001}]
["> LV Sub Generation Non-Intermittent no RP charge"]
["LV Sub Generation Non-Intermittent no RP charge",{"$f":"ROUND(B$4289*(1-$B1243),3)","v":-5.0620000000000003},{"$f":"ROUND(C$4289*(1-$B1243),3)","v":-0.5},{"$f":"ROUND(D$4289*(1-$B1243),3)","v":-2.9000000000000001E-2},{"$f":"ROUND(E$4289*(1-$C1243),2)","v":0},{"$f":"ROUND(F$4289*(1-$B1243),2)","v":0},{"$f":"ROUND(G$4289*(1-$B1243),2)","v":0},{"$f":"ROUND(H$4289*(1-$B1243),3)","v":0}]
["> HV Generation Intermittent"]
["HV Generation Intermittent",{"$f":"ROUND(B$4290*(1-$B1245),3)","v":-0.39100000000000001},0,0,{"$f":"ROUND(E$4290*(1-$C1245),2)","v":32.5},{"$f":"ROUND(F$4290*(1-$B1245),2)","v":0},{"$f":"ROUND(G$4290*(1-$B1245),2)","v":0},{"$f":"ROUND(H$4290*(1-$B1245),3)","v":0.11}]
["LDNO HV: HV Generation Intermittent",-0.39100000000000001,0,0,{"$f":"ROUND(E$4290*(1-$C1246),2)","v":0},{"$f":"ROUND(F$4290*(1-$B1246),2)","v":0},{"$f":"ROUND(G$4290*(1-$B1246),2)","v":0},{"$f":"ROUND(H$4290*(1-$B1246),3)","v":0.11}]
["> HV Generation Intermittent no RP charge"]
["HV Generation Intermittent no RP charge",{"$f":"ROUND(B$4291*(1-$B1248),3)","v":-0.39100000000000001},{"$f":"ROUND(C$4291*(1-$B1248),3)","v":0},{"$f":"ROUND(D$4291*(1-$B1248),3)","v":0},{"$f":"ROUND(E$4291*(1-$C1248),2)","v":32.5},{"$f":"ROUND(F$4291*(1-$B1248),2)","v":0},{"$f":"ROUND(G$4291*(1-$B1248),2)","v":0},{"$f":"ROUND(H$4291*(1-$B1248),3)","v":0}]
["> HV Generation Non-Intermittent"]
["HV Generation Non-Intermittent",{"$f":"ROUND(B$4292*(1-$B1250),3)","v":-3.3069999999999999},-0.27800000000000002,-1.4E-2,{"$f":"ROUND(E$4292*(1-$C1250),2)","v":32.5},{"$f":"ROUND(F$4292*(1-$B1250),2)","v":0},{"$f":"ROUND(G$4292*(1-$B1250),2)","v":0},{"$f":"ROUND(H$4292*(1-$B1250),3)","v":0.11}]
["LDNO HV: HV Generation Non-Intermittent",-3.3069999999999999,-0.27800000000000002,-1.4E-2,{"$f":"ROUND(E$4292*(1-$C1251),2)","v":0},{"$f":"ROUND(F$4292*(1-$B1251),2)","v":0},{"$f":"ROUND(G$4292*(1-$B1251),2)","v":0},{"$f":"ROUND(H$4292*(1-$B1251),3)","v":0.11}]
["> HV Generation Non-Intermittent no RP charge"]
["HV Generation Non-Intermittent no RP charge",{"$f":"ROUND(B$4293*(1-$B1253),3)","v":-3.3069999999999999},{"$f":"ROUND(C$4293*(1-$B1253),3)","v":-0.27800000000000002},{"$f":"ROUND(D$4293*(1-$B1253),3)","v":-1.4E-2},{"$f":"ROUND(E$4293*(1-$C1253),2)","v":32.5},{"$f":"ROUND(F$4293*(1-$B1253),2)","v":0},{"$f":"ROUND(G$4293*(1-$B1253),2)","v":0},{"$f":"ROUND(H$4293*(1-$B1253),3)","v":0}]
[]
["Technical model rules and version control"]
["---"]
["PerlModule: CDCM"]
["agghhequalisation: rag"]
["alwaysUseRAG: 1"]
["blackPeakingProbabilityRequired: 1"]
["coincidenceAdj: groupums"]
["colour: orange"]
["compact: 1"]
["drm: top500gsp"]
["extraLevels: 1"]
["fixedCap: 1-4"]
["matrices: ''"]
["noReplacement: blanket"]
["pcd: 1"]
["portfolio: 1"]
["protect: 1"]
["revisionText: r7415"]
["scaler: adderppugeneralminzeronogen"]
["standing: sub132"]
["summary: arp"]
["targetRevenue: single"]
["tariffs: commongensubdcp130dcp163pc12hhpc34hhgennoreact"]
["template: '%-model228+'"]
["timeOfDay: timeOfDay179"]
["unauth: dayotex"]
["validation: lenientnomsg"]
["'~codeValidation':"]
["  CDCM/AML.pm: 456e00943a159e7b87cf01c5c4710e6a140ca47c"]
["  CDCM/Aggregation.pm: 372b53e6dba1fe9433020bbd13328009851a036a"]
["  CDCM/Contributions.pm: 27ad354dcefbc9a811f3db79dc8efe0f1833e5f3"]
["  CDCM/Discounts.pm: a7364da2114ba741a77c0d6cb86d8234e52f9f27"]
["  CDCM/Loads.pm: 8318fd13017faf9e8cc117bc2b5f75e978e6365b"]
["  CDCM/Master.pm: b888dfe95c5c84cdb82428a1727d2a974bc5a157"]
["  CDCM/Matching.pm: 01f6510e0d600acd5eaf457dc0ce7510a9e57a57"]
["  CDCM/NetworkSizer.pm: 50def4231b67757f2bd222cc1579fa342876afd0"]
["  CDCM/Operating.pm: c8ee43d2a1898e7c0e12aa50754522a86c4077c3"]
["  CDCM/Reactive.pm: e2318e6ee9559bf7cd3cfcfff58c399eb12c866a"]
["  CDCM/Revenue.pm: 6c445ed34c255f9ddc0b221c97478f1622f96850"]
["  CDCM/Routeing.pm: 9b718b597245d1b0721d2c7a64c50c2a706295b5"]
["  CDCM/SML.pm: aac911646d7138ef11303d19e73c7fb180fadeeb"]
["  CDCM/ServiceModels.pm: 962bc7cb35ba1dba1d76a82ebf31da562bb15636"]
["  CDCM/Setup.pm: fa9ab9e9febf3f6681cdfa8c05e2700627cf0251"]
["  CDCM/Sheets.pm: 9fd822bebed6e0c93722fe67a01c586d855391af"]
["  CDCM/Standing.pm: 0677863cc8c69940e82611a34f6a4cf6e6c938f6"]
["  CDCM/Summary.pm: 591dbcc9c325ebe7d3bb65b6fdd6fdc8c2b0d03b"]
["  CDCM/TariffList.pm: 64ad6df9569e545ee8cb15b755bb503f11a8d027"]
["  CDCM/Tariffs.pm: 76356ecc3a24bb7e0d1b998ff54ed84d4c66815d"]
["  CDCM/TimeOfDay179.pm: bcfbb0b849f3d51df08034f15d98c106a1026464"]
["  CDCM/Yardsticks.pm: 14fa4ca8c5e1b83888203f2a0a27b027b0e1be67"]
["  SpreadsheetModel/Arithmetic.pm: b1367f0a9de6b5af11373f288c79c34dcf1cd6d7"]
["  SpreadsheetModel/Book/FrontSheet.pm: 46ce018576f7ecdfeeb07df5d5468405cb06839c"]
["  SpreadsheetModel/Book/Manufacturing.pm: c9328f8ce467db0f50b8d1d3b6064a439a158536"]
["  SpreadsheetModel/Book/Validation.pm: ed2ab0782db26c535a153fdc187c4ac85d37bf0b"]
["  SpreadsheetModel/Book/WorkbookCreate.pm: a02f9620ecfc3c847594ec6a7f5d50a9a30b2168"]
["  SpreadsheetModel/Book/WorkbookFormats.pm: b659dd128e9de6350e6f389cbe5ac3c7e01ff09d"]
["  SpreadsheetModel/Columnset.pm: 672a86ec91518b1756e619af3caf5fd13a83fe72"]
["  SpreadsheetModel/Custom.pm: 64258a1a23160d1b05311a838e34f4078f7516be"]
["  SpreadsheetModel/Dataset.pm: 0d4dd59d0e133cd7ac0d1f5f60d67b42da63633e"]
["  SpreadsheetModel/FormatLegend.pm: 6542b2c1f994e4aa10f155c435cabafa7a9f5778"]
["  SpreadsheetModel/GroupBy.pm: a05f4878f468a3191257c58c4711fc115bde7e7d"]
["  SpreadsheetModel/Label.pm: 053d8801da63a168d467ae3cf12c6c32325befe3"]
["  SpreadsheetModel/Labelset.pm: 9869da1561c537b93ee2cbbfe04c5047c6144169"]
["  SpreadsheetModel/Logger.pm: 833fe1cc3c01cd760064f51dd812b9db75a8b221"]
["  SpreadsheetModel/Notes.pm: deac2cc524c26b5965f89ee6ab62979a9443d683"]
["  SpreadsheetModel/Object.pm: ad87af5906c5d614f2ee9535b691ad91f03c7c38"]
["  SpreadsheetModel/Reshape.pm: 44d60329c15bdfdf839a71781406c921808898b4"]
["  SpreadsheetModel/SegmentRoot.pm: b9c3f399e76a3369cc6271bc475efeffbc75e604"]
["  SpreadsheetModel/Shortcuts.pm: 862755d9f7270e4db643182f2a94f4d19dff749b"]
["  SpreadsheetModel/Stack.pm: 05a927d320fe0b49a01b5d253723cf04175915ac"]
["  SpreadsheetModel/SumProduct.pm: c5a66046bc650db92cb5b588c8b0b207eb91f4d4"]
["'~datasetName': Blank"]
["'~datasetSource': Empty dataset"]
[]
["Generated on Sun 20 Nov 2016 12:50:10 by www.dcmf.co.uk"]