{"text_format":"1","workbook":"xlsx","n_sheets":42,"sheets":["Overview","ARP Versions","Commentary","CDCM Forecast Data","Smoothed Input Details","Mat of App","CDCM Volume Forecasts","CDCM Timebands","Vlookup","(Y)","(Y+1)","(Y+2)","(Y+3)","(Y+4)","Tariffs","Typical Bill","Index Page","CDCM Revenues","Input","Tariffs (2)","Summary","M-ATW","M-Rev","LAFs","DRM","SM","Loads","Multi","SMD","AMD","Otex","Contrib","Yard","Standing","NHH","Reactive","Aggreg","Revenue","Scaler","Adjust","CData","CTables"],"not_rendered":{"charts":0,"images":0,"macros":1,"external_links":2,"defined_names":25,"comments":2,"pivot_tables":0},"unopened":[],"bounds":{"document_bytes":16777216,"sheet_cells":100000,"rows_first":2000,"rows_last":500,"rows_between":2000,"halvings":0,"cell_chars":16384,"cell_head_chars":4096},"cells_cut":0,"cells_raw":0,"read":"whole","date_system":"1900"}

{"sheet":"Overview","index":0,"n_rows":26,"n_cols":7,"rows_kept":26,"cut":false,"hidden":false,"merged":[[17,1,17,3],[24,1,24,3],[25,1,25,3],[18,1,18,3],[19,1,19,3],[20,1,20,3],[21,1,21,3],[22,1,22,3],[23,1,23,3],[6,0,9,3],[13,1,13,3],[14,1,14,3],[15,1,15,3],[16,1,16,3]]}
[]
["CDCM Annual Review Pack",null,null,null,null,null,"Colour coding"]
[null,null,null,null,null,null,"Data input"]
["Company:",{"$f":"'CDCM Forecast Data'!F3","v":"WPD Mid West"},null,null,null,null,"Void cell in input data table"]
["Date of Issue:",{"$f":"'CDCM Forecast Data'!F4","v":"2012-12-21"},null,null,null,null,"Calculation"]
[null,null,null,null,null,null,"Copy data"]
[{"$f":" \"Although every effort has been made to ensure the accuracy of the information provided in this annual review pack, \" & 'CDCM Forecast Data'!F3 & \" does not accept any liability for the accuracy of the information contained herein and, in particular, \" & 'CDCM Forecast Data'!F3 & \" or any of its employees, shall not be held liable for any misstatement or opinion on which the recipient of this statement relies or seeks to rely.\"","v":"Although every effort has been made to ensure the accuracy of the information provided in this annual review pack, WPD Mid West does not accept any liability for the accuracy of the information contained herein and, in particular, WPD Mid West or any of its employees, shall not be held liable for any misstatement or opinion on which the recipient of this statement relies or seeks to rely."},null,null,null,null,null,"Void cell in calculation table"]
[null,null,null,null,null,null,"Space for user notes"]
[]
[]
[]
["Contents:"]
[]
["Sheet Name","Detail"]
["Commentary","This sheet contains the DNO's commentary on the forecast input CDCM data for the forecast over the 5 year period."]
["CDCM Forecast Data","This sheet contains historical and forecast data for all CDCM inputs except for volume data (table 1053) and matrix of applicability data (table 1025 - 1028).\nThe RPI forecast is seperated out and listed as a standalone assumption.  Any forecasts that relate to RPI will be linked to this row.\nComments are provided alongside each forecast explaining any assumptions made by the DNO."]
["Mat of App","This sheet contains the forecast CDCM matrix of applicability data (table 1025 - 1028).  The default value is that the same matrix will be used for each of the five years."]
["CDCM Volume Forecasts","This sheet contains forecast CDCM volume data (table 1053).  The matrix at the top can be used to apply different growth rates to groups of customers."]
["CDCM Timebands","Contains the time bands that the DNO plans to use for the coming year and advance warning of any changes."]
["CDCM Input Sheet (Y)","This sheet contains the CDCM input sheet for base year 0 (Y) in a format that can be copy and pasted (paste-value) into the CDCM spreadsheet model."]
["CDCM Input Sheet (Y + 1)","This sheet contains the CDCM input sheet for base year +1 (Y+1) in a format that can be copy and pasted (paste-value) into the CDCM spreadsheet model."]
["CDCM Input Sheet (Y + 2)","This sheet contains the CDCM input sheet for base year +2 (Y+2) in a format that can be copy and pasted (paste-value) into the CDCM spreadsheet model."]
["CDCM Input Sheet (Y + 3)","This sheet contains the CDCM input sheet for base year +3 (Y+3) in a format that can be copy and pasted (paste-value) into the CDCM spreadsheet model."]
["CDCM Input Sheet (Y + 4)","This sheet contains the CDCM input sheet for base year +4 (Y+4) in a format that can be copy and pasted (paste-value) into the CDCM spreadsheet model."]
["Tariffs","This sheet contains the CDCM tariffs that are produced from the CDCM input data, after the Macro on this sheet has been run.  It contains the tariffs for each of the 5 years."]
["DNO Checklist","This sheet contains a checklist for the DNOs to ensure all items have been updated when producing the Annual review Pack."]

{"sheet":"ARP Versions","index":1,"n_rows":10,"n_cols":7,"rows_kept":10,"cut":false,"hidden":true,"merged":[]}
[]
[]
[null,"CDCM Annual Review Pack AdatVersions"]
[]
[null,"ARP Version Ref",null,"ARP Adatptation Number",null,null,"Description"]
[]
[null,100,null,100,null,null,"Initial Model for 2011 to 2012"]
[null,100,null,100,null,null,"Model Used for 2012 to 2013"]
[null,101,null,101,null,null,"Model Used for 2013 to 2014"]
[null,101,null,102,null,null,"Adapted to comply with DCP130 and DCP132"]

{"sheet":"Commentary","index":2,"n_rows":3,"n_cols":2,"rows_kept":3,"cut":false,"hidden":false,"merged":[]}
[]
[]
[null,{"$f":"'CDCM Forecast Data'!F3","v":"WPD Mid West"}]

{"sheet":"CDCM Forecast Data","index":3,"n_rows":270,"n_cols":11,"rows_kept":270,"cut":false,"hidden":false,"merged":[[2,5,2,6],[3,5,3,6],[4,5,4,6],[8,3,8,4],[8,6,8,9]]}
[]
[]
[null,null,null,null,"Company:","WPD Mid West"]
[null,null,null,null,"Date of Issue:","2012-12-21"]
[null,null,null,null,"Status","April 2013'"]
[]
[]
[]
[null,null,null,"Historical CDCM Input Data (Actuals)",null,{"$f":"\"CDCM Values - \"&F5","v":"CDCM Values - April 2013'"},"Forecast CDCM Values"]
[null,null,"Year Ref ->","Y-2","Y-1","Y","Y+1","Y+2","Y+3","Y+4"]
[null,null,"Charging Year ->","2011/12","2012/13","2013/14","2014/15","2015/16","2016/17","2017/18"]
[null,null,"DPCR ->","DPCR5","DPCR5","DPCR5","DPCR5","RIIO - ED1","RIIO - ED1","RIIO - ED1","Assumptions"]
[null,null,"RPI Forecast:",null,null,null,2.1700000000000001E-2,0.02,0.02,0.02]
[null,1,"1000 Company name, charging year and model version"]
[null,{"$f":"+B14+1","v":2},"Company","WPD Mid West","WPD Mid West","WPD Mid West","WPD Mid West","WPD Mid West","WPD Mid West","WPD Mid West"]
[null,{"$f":"+B15+1","v":3},"Year",{"$f":" \"April \" & LEFT(D11,4)","v":"April 2011"},"April 2012","April 2013","April 2014","April 2015","April 2016","April 2017"]
[null,4,"Version"]
[null,5,"1010 Financial and general assumptions"]
[null,6,"Rate of return",null,null,5.6000000000000001E-2,5.6000000000000001E-2,5.6000000000000001E-2,5.6000000000000001E-2,5.6000000000000001E-2]
[null,7,"Annualisation period (years)",null,null,40,40,40,40,40]
[null,8,"Power factor",null,null,0.95,0.95,0.95,0.95,0.95]
[null,9,"Days in the charging period",null,null,365,365,366,365,365]
[null,10,"1017 Diversity allowance between top and bottom of network level"]
[null,11,"GSPs",null,null,5.649040831841079E-2,{"$f":"F24","v":5.649040831841079E-2},{"$f":"G24","v":5.649040831841079E-2},5.649040831841079E-2,5.649040831841079E-2]
[null,12,"132kV",null,null,2.5568682496299511E-2,{"$f":"F25","v":2.5568682496299511E-2},2.5568682496299511E-2,2.5568682496299511E-2,2.5568682496299511E-2]
[null,13,"EHV",null,null,2.6631596666738533E-2,2.6631596666738533E-2,2.6631596666738533E-2,2.6631596666738533E-2,2.6631596666738533E-2]
[null,14,"HV",null,null,0.34000000000000008,0.34000000000000008,0.34000000000000008,0.34000000000000008,0.34000000000000008]
[null,15,"1018 Proportion of relevant load going through 132kV/HV direct transformation",null,null,0.69256562916818787,0.69256562916818787,0.69256562916818787,0.69256562916818787,0.69256562916818787]
[null,16,"1019 Network model GSP demand (MW)",null,null,500,500,500,500,500]
[null,17,"1020 Gross asset cost by network level (£)"]
[null,18,"132kV",null,null,99354441.132197261,69289826,{"$f":"G31*(1+H$13)","v":70675622.519999996},{"$f":"H31*(1+I$13)","v":72089134.970399991},{"$f":"I31*(1+J$13)","v":73530917.669807985}]
[null,19,"132kV/EHV",null,null,12895932.20975136,10805721,{"$f":"G32*(1+H$13)","v":11021835.42},11242272.1284,11467117.570968]
[null,20,"EHV",null,null,10494134.812901108,12445869,12694786.380000001,12948682.107600002,13207655.749752002]
[null,21,"EHV/HV",null,null,23710501.152066965,21265349,21690655.98,22124469.099600002,22566958.481592003]
[null,22,"132kV/HV",null,null,26797550.101660803,19659026,20052206.52,20453250.650400002,20862315.663408004]
[null,23,"HV",null,null,117191230.96022525,108538973,110709752.46000001,112923947.50920001,115182426.45938401]
[null,24,"HV/LV",null,null,81325177.95940876,68061984,69423223.680000007,70811688.153600007,72227921.916672006]
[null,25,"LV circuits",null,null,103958997.43702337,94672478,96565927.560000002,98497246.111200005,100467191.033424]
[null,26,"1022 LV service model asset cost (£)"]
[null,27,"LV service model 1",null,null,9660.0669025378793,4689.7766890000003,{"$f":"IF(OR($F40 = 0,$F40=\"\")=FALSE,G40*(1+H$13),\"-\")","v":4783.5722227800006},4879.2436672356007,4976.8285405803126]
[null,28,"LV service model 2",null,null,715.29945060828743,578.94375074999994,590.52262576499993,602.3330782802999,614.37973984590587]
[null,29,"LV service model 3",null,null,1687.308347813628,683.87489499999992,697.55239289999997,711.50344075800001,725.73350957316006]
[null,30,"LV service model 4",null,null,1687.308347813628,509.4741106666666,519.6635928799999,530.05686473759988,540.65800203235187]
[null,31,"LV service model 5",null,null,1687.308347813628,1169.0366324666666,1192.4173651159999,1216.2657124183199,1240.5910266666863]
[null,32,"LV service model 6",null,null,186.56329482000001,858.60347475000015,875.77554424500022,893.2910551299002,911.15687623249823]
[null,33,"LV service model 7",null,null,0,0,{"$f":"IF(OR($F46 = 0,$F46=\"\")=FALSE,G46*(1+H$13),\"-\")","v":"-"},{"$f":"IF(OR($F46 = 0,$F46=\"\")=FALSE,H46*(1+I$13),\"-\")","v":"-"},"-"]
[null,34,"LV service model 8",null,null,0,450.31427500000001,{"$f":"G47*(1+H13)","v":459.3205605},{"$f":"H47*(1+I13)","v":468.50697171000002},477.8771111442]
[null,35,"1023 HV service model asset cost (£)"]
[null,36,"HV service model 1",null,null,16967.549244568934,8748.3777690000006,8562.57,{"$f":"IF(OR($F49 = 0,$F49=\"\")=FALSE,H49*(1+I$13),\"-\")","v":8733.8214000000007},8908.4978280000014]
[null,37,"HV service model 2",null,null,16967.549244568934,4299.3136000000004,4208,4292.16,4378.0032000000001]
[null,38,"HV service model 3",null,null,2913.0498386640002,0,0,0,0]
[null,39,"HV service model 4",null,null,0,"-","-","-","-"]
[null,40,"HV service model 5",null,null,0,"-","-","-","-"]
[null,41,"1025 Matrix of applicability of LV service models to tariffs with fixed charges"]
[null,42,"1026 Matrix of applicability of LV service models to unmetered tariffs"]
[null,43,"1028 Matrix of applicability of HV service models to tariffs with fixed charges"]
[null,44,"1032 Loss adjustment factors to transmission"]
[null,45,"132kV",null,null,1.002,{"$f":"F58","v":1.002},{"$f":"G58","v":1.002},1.002,1.002]
[null,46,"132kV/EHV",null,null,1.0029999999999999,{"$f":"F59","v":1.0029999999999999},1.0029999999999999,1.0029999999999999,1.0029999999999999]
[null,47,"EHV",null,null,1.006,1.006,1.006,1.006,1.006]
[null,48,"EHV/HV",null,null,1.0269999999999999,1.0269999999999999,1.0269999999999999,1.0269999999999999,1.0269999999999999]
[null,49,"HV",null,null,1.044,1.044,1.044,1.044,1.044]
[null,50,"HV/LV",null,null,1.0509999999999999,1.0509999999999999,1.0509999999999999,1.0509999999999999,1.0509999999999999]
[null,51,"LV circuits",null,null,1.077,1.077,1.077,1.077,1.077]
[null,52,"1037 Embedded network (LDNO) discounts"]
[null,53,"LDNO LV: LV user",null,null,0.30883183558962979,{"$f":"F66","v":0.30883183558962979},{"$f":"G66","v":0.30883183558962979},0.30883183558962979,0.30883183558962979]
[null,54,"LDNO HV: LV user",null,null,0.5007791580188965,{"$f":"F67","v":0.5007791580188965},0.5007791580188965,0.5007791580188965,0.5007791580188965]
[null,55,"LDNO HV: LV sub user",null,null,0.2542804505721758,0.2542804505721758,0.2542804505721758,0.2542804505721758,0.2542804505721758]
[null,56,"LDNO HV: HV user",null,null,0.15228597408951491,0.15228597408951491,0.15228597408951491,0.15228597408951491,0.15228597408951491]
[null,57,"1041 Load profile data for demand users: coincidence factor"]
[null,58,"Domestic Unrestricted",null,null,{"$f":"'Smoothed Input Details'!E15","v":0.91725107523525962},{"$f":"F71","v":0.91725107523525962},{"$f":"G71","v":0.91725107523525962},{"$f":"H71","v":0.91725107523525962},0.91725107523525962]
[null,59,"Domestic Two Rate",null,null,{"$f":"'Smoothed Input Details'!E16","v":0.40080181765565559},{"$f":"F72","v":0.40080181765565559},{"$f":"G72","v":0.40080181765565559},{"$f":"H72","v":0.40080181765565559},0.40080181765565559]
[null,60,"Domestic Off Peak (related MPAN)"]
[null,61,"Small Non Domestic Unrestricted",null,null,{"$f":"'Smoothed Input Details'!E18","v":0.62008068887977208},{"$f":"F74","v":0.62008068887977208},{"$f":"G74","v":0.62008068887977208},{"$f":"H74","v":0.62008068887977208},0.62008068887977208]
[null,62,"Small Non Domestic Two Rate",null,null,{"$f":"'Smoothed Input Details'!E19","v":0.6187554380512692},{"$f":"F75","v":0.6187554380512692},{"$f":"G75","v":0.6187554380512692},{"$f":"H75","v":0.6187554380512692},0.6187554380512692]
[null,63,"Small Non Domestic Off Peak (related MPAN)"]
[null,64,"LV Medium Non-Domestic",null,null,{"$f":"'Smoothed Input Details'!E21","v":0.80480275736975215},{"$f":"F77","v":0.80480275736975215},{"$f":"G77","v":0.80480275736975215},0.80480275736975215,0.80480275736975215]
[null,65,"LV Sub Medium Non-Domestic",null,null,{"$f":"'Smoothed Input Details'!E22","v":0.80480275736975215},{"$f":"F78","v":0.80480275736975215},0.80480275736975215,0.80480275736975215,0.80480275736975215]
[null,66,"HV Medium Non-Domestic",null,null,{"$f":"'Smoothed Input Details'!E23","v":0.61081642184024709},0.61081642184024709,0.61081642184024709,0.61081642184024709,0.61081642184024709]
[null,{"$f":"+B79+1","v":67},"LV HH Metered",null,null,{"$f":"'Smoothed Input Details'!E24","v":0.76195140420011676},0.76195140420011676,0.76195140420011676,0.76195140420011676,0.76195140420011676]
[null,68,"LV Sub HH Metered",null,null,{"$f":"'Smoothed Input Details'!E25","v":0.76195140420011676},0.76195140420011676,0.76195140420011676,0.76195140420011676,0.76195140420011676]
[null,69,"HV HH Metered",null,null,{"$f":"'Smoothed Input Details'!E26","v":0.77259445254116732},0.77259445254116732,0.77259445254116732,0.77259445254116732,0.77259445254116732]
[null,70,"HV Sub HH Metered",null,null,{"$f":"'Smoothed Input Details'!E27","v":0.77259445254116732},0.77259445254116732,0.77259445254116732,0.77259445254116732,0.77259445254116732]
[null,71,"NHH UMS category A",null,null,1,1,1,1,1]
[null,72,"NHH UMS category B",null,null,1,1,1,1,1]
[null,73,"NHH UMS category C",null,null,1,1,1,1,1]
[null,74,"NHH UMS category D",null,null,6.4133333333333334E-2,6.4133333333333334E-2,6.4133333333333334E-2,6.4133333333333334E-2,6.4133333333333334E-2]
[null,75,"LV UMS (Pseudo HH Metered)",null,null,{"$f":"'Smoothed Input Details'!E29","v":0.99387558706051526},0.99387558706051526,0.99387558706051526,0.99387558706051526,0.99387558706051526]
[null,76,"1041 Load profile data for demand users: load factor"]
[null,77,"Domestic Unrestricted",null,null,{"$f":"'Smoothed Input Details'!E38","v":0.41143481343309968},{"$f":"F90","v":0.41143481343309968},{"$f":"G90","v":0.41143481343309968},0.41143481343309968,0.41143481343309968]
[null,78,"Domestic Two Rate",null,null,{"$f":"'Smoothed Input Details'!E39","v":0.25560520593582642},{"$f":"F91","v":0.25560520593582642},0.25560520593582642,0.25560520593582642,0.25560520593582642]
[null,79,"Domestic Off Peak (related MPAN)",null,null,{"$f":"'Smoothed Input Details'!E40","v":0.15590780773679511},0.15590780773679511,0.15590780773679511,0.15590780773679511,0.15590780773679511]
[null,80,"Small Non Domestic Unrestricted",null,null,{"$f":"'Smoothed Input Details'!E41","v":0.35245420345734263},0.35245420345734263,0.35245420345734263,0.35245420345734263,0.35245420345734263]
[null,81,"Small Non Domestic Two Rate",null,null,{"$f":"'Smoothed Input Details'!E42","v":0.43068381316121135},0.43068381316121135,0.43068381316121135,0.43068381316121135,0.43068381316121135]
[null,82,"Small Non Domestic Off Peak (related MPAN)",null,null,{"$f":"'Smoothed Input Details'!E43","v":0.18686847121079117},0.18686847121079117,0.18686847121079117,0.18686847121079117,0.18686847121079117]
[null,83,"LV Medium Non-Domestic",null,null,{"$f":"'Smoothed Input Details'!E44","v":0.49209979939144438},0.49209979939144438,0.49209979939144438,0.49209979939144438,0.49209979939144438]
[null,84,"LV Sub Medium Non-Domestic",null,null,{"$f":"'Smoothed Input Details'!E45","v":0.49209979939144438},0.49209979939144438,0.49209979939144438,0.49209979939144438,0.49209979939144438]
[null,85,"HV Medium Non-Domestic",null,null,{"$f":"'Smoothed Input Details'!E46","v":0.42201413323580622},{"$f":"F98","v":0.42201413323580622},0.42201413323580622,0.42201413323580622,0.42201413323580622]
[null,86,"LV HH Metered",null,null,{"$f":"'Smoothed Input Details'!E47","v":0.51926429246950712},0.51926429246950712,0.51926429246950712,0.51926429246950712,0.51926429246950712]
[null,87,"LV Sub HH Metered",null,null,{"$f":"'Smoothed Input Details'!E48","v":0.51926429246950712},0.51926429246950712,0.51926429246950712,0.51926429246950712,0.51926429246950712]
[null,88,"HV HH Metered",null,null,{"$f":"'Smoothed Input Details'!E49","v":0.64378616647520781},0.64378616647520781,0.64378616647520781,0.64378616647520781,0.64378616647520781]
[null,89,"HV Sub HH Metered",null,null,{"$f":"'Smoothed Input Details'!E50","v":0.64378616647520781},0.64378616647520781,0.64378616647520781,0.64378616647520781,0.64378616647520781]
[null,90,"NHH UMS category A",null,null,1,1,1,1,1]
[null,91,"NHH UMS category B",null,null,0.47368294520547877,0.47368294520547877,0.47368294520547877,0.47368294520547877,0.47368294520547877]
[null,92,"NHH UMS category C",null,null,0.25800000000000001,0.25800000000000001,0.25800000000000001,0.25800000000000001,0.25800000000000001]
[null,93,"NHH UMS category D",null,null,0.55300000000000005,0.55300000000000005,0.55300000000000005,0.55300000000000005,0.55300000000000005]
[null,94,"LV UMS (Pseudo HH Metered)",null,null,{"$f":"'Smoothed Input Details'!E52","v":0.48773957041156946},0.48773957041156946,0.48773957041156946,0.48773957041156946,0.48773957041156946]
[null,95,"1053. Volume forecasts for the charging year"]
[null,96,"1055 Transmission exit charges (£/year)",null,null,13164424.787519999,{"$f":"F109*(1+G$13)","v":13450092.805409184},{"$f":"G109*(1+H$13)","v":13719094.661517367},13993476.554747714,14273346.085842669]
[null,97,"1059 Other Expenditure (£/year)"]
[null,98,"Direct cost (£/year)",null,null,32225296.628930252,{"$f":"F111*(1+G$13)","v":32924585.565778039},{"$f":"G111*(1+H$13)","v":33583077.277093604},34254738.822635479,34939833.599088192]
[null,99,"Indirect cost (£/year)",null,null,132800970.50486918,{"$f":"F112*(1+G$13)","v":135682751.56482485},{"$f":"G112*(1+H$13)","v":138396406.59612134},141164334.72804376,143987621.42260465]
[null,100,"Indirect cost proportion",null,null,0.6,0.6,0.6,0.6,0.6]
[null,101,"Network rates (£/year)",null,null,26392016,{"$f":"F114*(1+G$13)","v":26964722.747200001},{"$f":"G114*(1+H$13)","v":27504017.202144001},28054097.546186883,28615179.49711062]
[null,102,"1060 Customer contributions under current connection charging policy"]
[null,103,"LV network"]
[null,104,"Assets 132kV",null,null,0,{"$f":"F117","v":0},{"$f":"G117","v":0},0,0]
[null,105,"Assets 132kV/EHV",null,null,0,{"$f":"F118","v":0},0,0,0]
[null,106,"Assets EHV",null,null,0,0,0,0,0]
[null,107,"Assets EHV/HV",null,null,0,0,0,0,0]
[null,108,"Assets 132kV/HV",null,null,0,0,0,0,0]
[null,109,"Assets HV",null,null,0.38684969697494365,0.38684969697494365,0.38684969697494365,0.38684969697494365,0.38684969697494365]
[null,110,"Assets HV/LV",null,null,0.64124825573068889,0.64124825573068889,0.64124825573068889,0.64124825573068889,0.64124825573068889]
[null,111,"Assets LV circuits",null,null,0.89564681448643413,0.89564681448643413,0.89564681448643413,0.89564681448643413,0.89564681448643413]
[null,112,"LV substation"]
[null,113,"Assets 132kV",null,null,0,{"$f":"F126","v":0},{"$f":"G126","v":0},0,0]
[null,114,"Assets 132kV/EHV",null,null,0,{"$f":"F127","v":0},0,0,0]
[null,115,"Assets EHV",null,null,0,0,0,0,0]
[null,116,"Assets EHV/HV",null,null,0,0,0,0,0]
[null,117,"Assets 132kV/HV",null,null,0,0,0,0,0]
[null,118,"Assets HV",null,null,0.38684969697494365,0.38684969697494365,0.38684969697494365,0.38684969697494365,0.38684969697494365]
[null,119,"Assets HV/LV",null,null,0.64124825573068889,0.64124825573068889,0.64124825573068889,0.64124825573068889,0.64124825573068889]
[null,120,"HV network"]
[null,121,"Assets 132kV",null,null,0,{"$f":"F134","v":0},{"$f":"G134","v":0},0,0]
[null,122,"Assets 132kV/EHV",null,null,0,{"$f":"F135","v":0},0,0,0]
[null,123,"Assets EHV",null,null,0,0,0,0,0]
[null,124,"Assets EHV/HV",null,null,0.25764106948138837,0.25764106948138837,0.25764106948138837,0.25764106948138837,0.25764106948138837]
[null,125,"Assets 132kV/HV",null,null,0.25764106948138837,0.25764106948138837,0.25764106948138837,0.25764106948138837,0.25764106948138837]
[null,126,"Assets HV",null,null,0.51528213896277675,0.51528213896277675,0.51528213896277675,0.51528213896277675,0.51528213896277675]
[null,127,"HV substation"]
[null,128,"Assets 132kV",null,null,0,0,0,0,0]
[null,129,"Assets 132kV/EHV",null,null,0,0,0,0,0]
[null,130,"Assets EHV",null,null,0,0,0,0,0]
[null,{"$f":"+B143+1","v":131},"Assets EHV/HV",null,null,0.25764106948138837,0.25764106948138837,0.25764106948138837,0.25764106948138837,0.25764106948138837]
[null,132,"Assets 132kV/HV",null,null,null,0,0,0,0]
[null,133,"1061 Average split of rate 1 units by distribution time band"]
[null,134,"RED"]
[null,135,"Domestic Two Rate",null,null,{"$f":"'Smoothed Input Details'!K62","v":0.14890278426189216},{"$f":"F148","v":0.14890278426189216},{"$f":"G148","v":0.14890278426189216},0.14890278426189216,0.14890278426189216]
[null,136,"Domestic Off Peak (related MPAN)",null,null,{"$f":"'Smoothed Input Details'!K63","v":2.2966880173443485E-3},{"$f":"F149","v":2.2966880173443485E-3},2.2966880173443485E-3,2.2966880173443485E-3,2.2966880173443485E-3]
[null,137,"Small Non Domestic Two Rate",null,null,{"$f":"'Smoothed Input Details'!K64","v":0.13326282626713307},0.13326282626713307,0.13326282626713307,0.13326282626713307,0.13326282626713307]
[null,138,"Small Non Domestic Off Peak (related MPAN)",null,null,{"$f":"'Smoothed Input Details'!K65","v":1.8394107775813375E-2},1.8394107775813375E-2,1.8394107775813375E-2,1.8394107775813375E-2,1.8394107775813375E-2]
[null,139,"LV Medium Non-Domestic",null,null,{"$f":"'Smoothed Input Details'!K66","v":0.13922071459848015},0.13922071459848015,0.13922071459848015,0.13922071459848015,0.13922071459848015]
[null,140,"LV Sub Medium Non-Domestic",null,null,{"$f":"'Smoothed Input Details'!K67","v":0.13922071459848015},0.13922071459848015,0.13922071459848015,0.13922071459848015,0.13922071459848015]
[null,141,"HV Medium Non-Domestic",null,null,{"$f":"'Smoothed Input Details'!K68","v":0.1327379630534701},0.1327379630534701,0.1327379630534701,0.1327379630534701,0.1327379630534701]
[null,142,"AMBER"]
[null,143,"Domestic Two Rate",null,null,{"$f":"'Smoothed Input Details'!L62","v":0.41118526043131326},{"$f":"F156","v":0.41118526043131326},{"$f":"G156","v":0.41118526043131326},0.41118526043131326,0.41118526043131326]
[null,144,"Domestic Off Peak (related MPAN)",null,null,{"$f":"'Smoothed Input Details'!L63","v":0.2056778896815693},{"$f":"F157","v":0.2056778896815693},0.2056778896815693,0.2056778896815693,0.2056778896815693]
[null,145,"Small Non Domestic Two Rate",null,null,{"$f":"'Smoothed Input Details'!L64","v":0.53523461585794074},{"$f":"F158","v":0.53523461585794074},0.53523461585794074,0.53523461585794074,0.53523461585794074]
[null,146,"Small Non Domestic Off Peak (related MPAN)",null,null,{"$f":"'Smoothed Input Details'!L65","v":0.17098236297510325},{"$f":"F159","v":0.17098236297510325},0.17098236297510325,0.17098236297510325,0.17098236297510325]
[null,147,"LV Medium Non-Domestic",null,null,{"$f":"'Smoothed Input Details'!L66","v":0.53278444505652578},{"$f":"F160","v":0.53278444505652578},0.53278444505652578,0.53278444505652578,0.53278444505652578]
[null,148,"LV Sub Medium Non-Domestic",null,null,{"$f":"'Smoothed Input Details'!L67","v":0.53278444505652578},{"$f":"F161","v":0.53278444505652578},0.53278444505652578,0.53278444505652578,0.53278444505652578]
[null,149,"HV Medium Non-Domestic",null,null,{"$f":"'Smoothed Input Details'!L68","v":0.56664216163065484},{"$f":"F162","v":0.56664216163065484},0.56664216163065484,0.56664216163065484,0.56664216163065484]
[null,150,"GREEN"]
[null,151,"Domestic Two Rate",null,null,{"$f":"'Smoothed Input Details'!M62","v":0.43991195530679456},{"$f":"F164","v":0.43991195530679456},{"$f":"G164","v":0.43991195530679456},0.43991195530679456,0.43991195530679456]
[null,152,"Domestic Off Peak (related MPAN)",null,null,{"$f":"'Smoothed Input Details'!M63","v":0.7920254223010863},{"$f":"F165","v":0.7920254223010863},0.7920254223010863,0.7920254223010863,0.7920254223010863]
[null,153,"Small Non Domestic Two Rate",null,null,{"$f":"'Smoothed Input Details'!M64","v":0.33150255787492622},{"$f":"F166","v":0.33150255787492622},0.33150255787492622,0.33150255787492622,0.33150255787492622]
[null,154,"Small Non Domestic Off Peak (related MPAN)",null,null,{"$f":"'Smoothed Input Details'!M65","v":0.81062352924908332},{"$f":"F167","v":0.81062352924908332},0.81062352924908332,0.81062352924908332,0.81062352924908332]
[null,155,"LV Medium Non-Domestic",null,null,{"$f":"'Smoothed Input Details'!M66","v":0.3279948403449941},{"$f":"F168","v":0.3279948403449941},0.3279948403449941,0.3279948403449941,0.3279948403449941]
[null,156,"LV Sub Medium Non-Domestic",null,null,{"$f":"'Smoothed Input Details'!M67","v":0.3279948403449941},{"$f":"F169","v":0.3279948403449941},0.3279948403449941,0.3279948403449941,0.3279948403449941]
[null,157,"HV Medium Non-Domestic",null,null,{"$f":"'Smoothed Input Details'!M68","v":0.30061987531587503},{"$f":"F170","v":0.30061987531587503},0.30061987531587503,0.30061987531587503,0.30061987531587503]
[null,158,"1062 Average split of rate 2 units by distribution time band"]
[null,159,"RED"]
[null,160,"Domestic Two Rate",null,null,null,{"$f":"F173","v":0},{"$f":"G173","v":0},0,0]
[null,161,"Small Non Domestic Two Rate",null,null,null,{"$f":"F174","v":0},0,0,0]
[null,162,"LV Medium Non-Domestic",null,null,null,0,0,0,0]
[null,163,"LV Sub Medium Non-Domestic",null,null,null,0,0,0,0]
[null,164,"HV Medium Non-Domestic",null,null,null,0,0,0,0]
[null,165,"AMBER"]
[null,166,"Domestic Two Rate",null,null,null,{"$f":"F179","v":0},{"$f":"G179","v":0},0,0]
[null,167,"Small Non Domestic Two Rate",null,null,null,{"$f":"F180","v":0},0,0,0]
[null,168,"LV Medium Non-Domestic",null,null,null,{"$f":"F181","v":0},0,0,0]
[null,169,"LV Sub Medium Non-Domestic",null,null,null,{"$f":"F182","v":0},0,0,0]
[null,170,"HV Medium Non-Domestic",null,null,null,{"$f":"F183","v":0},0,0,0]
[null,171,"GREEN"]
[null,172,"Domestic Two Rate",null,null,{"$f":"'Smoothed Input Details'!M78","v":1},{"$f":"F185","v":1},{"$f":"G185","v":1},1,1]
[null,173,"Small Non Domestic Two Rate",null,null,{"$f":"'Smoothed Input Details'!M79","v":1},{"$f":"F186","v":1},1,1,1]
[null,174,"LV Medium Non-Domestic",null,null,{"$f":"'Smoothed Input Details'!M80","v":1},{"$f":"F187","v":1},1,1,1]
[null,175,"LV Sub Medium Non-Domestic",null,null,{"$f":"'Smoothed Input Details'!M81","v":1},{"$f":"F188","v":1},1,1,1]
[null,176,"HV Medium Non-Domestic",null,null,{"$f":"'Smoothed Input Details'!M82","v":1},{"$f":"F189","v":1},1,1,1]
[null,177,"1064. Average split of rate 1 units by special distribution time band"]
[null,178,"BLACK"]
[null,179,"NHH UMS category A",null,null,2.9680365296803651E-2,{"$f":"F192","v":2.9680365296803651E-2},{"$f":"G192","v":2.9680365296803651E-2},2.9680365296803651E-2,2.9680365296803651E-2]
[null,180,"NHH UMS category B",null,null,4.9247533453833446E-2,{"$f":"F193","v":4.9247533453833446E-2},4.9247533453833446E-2,4.9247533453833446E-2,4.9247533453833446E-2]
[null,181,"NHH UMS category C",null,null,9.6056827605747144E-2,9.6056827605747144E-2,9.6056827605747144E-2,9.6056827605747144E-2,9.6056827605747144E-2]
[null,182,"NHH UMS category D",null,null,1.6971783970887895E-2,1.6971783970887895E-2,1.6971783970887895E-2,1.6971783970887895E-2,1.6971783970887895E-2]
[null,183,"YELLOW"]
[null,184,"NHH UMS category A",null,null,0.37254566210045664,{"$f":"F197","v":0.37254566210045664},{"$f":"G197","v":0.37254566210045664},0.37254566210045664,0.37254566210045664]
[null,185,"NHH UMS category B",null,null,8.8278432042188382E-2,{"$f":"F198","v":8.8278432042188382E-2},8.8278432042188382E-2,8.8278432042188382E-2,8.8278432042188382E-2]
[null,186,"NHH UMS category C",null,null,0.17696296513012377,{"$f":"F199","v":0.17696296513012377},0.17696296513012377,0.17696296513012377,0.17696296513012377]
[null,187,"NHH UMS category D",null,null,0.60828178839872815,{"$f":"F200","v":0.60828178839872815},0.60828178839872815,0.60828178839872815,0.60828178839872815]
[null,188,"GREEN"]
[null,189,"NHH UMS category A",null,null,0.59777397260273968,{"$f":"F202","v":0.59777397260273968},{"$f":"G202","v":0.59777397260273968},0.59777397260273968,0.59777397260273968]
[null,190,"NHH UMS category B",null,null,0.86247403450397819,{"$f":"F203","v":0.86247403450397819},0.86247403450397819,0.86247403450397819,0.86247403450397819]
[null,191,"NHH UMS category C",null,null,0.72698020726412915,{"$f":"F204","v":0.72698020726412915},0.72698020726412915,0.72698020726412915,0.72698020726412915]
[null,192,"NHH UMS category D",null,null,0.37474642763038385,{"$f":"F205","v":0.37474642763038385},0.37474642763038385,0.37474642763038385,0.37474642763038385]
[null,193,"1066. Typical annual hours by special distribution time band"]
[null,194,"Red",null,null,258,{"$f":"F207","v":258},{"$f":"G207","v":258},258,258]
[null,{"$f":"+B207+1","v":195},"Amber",null,null,3265.5,{"$f":"F208","v":3265.5},3265.5,3265.5,3265.5]
[null,196,"Green",null,null,5236.5,5236.5,5236.5,5236.5,5236.5]
[null,197,"1068 Typical annual hours by distribution time band"]
[null,198,"Red",null,null,783,{"$f":"F211","v":783},{"$f":"G211","v":783},783,783]
[null,199,"Amber",null,null,2740.5,{"$f":"F212","v":2740.5},2740.5,2740.5,2740.5]
[null,200,"Green",null,null,5236.5,{"$f":"F213","v":5236.5},5236.5,5236.5,5236.5]
[null,201,"1069 Peaking probabilities by network level"]
[null,202,"RED"]
[null,203,"GSPs",null,null,{"$f":"'Smoothed Input Details'!K92","v":0.90713490721324597},{"$f":"F216","v":0.90713490721324597},{"$f":"G216","v":0.90713490721324597},0.90713490721324597,0.90713490721324597]
[null,204,"132kV",null,null,{"$f":"'Smoothed Input Details'!K93","v":0.71771031215339598},{"$f":"F217","v":0.71771031215339598},0.71771031215339598,0.71771031215339598,0.71771031215339598]
[null,205,"132kV/EHV",null,null,{"$f":"'Smoothed Input Details'!K94","v":0.71771031215339598},0.71771031215339598,0.71771031215339598,0.71771031215339598,0.71771031215339598]
[null,206,"EHV",null,null,{"$f":"'Smoothed Input Details'!K95","v":0.66033153174473114},0.66033153174473114,0.66033153174473114,0.66033153174473114,0.66033153174473114]
[null,207,"EHV/HV",null,null,{"$f":"'Smoothed Input Details'!K96","v":0.66033153174473114},0.66033153174473114,0.66033153174473114,0.66033153174473114,0.66033153174473114]
[null,208,"132kV/HV",null,null,{"$f":"'Smoothed Input Details'!K97","v":0.71771031215339598},0.71771031215339598,0.71771031215339598,0.71771031215339598,0.71771031215339598]
[null,209,"HV",null,null,{"$f":"'Smoothed Input Details'!K98","v":0.66033153174473114},0.66033153174473114,0.66033153174473114,0.66033153174473114,0.66033153174473114]
[null,210,"HV/LV",null,null,{"$f":"'Smoothed Input Details'!K99","v":0.66033153174473114},0.66033153174473114,0.66033153174473114,0.66033153174473114,0.66033153174473114]
[null,211,"LV circuits",null,null,{"$f":"'Smoothed Input Details'!K100","v":0.66033153174473114},0.66033153174473114,0.66033153174473114,0.66033153174473114,0.66033153174473114]
[null,212,"AMBER"]
[null,213,"GSPs",null,null,{"$f":"'Smoothed Input Details'!L92","v":8.5943651473687752E-2},{"$f":"F226","v":8.5943651473687752E-2},{"$f":"G226","v":8.5943651473687752E-2},8.5943651473687752E-2,8.5943651473687752E-2]
[null,214,"132kV",null,null,{"$f":"'Smoothed Input Details'!L93","v":0.25348688310500261},{"$f":"F227","v":0.25348688310500261},0.25348688310500261,0.25348688310500261,0.25348688310500261]
[null,215,"132kV/EHV",null,null,{"$f":"'Smoothed Input Details'!L94","v":0.25348688310500261},{"$f":"F228","v":0.25348688310500261},0.25348688310500261,0.25348688310500261,0.25348688310500261]
[null,216,"EHV",null,null,{"$f":"'Smoothed Input Details'!L95","v":0.26482907568205305},{"$f":"F229","v":0.26482907568205305},0.26482907568205305,0.26482907568205305,0.26482907568205305]
[null,217,"EHV/HV",null,null,{"$f":"'Smoothed Input Details'!L96","v":0.26482907568205305},{"$f":"F230","v":0.26482907568205305},0.26482907568205305,0.26482907568205305,0.26482907568205305]
[null,218,"132kV/HV",null,null,{"$f":"'Smoothed Input Details'!L97","v":0.25348688310500261},{"$f":"F231","v":0.25348688310500261},0.25348688310500261,0.25348688310500261,0.25348688310500261]
[null,219,"HV",null,null,{"$f":"'Smoothed Input Details'!L98","v":0.26482907568205305},{"$f":"F232","v":0.26482907568205305},0.26482907568205305,0.26482907568205305,0.26482907568205305]
[null,220,"HV/LV",null,null,{"$f":"'Smoothed Input Details'!L99","v":0.26482907568205305},{"$f":"F233","v":0.26482907568205305},0.26482907568205305,0.26482907568205305,0.26482907568205305]
[null,221,"LV circuits",null,null,{"$f":"'Smoothed Input Details'!L100","v":0.26482907568205305},{"$f":"F234","v":0.26482907568205305},0.26482907568205305,0.26482907568205305,0.26482907568205305]
[null,222,"GREEN"]
[null,223,"GSPs",null,null,{"$f":"'Smoothed Input Details'!M92","v":6.9214413130663024E-3},{"$f":"F236","v":6.9214413130663024E-3},{"$f":"G236","v":6.9214413130663024E-3},6.9214413130663024E-3,6.9214413130663024E-3]
[null,224,"132kV",null,null,{"$f":"'Smoothed Input Details'!M93","v":2.8802804741601341E-2},{"$f":"F237","v":2.8802804741601341E-2},2.8802804741601341E-2,2.8802804741601341E-2,2.8802804741601341E-2]
[null,225,"132kV/EHV",null,null,{"$f":"'Smoothed Input Details'!M94","v":2.8802804741601341E-2},{"$f":"F238","v":2.8802804741601341E-2},2.8802804741601341E-2,2.8802804741601341E-2,2.8802804741601341E-2]
[null,226,"EHV",null,null,{"$f":"'Smoothed Input Details'!M95","v":7.4839392573215757E-2},{"$f":"F239","v":7.4839392573215757E-2},7.4839392573215757E-2,7.4839392573215757E-2,7.4839392573215757E-2]
[null,227,"EHV/HV",null,null,{"$f":"'Smoothed Input Details'!M96","v":7.4839392573215757E-2},{"$f":"F240","v":7.4839392573215757E-2},7.4839392573215757E-2,7.4839392573215757E-2,7.4839392573215757E-2]
[null,228,"132kV/HV",null,null,{"$f":"'Smoothed Input Details'!M97","v":2.8802804741601341E-2},{"$f":"F241","v":2.8802804741601341E-2},2.8802804741601341E-2,2.8802804741601341E-2,2.8802804741601341E-2]
[null,229,"HV",null,null,{"$f":"'Smoothed Input Details'!M98","v":7.4839392573215757E-2},{"$f":"F242","v":7.4839392573215757E-2},7.4839392573215757E-2,7.4839392573215757E-2,7.4839392573215757E-2]
[null,230,"HV/LV",null,null,{"$f":"'Smoothed Input Details'!M99","v":7.4839392573215757E-2},{"$f":"F243","v":7.4839392573215757E-2},7.4839392573215757E-2,7.4839392573215757E-2,7.4839392573215757E-2]
[null,231,"LV circuits",null,null,{"$f":"'Smoothed Input Details'!M100","v":7.4839392573215757E-2},{"$f":"F244","v":7.4839392573215757E-2},7.4839392573215757E-2,7.4839392573215757E-2,7.4839392573215757E-2]
[null,232,"BLACK"]
[null,233,"GSPs",null,null,0.47623207722750621,{"$f":"F246","v":0.47623207722750621},{"$f":"G246","v":0.47623207722750621},0.47623207722750621,0.47623207722750621]
[null,234,"132kV",null,null,0.5027642206564088,{"$f":"F247","v":0.5027642206564088},0.5027642206564088,0.5027642206564088,0.5027642206564088]
[null,235,"132kV/EHV",null,null,0.5027642206564088,{"$f":"F248","v":0.5027642206564088},0.5027642206564088,0.5027642206564088,0.5027642206564088]
[null,236,"EHV",null,null,0.5314588887042806,{"$f":"F249","v":0.5314588887042806},0.5314588887042806,0.5314588887042806,0.5314588887042806]
[null,237,"EHV/HV",null,null,0.5314588887042806,{"$f":"F250","v":0.5314588887042806},0.5314588887042806,0.5314588887042806,0.5314588887042806]
[null,238,"132kV/HV",null,null,0.5027642206564088,{"$f":"F251","v":0.5027642206564088},0.5027642206564088,0.5027642206564088,0.5027642206564088]
[null,239,"HV",null,null,0.5314588887042806,{"$f":"F252","v":0.5314588887042806},0.5314588887042806,0.5314588887042806,0.5314588887042806]
[null,240,"HV/LV",null,null,0.5314588887042806,{"$f":"F253","v":0.5314588887042806},0.5314588887042806,0.5314588887042806,0.5314588887042806]
[null,241,"LV circuits",null,null,0.5314588887042806,{"$f":"F254","v":0.5314588887042806},0.5314588887042806,0.5314588887042806,0.5314588887042806]
[null,242,"1076 Target revenue"]
[null,243,"Allowed revenue (£/year)",null,null,{"$f":"450092161.260896-4164738.49477857","v":445927422.76611745},{"$f":"494710639.166629-(4164738.49477857*(1+G13))","v":490455525.84651375},{"$f":"472277509.410202-(4164738.49477857*(1+G13)*(1+H13))","v":467937293.82368445},{"$f":"H256*(1+I$13)","v":477296039.70015818},486841960.49416137]
[null,244,"Pass-through charges (£/year)"]
[null,245,"Adjustment for previous year's under (over) recovery (£/year)"]
[null,246,"Revenue raised outside this model (£/year)"]
[null,247,"1092 Average kVAr by kVA, by network level"]
[null,248,"GSPs",null,null,0.2810621222726124,{"$f":"F261","v":0.2810621222726124},{"$f":"G261","v":0.2810621222726124},0.2810621222726124,0.2810621222726124]
[null,249,"132kV",null,null,0.2810621222726124,{"$f":"F262","v":0.2810621222726124},0.2810621222726124,0.2810621222726124,0.2810621222726124]
[null,250,"132kV/EHV",null,null,0.2810621222726124,0.2810621222726124,0.2810621222726124,0.2810621222726124,0.2810621222726124]
[null,251,"EHV",null,null,0.2810621222726124,0.2810621222726124,0.2810621222726124,0.2810621222726124,0.2810621222726124]
[null,252,"EHV/HV",null,null,0.2810621222726124,0.2810621222726124,0.2810621222726124,0.2810621222726124,0.2810621222726124]
[null,253,"132kV/HV",null,null,0.2810621222726124,0.2810621222726124,0.2810621222726124,0.2810621222726124,0.2810621222726124]
[null,254,"HV",null,null,0.2810621222726124,0.2810621222726124,0.2810621222726124,0.2810621222726124,0.2810621222726124]
[null,255,"HV/LV",null,null,0.2810621222726124,0.2810621222726124,0.2810621222726124,0.2810621222726124,0.2810621222726124]
[null,256,"LV circuits",null,null,0.2810621222726124,0.2810621222726124,0.2810621222726124,0.2810621222726124,0.2810621222726124]
[null,257,"1201 Current tariff information"]

{"sheet":"Smoothed Input Details","index":4,"n_rows":100,"n_cols":13,"rows_kept":100,"cut":false,"hidden":false,"merged":[[89,0,90,0],[89,1,89,3],[89,4,89,6],[89,7,89,9],[89,10,89,12],[0,1,0,4],[59,7,59,9],[59,10,59,12],[75,0,76,0],[75,1,75,3],[75,4,75,6],[75,7,75,9],[75,10,75,12],[1,1,1,2],[3,1,3,2],[59,0,60,0],[59,1,59,3],[59,4,59,6]]}
["DNO",{"$f":"+'CDCM Forecast Data'!F3:G3","v":{"$error":"#VALUE!"}}]
["Charges for (year Y)",{"$f":"+'CDCM Forecast Data'!F11","v":"2013/14"}]
[]
["Year charges are set (year Y-1)",{"$f":"+'CDCM Forecast Data'!E11","v":"2012/13"}]
[]
["Year to which input data relates"]
["Year Y-2","2011/12"]
["Year Y - 3","2010/11"]
["Year Y - 4","2009/10"," "]
[]
["1041 - load profile for demand users - coincidence factors",null,null," "]
["2012/13 charges are set in 2011/12 using historical dats for the previous three years"]
[]
[null,"Y - 4","Y - 3","Y - 2","Information to be used calculating tariffs in year t"]
["Domestic Unrestricted",0.88825952307440736,0.90487950480320523,0.95861419782816615,{"$f":"AVERAGE(B15:D15)","v":0.91725107523525962}]
["Domestic Two Rate",0.39197811384662656,0.42129361529695925,0.38913372382338107,{"$f":"AVERAGE(B16:D16)","v":0.40080181765565559}]
["Domestic Off Peak (related MPAN)"]
["Small Non Domestic Unrestricted",0.67607913507531248,0.62712480344482802,0.55703812811917575,0.62008068887977208]
["Small Non Domestic Two Rate",0.61420598411721128,0.63021370156799428,0.61184662846860183,0.6187554380512692]
["Small Non Domestic Off Peak (related MPAN)"]
["LV Medium Non-Domestic",0.78909684255425705,0.80558616625834412,0.81972526329665529,0.80480275736975215]
["LV Sub Medium Non-Domestic",{"$f":"B21","v":0.78909684255425705},{"$f":"C21","v":0.80558616625834412},{"$f":"D21","v":0.81972526329665529},0.80480275736975215]
["HV Medium Non-Domestic",0.58269264441350788,0.63197354454523513,0.61778307656199838,0.61081642184024709]
["LV HH Metered",0.74126836560656584,0.79450650605253648,0.75007934094124806,0.76195140420011676]
["LV Sub HH Metered",{"$f":"B24","v":0.74126836560656584},{"$f":"C24","v":0.79450650605253648},0.75007934094124806,0.76195140420011676]
["HV HH Metered",0.75416552761536382,0.79748034839351256,0.76613748161462569,0.77259445254116732]
["HV Sub HH Metered",{"$f":"B26","v":0.75416552761536382},{"$f":"C26","v":0.79748034839351256},{"$f":"D26","v":0.76613748161462569},0.77259445254116732]
["NHH UMS",{"$f":"B29","v":0.99945062318621769},{"$f":"C29","v":0.99636559337563824},{"$f":"D29","v":0.98581054461968987},0.99387558706051526]
["LV UMS (Pseudo HH Metered)",0.99945062318621769,0.99636559337563824,0.98581054461968987,0.99387558706051526]
[]
[]
[]
["1041 - load profile for demand users - load factors"]
["2012/13 charges are set in 2011/12 using historical data for the previous three years"]
[]
[]
[null,"Y - 4","Y - 3","Y - 2","Information to be used calculating tariffs in year t"]
["Domestic Unrestricted",0.41401899186823377,0.40329950368465844,0.41698594474640682,{"$f":"AVERAGE(B38:D38)","v":0.41143481343309968}]
["Domestic Two Rate",0.26040020609888087,0.25455038757365661,0.25186502413494177,{"$f":"AVERAGE(B39:D39)","v":0.25560520593582642}]
["Domestic Off Peak (related MPAN)",0.15718207088526304,0.15872748873462708,0.15181386359049526,0.15590780773679511]
["Small Non Domestic Unrestricted",0.3650267886863372,0.32215271397848005,0.37018310770721075,0.35245420345734263]
["Small Non Domestic Two Rate",0.42105959184416258,0.41170896606948765,0.45928288156998381,0.43068381316121135]
["Small Non Domestic Off Peak (related MPAN)",0.19061103769085014,0.18697464532635971,0.18301973061516361,0.18686847121079117]
["LV Medium Non-Domestic",0.50346361206461177,0.46951646464646107,0.50331932146326042,0.49209979939144438]
["LV Sub Medium Non-Domestic",{"$f":"B44","v":0.50346361206461177},{"$f":"C44","v":0.46951646464646107},{"$f":"D44","v":0.50331932146326042},0.49209979939144438]
["HV Medium Non-Domestic",0.41730130134850635,0.39644234989879973,0.45229874846011253,0.42201413323580622]
["LV HH Metered",0.52562943079879809,0.51540701283097679,0.51675643377874658,0.51926429246950712]
["LV Sub HH Metered",{"$f":"B47","v":0.52562943079879809},{"$f":"C47","v":0.51540701283097679},{"$f":"D47","v":0.51675643377874658},0.51926429246950712]
["HV HH Metered",0.63413183872724443,0.6499560830843063,0.64727057761407292,0.64378616647520781]
["HV Sub HH Metered",{"$f":"B49","v":0.63413183872724443},{"$f":"C49","v":0.6499560830843063},{"$f":"D49","v":0.64727057761407292},0.64378616647520781]
["NHH UMS",{"$f":"B52","v":0.49022612708898378},{"$f":"C52","v":0.4859218835487526},{"$f":"D52","v":0.48707070059697194},0.48773957041156946]
["LV UMS (Pseudo HH Metered)",0.49022612708898378,0.4859218835487526,0.48707070059697194,0.48773957041156946]
[]
[]
[]
["1061 - Average split of rate 1 units by distribution time band"]
["2012/13 charges are set in 2011/12 using historical data for the previous three years"]
[]
[]
[null,"Y - 4",null,null,"Y - 3",null,null,"Y - 2",null,null,"Information to be used calculating tariffs in year t"]
[null,"Red","Amber","Green","Red","Amber","Green","Red","Amber","Green","Red","Amber","Green"]
["Domestic Two Rate",0.15161062510909007,0.40895998253438798,0.43942939235652195,0.14852978223258312,0.41222710976148852,0.43924310800592836,0.14656794544400326,0.41236868899806328,0.44106336555793346,{"$f":"AVERAGE(B62,E62,H62)","v":0.14890278426189216},0.41118526043131326,0.43991195530679456]
["Domestic Off Peak (related MPAN)",1.9862118349050495E-3,0.20266414574555458,0.79534964241954031,2.3171959680051871E-3,0.2050942146069176,0.79258858942507726,2.5866562491228089E-3,0.20927530869223576,0.78813803505864144,2.2966880173443485E-3,0.2056778896815693,0.7920254223010863]
["Small Non Domestic Two Rate",0.13302038001671163,0.53960062487708993,0.32737899510619839,0.13401122151818162,0.53616481062462784,0.32982396785719054,0.13275687726650592,0.52993841207210435,0.33730471066138978,0.13326282626713307,0.53523461585794074,0.33150255787492622]
["Small Non Domestic Off Peak (related MPAN)",2.0702303763299876E-2,0.17682335509948965,0.8024743411372105,1.8512014409103935E-2,0.17049132178967621,0.81099666380121982,1.5968005155036318E-2,0.16563241203614384,0.81839958280881986,1.8394107775813375E-2,0.17098236297510325,0.81062352924908332]
["LV Medium Non-Domestic",0.13833760938622169,0.54146045712825686,0.3202019334855214,0.1398004153148569,0.53261002942566127,0.32758955525948186,0.13952411909436183,0.5242828486156591,0.3361930322899791,0.13922071459848015,0.53278444505652578,0.3279948403449941]
["LV Sub Medium Non-Domestic",{"$f":"B66","v":0.13833760938622169},0.54146045712825686,0.3202019334855214,0.1398004153148569,0.53261002942566127,0.32758955525948186,0.13952411909436183,0.5242828486156591,0.3361930322899791,0.13922071459848015,{"$f":"AVERAGE(C67,F67,I67)","v":0.53278444505652578},{"$f":"AVERAGE(D67,G67,J67)","v":0.3279948403449941}]
["HV Medium Non-Domestic",0.13307024224561376,0.57938124608484054,0.28754851166954565,0.13364301912030346,0.5666347180062522,0.29972226287344433,0.13150062779449315,0.55391052080087166,0.31458885140463516,0.1327379630534701,{"$f":"AVERAGE(C68,F68,I68)","v":0.56664216163065484},{"$f":"AVERAGE(D68,G68,J68)","v":0.30061987531587503}]
[]
[]
[]
["1062 - Average split of rate 2 units by distribution time band"]
["2012/13 charges are set in 2011/12 using historical data for the previous three years"]
[null,null,null," "]
[]
[null,"Y - 4",null,null,"Y - 3",null,null,"Y - 2",null,null,"Information to be used calculating tariffs in year t"]
[null,"Red","Amber","Green","Red","Amber","Green","Red","Amber","Green","Red","Amber","Green"]
["Domestic Two Rate",null,null,1,null,null,1,null,null,1,{"$f":"AVERAGE(B78,E78,H78)","v":{"$error":"#DIV/0!"}},{"$f":"AVERAGE(C78,F78,I78)","v":{"$error":"#DIV/0!"}},1]
["Small Non Domestic Two Rate",null,null,1,null,null,1,null,null,1,{"$f":"AVERAGE(B79,E79,H79)","v":{"$error":"#DIV/0!"}},{"$error":"#DIV/0!"},1]
["LV Medium Non-Domestic",null,null,1,null,null,1,null,null,1,{"$f":"AVERAGE(B80,E80,H80)","v":{"$error":"#DIV/0!"}},{"$error":"#DIV/0!"},1]
["LV Sub Medium Non-Domestic",null,null,1,null,null,1,null,null,1,{"$f":"AVERAGE(B81,E81,H81)","v":{"$error":"#DIV/0!"}},{"$error":"#DIV/0!"},1]
["HV Medium Non-Domestic",null,null,1,null,null,1,null,null,1,{"$f":"AVERAGE(B82,E82,H82)","v":{"$error":"#DIV/0!"}},{"$error":"#DIV/0!"},1]
[]
[]
[]
["1069 - Peaking probabilities by network level"]
["2012/13 charges are set in 2011/12 using historical data for the previous three years"]
[]
[]
[null,"Y - 4",null,null,"Y - 3",null,null,"Y - 2",null,null,"Information to be used calculating tariffs in year t"]
[null,"Red","Amber","Green","Red","Amber","Green","Red","Amber","Green","Red","Amber","Green"]
["GSPs",0.87691029226965012,0.12308970773034984,0,0.94872097669081623,3.051469936998482E-2,2.0764323939198907E-2,0.89577345267927155,0.10422654732072857,0,{"$f":"AVERAGE(B92,E92,H92)","v":0.90713490721324597},{"$f":"AVERAGE(C92,F92,I92)","v":8.5943651473687752E-2},{"$f":"AVERAGE(D92,G92,J92)","v":6.9214413130663024E-3}]
["132kV",0.67862182936700466,0.28328451190218096,3.8093658730814502E-2,0.764227719797137,0.22055096230878074,1.5221317894082492E-2,0.71028138729604651,0.25662517510404625,3.3093437599907023E-2,{"$f":"AVERAGE(B93,E93,H93)","v":0.71771031215339598},0.25348688310500261,2.8802804741601341E-2]
["132kV/EHV",0.67862182936700466,0.28328451190218096,3.8093658730814502E-2,0.764227719797137,0.22055096230878074,1.5221317894082492E-2,0.71028138729604651,0.25662517510404625,3.3093437599907023E-2,0.71771031215339598,0.25348688310500261,2.8802804741601341E-2]
["EHV",0.578515184755514,0.34078781814084974,8.0696997103636189E-2,0.7028118028577508,0.20630547039819047,9.088272674405859E-2,0.69966760762092861,0.24739393850711885,5.2938453871952521E-2,0.66033153174473114,0.26482907568205305,7.4839392573215757E-2]
["EHV/HV",0.578515184755514,0.34078781814084974,8.0696997103636189E-2,0.7028118028577508,0.20630547039819047,9.088272674405859E-2,0.69966760762092861,0.24739393850711885,5.2938453871952521E-2,0.66033153174473114,0.26482907568205305,7.4839392573215757E-2]
["132kV/HV",0.67862182936700466,0.28328451190218096,3.8093658730814502E-2,0.764227719797137,0.22055096230878074,1.5221317894082492E-2,0.71028138729604651,0.25662517510404625,3.3093437599907023E-2,0.71771031215339598,0.25348688310500261,2.8802804741601341E-2]
["HV",0.578515184755514,0.34078781814084974,8.0696997103636189E-2,0.7028118028577508,0.20630547039819047,9.088272674405859E-2,0.69966760762092861,0.24739393850711885,5.2938453871952521E-2,0.66033153174473114,0.26482907568205305,7.4839392573215757E-2]
["HV/LV",0.578515184755514,0.34078781814084974,8.0696997103636189E-2,0.7028118028577508,0.20630547039819047,9.088272674405859E-2,0.69966760762092861,0.24739393850711885,5.2938453871952521E-2,0.66033153174473114,0.26482907568205305,7.4839392573215757E-2]
["LV circuits",0.578515184755514,0.34078781814084974,8.0696997103636189E-2,0.7028118028577508,0.20630547039819047,9.088272674405859E-2,0.69966760762092861,0.24739393850711885,5.2938453871952521E-2,0.66033153174473114,0.26482907568205305,7.4839392573215757E-2]

{"sheet":"Mat of App","index":5,"n_rows":38,"n_cols":42,"rows_kept":38,"cut":false,"hidden":false,"merged":[[29,2,29,6],[29,7,29,11],[29,12,29,16],[29,17,29,21],[29,22,29,26],[24,34,24,41],[4,2,4,9],[4,10,4,17],[4,18,4,25],[4,26,4,33],[4,34,4,41],[24,2,24,9],[24,10,24,17],[24,18,24,25],[24,26,24,33]]}
[]
[]
[null,"1025. Matrix of applicability of LV service models to tariffs with fixed charges"]
[]
[null,null,{"$f":"'CDCM Forecast Data'!$F$11","v":"2013/14"},null,null,null,null,null,null,null,{"$f":"'CDCM Forecast Data'!$G$11","v":"2014/15"},null,null,null,null,null,null,null,{"$f":"'CDCM Forecast Data'!$H$11","v":"2015/16"},null,null,null,null,null,null,null,{"$f":"'CDCM Forecast Data'!$I$11","v":"2016/17"},null,null,null,null,null,null,null,{"$f":"'CDCM Forecast Data'!$J$11","v":"2017/18"}]
[null,null,"LV service model 1","LV service model 2","LV service model 3","LV service model 4","LV service model 5","LV service model 6","LV service model 7","LV service model 8","LV service model 1","LV service model 2","LV service model 3","LV service model 4","LV service model 5","LV service model 6","LV service model 7","LV service model 8","LV service model 1","LV service model 2","LV service model 3","LV service model 4","LV service model 5","LV service model 6","LV service model 7","LV service model 8","LV service model 1","LV service model 2","LV service model 3","LV service model 4","LV service model 5","LV service model 6","LV service model 7","LV service model 8","LV service model 1","LV service model 2","LV service model 3","LV service model 4","LV service model 5","LV service model 6","LV service model 7","LV service model 8"]
[null,"Domestic Unrestricted",0.05,0,0,0,0,0,0,0,0.05,0,0,0,0,0,0,0,{"$f":"K7","v":0.05},0,0,0,0,0,0,0,0.05,{"$f":"T7","v":0},0,0,0,0,0,0,0.05,0,0,0,0,0,0,0]
[null,"Domestic Two Rate",0.05,0,0,0,0,0,0,0,0.05,0,0,0,0,0,0,0,0.05,0,0,0,0,0,0,0,0.05,0,0,0,0,0,0,0,0.05,0,0,0,0,0,0,0]
[null,"Small Non Domestic Unrestricted",0,1,0,0,0,0,0,0,0,1,0,0,0,0,0,0,0,1,0,0,0,0,0,0,0,1,0,0,0,0,0,0,0,1,0,0,0,0,0,0]
[null,"Small Non Domestic Two Rate",0,1,0,0,0,0,0,0,0,1,0,0,0,0,0,0,0,1,0,0,0,0,0,0,0,1,0,0,0,0,0,0,0,1,0,0,0,0,0,0]
[null,"LV Medium Non-Domestic",0,0,1,0,0,0,0,0,0,0,1,0,0,0,0,0,0,0,1,0,0,0,0,0,0,0,1,0,0,0,0,0,0,0,1,0,0,0,0,0]
[null,"LV Sub Medium Non-Domestic",0,0,0,0,1,0,0,0,0,0,0,1,0,0,0,0,0,0,0,1,0,0,0,0,0,0,0,1,0,0,0,0,0,0,0,1,0,0,0,0]
[null,"LV HH Metered",0,0,0,1,0,0,0,0,0,0,0,0,1,0,0,0,0,0,0,0,1,0,0,0,0,0,0,0,1,0,0,0,0,0,0,0,1,0,0,0]
[null,"LV Sub HH Metered",0,0,0,0,1,0,0,0,0,0,0,0,0,1,0,0,0,0,0,0,0,1,0,0,0,0,0,0,0,1,0,0,0,0,0,0,0,1,0,0]
[null,"LV Generation NHH",0,0,0,0,0,0,0,0,0,0,0,0,0,0,1,0,0,0,0,0,0,0,1,0,0,0,0,0,0,0,1,0,0,0,0,0,0,0,1,0]
[null,"LV Sub Generation NHH",0,0,0,0,0,0,0,0,0,0,0,0,0,0,1,0,0,0,0,0,0,0,1,0,0,0,0,0,0,0,1,0,0,0,0,0,0,0,1,0]
[null,"LV Generation Intermittent",0,0,0,0,0,0,0,0,0,0,0,0,0,0,1,0,0,0,0,0,0,0,1,0,0,0,0,0,0,0,1,0,0,0,0,0,0,0,1,0]
[null,"LV Generation Non-Intermittent",0,0,0,0,0,0,0,0,0,0,0,0,0,0,0,0,0,0,0,0,0,0,0,0,0,0,0,0,0,0,0,0,0,0,0,0,0,0,0,0]
[null,"LV Sub Generation Intermittent",0,0,0,0,0,0,0,0,0,0,0,0,0,0,0,0,0,0,0,0,0,0,0,0,0,0,0,0,0,0,0,0,0,0,0,0,0,0,0,0]
[null,"LV Sub Generation Non-Intermittent",0,0,0,0,0,0,0,0,0,0,0,0,0,0,0,0,0,0,0,0,0,0,0,0,0,0,0,0,0,0,0,0,0,0,0,0,0,0,0,0]
[]
[null,"1026. Matrix of applicability of LV service models to unmetered tariffs"]
[]
[null,"Source: service models"]
[null,"Proportion of service model involved in connecting load of 1 MWh/year",{"$f":"'CDCM Forecast Data'!$F$11","v":"2013/14"},null,null,null,null,null,null,null,{"$f":"'CDCM Forecast Data'!$G$11","v":"2014/15"},null,null,null,null,null,null,null,{"$f":"'CDCM Forecast Data'!$H$11","v":"2015/16"},null,null,null,null,null,null,null,{"$f":"'CDCM Forecast Data'!$I$11","v":"2016/17"},null,null,null,null,null,null,null,{"$f":"'CDCM Forecast Data'!$J$11","v":"2017/18"}]
[null,null,"LV service model 1","LV service model 2","LV service model 3","LV service model 4","LV service model 5","LV service model 6","LV service model 7","LV service model 8","LV service model 1","LV service model 2","LV service model 3","LV service model 4","LV service model 5","LV service model 6","LV service model 7","LV service model 8","LV service model 1","LV service model 2","LV service model 3","LV service model 4","LV service model 5","LV service model 6","LV service model 7","LV service model 8","LV service model 1","LV service model 2","LV service model 3","LV service model 4","LV service model 5","LV service model 6","LV service model 7","LV service model 8","LV service model 1","LV service model 2","LV service model 3","LV service model 4","LV service model 5","LV service model 6","LV service model 7","LV service model 8"]
[null,"All LV unmetered tariffs",0,0,0,0,0,1.5220700152207001,0,0,0,0,0,0,0,0,0,0.48799999999999999,{"$f":"K27","v":0},{"$f":"L27","v":0},{"$f":"M27","v":0},{"$f":"N27","v":0},{"$f":"O27","v":0},{"$f":"P27","v":0},{"$f":"Q27","v":0},{"$f":"R27","v":0.48799999999999999},{"$f":"S27","v":0},{"$f":"T27","v":0},{"$f":"U27","v":0},{"$f":"V27","v":0},{"$f":"W27","v":0},{"$f":"X27","v":0},{"$f":"Y27","v":0},{"$f":"Z27","v":0.48799999999999999},{"$f":"AA27","v":0},{"$f":"AB27","v":0},{"$f":"AC27","v":0},{"$f":"AD27","v":0},{"$f":"AE27","v":0},{"$f":"AF27","v":0},{"$f":"AG27","v":0},{"$f":"AH27","v":0.48799999999999999}]
[]
[null,"1028. Matrix of applicability of HV service models to tariffs with fixed charges"]
[null,null,{"$f":"'CDCM Forecast Data'!$F$11","v":"2013/14"},null,null,null,null,{"$f":"+'CDCM Forecast Data'!G11","v":"2014/15"},null,null,null,null,{"$f":"+'CDCM Forecast Data'!H11","v":"2015/16"},null,null,null,null,{"$f":"+'CDCM Forecast Data'!I11","v":"2016/17"},null,null,null,null,{"$f":"+'CDCM Forecast Data'!J11","v":"2017/18"}]
[null,null,"HV service model 1","HV service model 2","HV service model 3","HV service model 4","HV service model 5","HV service model 1","HV service model 2","HV service model 3","HV service model 4","HV service model 5","HV service model 1","HV service model 2","HV service model 3","HV service model 4","HV service model 5","HV service model 1","HV service model 2","HV service model 3","HV service model 4","HV service model 5","HV service model 1","HV service model 2","HV service model 3","HV service model 4","HV service model 5"]
[null,"HV Medium Non-Domestic",1,0,0,0,0,1,0,0,0,0,{"$f":"H32","v":1},0,0,0,0,1,0,0,0,0,1,{"$f":"S32","v":0},0,0,0]
[null,"HV HH Metered",1,0,0,0,0,1,0,0,0,0,1,0,0,0,0,1,0,0,0,0,1,0,0,0,0]
[null,"HV Sub HH Metered",0,1,0,0,0,1,0,0,0,0,1,0,0,0,0,1,0,0,0,0,1,0,0,0,0]
[null,"HV Generation Intermittent",0,0,1,0,0,0,1,0,0,0,0,1,0,0,0,0,1,0,0,0,0,1,0,0,0]
[null,"HV Generation Non-Intermittent",0,0,1,0,0,0,1,0,0,0,0,1,0,0,0,0,1,0,0,0,0,1,0,0,0]
[null,"HV Sub Generation Non-Intermittent",0,0,1,0,0,0,1,0,0,0,0,1,0,0,0,0,1,0,0,0,0,1,0,0,0]
[null,"HV Sub Generation Intermittent",0,0,1,0,0,0,1,0,0,0,0,1,0,0,0,0,1,0,0,0,0,1,0,0,0]

{"sheet":"CDCM Volume Forecasts","index":6,"n_rows":121,"n_cols":33,"rows_kept":121,"cut":false,"hidden":false,"merged":[[24,3,24,8],[24,9,24,14],[24,15,24,20],[24,21,24,26],[24,27,24,32],[2,6,2,30],[3,6,3,10],[3,11,3,14],[3,15,3,18],[3,19,3,22],[3,23,3,26],[3,27,3,30]]}
[]
[]
[null,null,null,null,null,null,"Growth Rates (%)"]
[null,null,null,null,null,null,"VOLUME - RED BAND",null,null,null,null,"VOLUME - AMBER BAND",null,null,null,"VOLUME - GREEN BAND",null,null,null,"CUSTOMER NUMBERS",null,null,null,"IMPORT CAPACITY",null,null,null,"REACTIVE POWER"]
[null,null,null,null,null,null,"Y","Y + 1","Y + 2","Y + 3","Y + 4","Y + 1","Y + 2","Y + 3","Y + 4","Y + 1","Y + 2","Y + 3","Y + 4","Y + 1","Y + 2","Y + 3","Y + 4","Y + 1","Y + 2","Y + 3","Y + 4","Y + 1","Y + 2","Y + 3","Y + 4"]
[null,null,null,null,"Customer Category","Description",{"$f":"+'CDCM Forecast Data'!F11","v":"2013/14"},{"$f":"+'CDCM Forecast Data'!G11","v":"2014/15"},{"$f":"+'CDCM Forecast Data'!H11","v":"2015/16"},{"$f":"+'CDCM Forecast Data'!I11","v":"2016/17"},{"$f":"+'CDCM Forecast Data'!J11","v":"2017/18"},{"$f":"+H6","v":"2014/15"},"2015/16","2016/17","2017/18","2014/15","2015/16","2016/17","2017/18","2014/15","2015/16","2016/17","2017/18","2014/15","2015/16","2016/17","2017/18","2014/15","2015/16","2016/17","2017/18","Assumptions"]
[null,null,null,null,1,"NHH Dem",null,-0.01,-0.01,-0.01,-0.01,-0.01,-0.01,-0.01,-0.01,-0.01,-0.01,-0.01,-0.01,0.01,0.01,0.01,0.01,0,0,0,0,0,0,0,0]
[null,null,null,null,2,"HH Dem",null,-0.01,-0.01,-0.01,-0.01,-0.01,-0.01,-0.01,-0.01,-0.01,-0.01,-0.01,-0.01,0.01,0.01,0.01,0.01,0,0,0,0,0,0,0,0]
[null,null,null,null,3,"NHH Gen",null,-0.01,-0.01,-0.01,-0.01,-0.01,-0.01,-0.01,-0.01,-0.01,-0.01,-0.01,-0.01,0.01,0.01,0.01,0.01,0,0,0,0,0,0,0,0]
[null,null,null,null,4,"HH Gen",null,-0.01,-0.01,-0.01,-0.01,-0.01,-0.01,-0.01,-0.01,-0.01,-0.01,-0.01,-0.01,0.01,0.01,0.01,0.01,0,0,0,0,0,0,0,0]
[null,null,null,null,5,"DUMMY"]
[null,null,null,null,6,"DUMMY"]
[null,null,null,null,7,"DUMMY"]
[null,null,null,null,8,"DUMMY"]
[null,null,null,null,9,"DUMMY"]
[null,null,null,null,10,"DUMMY"]
[]
[null,null,null,null,"Summary Data","Year",{"$f":"G6","v":"2013/14"},{"$f":"H6","v":"2014/15"},{"$f":"I6","v":"2015/16"},{"$f":"J6","v":"2016/17"},{"$f":"K6","v":"2017/18"}]
[null,null,null,null,null,"Total Volume",{"$f":"SUM(D28:F121)","v":23850026.4128111},{"$f":"SUM(J28:L121)","v":23611526.148683004},{"$f":"SUM(P28:R121)","v":23375410.887196157},{"$f":"SUM(V28:X121)","v":23141656.778324194},{"$f":"SUM(AB28:AD121)","v":22910240.21054095}]
[null,null,null,null,null,"No. of MPANs",{"$f":"SUM(G28:G121)","v":2445782},{"$f":"SUM(M28:M121)","v":2470239.8199999989},{"$f":"SUM(S28:S121)","v":2494942.2181999995},{"$f":"SUM(Y28:Y121)","v":2519891.6403820002},{"$f":"SUM(AE28:AE121)","v":2545090.5567858214}]
[null,null,null,null,null,"Total Import Capacity",{"$f":"SUM(H28:H121)","v":3898000},{"$f":"SUM(N28:N121)","v":3898000},{"$f":"SUM(T28:T121)","v":3898000},{"$f":"SUM(Z28:Z121)","v":3898000},{"$f":"SUM(AF28:AF121)","v":3898000}]
[null,null,null,null,null,"Total Reactive",{"$f":"SUM(I28:I121)","v":1206683.679},{"$f":"SUM(O28:O121)","v":1206683.679},{"$f":"SUM(U28:U121)","v":1206683.679},{"$f":"SUM(AA28:AA121)","v":1206683.679},{"$f":"SUM(AG28:AG121)","v":1206683.679}]
[]
[]
[null,null,"1053. Volume forecasts for the charging year:",{"$f":"G6& \" - (\"&G5&\")\"","v":"2013/14 - (Y)"},null,null,null,null,null,{"$f":"H6& \" - (\"&H5&\")\"","v":"2014/15 - (Y + 1)"},null,null,null,null,null,{"$f":"I6& \" - (\"&I5&\")\"","v":"2015/16 - (Y + 2)"},null,null,null,null,null,{"$f":"J6& \" - (\"&J5&\")\"","v":"2016/17 - (Y + 3)"},null,null,null,null,null,{"$f":"K6& \" - (\"&K5&\")\"","v":"2017/18 - (Y + 4)"}]
[null,"Customer Category","Tariff","Rate 1 units (MWh)","Rate 2 units (MWh)","Rate 3 units (MWh)","MPANs","Import capacity (kVA)","Reactive power units (MVArh)","Rate 1 units (MWh)","Rate 2 units (MWh)","Rate 3 units (MWh)","MPANs","Import capacity (kVA)","Reactive power units (MVArh)","Rate 1 units (MWh)","Rate 2 units (MWh)","Rate 3 units (MWh)","MPANs","Import capacity (kVA)","Reactive power units (MVArh)","Rate 1 units (MWh)","Rate 2 units (MWh)","Rate 3 units (MWh)","MPANs","Import capacity (kVA)","Reactive power units (MVArh)","Rate 1 units (MWh)","Rate 2 units (MWh)","Rate 3 units (MWh)","MPANs","Import capacity (kVA)","Reactive power units (MVArh)"]
[1,null,"> Domestic Unrestricted"]
[{"$f":"+A27+1","v":2},1,"Domestic Unrestricted",7188253.0837154044,null,null,1922702,null,null,{"$f":"IF(D28,((VLOOKUP($B28,$E$7:$AE$16,4)+1)*D28),)","v":7116370.5528782504},{"$f":"IF(E28,((VLOOKUP($B28,$E$7:$AE$16,8)+1)*E28),)","v":0},{"$f":"IF(F28,((VLOOKUP($B28,$E$7:$AE$16,12)+1)*F28),)","v":0},{"$f":"IF(G28,((VLOOKUP($B28,$E$7:$AE$16,16)+1)*G28),)","v":1941929.02},{"$f":"IF(H28,((VLOOKUP($B28,$E$7:$AE$16,20)+1)*H28),)","v":0},{"$f":"IF(I28,((VLOOKUP($B28,$E$7:$AE$16,24)+1)*I28),)","v":0},{"$f":"IF(D28,((VLOOKUP($B28,$E$7:$AE$16,5)+1)*J28),)","v":7045206.8473494677},{"$f":"IF(E28,((VLOOKUP($B28,$E$7:$AE$16,5+4)+1)*K28),)","v":0},{"$f":"IF(F28,((VLOOKUP($B28,$E$7:$AE$16,5+8)+1)*L28),)","v":0},{"$f":"IF(G28,((VLOOKUP($B28,$E$7:$AE$16,5+12)+1)*M28),)","v":1961348.3101999999},{"$f":"IF(H28,((VLOOKUP($B28,$E$7:$AE$16,5+16)+1)*N28),)","v":0},{"$f":"IF(I28,((VLOOKUP($B28,$E$7:$AE$16,5+20)+1)*O28),)","v":0},{"$f":"IF(D28,((VLOOKUP($B28,$E$7:$AE$16,6)+1)*P28),)","v":6974754.7788759731},{"$f":"IF(E28,((VLOOKUP($B28,$E$7:$AE$16,6+4)+1)*Q28),)","v":0},{"$f":"IF(F28,((VLOOKUP($B28,$E$7:$AE$16,6+8)+1)*R28),)","v":0},{"$f":"IF(G28,((VLOOKUP($B28,$E$7:$AE$16,6+12)+1)*S28),)","v":1980961.793302},{"$f":"IF(H28,((VLOOKUP($B28,$E$7:$AE$16,6+16)+1)*T28),)","v":0},{"$f":"IF(I28,((VLOOKUP($B28,$E$7:$AE$16,6+20)+1)*U28),)","v":0},{"$f":"IF(D28,((VLOOKUP($B28,$E$7:$AE$16,7)+1)*V28),)","v":6905007.2310872134},{"$f":"IF(E28,((VLOOKUP($B28,$E$7:$AE$16,7+4)+1)*W28),)","v":0},{"$f":"IF(F28,((VLOOKUP($B28,$E$7:$AE$16,7+8)+1)*X28),)","v":0},{"$f":"IF(G28,((VLOOKUP($B28,$E$7:$AE$16,7+12)+1)*Y28),)","v":2000771.41123502},{"$f":"IF(H28,((VLOOKUP($B28,$E$7:$AE$16,7+16)+1)*Z28),)","v":0},{"$f":"IF(I28,((VLOOKUP($B28,$E$7:$AE$16,7+20)+1)*AA28),)","v":0}]
[{"$f":"+A28+1","v":3},1,"LDNO LV: Domestic Unrestricted",6885.1080000000002,null,null,4255,null,null,{"$f":"IF(D29,((VLOOKUP($B29,$E$7:$AE$16,4)+1)*D29),)","v":6816.2569199999998},0,0,4297.55,0,0,{"$f":"IF(D29,((VLOOKUP($B29,$E$7:$AE$16,5)+1)*J29),)","v":6748.0943508},0,0,4340.5255000000006,0,0,6680.6134072920004,0,0,4383.9307550000003,0,0,6613.8072732190803,0,0,4427.7700625500001,0,0]
[4,1,"LDNO HV: Domestic Unrestricted",21472.725000000002,null,null,9925,null,null,21257.997750000002,0,0,10024.25,0,0,21045.417772500001,0,0,10124.4925,0,0,20834.963594774999,0,0,10225.737425000001,0,0,20626.613958827249,0,0,10327.994799250002,0,0]
[5,null,"> Domestic Two Rate"]
[6,1,"Domestic Two Rate",1030801.3401332044,770885.2423801081,null,314618,null,null,{"$f":"IF(D32,((VLOOKUP($B32,$E$7:$AE$16,4)+1)*D32),)","v":1020493.3267318723},763176.38995630702,0,317764.18,0,0,1010288.3934645535,755544.6260567439,0,320941.82179999998,0,0,1000185.509529908,747989.1797961765,0,324151.24001799995,0,0,990183.65443460888,740509.28799821471,0,327392.75241817994,0,0]
[7,1,"LDNO LV: Domestic Two Rate",268.07499999999993,156.922,null,167,null,null,265.39424999999994,155.35278,0,168.67,0,0,262.74030749999991,153.79925219999998,0,170.35669999999999,0,0,260.1129044249999,152.26125967799999,0,172.06026699999998,0,0,257.5117753807499,150.73864708121999,0,173.78086966999999,0,0]
[8,1,"LDNO HV: Domestic Two Rate",386.87099999999998,358.44699999999995,null,265,null,null,383.00228999999996,354.86252999999994,0,267.64999999999998,0,0,379.17226709999994,351.31390469999991,0,270.32649999999995,0,0,375.38054442899994,347.80076565299993,0,273.02976499999994,0,0,371.62673898470996,344.32275799646993,0,275.76006264999995,0,0]
[9,null,"> Domestic Off Peak (related MPAN)"]
[10,1,"Domestic Off Peak (related MPAN)",37781.026033463524,null,null,null,null,null,37403.21577312889,0,0,0,0,0,37029.183615397604,0,0,0,0,0,36658.891779243626,0,0,0,0,0,36292.302861451186,0,0,0,0,0]
[11,1,"LDNO LV: Domestic Off Peak (related MPAN)",null,null,null,null,null,null,0,0,0,0,0,0,0,0,0,0,0,0,0,0,0,0,0,0,0,0,0,0,0,0]
[12,1,"LDNO HV: Domestic Off Peak (related MPAN)",null,null,null,null,null,null,0,0,0,0,0,0,0,0,0,0,0,0,0,0,0,0,0,0,0,0,0,0,0,0]
[13,null,"> Small Non Domestic Unrestricted"]
[14,1,"Small Non Domestic Unrestricted",1667665.7642358467,null,null,132921,null,null,1650989.1065934882,0,0,134250.21,0,0,1634479.2155275533,0,0,135592.7121,0,0,1618134.4233722778,0,0,136948.63922100002,0,0,1601953.0791385549,0,0,138318.12561321002,0,0]
[15,1,"LDNO LV: Small Non Domestic Unrestricted",657.04099999999994,null,null,104,null,null,650.4705899999999,0,0,105.04,0,0,643.96588409999993,0,0,106.0904,0,0,637.52622525899994,0,0,107.15130400000001,0,0,631.15096300640994,0,0,108.22281704000001,0,0]
[16,1,"LDNO HV: Small Non Domestic Unrestricted",6413.625,null,null,385,null,null,6349.4887499999995,0,0,388.85,0,0,6285.9938624999995,0,0,392.73850000000004,0,0,6223.1339238749997,0,0,396.66588500000006,0,0,6160.9025846362492,0,0,400.63254385000005,0,0]
[17,null,"> Small Non Domestic Two Rate"]
[18,1,"Small Non Domestic Two Rate",472549.48909294046,214687.72011949765,null,32175,null,null,467823.99420201103,212540.84291830266,0,32496.75,0,0,463145.75425999094,210415.43448911962,0,32821.717499999999,0,0,458514.296717391,208311.28014422843,0,33149.934674999997,0,0,453929.15375021711,206228.16734278615,0,33481.434021749999,0,0]
[19,1,"LDNO LV: Small Non Domestic Two Rate",321.815,94.725000000000009,null,9,null,null,318.59685000000002,93.777750000000012,0,9.09,0,0,315.41088150000002,92.839972500000016,0,9.1808999999999994,0,0,312.25677268499999,91.91157277500001,0,9.272708999999999,0,0,309.13420495815001,90.992457047250014,0,9.3654360899999993,0,0]
[20,1,"LDNO HV: Small Non Domestic Two Rate",1411.414,363.78099999999995,null,39,null,null,1397.2998600000001,360.14318999999995,0,39.39,0,0,1383.3268614000001,356.54175809999992,0,39.783900000000003,0,0,1369.4935927860001,352.9763405189999,0,40.181739,0,0,1355.79865685814,349.44657711380989,0,40.583556389999998,0,0]
[21,null,"> Small Non Domestic Off Peak (related MPAN)",null,null,null,null,null,null,0,0,0,0,0,0,0,0,0,0,0,0,0,0,0,0,0,0,0,0,0,0,0,0]
[22,1,"Small Non Domestic Off Peak (related MPAN)",6401.6648192381081,null,null,null,null,null,6337.6481710457265,0,0,0,0,0,6274.271689335269,0,0,0,0,0,6211.5289724419163,0,0,0,0,0,6149.4136827174971,0,0,0,0,0]
[23,1,"LDNO LV: Small Non Domestic Off Peak (related MPAN)",null,null,null,null,null,null,0,0,0,0,0,0,0,0,0,0,0,0,0,0,0,0,0,0,0,0,0,0,0,0]
[24,1,"LDNO HV: Small Non Domestic Off Peak (related MPAN)",null,null,null,null,null,null,0,0,0,0,0,0,0,0,0,0,0,0,0,0,0,0,0,0,0,0,0,0,0,0]
[25,null,"> LV Medium Non-Domestic",null,null,null,null,null,null,0,0,0,0,0,0,0,0,0,0,0,0,0,0,0,0,0,0,0,0,0,0,0,0]
[26,1,"LV Medium Non-Domestic",1307127.2320854,315613.51466237998,null,17765,null,null,1294055.959764546,312457.37951575615,0,17942.650000000001,0,0,1281115.4001669006,309332.80572059861,0,18122.076500000003,0,0,1268304.2461652316,306239.47766339261,0,18303.297265000005,0,0,1255621.2037035793,303177.08288675867,0,18486.330237650003,0,0]
[27,1,"LDNO LV: LV Medium Non-Domestic",305.52299999999997,103.38799999999999,null,7,null,null,302.46776999999997,102.35411999999999,0,7.07,0,0,299.44309229999999,101.3305788,0,7.1407000000000007,0,0,296.44866137700001,100.317273012,0,7.2121070000000005,0,0,293.48417476322999,99.314100281880002,0,7.2842280700000002,0,0]
[28,1,"LDNO HV: LV Medium Non-Domestic",6556.33,1534.5619999999999,null,62,null,null,6490.7667000000001,1519.2163799999998,0,62.62,0,0,6425.8590329999997,1504.0242161999997,0,63.246199999999995,0,0,6361.6004426700001,1488.9839740379998,0,63.878661999999998,0,0,6297.9844382433002,1474.0941342976198,0,64.517448619999996,0,0]
[29,null,"> LV Sub Medium Non-Domestic",null,null,null,null,null,null,0,0,0,0,0,0,0,0,0,0,0,0,0,0,0,0,0,0,0,0,0,0,0,0]
[30,1,"LV Sub Medium Non-Domestic",93.640559760000016,24.59237418,null,3,null,null,92.704154162400016,24.346450438200002,0,3.0300000000000002,0,0,91.777112620776009,24.102985933818001,0,3.0603000000000002,0,0,90.859341494568241,23.861956074479821,0,3.0909030000000004,0,0,89.950748079622556,23.623336513735023,0,3.1218120300000005,0,0]
[31,null,"> HV Medium Non-Domestic",null,null,null,null,null,null,0,0,0,0,0,0,0,0,0,0,0,0,0,0,0,0,0,0,0,0,0,0,0,0]
[32,1,"HV Medium Non-Domestic",37255.55376114,10222.219432259999,null,273,null,null,36882.998223528601,10119.997237937399,0,275.73,0,0,36514.168241293315,10018.797265558025,0,278.4873,0,0,36149.026558880381,9918.6092929024453,0,281.27217300000001,0,0,35787.536293291574,9819.4231999734202,0,284.08489473000003,0,0]
[33,null,"> LV HH Metered",null,null,null,null,null,null,0,0,0,0,0,0,0,0,0,0,0,0,0,0,0,0,0,0,0,0,0,0,0,0]
[34,2,"LV HH Metered",209180.97799631994,833098.69413935998,858293.18532144045,6018,983000,164557.5686,207089.16821635675,824767.7071979664,849710.25346822606,6078.18,983000,164557.5686,205018.27653419317,816520.03012598678,841213.1509335438,6138.9618,983000,164557.5686,202968.09376885122,808354.82982472691,832801.01942420832,6200.3514180000002,983000,164557.5686,200938.41283116271,800271.28152647964,824473.00922996621,6262.3549321800001,983000,164557.5686]
[35,2,"LDNO LV: LV HH Metered",7.5131999999999994,54.54839999999998,1.4076,1,0,0.81,7.4380679999999995,54.002915999999978,1.393524,1.01,0,0.81,7.3636873199999995,53.462886839999975,1.3795887600000001,1.0201,0,0.81,7.2900504467999996,52.928257971599976,1.3657928724000001,1.0303009999999999,0,0.81,7.2171499423319991,52.398975391883972,1.3521349436760002,1.04060401,0,0.81]
[36,2,"LDNO HV: LV HH Metered",4294.6881000000003,14589.245799999995,15977.054899999999,79,19000,1075.1704,4251.7412190000005,14443.353341999995,15817.284350999998,79.790000000000006,19000,1075.1704,4209.2238068100005,14298.919808579994,15659.111507489999,80.587900000000005,19000,1075.1704,4167.1315687419001,14155.930610494195,15502.520392415099,81.393779000000009,19000,1075.1704,4125.4602530544807,14014.371304389253,15347.495188490948,82.207716790000006,19000,1075.1704]
[37,null,"> LV Sub HH Metered",null,null,null,null,null,null,0,0,0,0,0,0,0,0,0,0,0,0,0,0,0,0,0,0,0,0,0,0,0,0]
[38,2,"LV Sub HH Metered",2299.1096700000003,8498.8490399999973,10550.764619999998,32,17000,603.10400000000004,2276.1185733000002,8413.8605495999964,10445.256973799998,32.32,17000,603.10400000000004,2253.3573875670004,8329.7219441039961,10340.804404061999,32.6432,17000,603.10400000000004,2230.8238136913305,8246.4247246629566,10237.396360021379,32.969631999999997,17000,603.10400000000004,2208.5155755544174,8163.9604774163272,10135.022396421165,33.299328320000001,17000,603.10400000000004]
[39,2,"LDNO HV: LV Sub HH Metered",187.04909999999998,641.99970000000008,1199.4126000000001,1,0,675.18520000000001,185.17860899999997,635.57970300000011,1187.4184740000001,1.01,0,675.18520000000001,183.32682290999998,629.22390597000015,1175.5442892600001,1.0201,0,675.18520000000001,181.49355468089996,622.93166691030012,1163.7888463674001,1.0303009999999999,0,675.18520000000001,179.67861913409095,616.70235024119711,1152.1509579037261,1.04060401,0,675.18520000000001]
[40,null,"> HV HH Metered",null,null,null,null,null,null,0,0,0,0,0,0,0,0,0,0,0,0,0,0,0,0,0,0,0,0,0,0,0,0]
[41,2,"HV HH Metered",792514.24138854013,3163549.9176507592,4024837.0100446199,3709,2873000,1033930.8586,784589.09897465468,3131914.4184742514,3984588.6399441739,3746.09,2873000,1033930.8586,776743.20798490813,3100595.2742895088,3944742.753544732,3783.5509000000002,2873000,1033930.8586,768975.77590505907,3069589.3215466137,3905295.3260092847,3821.3864090000002,2873000,1033930.8586,761286.01814600849,3038893.4283311474,3866242.3727491917,3859.6002730900004,2873000,1033930.8586]
[42,2,"LDNO HV: HV HH Metered",1655.0762000000007,5248.0467000000008,5557.1989999999996,9,6000,832.24840000000006,1638.5254380000006,5195.5662330000005,5501.6270099999992,9.09,6000,832.24840000000006,1622.1401836200005,5143.61057067,5446.6107398999993,9.1808999999999994,6000,832.24840000000006,1605.9187817838003,5092.1744649633001,5392.1446325009993,9.272708999999999,6000,832.24840000000006,1589.8595939659624,5041.2527203136669,5338.2231861759892,9.3654360899999993,6000,832.24840000000006]
[43,null,"> HV Sub HH Metered",null,null,null,null,null,null,0,0,0,0,0,0,0,0,0,0,0,0,0,0,0,0,0,0,0,0,0,0,0,0]
[44,2,"HV Sub HH Metered",null,null,null,null,null,null,0,0,0,0,0,0,0,0,0,0,0,0,0,0,0,0,0,0,0,0,0,0,0,0]
[45,null,"> NHH UMS category A",null,null,null,null,null,null,0,0,0,0,0,0,0,0,0,0,0,0,0,0,0,0,0,0,0,0,0,0,0,0]
[46,1,"NHH UMS category A",64233.153152453415,null,null,null,null,null,63590.82162092888,0,0,0,0,0,62954.913404719591,0,0,0,0,0,62325.364270672391,0,0,0,0,0,61702.110627965667,0,0,0,0,0]
[47,1,"LDNO LV: NHH UMS category A",40.824837367378308,null,null,null,null,null,40.416588993704522,0,0,0,0,0,40.012423103767475,0,0,0,0,0,39.612298872729802,0,0,0,0,0,39.216175884002503,0,0,0,0,0]
[48,1,"LDNO HV: NHH UMS category A",186.65731724588559,null,null,null,null,null,184.79074407342674,0,0,0,0,0,182.94283663269246,0,0,0,0,0,181.11340826636552,0,0,0,0,0,179.30227418370185,0,0,0,0,0]
[49,null,"> NHH UMS category B",null,null,null,null,null,null,0,0,0,0,0,0,0,0,0,0,0,0,0,0,0,0,0,0,0,0,0,0,0,0]
[50,1,"NHH UMS category B",34027.266358518347,null,null,null,null,null,33686.99369493316,0,0,0,0,0,33350.123757983827,0,0,0,0,0,33016.622520403987,0,0,0,0,0,32686.456295199947,0,0,0,0,0]
[51,1,"LDNO LV: NHH UMS category B",21.626800911452921,null,null,null,null,null,21.410532902338392,0,0,0,0,0,21.19642757331501,0,0,0,0,0,20.984463297581858,0,0,0,0,0,20.774618664606038,0,0,0,0,0]
[52,1,"LDNO HV: NHH UMS category B",98.880997428500265,null,null,null,null,null,97.892187454215261,0,0,0,0,0,96.913265579673109,0,0,0,0,0,95.944132923876381,0,0,0,0,0,94.98469159463761,0,0,0,0,0]
[53,null,"> NHH UMS category C",null,null,null,null,null,null,0,0,0,0,0,0,0,0,0,0,0,0,0,0,0,0,0,0,0,0,0,0,0,0]
[54,1,"NHH UMS category C",775.90482271463247,null,null,null,null,null,768.14577448748616,0,0,0,0,0,760.46431674261135,0,0,0,0,0,752.85967357518518,0,0,0,0,0,745.33107683943331,0,0,0,0,0]
[55,1,"LDNO LV: NHH UMS category C",0.49314390848457806,null,null,null,null,null,0.48821246939973229,0,0,0,0,0,0.48333034470573494,0,0,0,0,0,0.47849704125867759,0,0,0,0,0,0.47371207084609079,0,0,0,0,0]
[56,1,"LDNO HV: NHH UMS category C",2.2547283690451372,null,null,null,null,null,2.2321810853546857,0,0,0,0,0,2.2098592745011389,0,0,0,0,0,2.1877606817561275,0,0,0,0,0,2.165883074938566,0,0,0,0,0]
[57,null,"> NHH UMS category D",null,null,null,null,null,null,{"$f":"IF(D83,((VLOOKUP($B83,$E$7:$AE$16,4)+1)*D83),)","v":0},{"$f":"IF(E83,((VLOOKUP($B83,$E$7:$AE$16,8)+1)*E83),)","v":0},{"$f":"IF(F83,((VLOOKUP($B83,$E$7:$AE$16,12)+1)*F83),)","v":0},{"$f":"IF(G83,((VLOOKUP($B83,$E$7:$AE$16,16)+1)*G83),)","v":0},{"$f":"IF(H83,((VLOOKUP($B83,$E$7:$AE$16,20)+1)*H83),)","v":0},{"$f":"IF(I83,((VLOOKUP($B83,$E$7:$AE$16,24)+1)*I83),)","v":0},{"$f":"IF(D83,((VLOOKUP($B83,$E$7:$AE$16,5)+1)*J83),)","v":0},{"$f":"IF(E83,((VLOOKUP($B83,$E$7:$AE$16,5+4)+1)*K83),)","v":0},{"$f":"IF(F83,((VLOOKUP($B83,$E$7:$AE$16,5+8)+1)*L83),)","v":0},{"$f":"IF(G83,((VLOOKUP($B83,$E$7:$AE$16,5+12)+1)*M83),)","v":0},{"$f":"IF(H83,((VLOOKUP($B83,$E$7:$AE$16,5+16)+1)*N83),)","v":0},{"$f":"IF(I83,((VLOOKUP($B83,$E$7:$AE$16,5+20)+1)*O83),)","v":0},{"$f":"IF(D83,((VLOOKUP($B83,$E$7:$AE$16,6)+1)*P83),)","v":0},{"$f":"IF(E83,((VLOOKUP($B83,$E$7:$AE$16,6+4)+1)*Q83),)","v":0},{"$f":"IF(F83,((VLOOKUP($B83,$E$7:$AE$16,6+8)+1)*R83),)","v":0},{"$f":"IF(G83,((VLOOKUP($B83,$E$7:$AE$16,6+12)+1)*S83),)","v":0},{"$f":"IF(H83,((VLOOKUP($B83,$E$7:$AE$16,6+16)+1)*T83),)","v":0},{"$f":"IF(I83,((VLOOKUP($B83,$E$7:$AE$16,6+20)+1)*U83),)","v":0},{"$f":"IF(D83,((VLOOKUP($B83,$E$7:$AE$16,7)+1)*V83),)","v":0},{"$f":"IF(E83,((VLOOKUP($B83,$E$7:$AE$16,7+4)+1)*W83),)","v":0},{"$f":"IF(F83,((VLOOKUP($B83,$E$7:$AE$16,7+8)+1)*X83),)","v":0},{"$f":"IF(G83,((VLOOKUP($B83,$E$7:$AE$16,7+12)+1)*Y83),)","v":0},{"$f":"IF(H83,((VLOOKUP($B83,$E$7:$AE$16,7+16)+1)*Z83),)","v":0},{"$f":"IF(I83,((VLOOKUP($B83,$E$7:$AE$16,7+20)+1)*AA83),)","v":0}]
[58,1,"NHH UMS category D",5516.6276284535907,null,null,null,null,null,{"$f":"IF(D84,((VLOOKUP($B84,$E$7:$AE$16,4)+1)*D84),)","v":5461.4613521690544},{"$f":"IF(E84,((VLOOKUP($B84,$E$7:$AE$16,8)+1)*E84),)","v":0},{"$f":"IF(F84,((VLOOKUP($B84,$E$7:$AE$16,12)+1)*F84),)","v":0},{"$f":"IF(G84,((VLOOKUP($B84,$E$7:$AE$16,16)+1)*G84),)","v":0},{"$f":"IF(H84,((VLOOKUP($B84,$E$7:$AE$16,20)+1)*H84),)","v":0},{"$f":"IF(I84,((VLOOKUP($B84,$E$7:$AE$16,24)+1)*I84),)","v":0},{"$f":"IF(D84,((VLOOKUP($B84,$E$7:$AE$16,5)+1)*J84),)","v":5406.846738647364},{"$f":"IF(E84,((VLOOKUP($B84,$E$7:$AE$16,5+4)+1)*K84),)","v":0},{"$f":"IF(F84,((VLOOKUP($B84,$E$7:$AE$16,5+8)+1)*L84),)","v":0},{"$f":"IF(G84,((VLOOKUP($B84,$E$7:$AE$16,5+12)+1)*M84),)","v":0},{"$f":"IF(H84,((VLOOKUP($B84,$E$7:$AE$16,5+16)+1)*N84),)","v":0},{"$f":"IF(I84,((VLOOKUP($B84,$E$7:$AE$16,5+20)+1)*O84),)","v":0},{"$f":"IF(D84,((VLOOKUP($B84,$E$7:$AE$16,6)+1)*P84),)","v":5352.7782712608905},{"$f":"IF(E84,((VLOOKUP($B84,$E$7:$AE$16,6+4)+1)*Q84),)","v":0},{"$f":"IF(F84,((VLOOKUP($B84,$E$7:$AE$16,6+8)+1)*R84),)","v":0},{"$f":"IF(G84,((VLOOKUP($B84,$E$7:$AE$16,6+12)+1)*S84),)","v":0},{"$f":"IF(H84,((VLOOKUP($B84,$E$7:$AE$16,6+16)+1)*T84),)","v":0},{"$f":"IF(I84,((VLOOKUP($B84,$E$7:$AE$16,6+20)+1)*U84),)","v":0},{"$f":"IF(D84,((VLOOKUP($B84,$E$7:$AE$16,7)+1)*V84),)","v":5299.2504885482813},{"$f":"IF(E84,((VLOOKUP($B84,$E$7:$AE$16,7+4)+1)*W84),)","v":0},{"$f":"IF(F84,((VLOOKUP($B84,$E$7:$AE$16,7+8)+1)*X84),)","v":0},{"$f":"IF(G84,((VLOOKUP($B84,$E$7:$AE$16,7+12)+1)*Y84),)","v":0},{"$f":"IF(H84,((VLOOKUP($B84,$E$7:$AE$16,7+16)+1)*Z84),)","v":0},{"$f":"IF(I84,((VLOOKUP($B84,$E$7:$AE$16,7+20)+1)*AA84),)","v":0}]
[59,1,"LDNO LV: NHH UMS category D",3.5062178126841901,null,null,null,null,null,{"$f":"IF(D85,((VLOOKUP($B85,$E$7:$AE$16,4)+1)*D85),)","v":3.471155634557348},{"$f":"IF(E85,((VLOOKUP($B85,$E$7:$AE$16,8)+1)*E85),)","v":0},{"$f":"IF(F85,((VLOOKUP($B85,$E$7:$AE$16,12)+1)*F85),)","v":0},{"$f":"IF(G85,((VLOOKUP($B85,$E$7:$AE$16,16)+1)*G85),)","v":0},{"$f":"IF(H85,((VLOOKUP($B85,$E$7:$AE$16,20)+1)*H85),)","v":0},{"$f":"IF(I85,((VLOOKUP($B85,$E$7:$AE$16,24)+1)*I85),)","v":0},{"$f":"IF(D85,((VLOOKUP($B85,$E$7:$AE$16,5)+1)*J85),)","v":3.4364440782117747},{"$f":"IF(E85,((VLOOKUP($B85,$E$7:$AE$16,5+4)+1)*K85),)","v":0},{"$f":"IF(F85,((VLOOKUP($B85,$E$7:$AE$16,5+8)+1)*L85),)","v":0},{"$f":"IF(G85,((VLOOKUP($B85,$E$7:$AE$16,5+12)+1)*M85),)","v":0},{"$f":"IF(H85,((VLOOKUP($B85,$E$7:$AE$16,5+16)+1)*N85),)","v":0},{"$f":"IF(I85,((VLOOKUP($B85,$E$7:$AE$16,5+20)+1)*O85),)","v":0},{"$f":"IF(D85,((VLOOKUP($B85,$E$7:$AE$16,6)+1)*P85),)","v":3.4020796374296567},{"$f":"IF(E85,((VLOOKUP($B85,$E$7:$AE$16,6+4)+1)*Q85),)","v":0},{"$f":"IF(F85,((VLOOKUP($B85,$E$7:$AE$16,6+8)+1)*R85),)","v":0},{"$f":"IF(G85,((VLOOKUP($B85,$E$7:$AE$16,6+12)+1)*S85),)","v":0},{"$f":"IF(H85,((VLOOKUP($B85,$E$7:$AE$16,6+16)+1)*T85),)","v":0},{"$f":"IF(I85,((VLOOKUP($B85,$E$7:$AE$16,6+20)+1)*U85),)","v":0},{"$f":"IF(D85,((VLOOKUP($B85,$E$7:$AE$16,7)+1)*V85),)","v":3.36805884105536},{"$f":"IF(E85,((VLOOKUP($B85,$E$7:$AE$16,7+4)+1)*W85),)","v":0},{"$f":"IF(F85,((VLOOKUP($B85,$E$7:$AE$16,7+8)+1)*X85),)","v":0},{"$f":"IF(G85,((VLOOKUP($B85,$E$7:$AE$16,7+12)+1)*Y85),)","v":0},{"$f":"IF(H85,((VLOOKUP($B85,$E$7:$AE$16,7+16)+1)*Z85),)","v":0},{"$f":"IF(I85,((VLOOKUP($B85,$E$7:$AE$16,7+20)+1)*AA85),)","v":0}]
[60,1,"LDNO HV: NHH UMS category D",16.030956956568918,null,null,null,null,null,{"$f":"IF(D86,((VLOOKUP($B86,$E$7:$AE$16,4)+1)*D86),)","v":15.870647387003229},{"$f":"IF(E86,((VLOOKUP($B86,$E$7:$AE$16,8)+1)*E86),)","v":0},{"$f":"IF(F86,((VLOOKUP($B86,$E$7:$AE$16,12)+1)*F86),)","v":0},{"$f":"IF(G86,((VLOOKUP($B86,$E$7:$AE$16,16)+1)*G86),)","v":0},{"$f":"IF(H86,((VLOOKUP($B86,$E$7:$AE$16,20)+1)*H86),)","v":0},{"$f":"IF(I86,((VLOOKUP($B86,$E$7:$AE$16,24)+1)*I86),)","v":0},{"$f":"IF(D86,((VLOOKUP($B86,$E$7:$AE$16,5)+1)*J86),)","v":15.711940913133198},{"$f":"IF(E86,((VLOOKUP($B86,$E$7:$AE$16,5+4)+1)*K86),)","v":0},{"$f":"IF(F86,((VLOOKUP($B86,$E$7:$AE$16,5+8)+1)*L86),)","v":0},{"$f":"IF(G86,((VLOOKUP($B86,$E$7:$AE$16,5+12)+1)*M86),)","v":0},{"$f":"IF(H86,((VLOOKUP($B86,$E$7:$AE$16,5+16)+1)*N86),)","v":0},{"$f":"IF(I86,((VLOOKUP($B86,$E$7:$AE$16,5+20)+1)*O86),)","v":0},{"$f":"IF(D86,((VLOOKUP($B86,$E$7:$AE$16,6)+1)*P86),)","v":15.554821504001866},{"$f":"IF(E86,((VLOOKUP($B86,$E$7:$AE$16,6+4)+1)*Q86),)","v":0},{"$f":"IF(F86,((VLOOKUP($B86,$E$7:$AE$16,6+8)+1)*R86),)","v":0},{"$f":"IF(G86,((VLOOKUP($B86,$E$7:$AE$16,6+12)+1)*S86),)","v":0},{"$f":"IF(H86,((VLOOKUP($B86,$E$7:$AE$16,6+16)+1)*T86),)","v":0},{"$f":"IF(I86,((VLOOKUP($B86,$E$7:$AE$16,6+20)+1)*U86),)","v":0},{"$f":"IF(D86,((VLOOKUP($B86,$E$7:$AE$16,7)+1)*V86),)","v":15.399273288961847},{"$f":"IF(E86,((VLOOKUP($B86,$E$7:$AE$16,7+4)+1)*W86),)","v":0},{"$f":"IF(F86,((VLOOKUP($B86,$E$7:$AE$16,7+8)+1)*X86),)","v":0},{"$f":"IF(G86,((VLOOKUP($B86,$E$7:$AE$16,7+12)+1)*Y86),)","v":0},{"$f":"IF(H86,((VLOOKUP($B86,$E$7:$AE$16,7+16)+1)*Z86),)","v":0},{"$f":"IF(I86,((VLOOKUP($B86,$E$7:$AE$16,7+20)+1)*AA86),)","v":0}]
[61,null,"> LV UMS (Pseudo HH Metered)",null,null,null,null,null,null,0,0,0,0,0,0,0,0,0,0,0,0,0,0,0,0,0,0,0,0,0,0,0,0]
[62,2,"LV UMS (Pseudo HH Metered)",11973.632156626389,27603.899064733614,208157.83305173996,null,null,null,11853.895835060124,27327.860074086278,206076.25472122256,0,0,0,11735.356876709522,27054.581473345417,204015.49217401035,0,0,0,11618.003307942427,26784.035658611963,201975.33725227023,0,0,0,11501.823274863002,26516.195302025844,199955.58387974752,0,0,0]
[63,2,"LDNO LV: LV UMS (Pseudo HH Metered)",null,null,null,null,null,null,0,0,0,0,0,0,0,0,0,0,0,0,0,0,0,0,0,0,0,0,0,0,0,0]
[64,2,"LDNO HV: LV UMS (Pseudo HH Metered)",null,null,null,null,null,null,0,0,0,0,0,0,0,0,0,0,0,0,0,0,0,0,0,0,0,0,0,0,0,0]
[65,null,"> LV Generation NHH",null,null,null,null,null,null,0,0,0,0,0,0,0,0,0,0,0,0,0,0,0,0,0,0,0,0,0,0,0,0]
[66,4,"LV Generation NHH",444.63900000000001,null,null,96,null,null,440.19261,{"$f":"IF(E92,((VLOOKUP($B92,$E$7:$AE$16,8)+1)*E92),)","v":0},{"$f":"IF(F92,((VLOOKUP($B92,$E$7:$AE$16,12)+1)*F92),)","v":0},{"$f":"IF(G92,((VLOOKUP($B92,$E$7:$AE$16,16)+1)*G92),)","v":96.960000000000008},{"$f":"IF(H92,((VLOOKUP($B92,$E$7:$AE$16,20)+1)*H92),)","v":0},{"$f":"IF(I92,((VLOOKUP($B92,$E$7:$AE$16,24)+1)*I92),)","v":0},435.79068389999998,{"$f":"IF(E92,((VLOOKUP($B92,$E$7:$AE$16,5+4)+1)*K92),)","v":0},{"$f":"IF(F92,((VLOOKUP($B92,$E$7:$AE$16,5+8)+1)*L92),)","v":0},{"$f":"IF(G92,((VLOOKUP($B92,$E$7:$AE$16,5+12)+1)*M92),)","v":97.929600000000008},{"$f":"IF(H92,((VLOOKUP($B92,$E$7:$AE$16,5+16)+1)*N92),)","v":0},{"$f":"IF(I92,((VLOOKUP($B92,$E$7:$AE$16,5+20)+1)*O92),)","v":0},{"$f":"IF(D92,((VLOOKUP($B92,$E$7:$AE$16,6)+1)*P92),)","v":431.43277706099997},{"$f":"IF(E92,((VLOOKUP($B92,$E$7:$AE$16,6+4)+1)*Q92),)","v":0},{"$f":"IF(F92,((VLOOKUP($B92,$E$7:$AE$16,6+8)+1)*R92),)","v":0},{"$f":"IF(G92,((VLOOKUP($B92,$E$7:$AE$16,6+12)+1)*S92),)","v":98.908896000000013},{"$f":"IF(H92,((VLOOKUP($B92,$E$7:$AE$16,6+16)+1)*T92),)","v":0},{"$f":"IF(I92,((VLOOKUP($B92,$E$7:$AE$16,6+20)+1)*U92),)","v":0},{"$f":"IF(D92,((VLOOKUP($B92,$E$7:$AE$16,7)+1)*V92),)","v":427.11844929038995},{"$f":"IF(E92,((VLOOKUP($B92,$E$7:$AE$16,7+4)+1)*W92),)","v":0},{"$f":"IF(F92,((VLOOKUP($B92,$E$7:$AE$16,7+8)+1)*X92),)","v":0},{"$f":"IF(G92,((VLOOKUP($B92,$E$7:$AE$16,7+12)+1)*Y92),)","v":99.897984960000016},{"$f":"IF(H92,((VLOOKUP($B92,$E$7:$AE$16,7+16)+1)*Z92),)","v":0},{"$f":"IF(I92,((VLOOKUP($B92,$E$7:$AE$16,7+20)+1)*AA92),)","v":0}]
[{"$f":"+A92+1","v":67},4,"LDNO LV: LV Generation NHH",null,null,null,0,null,null,{"$f":"IF(D93,((VLOOKUP($B93,$E$7:$AE$16,4)+1)*D93),)","v":0},0,0,0,0,0,{"$f":"IF(D93,((VLOOKUP($B93,$E$7:$AE$16,5)+1)*J93),)","v":0},0,0,0,0,0,0,0,0,0,0,0,0,0,0,0,0,0]
[68,4,"LDNO HV: LV Generation NHH",null,null,null,0,null,null,0,0,0,0,0,0,0,0,0,0,0,0,0,0,0,0,0,0,0,0,0,0,0,0]
[69,null,"> LV Sub Generation NHH",null,null,null,null,null,null,0,0,0,0,0,0,0,0,0,0,0,0,0,0,0,0,0,0,0,0,0,0,0,0]
[70,4,"LV Sub Generation NHH",null,null,null,0,null,null,0,0,0,0,0,0,0,0,0,0,0,0,0,0,0,0,0,0,0,0,0,0,0,0]
[71,4,"LDNO HV: LV Sub Generation NHH",null,null,null,0,null,null,0,0,0,0,0,0,0,0,0,0,0,0,0,0,0,0,0,0,0,0,0,0,0,0]
[72,null,"> LV Generation Intermittent",null,null,null,null,null,null,0,0,0,0,0,0,0,0,0,0,0,0,0,0,0,0,0,0,0,0,0,0,0,0]
[73,4,"LV Generation Intermittent",46.675000000000004,null,null,20,null,16.962,46.208250000000007,0,0,20.2,0,16.962,45.746167500000006,0,0,20.402000000000001,0,16.962,45.288705825000008,0,0,20.606020000000001,0,16.962,44.835818766750009,0,0,20.8120802,0,16.962]
[74,4,"LDNO LV: LV Generation Intermittent",null,null,null,null,null,null,0,0,0,0,0,0,0,0,0,0,0,0,0,0,0,0,0,0,0,0,0,0,0,0]
[75,4,"LDNO HV: LV Generation Intermittent",null,null,null,null,null,null,0,0,0,0,0,0,0,0,0,0,0,0,0,0,0,0,0,0,0,0,0,0,0,0]
[76,null,"> LV Generation Non-Intermittent",null,null,null,null,null,null,0,0,0,0,0,0,0,0,0,0,0,0,0,0,0,0,0,0,0,0,0,0,0,0]
[77,4,"LV Generation Non-Intermittent",231.31299999999996,877.74900000000002,1443.4639999999999,57,null,85.26939999999999,228.99986999999996,868.97150999999997,1429.02936,57.57,0,85.26939999999999,226.70987129999995,860.28179489999991,1414.7390664,58.145699999999998,0,85.26939999999999,224.44277258699995,851.67897695099987,1400.5916757359998,58.727156999999998,0,85.26939999999999,222.19834486112995,843.16218718148991,1386.5857589786399,59.314428569999997,0,85.26939999999999]
[78,4,"LDNO LV: LV Generation Non-Intermittent",null,null,null,null,null,null,0,0,0,0,0,0,0,0,0,0,0,0,0,0,0,0,0,0,0,0,0,0,0,0]
[79,4,"LDNO HV: LV Generation Non-Intermittent",null,null,null,null,null,null,0,0,0,0,0,0,0,0,0,0,0,0,0,0,0,0,0,0,0,0,0,0,0,0]
[80,null,"> LV Sub Generation Intermittent",null,null,null,null,null,null,0,0,0,0,0,0,0,0,0,0,0,0,0,0,0,0,0,0,0,0,0,0,0,0]
[81,4,"LV Sub Generation Intermittent",0,null,null,null,null,0,0,0,0,0,0,0,0,0,0,0,0,0,0,0,0,0,0,0,0,0,0,0,0,0]
[82,4,"LDNO HV: LV Sub Generation Intermittent",null,null,null,null,null,null,0,0,0,0,0,0,0,0,0,0,0,0,0,0,0,0,0,0,0,0,0,0,0,0]
[83,null,"> LV Sub Generation Non-Intermittent",null,null,null,null,null,null,0,0,0,0,0,0,0,0,0,0,0,0,0,0,0,0,0,0,0,0,0,0,0,0]
[84,4,"LV Sub Generation Non-Intermittent",0,0,0.312,null,null,3.4596,0,0,0.30887999999999999,0,0,3.4596,0,0,0.30579119999999999,0,0,3.4596,0,0,0.30273328799999999,0,0,3.4596,0,0,0.29970595511999998,0,0,3.4596]
[85,4,"LDNO HV: LV Sub Generation Non-Intermittent",null,null,null,null,null,null,0,0,0,0,0,0,0,0,0,0,0,0,0,0,0,0,0,0,0,0,0,0,0,0]
[86,null,"> HV Generation Intermittent",null,null,null,null,null,null,0,0,0,0,0,0,0,0,0,0,0,0,0,0,0,0,0,0,0,0,0,0,0,0]
[87,4,"HV Generation Intermittent",987.74199999999996,null,null,4,null,376.0514,977.86457999999993,0,0,4.04,0,376.0514,968.08593419999988,0,0,4.0804,0,376.0514,958.40507485799992,0,0,4.1212039999999996,0,376.0514,948.82102410941991,0,0,4.1624160400000001,0,376.0514]
[88,4,"LDNO HV: HV Generation Intermittent",null,null,null,null,null,null,0,0,0,0,0,0,0,0,0,0,0,0,0,0,0,0,0,0,0,0,0,0,0,0]
[89,null,"> HV Generation Non-Intermittent",null,null,null,null,null,null,0,0,0,0,0,0,0,0,0,0,0,0,0,0,0,0,0,0,0,0,0,0,0,0]
[90,4,"HV Generation Non-Intermittent",39368.898999999998,133192.95699999999,261885.64500000002,81,null,4526.9914000000008,38975.210009999995,131861.02742999999,259266.78855000003,81.81,0,4526.9914000000008,38585.457909899997,130542.41715569998,256674.12066450002,82.628100000000003,0,4526.9914000000008,38199.603330800994,129236.99298414298,254107.37945785502,83.454380999999998,0,4526.9914000000008,37817.607297492985,127944.62305430156,251566.30566327646,84.288924809999997,0,4526.9914000000008]
[91,4,"LDNO HV: HV Generation Non-Intermittent",null,null,null,null,null,null,0,0,0,0,0,0,0,0,0,0,0,0,0,0,0,0,0,0,0,0,0,0,0,0]
[92,null,"> HV Sub Generation Non-Intermittent",null,null,null,null,null,null,0,0,0,0,0,0,0,0,0,0,0,0,0,0,0,0,0,0,0,0,0,0,0,0]
[93,4,"HV Sub Generation Non-Intermittent",null,null,null,null,null,null,0,0,0,0,0,0,0,0,0,0,0,0,0,0,0,0,0,0,0,0,0,0,0,0]
[94,null,"> HV Sub Generation Intermittent",null,null,null,null,null,null,0,0,0,0,0,0,0,0,0,0,0,0,0,0,0,0,0,0,0,0,0,0,0,0]
[95,4,"HV Sub Generation Intermittent",0,null,null,0,null,null,0,0,0,0,0,0,0,0,0,0,0,0,0,0,0,0,0,0,0,0,0,0,0,0]

{"sheet":"CDCM Timebands","index":7,"n_rows":22,"n_cols":9,"rows_kept":22,"cut":false,"hidden":false,"merged":[[15,5,21,5],[15,6,21,6],[15,7,21,7],[15,8,21,8],[3,2,3,3],[5,4,11,4],[5,5,11,5],[5,6,11,6],[5,7,11,7],[13,2,13,4]]}
[]
[null,"CDCM Timebands"]
[]
[null,null,"2013/14"]
[null,null,"WD \n(incl. bank holidays)","WE","2014/15","2015/16","2016/17","2017/18"]
[null,"Red","16:00 to 19:00",null,"No change from 2012/13","No change from 2012/13","No change from 2012/13","No change from 2012/13"]
[]
[null,"Amber ","07:30 to 16:00"]
[null,null,"19:00 to 21:00"]
[]
[null,"Green","00:00 to 07:30","00:00 to 24:00"]
[null,null,"21:00 to 24:00"]
[]
[null,null,"2013/14"]
[null,null,"WD \n(incl. bank holidays) Nov to Feb","WD \n(incl. bank holidays) Mar to Oct","WE","2014/15","2015/16","2016/17","2017/18"]
[null,"Black","16:00 to 19:00",null,null,"No change from 2012/13","No change from 2012/13","No change from 2012/13","No change from 2012/13"]
[]
[null,"Yellow","07:30 to 16:00","07:30 to 21:00"]
[null,null,"19:00 to 21:00"]
[]
[null,"Green","00:00 to 07:30","00:00 to 07:30","00:00 to 24:00"]
[null,null,"21:00 to 24:00","21:00 to 24:00"]

{"sheet":"Vlookup","index":8,"n_rows":358,"n_cols":11,"rows_kept":358,"cut":false,"hidden":true,"merged":[]}
["CDCM model 100: Input data",null,{"$f":"B8","v":2},null,{"$f":"C8","v":3},null,{"$f":"D8","v":4}]
["This sheet contains all the input data (except LLFCs which can be entered directly into the Tariff sheet)."]
[]
[]
["1000. Company, charging year, data version"]
[""]
[null,"Company","Year","Version"]
["Company, charging year, data version",2,3,4,""]
[]
["1010. Financial and general assumptions"]
[]
["Sources: financial assumptions; calendar; network model."]
["These financial assumptions determine the annuity rate applied to convert the asset values of the network model into an annual charge."]
[null,"Rate of return","Annualisation period (years)","Annuity proportion for customer-contributed assets","Power factor","Days in the charging period"]
["Financial and general assumptions",6,7,null,8,9,""]
[]
["1017. Diversity allowance between top and bottom of network level"]
[]
["Source: operational data analysis and/or network model."]
["The diversity figure against GSP is the diversity between GSP Group (the whole system) and individual GSPs."]
["The diversity figure against 132kV is the diversity between GSPs (the top of the 132kV network) and 132kV/EHV bulk supply points (the bottom of the 132kV network). "]
["The diversity figure against EHV is the diversity between 132kV/EHV bulk supply points (the top of the EHV network) and EHV/HV primary substations (the bottom of the EHV network). "]
["The diversity figure against HV is the diversity between EHV/HV primary substations (the top of the HV network) and HV/LV substations (the bottom of the HV network). "]
[null,"Diversity allowance between top and bottom of network level"]
["GSPs",11,""]
["132kV",12,""]
["132kV/EHV",null,""]
["EHV",13,""]
["EHV/HV",null,""]
["HV",14,""]
["HV/LV",null,""]
["LV circuits",null,""]
[]
["1018. Proportion of relevant load going through 132kV/HV direct transformation"]
[""]
[null,"132kV/HV"]
["EHV/HV",15,""]
[]
["1019. Network model GSP peak demand (MW)"]
[]
[null,"Network model GSP peak demand (MW)"]
["Network model GSP peak demand (MW)",16,""]
[]
["1020. Gross asset cost by network level (£)"]
[]
[null,"Gross assets £"]
["132kV",18,""]
["132kV/EHV",19,""]
["EHV",20,""]
["EHV/HV",21,""]
["132kV/HV",22,""]
["HV",23,""]
["HV/LV",24,""]
["LV circuits",25,""]
[]
["1022. LV service model asset cost (£)"]
[]
[null,"LV service model 1","LV service model 2","LV service model 3","LV service model 4","LV service model 5","LV service model 6","LV service model 7","LV service model 8"]
["LV service model asset cost (£)",27,28,29,30,31,32,33,34,""]
[]
["1023. HV service model asset cost (£)"]
[]
[null,"HV service model 1","HV service model 2","HV service model 3","HV service model 4","HV service model 5"]
["HV service model asset cost (£)",36,37,38,39,40,""]
[]
["1025. Matrix of applicability of LV service models to tariffs with fixed charges"]
[]
[null,"LV service model 1","LV service model 2","LV service model 3","LV service model 4","LV service model 5","LV service model 6","LV service model 7","LV service model 8"]
["Domestic Unrestricted",0.05,0,0,0,null,null,0,0,""]
["Domestic Two Rate",0.05,0,0,0,null,null,0,0,""]
["Small Non Domestic Unrestricted",0,1,0,0,null,null,0,0,""]
["Small Non Domestic Two Rate",0,1,0,0,null,null,0,0,""]
["LV Medium Non-Domestic",0.1,0.9,null,0,null,null,0,0,""]
["LV Sub Medium Non-Domestic",0,null,null,1,null,null,0,0,""]
["LV HH Metered",0,null,1,0,null,null,0,0,""]
["LV Sub HH Metered",0,null,null,1,null,null,0,0,""]
["LV Generation NHH",0,0,0,null,null,null,0,0,""]
["LV Sub Generation NHH",0,0,0,null,null,null,0,0,""]
["LV Generation Intermittent",0,0,0,null,null,null,0,0,""]
["LV Generation Non-Intermittent",null,null,null,null,null,null,null,null,""]
["LV Sub Generation Intermittent",null,null,null,null,null,null,null,null,""]
["LV Sub Generation Non-Intermittent",0,0,0,0,0,0,0,0,""]
[]
["1026. Matrix of applicability of LV service models to unmetered tariffs"]
[]
["Source: service models"]
["Proportion of service model involved in connecting load of 1 MWh/year"]
[null,"LV service model 1","LV service model 2","LV service model 3","LV service model 4","LV service model 5","LV service model 6","LV service model 7","LV service model 8"]
["All LV unmetered tariffs",0,0,0,0,3.9140000000000001,0,0,0,""]
[]
["1028. Matrix of applicability of HV service models to tariffs with fixed charges"]
[]
[null,"HV service model 1","HV service model 2","HV service model 3","HV service model 4","HV service model 5"]
["HV Medium Non-Domestic",null,1,0,0,0,""]
["HV HH Metered",null,1,0,0,0,""]
["HV Sub HH Metered",1,null,0,0,0,""]
["HV Generation Intermittent",0,0,1,0,0,""]
["HV Generation Non-Intermittent",0,0,1,0,0,""]
["HV Sub Generation Non-Intermittent",null,null,1,null,null,""]
["HV Sub Generation Intermittent",null,null,1,null,null,""]
[]
["1032. Loss adjustment factors to transmission"]
[""]
["Source: losses model or loss adjustment factors at time of system peak."]
[null,"132kV","132kV/EHV","EHV","EHV/HV","HV","HV/LV","LV circuits"]
["Loss adjustment factor",45,46,47,48,49,50,51,""]
[]
["1037. Embedded network (LDNO) discounts"]
[""]
["Source: separate price control disaggregation model."]
[null,"No discount","LDNO LV: LV user","LDNO HV: LV user","LDNO HV: LV sub user","LDNO HV: HV user"]
["LDNO discount",null,53,54,55,56,""]
[]
["1041. Load profile data for demand users"]
[]
["Source: load data analysis."]
[null,"Coincidence factor","Load factor"]
["Domestic Unrestricted",{"$f":"'CDCM Forecast Data'!B71","v":58},{"$f":"'CDCM Forecast Data'!B90","v":77},""]
["Domestic Two Rate",{"$f":"'CDCM Forecast Data'!B72","v":59},{"$f":"'CDCM Forecast Data'!B91","v":78},""]
["Domestic Off Peak (related MPAN)",{"$f":"'CDCM Forecast Data'!B73","v":60},{"$f":"'CDCM Forecast Data'!B92","v":79},""]
["Small Non Domestic Unrestricted",{"$f":"'CDCM Forecast Data'!B74","v":61},{"$f":"'CDCM Forecast Data'!B93","v":80},""]
["Small Non Domestic Two Rate",{"$f":"'CDCM Forecast Data'!B75","v":62},{"$f":"'CDCM Forecast Data'!B94","v":81},""]
["Small Non Domestic Off Peak (related MPAN)",{"$f":"'CDCM Forecast Data'!B76","v":63},{"$f":"'CDCM Forecast Data'!B95","v":82},""]
["LV Medium Non-Domestic",{"$f":"'CDCM Forecast Data'!B77","v":64},{"$f":"'CDCM Forecast Data'!B96","v":83},""]
["LV Sub Medium Non-Domestic",{"$f":"'CDCM Forecast Data'!B78","v":65},{"$f":"'CDCM Forecast Data'!B97","v":84},""]
["HV Medium Non-Domestic",{"$f":"'CDCM Forecast Data'!B79","v":66},{"$f":"'CDCM Forecast Data'!B98","v":85},""]
["LV HH Metered",{"$f":"'CDCM Forecast Data'!B80","v":67},{"$f":"'CDCM Forecast Data'!B99","v":86},""]
["LV Sub HH Metered",{"$f":"'CDCM Forecast Data'!B81","v":68},{"$f":"'CDCM Forecast Data'!B100","v":87},""]
["HV HH Metered",{"$f":"'CDCM Forecast Data'!B82","v":69},{"$f":"'CDCM Forecast Data'!B101","v":88},""]
["HV Sub HH Metered",{"$f":"'CDCM Forecast Data'!B83","v":70},{"$f":"'CDCM Forecast Data'!B102","v":89},""]
["NHH UMS category A",{"$f":"'CDCM Forecast Data'!B84","v":71},{"$f":"'CDCM Forecast Data'!B103","v":90},""]
["NHH UMS category B",{"$f":"'CDCM Forecast Data'!B85","v":72},{"$f":"'CDCM Forecast Data'!B104","v":91},""]
["NHH UMS category C",{"$f":"'CDCM Forecast Data'!B86","v":73},{"$f":"'CDCM Forecast Data'!B105","v":92},""]
["NHH UMS category D",{"$f":"'CDCM Forecast Data'!B87","v":74},{"$f":"'CDCM Forecast Data'!B106","v":93},""]
["LV UMS (Pseudo HH Metered)",{"$f":"'CDCM Forecast Data'!B88","v":75},{"$f":"'CDCM Forecast Data'!B107","v":94},""]
[]
["1053. Volume forecasts for the charging year"]
[""]
["Source: forecast."]
["Please include MPAN counts for tariffs with no fixed charge (e.g. off-peak tariffs),"]
["but exclude MPANs on tariffs with a fixed charge that are not subject to a fixed charge due to a site grouping arrangement."]
[null,"Rate 1 units (MWh)","Rate 2 units (MWh)","Rate 3 units (MWh)","MPANs","Import capacity (kVA)","Reactive power units (MVArh)"]
["> Domestic Unrestricted",null,null,null,null,null,null,""]
["Domestic Unrestricted",2,null,null,2,null,null,""]
["LDNO LV: Domestic Unrestricted",3,null,null,3,null,null,""]
["LDNO HV: Domestic Unrestricted",4,null,null,4,null,null,""]
["> Domestic Two Rate",null,null,null,null,null,null,""]
["Domestic Two Rate",6,6,null,6,null,null,""]
["LDNO LV: Domestic Two Rate",7,7,null,7,null,null,""]
["LDNO HV: Domestic Two Rate",8,8,null,8,null,null,""]
["> Domestic Off Peak (related MPAN)",null,null,null,null,null,null,""]
["Domestic Off Peak (related MPAN)",10,null,null,10,null,null,""]
["LDNO LV: Domestic Off Peak (related MPAN)",11,null,null,11,null,null,""]
["LDNO HV: Domestic Off Peak (related MPAN)",12,null,null,12,null,null,""]
["> Small Non Domestic Unrestricted",null,null,null,null,null,null,""]
["Small Non Domestic Unrestricted",14,null,null,14,null,null,""]
["LDNO LV: Small Non Domestic Unrestricted",15,null,null,15,null,null,""]
["LDNO HV: Small Non Domestic Unrestricted",16,null,null,16,null,null,""]
["> Small Non Domestic Two Rate",null,null,null,null,null,null,""]
["Small Non Domestic Two Rate",18,18,null,18,null,null,""]
["LDNO LV: Small Non Domestic Two Rate",19,19,null,19,null,null,""]
["LDNO HV: Small Non Domestic Two Rate",20,20,null,20,null,null,""]
["> Small Non Domestic Off Peak (related MPAN)",null,null,null,null,null,null,""]
["Small Non Domestic Off Peak (related MPAN)",22,null,null,22,null,null,""]
["LDNO LV: Small Non Domestic Off Peak (related MPAN)",23,null,null,23,null,null,""]
["LDNO HV: Small Non Domestic Off Peak (related MPAN)",24,null,null,24,null,null,""]
["> LV Medium Non-Domestic",null,null,null,null,null,null,""]
["LV Medium Non-Domestic",26,26,null,26,null,null,""]
["LDNO LV: LV Medium Non-Domestic",27,27,null,27,null,null,""]
["LDNO HV: LV Medium Non-Domestic",28,28,null,28,null,null,""]
["> LV Sub Medium Non-Domestic",null,null,null,null,null,null,""]
["LV Sub Medium Non-Domestic",30,30,null,30,null,null,""]
["> HV Medium Non-Domestic",null,null,null,null,null,null,""]
["HV Medium Non-Domestic",32,32,null,32,null,null,""]
["> LV HH Metered",null,null,null,null,null,null,""]
["LV HH Metered",34,34,34,34,34,34,""]
["LDNO LV: LV HH Metered",35,35,35,35,35,35,""]
["LDNO HV: LV HH Metered",36,36,36,36,36,36,""]
["> LV Sub HH Metered",null,null,null,null,null,null,""]
["LV Sub HH Metered",38,38,38,38,38,38,""]
["LDNO HV: LV Sub HH Metered",39,39,39,39,39,39,""]
["> HV HH Metered",null,null,null,null,null,null,""]
["HV HH Metered",41,41,41,41,41,41,""]
["LDNO HV: HV HH Metered",42,42,42,42,42,42,""]
["> HV Sub HH Metered",null,null,null,null,null,null,""]
["HV Sub HH Metered",44,44,44,44,44,44,""]
["> NHH UMS category A",null,null,null,null,null,null,""]
["NHH UMS category A",46,null,null,46,null,null,""]
["LDNO LV: NHH UMS category A",47,null,null,47,null,null,""]
["LDNO HV: NHH UMS category A",48,null,null,48,null,null,""]
["> NHH UMS category B",null,null,null,null,null,null,""]
["NHH UMS category B",50,null,null,50,null,null,""]
["LDNO LV: NHH UMS category B",51,null,null,51,null,null,""]
["LDNO HV: NHH UMS category B",52,null,null,52,null,null,""]
["> NHH UMS category C",null,null,null,null,null,null,""]
["NHH UMS category C",54,null,null,54,null,null,""]
["LDNO LV: NHH UMS category C",55,null,null,55,null,null,""]
["LDNO HV: NHH UMS category C",56,null,null,56,null,null,""]
["> NHH UMS category D",null,null,null,null,null,null,""]
["NHH UMS category D",58,null,null,58,null,null,""]
["LDNO LV: NHH UMS category D",59,null,null,59,null,null,""]
["LDNO HV: NHH UMS category D",60,null,null,60,null,null,""]
["> LV UMS (Pseudo HH Metered)",null,null,null,null,null,null,""]
["LV UMS (Pseudo HH Metered)",62,62,62,62,null,null,""]
["LDNO LV: LV UMS (Pseudo HH Metered)",63,63,63,63,null,null,""]
["LDNO HV: LV UMS (Pseudo HH Metered)",64,64,64,64,null,null,""]
["> LV Generation NHH",null,null,null,null,null,null,""]
["LV Generation NHH",66,null,null,66,null,null,""]
["LDNO LV: LV Generation NHH",67,null,null,67,null,null,""]
["LDNO HV: LV Generation NHH",68,null,null,68,null,null,""]
["> LV Sub Generation NHH",null,null,null,null,null,null,""]
["LV Sub Generation NHH",70,null,null,70,null,null,""]
["LDNO HV: LV Sub Generation NHH",71,null,null,71,null,null,""]
["> LV Generation Intermittent",null,null,null,null,null,null,""]
["LV Generation Intermittent",73,null,null,73,null,73,""]
["LDNO LV: LV Generation Intermittent",74,null,null,74,null,74,""]
["LDNO HV: LV Generation Intermittent",75,null,null,75,null,75,""]
["> LV Generation Non-Intermittent",null,null,null,null,null,null,""]
["LV Generation Non-Intermittent",77,77,77,77,null,77,""]
["LDNO LV: LV Generation Non-Intermittent",78,78,78,78,null,78,""]
["LDNO HV: LV Generation Non-Intermittent",79,79,79,79,null,79,""]
["> LV Sub Generation Intermittent",null,null,null,null,null,null,""]
["LV Sub Generation Intermittent",81,null,null,81,null,81,""]
["LDNO HV: LV Sub Generation Intermittent",82,null,null,82,null,82,""]
["> LV Sub Generation Non-Intermittent",null,null,null,null,null,null,""]
["LV Sub Generation Non-Intermittent",84,84,84,84,null,84,""]
["LDNO HV: LV Sub Generation Non-Intermittent",85,85,85,85,null,85,""]
["> HV Generation Intermittent",null,null,null,null,null,null,""]
["HV Generation Intermittent",87,null,null,87,null,87,""]
["LDNO HV: HV Generation Intermittent",88,null,null,88,null,88,""]
["> HV Generation Non-Intermittent",null,null,null,null,null,null,""]
["HV Generation Non-Intermittent",90,90,90,90,null,90,""]
["LDNO HV: HV Generation Non-Intermittent",91,91,91,91,null,91,""]
["> HV Sub Generation Non-Intermittent",null,null,null,null,null,null,""]
["HV Sub Generation Non-Intermittent",93,93,93,93,null,93,""]
["> HV Sub Generation Intermittent",null,null,null,null,null,null,""]
["HV Sub Generation Intermittent",95,null,null,95,null,95,""]
[]
["1055. Transmission exit charges (£/year)"]
[""]
["Source: forecast."]
[null,"Transmission\nexit"]
["Transmission exit charges (£/year)",96,""]
[]
["1059. Other expenditure"]
[""]
[null,"Direct cost (£/year)","Indirect cost (£/year)","Indirect cost proportion","Network rates (£/year)"]
["Other expenditure",98,99,100,101,""]
[]
["1060. Customer contributions under current connection charging policy"]
[]
["Source: analysis of expenditure data and/or survey of capital expenditure schemes."]
["Customer contribution percentages by network level of supply and by asset network level."]
["These proportions should reflect the current connection charging method, not necessarily the method that was in place when the connection was built."]
[null,"Assets\n132kV","Assets\n132kV/EHV","Assets\nEHV","Assets\nEHV/HV","Assets\n132kV/HV","Assets\nHV","Assets\nHV/LV","Assets\nLV circuits"]
["LV network",104,105,106,107,108,109,110,111,""]
["LV substation",113,114,115,116,117,118,119,null,""]
["HV network",121,122,123,124,125,126,null,null,""]
["HV substation",128,129,130,131,null,null,null,null,""]
[]
["1061. Average split of rate 1 units by distribution time band"]
[]
["Source: load data analysis."]
["This table relates to the first TPR or charging period for each tariff."]
["Each line relates to a different user type and tariff structure."]
["For each user type and tariff structure, the figure entered against each of the time bands used for network analysis is"]
["the proportion of the units recorded on the relevant TPR or within the relevant charging period that would fall with each time band."]
[null,"Red","Amber","Green"]
["Domestic Two Rate",135,143,151,""]
["Domestic Off Peak (related MPAN)",136,144,152,""]
["Small Non Domestic Two Rate",137,145,153,""]
["Small Non Domestic Off Peak (related MPAN)",138,146,154,""]
["LV Medium Non-Domestic",139,147,155,""]
["LV Sub Medium Non-Domestic",140,148,156,""]
["HV Medium Non-Domestic",141,149,157,""]
[]
["1062. Average split of rate 2 units by distribution time band"]
[]
["Source: load data analysis."]
["This table relates to the second TPR or charging period for each tariff."]
["See notes on table 1061."]
[null,"Red","Amber","Green"]
["Domestic Two Rate",160,166,172,""]
["Small Non Domestic Two Rate",161,167,173,""]
["LV Medium Non-Domestic",162,168,174,""]
["LV Sub Medium Non-Domestic",163,169,175,""]
["HV Medium Non-Domestic",164,170,176,""]
[]
["1064. Average split of rate 1 units by special distribution time band"]
[]
[null,"Red","Amber","Green",""]
["NHH UMS category A",179,184,189,""]
["NHH UMS category B",180,185,190,""]
["NHH UMS category C",181,186,191,""]
["NHH UMS category D",182,187,192,""]
[]
["1066. Typical annual hours by special distribution time band"]
["Source: definition of distribution time bands."]
["The figures in this table will be automatically adjusted to match the number of days in the charging period."]
[]
[null,"Red","Amber","Green"]
["Annual hours",194,195,196,""]
[]
["1068. Typical annual hours by distribution time band"]
[]
["Source: definition of distribution time bands."]
["The figures in this table will be automatically adjusted to match the number of days in the charging period."]
[null,"Red","Amber","Green"]
["Annual hours",198,199,200,""]
[]
["1069. Peaking probabilities by network level"]
[]
["Source: operational data analysis."]
[null,"Red","Amber","Green","Black"]
["GSPs",{"$f":"'CDCM Forecast Data'!B216","v":203},{"$f":"'CDCM Forecast Data'!B226","v":213},{"$f":"'CDCM Forecast Data'!B236","v":223},{"$f":"'CDCM Forecast Data'!B246","v":233},""]
["132kV",{"$f":"'CDCM Forecast Data'!B217","v":204},{"$f":"'CDCM Forecast Data'!B227","v":214},{"$f":"'CDCM Forecast Data'!B237","v":224},{"$f":"'CDCM Forecast Data'!B247","v":234},""]
["132kV/EHV",{"$f":"'CDCM Forecast Data'!B218","v":205},{"$f":"'CDCM Forecast Data'!B228","v":215},{"$f":"'CDCM Forecast Data'!B238","v":225},{"$f":"'CDCM Forecast Data'!B248","v":235},""]
["EHV",{"$f":"'CDCM Forecast Data'!B219","v":206},{"$f":"'CDCM Forecast Data'!B229","v":216},{"$f":"'CDCM Forecast Data'!B239","v":226},{"$f":"'CDCM Forecast Data'!B249","v":236},""]
["EHV/HV",{"$f":"'CDCM Forecast Data'!B220","v":207},{"$f":"'CDCM Forecast Data'!B230","v":217},{"$f":"'CDCM Forecast Data'!B240","v":227},{"$f":"'CDCM Forecast Data'!B250","v":237},""]
["132kV/HV",{"$f":"'CDCM Forecast Data'!B221","v":208},{"$f":"'CDCM Forecast Data'!B231","v":218},{"$f":"'CDCM Forecast Data'!B241","v":228},{"$f":"'CDCM Forecast Data'!B251","v":238},""]
["HV",{"$f":"'CDCM Forecast Data'!B222","v":209},{"$f":"'CDCM Forecast Data'!B232","v":219},{"$f":"'CDCM Forecast Data'!B242","v":229},{"$f":"'CDCM Forecast Data'!B252","v":239},""]
["HV/LV",{"$f":"'CDCM Forecast Data'!B223","v":210},{"$f":"'CDCM Forecast Data'!B233","v":220},{"$f":"'CDCM Forecast Data'!B243","v":230},{"$f":"'CDCM Forecast Data'!B253","v":240},""]
["LV circuits",{"$f":"'CDCM Forecast Data'!B224","v":211},{"$f":"'CDCM Forecast Data'!B234","v":221},{"$f":"'CDCM Forecast Data'!B244","v":231},{"$f":"'CDCM Forecast Data'!B254","v":241},""]
[]
["1076. Target revenue"]
[""]
["Source: forecast."]
[null,"Allowed revenue (£/year)","Pass-through charges (£/year)","Adjustment for previous year's under (over) recovery (£/year)","Revenue raised outside this model (£/year)"]
["Target revenue",{"$f":"'CDCM Forecast Data'!B256","v":243},{"$f":"'CDCM Forecast Data'!B257","v":244},{"$f":"'CDCM Forecast Data'!B258","v":245},{"$f":"'CDCM Forecast Data'!B259","v":246},""]
[]
["1092. Average kVAr by kVA, by network level"]
[""]
["Source: analysis of operational data."]
["This is the average of MVAr/MVA or SQRT(1-PF^2) across relevant network elements."]
[null,"GSPs","132kV","132kV/EHV","EHV","EHV/HV","132kV/HV","HV","HV/LV","LV circuits"]
["Average kVAr by kVA, by network level",{"$f":"'CDCM Forecast Data'!B261","v":248},{"$f":"'CDCM Forecast Data'!B262","v":249},{"$f":"'CDCM Forecast Data'!B263","v":250},{"$f":"'CDCM Forecast Data'!B264","v":251},{"$f":"'CDCM Forecast Data'!B265","v":252},{"$f":"'CDCM Forecast Data'!B266","v":253},{"$f":"'CDCM Forecast Data'!B267","v":254},{"$f":"'CDCM Forecast Data'!B268","v":255},{"$f":"'CDCM Forecast Data'!B269","v":256},""]
[]
["1201. Current tariff information"]
[""]
[null,"Current revenues if known (£/year)","Current Unit rate 1 p/kWh","Current Unit rate 2 p/kWh","Current Unit rate 3 p/kWh","Current Fixed charge p/MPAN/day","Current Capacity charge p/kVA/day","Current Reactive power charge p/kVArh"]
["Domestic Unrestricted",130826862,null,null,null,null,null,null,""]
["Domestic Two Rate",15098369,null,null,null,null,null,null,""]
["Domestic Off Peak (related MPAN)",146557,null,null,null,null,null,null,""]
["Small Non Domestic Unrestricted",29063999,null,null,null,null,null,null,""]
["Small Non Domestic Two Rate",6925425,null,null,null,null,null,null,""]
["Small Non Domestic Off Peak (related MPAN)",null,null,null,null,null,null,null,""]
["LV Medium Non-Domestic",19761662,null,null,null,null,null,null,""]
["LV Sub Medium Non-Domestic",733648,null,null,null,null,null,null,""]
["HV Medium Non-Domestic",266631,null,null,null,null,null,null,""]
["LV HH Metered",22598111,null,null,0,null,null,0,""]
["LV Sub HH Metered",14598953,null,null,0,null,null,0,""]
["HV HH Metered",41609304,null,null,0,null,null,0,""]
["HV Sub HH Metered",6392480,null,null,0,null,null,0,""]
["NHH UMS category A",540187,null,null,null,null,null,null,""]
["NHH UMS category B",540187,null,null,null,null,null,null,""]
["NHH UMS category C",540187,null,null,null,null,null,null,""]
["NHH UMS category D",540187,null,null,null,null,null,null,""]
["LV UMS (Pseudo HH Metered)",4899607,null,null,0,null,null,null,""]

{"sheet":"(Y)","index":9,"n_rows":351,"n_cols":11,"rows_kept":351,"cut":false,"hidden":false,"merged":[]}
[]
[]
[]
[]
["1000. Company, charging year, data version"]
[""]
[null,"Company","Year","Version"]
["Company, charging year, data version",{"$f":"VLOOKUP(Vlookup!B8,Forcast_Data,5,FALSE)","v":"WPD Mid West"},{"$f":"VLOOKUP(Vlookup!C8,Forcast_Data,5,FALSE)","v":"April 2013"},{"$f":"VLOOKUP(Vlookup!D8,Forcast_Data,5,FALSE)","v":0},""]
[]
["1010. Financial and general assumptions"]
[]
["Sources: financial assumptions; calendar; network model."]
["These financial assumptions determine the annuity rate applied to convert the asset values of the network model into an annual charge."]
[null,"Rate of return","Annualisation period (years)","Annuity proportion for customer-contributed assets","Power factor","Days in the charging period"]
["Financial and general assumptions",{"$f":"VLOOKUP(Vlookup!B15,Forcast_Data,5,FALSE)","v":5.6000000000000001E-2},{"$f":"VLOOKUP(Vlookup!C15,Forcast_Data,5,FALSE)","v":40},null,{"$f":"VLOOKUP(Vlookup!E15,Forcast_Data,5,FALSE)","v":0.95},{"$f":"VLOOKUP(Vlookup!F15,Forcast_Data,5,FALSE)","v":365},""]
[]
["1017. Diversity allowance between top and bottom of network level"]
[]
["Source: operational data analysis and/or network model."]
["The diversity figure against GSP is the diversity between GSP Group (the whole system) and individual GSPs."]
["The diversity figure against 132kV is the diversity between GSPs (the top of the 132kV network) and 132kV/EHV bulk supply points (the bottom of the 132kV network). "]
["The diversity figure against EHV is the diversity between 132kV/EHV bulk supply points (the top of the EHV network) and EHV/HV primary substations (the bottom of the EHV network). "]
["The diversity figure against HV is the diversity between EHV/HV primary substations (the top of the HV network) and HV/LV substations (the bottom of the HV network). "]
[null,"Diversity allowance between top and bottom of network level"]
["GSPs",{"$f":"VLOOKUP(Vlookup!B25,Forcast_Data,5,FALSE)","v":5.649040831841079E-2},""]
["132kV",{"$f":"VLOOKUP(Vlookup!B26,Forcast_Data,5,FALSE)","v":2.5568682496299511E-2},""]
["132kV/EHV",null,""]
["EHV",{"$f":"VLOOKUP(Vlookup!B28,Forcast_Data,5,FALSE)","v":2.6631596666738533E-2},""]
["EHV/HV",null,""]
["HV",{"$f":"VLOOKUP(Vlookup!B30,Forcast_Data,5,FALSE)","v":0.34000000000000008},""]
["HV/LV",null,""]
["LV circuits",null,""]
[]
["1018. Proportion of relevant load going through 132kV/HV direct transformation"]
[""]
[null,"132kV/HV"]
["EHV/HV",{"$f":"VLOOKUP(Vlookup!B37,Forcast_Data,5,FALSE)","v":0.69256562916818787},""]
[]
["1019. Network model GSP peak demand (MW)"]
[]
[null,"Network model GSP peak demand (MW)"]
["Network model GSP peak demand (MW)",{"$f":"VLOOKUP(Vlookup!B42,Forcast_Data,5,FALSE)","v":500},""]
[]
["1020. Gross asset cost by network level (£)"]
[]
[null,"Gross assets £"]
["132kV",{"$f":"VLOOKUP(Vlookup!B47,Forcast_Data,5,FALSE)","v":99354441.132197261},""]
["132kV/EHV",{"$f":"VLOOKUP(Vlookup!B48,Forcast_Data,5,FALSE)","v":12895932.20975136},""]
["EHV",{"$f":"VLOOKUP(Vlookup!B49,Forcast_Data,5,FALSE)","v":10494134.812901108},""]
["EHV/HV",{"$f":"VLOOKUP(Vlookup!B50,Forcast_Data,5,FALSE)","v":23710501.152066965},""]
["132kV/HV",{"$f":"VLOOKUP(Vlookup!B51,Forcast_Data,5,FALSE)","v":26797550.101660803},""]
["HV",{"$f":"VLOOKUP(Vlookup!B52,Forcast_Data,5,FALSE)","v":117191230.96022525},""]
["HV/LV",{"$f":"VLOOKUP(Vlookup!B53,Forcast_Data,5,FALSE)","v":81325177.95940876},""]
["LV circuits",{"$f":"VLOOKUP(Vlookup!B54,Forcast_Data,5,FALSE)","v":103958997.43702337},""]
[]
["1022. LV service model asset cost (£)"]
[]
[null,"LV service model 1","LV service model 2","LV service model 3","LV service model 4","LV service model 5","LV service model 6","LV service model 7","LV service model 8"]
["LV service model asset cost (£)",{"$f":"VLOOKUP(Vlookup!B59,Forcast_Data,5,FALSE)","v":9660.0669025378793},{"$f":"VLOOKUP(Vlookup!C59,Forcast_Data,5,FALSE)","v":715.29945060828743},{"$f":"VLOOKUP(Vlookup!D59,Forcast_Data,5,FALSE)","v":1687.308347813628},{"$f":"VLOOKUP(Vlookup!E59,Forcast_Data,5,FALSE)","v":1687.308347813628},{"$f":"VLOOKUP(Vlookup!F59,Forcast_Data,5,FALSE)","v":1687.308347813628},{"$f":"VLOOKUP(Vlookup!G59,Forcast_Data,5,FALSE)","v":186.56329482000001},{"$f":"VLOOKUP(Vlookup!H59,Forcast_Data,5,FALSE)","v":0},{"$f":"VLOOKUP(Vlookup!I59,Forcast_Data,5,FALSE)","v":0},""]
[]
["1023. HV service model asset cost (£)"]
[]
[null,"HV service model 1","HV service model 2","HV service model 3","HV service model 4","HV service model 5"]
["HV service model asset cost (£)",{"$f":"VLOOKUP(Vlookup!B64,Forcast_Data,5,FALSE)","v":16967.549244568934},{"$f":"VLOOKUP(Vlookup!C64,Forcast_Data,5,FALSE)","v":16967.549244568934},{"$f":"VLOOKUP(Vlookup!D64,Forcast_Data,5,FALSE)","v":2913.0498386640002},{"$f":"VLOOKUP(Vlookup!E64,Forcast_Data,5,FALSE)","v":0},{"$f":"VLOOKUP(Vlookup!F64,Forcast_Data,5,FALSE)","v":0},""]
[]
["1025. Matrix of applicability of LV service models to tariffs with fixed charges"]
[]
[null,"LV service model 1","LV service model 2","LV service model 3","LV service model 4","LV service model 5","LV service model 6","LV service model 7","LV service model 8"]
["Domestic Unrestricted",{"$f":"'Mat of App'!C7","v":0.05},{"$f":"'Mat of App'!D7","v":0},{"$f":"'Mat of App'!E7","v":0},{"$f":"'Mat of App'!F7","v":0},{"$f":"'Mat of App'!G7","v":0},{"$f":"'Mat of App'!H7","v":0},{"$f":"'Mat of App'!I7","v":0},{"$f":"'Mat of App'!J7","v":0},""]
["Domestic Two Rate",{"$f":"'Mat of App'!C8","v":0.05},{"$f":"'Mat of App'!D8","v":0},{"$f":"'Mat of App'!E8","v":0},{"$f":"'Mat of App'!F8","v":0},{"$f":"'Mat of App'!G8","v":0},{"$f":"'Mat of App'!H8","v":0},{"$f":"'Mat of App'!I8","v":0},{"$f":"'Mat of App'!J8","v":0},""]
["Small Non Domestic Unrestricted",{"$f":"'Mat of App'!C9","v":0},{"$f":"'Mat of App'!D9","v":1},{"$f":"'Mat of App'!E9","v":0},{"$f":"'Mat of App'!F9","v":0},{"$f":"'Mat of App'!G9","v":0},{"$f":"'Mat of App'!H9","v":0},{"$f":"'Mat of App'!I9","v":0},{"$f":"'Mat of App'!J9","v":0},""]
["Small Non Domestic Two Rate",{"$f":"'Mat of App'!C10","v":0},{"$f":"'Mat of App'!D10","v":1},{"$f":"'Mat of App'!E10","v":0},{"$f":"'Mat of App'!F10","v":0},{"$f":"'Mat of App'!G10","v":0},{"$f":"'Mat of App'!H10","v":0},{"$f":"'Mat of App'!I10","v":0},{"$f":"'Mat of App'!J10","v":0},""]
["LV Medium Non-Domestic",{"$f":"'Mat of App'!C11","v":0},{"$f":"'Mat of App'!D11","v":0},{"$f":"'Mat of App'!E11","v":1},{"$f":"'Mat of App'!F11","v":0},{"$f":"'Mat of App'!G11","v":0},{"$f":"'Mat of App'!H11","v":0},{"$f":"'Mat of App'!I11","v":0},{"$f":"'Mat of App'!J11","v":0},""]
["LV Sub Medium Non-Domestic",{"$f":"'Mat of App'!C12","v":0},{"$f":"'Mat of App'!D12","v":0},{"$f":"'Mat of App'!E12","v":0},{"$f":"'Mat of App'!F12","v":0},{"$f":"'Mat of App'!G12","v":1},{"$f":"'Mat of App'!H12","v":0},{"$f":"'Mat of App'!I12","v":0},{"$f":"'Mat of App'!J12","v":0},""]
["LV HH Metered",{"$f":"'Mat of App'!C13","v":0},{"$f":"'Mat of App'!D13","v":0},{"$f":"'Mat of App'!E13","v":0},{"$f":"'Mat of App'!F13","v":1},{"$f":"'Mat of App'!G13","v":0},{"$f":"'Mat of App'!H13","v":0},{"$f":"'Mat of App'!I13","v":0},{"$f":"'Mat of App'!J13","v":0},""]
["LV Sub HH Metered",{"$f":"'Mat of App'!C14","v":0},{"$f":"'Mat of App'!D14","v":0},{"$f":"'Mat of App'!E14","v":0},{"$f":"'Mat of App'!F14","v":0},{"$f":"'Mat of App'!G14","v":1},{"$f":"'Mat of App'!H14","v":0},{"$f":"'Mat of App'!I14","v":0},{"$f":"'Mat of App'!J14","v":0},""]
["LV Generation NHH",{"$f":"'Mat of App'!C15","v":0},{"$f":"'Mat of App'!D15","v":0},{"$f":"'Mat of App'!E15","v":0},{"$f":"'Mat of App'!F15","v":0},{"$f":"'Mat of App'!G15","v":0},{"$f":"'Mat of App'!H15","v":0},{"$f":"'Mat of App'!I15","v":0},{"$f":"'Mat of App'!J15","v":0},""]
["LV Sub Generation NHH",{"$f":"'Mat of App'!C16","v":0},{"$f":"'Mat of App'!D16","v":0},{"$f":"'Mat of App'!E16","v":0},{"$f":"'Mat of App'!F16","v":0},{"$f":"'Mat of App'!G16","v":0},{"$f":"'Mat of App'!H16","v":0},{"$f":"'Mat of App'!I16","v":0},{"$f":"'Mat of App'!J16","v":0},""]
["LV Generation Intermittent",{"$f":"'Mat of App'!C17","v":0},{"$f":"'Mat of App'!D17","v":0},{"$f":"'Mat of App'!E17","v":0},{"$f":"'Mat of App'!F17","v":0},{"$f":"'Mat of App'!G17","v":0},{"$f":"'Mat of App'!H17","v":0},{"$f":"'Mat of App'!I17","v":0},{"$f":"'Mat of App'!J17","v":0},""]
["LV Generation Non-Intermittent",{"$f":"'Mat of App'!C18","v":0},{"$f":"'Mat of App'!D18","v":0},{"$f":"'Mat of App'!E18","v":0},{"$f":"'Mat of App'!F18","v":0},{"$f":"'Mat of App'!G18","v":0},{"$f":"'Mat of App'!H18","v":0},{"$f":"'Mat of App'!I18","v":0},{"$f":"'Mat of App'!J18","v":0},""]
["LV Sub Generation Intermittent",{"$f":"'Mat of App'!C19","v":0},{"$f":"'Mat of App'!D19","v":0},{"$f":"'Mat of App'!E19","v":0},{"$f":"'Mat of App'!F19","v":0},{"$f":"'Mat of App'!G19","v":0},{"$f":"'Mat of App'!H19","v":0},{"$f":"'Mat of App'!I19","v":0},{"$f":"'Mat of App'!J19","v":0},""]
["LV Sub Generation Non-Intermittent",{"$f":"'Mat of App'!C20","v":0},{"$f":"'Mat of App'!D20","v":0},{"$f":"'Mat of App'!E20","v":0},{"$f":"'Mat of App'!F20","v":0},{"$f":"'Mat of App'!G20","v":0},{"$f":"'Mat of App'!H20","v":0},{"$f":"'Mat of App'!I20","v":0},{"$f":"'Mat of App'!J20","v":0},""]
[]
["1026. Matrix of applicability of LV service models to unmetered tariffs"]
[]
["Source: service models"]
["Proportion of service model involved in connecting load of 1 MWh/year"]
[null,"LV service model 1","LV service model 2","LV service model 3","LV service model 4","LV service model 5","LV service model 6","LV service model 7","LV service model 8"]
["All LV unmetered tariffs",{"$f":"'Mat of App'!C27","v":0},{"$f":"'Mat of App'!D27","v":0},{"$f":"'Mat of App'!E27","v":0},{"$f":"'Mat of App'!F27","v":0},{"$f":"'Mat of App'!G27","v":0},{"$f":"'Mat of App'!H27","v":1.5220700152207001},{"$f":"'Mat of App'!I27","v":0},{"$f":"'Mat of App'!J27","v":0},""]
[]
["1028. Matrix of applicability of HV service models to tariffs with fixed charges"]
[]
[null,"HV service model 1","HV service model 2","HV service model 3","HV service model 4","HV service model 5"]
["HV Medium Non-Domestic",{"$f":"'Mat of App'!C32","v":1},{"$f":"'Mat of App'!D32","v":0},{"$f":"'Mat of App'!E32","v":0},{"$f":"'Mat of App'!F32","v":0},{"$f":"'Mat of App'!G32","v":0},""]
["HV HH Metered",{"$f":"'Mat of App'!C33","v":1},{"$f":"'Mat of App'!D33","v":0},{"$f":"'Mat of App'!E33","v":0},{"$f":"'Mat of App'!F33","v":0},{"$f":"'Mat of App'!G33","v":0},""]
["HV Sub HH Metered",{"$f":"'Mat of App'!C34","v":0},{"$f":"'Mat of App'!D34","v":1},{"$f":"'Mat of App'!E34","v":0},{"$f":"'Mat of App'!F34","v":0},{"$f":"'Mat of App'!G34","v":0},""]
["HV Generation Intermittent",{"$f":"'Mat of App'!C35","v":0},{"$f":"'Mat of App'!D35","v":0},{"$f":"'Mat of App'!E35","v":1},{"$f":"'Mat of App'!F35","v":0},{"$f":"'Mat of App'!G35","v":0},""]
["HV Generation Non-Intermittent",{"$f":"'Mat of App'!C36","v":0},{"$f":"'Mat of App'!D36","v":0},{"$f":"'Mat of App'!E36","v":1},{"$f":"'Mat of App'!F36","v":0},{"$f":"'Mat of App'!G36","v":0},""]
["HV Sub Generation Non-Intermittent",{"$f":"'Mat of App'!C37","v":0},{"$f":"'Mat of App'!D37","v":0},{"$f":"'Mat of App'!E37","v":1},{"$f":"'Mat of App'!F37","v":0},{"$f":"'Mat of App'!G37","v":0},""]
["HV Sub Generation Intermittent",{"$f":"'Mat of App'!C38","v":0},{"$f":"'Mat of App'!D38","v":0},{"$f":"'Mat of App'!E38","v":1},{"$f":"'Mat of App'!F38","v":0},{"$f":"'Mat of App'!G38","v":0},""]
[]
["1032. Loss adjustment factors to transmission"]
[""]
["Source: losses model or loss adjustment factors at time of system peak."]
[null,"132kV","132kV/EHV","EHV","EHV/HV","HV","HV/LV","LV circuits"]
["Loss adjustment factor",{"$f":"VLOOKUP(Vlookup!B106,Forcast_Data,5,FALSE)","v":1.002},{"$f":"VLOOKUP(Vlookup!C106,Forcast_Data,5,FALSE)","v":1.0029999999999999},{"$f":"VLOOKUP(Vlookup!D106,Forcast_Data,5,FALSE)","v":1.006},{"$f":"VLOOKUP(Vlookup!E106,Forcast_Data,5,FALSE)","v":1.0269999999999999},{"$f":"VLOOKUP(Vlookup!F106,Forcast_Data,5,FALSE)","v":1.044},{"$f":"VLOOKUP(Vlookup!G106,Forcast_Data,5,FALSE)","v":1.0509999999999999},{"$f":"VLOOKUP(Vlookup!H106,Forcast_Data,5,FALSE)","v":1.077},""]
[]
["1037. Embedded network (LDNO) discounts"]
[""]
["Source: separate price control disaggregation model."]
[null,"No discount","LDNO LV: LV user","LDNO HV: LV user","LDNO HV: LV sub user","LDNO HV: HV user"]
["LDNO discount",null,{"$f":"VLOOKUP(Vlookup!C112,Forcast_Data,5,FALSE)","v":0.30883183558962979},{"$f":"VLOOKUP(Vlookup!D112,Forcast_Data,5,FALSE)","v":0.5007791580188965},{"$f":"VLOOKUP(Vlookup!E112,Forcast_Data,5,FALSE)","v":0.2542804505721758},{"$f":"VLOOKUP(Vlookup!F112,Forcast_Data,5,FALSE)","v":0.15228597408951491},""]
[]
["1041. Load profile data for demand users"]
[]
["Source: load data analysis."]
[null,"Coincidence factor","Load factor"]
["Domestic Unrestricted",{"$f":"VLOOKUP(Vlookup!B118,Forcast_Data,5,FALSE)","v":0.91725107523525962},{"$f":"VLOOKUP(Vlookup!C118,Forcast_Data,5,FALSE)","v":0.41143481343309968},""]
["Domestic Two Rate",{"$f":"VLOOKUP(Vlookup!B119,Forcast_Data,5,FALSE)","v":0.40080181765565559},{"$f":"VLOOKUP(Vlookup!C119,Forcast_Data,5,FALSE)","v":0.25560520593582642},""]
["Domestic Off Peak (related MPAN)",null,{"$f":"VLOOKUP(Vlookup!C120,Forcast_Data,5,FALSE)","v":0.15590780773679511},""]
["Small Non Domestic Unrestricted",{"$f":"VLOOKUP(Vlookup!B121,Forcast_Data,5,FALSE)","v":0.62008068887977208},{"$f":"VLOOKUP(Vlookup!C121,Forcast_Data,5,FALSE)","v":0.35245420345734263},""]
["Small Non Domestic Two Rate",{"$f":"VLOOKUP(Vlookup!B122,Forcast_Data,5,FALSE)","v":0.6187554380512692},{"$f":"VLOOKUP(Vlookup!C122,Forcast_Data,5,FALSE)","v":0.43068381316121135},""]
["Small Non Domestic Off Peak (related MPAN)",null,{"$f":"VLOOKUP(Vlookup!C123,Forcast_Data,5,FALSE)","v":0.18686847121079117},""]
["LV Medium Non-Domestic",{"$f":"VLOOKUP(Vlookup!B124,Forcast_Data,5,FALSE)","v":0.80480275736975215},{"$f":"VLOOKUP(Vlookup!C124,Forcast_Data,5,FALSE)","v":0.49209979939144438},""]
["LV Sub Medium Non-Domestic",{"$f":"VLOOKUP(Vlookup!B125,Forcast_Data,5,FALSE)","v":0.80480275736975215},{"$f":"VLOOKUP(Vlookup!C125,Forcast_Data,5,FALSE)","v":0.49209979939144438},""]
["HV Medium Non-Domestic",{"$f":"VLOOKUP(Vlookup!B126,Forcast_Data,5,FALSE)","v":0.61081642184024709},{"$f":"VLOOKUP(Vlookup!C126,Forcast_Data,5,FALSE)","v":0.42201413323580622},""]
["LV HH Metered",{"$f":"VLOOKUP(Vlookup!B127,Forcast_Data,5,FALSE)","v":0.76195140420011676},{"$f":"VLOOKUP(Vlookup!C127,Forcast_Data,5,FALSE)","v":0.51926429246950712},""]
["LV Sub HH Metered",{"$f":"VLOOKUP(Vlookup!B128,Forcast_Data,5,FALSE)","v":0.76195140420011676},{"$f":"VLOOKUP(Vlookup!C128,Forcast_Data,5,FALSE)","v":0.51926429246950712},""]
["HV HH Metered",{"$f":"VLOOKUP(Vlookup!B129,Forcast_Data,5,FALSE)","v":0.77259445254116732},{"$f":"VLOOKUP(Vlookup!C129,Forcast_Data,5,FALSE)","v":0.64378616647520781},""]
["HV Sub HH Metered",{"$f":"VLOOKUP(Vlookup!B130,Forcast_Data,5,FALSE)","v":0.77259445254116732},{"$f":"VLOOKUP(Vlookup!C130,Forcast_Data,5,FALSE)","v":0.64378616647520781},""]
["NHH UMS category A",{"$f":"VLOOKUP(Vlookup!B131,Forcast_Data,5,FALSE)","v":1},{"$f":"VLOOKUP(Vlookup!C131,Forcast_Data,5,FALSE)","v":1},""]
["NHH UMS category B",{"$f":"VLOOKUP(Vlookup!B132,Forcast_Data,5,FALSE)","v":1},{"$f":"VLOOKUP(Vlookup!C132,Forcast_Data,5,FALSE)","v":0.47368294520547877}]
["NHH UMS category C",{"$f":"VLOOKUP(Vlookup!B133,Forcast_Data,5,FALSE)","v":1},{"$f":"VLOOKUP(Vlookup!C133,Forcast_Data,5,FALSE)","v":0.25800000000000001}]
["NHH UMS category D",{"$f":"VLOOKUP(Vlookup!B134,Forcast_Data,5,FALSE)","v":6.4133333333333334E-2},{"$f":"VLOOKUP(Vlookup!C134,Forcast_Data,5,FALSE)","v":0.55300000000000005}]
["LV UMS (Pseudo HH Metered)",{"$f":"VLOOKUP(Vlookup!B135,Forcast_Data,5,FALSE)","v":0.99387558706051526},{"$f":"VLOOKUP(Vlookup!C135,Forcast_Data,5,FALSE)","v":0.48773957041156946},""]
[]
["1053. Volume forecasts for the charging year"]
["",4,5,6,7,8,9]
["Source: forecast."]
["Please include MPAN counts for tariffs with no fixed charge (e.g. off-peak tariffs),"]
["but exclude MPANs on tariffs with a fixed charge that are not subject to a fixed charge due to a site grouping arrangement."]
[null,"Rate 1 units (MWh)","Rate 2 units (MWh)","Rate 3 units (MWh)","MPANs","Import capacity (kVA)","Reactive power units (MVArh)"]
["> Domestic Unrestricted"]
["Domestic Unrestricted",{"$f":"VLOOKUP(Vlookup!B144,Volume_Forecast_Data,B$138,FALSE)","v":7188253.0837154044},null,null,{"$f":"VLOOKUP(Vlookup!E144,Volume_Forecast_Data,E$138,FALSE)","v":1922702}]
["LDNO LV: Domestic Unrestricted",{"$f":"VLOOKUP(Vlookup!B145,Volume_Forecast_Data,B$138,FALSE)","v":6885.1080000000002},null,null,{"$f":"VLOOKUP(Vlookup!E145,Volume_Forecast_Data,E$138,FALSE)","v":4255}]
["LDNO HV: Domestic Unrestricted",{"$f":"VLOOKUP(Vlookup!B146,Volume_Forecast_Data,B$138,FALSE)","v":21472.725000000002},null,null,{"$f":"VLOOKUP(Vlookup!E146,Volume_Forecast_Data,E$138,FALSE)","v":9925}]
["> Domestic Two Rate"]
["Domestic Two Rate",{"$f":"VLOOKUP(Vlookup!B148,Volume_Forecast_Data,B$138,FALSE)","v":1030801.3401332044},{"$f":"VLOOKUP(Vlookup!C148,Volume_Forecast_Data,C$138,FALSE)","v":770885.2423801081},null,{"$f":"VLOOKUP(Vlookup!E148,Volume_Forecast_Data,E$138,FALSE)","v":314618}]
["LDNO LV: Domestic Two Rate",{"$f":"VLOOKUP(Vlookup!B149,Volume_Forecast_Data,B$138,FALSE)","v":268.07499999999993},{"$f":"VLOOKUP(Vlookup!C149,Volume_Forecast_Data,C$138,FALSE)","v":156.922},null,{"$f":"VLOOKUP(Vlookup!E149,Volume_Forecast_Data,E$138,FALSE)","v":167}]
["LDNO HV: Domestic Two Rate",{"$f":"VLOOKUP(Vlookup!B150,Volume_Forecast_Data,B$138,FALSE)","v":386.87099999999998},{"$f":"VLOOKUP(Vlookup!C150,Volume_Forecast_Data,C$138,FALSE)","v":358.44699999999995},null,{"$f":"VLOOKUP(Vlookup!E150,Volume_Forecast_Data,E$138,FALSE)","v":265}]
["> Domestic Off Peak (related MPAN)"]
["Domestic Off Peak (related MPAN)",{"$f":"VLOOKUP(Vlookup!B152,Volume_Forecast_Data,B$138,FALSE)","v":37781.026033463524},null,null,{"$f":"VLOOKUP(Vlookup!E152,Volume_Forecast_Data,E$138,FALSE)","v":0}]
["LDNO LV: Domestic Off Peak (related MPAN)",{"$f":"VLOOKUP(Vlookup!B153,Volume_Forecast_Data,B$138,FALSE)","v":0},null,null,{"$f":"VLOOKUP(Vlookup!E153,Volume_Forecast_Data,E$138,FALSE)","v":0}]
["LDNO HV: Domestic Off Peak (related MPAN)",{"$f":"VLOOKUP(Vlookup!B154,Volume_Forecast_Data,B$138,FALSE)","v":0},null,null,{"$f":"VLOOKUP(Vlookup!E154,Volume_Forecast_Data,E$138,FALSE)","v":0}]
["> Small Non Domestic Unrestricted"]
["Small Non Domestic Unrestricted",{"$f":"VLOOKUP(Vlookup!B156,Volume_Forecast_Data,B$138,FALSE)","v":1667665.7642358467},null,null,{"$f":"VLOOKUP(Vlookup!E156,Volume_Forecast_Data,E$138,FALSE)","v":132921}]
["LDNO LV: Small Non Domestic Unrestricted",{"$f":"VLOOKUP(Vlookup!B157,Volume_Forecast_Data,B$138,FALSE)","v":657.04099999999994},null,null,{"$f":"VLOOKUP(Vlookup!E157,Volume_Forecast_Data,E$138,FALSE)","v":104}]
["LDNO HV: Small Non Domestic Unrestricted",{"$f":"VLOOKUP(Vlookup!B158,Volume_Forecast_Data,B$138,FALSE)","v":6413.625},null,null,{"$f":"VLOOKUP(Vlookup!E158,Volume_Forecast_Data,E$138,FALSE)","v":385}]
["> Small Non Domestic Two Rate"]
["Small Non Domestic Two Rate",{"$f":"VLOOKUP(Vlookup!B160,Volume_Forecast_Data,B$138,FALSE)","v":472549.48909294046},{"$f":"VLOOKUP(Vlookup!C160,Volume_Forecast_Data,C$138,FALSE)","v":214687.72011949765},null,{"$f":"VLOOKUP(Vlookup!E160,Volume_Forecast_Data,E$138,FALSE)","v":32175}]
["LDNO LV: Small Non Domestic Two Rate",{"$f":"VLOOKUP(Vlookup!B161,Volume_Forecast_Data,B$138,FALSE)","v":321.815},{"$f":"VLOOKUP(Vlookup!C161,Volume_Forecast_Data,C$138,FALSE)","v":94.725000000000009},null,{"$f":"VLOOKUP(Vlookup!E161,Volume_Forecast_Data,E$138,FALSE)","v":9}]
["LDNO HV: Small Non Domestic Two Rate",{"$f":"VLOOKUP(Vlookup!B162,Volume_Forecast_Data,B$138,FALSE)","v":1411.414},{"$f":"VLOOKUP(Vlookup!C162,Volume_Forecast_Data,C$138,FALSE)","v":363.78099999999995},null,{"$f":"VLOOKUP(Vlookup!E162,Volume_Forecast_Data,E$138,FALSE)","v":39}]
["> Small Non Domestic Off Peak (related MPAN)"]
["Small Non Domestic Off Peak (related MPAN)",{"$f":"VLOOKUP(Vlookup!B164,Volume_Forecast_Data,B$138,FALSE)","v":6401.6648192381081},null,null,{"$f":"VLOOKUP(Vlookup!E164,Volume_Forecast_Data,E$138,FALSE)","v":0}]
["LDNO LV: Small Non Domestic Off Peak (related MPAN)",{"$f":"VLOOKUP(Vlookup!B165,Volume_Forecast_Data,B$138,FALSE)","v":0},null,null,{"$f":"VLOOKUP(Vlookup!E165,Volume_Forecast_Data,E$138,FALSE)","v":0}]
["LDNO HV: Small Non Domestic Off Peak (related MPAN)",{"$f":"VLOOKUP(Vlookup!B166,Volume_Forecast_Data,B$138,FALSE)","v":0},null,null,{"$f":"VLOOKUP(Vlookup!E166,Volume_Forecast_Data,E$138,FALSE)","v":0}]
["> LV Medium Non-Domestic"]
["LV Medium Non-Domestic",{"$f":"VLOOKUP(Vlookup!B168,Volume_Forecast_Data,B$138,FALSE)","v":1307127.2320854},{"$f":"VLOOKUP(Vlookup!C168,Volume_Forecast_Data,C$138,FALSE)","v":315613.51466237998},null,{"$f":"VLOOKUP(Vlookup!E168,Volume_Forecast_Data,E$138,FALSE)","v":17765}]
["LDNO LV: LV Medium Non-Domestic",{"$f":"VLOOKUP(Vlookup!B169,Volume_Forecast_Data,B$138,FALSE)","v":305.52299999999997},{"$f":"VLOOKUP(Vlookup!C169,Volume_Forecast_Data,C$138,FALSE)","v":103.38799999999999},null,{"$f":"VLOOKUP(Vlookup!E169,Volume_Forecast_Data,E$138,FALSE)","v":7}]
["LDNO HV: LV Medium Non-Domestic",{"$f":"VLOOKUP(Vlookup!B170,Volume_Forecast_Data,B$138,FALSE)","v":6556.33},{"$f":"VLOOKUP(Vlookup!C170,Volume_Forecast_Data,C$138,FALSE)","v":1534.5619999999999},null,{"$f":"VLOOKUP(Vlookup!E170,Volume_Forecast_Data,E$138,FALSE)","v":62}]
["> LV Sub Medium Non-Domestic"]
["LV Sub Medium Non-Domestic",{"$f":"VLOOKUP(Vlookup!B172,Volume_Forecast_Data,B$138,FALSE)","v":93.640559760000016},{"$f":"VLOOKUP(Vlookup!C172,Volume_Forecast_Data,C$138,FALSE)","v":24.59237418},null,{"$f":"VLOOKUP(Vlookup!E172,Volume_Forecast_Data,E$138,FALSE)","v":3}]
["> HV Medium Non-Domestic"]
["HV Medium Non-Domestic",{"$f":"VLOOKUP(Vlookup!B174,Volume_Forecast_Data,B$138,FALSE)","v":37255.55376114},{"$f":"VLOOKUP(Vlookup!C174,Volume_Forecast_Data,C$138,FALSE)","v":10222.219432259999},null,{"$f":"VLOOKUP(Vlookup!E174,Volume_Forecast_Data,E$138,FALSE)","v":273}]
["> LV HH Metered"]
["LV HH Metered",{"$f":"VLOOKUP(Vlookup!B176,Volume_Forecast_Data,B$138,FALSE)","v":209180.97799631994},{"$f":"VLOOKUP(Vlookup!C176,Volume_Forecast_Data,C$138,FALSE)","v":833098.69413935998},{"$f":"VLOOKUP(Vlookup!D176,Volume_Forecast_Data,D$138,FALSE)","v":858293.18532144045},{"$f":"VLOOKUP(Vlookup!E176,Volume_Forecast_Data,E$138,FALSE)","v":6018},{"$f":"VLOOKUP(Vlookup!F176,Volume_Forecast_Data,F$138,FALSE)","v":983000},{"$f":"VLOOKUP(Vlookup!G176,Volume_Forecast_Data,G$138,FALSE)","v":164557.5686}]
["LDNO LV: LV HH Metered",{"$f":"VLOOKUP(Vlookup!B177,Volume_Forecast_Data,B$138,FALSE)","v":7.5131999999999994},{"$f":"VLOOKUP(Vlookup!C177,Volume_Forecast_Data,C$138,FALSE)","v":54.54839999999998},{"$f":"VLOOKUP(Vlookup!D177,Volume_Forecast_Data,D$138,FALSE)","v":1.4076},{"$f":"VLOOKUP(Vlookup!E177,Volume_Forecast_Data,E$138,FALSE)","v":1},{"$f":"VLOOKUP(Vlookup!F177,Volume_Forecast_Data,F$138,FALSE)","v":0},{"$f":"VLOOKUP(Vlookup!G177,Volume_Forecast_Data,G$138,FALSE)","v":0.81}]
["LDNO HV: LV HH Metered",{"$f":"VLOOKUP(Vlookup!B178,Volume_Forecast_Data,B$138,FALSE)","v":4294.6881000000003},{"$f":"VLOOKUP(Vlookup!C178,Volume_Forecast_Data,C$138,FALSE)","v":14589.245799999995},{"$f":"VLOOKUP(Vlookup!D178,Volume_Forecast_Data,D$138,FALSE)","v":15977.054899999999},{"$f":"VLOOKUP(Vlookup!E178,Volume_Forecast_Data,E$138,FALSE)","v":79},{"$f":"VLOOKUP(Vlookup!F178,Volume_Forecast_Data,F$138,FALSE)","v":19000},{"$f":"VLOOKUP(Vlookup!G178,Volume_Forecast_Data,G$138,FALSE)","v":1075.1704}]
["> LV Sub HH Metered"]
["LV Sub HH Metered",{"$f":"VLOOKUP(Vlookup!B180,Volume_Forecast_Data,B$138,FALSE)","v":2299.1096700000003},{"$f":"VLOOKUP(Vlookup!C180,Volume_Forecast_Data,C$138,FALSE)","v":8498.8490399999973},{"$f":"VLOOKUP(Vlookup!D180,Volume_Forecast_Data,D$138,FALSE)","v":10550.764619999998},{"$f":"VLOOKUP(Vlookup!E180,Volume_Forecast_Data,E$138,FALSE)","v":32},{"$f":"VLOOKUP(Vlookup!F180,Volume_Forecast_Data,F$138,FALSE)","v":17000},{"$f":"VLOOKUP(Vlookup!G180,Volume_Forecast_Data,G$138,FALSE)","v":603.10400000000004}]
["LDNO HV: LV Sub HH Metered",{"$f":"VLOOKUP(Vlookup!B181,Volume_Forecast_Data,B$138,FALSE)","v":187.04909999999998},{"$f":"VLOOKUP(Vlookup!C181,Volume_Forecast_Data,C$138,FALSE)","v":641.99970000000008},{"$f":"VLOOKUP(Vlookup!D181,Volume_Forecast_Data,D$138,FALSE)","v":1199.4126000000001},{"$f":"VLOOKUP(Vlookup!E181,Volume_Forecast_Data,E$138,FALSE)","v":1},{"$f":"VLOOKUP(Vlookup!F181,Volume_Forecast_Data,F$138,FALSE)","v":0},{"$f":"VLOOKUP(Vlookup!G181,Volume_Forecast_Data,G$138,FALSE)","v":675.18520000000001}]
["> HV HH Metered"]
["HV HH Metered",{"$f":"VLOOKUP(Vlookup!B183,Volume_Forecast_Data,B$138,FALSE)","v":792514.24138854013},{"$f":"VLOOKUP(Vlookup!C183,Volume_Forecast_Data,C$138,FALSE)","v":3163549.9176507592},{"$f":"VLOOKUP(Vlookup!D183,Volume_Forecast_Data,D$138,FALSE)","v":4024837.0100446199},{"$f":"VLOOKUP(Vlookup!E183,Volume_Forecast_Data,E$138,FALSE)","v":3709},{"$f":"VLOOKUP(Vlookup!F183,Volume_Forecast_Data,F$138,FALSE)","v":2873000},{"$f":"VLOOKUP(Vlookup!G183,Volume_Forecast_Data,G$138,FALSE)","v":1033930.8586}]
["LDNO HV: HV HH Metered",{"$f":"VLOOKUP(Vlookup!B184,Volume_Forecast_Data,B$138,FALSE)","v":1655.0762000000007},{"$f":"VLOOKUP(Vlookup!C184,Volume_Forecast_Data,C$138,FALSE)","v":5248.0467000000008},{"$f":"VLOOKUP(Vlookup!D184,Volume_Forecast_Data,D$138,FALSE)","v":5557.1989999999996},{"$f":"VLOOKUP(Vlookup!E184,Volume_Forecast_Data,E$138,FALSE)","v":9},{"$f":"VLOOKUP(Vlookup!F184,Volume_Forecast_Data,F$138,FALSE)","v":6000},{"$f":"VLOOKUP(Vlookup!G184,Volume_Forecast_Data,G$138,FALSE)","v":832.24840000000006}]
["> HV Sub HH Metered"]
["HV Sub HH Metered",{"$f":"VLOOKUP(Vlookup!B186,Volume_Forecast_Data,B$138,FALSE)","v":0},{"$f":"VLOOKUP(Vlookup!C186,Volume_Forecast_Data,C$138,FALSE)","v":0},{"$f":"VLOOKUP(Vlookup!D186,Volume_Forecast_Data,D$138,FALSE)","v":0},{"$f":"VLOOKUP(Vlookup!E186,Volume_Forecast_Data,E$138,FALSE)","v":0},{"$f":"VLOOKUP(Vlookup!F186,Volume_Forecast_Data,F$138,FALSE)","v":0},{"$f":"VLOOKUP(Vlookup!G186,Volume_Forecast_Data,G$138,FALSE)","v":0}]
["> NHH UMS category A"]
["NHH UMS category A",{"$f":"VLOOKUP(Vlookup!B188,Volume_Forecast_Data,B$138,FALSE)","v":64233.153152453415},null,null,{"$f":"VLOOKUP(Vlookup!E188,Volume_Forecast_Data,E$138,FALSE)","v":0}]
["LDNO LV: NHH UMS category A",{"$f":"VLOOKUP(Vlookup!B189,Volume_Forecast_Data,B$138,FALSE)","v":40.824837367378308},null,null,{"$f":"VLOOKUP(Vlookup!E189,Volume_Forecast_Data,E$138,FALSE)","v":0}]
["LDNO HV: NHH UMS category A",{"$f":"VLOOKUP(Vlookup!B190,Volume_Forecast_Data,B$138,FALSE)","v":186.65731724588559},null,null,{"$f":"VLOOKUP(Vlookup!E190,Volume_Forecast_Data,E$138,FALSE)","v":0}]
["> NHH UMS category B"]
["NHH UMS category B",{"$f":"VLOOKUP(Vlookup!B192,Volume_Forecast_Data,B$138,FALSE)","v":34027.266358518347},null,null,{"$f":"VLOOKUP(Vlookup!E192,Volume_Forecast_Data,E$138,FALSE)","v":0}]
["LDNO LV: NHH UMS category B",{"$f":"VLOOKUP(Vlookup!B193,Volume_Forecast_Data,B$138,FALSE)","v":21.626800911452921},null,null,{"$f":"VLOOKUP(Vlookup!E193,Volume_Forecast_Data,E$138,FALSE)","v":0}]
["LDNO HV: NHH UMS category B",{"$f":"VLOOKUP(Vlookup!B194,Volume_Forecast_Data,B$138,FALSE)","v":98.880997428500265},null,null,{"$f":"VLOOKUP(Vlookup!E194,Volume_Forecast_Data,E$138,FALSE)","v":0}]
["> NHH UMS category C"]
["NHH UMS category C",{"$f":"VLOOKUP(Vlookup!B196,Volume_Forecast_Data,B$138,FALSE)","v":775.90482271463247},null,null,{"$f":"VLOOKUP(Vlookup!E196,Volume_Forecast_Data,E$138,FALSE)","v":0}]
["LDNO LV: NHH UMS category C",{"$f":"VLOOKUP(Vlookup!B197,Volume_Forecast_Data,B$138,FALSE)","v":0.49314390848457806},null,null,{"$f":"VLOOKUP(Vlookup!E197,Volume_Forecast_Data,E$138,FALSE)","v":0}]
["LDNO HV: NHH UMS category C",{"$f":"VLOOKUP(Vlookup!B198,Volume_Forecast_Data,B$138,FALSE)","v":2.2547283690451372},null,null,{"$f":"VLOOKUP(Vlookup!E198,Volume_Forecast_Data,E$138,FALSE)","v":0}]
["> NHH UMS category D"]
["NHH UMS category D",{"$f":"VLOOKUP(Vlookup!B200,Volume_Forecast_Data,B$138,FALSE)","v":5516.6276284535907},null,null,{"$f":"VLOOKUP(Vlookup!E200,Volume_Forecast_Data,E$138,FALSE)","v":0}]
["LDNO LV: NHH UMS category D",{"$f":"VLOOKUP(Vlookup!B201,Volume_Forecast_Data,B$138,FALSE)","v":3.5062178126841901},null,null,{"$f":"VLOOKUP(Vlookup!E201,Volume_Forecast_Data,E$138,FALSE)","v":0}]
["LDNO HV: NHH UMS category D",{"$f":"VLOOKUP(Vlookup!B202,Volume_Forecast_Data,B$138,FALSE)","v":16.030956956568918},null,null,{"$f":"VLOOKUP(Vlookup!E202,Volume_Forecast_Data,E$138,FALSE)","v":0}]
["> LV UMS (Pseudo HH Metered)"]
["LV UMS (Pseudo HH Metered)",{"$f":"VLOOKUP(Vlookup!B204,Volume_Forecast_Data,B$138,FALSE)","v":11973.632156626389},{"$f":"VLOOKUP(Vlookup!C204,Volume_Forecast_Data,C$138,FALSE)","v":27603.899064733614},{"$f":"VLOOKUP(Vlookup!D204,Volume_Forecast_Data,D$138,FALSE)","v":208157.83305173996},{"$f":"VLOOKUP(Vlookup!E204,Volume_Forecast_Data,E$138,FALSE)","v":0}]
["LDNO LV: LV UMS (Pseudo HH Metered)",{"$f":"VLOOKUP(Vlookup!B205,Volume_Forecast_Data,B$138,FALSE)","v":0},{"$f":"VLOOKUP(Vlookup!C205,Volume_Forecast_Data,C$138,FALSE)","v":0},{"$f":"VLOOKUP(Vlookup!D205,Volume_Forecast_Data,D$138,FALSE)","v":0},{"$f":"VLOOKUP(Vlookup!E205,Volume_Forecast_Data,E$138,FALSE)","v":0}]
["LDNO HV: LV UMS (Pseudo HH Metered)",{"$f":"VLOOKUP(Vlookup!B206,Volume_Forecast_Data,B$138,FALSE)","v":0},{"$f":"VLOOKUP(Vlookup!C206,Volume_Forecast_Data,C$138,FALSE)","v":0},{"$f":"VLOOKUP(Vlookup!D206,Volume_Forecast_Data,D$138,FALSE)","v":0},{"$f":"VLOOKUP(Vlookup!E206,Volume_Forecast_Data,E$138,FALSE)","v":0}]
["> LV Generation NHH"]
["LV Generation NHH",{"$f":"VLOOKUP(Vlookup!B208,Volume_Forecast_Data,B$138,FALSE)","v":444.63900000000001},null,null,{"$f":"VLOOKUP(Vlookup!E208,Volume_Forecast_Data,E$138,FALSE)","v":96}]
["LDNO LV: LV Generation NHH",{"$f":"VLOOKUP(Vlookup!B209,Volume_Forecast_Data,B$138,FALSE)","v":0},null,null,{"$f":"VLOOKUP(Vlookup!E209,Volume_Forecast_Data,E$138,FALSE)","v":0}]
["LDNO HV: LV Generation NHH",{"$f":"VLOOKUP(Vlookup!B210,Volume_Forecast_Data,B$138,FALSE)","v":0},null,null,{"$f":"VLOOKUP(Vlookup!E210,Volume_Forecast_Data,E$138,FALSE)","v":0}]
["> LV Sub Generation NHH"]
["LV Sub Generation NHH",{"$f":"VLOOKUP(Vlookup!B212,Volume_Forecast_Data,B$138,FALSE)","v":0},null,null,{"$f":"VLOOKUP(Vlookup!E212,Volume_Forecast_Data,E$138,FALSE)","v":0}]
["LDNO HV: LV Sub Generation NHH",{"$f":"VLOOKUP(Vlookup!B213,Volume_Forecast_Data,B$138,FALSE)","v":0},null,null,{"$f":"VLOOKUP(Vlookup!E213,Volume_Forecast_Data,E$138,FALSE)","v":0}]
["> LV Generation Intermittent"]
["LV Generation Intermittent",{"$f":"VLOOKUP(Vlookup!B215,Volume_Forecast_Data,B$138,FALSE)","v":46.675000000000004},null,null,{"$f":"VLOOKUP(Vlookup!E215,Volume_Forecast_Data,E$138,FALSE)","v":20},null,{"$f":"VLOOKUP(Vlookup!G215,Volume_Forecast_Data,G$138,FALSE)","v":16.962}]
["LDNO LV: LV Generation Intermittent",{"$f":"VLOOKUP(Vlookup!B216,Volume_Forecast_Data,B$138,FALSE)","v":0},null,null,{"$f":"VLOOKUP(Vlookup!E216,Volume_Forecast_Data,E$138,FALSE)","v":0},null,{"$f":"VLOOKUP(Vlookup!G216,Volume_Forecast_Data,G$138,FALSE)","v":0}]
["LDNO HV: LV Generation Intermittent",{"$f":"VLOOKUP(Vlookup!B217,Volume_Forecast_Data,B$138,FALSE)","v":0},null,null,{"$f":"VLOOKUP(Vlookup!E217,Volume_Forecast_Data,E$138,FALSE)","v":0},null,{"$f":"VLOOKUP(Vlookup!G217,Volume_Forecast_Data,G$138,FALSE)","v":0}]
["> LV Generation Non-Intermittent"]
["LV Generation Non-Intermittent",{"$f":"VLOOKUP(Vlookup!B219,Volume_Forecast_Data,B$138,FALSE)","v":231.31299999999996},{"$f":"VLOOKUP(Vlookup!C219,Volume_Forecast_Data,C$138,FALSE)","v":877.74900000000002},{"$f":"VLOOKUP(Vlookup!D219,Volume_Forecast_Data,D$138,FALSE)","v":1443.4639999999999},{"$f":"VLOOKUP(Vlookup!E219,Volume_Forecast_Data,E$138,FALSE)","v":57},null,{"$f":"VLOOKUP(Vlookup!G219,Volume_Forecast_Data,G$138,FALSE)","v":85.26939999999999}]
["LDNO LV: LV Generation Non-Intermittent",{"$f":"VLOOKUP(Vlookup!B220,Volume_Forecast_Data,B$138,FALSE)","v":0},{"$f":"VLOOKUP(Vlookup!C220,Volume_Forecast_Data,C$138,FALSE)","v":0},{"$f":"VLOOKUP(Vlookup!D220,Volume_Forecast_Data,D$138,FALSE)","v":0},{"$f":"VLOOKUP(Vlookup!E220,Volume_Forecast_Data,E$138,FALSE)","v":0},null,{"$f":"VLOOKUP(Vlookup!G220,Volume_Forecast_Data,G$138,FALSE)","v":0}]
["LDNO HV: LV Generation Non-Intermittent",{"$f":"VLOOKUP(Vlookup!B221,Volume_Forecast_Data,B$138,FALSE)","v":0},{"$f":"VLOOKUP(Vlookup!C221,Volume_Forecast_Data,C$138,FALSE)","v":0},{"$f":"VLOOKUP(Vlookup!D221,Volume_Forecast_Data,D$138,FALSE)","v":0},{"$f":"VLOOKUP(Vlookup!E221,Volume_Forecast_Data,E$138,FALSE)","v":0},null,{"$f":"VLOOKUP(Vlookup!G221,Volume_Forecast_Data,G$138,FALSE)","v":0}]
["> LV Sub Generation Intermittent"]
["LV Sub Generation Intermittent",{"$f":"VLOOKUP(Vlookup!B223,Volume_Forecast_Data,B$138,FALSE)","v":0},null,null,{"$f":"VLOOKUP(Vlookup!E223,Volume_Forecast_Data,E$138,FALSE)","v":0},null,{"$f":"VLOOKUP(Vlookup!G223,Volume_Forecast_Data,G$138,FALSE)","v":0}]
["LDNO HV: LV Sub Generation Intermittent",{"$f":"VLOOKUP(Vlookup!B224,Volume_Forecast_Data,B$138,FALSE)","v":0},null,null,{"$f":"VLOOKUP(Vlookup!E224,Volume_Forecast_Data,E$138,FALSE)","v":0},null,{"$f":"VLOOKUP(Vlookup!G224,Volume_Forecast_Data,G$138,FALSE)","v":0}]
["> LV Sub Generation Non-Intermittent"]
["LV Sub Generation Non-Intermittent",{"$f":"VLOOKUP(Vlookup!B226,Volume_Forecast_Data,B$138,FALSE)","v":0},{"$f":"VLOOKUP(Vlookup!C226,Volume_Forecast_Data,C$138,FALSE)","v":0},{"$f":"VLOOKUP(Vlookup!D226,Volume_Forecast_Data,D$138,FALSE)","v":0.312},{"$f":"VLOOKUP(Vlookup!E226,Volume_Forecast_Data,E$138,FALSE)","v":0},null,{"$f":"VLOOKUP(Vlookup!G226,Volume_Forecast_Data,G$138,FALSE)","v":3.4596}]
["LDNO HV: LV Sub Generation Non-Intermittent",{"$f":"VLOOKUP(Vlookup!B227,Volume_Forecast_Data,B$138,FALSE)","v":0},{"$f":"VLOOKUP(Vlookup!C227,Volume_Forecast_Data,C$138,FALSE)","v":0},{"$f":"VLOOKUP(Vlookup!D227,Volume_Forecast_Data,D$138,FALSE)","v":0},{"$f":"VLOOKUP(Vlookup!E227,Volume_Forecast_Data,E$138,FALSE)","v":0},null,{"$f":"VLOOKUP(Vlookup!G227,Volume_Forecast_Data,G$138,FALSE)","v":0}]
["> HV Generation Intermittent"]
["HV Generation Intermittent",{"$f":"VLOOKUP(Vlookup!B229,Volume_Forecast_Data,B$138,FALSE)","v":987.74199999999996},null,null,{"$f":"VLOOKUP(Vlookup!E229,Volume_Forecast_Data,E$138,FALSE)","v":4},null,{"$f":"VLOOKUP(Vlookup!G229,Volume_Forecast_Data,G$138,FALSE)","v":376.0514}]
["LDNO HV: HV Generation Intermittent",{"$f":"VLOOKUP(Vlookup!B230,Volume_Forecast_Data,B$138,FALSE)","v":0},null,null,{"$f":"VLOOKUP(Vlookup!E230,Volume_Forecast_Data,E$138,FALSE)","v":0},null,{"$f":"VLOOKUP(Vlookup!G230,Volume_Forecast_Data,G$138,FALSE)","v":0}]
["> HV Generation Non-Intermittent"]
["HV Generation Non-Intermittent",{"$f":"VLOOKUP(Vlookup!B232,Volume_Forecast_Data,B$138,FALSE)","v":39368.898999999998},{"$f":"VLOOKUP(Vlookup!C232,Volume_Forecast_Data,C$138,FALSE)","v":133192.95699999999},{"$f":"VLOOKUP(Vlookup!D232,Volume_Forecast_Data,D$138,FALSE)","v":261885.64500000002},{"$f":"VLOOKUP(Vlookup!E232,Volume_Forecast_Data,E$138,FALSE)","v":81},null,{"$f":"VLOOKUP(Vlookup!G232,Volume_Forecast_Data,G$138,FALSE)","v":4526.9914000000008}]
["LDNO HV: HV Generation Non-Intermittent",{"$f":"VLOOKUP(Vlookup!B233,Volume_Forecast_Data,B$138,FALSE)","v":0},{"$f":"VLOOKUP(Vlookup!C233,Volume_Forecast_Data,C$138,FALSE)","v":0},{"$f":"VLOOKUP(Vlookup!D233,Volume_Forecast_Data,D$138,FALSE)","v":0},{"$f":"VLOOKUP(Vlookup!E233,Volume_Forecast_Data,E$138,FALSE)","v":0},null,{"$f":"VLOOKUP(Vlookup!G233,Volume_Forecast_Data,G$138,FALSE)","v":0}]
["> HV Sub Generation Non-Intermittent"]
["HV Sub Generation Non-Intermittent",{"$f":"VLOOKUP(Vlookup!B235,Volume_Forecast_Data,B$138,FALSE)","v":0},{"$f":"VLOOKUP(Vlookup!C235,Volume_Forecast_Data,C$138,FALSE)","v":0},{"$f":"VLOOKUP(Vlookup!D235,Volume_Forecast_Data,D$138,FALSE)","v":0},{"$f":"VLOOKUP(Vlookup!E235,Volume_Forecast_Data,E$138,FALSE)","v":0},null,{"$f":"VLOOKUP(Vlookup!G235,Volume_Forecast_Data,G$138,FALSE)","v":0}]
["> HV Sub Generation Intermittent"]
["HV Sub Generation Intermittent",{"$f":"VLOOKUP(Vlookup!B237,Volume_Forecast_Data,B$138,FALSE)","v":0},null,null,{"$f":"VLOOKUP(Vlookup!E237,Volume_Forecast_Data,E$138,FALSE)","v":0},null,{"$f":"VLOOKUP(Vlookup!G237,Volume_Forecast_Data,G$138,FALSE)","v":0}]
[]
["1055. Transmission exit charges (£/year)"]
[""]
["Source: forecast."]
[null,"Transmission\nexit"]
["Transmission exit charges (£/year)",{"$f":"VLOOKUP(Vlookup!B243,Forcast_Data,5,FALSE)","v":13164424.787519999},""]
[]
["1059. Other expenditure"]
[""]
[null,"Direct cost (£/year)","Indirect cost (£/year)","Indirect cost proportion","Network rates (£/year)"]
["Other expenditure",{"$f":"VLOOKUP(Vlookup!B248,Forcast_Data,5,FALSE)","v":32225296.628930252},{"$f":"VLOOKUP(Vlookup!C248,Forcast_Data,5,FALSE)","v":132800970.50486918},{"$f":"VLOOKUP(Vlookup!D248,Forcast_Data,5,FALSE)","v":0.6},{"$f":"VLOOKUP(Vlookup!E248,Forcast_Data,5,FALSE)","v":26392016},""]
[]
["1060. Customer contributions under current connection charging policy"]
[]
["Source: analysis of expenditure data and/or survey of capital expenditure schemes."]
["Customer contribution percentages by network level of supply and by asset network level."]
["These proportions should reflect the current connection charging method, not necessarily the method that was in place when the connection was built."]
[null,"Assets\n132kV","Assets\n132kV/EHV","Assets\nEHV","Assets\nEHV/HV","Assets\n132kV/HV","Assets\nHV","Assets\nHV/LV","Assets\nLV circuits"]
["LV network",{"$f":"VLOOKUP(Vlookup!B256,Forcast_Data,5,FALSE)","v":0},{"$f":"VLOOKUP(Vlookup!C256,Forcast_Data,5,FALSE)","v":0},{"$f":"VLOOKUP(Vlookup!D256,Forcast_Data,5,FALSE)","v":0},{"$f":"VLOOKUP(Vlookup!E256,Forcast_Data,5,FALSE)","v":0},{"$f":"VLOOKUP(Vlookup!F256,Forcast_Data,5,FALSE)","v":0},{"$f":"VLOOKUP(Vlookup!G256,Forcast_Data,5,FALSE)","v":0.38684969697494365},{"$f":"VLOOKUP(Vlookup!H256,Forcast_Data,5,FALSE)","v":0.64124825573068889},{"$f":"VLOOKUP(Vlookup!I256,Forcast_Data,5,FALSE)","v":0.89564681448643413},""]
["LV substation",{"$f":"VLOOKUP(Vlookup!B257,Forcast_Data,5,FALSE)","v":0},{"$f":"VLOOKUP(Vlookup!C257,Forcast_Data,5,FALSE)","v":0},{"$f":"VLOOKUP(Vlookup!D257,Forcast_Data,5,FALSE)","v":0},{"$f":"VLOOKUP(Vlookup!E257,Forcast_Data,5,FALSE)","v":0},{"$f":"VLOOKUP(Vlookup!F257,Forcast_Data,5,FALSE)","v":0},{"$f":"VLOOKUP(Vlookup!G257,Forcast_Data,5,FALSE)","v":0.38684969697494365},{"$f":"VLOOKUP(Vlookup!H257,Forcast_Data,5,FALSE)","v":0.64124825573068889},null,""]
["HV network",{"$f":"VLOOKUP(Vlookup!B258,Forcast_Data,5,FALSE)","v":0},{"$f":"VLOOKUP(Vlookup!C258,Forcast_Data,5,FALSE)","v":0},{"$f":"VLOOKUP(Vlookup!D258,Forcast_Data,5,FALSE)","v":0},{"$f":"VLOOKUP(Vlookup!E258,Forcast_Data,5,FALSE)","v":0.25764106948138837},{"$f":"VLOOKUP(Vlookup!F258,Forcast_Data,5,FALSE)","v":0.25764106948138837},{"$f":"VLOOKUP(Vlookup!G258,Forcast_Data,5,FALSE)","v":0.51528213896277675},null,null,""]
["HV substation",{"$f":"VLOOKUP(Vlookup!B259,Forcast_Data,5,FALSE)","v":0},{"$f":"VLOOKUP(Vlookup!C259,Forcast_Data,5,FALSE)","v":0},{"$f":"VLOOKUP(Vlookup!D259,Forcast_Data,5,FALSE)","v":0},{"$f":"VLOOKUP(Vlookup!E259,Forcast_Data,5,FALSE)","v":0.25764106948138837},null,null,null,null,""]
[]
["1061. Average split of rate 1 units by distribution time band"]
[]
[null,"Red","Amber","Green"]
["Domestic Two Rate",{"$f":"VLOOKUP(Vlookup!B269,Forcast_Data,5,FALSE)","v":0.14890278426189216},{"$f":"VLOOKUP(Vlookup!C269,Forcast_Data,5,FALSE)","v":0.41118526043131326},{"$f":"VLOOKUP(Vlookup!D269,Forcast_Data,5,FALSE)","v":0.43991195530679456},""]
["Domestic Off Peak (related MPAN)",{"$f":"VLOOKUP(Vlookup!B270,Forcast_Data,5,FALSE)","v":2.2966880173443485E-3},{"$f":"VLOOKUP(Vlookup!C270,Forcast_Data,5,FALSE)","v":0.2056778896815693},{"$f":"VLOOKUP(Vlookup!D270,Forcast_Data,5,FALSE)","v":0.7920254223010863},""]
["Small Non Domestic Two Rate",{"$f":"VLOOKUP(Vlookup!B271,Forcast_Data,5,FALSE)","v":0.13326282626713307},{"$f":"VLOOKUP(Vlookup!C271,Forcast_Data,5,FALSE)","v":0.53523461585794074},{"$f":"VLOOKUP(Vlookup!D271,Forcast_Data,5,FALSE)","v":0.33150255787492622},""]
["Small Non Domestic Off Peak (related MPAN)",{"$f":"VLOOKUP(Vlookup!B272,Forcast_Data,5,FALSE)","v":1.8394107775813375E-2},{"$f":"VLOOKUP(Vlookup!C272,Forcast_Data,5,FALSE)","v":0.17098236297510325},{"$f":"VLOOKUP(Vlookup!D272,Forcast_Data,5,FALSE)","v":0.81062352924908332},""]
["LV Medium Non-Domestic",{"$f":"VLOOKUP(Vlookup!B273,Forcast_Data,5,FALSE)","v":0.13922071459848015},{"$f":"VLOOKUP(Vlookup!C273,Forcast_Data,5,FALSE)","v":0.53278444505652578},{"$f":"VLOOKUP(Vlookup!D273,Forcast_Data,5,FALSE)","v":0.3279948403449941},""]
["LV Sub Medium Non-Domestic",{"$f":"VLOOKUP(Vlookup!B274,Forcast_Data,5,FALSE)","v":0.13922071459848015},{"$f":"VLOOKUP(Vlookup!C274,Forcast_Data,5,FALSE)","v":0.53278444505652578},{"$f":"VLOOKUP(Vlookup!D274,Forcast_Data,5,FALSE)","v":0.3279948403449941},""]
["HV Medium Non-Domestic",{"$f":"VLOOKUP(Vlookup!B275,Forcast_Data,5,FALSE)","v":0.1327379630534701},{"$f":"VLOOKUP(Vlookup!C275,Forcast_Data,5,FALSE)","v":0.56664216163065484},{"$f":"VLOOKUP(Vlookup!D275,Forcast_Data,5,FALSE)","v":0.30061987531587503},""]
[]
["1062. Average split of rate 2 units by distribution time band"]
[]
[null,"Red","Amber","Green"]
["Domestic Two Rate",{"$f":"VLOOKUP(Vlookup!B283,Forcast_Data,5,FALSE)","v":0},{"$f":"VLOOKUP(Vlookup!C283,Forcast_Data,5,FALSE)","v":0},{"$f":"VLOOKUP(Vlookup!D283,Forcast_Data,5,FALSE)","v":1},""]
["Small Non Domestic Two Rate",{"$f":"VLOOKUP(Vlookup!B284,Forcast_Data,5,FALSE)","v":0},{"$f":"VLOOKUP(Vlookup!C284,Forcast_Data,5,FALSE)","v":0},{"$f":"VLOOKUP(Vlookup!D284,Forcast_Data,5,FALSE)","v":1},""]
["LV Medium Non-Domestic",{"$f":"VLOOKUP(Vlookup!B285,Forcast_Data,5,FALSE)","v":0},{"$f":"VLOOKUP(Vlookup!C285,Forcast_Data,5,FALSE)","v":0},{"$f":"VLOOKUP(Vlookup!D285,Forcast_Data,5,FALSE)","v":1},""]
["LV Sub Medium Non-Domestic",{"$f":"VLOOKUP(Vlookup!B286,Forcast_Data,5,FALSE)","v":0},{"$f":"VLOOKUP(Vlookup!C286,Forcast_Data,5,FALSE)","v":0},{"$f":"VLOOKUP(Vlookup!D286,Forcast_Data,5,FALSE)","v":1},""]
["HV Medium Non-Domestic",{"$f":"VLOOKUP(Vlookup!B287,Forcast_Data,5,FALSE)","v":0},{"$f":"VLOOKUP(Vlookup!C287,Forcast_Data,5,FALSE)","v":0},{"$f":"VLOOKUP(Vlookup!D287,Forcast_Data,5,FALSE)","v":1},""]
[]
["1064. Average split of rate 1 units by special distribution time band"]
[]
[null,"Red","Amber","Green",""]
["NHH UMS category A",{"$f":"VLOOKUP(Vlookup!B292,Forcast_Data,5,FALSE)","v":2.9680365296803651E-2},{"$f":"VLOOKUP(Vlookup!C292,Forcast_Data,5,FALSE)","v":0.37254566210045664},{"$f":"VLOOKUP(Vlookup!D292,Forcast_Data,5,FALSE)","v":0.59777397260273968},""]
["NHH UMS category B",{"$f":"VLOOKUP(Vlookup!B293,Forcast_Data,5,FALSE)","v":4.9247533453833446E-2},{"$f":"VLOOKUP(Vlookup!C293,Forcast_Data,5,FALSE)","v":8.8278432042188382E-2},{"$f":"VLOOKUP(Vlookup!D293,Forcast_Data,5,FALSE)","v":0.86247403450397819},""]
["NHH UMS category C",{"$f":"VLOOKUP(Vlookup!B294,Forcast_Data,5,FALSE)","v":9.6056827605747144E-2},{"$f":"VLOOKUP(Vlookup!C294,Forcast_Data,5,FALSE)","v":0.17696296513012377},{"$f":"VLOOKUP(Vlookup!D294,Forcast_Data,5,FALSE)","v":0.72698020726412915},""]
["NHH UMS category D",{"$f":"VLOOKUP(Vlookup!B295,Forcast_Data,5,FALSE)","v":1.6971783970887895E-2},{"$f":"VLOOKUP(Vlookup!C295,Forcast_Data,5,FALSE)","v":0.60828178839872815},{"$f":"VLOOKUP(Vlookup!D295,Forcast_Data,5,FALSE)","v":0.37474642763038385},""]
[]
["1066. Typical annual hours by special distribution time band"]
["Source: definition of distribution time bands."]
["The figures in this table will be automatically adjusted to match the number of days in the charging period."]
[]
[null,"Red","Amber","Green"]
["Annual hours",{"$f":"VLOOKUP(Vlookup!B302,Forcast_Data,5,FALSE)","v":258},{"$f":"VLOOKUP(Vlookup!C302,Forcast_Data,5,FALSE)","v":3265.5},{"$f":"VLOOKUP(Vlookup!D302,Forcast_Data,5,FALSE)","v":5236.5},""]
[]
["1068. Typical annual hours by distribution time band"]
[]
["Source: definition of distribution time bands."]
["The figures in this table will be automatically adjusted to match the number of days in the charging period."]
[null,"Red","Amber","Green"]
["Annual hours",{"$f":"VLOOKUP(Vlookup!B309,Forcast_Data,5,FALSE)","v":783},{"$f":"VLOOKUP(Vlookup!C309,Forcast_Data,5,FALSE)","v":2740.5},{"$f":"VLOOKUP(Vlookup!D309,Forcast_Data,5,FALSE)","v":5236.5},""]
[]
["1069. Peaking probabilities by network level"]
[]
[]
["Source: analysis of network operation data."]
[null,"Red","Amber","Green","Black"]
["GSPs",{"$f":"VLOOKUP(Vlookup!B315,Forcast_Data,5,FALSE)","v":0.90713490721324597},{"$f":"VLOOKUP(Vlookup!C315,Forcast_Data,5,FALSE)","v":8.5943651473687752E-2},{"$f":"VLOOKUP(Vlookup!D315,Forcast_Data,5,FALSE)","v":6.9214413130663024E-3},0.90713490721324597,""]
["132kV",{"$f":"VLOOKUP(Vlookup!B316,Forcast_Data,5,FALSE)","v":0.71771031215339598},{"$f":"VLOOKUP(Vlookup!C316,Forcast_Data,5,FALSE)","v":0.25348688310500261},{"$f":"VLOOKUP(Vlookup!D316,Forcast_Data,5,FALSE)","v":2.8802804741601341E-2},0.71224330330180008,""]
["132kV/EHV",{"$f":"VLOOKUP(Vlookup!B317,Forcast_Data,5,FALSE)","v":0.71771031215339598},{"$f":"VLOOKUP(Vlookup!C317,Forcast_Data,5,FALSE)","v":0.25348688310500261},{"$f":"VLOOKUP(Vlookup!D317,Forcast_Data,5,FALSE)","v":2.8802804741601341E-2},0.71224330330180008,""]
["EHV",{"$f":"VLOOKUP(Vlookup!B318,Forcast_Data,5,FALSE)","v":0.66033153174473114},{"$f":"VLOOKUP(Vlookup!C318,Forcast_Data,5,FALSE)","v":0.26482907568205305},{"$f":"VLOOKUP(Vlookup!D318,Forcast_Data,5,FALSE)","v":7.4839392573215757E-2},0.64849745572722428,""]
["EHV/HV",{"$f":"VLOOKUP(Vlookup!B319,Forcast_Data,5,FALSE)","v":0.66033153174473114},{"$f":"VLOOKUP(Vlookup!C319,Forcast_Data,5,FALSE)","v":0.26482907568205305},{"$f":"VLOOKUP(Vlookup!D319,Forcast_Data,5,FALSE)","v":7.4839392573215757E-2},0.64849745572722428,""]
["132kV/HV",{"$f":"VLOOKUP(Vlookup!B320,Forcast_Data,5,FALSE)","v":0.71771031215339598},{"$f":"VLOOKUP(Vlookup!C320,Forcast_Data,5,FALSE)","v":0.25348688310500261},{"$f":"VLOOKUP(Vlookup!D320,Forcast_Data,5,FALSE)","v":2.8802804741601341E-2},0.71224330330180008,""]
["HV",{"$f":"VLOOKUP(Vlookup!B321,Forcast_Data,5,FALSE)","v":0.66033153174473114},{"$f":"VLOOKUP(Vlookup!C321,Forcast_Data,5,FALSE)","v":0.26482907568205305},{"$f":"VLOOKUP(Vlookup!D321,Forcast_Data,5,FALSE)","v":7.4839392573215757E-2},0.64849745572722428,""]
["HV/LV",{"$f":"VLOOKUP(Vlookup!B322,Forcast_Data,5,FALSE)","v":0.66033153174473114},{"$f":"VLOOKUP(Vlookup!C322,Forcast_Data,5,FALSE)","v":0.26482907568205305},{"$f":"VLOOKUP(Vlookup!D322,Forcast_Data,5,FALSE)","v":7.4839392573215757E-2},0.64849745572722428,""]
["LV circuits",{"$f":"VLOOKUP(Vlookup!B323,Forcast_Data,5,FALSE)","v":0.66033153174473114},{"$f":"VLOOKUP(Vlookup!C323,Forcast_Data,5,FALSE)","v":0.26482907568205305},{"$f":"VLOOKUP(Vlookup!D323,Forcast_Data,5,FALSE)","v":7.4839392573215757E-2},0.64849745572722428,""]
[]
["1076. Target revenue"]
[""]
["Source: forecast."]
[null,"Allowed revenue (£/year)"]
["Target revenue",{"$f":"VLOOKUP(Vlookup!B329,Forcast_Data,5,FALSE)","v":445927422.76611745},""]
[]
["1092. Average kVAr by kVA, by network level"]
[""]
["Source: analysis of operational data."]
["This is the average of MVAr/MVA or SQRT(1-PF^2) across relevant network elements."]
[null,"GSPs","132kV","132kV/EHV","EHV","EHV/HV","132kV/HV","HV","HV/LV","LV circuits"]
["Average kVAr by kVA, by network level",{"$f":"VLOOKUP(Vlookup!B336,Forcast_Data,5,FALSE)","v":0.2810621222726124},{"$f":"VLOOKUP(Vlookup!C336,Forcast_Data,5,FALSE)","v":0.2810621222726124},{"$f":"VLOOKUP(Vlookup!D336,Forcast_Data,5,FALSE)","v":0.2810621222726124},{"$f":"VLOOKUP(Vlookup!E336,Forcast_Data,5,FALSE)","v":0.2810621222726124},{"$f":"VLOOKUP(Vlookup!F336,Forcast_Data,5,FALSE)","v":0.2810621222726124},{"$f":"VLOOKUP(Vlookup!G336,Forcast_Data,5,FALSE)","v":0.2810621222726124},{"$f":"VLOOKUP(Vlookup!H336,Forcast_Data,5,FALSE)","v":0.2810621222726124},{"$f":"VLOOKUP(Vlookup!I336,Forcast_Data,5,FALSE)","v":0.2810621222726124},{"$f":"VLOOKUP(Vlookup!J336,Forcast_Data,5,FALSE)","v":0.2810621222726124},""]
[]
["1201. Current tariff information"]
[""]
[null,"Current revenues if known (£/year)","Current Unit rate 1 p/kWh","Current Unit rate 2 p/kWh","Current Unit rate 3 p/kWh","Current Fixed charge p/MPAN/day","Current Capacity charge p/kVA/day","Current Reactive power charge p/kVArh"]
["Domestic Unrestricted",130826862,null,null,null,null,null,null,""]
["Domestic Two Rate",15098369,null,null,null,null,null,null,""]
["Domestic Off Peak (related MPAN)",146557,null,null,null,null,null,null,""]
["Small Non Domestic Unrestricted",29063999,null,null,null,null,null,null,""]
["Small Non Domestic Two Rate",6925425,null,null,null,null,null,null,""]
["Small Non Domestic Off Peak (related MPAN)",null,null,null,null,null,null,null,""]
["LV Medium Non-Domestic",19761662,null,null,null,null,null,null,""]
["LV Sub Medium Non-Domestic",733648,null,null,null,null,null,null,""]
["HV Medium Non-Domestic",266631,null,null,null,null,null,null,""]
["LV HH Metered",22598111,null,null,0,null,null,0,""]
["LV Sub HH Metered",14598953,null,null,0,null,null,0,""]
["HV HH Metered",41609304,null,null,0,null,null,0,""]
["HV Sub HH Metered",6392480,null,null,0,null,null,0,""]
["NHH UMS category A",540187,null,null,null,null,null,null,""]
["NHH UMS category B",540187,null,null,null,null,null,null,""]
["NHH UMS category C",540187,null,null,null,null,null,null,""]
["NHH UMS category D",540187,null,null,null,null,null,null,""]
["LV UMS (Pseudo HH Metered)",4899607,null,null,0,null,null,null,""]

{"sheet":"(Y+1)","index":10,"n_rows":351,"n_cols":11,"rows_kept":351,"cut":false,"hidden":false,"merged":[]}
[]
[]
[]
[]
["1000. Company, charging year, data version"]
[""]
[null,"Company","Year","Version"]
["Company, charging year, data version",{"$f":"VLOOKUP(Vlookup!B8,Forcast_Data,6,FALSE)","v":"WPD Mid West"},{"$f":"VLOOKUP(Vlookup!C8,Forcast_Data,6,FALSE)","v":"April 2014"},{"$f":"VLOOKUP(Vlookup!D8,Forcast_Data,6,FALSE)","v":0},""]
[]
["1010. Financial and general assumptions"]
[]
["Sources: financial assumptions; calendar; network model."]
["These financial assumptions determine the annuity rate applied to convert the asset values of the network model into an annual charge."]
[null,"Rate of return","Annualisation period (years)","Annuity proportion for customer-contributed assets","Power factor","Days in the charging period"]
["Financial and general assumptions",{"$f":"VLOOKUP(Vlookup!B15,Forcast_Data,6,FALSE)","v":5.6000000000000001E-2},{"$f":"VLOOKUP(Vlookup!C15,Forcast_Data,6,FALSE)","v":40},null,{"$f":"VLOOKUP(Vlookup!E15,Forcast_Data,6,FALSE)","v":0.95},{"$f":"VLOOKUP(Vlookup!F15,Forcast_Data,6,FALSE)","v":365},""]
[]
["1017. Diversity allowance between top and bottom of network level"]
[]
["Source: operational data analysis and/or network model."]
["The diversity figure against GSP is the diversity between GSP Group (the whole system) and individual GSPs."]
["The diversity figure against 132kV is the diversity between GSPs (the top of the 132kV network) and 132kV/EHV bulk supply points (the bottom of the 132kV network). "]
["The diversity figure against EHV is the diversity between 132kV/EHV bulk supply points (the top of the EHV network) and EHV/HV primary substations (the bottom of the EHV network). "]
["The diversity figure against HV is the diversity between EHV/HV primary substations (the top of the HV network) and HV/LV substations (the bottom of the HV network). "]
[null,"Diversity allowance between top and bottom of network level"]
["GSPs",{"$f":"VLOOKUP(Vlookup!B25,Forcast_Data,6,FALSE)","v":5.649040831841079E-2},""]
["132kV",{"$f":"VLOOKUP(Vlookup!B26,Forcast_Data,6,FALSE)","v":2.5568682496299511E-2},""]
["132kV/EHV",null,""]
["EHV",{"$f":"VLOOKUP(Vlookup!B28,Forcast_Data,6,FALSE)","v":2.6631596666738533E-2},""]
["EHV/HV",null,""]
["HV",{"$f":"VLOOKUP(Vlookup!B30,Forcast_Data,6,FALSE)","v":0.34000000000000008},""]
["HV/LV",null,""]
["LV circuits",null,""]
[]
["1018. Proportion of relevant load going through 132kV/HV direct transformation"]
[""]
[null,"132kV/HV"]
["EHV/HV",{"$f":"VLOOKUP(Vlookup!B37,Forcast_Data,6,FALSE)","v":0.69256562916818787},""]
[]
["1019. Network model GSP peak demand (MW)"]
[]
[null,"Network model GSP peak demand (MW)"]
["Network model GSP peak demand (MW)",{"$f":"VLOOKUP(Vlookup!B42,Forcast_Data,6,FALSE)","v":500},""]
[]
["1020. Gross asset cost by network level (£)"]
[]
[null,"Gross assets £"]
["132kV",{"$f":"VLOOKUP(Vlookup!B47,Forcast_Data,6,FALSE)","v":69289826},""]
["132kV/EHV",{"$f":"VLOOKUP(Vlookup!B48,Forcast_Data,6,FALSE)","v":10805721},""]
["EHV",{"$f":"VLOOKUP(Vlookup!B49,Forcast_Data,6,FALSE)","v":12445869},""]
["EHV/HV",{"$f":"VLOOKUP(Vlookup!B50,Forcast_Data,6,FALSE)","v":21265349},""]
["132kV/HV",{"$f":"VLOOKUP(Vlookup!B51,Forcast_Data,6,FALSE)","v":19659026},""]
["HV",{"$f":"VLOOKUP(Vlookup!B52,Forcast_Data,6,FALSE)","v":108538973},""]
["HV/LV",{"$f":"VLOOKUP(Vlookup!B53,Forcast_Data,6,FALSE)","v":68061984},""]
["LV circuits",{"$f":"VLOOKUP(Vlookup!B54,Forcast_Data,6,FALSE)","v":94672478},""]
[]
["1022. LV service model asset cost (£)"]
[]
[null,"LV service model 1","LV service model 2","LV service model 3","LV service model 4","LV service model 5","LV service model 6","LV service model 7","LV service model 8"]
["LV service model asset cost (£)",{"$f":"VLOOKUP(Vlookup!B59,Forcast_Data,6,FALSE)","v":4689.7766890000003},{"$f":"VLOOKUP(Vlookup!C59,Forcast_Data,6,FALSE)","v":578.94375074999994},{"$f":"VLOOKUP(Vlookup!D59,Forcast_Data,6,FALSE)","v":683.87489499999992},{"$f":"VLOOKUP(Vlookup!E59,Forcast_Data,6,FALSE)","v":509.4741106666666},{"$f":"VLOOKUP(Vlookup!F59,Forcast_Data,6,FALSE)","v":1169.0366324666666},{"$f":"VLOOKUP(Vlookup!G59,Forcast_Data,6,FALSE)","v":858.60347475000015},{"$f":"VLOOKUP(Vlookup!H59,Forcast_Data,6,FALSE)","v":0},{"$f":"VLOOKUP(Vlookup!I59,Forcast_Data,6,FALSE)","v":450.31427500000001},""]
[]
["1023. HV service model asset cost (£)"]
[]
[null,"HV service model 1","HV service model 2","HV service model 3","HV service model 4","HV service model 5"]
["HV service model asset cost (£)",{"$f":"VLOOKUP(Vlookup!B64,Forcast_Data,6,FALSE)","v":8748.3777690000006},{"$f":"VLOOKUP(Vlookup!C64,Forcast_Data,6,FALSE)","v":4299.3136000000004},{"$f":"VLOOKUP(Vlookup!D64,Forcast_Data,6,FALSE)","v":0},{"$f":"VLOOKUP(Vlookup!E64,Forcast_Data,6,FALSE)","v":"-"},{"$f":"VLOOKUP(Vlookup!F64,Forcast_Data,6,FALSE)","v":"-"},""]
[]
["1025. Matrix of applicability of LV service models to tariffs with fixed charges"]
[null,10,{"$f":"B67+1","v":11},{"$f":"C67+1","v":12},13,14,15,16,17]
[null,"LV service model 1","LV service model 2","LV service model 3","LV service model 4","LV service model 5","LV service model 6","LV service model 7","LV service model 8"]
["Domestic Unrestricted",{"$f":"VLOOKUP($A69,'Mat of App'!$B$7:$AP$38,B$67,FALSE)","v":0.05},{"$f":"VLOOKUP($A69,'Mat of App'!$B$7:$AP$38,C$67,FALSE)","v":0},{"$f":"VLOOKUP($A69,'Mat of App'!$B$7:$AP$38,D$67,FALSE)","v":0},{"$f":"VLOOKUP($A69,'Mat of App'!$B$7:$AP$38,E$67,FALSE)","v":0},{"$f":"VLOOKUP($A69,'Mat of App'!$B$7:$AP$38,F$67,FALSE)","v":0},{"$f":"VLOOKUP($A69,'Mat of App'!$B$7:$AP$38,G$67,FALSE)","v":0},{"$f":"VLOOKUP($A69,'Mat of App'!$B$7:$AP$38,H$67,FALSE)","v":0},{"$f":"VLOOKUP($A69,'Mat of App'!$B$7:$AP$38,I$67,FALSE)","v":0},""]
["Domestic Two Rate",{"$f":"VLOOKUP($A70,'Mat of App'!$B$7:$AP$38,B$67,FALSE)","v":0.05},{"$f":"VLOOKUP($A70,'Mat of App'!$B$7:$AP$38,C$67,FALSE)","v":0},{"$f":"VLOOKUP($A70,'Mat of App'!$B$7:$AP$38,D$67,FALSE)","v":0},{"$f":"VLOOKUP($A70,'Mat of App'!$B$7:$AP$38,E$67,FALSE)","v":0},{"$f":"VLOOKUP($A70,'Mat of App'!$B$7:$AP$38,F$67,FALSE)","v":0},{"$f":"VLOOKUP($A70,'Mat of App'!$B$7:$AP$38,G$67,FALSE)","v":0},{"$f":"VLOOKUP($A70,'Mat of App'!$B$7:$AP$38,H$67,FALSE)","v":0},{"$f":"VLOOKUP($A70,'Mat of App'!$B$7:$AP$38,I$67,FALSE)","v":0},""]
["Small Non Domestic Unrestricted",{"$f":"VLOOKUP($A71,'Mat of App'!$B$7:$AP$38,B$67,FALSE)","v":0},{"$f":"VLOOKUP($A71,'Mat of App'!$B$7:$AP$38,C$67,FALSE)","v":1},{"$f":"VLOOKUP($A71,'Mat of App'!$B$7:$AP$38,D$67,FALSE)","v":0},{"$f":"VLOOKUP($A71,'Mat of App'!$B$7:$AP$38,E$67,FALSE)","v":0},{"$f":"VLOOKUP($A71,'Mat of App'!$B$7:$AP$38,F$67,FALSE)","v":0},{"$f":"VLOOKUP($A71,'Mat of App'!$B$7:$AP$38,G$67,FALSE)","v":0},{"$f":"VLOOKUP($A71,'Mat of App'!$B$7:$AP$38,H$67,FALSE)","v":0},{"$f":"VLOOKUP($A71,'Mat of App'!$B$7:$AP$38,I$67,FALSE)","v":0},""]
["Small Non Domestic Two Rate",{"$f":"VLOOKUP($A72,'Mat of App'!$B$7:$AP$38,B$67,FALSE)","v":0},{"$f":"VLOOKUP($A72,'Mat of App'!$B$7:$AP$38,C$67,FALSE)","v":1},{"$f":"VLOOKUP($A72,'Mat of App'!$B$7:$AP$38,D$67,FALSE)","v":0},{"$f":"VLOOKUP($A72,'Mat of App'!$B$7:$AP$38,E$67,FALSE)","v":0},{"$f":"VLOOKUP($A72,'Mat of App'!$B$7:$AP$38,F$67,FALSE)","v":0},{"$f":"VLOOKUP($A72,'Mat of App'!$B$7:$AP$38,G$67,FALSE)","v":0},{"$f":"VLOOKUP($A72,'Mat of App'!$B$7:$AP$38,H$67,FALSE)","v":0},{"$f":"VLOOKUP($A72,'Mat of App'!$B$7:$AP$38,I$67,FALSE)","v":0},""]
["LV Medium Non-Domestic",{"$f":"VLOOKUP($A73,'Mat of App'!$B$7:$AP$38,B$67,FALSE)","v":0},{"$f":"VLOOKUP($A73,'Mat of App'!$B$7:$AP$38,C$67,FALSE)","v":0},{"$f":"VLOOKUP($A73,'Mat of App'!$B$7:$AP$38,D$67,FALSE)","v":1},{"$f":"VLOOKUP($A73,'Mat of App'!$B$7:$AP$38,E$67,FALSE)","v":0},{"$f":"VLOOKUP($A73,'Mat of App'!$B$7:$AP$38,F$67,FALSE)","v":0},{"$f":"VLOOKUP($A73,'Mat of App'!$B$7:$AP$38,G$67,FALSE)","v":0},{"$f":"VLOOKUP($A73,'Mat of App'!$B$7:$AP$38,H$67,FALSE)","v":0},{"$f":"VLOOKUP($A73,'Mat of App'!$B$7:$AP$38,I$67,FALSE)","v":0},""]
["LV Sub Medium Non-Domestic",{"$f":"VLOOKUP($A74,'Mat of App'!$B$7:$AP$38,B$67,FALSE)","v":0},{"$f":"VLOOKUP($A74,'Mat of App'!$B$7:$AP$38,C$67,FALSE)","v":0},{"$f":"VLOOKUP($A74,'Mat of App'!$B$7:$AP$38,D$67,FALSE)","v":0},{"$f":"VLOOKUP($A74,'Mat of App'!$B$7:$AP$38,E$67,FALSE)","v":1},{"$f":"VLOOKUP($A74,'Mat of App'!$B$7:$AP$38,F$67,FALSE)","v":0},{"$f":"VLOOKUP($A74,'Mat of App'!$B$7:$AP$38,G$67,FALSE)","v":0},{"$f":"VLOOKUP($A74,'Mat of App'!$B$7:$AP$38,H$67,FALSE)","v":0},{"$f":"VLOOKUP($A74,'Mat of App'!$B$7:$AP$38,I$67,FALSE)","v":0},""]
["LV HH Metered",{"$f":"VLOOKUP($A75,'Mat of App'!$B$7:$AP$38,B$67,FALSE)","v":0},{"$f":"VLOOKUP($A75,'Mat of App'!$B$7:$AP$38,C$67,FALSE)","v":0},{"$f":"VLOOKUP($A75,'Mat of App'!$B$7:$AP$38,D$67,FALSE)","v":0},{"$f":"VLOOKUP($A75,'Mat of App'!$B$7:$AP$38,E$67,FALSE)","v":0},{"$f":"VLOOKUP($A75,'Mat of App'!$B$7:$AP$38,F$67,FALSE)","v":1},{"$f":"VLOOKUP($A75,'Mat of App'!$B$7:$AP$38,G$67,FALSE)","v":0},{"$f":"VLOOKUP($A75,'Mat of App'!$B$7:$AP$38,H$67,FALSE)","v":0},{"$f":"VLOOKUP($A75,'Mat of App'!$B$7:$AP$38,I$67,FALSE)","v":0},""]
["LV Sub HH Metered",{"$f":"VLOOKUP($A76,'Mat of App'!$B$7:$AP$38,B$67,FALSE)","v":0},{"$f":"VLOOKUP($A76,'Mat of App'!$B$7:$AP$38,C$67,FALSE)","v":0},{"$f":"VLOOKUP($A76,'Mat of App'!$B$7:$AP$38,D$67,FALSE)","v":0},{"$f":"VLOOKUP($A76,'Mat of App'!$B$7:$AP$38,E$67,FALSE)","v":0},{"$f":"VLOOKUP($A76,'Mat of App'!$B$7:$AP$38,F$67,FALSE)","v":0},{"$f":"VLOOKUP($A76,'Mat of App'!$B$7:$AP$38,G$67,FALSE)","v":1},{"$f":"VLOOKUP($A76,'Mat of App'!$B$7:$AP$38,H$67,FALSE)","v":0},{"$f":"VLOOKUP($A76,'Mat of App'!$B$7:$AP$38,I$67,FALSE)","v":0},""]
["LV Generation NHH",{"$f":"VLOOKUP($A77,'Mat of App'!$B$7:$AP$38,B$67,FALSE)","v":0},{"$f":"VLOOKUP($A77,'Mat of App'!$B$7:$AP$38,C$67,FALSE)","v":0},{"$f":"VLOOKUP($A77,'Mat of App'!$B$7:$AP$38,D$67,FALSE)","v":0},{"$f":"VLOOKUP($A77,'Mat of App'!$B$7:$AP$38,E$67,FALSE)","v":0},{"$f":"VLOOKUP($A77,'Mat of App'!$B$7:$AP$38,F$67,FALSE)","v":0},{"$f":"VLOOKUP($A77,'Mat of App'!$B$7:$AP$38,G$67,FALSE)","v":0},{"$f":"VLOOKUP($A77,'Mat of App'!$B$7:$AP$38,H$67,FALSE)","v":1},{"$f":"VLOOKUP($A77,'Mat of App'!$B$7:$AP$38,I$67,FALSE)","v":0},""]
["LV Sub Generation NHH",{"$f":"VLOOKUP($A78,'Mat of App'!$B$7:$AP$38,B$67,FALSE)","v":0},{"$f":"VLOOKUP($A78,'Mat of App'!$B$7:$AP$38,C$67,FALSE)","v":0},{"$f":"VLOOKUP($A78,'Mat of App'!$B$7:$AP$38,D$67,FALSE)","v":0},{"$f":"VLOOKUP($A78,'Mat of App'!$B$7:$AP$38,E$67,FALSE)","v":0},{"$f":"VLOOKUP($A78,'Mat of App'!$B$7:$AP$38,F$67,FALSE)","v":0},{"$f":"VLOOKUP($A78,'Mat of App'!$B$7:$AP$38,G$67,FALSE)","v":0},{"$f":"VLOOKUP($A78,'Mat of App'!$B$7:$AP$38,H$67,FALSE)","v":1},{"$f":"VLOOKUP($A78,'Mat of App'!$B$7:$AP$38,I$67,FALSE)","v":0},""]
["LV Generation Intermittent",{"$f":"VLOOKUP($A79,'Mat of App'!$B$7:$AP$38,B$67,FALSE)","v":0},{"$f":"VLOOKUP($A79,'Mat of App'!$B$7:$AP$38,C$67,FALSE)","v":0},{"$f":"VLOOKUP($A79,'Mat of App'!$B$7:$AP$38,D$67,FALSE)","v":0},{"$f":"VLOOKUP($A79,'Mat of App'!$B$7:$AP$38,E$67,FALSE)","v":0},{"$f":"VLOOKUP($A79,'Mat of App'!$B$7:$AP$38,F$67,FALSE)","v":0},{"$f":"VLOOKUP($A79,'Mat of App'!$B$7:$AP$38,G$67,FALSE)","v":0},{"$f":"VLOOKUP($A79,'Mat of App'!$B$7:$AP$38,H$67,FALSE)","v":1},{"$f":"VLOOKUP($A79,'Mat of App'!$B$7:$AP$38,I$67,FALSE)","v":0},""]
["LV Generation Non-Intermittent",{"$f":"VLOOKUP($A80,'Mat of App'!$B$7:$AP$38,B$67,FALSE)","v":0},{"$f":"VLOOKUP($A80,'Mat of App'!$B$7:$AP$38,C$67,FALSE)","v":0},{"$f":"VLOOKUP($A80,'Mat of App'!$B$7:$AP$38,D$67,FALSE)","v":0},{"$f":"VLOOKUP($A80,'Mat of App'!$B$7:$AP$38,E$67,FALSE)","v":0},{"$f":"VLOOKUP($A80,'Mat of App'!$B$7:$AP$38,F$67,FALSE)","v":0},{"$f":"VLOOKUP($A80,'Mat of App'!$B$7:$AP$38,G$67,FALSE)","v":0},{"$f":"VLOOKUP($A80,'Mat of App'!$B$7:$AP$38,H$67,FALSE)","v":0},{"$f":"VLOOKUP($A80,'Mat of App'!$B$7:$AP$38,I$67,FALSE)","v":0},""]
["LV Sub Generation Intermittent",{"$f":"VLOOKUP($A81,'Mat of App'!$B$7:$AP$38,B$67,FALSE)","v":0},{"$f":"VLOOKUP($A81,'Mat of App'!$B$7:$AP$38,C$67,FALSE)","v":0},{"$f":"VLOOKUP($A81,'Mat of App'!$B$7:$AP$38,D$67,FALSE)","v":0},{"$f":"VLOOKUP($A81,'Mat of App'!$B$7:$AP$38,E$67,FALSE)","v":0},{"$f":"VLOOKUP($A81,'Mat of App'!$B$7:$AP$38,F$67,FALSE)","v":0},{"$f":"VLOOKUP($A81,'Mat of App'!$B$7:$AP$38,G$67,FALSE)","v":0},{"$f":"VLOOKUP($A81,'Mat of App'!$B$7:$AP$38,H$67,FALSE)","v":0},{"$f":"VLOOKUP($A81,'Mat of App'!$B$7:$AP$38,I$67,FALSE)","v":0},""]
["LV Sub Generation Non-Intermittent",{"$f":"VLOOKUP($A82,'Mat of App'!$B$7:$AP$38,B$67,FALSE)","v":0},{"$f":"VLOOKUP($A82,'Mat of App'!$B$7:$AP$38,C$67,FALSE)","v":0},{"$f":"VLOOKUP($A82,'Mat of App'!$B$7:$AP$38,D$67,FALSE)","v":0},{"$f":"VLOOKUP($A82,'Mat of App'!$B$7:$AP$38,E$67,FALSE)","v":0},{"$f":"VLOOKUP($A82,'Mat of App'!$B$7:$AP$38,F$67,FALSE)","v":0},{"$f":"VLOOKUP($A82,'Mat of App'!$B$7:$AP$38,G$67,FALSE)","v":0},{"$f":"VLOOKUP($A82,'Mat of App'!$B$7:$AP$38,H$67,FALSE)","v":0},{"$f":"VLOOKUP($A82,'Mat of App'!$B$7:$AP$38,I$67,FALSE)","v":0},""]
[]
["1026. Matrix of applicability of LV service models to unmetered tariffs"]
[]
["Source: service models"]
["Proportion of service model involved in connecting load of 1 MWh/year"]
[null,"LV service model 1","LV service model 2","LV service model 3","LV service model 4","LV service model 5","LV service model 6","LV service model 7","LV service model 8"]
["All LV unmetered tariffs",{"$f":"VLOOKUP($A89,'Mat of App'!$B$7:$AP$38,B$67,FALSE)","v":0},{"$f":"VLOOKUP($A89,'Mat of App'!$B$7:$AP$38,C$67,FALSE)","v":0},{"$f":"VLOOKUP($A89,'Mat of App'!$B$7:$AP$38,D$67,FALSE)","v":0},{"$f":"VLOOKUP($A89,'Mat of App'!$B$7:$AP$38,E$67,FALSE)","v":0},{"$f":"VLOOKUP($A89,'Mat of App'!$B$7:$AP$38,F$67,FALSE)","v":0},{"$f":"VLOOKUP($A89,'Mat of App'!$B$7:$AP$38,G$67,FALSE)","v":0},{"$f":"VLOOKUP($A89,'Mat of App'!$B$7:$AP$38,H$67,FALSE)","v":0},{"$f":"VLOOKUP($A89,'Mat of App'!$B$7:$AP$38,I$67,FALSE)","v":0.48799999999999999},""]
[]
["1028. Matrix of applicability of HV service models to tariffs with fixed charges"]
[null,7,{"$f":"B92+1","v":8},{"$f":"C92+1","v":9},10,11]
[null,"HV service model 1","HV service model 2","HV service model 3","HV service model 4","HV service model 5"]
["HV Medium Non-Domestic",{"$f":"VLOOKUP($A94,'Mat of App'!$B$7:$AP$38,B$92,FALSE)","v":1},{"$f":"VLOOKUP($A94,'Mat of App'!$B$7:$AP$38,C$92,FALSE)","v":0},{"$f":"VLOOKUP($A94,'Mat of App'!$B$7:$AP$38,D$92,FALSE)","v":0},{"$f":"VLOOKUP($A94,'Mat of App'!$B$7:$AP$38,E$92,FALSE)","v":0},{"$f":"VLOOKUP($A94,'Mat of App'!$B$7:$AP$38,F$92,FALSE)","v":0},""]
["HV HH Metered",{"$f":"VLOOKUP($A95,'Mat of App'!$B$7:$AP$38,B$92,FALSE)","v":1},{"$f":"VLOOKUP($A95,'Mat of App'!$B$7:$AP$38,C$92,FALSE)","v":0},{"$f":"VLOOKUP($A95,'Mat of App'!$B$7:$AP$38,D$92,FALSE)","v":0},{"$f":"VLOOKUP($A95,'Mat of App'!$B$7:$AP$38,E$92,FALSE)","v":0},{"$f":"VLOOKUP($A95,'Mat of App'!$B$7:$AP$38,F$92,FALSE)","v":0},""]
["HV Sub HH Metered",{"$f":"VLOOKUP($A96,'Mat of App'!$B$7:$AP$38,B$92,FALSE)","v":1},{"$f":"VLOOKUP($A96,'Mat of App'!$B$7:$AP$38,C$92,FALSE)","v":0},{"$f":"VLOOKUP($A96,'Mat of App'!$B$7:$AP$38,D$92,FALSE)","v":0},{"$f":"VLOOKUP($A96,'Mat of App'!$B$7:$AP$38,E$92,FALSE)","v":0},{"$f":"VLOOKUP($A96,'Mat of App'!$B$7:$AP$38,F$92,FALSE)","v":0},""]
["HV Generation Intermittent",{"$f":"VLOOKUP($A97,'Mat of App'!$B$7:$AP$38,B$92,FALSE)","v":0},{"$f":"VLOOKUP($A97,'Mat of App'!$B$7:$AP$38,C$92,FALSE)","v":1},{"$f":"VLOOKUP($A97,'Mat of App'!$B$7:$AP$38,D$92,FALSE)","v":0},{"$f":"VLOOKUP($A97,'Mat of App'!$B$7:$AP$38,E$92,FALSE)","v":0},{"$f":"VLOOKUP($A97,'Mat of App'!$B$7:$AP$38,F$92,FALSE)","v":0},""]
["HV Generation Non-Intermittent",{"$f":"VLOOKUP($A98,'Mat of App'!$B$7:$AP$38,B$92,FALSE)","v":0},{"$f":"VLOOKUP($A98,'Mat of App'!$B$7:$AP$38,C$92,FALSE)","v":1},{"$f":"VLOOKUP($A98,'Mat of App'!$B$7:$AP$38,D$92,FALSE)","v":0},{"$f":"VLOOKUP($A98,'Mat of App'!$B$7:$AP$38,E$92,FALSE)","v":0},{"$f":"VLOOKUP($A98,'Mat of App'!$B$7:$AP$38,F$92,FALSE)","v":0},""]
["HV Sub Generation Non-Intermittent",{"$f":"VLOOKUP($A99,'Mat of App'!$B$7:$AP$38,B$92,FALSE)","v":0},{"$f":"VLOOKUP($A99,'Mat of App'!$B$7:$AP$38,C$92,FALSE)","v":1},{"$f":"VLOOKUP($A99,'Mat of App'!$B$7:$AP$38,D$92,FALSE)","v":0},{"$f":"VLOOKUP($A99,'Mat of App'!$B$7:$AP$38,E$92,FALSE)","v":0},{"$f":"VLOOKUP($A99,'Mat of App'!$B$7:$AP$38,F$92,FALSE)","v":0},""]
["HV Sub Generation Intermittent",{"$f":"VLOOKUP($A100,'Mat of App'!$B$7:$AP$38,B$92,FALSE)","v":0},{"$f":"VLOOKUP($A100,'Mat of App'!$B$7:$AP$38,C$92,FALSE)","v":1},{"$f":"VLOOKUP($A100,'Mat of App'!$B$7:$AP$38,D$92,FALSE)","v":0},{"$f":"VLOOKUP($A100,'Mat of App'!$B$7:$AP$38,E$92,FALSE)","v":0},{"$f":"VLOOKUP($A100,'Mat of App'!$B$7:$AP$38,F$92,FALSE)","v":0},""]
[]
["1032. Loss adjustment factors to transmission"]
[""]
["Source: losses model or loss adjustment factors at time of system peak."]
[null,"132kV","132kV/EHV","EHV","EHV/HV","HV","HV/LV","LV circuits"]
["Loss adjustment factor",{"$f":"VLOOKUP(Vlookup!B106,Forcast_Data,6,FALSE)","v":1.002},{"$f":"VLOOKUP(Vlookup!C106,Forcast_Data,6,FALSE)","v":1.0029999999999999},{"$f":"VLOOKUP(Vlookup!D106,Forcast_Data,6,FALSE)","v":1.006},{"$f":"VLOOKUP(Vlookup!E106,Forcast_Data,6,FALSE)","v":1.0269999999999999},{"$f":"VLOOKUP(Vlookup!F106,Forcast_Data,6,FALSE)","v":1.044},{"$f":"VLOOKUP(Vlookup!G106,Forcast_Data,6,FALSE)","v":1.0509999999999999},{"$f":"VLOOKUP(Vlookup!H106,Forcast_Data,6,FALSE)","v":1.077},""]
[]
["1037. Embedded network (LDNO) discounts"]
[""]
["Source: separate price control disaggregation model."]
[null,"No discount","LDNO LV: LV user","LDNO HV: LV user","LDNO HV: LV sub user","LDNO HV: HV user"]
["LDNO discount",null,{"$f":"VLOOKUP(Vlookup!C112,Forcast_Data,6,FALSE)","v":0.30883183558962979},{"$f":"VLOOKUP(Vlookup!D112,Forcast_Data,6,FALSE)","v":0.5007791580188965},{"$f":"VLOOKUP(Vlookup!E112,Forcast_Data,6,FALSE)","v":0.2542804505721758},{"$f":"VLOOKUP(Vlookup!F112,Forcast_Data,6,FALSE)","v":0.15228597408951491},""]
[]
["1041. Load profile data for demand users"]
[]
["Source: load data analysis."]
[null,"Coincidence factor","Load factor"]
["Domestic Unrestricted",{"$f":"VLOOKUP(Vlookup!B118,Forcast_Data,6,FALSE)","v":0.91725107523525962},{"$f":"VLOOKUP(Vlookup!C118,Forcast_Data,6,FALSE)","v":0.41143481343309968},""]
["Domestic Two Rate",{"$f":"VLOOKUP(Vlookup!B119,Forcast_Data,6,FALSE)","v":0.40080181765565559},{"$f":"VLOOKUP(Vlookup!C119,Forcast_Data,6,FALSE)","v":0.25560520593582642},""]
["Domestic Off Peak (related MPAN)",null,{"$f":"VLOOKUP(Vlookup!C120,Forcast_Data,6,FALSE)","v":0.15590780773679511},""]
["Small Non Domestic Unrestricted",{"$f":"VLOOKUP(Vlookup!B121,Forcast_Data,6,FALSE)","v":0.62008068887977208},{"$f":"VLOOKUP(Vlookup!C121,Forcast_Data,6,FALSE)","v":0.35245420345734263},""]
["Small Non Domestic Two Rate",{"$f":"VLOOKUP(Vlookup!B122,Forcast_Data,6,FALSE)","v":0.6187554380512692},{"$f":"VLOOKUP(Vlookup!C122,Forcast_Data,6,FALSE)","v":0.43068381316121135},""]
["Small Non Domestic Off Peak (related MPAN)",null,{"$f":"VLOOKUP(Vlookup!C123,Forcast_Data,6,FALSE)","v":0.18686847121079117},""]
["LV Medium Non-Domestic",{"$f":"VLOOKUP(Vlookup!B124,Forcast_Data,6,FALSE)","v":0.80480275736975215},{"$f":"VLOOKUP(Vlookup!C124,Forcast_Data,6,FALSE)","v":0.49209979939144438},""]
["LV Sub Medium Non-Domestic",{"$f":"VLOOKUP(Vlookup!B125,Forcast_Data,6,FALSE)","v":0.80480275736975215},{"$f":"VLOOKUP(Vlookup!C125,Forcast_Data,6,FALSE)","v":0.49209979939144438},""]
["HV Medium Non-Domestic",{"$f":"VLOOKUP(Vlookup!B126,Forcast_Data,6,FALSE)","v":0.61081642184024709},{"$f":"VLOOKUP(Vlookup!C126,Forcast_Data,6,FALSE)","v":0.42201413323580622},""]
["LV HH Metered",{"$f":"VLOOKUP(Vlookup!B127,Forcast_Data,6,FALSE)","v":0.76195140420011676},{"$f":"VLOOKUP(Vlookup!C127,Forcast_Data,6,FALSE)","v":0.51926429246950712},""]
["LV Sub HH Metered",{"$f":"VLOOKUP(Vlookup!B128,Forcast_Data,6,FALSE)","v":0.76195140420011676},{"$f":"VLOOKUP(Vlookup!C128,Forcast_Data,6,FALSE)","v":0.51926429246950712},""]
["HV HH Metered",{"$f":"VLOOKUP(Vlookup!B129,Forcast_Data,6,FALSE)","v":0.77259445254116732},{"$f":"VLOOKUP(Vlookup!C129,Forcast_Data,6,FALSE)","v":0.64378616647520781},""]
["HV Sub HH Metered",{"$f":"VLOOKUP(Vlookup!B130,Forcast_Data,6,FALSE)","v":0.77259445254116732},{"$f":"VLOOKUP(Vlookup!C130,Forcast_Data,6,FALSE)","v":0.64378616647520781},""]
["NHH UMS category A",{"$f":"VLOOKUP(Vlookup!B131,Forcast_Data,6,FALSE)","v":1},{"$f":"VLOOKUP(Vlookup!C131,Forcast_Data,6,FALSE)","v":1},""]
["NHH UMS category B",{"$f":"VLOOKUP(Vlookup!B132,Forcast_Data,6,FALSE)","v":1},{"$f":"VLOOKUP(Vlookup!C132,Forcast_Data,6,FALSE)","v":0.47368294520547877}]
["NHH UMS category C",{"$f":"VLOOKUP(Vlookup!B133,Forcast_Data,6,FALSE)","v":1},{"$f":"VLOOKUP(Vlookup!C133,Forcast_Data,6,FALSE)","v":0.25800000000000001}]
["NHH UMS category D",{"$f":"VLOOKUP(Vlookup!B134,Forcast_Data,6,FALSE)","v":6.4133333333333334E-2},{"$f":"VLOOKUP(Vlookup!C134,Forcast_Data,6,FALSE)","v":0.55300000000000005}]
["LV UMS (Pseudo HH Metered)",{"$f":"VLOOKUP(Vlookup!B135,Forcast_Data,6,FALSE)","v":0.99387558706051526},{"$f":"VLOOKUP(Vlookup!C135,Forcast_Data,6,FALSE)","v":0.48773957041156946},""]
[]
["1053. Volume forecasts for the charging year"]
["",10,11,12,13,14,15]
["Source: forecast."]
["Please include MPAN counts for tariffs with no fixed charge (e.g. off-peak tariffs),"]
["but exclude MPANs on tariffs with a fixed charge that are not subject to a fixed charge due to a site grouping arrangement."]
[null,"Rate 1 units (MWh)","Rate 2 units (MWh)","Rate 3 units (MWh)","MPANs","Import capacity (kVA)","Reactive power units (MVArh)"]
["> Domestic Unrestricted"]
["Domestic Unrestricted",{"$f":"VLOOKUP(Vlookup!B144,Volume_Forecast_Data,B$138,FALSE)","v":7116370.5528782504},null,null,{"$f":"VLOOKUP(Vlookup!E144,Volume_Forecast_Data,E$138,FALSE)","v":1941929.02}]
["LDNO LV: Domestic Unrestricted",{"$f":"VLOOKUP(Vlookup!B145,Volume_Forecast_Data,B$138,FALSE)","v":6816.2569199999998},null,null,{"$f":"VLOOKUP(Vlookup!E145,Volume_Forecast_Data,E$138,FALSE)","v":4297.55}]
["LDNO HV: Domestic Unrestricted",{"$f":"VLOOKUP(Vlookup!B146,Volume_Forecast_Data,B$138,FALSE)","v":21257.997750000002},null,null,{"$f":"VLOOKUP(Vlookup!E146,Volume_Forecast_Data,E$138,FALSE)","v":10024.25}]
["> Domestic Two Rate"]
["Domestic Two Rate",{"$f":"VLOOKUP(Vlookup!B148,Volume_Forecast_Data,B$138,FALSE)","v":1020493.3267318723},{"$f":"VLOOKUP(Vlookup!C148,Volume_Forecast_Data,C$138,FALSE)","v":763176.38995630702},null,{"$f":"VLOOKUP(Vlookup!E148,Volume_Forecast_Data,E$138,FALSE)","v":317764.18}]
["LDNO LV: Domestic Two Rate",{"$f":"VLOOKUP(Vlookup!B149,Volume_Forecast_Data,B$138,FALSE)","v":265.39424999999994},{"$f":"VLOOKUP(Vlookup!C149,Volume_Forecast_Data,C$138,FALSE)","v":155.35278},null,{"$f":"VLOOKUP(Vlookup!E149,Volume_Forecast_Data,E$138,FALSE)","v":168.67}]
["LDNO HV: Domestic Two Rate",{"$f":"VLOOKUP(Vlookup!B150,Volume_Forecast_Data,B$138,FALSE)","v":383.00228999999996},{"$f":"VLOOKUP(Vlookup!C150,Volume_Forecast_Data,C$138,FALSE)","v":354.86252999999994},null,{"$f":"VLOOKUP(Vlookup!E150,Volume_Forecast_Data,E$138,FALSE)","v":267.64999999999998}]
["> Domestic Off Peak (related MPAN)"]
["Domestic Off Peak (related MPAN)",{"$f":"VLOOKUP(Vlookup!B152,Volume_Forecast_Data,B$138,FALSE)","v":37403.21577312889},null,null,{"$f":"VLOOKUP(Vlookup!E152,Volume_Forecast_Data,E$138,FALSE)","v":0}]
["LDNO LV: Domestic Off Peak (related MPAN)",{"$f":"VLOOKUP(Vlookup!B153,Volume_Forecast_Data,B$138,FALSE)","v":0},null,null,{"$f":"VLOOKUP(Vlookup!E153,Volume_Forecast_Data,E$138,FALSE)","v":0}]
["LDNO HV: Domestic Off Peak (related MPAN)",{"$f":"VLOOKUP(Vlookup!B154,Volume_Forecast_Data,B$138,FALSE)","v":0},null,null,{"$f":"VLOOKUP(Vlookup!E154,Volume_Forecast_Data,E$138,FALSE)","v":0}]
["> Small Non Domestic Unrestricted"]
["Small Non Domestic Unrestricted",{"$f":"VLOOKUP(Vlookup!B156,Volume_Forecast_Data,B$138,FALSE)","v":1650989.1065934882},null,null,{"$f":"VLOOKUP(Vlookup!E156,Volume_Forecast_Data,E$138,FALSE)","v":134250.21}]
["LDNO LV: Small Non Domestic Unrestricted",{"$f":"VLOOKUP(Vlookup!B157,Volume_Forecast_Data,B$138,FALSE)","v":650.4705899999999},null,null,{"$f":"VLOOKUP(Vlookup!E157,Volume_Forecast_Data,E$138,FALSE)","v":105.04}]
["LDNO HV: Small Non Domestic Unrestricted",{"$f":"VLOOKUP(Vlookup!B158,Volume_Forecast_Data,B$138,FALSE)","v":6349.4887499999995},null,null,{"$f":"VLOOKUP(Vlookup!E158,Volume_Forecast_Data,E$138,FALSE)","v":388.85}]
["> Small Non Domestic Two Rate"]
["Small Non Domestic Two Rate",{"$f":"VLOOKUP(Vlookup!B160,Volume_Forecast_Data,B$138,FALSE)","v":467823.99420201103},{"$f":"VLOOKUP(Vlookup!C160,Volume_Forecast_Data,C$138,FALSE)","v":212540.84291830266},null,{"$f":"VLOOKUP(Vlookup!E160,Volume_Forecast_Data,E$138,FALSE)","v":32496.75}]
["LDNO LV: Small Non Domestic Two Rate",{"$f":"VLOOKUP(Vlookup!B161,Volume_Forecast_Data,B$138,FALSE)","v":318.59685000000002},{"$f":"VLOOKUP(Vlookup!C161,Volume_Forecast_Data,C$138,FALSE)","v":93.777750000000012},null,{"$f":"VLOOKUP(Vlookup!E161,Volume_Forecast_Data,E$138,FALSE)","v":9.09}]
["LDNO HV: Small Non Domestic Two Rate",{"$f":"VLOOKUP(Vlookup!B162,Volume_Forecast_Data,B$138,FALSE)","v":1397.2998600000001},{"$f":"VLOOKUP(Vlookup!C162,Volume_Forecast_Data,C$138,FALSE)","v":360.14318999999995},null,{"$f":"VLOOKUP(Vlookup!E162,Volume_Forecast_Data,E$138,FALSE)","v":39.39}]
["> Small Non Domestic Off Peak (related MPAN)"]
["Small Non Domestic Off Peak (related MPAN)",{"$f":"VLOOKUP(Vlookup!B164,Volume_Forecast_Data,B$138,FALSE)","v":6337.6481710457265},null,null,{"$f":"VLOOKUP(Vlookup!E164,Volume_Forecast_Data,E$138,FALSE)","v":0}]
["LDNO LV: Small Non Domestic Off Peak (related MPAN)",{"$f":"VLOOKUP(Vlookup!B165,Volume_Forecast_Data,B$138,FALSE)","v":0},null,null,{"$f":"VLOOKUP(Vlookup!E165,Volume_Forecast_Data,E$138,FALSE)","v":0}]
["LDNO HV: Small Non Domestic Off Peak (related MPAN)",{"$f":"VLOOKUP(Vlookup!B166,Volume_Forecast_Data,B$138,FALSE)","v":0},null,null,{"$f":"VLOOKUP(Vlookup!E166,Volume_Forecast_Data,E$138,FALSE)","v":0}]
["> LV Medium Non-Domestic"]
["LV Medium Non-Domestic",{"$f":"VLOOKUP(Vlookup!B168,Volume_Forecast_Data,B$138,FALSE)","v":1294055.959764546},{"$f":"VLOOKUP(Vlookup!C168,Volume_Forecast_Data,C$138,FALSE)","v":312457.37951575615},null,{"$f":"VLOOKUP(Vlookup!E168,Volume_Forecast_Data,E$138,FALSE)","v":17942.650000000001}]
["LDNO LV: LV Medium Non-Domestic",{"$f":"VLOOKUP(Vlookup!B169,Volume_Forecast_Data,B$138,FALSE)","v":302.46776999999997},{"$f":"VLOOKUP(Vlookup!C169,Volume_Forecast_Data,C$138,FALSE)","v":102.35411999999999},null,{"$f":"VLOOKUP(Vlookup!E169,Volume_Forecast_Data,E$138,FALSE)","v":7.07}]
["LDNO HV: LV Medium Non-Domestic",{"$f":"VLOOKUP(Vlookup!B170,Volume_Forecast_Data,B$138,FALSE)","v":6490.7667000000001},{"$f":"VLOOKUP(Vlookup!C170,Volume_Forecast_Data,C$138,FALSE)","v":1519.2163799999998},null,{"$f":"VLOOKUP(Vlookup!E170,Volume_Forecast_Data,E$138,FALSE)","v":62.62}]
["> LV Sub Medium Non-Domestic"]
["LV Sub Medium Non-Domestic",{"$f":"VLOOKUP(Vlookup!B172,Volume_Forecast_Data,B$138,FALSE)","v":92.704154162400016},{"$f":"VLOOKUP(Vlookup!C172,Volume_Forecast_Data,C$138,FALSE)","v":24.346450438200002},null,{"$f":"VLOOKUP(Vlookup!E172,Volume_Forecast_Data,E$138,FALSE)","v":3.0300000000000002}]
["> HV Medium Non-Domestic"]
["HV Medium Non-Domestic",{"$f":"VLOOKUP(Vlookup!B174,Volume_Forecast_Data,B$138,FALSE)","v":36882.998223528601},{"$f":"VLOOKUP(Vlookup!C174,Volume_Forecast_Data,C$138,FALSE)","v":10119.997237937399},null,{"$f":"VLOOKUP(Vlookup!E174,Volume_Forecast_Data,E$138,FALSE)","v":275.73}]
["> LV HH Metered"]
["LV HH Metered",{"$f":"VLOOKUP(Vlookup!B176,Volume_Forecast_Data,B$138,FALSE)","v":207089.16821635675},{"$f":"VLOOKUP(Vlookup!C176,Volume_Forecast_Data,C$138,FALSE)","v":824767.7071979664},{"$f":"VLOOKUP(Vlookup!D176,Volume_Forecast_Data,D$138,FALSE)","v":849710.25346822606},{"$f":"VLOOKUP(Vlookup!E176,Volume_Forecast_Data,E$138,FALSE)","v":6078.18},{"$f":"VLOOKUP(Vlookup!F176,Volume_Forecast_Data,F$138,FALSE)","v":983000},{"$f":"VLOOKUP(Vlookup!G176,Volume_Forecast_Data,G$138,FALSE)","v":164557.5686}]
["LDNO LV: LV HH Metered",{"$f":"VLOOKUP(Vlookup!B177,Volume_Forecast_Data,B$138,FALSE)","v":7.4380679999999995},{"$f":"VLOOKUP(Vlookup!C177,Volume_Forecast_Data,C$138,FALSE)","v":54.002915999999978},{"$f":"VLOOKUP(Vlookup!D177,Volume_Forecast_Data,D$138,FALSE)","v":1.393524},{"$f":"VLOOKUP(Vlookup!E177,Volume_Forecast_Data,E$138,FALSE)","v":1.01},{"$f":"VLOOKUP(Vlookup!F177,Volume_Forecast_Data,F$138,FALSE)","v":0},{"$f":"VLOOKUP(Vlookup!G177,Volume_Forecast_Data,G$138,FALSE)","v":0.81}]
["LDNO HV: LV HH Metered",{"$f":"VLOOKUP(Vlookup!B178,Volume_Forecast_Data,B$138,FALSE)","v":4251.7412190000005},{"$f":"VLOOKUP(Vlookup!C178,Volume_Forecast_Data,C$138,FALSE)","v":14443.353341999995},{"$f":"VLOOKUP(Vlookup!D178,Volume_Forecast_Data,D$138,FALSE)","v":15817.284350999998},{"$f":"VLOOKUP(Vlookup!E178,Volume_Forecast_Data,E$138,FALSE)","v":79.790000000000006},{"$f":"VLOOKUP(Vlookup!F178,Volume_Forecast_Data,F$138,FALSE)","v":19000},{"$f":"VLOOKUP(Vlookup!G178,Volume_Forecast_Data,G$138,FALSE)","v":1075.1704}]
["> LV Sub HH Metered"]
["LV Sub HH Metered",{"$f":"VLOOKUP(Vlookup!B180,Volume_Forecast_Data,B$138,FALSE)","v":2276.1185733000002},{"$f":"VLOOKUP(Vlookup!C180,Volume_Forecast_Data,C$138,FALSE)","v":8413.8605495999964},{"$f":"VLOOKUP(Vlookup!D180,Volume_Forecast_Data,D$138,FALSE)","v":10445.256973799998},{"$f":"VLOOKUP(Vlookup!E180,Volume_Forecast_Data,E$138,FALSE)","v":32.32},{"$f":"VLOOKUP(Vlookup!F180,Volume_Forecast_Data,F$138,FALSE)","v":17000},{"$f":"VLOOKUP(Vlookup!G180,Volume_Forecast_Data,G$138,FALSE)","v":603.10400000000004}]
["LDNO HV: LV Sub HH Metered",{"$f":"VLOOKUP(Vlookup!B181,Volume_Forecast_Data,B$138,FALSE)","v":185.17860899999997},{"$f":"VLOOKUP(Vlookup!C181,Volume_Forecast_Data,C$138,FALSE)","v":635.57970300000011},{"$f":"VLOOKUP(Vlookup!D181,Volume_Forecast_Data,D$138,FALSE)","v":1187.4184740000001},{"$f":"VLOOKUP(Vlookup!E181,Volume_Forecast_Data,E$138,FALSE)","v":1.01},{"$f":"VLOOKUP(Vlookup!F181,Volume_Forecast_Data,F$138,FALSE)","v":0},{"$f":"VLOOKUP(Vlookup!G181,Volume_Forecast_Data,G$138,FALSE)","v":675.18520000000001}]
["> HV HH Metered"]
["HV HH Metered",{"$f":"VLOOKUP(Vlookup!B183,Volume_Forecast_Data,B$138,FALSE)","v":784589.09897465468},{"$f":"VLOOKUP(Vlookup!C183,Volume_Forecast_Data,C$138,FALSE)","v":3131914.4184742514},{"$f":"VLOOKUP(Vlookup!D183,Volume_Forecast_Data,D$138,FALSE)","v":3984588.6399441739},{"$f":"VLOOKUP(Vlookup!E183,Volume_Forecast_Data,E$138,FALSE)","v":3746.09},{"$f":"VLOOKUP(Vlookup!F183,Volume_Forecast_Data,F$138,FALSE)","v":2873000},{"$f":"VLOOKUP(Vlookup!G183,Volume_Forecast_Data,G$138,FALSE)","v":1033930.8586}]
["LDNO HV: HV HH Metered",{"$f":"VLOOKUP(Vlookup!B184,Volume_Forecast_Data,B$138,FALSE)","v":1638.5254380000006},{"$f":"VLOOKUP(Vlookup!C184,Volume_Forecast_Data,C$138,FALSE)","v":5195.5662330000005},{"$f":"VLOOKUP(Vlookup!D184,Volume_Forecast_Data,D$138,FALSE)","v":5501.6270099999992},{"$f":"VLOOKUP(Vlookup!E184,Volume_Forecast_Data,E$138,FALSE)","v":9.09},{"$f":"VLOOKUP(Vlookup!F184,Volume_Forecast_Data,F$138,FALSE)","v":6000},{"$f":"VLOOKUP(Vlookup!G184,Volume_Forecast_Data,G$138,FALSE)","v":832.24840000000006}]
["> HV Sub HH Metered"]
["HV Sub HH Metered",{"$f":"VLOOKUP(Vlookup!B186,Volume_Forecast_Data,B$138,FALSE)","v":0},{"$f":"VLOOKUP(Vlookup!C186,Volume_Forecast_Data,C$138,FALSE)","v":0},{"$f":"VLOOKUP(Vlookup!D186,Volume_Forecast_Data,D$138,FALSE)","v":0},{"$f":"VLOOKUP(Vlookup!E186,Volume_Forecast_Data,E$138,FALSE)","v":0},{"$f":"VLOOKUP(Vlookup!F186,Volume_Forecast_Data,F$138,FALSE)","v":0},{"$f":"VLOOKUP(Vlookup!G186,Volume_Forecast_Data,G$138,FALSE)","v":0}]
["> NHH UMS category A"]
["NHH UMS category A",{"$f":"VLOOKUP(Vlookup!B188,Volume_Forecast_Data,B$138,FALSE)","v":63590.82162092888},null,null,{"$f":"VLOOKUP(Vlookup!E188,Volume_Forecast_Data,E$138,FALSE)","v":0}]
["LDNO LV: NHH UMS category A",{"$f":"VLOOKUP(Vlookup!B189,Volume_Forecast_Data,B$138,FALSE)","v":40.416588993704522},null,null,{"$f":"VLOOKUP(Vlookup!E189,Volume_Forecast_Data,E$138,FALSE)","v":0}]
["LDNO HV: NHH UMS category A",{"$f":"VLOOKUP(Vlookup!B190,Volume_Forecast_Data,B$138,FALSE)","v":184.79074407342674},null,null,{"$f":"VLOOKUP(Vlookup!E190,Volume_Forecast_Data,E$138,FALSE)","v":0}]
["> NHH UMS category B"]
["NHH UMS category B",{"$f":"VLOOKUP(Vlookup!B192,Volume_Forecast_Data,B$138,FALSE)","v":33686.99369493316},null,null,{"$f":"VLOOKUP(Vlookup!E192,Volume_Forecast_Data,E$138,FALSE)","v":0}]
["LDNO LV: NHH UMS category B",{"$f":"VLOOKUP(Vlookup!B193,Volume_Forecast_Data,B$138,FALSE)","v":21.410532902338392},null,null,{"$f":"VLOOKUP(Vlookup!E193,Volume_Forecast_Data,E$138,FALSE)","v":0}]
["LDNO HV: NHH UMS category B",{"$f":"VLOOKUP(Vlookup!B194,Volume_Forecast_Data,B$138,FALSE)","v":97.892187454215261},null,null,{"$f":"VLOOKUP(Vlookup!E194,Volume_Forecast_Data,E$138,FALSE)","v":0}]
["> NHH UMS category C"]
["NHH UMS category C",{"$f":"VLOOKUP(Vlookup!B196,Volume_Forecast_Data,B$138,FALSE)","v":768.14577448748616},null,null,{"$f":"VLOOKUP(Vlookup!E196,Volume_Forecast_Data,E$138,FALSE)","v":0}]
["LDNO LV: NHH UMS category C",{"$f":"VLOOKUP(Vlookup!B197,Volume_Forecast_Data,B$138,FALSE)","v":0.48821246939973229},null,null,{"$f":"VLOOKUP(Vlookup!E197,Volume_Forecast_Data,E$138,FALSE)","v":0}]
["LDNO HV: NHH UMS category C",{"$f":"VLOOKUP(Vlookup!B198,Volume_Forecast_Data,B$138,FALSE)","v":2.2321810853546857},null,null,{"$f":"VLOOKUP(Vlookup!E198,Volume_Forecast_Data,E$138,FALSE)","v":0}]
["> NHH UMS category D"]
["NHH UMS category D",{"$f":"VLOOKUP(Vlookup!B200,Volume_Forecast_Data,B$138,FALSE)","v":5461.4613521690544},null,null,{"$f":"VLOOKUP(Vlookup!E200,Volume_Forecast_Data,E$138,FALSE)","v":0}]
["LDNO LV: NHH UMS category D",{"$f":"VLOOKUP(Vlookup!B201,Volume_Forecast_Data,B$138,FALSE)","v":3.471155634557348},null,null,{"$f":"VLOOKUP(Vlookup!E201,Volume_Forecast_Data,E$138,FALSE)","v":0}]
["LDNO HV: NHH UMS category D",{"$f":"VLOOKUP(Vlookup!B202,Volume_Forecast_Data,B$138,FALSE)","v":15.870647387003229},null,null,{"$f":"VLOOKUP(Vlookup!E202,Volume_Forecast_Data,E$138,FALSE)","v":0}]
["> LV UMS (Pseudo HH Metered)"]
["LV UMS (Pseudo HH Metered)",{"$f":"VLOOKUP(Vlookup!B204,Volume_Forecast_Data,B$138,FALSE)","v":11853.895835060124},{"$f":"VLOOKUP(Vlookup!C204,Volume_Forecast_Data,C$138,FALSE)","v":27327.860074086278},{"$f":"VLOOKUP(Vlookup!D204,Volume_Forecast_Data,D$138,FALSE)","v":206076.25472122256},{"$f":"VLOOKUP(Vlookup!E204,Volume_Forecast_Data,E$138,FALSE)","v":0}]
["LDNO LV: LV UMS (Pseudo HH Metered)",{"$f":"VLOOKUP(Vlookup!B205,Volume_Forecast_Data,B$138,FALSE)","v":0},{"$f":"VLOOKUP(Vlookup!C205,Volume_Forecast_Data,C$138,FALSE)","v":0},{"$f":"VLOOKUP(Vlookup!D205,Volume_Forecast_Data,D$138,FALSE)","v":0},{"$f":"VLOOKUP(Vlookup!E205,Volume_Forecast_Data,E$138,FALSE)","v":0}]
["LDNO HV: LV UMS (Pseudo HH Metered)",{"$f":"VLOOKUP(Vlookup!B206,Volume_Forecast_Data,B$138,FALSE)","v":0},{"$f":"VLOOKUP(Vlookup!C206,Volume_Forecast_Data,C$138,FALSE)","v":0},{"$f":"VLOOKUP(Vlookup!D206,Volume_Forecast_Data,D$138,FALSE)","v":0},{"$f":"VLOOKUP(Vlookup!E206,Volume_Forecast_Data,E$138,FALSE)","v":0}]
["> LV Generation NHH"]
["LV Generation NHH",{"$f":"VLOOKUP(Vlookup!B208,Volume_Forecast_Data,B$138,FALSE)","v":440.19261},null,null,{"$f":"VLOOKUP(Vlookup!E208,Volume_Forecast_Data,E$138,FALSE)","v":96.960000000000008}]
["LDNO LV: LV Generation NHH",{"$f":"VLOOKUP(Vlookup!B209,Volume_Forecast_Data,B$138,FALSE)","v":0},null,null,{"$f":"VLOOKUP(Vlookup!E209,Volume_Forecast_Data,E$138,FALSE)","v":0}]
["LDNO HV: LV Generation NHH",{"$f":"VLOOKUP(Vlookup!B210,Volume_Forecast_Data,B$138,FALSE)","v":0},null,null,{"$f":"VLOOKUP(Vlookup!E210,Volume_Forecast_Data,E$138,FALSE)","v":0}]
["> LV Sub Generation NHH"]
["LV Sub Generation NHH",{"$f":"VLOOKUP(Vlookup!B212,Volume_Forecast_Data,B$138,FALSE)","v":0},null,null,{"$f":"VLOOKUP(Vlookup!E212,Volume_Forecast_Data,E$138,FALSE)","v":0}]
["LDNO HV: LV Sub Generation NHH",{"$f":"VLOOKUP(Vlookup!B213,Volume_Forecast_Data,B$138,FALSE)","v":0},null,null,{"$f":"VLOOKUP(Vlookup!E213,Volume_Forecast_Data,E$138,FALSE)","v":0}]
["> LV Generation Intermittent"]
["LV Generation Intermittent",{"$f":"VLOOKUP(Vlookup!B215,Volume_Forecast_Data,B$138,FALSE)","v":46.208250000000007},null,null,{"$f":"VLOOKUP(Vlookup!E215,Volume_Forecast_Data,E$138,FALSE)","v":20.2},null,{"$f":"VLOOKUP(Vlookup!G215,Volume_Forecast_Data,G$138,FALSE)","v":16.962}]
["LDNO LV: LV Generation Intermittent",{"$f":"VLOOKUP(Vlookup!B216,Volume_Forecast_Data,B$138,FALSE)","v":0},null,null,{"$f":"VLOOKUP(Vlookup!E216,Volume_Forecast_Data,E$138,FALSE)","v":0},null,{"$f":"VLOOKUP(Vlookup!G216,Volume_Forecast_Data,G$138,FALSE)","v":0}]
["LDNO HV: LV Generation Intermittent",{"$f":"VLOOKUP(Vlookup!B217,Volume_Forecast_Data,B$138,FALSE)","v":0},null,null,{"$f":"VLOOKUP(Vlookup!E217,Volume_Forecast_Data,E$138,FALSE)","v":0},null,{"$f":"VLOOKUP(Vlookup!G217,Volume_Forecast_Data,G$138,FALSE)","v":0}]
["> LV Generation Non-Intermittent"]
["LV Generation Non-Intermittent",{"$f":"VLOOKUP(Vlookup!B219,Volume_Forecast_Data,B$138,FALSE)","v":228.99986999999996},{"$f":"VLOOKUP(Vlookup!C219,Volume_Forecast_Data,C$138,FALSE)","v":868.97150999999997},{"$f":"VLOOKUP(Vlookup!D219,Volume_Forecast_Data,D$138,FALSE)","v":1429.02936},{"$f":"VLOOKUP(Vlookup!E219,Volume_Forecast_Data,E$138,FALSE)","v":57.57},null,{"$f":"VLOOKUP(Vlookup!G219,Volume_Forecast_Data,G$138,FALSE)","v":85.26939999999999}]
["LDNO LV: LV Generation Non-Intermittent",{"$f":"VLOOKUP(Vlookup!B220,Volume_Forecast_Data,B$138,FALSE)","v":0},{"$f":"VLOOKUP(Vlookup!C220,Volume_Forecast_Data,C$138,FALSE)","v":0},{"$f":"VLOOKUP(Vlookup!D220,Volume_Forecast_Data,D$138,FALSE)","v":0},{"$f":"VLOOKUP(Vlookup!E220,Volume_Forecast_Data,E$138,FALSE)","v":0},null,{"$f":"VLOOKUP(Vlookup!G220,Volume_Forecast_Data,G$138,FALSE)","v":0}]
["LDNO HV: LV Generation Non-Intermittent",{"$f":"VLOOKUP(Vlookup!B221,Volume_Forecast_Data,B$138,FALSE)","v":0},{"$f":"VLOOKUP(Vlookup!C221,Volume_Forecast_Data,C$138,FALSE)","v":0},{"$f":"VLOOKUP(Vlookup!D221,Volume_Forecast_Data,D$138,FALSE)","v":0},{"$f":"VLOOKUP(Vlookup!E221,Volume_Forecast_Data,E$138,FALSE)","v":0},null,{"$f":"VLOOKUP(Vlookup!G221,Volume_Forecast_Data,G$138,FALSE)","v":0}]
["> LV Sub Generation Intermittent"]
["LV Sub Generation Intermittent",{"$f":"VLOOKUP(Vlookup!B223,Volume_Forecast_Data,B$138,FALSE)","v":0},null,null,{"$f":"VLOOKUP(Vlookup!E223,Volume_Forecast_Data,E$138,FALSE)","v":0},null,{"$f":"VLOOKUP(Vlookup!G223,Volume_Forecast_Data,G$138,FALSE)","v":0}]
["LDNO HV: LV Sub Generation Intermittent",{"$f":"VLOOKUP(Vlookup!B224,Volume_Forecast_Data,B$138,FALSE)","v":0},null,null,{"$f":"VLOOKUP(Vlookup!E224,Volume_Forecast_Data,E$138,FALSE)","v":0},null,{"$f":"VLOOKUP(Vlookup!G224,Volume_Forecast_Data,G$138,FALSE)","v":0}]
["> LV Sub Generation Non-Intermittent"]
["LV Sub Generation Non-Intermittent",{"$f":"VLOOKUP(Vlookup!B226,Volume_Forecast_Data,B$138,FALSE)","v":0},{"$f":"VLOOKUP(Vlookup!C226,Volume_Forecast_Data,C$138,FALSE)","v":0},{"$f":"VLOOKUP(Vlookup!D226,Volume_Forecast_Data,D$138,FALSE)","v":0.30887999999999999},{"$f":"VLOOKUP(Vlookup!E226,Volume_Forecast_Data,E$138,FALSE)","v":0},null,{"$f":"VLOOKUP(Vlookup!G226,Volume_Forecast_Data,G$138,FALSE)","v":3.4596}]
["LDNO HV: LV Sub Generation Non-Intermittent",{"$f":"VLOOKUP(Vlookup!B227,Volume_Forecast_Data,B$138,FALSE)","v":0},{"$f":"VLOOKUP(Vlookup!C227,Volume_Forecast_Data,C$138,FALSE)","v":0},{"$f":"VLOOKUP(Vlookup!D227,Volume_Forecast_Data,D$138,FALSE)","v":0},{"$f":"VLOOKUP(Vlookup!E227,Volume_Forecast_Data,E$138,FALSE)","v":0},null,{"$f":"VLOOKUP(Vlookup!G227,Volume_Forecast_Data,G$138,FALSE)","v":0}]
["> HV Generation Intermittent"]
["HV Generation Intermittent",{"$f":"VLOOKUP(Vlookup!B229,Volume_Forecast_Data,B$138,FALSE)","v":977.86457999999993},null,null,{"$f":"VLOOKUP(Vlookup!E229,Volume_Forecast_Data,E$138,FALSE)","v":4.04},null,{"$f":"VLOOKUP(Vlookup!G229,Volume_Forecast_Data,G$138,FALSE)","v":376.0514}]
["LDNO HV: HV Generation Intermittent",{"$f":"VLOOKUP(Vlookup!B230,Volume_Forecast_Data,B$138,FALSE)","v":0},null,null,{"$f":"VLOOKUP(Vlookup!E230,Volume_Forecast_Data,E$138,FALSE)","v":0},null,{"$f":"VLOOKUP(Vlookup!G230,Volume_Forecast_Data,G$138,FALSE)","v":0}]
["> HV Generation Non-Intermittent"]
["HV Generation Non-Intermittent",{"$f":"VLOOKUP(Vlookup!B232,Volume_Forecast_Data,B$138,FALSE)","v":38975.210009999995},{"$f":"VLOOKUP(Vlookup!C232,Volume_Forecast_Data,C$138,FALSE)","v":131861.02742999999},{"$f":"VLOOKUP(Vlookup!D232,Volume_Forecast_Data,D$138,FALSE)","v":259266.78855000003},{"$f":"VLOOKUP(Vlookup!E232,Volume_Forecast_Data,E$138,FALSE)","v":81.81},null,{"$f":"VLOOKUP(Vlookup!G232,Volume_Forecast_Data,G$138,FALSE)","v":4526.9914000000008}]
["LDNO HV: HV Generation Non-Intermittent",{"$f":"VLOOKUP(Vlookup!B233,Volume_Forecast_Data,B$138,FALSE)","v":0},{"$f":"VLOOKUP(Vlookup!C233,Volume_Forecast_Data,C$138,FALSE)","v":0},{"$f":"VLOOKUP(Vlookup!D233,Volume_Forecast_Data,D$138,FALSE)","v":0},{"$f":"VLOOKUP(Vlookup!E233,Volume_Forecast_Data,E$138,FALSE)","v":0},null,{"$f":"VLOOKUP(Vlookup!G233,Volume_Forecast_Data,G$138,FALSE)","v":0}]
["> HV Sub Generation Non-Intermittent"]
["HV Sub Generation Non-Intermittent",{"$f":"VLOOKUP(Vlookup!B235,Volume_Forecast_Data,B$138,FALSE)","v":0},{"$f":"VLOOKUP(Vlookup!C235,Volume_Forecast_Data,C$138,FALSE)","v":0},{"$f":"VLOOKUP(Vlookup!D235,Volume_Forecast_Data,D$138,FALSE)","v":0},{"$f":"VLOOKUP(Vlookup!E235,Volume_Forecast_Data,E$138,FALSE)","v":0},null,{"$f":"VLOOKUP(Vlookup!G235,Volume_Forecast_Data,G$138,FALSE)","v":0}]
["> HV Sub Generation Intermittent"]
["HV Sub Generation Intermittent",{"$f":"VLOOKUP(Vlookup!B237,Volume_Forecast_Data,B$138,FALSE)","v":0},null,null,{"$f":"VLOOKUP(Vlookup!E237,Volume_Forecast_Data,E$138,FALSE)","v":0},null,{"$f":"VLOOKUP(Vlookup!G237,Volume_Forecast_Data,G$138,FALSE)","v":0}]
[]
["1055. Transmission exit charges (£/year)"]
[""]
["Source: forecast."]
[null,"Transmission\nexit"]
["Transmission exit charges (£/year)",{"$f":"VLOOKUP(Vlookup!B243,Forcast_Data,6,FALSE)","v":13450092.805409184},""]
[]
["1059. Other expenditure"]
[""]
[null,"Direct cost (£/year)","Indirect cost (£/year)","Indirect cost proportion","Network rates (£/year)"]
["Other expenditure",{"$f":"VLOOKUP(Vlookup!B248,Forcast_Data,6,FALSE)","v":32924585.565778039},{"$f":"VLOOKUP(Vlookup!C248,Forcast_Data,6,FALSE)","v":135682751.56482485},{"$f":"VLOOKUP(Vlookup!D248,Forcast_Data,6,FALSE)","v":0.6},{"$f":"VLOOKUP(Vlookup!E248,Forcast_Data,6,FALSE)","v":26964722.747200001},""]
[]
["1060. Customer contributions under current connection charging policy"]
[]
["Source: analysis of expenditure data and/or survey of capital expenditure schemes."]
["Customer contribution percentages by network level of supply and by asset network level."]
["These proportions should reflect the current connection charging method, not necessarily the method that was in place when the connection was built."]
[null,"Assets\n132kV","Assets\n132kV/EHV","Assets\nEHV","Assets\nEHV/HV","Assets\n132kV/HV","Assets\nHV","Assets\nHV/LV","Assets\nLV circuits"]
["LV network",{"$f":"VLOOKUP(Vlookup!B256,Forcast_Data,6,FALSE)","v":0},{"$f":"VLOOKUP(Vlookup!C256,Forcast_Data,6,FALSE)","v":0},{"$f":"VLOOKUP(Vlookup!D256,Forcast_Data,6,FALSE)","v":0},{"$f":"VLOOKUP(Vlookup!E256,Forcast_Data,6,FALSE)","v":0},{"$f":"VLOOKUP(Vlookup!F256,Forcast_Data,6,FALSE)","v":0},{"$f":"VLOOKUP(Vlookup!G256,Forcast_Data,6,FALSE)","v":0.38684969697494365},{"$f":"VLOOKUP(Vlookup!H256,Forcast_Data,6,FALSE)","v":0.64124825573068889},{"$f":"VLOOKUP(Vlookup!I256,Forcast_Data,6,FALSE)","v":0.89564681448643413},""]
["LV substation",{"$f":"VLOOKUP(Vlookup!B257,Forcast_Data,6,FALSE)","v":0},{"$f":"VLOOKUP(Vlookup!C257,Forcast_Data,6,FALSE)","v":0},{"$f":"VLOOKUP(Vlookup!D257,Forcast_Data,6,FALSE)","v":0},{"$f":"VLOOKUP(Vlookup!E257,Forcast_Data,6,FALSE)","v":0},{"$f":"VLOOKUP(Vlookup!F257,Forcast_Data,6,FALSE)","v":0},{"$f":"VLOOKUP(Vlookup!G257,Forcast_Data,6,FALSE)","v":0.38684969697494365},{"$f":"VLOOKUP(Vlookup!H257,Forcast_Data,6,FALSE)","v":0.64124825573068889},null,""]
["HV network",{"$f":"VLOOKUP(Vlookup!B258,Forcast_Data,6,FALSE)","v":0},{"$f":"VLOOKUP(Vlookup!C258,Forcast_Data,6,FALSE)","v":0},{"$f":"VLOOKUP(Vlookup!D258,Forcast_Data,6,FALSE)","v":0},{"$f":"VLOOKUP(Vlookup!E258,Forcast_Data,6,FALSE)","v":0.25764106948138837},{"$f":"VLOOKUP(Vlookup!F258,Forcast_Data,6,FALSE)","v":0.25764106948138837},{"$f":"VLOOKUP(Vlookup!G258,Forcast_Data,6,FALSE)","v":0.51528213896277675},null,null,""]
["HV substation",{"$f":"VLOOKUP(Vlookup!B259,Forcast_Data,6,FALSE)","v":0},{"$f":"VLOOKUP(Vlookup!C259,Forcast_Data,6,FALSE)","v":0},{"$f":"VLOOKUP(Vlookup!D259,Forcast_Data,6,FALSE)","v":0},{"$f":"VLOOKUP(Vlookup!E259,Forcast_Data,6,FALSE)","v":0.25764106948138837},null,null,null,null,""]
[]
["1061. Average split of rate 1 units by distribution time band"]
[]
[null,"Red","Amber","Green"]
["Domestic Two Rate",{"$f":"VLOOKUP(Vlookup!B269,Forcast_Data,6,FALSE)","v":0.14890278426189216},{"$f":"VLOOKUP(Vlookup!C269,Forcast_Data,6,FALSE)","v":0.41118526043131326},{"$f":"VLOOKUP(Vlookup!D269,Forcast_Data,6,FALSE)","v":0.43991195530679456},""]
["Domestic Off Peak (related MPAN)",{"$f":"VLOOKUP(Vlookup!B270,Forcast_Data,6,FALSE)","v":2.2966880173443485E-3},{"$f":"VLOOKUP(Vlookup!C270,Forcast_Data,6,FALSE)","v":0.2056778896815693},{"$f":"VLOOKUP(Vlookup!D270,Forcast_Data,6,FALSE)","v":0.7920254223010863},""]
["Small Non Domestic Two Rate",{"$f":"VLOOKUP(Vlookup!B271,Forcast_Data,6,FALSE)","v":0.13326282626713307},{"$f":"VLOOKUP(Vlookup!C271,Forcast_Data,6,FALSE)","v":0.53523461585794074},{"$f":"VLOOKUP(Vlookup!D271,Forcast_Data,6,FALSE)","v":0.33150255787492622},""]
["Small Non Domestic Off Peak (related MPAN)",{"$f":"VLOOKUP(Vlookup!B272,Forcast_Data,6,FALSE)","v":1.8394107775813375E-2},{"$f":"VLOOKUP(Vlookup!C272,Forcast_Data,6,FALSE)","v":0.17098236297510325},{"$f":"VLOOKUP(Vlookup!D272,Forcast_Data,6,FALSE)","v":0.81062352924908332},""]
["LV Medium Non-Domestic",{"$f":"VLOOKUP(Vlookup!B273,Forcast_Data,6,FALSE)","v":0.13922071459848015},{"$f":"VLOOKUP(Vlookup!C273,Forcast_Data,6,FALSE)","v":0.53278444505652578},{"$f":"VLOOKUP(Vlookup!D273,Forcast_Data,6,FALSE)","v":0.3279948403449941},""]
["LV Sub Medium Non-Domestic",{"$f":"VLOOKUP(Vlookup!B274,Forcast_Data,6,FALSE)","v":0.13922071459848015},{"$f":"VLOOKUP(Vlookup!C274,Forcast_Data,6,FALSE)","v":0.53278444505652578},{"$f":"VLOOKUP(Vlookup!D274,Forcast_Data,6,FALSE)","v":0.3279948403449941},""]
["HV Medium Non-Domestic",{"$f":"VLOOKUP(Vlookup!B275,Forcast_Data,6,FALSE)","v":0.1327379630534701},{"$f":"VLOOKUP(Vlookup!C275,Forcast_Data,6,FALSE)","v":0.56664216163065484},{"$f":"VLOOKUP(Vlookup!D275,Forcast_Data,6,FALSE)","v":0.30061987531587503},""]
[]
["1062. Average split of rate 2 units by distribution time band"]
[]
[null,"Red","Amber","Green"]
["Domestic Two Rate",{"$f":"VLOOKUP(Vlookup!B283,Forcast_Data,6,FALSE)","v":0},{"$f":"VLOOKUP(Vlookup!C283,Forcast_Data,6,FALSE)","v":0},{"$f":"VLOOKUP(Vlookup!D283,Forcast_Data,6,FALSE)","v":1},""]
["Small Non Domestic Two Rate",{"$f":"VLOOKUP(Vlookup!B284,Forcast_Data,6,FALSE)","v":0},{"$f":"VLOOKUP(Vlookup!C284,Forcast_Data,6,FALSE)","v":0},{"$f":"VLOOKUP(Vlookup!D284,Forcast_Data,6,FALSE)","v":1},""]
["LV Medium Non-Domestic",{"$f":"VLOOKUP(Vlookup!B285,Forcast_Data,6,FALSE)","v":0},{"$f":"VLOOKUP(Vlookup!C285,Forcast_Data,6,FALSE)","v":0},{"$f":"VLOOKUP(Vlookup!D285,Forcast_Data,6,FALSE)","v":1},""]
["LV Sub Medium Non-Domestic",{"$f":"VLOOKUP(Vlookup!B286,Forcast_Data,6,FALSE)","v":0},{"$f":"VLOOKUP(Vlookup!C286,Forcast_Data,6,FALSE)","v":0},{"$f":"VLOOKUP(Vlookup!D286,Forcast_Data,6,FALSE)","v":1},""]
["HV Medium Non-Domestic",{"$f":"VLOOKUP(Vlookup!B287,Forcast_Data,6,FALSE)","v":0},{"$f":"VLOOKUP(Vlookup!C287,Forcast_Data,6,FALSE)","v":0},{"$f":"VLOOKUP(Vlookup!D287,Forcast_Data,6,FALSE)","v":1},""]
[]
["1064. Average split of rate 1 units by special distribution time band"]
[]
[null,"Red","Amber","Green",""]
["NHH UMS category A",{"$f":"VLOOKUP(Vlookup!B292,Forcast_Data,6,FALSE)","v":2.9680365296803651E-2},{"$f":"VLOOKUP(Vlookup!C292,Forcast_Data,6,FALSE)","v":0.37254566210045664},{"$f":"VLOOKUP(Vlookup!D292,Forcast_Data,6,FALSE)","v":0.59777397260273968},""]
["NHH UMS category B",{"$f":"VLOOKUP(Vlookup!B293,Forcast_Data,6,FALSE)","v":4.9247533453833446E-2},{"$f":"VLOOKUP(Vlookup!C293,Forcast_Data,6,FALSE)","v":8.8278432042188382E-2},{"$f":"VLOOKUP(Vlookup!D293,Forcast_Data,6,FALSE)","v":0.86247403450397819},""]
["NHH UMS category C",{"$f":"VLOOKUP(Vlookup!B294,Forcast_Data,6,FALSE)","v":9.6056827605747144E-2},{"$f":"VLOOKUP(Vlookup!C294,Forcast_Data,6,FALSE)","v":0.17696296513012377},{"$f":"VLOOKUP(Vlookup!D294,Forcast_Data,6,FALSE)","v":0.72698020726412915},""]
["NHH UMS category D",{"$f":"VLOOKUP(Vlookup!B295,Forcast_Data,6,FALSE)","v":1.6971783970887895E-2},{"$f":"VLOOKUP(Vlookup!C295,Forcast_Data,6,FALSE)","v":0.60828178839872815},{"$f":"VLOOKUP(Vlookup!D295,Forcast_Data,6,FALSE)","v":0.37474642763038385},""]
[]
["1066. Typical annual hours by special distribution time band"]
["Source: definition of distribution time bands."]
["The figures in this table will be automatically adjusted to match the number of days in the charging period."]
[]
[null,"Red","Amber","Green"]
["Annual hours",{"$f":"VLOOKUP(Vlookup!B302,Forcast_Data,6,FALSE)","v":258},{"$f":"VLOOKUP(Vlookup!C302,Forcast_Data,6,FALSE)","v":3265.5},{"$f":"VLOOKUP(Vlookup!D302,Forcast_Data,6,FALSE)","v":5236.5},""]
[]
["1068. Typical annual hours by distribution time band"]
[]
["Source: definition of distribution time bands."]
["The figures in this table will be automatically adjusted to match the number of days in the charging period."]
[null,"Red","Amber","Green"]
["Annual hours",{"$f":"VLOOKUP(Vlookup!B309,Forcast_Data,6,FALSE)","v":783},{"$f":"VLOOKUP(Vlookup!C309,Forcast_Data,6,FALSE)","v":2740.5},{"$f":"VLOOKUP(Vlookup!D309,Forcast_Data,6,FALSE)","v":5236.5},""]
[]
["1069. Peaking probabilities by network level"]
[]
[]
["Source: analysis of network operation data."]
[null,"Red","Amber","Green","Black"]
["GSPs",{"$f":"VLOOKUP(Vlookup!B315,Forcast_Data,6,FALSE)","v":0.90713490721324597},{"$f":"VLOOKUP(Vlookup!C315,Forcast_Data,6,FALSE)","v":8.5943651473687752E-2},{"$f":"VLOOKUP(Vlookup!D315,Forcast_Data,6,FALSE)","v":6.9214413130663024E-3},{"$f":"VLOOKUP(Vlookup!E315,Forcast_Data,6,FALSE)","v":0.47623207722750621},""]
["132kV",{"$f":"VLOOKUP(Vlookup!B316,Forcast_Data,6,FALSE)","v":0.71771031215339598},{"$f":"VLOOKUP(Vlookup!C316,Forcast_Data,6,FALSE)","v":0.25348688310500261},{"$f":"VLOOKUP(Vlookup!D316,Forcast_Data,6,FALSE)","v":2.8802804741601341E-2},{"$f":"VLOOKUP(Vlookup!E316,Forcast_Data,6,FALSE)","v":0.5027642206564088},""]
["132kV/EHV",{"$f":"VLOOKUP(Vlookup!B317,Forcast_Data,6,FALSE)","v":0.71771031215339598},{"$f":"VLOOKUP(Vlookup!C317,Forcast_Data,6,FALSE)","v":0.25348688310500261},{"$f":"VLOOKUP(Vlookup!D317,Forcast_Data,6,FALSE)","v":2.8802804741601341E-2},{"$f":"VLOOKUP(Vlookup!E317,Forcast_Data,6,FALSE)","v":0.5027642206564088},""]
["EHV",{"$f":"VLOOKUP(Vlookup!B318,Forcast_Data,6,FALSE)","v":0.66033153174473114},{"$f":"VLOOKUP(Vlookup!C318,Forcast_Data,6,FALSE)","v":0.26482907568205305},{"$f":"VLOOKUP(Vlookup!D318,Forcast_Data,6,FALSE)","v":7.4839392573215757E-2},{"$f":"VLOOKUP(Vlookup!E318,Forcast_Data,6,FALSE)","v":0.5314588887042806},""]
["EHV/HV",{"$f":"VLOOKUP(Vlookup!B319,Forcast_Data,6,FALSE)","v":0.66033153174473114},{"$f":"VLOOKUP(Vlookup!C319,Forcast_Data,6,FALSE)","v":0.26482907568205305},{"$f":"VLOOKUP(Vlookup!D319,Forcast_Data,6,FALSE)","v":7.4839392573215757E-2},{"$f":"VLOOKUP(Vlookup!E319,Forcast_Data,6,FALSE)","v":0.5314588887042806},""]
["132kV/HV",{"$f":"VLOOKUP(Vlookup!B320,Forcast_Data,6,FALSE)","v":0.71771031215339598},{"$f":"VLOOKUP(Vlookup!C320,Forcast_Data,6,FALSE)","v":0.25348688310500261},{"$f":"VLOOKUP(Vlookup!D320,Forcast_Data,6,FALSE)","v":2.8802804741601341E-2},{"$f":"VLOOKUP(Vlookup!E320,Forcast_Data,6,FALSE)","v":0.5027642206564088},""]
["HV",{"$f":"VLOOKUP(Vlookup!B321,Forcast_Data,6,FALSE)","v":0.66033153174473114},{"$f":"VLOOKUP(Vlookup!C321,Forcast_Data,6,FALSE)","v":0.26482907568205305},{"$f":"VLOOKUP(Vlookup!D321,Forcast_Data,6,FALSE)","v":7.4839392573215757E-2},{"$f":"VLOOKUP(Vlookup!E321,Forcast_Data,6,FALSE)","v":0.5314588887042806},""]
["HV/LV",{"$f":"VLOOKUP(Vlookup!B322,Forcast_Data,6,FALSE)","v":0.66033153174473114},{"$f":"VLOOKUP(Vlookup!C322,Forcast_Data,6,FALSE)","v":0.26482907568205305},{"$f":"VLOOKUP(Vlookup!D322,Forcast_Data,6,FALSE)","v":7.4839392573215757E-2},{"$f":"VLOOKUP(Vlookup!E322,Forcast_Data,6,FALSE)","v":0.5314588887042806},""]
["LV circuits",{"$f":"VLOOKUP(Vlookup!B323,Forcast_Data,6,FALSE)","v":0.66033153174473114},{"$f":"VLOOKUP(Vlookup!C323,Forcast_Data,6,FALSE)","v":0.26482907568205305},{"$f":"VLOOKUP(Vlookup!D323,Forcast_Data,6,FALSE)","v":7.4839392573215757E-2},{"$f":"VLOOKUP(Vlookup!E323,Forcast_Data,6,FALSE)","v":0.5314588887042806},""]
[]
["1076. Target revenue"]
[""]
["Source: forecast."]
[null,"Allowed revenue (£/year)"]
["Target revenue",{"$f":"VLOOKUP(Vlookup!B329,Forcast_Data,6,FALSE)","v":490455525.84651375},""]
[]
["1092. Average kVAr by kVA, by network level"]
[""]
["Source: analysis of operational data."]
["This is the average of MVAr/MVA or SQRT(1-PF^2) across relevant network elements."]
[null,"GSPs","132kV","132kV/EHV","EHV","EHV/HV","132kV/HV","HV","HV/LV","LV circuits"]
["Average kVAr by kVA, by network level",{"$f":"VLOOKUP(Vlookup!B336,Forcast_Data,6,FALSE)","v":0.2810621222726124},{"$f":"VLOOKUP(Vlookup!C336,Forcast_Data,6,FALSE)","v":0.2810621222726124},{"$f":"VLOOKUP(Vlookup!D336,Forcast_Data,6,FALSE)","v":0.2810621222726124},{"$f":"VLOOKUP(Vlookup!E336,Forcast_Data,6,FALSE)","v":0.2810621222726124},{"$f":"VLOOKUP(Vlookup!F336,Forcast_Data,6,FALSE)","v":0.2810621222726124},{"$f":"VLOOKUP(Vlookup!G336,Forcast_Data,6,FALSE)","v":0.2810621222726124},{"$f":"VLOOKUP(Vlookup!H336,Forcast_Data,6,FALSE)","v":0.2810621222726124},{"$f":"VLOOKUP(Vlookup!I336,Forcast_Data,6,FALSE)","v":0.2810621222726124},{"$f":"VLOOKUP(Vlookup!J336,Forcast_Data,6,FALSE)","v":0.2810621222726124},""]
[]
["1201. Current tariff information"]
[""]
[null,"Current revenues if known (£/year)","Current Unit rate 1 p/kWh","Current Unit rate 2 p/kWh","Current Unit rate 3 p/kWh","Current Fixed charge p/MPAN/day","Current Capacity charge p/kVA/day","Current Reactive power charge p/kVArh"]
["Domestic Unrestricted",130826862,null,null,null,null,null,null,""]
["Domestic Two Rate",15098369,null,null,null,null,null,null,""]
["Domestic Off Peak (related MPAN)",146557,null,null,null,null,null,null,""]
["Small Non Domestic Unrestricted",29063999,null,null,null,null,null,null,""]
["Small Non Domestic Two Rate",6925425,null,null,null,null,null,null,""]
["Small Non Domestic Off Peak (related MPAN)",null,null,null,null,null,null,null,""]
["LV Medium Non-Domestic",19761662,null,null,null,null,null,null,""]
["LV Sub Medium Non-Domestic",733648,null,null,null,null,null,null,""]
["HV Medium Non-Domestic",266631,null,null,null,null,null,null,""]
["LV HH Metered",22598111,null,null,0,null,null,0,""]
["LV Sub HH Metered",14598953,null,null,0,null,null,0,""]
["HV HH Metered",41609304,null,null,0,null,null,0,""]
["HV Sub HH Metered",6392480,null,null,0,null,null,0,""]
["NHH UMS category A",540187,null,null,null,null,null,null,""]
["NHH UMS category B",540187,null,null,null,null,null,null,""]
["NHH UMS category C",540187,null,null,null,null,null,null,""]
["NHH UMS category D",540187,null,null,null,null,null,null,""]
["LV UMS (Pseudo HH Metered)",4899607,null,null,0,null,null,null,""]

{"sheet":"(Y+2)","index":11,"n_rows":351,"n_cols":11,"rows_kept":351,"cut":false,"hidden":false,"merged":[]}
[]
[]
[]
[]
["1000. Company, charging year, data version"]
[""]
[null,"Company","Year","Version"]
["Company, charging year, data version",{"$f":"VLOOKUP(Vlookup!B8,Forcast_Data,7,FALSE)","v":"WPD Mid West"},{"$f":"VLOOKUP(Vlookup!C8,Forcast_Data,7,FALSE)","v":"April 2015"},{"$f":"VLOOKUP(Vlookup!D8,Forcast_Data,7,FALSE)","v":0},""]
[]
["1010. Financial and general assumptions"]
[]
["Sources: financial assumptions; calendar; network model."]
["These financial assumptions determine the annuity rate applied to convert the asset values of the network model into an annual charge."]
[null,"Rate of return","Annualisation period (years)","Annuity proportion for customer-contributed assets","Power factor","Days in the charging period"]
["Financial and general assumptions",{"$f":"VLOOKUP(Vlookup!B15,Forcast_Data,7,FALSE)","v":5.6000000000000001E-2},{"$f":"VLOOKUP(Vlookup!C15,Forcast_Data,7,FALSE)","v":40},null,{"$f":"VLOOKUP(Vlookup!E15,Forcast_Data,7,FALSE)","v":0.95},{"$f":"VLOOKUP(Vlookup!F15,Forcast_Data,7,FALSE)","v":366},""]
[]
["1017. Diversity allowance between top and bottom of network level"]
[]
["Source: operational data analysis and/or network model."]
["The diversity figure against GSP is the diversity between GSP Group (the whole system) and individual GSPs."]
["The diversity figure against 132kV is the diversity between GSPs (the top of the 132kV network) and 132kV/EHV bulk supply points (the bottom of the 132kV network). "]
["The diversity figure against EHV is the diversity between 132kV/EHV bulk supply points (the top of the EHV network) and EHV/HV primary substations (the bottom of the EHV network). "]
["The diversity figure against HV is the diversity between EHV/HV primary substations (the top of the HV network) and HV/LV substations (the bottom of the HV network). "]
[null,"Diversity allowance between top and bottom of network level"]
["GSPs",{"$f":"VLOOKUP(Vlookup!B25,Forcast_Data,7,FALSE)","v":5.649040831841079E-2},""]
["132kV",{"$f":"VLOOKUP(Vlookup!B26,Forcast_Data,7,FALSE)","v":2.5568682496299511E-2},""]
["132kV/EHV",null,""]
["EHV",{"$f":"VLOOKUP(Vlookup!B28,Forcast_Data,7,FALSE)","v":2.6631596666738533E-2},""]
["EHV/HV",null,""]
["HV",{"$f":"VLOOKUP(Vlookup!B30,Forcast_Data,7,FALSE)","v":0.34000000000000008},""]
["HV/LV",null,""]
["LV circuits",null,""]
[]
["1018. Proportion of relevant load going through 132kV/HV direct transformation"]
[""]
[null,"132kV/HV"]
["EHV/HV",{"$f":"VLOOKUP(Vlookup!B37,Forcast_Data,7,FALSE)","v":0.69256562916818787},""]
[]
["1019. Network model GSP peak demand (MW)"]
[]
[null,"Network model GSP peak demand (MW)"]
["Network model GSP peak demand (MW)",{"$f":"VLOOKUP(Vlookup!B42,Forcast_Data,7,FALSE)","v":500},""]
[]
["1020. Gross asset cost by network level (£)"]
[]
[null,"Gross assets £"]
["132kV",{"$f":"VLOOKUP(Vlookup!B47,Forcast_Data,7,FALSE)","v":70675622.519999996},""]
["132kV/EHV",{"$f":"VLOOKUP(Vlookup!B48,Forcast_Data,7,FALSE)","v":11021835.42},""]
["EHV",{"$f":"VLOOKUP(Vlookup!B49,Forcast_Data,7,FALSE)","v":12694786.380000001},""]
["EHV/HV",{"$f":"VLOOKUP(Vlookup!B50,Forcast_Data,7,FALSE)","v":21690655.98},""]
["132kV/HV",{"$f":"VLOOKUP(Vlookup!B51,Forcast_Data,7,FALSE)","v":20052206.52},""]
["HV",{"$f":"VLOOKUP(Vlookup!B52,Forcast_Data,7,FALSE)","v":110709752.46000001},""]
["HV/LV",{"$f":"VLOOKUP(Vlookup!B53,Forcast_Data,7,FALSE)","v":69423223.680000007},""]
["LV circuits",{"$f":"VLOOKUP(Vlookup!B54,Forcast_Data,7,FALSE)","v":96565927.560000002},""]
[]
["1022. LV service model asset cost (£)"]
[]
[null,"LV service model 1","LV service model 2","LV service model 3","LV service model 4","LV service model 5","LV service model 6","LV service model 7","LV service model 8"]
["LV service model asset cost (£)",{"$f":"VLOOKUP(Vlookup!B59,Forcast_Data,7,FALSE)","v":4783.5722227800006},{"$f":"VLOOKUP(Vlookup!C59,Forcast_Data,7,FALSE)","v":590.52262576499993},{"$f":"VLOOKUP(Vlookup!D59,Forcast_Data,7,FALSE)","v":697.55239289999997},{"$f":"VLOOKUP(Vlookup!E59,Forcast_Data,7,FALSE)","v":519.6635928799999},{"$f":"VLOOKUP(Vlookup!F59,Forcast_Data,7,FALSE)","v":1192.4173651159999},{"$f":"VLOOKUP(Vlookup!G59,Forcast_Data,7,FALSE)","v":875.77554424500022},{"$f":"VLOOKUP(Vlookup!H59,Forcast_Data,7,FALSE)","v":"-"},{"$f":"VLOOKUP(Vlookup!I59,Forcast_Data,7,FALSE)","v":459.3205605},""]
[]
["1023. HV service model asset cost (£)"]
[]
[null,"HV service model 1","HV service model 2","HV service model 3","HV service model 4","HV service model 5"]
["HV service model asset cost (£)",{"$f":"VLOOKUP(Vlookup!B64,Forcast_Data,7,FALSE)","v":8562.57},{"$f":"VLOOKUP(Vlookup!C64,Forcast_Data,7,FALSE)","v":4208},{"$f":"VLOOKUP(Vlookup!D64,Forcast_Data,7,FALSE)","v":0},{"$f":"VLOOKUP(Vlookup!E64,Forcast_Data,7,FALSE)","v":"-"},{"$f":"VLOOKUP(Vlookup!F64,Forcast_Data,7,FALSE)","v":"-"},""]
[]
["1025. Matrix of applicability of LV service models to tariffs with fixed charges"]
[null,18,{"$f":"B67+1","v":19},{"$f":"C67+1","v":20},21,22,23,24,25]
[null,"LV service model 1","LV service model 2","LV service model 3","LV service model 4","LV service model 5","LV service model 6","LV service model 7","LV service model 8"]
["Domestic Unrestricted",{"$f":"VLOOKUP($A69,'Mat of App'!$B$7:$AP$38,B$67,FALSE)","v":0.05},{"$f":"VLOOKUP($A69,'Mat of App'!$B$7:$AP$38,C$67,FALSE)","v":0},{"$f":"VLOOKUP($A69,'Mat of App'!$B$7:$AP$38,D$67,FALSE)","v":0},{"$f":"VLOOKUP($A69,'Mat of App'!$B$7:$AP$38,E$67,FALSE)","v":0},{"$f":"VLOOKUP($A69,'Mat of App'!$B$7:$AP$38,F$67,FALSE)","v":0},{"$f":"VLOOKUP($A69,'Mat of App'!$B$7:$AP$38,G$67,FALSE)","v":0},{"$f":"VLOOKUP($A69,'Mat of App'!$B$7:$AP$38,H$67,FALSE)","v":0},{"$f":"VLOOKUP($A69,'Mat of App'!$B$7:$AP$38,I$67,FALSE)","v":0},""]
["Domestic Two Rate",{"$f":"VLOOKUP($A70,'Mat of App'!$B$7:$AP$38,B$67,FALSE)","v":0.05},{"$f":"VLOOKUP($A70,'Mat of App'!$B$7:$AP$38,C$67,FALSE)","v":0},{"$f":"VLOOKUP($A70,'Mat of App'!$B$7:$AP$38,D$67,FALSE)","v":0},{"$f":"VLOOKUP($A70,'Mat of App'!$B$7:$AP$38,E$67,FALSE)","v":0},{"$f":"VLOOKUP($A70,'Mat of App'!$B$7:$AP$38,F$67,FALSE)","v":0},{"$f":"VLOOKUP($A70,'Mat of App'!$B$7:$AP$38,G$67,FALSE)","v":0},{"$f":"VLOOKUP($A70,'Mat of App'!$B$7:$AP$38,H$67,FALSE)","v":0},{"$f":"VLOOKUP($A70,'Mat of App'!$B$7:$AP$38,I$67,FALSE)","v":0},""]
["Small Non Domestic Unrestricted",{"$f":"VLOOKUP($A71,'Mat of App'!$B$7:$AP$38,B$67,FALSE)","v":0},{"$f":"VLOOKUP($A71,'Mat of App'!$B$7:$AP$38,C$67,FALSE)","v":1},{"$f":"VLOOKUP($A71,'Mat of App'!$B$7:$AP$38,D$67,FALSE)","v":0},{"$f":"VLOOKUP($A71,'Mat of App'!$B$7:$AP$38,E$67,FALSE)","v":0},{"$f":"VLOOKUP($A71,'Mat of App'!$B$7:$AP$38,F$67,FALSE)","v":0},{"$f":"VLOOKUP($A71,'Mat of App'!$B$7:$AP$38,G$67,FALSE)","v":0},{"$f":"VLOOKUP($A71,'Mat of App'!$B$7:$AP$38,H$67,FALSE)","v":0},{"$f":"VLOOKUP($A71,'Mat of App'!$B$7:$AP$38,I$67,FALSE)","v":0},""]
["Small Non Domestic Two Rate",{"$f":"VLOOKUP($A72,'Mat of App'!$B$7:$AP$38,B$67,FALSE)","v":0},{"$f":"VLOOKUP($A72,'Mat of App'!$B$7:$AP$38,C$67,FALSE)","v":1},{"$f":"VLOOKUP($A72,'Mat of App'!$B$7:$AP$38,D$67,FALSE)","v":0},{"$f":"VLOOKUP($A72,'Mat of App'!$B$7:$AP$38,E$67,FALSE)","v":0},{"$f":"VLOOKUP($A72,'Mat of App'!$B$7:$AP$38,F$67,FALSE)","v":0},{"$f":"VLOOKUP($A72,'Mat of App'!$B$7:$AP$38,G$67,FALSE)","v":0},{"$f":"VLOOKUP($A72,'Mat of App'!$B$7:$AP$38,H$67,FALSE)","v":0},{"$f":"VLOOKUP($A72,'Mat of App'!$B$7:$AP$38,I$67,FALSE)","v":0},""]
["LV Medium Non-Domestic",{"$f":"VLOOKUP($A73,'Mat of App'!$B$7:$AP$38,B$67,FALSE)","v":0},{"$f":"VLOOKUP($A73,'Mat of App'!$B$7:$AP$38,C$67,FALSE)","v":0},{"$f":"VLOOKUP($A73,'Mat of App'!$B$7:$AP$38,D$67,FALSE)","v":1},{"$f":"VLOOKUP($A73,'Mat of App'!$B$7:$AP$38,E$67,FALSE)","v":0},{"$f":"VLOOKUP($A73,'Mat of App'!$B$7:$AP$38,F$67,FALSE)","v":0},{"$f":"VLOOKUP($A73,'Mat of App'!$B$7:$AP$38,G$67,FALSE)","v":0},{"$f":"VLOOKUP($A73,'Mat of App'!$B$7:$AP$38,H$67,FALSE)","v":0},{"$f":"VLOOKUP($A73,'Mat of App'!$B$7:$AP$38,I$67,FALSE)","v":0},""]
["LV Sub Medium Non-Domestic",{"$f":"VLOOKUP($A74,'Mat of App'!$B$7:$AP$38,B$67,FALSE)","v":0},{"$f":"VLOOKUP($A74,'Mat of App'!$B$7:$AP$38,C$67,FALSE)","v":0},{"$f":"VLOOKUP($A74,'Mat of App'!$B$7:$AP$38,D$67,FALSE)","v":0},{"$f":"VLOOKUP($A74,'Mat of App'!$B$7:$AP$38,E$67,FALSE)","v":1},{"$f":"VLOOKUP($A74,'Mat of App'!$B$7:$AP$38,F$67,FALSE)","v":0},{"$f":"VLOOKUP($A74,'Mat of App'!$B$7:$AP$38,G$67,FALSE)","v":0},{"$f":"VLOOKUP($A74,'Mat of App'!$B$7:$AP$38,H$67,FALSE)","v":0},{"$f":"VLOOKUP($A74,'Mat of App'!$B$7:$AP$38,I$67,FALSE)","v":0},""]
["LV HH Metered",{"$f":"VLOOKUP($A75,'Mat of App'!$B$7:$AP$38,B$67,FALSE)","v":0},{"$f":"VLOOKUP($A75,'Mat of App'!$B$7:$AP$38,C$67,FALSE)","v":0},{"$f":"VLOOKUP($A75,'Mat of App'!$B$7:$AP$38,D$67,FALSE)","v":0},{"$f":"VLOOKUP($A75,'Mat of App'!$B$7:$AP$38,E$67,FALSE)","v":0},{"$f":"VLOOKUP($A75,'Mat of App'!$B$7:$AP$38,F$67,FALSE)","v":1},{"$f":"VLOOKUP($A75,'Mat of App'!$B$7:$AP$38,G$67,FALSE)","v":0},{"$f":"VLOOKUP($A75,'Mat of App'!$B$7:$AP$38,H$67,FALSE)","v":0},{"$f":"VLOOKUP($A75,'Mat of App'!$B$7:$AP$38,I$67,FALSE)","v":0},""]
["LV Sub HH Metered",{"$f":"VLOOKUP($A76,'Mat of App'!$B$7:$AP$38,B$67,FALSE)","v":0},{"$f":"VLOOKUP($A76,'Mat of App'!$B$7:$AP$38,C$67,FALSE)","v":0},{"$f":"VLOOKUP($A76,'Mat of App'!$B$7:$AP$38,D$67,FALSE)","v":0},{"$f":"VLOOKUP($A76,'Mat of App'!$B$7:$AP$38,E$67,FALSE)","v":0},{"$f":"VLOOKUP($A76,'Mat of App'!$B$7:$AP$38,F$67,FALSE)","v":0},{"$f":"VLOOKUP($A76,'Mat of App'!$B$7:$AP$38,G$67,FALSE)","v":1},{"$f":"VLOOKUP($A76,'Mat of App'!$B$7:$AP$38,H$67,FALSE)","v":0},{"$f":"VLOOKUP($A76,'Mat of App'!$B$7:$AP$38,I$67,FALSE)","v":0},""]
["LV Generation NHH",{"$f":"VLOOKUP($A77,'Mat of App'!$B$7:$AP$38,B$67,FALSE)","v":0},{"$f":"VLOOKUP($A77,'Mat of App'!$B$7:$AP$38,C$67,FALSE)","v":0},{"$f":"VLOOKUP($A77,'Mat of App'!$B$7:$AP$38,D$67,FALSE)","v":0},{"$f":"VLOOKUP($A77,'Mat of App'!$B$7:$AP$38,E$67,FALSE)","v":0},{"$f":"VLOOKUP($A77,'Mat of App'!$B$7:$AP$38,F$67,FALSE)","v":0},{"$f":"VLOOKUP($A77,'Mat of App'!$B$7:$AP$38,G$67,FALSE)","v":0},{"$f":"VLOOKUP($A77,'Mat of App'!$B$7:$AP$38,H$67,FALSE)","v":1},{"$f":"VLOOKUP($A77,'Mat of App'!$B$7:$AP$38,I$67,FALSE)","v":0},""]
["LV Sub Generation NHH",{"$f":"VLOOKUP($A78,'Mat of App'!$B$7:$AP$38,B$67,FALSE)","v":0},{"$f":"VLOOKUP($A78,'Mat of App'!$B$7:$AP$38,C$67,FALSE)","v":0},{"$f":"VLOOKUP($A78,'Mat of App'!$B$7:$AP$38,D$67,FALSE)","v":0},{"$f":"VLOOKUP($A78,'Mat of App'!$B$7:$AP$38,E$67,FALSE)","v":0},{"$f":"VLOOKUP($A78,'Mat of App'!$B$7:$AP$38,F$67,FALSE)","v":0},{"$f":"VLOOKUP($A78,'Mat of App'!$B$7:$AP$38,G$67,FALSE)","v":0},{"$f":"VLOOKUP($A78,'Mat of App'!$B$7:$AP$38,H$67,FALSE)","v":1},{"$f":"VLOOKUP($A78,'Mat of App'!$B$7:$AP$38,I$67,FALSE)","v":0},""]
["LV Generation Intermittent",{"$f":"VLOOKUP($A79,'Mat of App'!$B$7:$AP$38,B$67,FALSE)","v":0},{"$f":"VLOOKUP($A79,'Mat of App'!$B$7:$AP$38,C$67,FALSE)","v":0},{"$f":"VLOOKUP($A79,'Mat of App'!$B$7:$AP$38,D$67,FALSE)","v":0},{"$f":"VLOOKUP($A79,'Mat of App'!$B$7:$AP$38,E$67,FALSE)","v":0},{"$f":"VLOOKUP($A79,'Mat of App'!$B$7:$AP$38,F$67,FALSE)","v":0},{"$f":"VLOOKUP($A79,'Mat of App'!$B$7:$AP$38,G$67,FALSE)","v":0},{"$f":"VLOOKUP($A79,'Mat of App'!$B$7:$AP$38,H$67,FALSE)","v":1},{"$f":"VLOOKUP($A79,'Mat of App'!$B$7:$AP$38,I$67,FALSE)","v":0},""]
["LV Generation Non-Intermittent",{"$f":"VLOOKUP($A80,'Mat of App'!$B$7:$AP$38,B$67,FALSE)","v":0},{"$f":"VLOOKUP($A80,'Mat of App'!$B$7:$AP$38,C$67,FALSE)","v":0},{"$f":"VLOOKUP($A80,'Mat of App'!$B$7:$AP$38,D$67,FALSE)","v":0},{"$f":"VLOOKUP($A80,'Mat of App'!$B$7:$AP$38,E$67,FALSE)","v":0},{"$f":"VLOOKUP($A80,'Mat of App'!$B$7:$AP$38,F$67,FALSE)","v":0},{"$f":"VLOOKUP($A80,'Mat of App'!$B$7:$AP$38,G$67,FALSE)","v":0},{"$f":"VLOOKUP($A80,'Mat of App'!$B$7:$AP$38,H$67,FALSE)","v":0},{"$f":"VLOOKUP($A80,'Mat of App'!$B$7:$AP$38,I$67,FALSE)","v":0},""]
["LV Sub Generation Intermittent",{"$f":"VLOOKUP($A81,'Mat of App'!$B$7:$AP$38,B$67,FALSE)","v":0},{"$f":"VLOOKUP($A81,'Mat of App'!$B$7:$AP$38,C$67,FALSE)","v":0},{"$f":"VLOOKUP($A81,'Mat of App'!$B$7:$AP$38,D$67,FALSE)","v":0},{"$f":"VLOOKUP($A81,'Mat of App'!$B$7:$AP$38,E$67,FALSE)","v":0},{"$f":"VLOOKUP($A81,'Mat of App'!$B$7:$AP$38,F$67,FALSE)","v":0},{"$f":"VLOOKUP($A81,'Mat of App'!$B$7:$AP$38,G$67,FALSE)","v":0},{"$f":"VLOOKUP($A81,'Mat of App'!$B$7:$AP$38,H$67,FALSE)","v":0},{"$f":"VLOOKUP($A81,'Mat of App'!$B$7:$AP$38,I$67,FALSE)","v":0},""]
["LV Sub Generation Non-Intermittent",{"$f":"VLOOKUP($A82,'Mat of App'!$B$7:$AP$38,B$67,FALSE)","v":0},{"$f":"VLOOKUP($A82,'Mat of App'!$B$7:$AP$38,C$67,FALSE)","v":0},{"$f":"VLOOKUP($A82,'Mat of App'!$B$7:$AP$38,D$67,FALSE)","v":0},{"$f":"VLOOKUP($A82,'Mat of App'!$B$7:$AP$38,E$67,FALSE)","v":0},{"$f":"VLOOKUP($A82,'Mat of App'!$B$7:$AP$38,F$67,FALSE)","v":0},{"$f":"VLOOKUP($A82,'Mat of App'!$B$7:$AP$38,G$67,FALSE)","v":0},{"$f":"VLOOKUP($A82,'Mat of App'!$B$7:$AP$38,H$67,FALSE)","v":0},{"$f":"VLOOKUP($A82,'Mat of App'!$B$7:$AP$38,I$67,FALSE)","v":0},""]
[]
["1026. Matrix of applicability of LV service models to unmetered tariffs"]
[]
["Source: service models"]
["Proportion of service model involved in connecting load of 1 MWh/year"]
[null,"LV service model 1","LV service model 2","LV service model 3","LV service model 4","LV service model 5","LV service model 6","LV service model 7","LV service model 8"]
["All LV unmetered tariffs",{"$f":"VLOOKUP($A89,'Mat of App'!$B$7:$AP$38,B$67,FALSE)","v":0},{"$f":"VLOOKUP($A89,'Mat of App'!$B$7:$AP$38,C$67,FALSE)","v":0},{"$f":"VLOOKUP($A89,'Mat of App'!$B$7:$AP$38,D$67,FALSE)","v":0},{"$f":"VLOOKUP($A89,'Mat of App'!$B$7:$AP$38,E$67,FALSE)","v":0},{"$f":"VLOOKUP($A89,'Mat of App'!$B$7:$AP$38,F$67,FALSE)","v":0},{"$f":"VLOOKUP($A89,'Mat of App'!$B$7:$AP$38,G$67,FALSE)","v":0},{"$f":"VLOOKUP($A89,'Mat of App'!$B$7:$AP$38,H$67,FALSE)","v":0},{"$f":"VLOOKUP($A89,'Mat of App'!$B$7:$AP$38,I$67,FALSE)","v":0.48799999999999999},""]
[]
["1028. Matrix of applicability of HV service models to tariffs with fixed charges"]
[null,12,{"$f":"B92+1","v":13},{"$f":"C92+1","v":14},15,16]
[null,"HV service model 1","HV service model 2","HV service model 3","HV service model 4","HV service model 5"]
["HV Medium Non-Domestic",{"$f":"VLOOKUP($A94,'Mat of App'!$B$7:$AP$38,B$92,FALSE)","v":1},{"$f":"VLOOKUP($A94,'Mat of App'!$B$7:$AP$38,C$92,FALSE)","v":0},{"$f":"VLOOKUP($A94,'Mat of App'!$B$7:$AP$38,D$92,FALSE)","v":0},{"$f":"VLOOKUP($A94,'Mat of App'!$B$7:$AP$38,E$92,FALSE)","v":0},{"$f":"VLOOKUP($A94,'Mat of App'!$B$7:$AP$38,F$92,FALSE)","v":0},""]
["HV HH Metered",{"$f":"VLOOKUP($A95,'Mat of App'!$B$7:$AP$38,B$92,FALSE)","v":1},{"$f":"VLOOKUP($A95,'Mat of App'!$B$7:$AP$38,C$92,FALSE)","v":0},{"$f":"VLOOKUP($A95,'Mat of App'!$B$7:$AP$38,D$92,FALSE)","v":0},{"$f":"VLOOKUP($A95,'Mat of App'!$B$7:$AP$38,E$92,FALSE)","v":0},{"$f":"VLOOKUP($A95,'Mat of App'!$B$7:$AP$38,F$92,FALSE)","v":0},""]
["HV Sub HH Metered",{"$f":"VLOOKUP($A96,'Mat of App'!$B$7:$AP$38,B$92,FALSE)","v":1},{"$f":"VLOOKUP($A96,'Mat of App'!$B$7:$AP$38,C$92,FALSE)","v":0},{"$f":"VLOOKUP($A96,'Mat of App'!$B$7:$AP$38,D$92,FALSE)","v":0},{"$f":"VLOOKUP($A96,'Mat of App'!$B$7:$AP$38,E$92,FALSE)","v":0},{"$f":"VLOOKUP($A96,'Mat of App'!$B$7:$AP$38,F$92,FALSE)","v":0},""]
["HV Generation Intermittent",{"$f":"VLOOKUP($A97,'Mat of App'!$B$7:$AP$38,B$92,FALSE)","v":0},{"$f":"VLOOKUP($A97,'Mat of App'!$B$7:$AP$38,C$92,FALSE)","v":1},{"$f":"VLOOKUP($A97,'Mat of App'!$B$7:$AP$38,D$92,FALSE)","v":0},{"$f":"VLOOKUP($A97,'Mat of App'!$B$7:$AP$38,E$92,FALSE)","v":0},{"$f":"VLOOKUP($A97,'Mat of App'!$B$7:$AP$38,F$92,FALSE)","v":0},""]
["HV Generation Non-Intermittent",{"$f":"VLOOKUP($A98,'Mat of App'!$B$7:$AP$38,B$92,FALSE)","v":0},{"$f":"VLOOKUP($A98,'Mat of App'!$B$7:$AP$38,C$92,FALSE)","v":1},{"$f":"VLOOKUP($A98,'Mat of App'!$B$7:$AP$38,D$92,FALSE)","v":0},{"$f":"VLOOKUP($A98,'Mat of App'!$B$7:$AP$38,E$92,FALSE)","v":0},{"$f":"VLOOKUP($A98,'Mat of App'!$B$7:$AP$38,F$92,FALSE)","v":0},""]
["HV Sub Generation Non-Intermittent",{"$f":"VLOOKUP($A99,'Mat of App'!$B$7:$AP$38,B$92,FALSE)","v":0},{"$f":"VLOOKUP($A99,'Mat of App'!$B$7:$AP$38,C$92,FALSE)","v":1},{"$f":"VLOOKUP($A99,'Mat of App'!$B$7:$AP$38,D$92,FALSE)","v":0},{"$f":"VLOOKUP($A99,'Mat of App'!$B$7:$AP$38,E$92,FALSE)","v":0},{"$f":"VLOOKUP($A99,'Mat of App'!$B$7:$AP$38,F$92,FALSE)","v":0},""]
["HV Sub Generation Intermittent",{"$f":"VLOOKUP($A100,'Mat of App'!$B$7:$AP$38,B$92,FALSE)","v":0},{"$f":"VLOOKUP($A100,'Mat of App'!$B$7:$AP$38,C$92,FALSE)","v":1},{"$f":"VLOOKUP($A100,'Mat of App'!$B$7:$AP$38,D$92,FALSE)","v":0},{"$f":"VLOOKUP($A100,'Mat of App'!$B$7:$AP$38,E$92,FALSE)","v":0},{"$f":"VLOOKUP($A100,'Mat of App'!$B$7:$AP$38,F$92,FALSE)","v":0},""]
[]
["1032. Loss adjustment factors to transmission"]
[""]
["Source: losses model or loss adjustment factors at time of system peak."]
[null,"132kV","132kV/EHV","EHV","EHV/HV","HV","HV/LV","LV circuits"]
["Loss adjustment factor",{"$f":"VLOOKUP(Vlookup!B106,Forcast_Data,7,FALSE)","v":1.002},{"$f":"VLOOKUP(Vlookup!C106,Forcast_Data,7,FALSE)","v":1.0029999999999999},{"$f":"VLOOKUP(Vlookup!D106,Forcast_Data,7,FALSE)","v":1.006},{"$f":"VLOOKUP(Vlookup!E106,Forcast_Data,7,FALSE)","v":1.0269999999999999},{"$f":"VLOOKUP(Vlookup!F106,Forcast_Data,7,FALSE)","v":1.044},{"$f":"VLOOKUP(Vlookup!G106,Forcast_Data,7,FALSE)","v":1.0509999999999999},{"$f":"VLOOKUP(Vlookup!H106,Forcast_Data,7,FALSE)","v":1.077},""]
[]
["1037. Embedded network (LDNO) discounts"]
[""]
["Source: separate price control disaggregation model."]
[null,"No discount","LDNO LV: LV user","LDNO HV: LV user","LDNO HV: LV sub user","LDNO HV: HV user"]
["LDNO discount",null,{"$f":"VLOOKUP(Vlookup!C112,Forcast_Data,7,FALSE)","v":0.30883183558962979},{"$f":"VLOOKUP(Vlookup!D112,Forcast_Data,7,FALSE)","v":0.5007791580188965},{"$f":"VLOOKUP(Vlookup!E112,Forcast_Data,7,FALSE)","v":0.2542804505721758},{"$f":"VLOOKUP(Vlookup!F112,Forcast_Data,7,FALSE)","v":0.15228597408951491},""]
[]
["1041. Load profile data for demand users"]
[]
["Source: load data analysis."]
[null,"Coincidence factor","Load factor"]
["Domestic Unrestricted",{"$f":"VLOOKUP(Vlookup!B118,Forcast_Data,7,FALSE)","v":0.91725107523525962},{"$f":"VLOOKUP(Vlookup!C118,Forcast_Data,7,FALSE)","v":0.41143481343309968},""]
["Domestic Two Rate",{"$f":"VLOOKUP(Vlookup!B119,Forcast_Data,7,FALSE)","v":0.40080181765565559},{"$f":"VLOOKUP(Vlookup!C119,Forcast_Data,7,FALSE)","v":0.25560520593582642},""]
["Domestic Off Peak (related MPAN)",null,{"$f":"VLOOKUP(Vlookup!C120,Forcast_Data,7,FALSE)","v":0.15590780773679511},""]
["Small Non Domestic Unrestricted",{"$f":"VLOOKUP(Vlookup!B121,Forcast_Data,7,FALSE)","v":0.62008068887977208},{"$f":"VLOOKUP(Vlookup!C121,Forcast_Data,7,FALSE)","v":0.35245420345734263},""]
["Small Non Domestic Two Rate",{"$f":"VLOOKUP(Vlookup!B122,Forcast_Data,7,FALSE)","v":0.6187554380512692},{"$f":"VLOOKUP(Vlookup!C122,Forcast_Data,7,FALSE)","v":0.43068381316121135},""]
["Small Non Domestic Off Peak (related MPAN)",null,{"$f":"VLOOKUP(Vlookup!C123,Forcast_Data,7,FALSE)","v":0.18686847121079117},""]
["LV Medium Non-Domestic",{"$f":"VLOOKUP(Vlookup!B124,Forcast_Data,7,FALSE)","v":0.80480275736975215},{"$f":"VLOOKUP(Vlookup!C124,Forcast_Data,7,FALSE)","v":0.49209979939144438},""]
["LV Sub Medium Non-Domestic",{"$f":"VLOOKUP(Vlookup!B125,Forcast_Data,7,FALSE)","v":0.80480275736975215},{"$f":"VLOOKUP(Vlookup!C125,Forcast_Data,7,FALSE)","v":0.49209979939144438},""]
["HV Medium Non-Domestic",{"$f":"VLOOKUP(Vlookup!B126,Forcast_Data,7,FALSE)","v":0.61081642184024709},{"$f":"VLOOKUP(Vlookup!C126,Forcast_Data,7,FALSE)","v":0.42201413323580622},""]
["LV HH Metered",{"$f":"VLOOKUP(Vlookup!B127,Forcast_Data,7,FALSE)","v":0.76195140420011676},{"$f":"VLOOKUP(Vlookup!C127,Forcast_Data,7,FALSE)","v":0.51926429246950712},""]
["LV Sub HH Metered",{"$f":"VLOOKUP(Vlookup!B128,Forcast_Data,7,FALSE)","v":0.76195140420011676},{"$f":"VLOOKUP(Vlookup!C128,Forcast_Data,7,FALSE)","v":0.51926429246950712},""]
["HV HH Metered",{"$f":"VLOOKUP(Vlookup!B129,Forcast_Data,7,FALSE)","v":0.77259445254116732},{"$f":"VLOOKUP(Vlookup!C129,Forcast_Data,7,FALSE)","v":0.64378616647520781},""]
["HV Sub HH Metered",{"$f":"VLOOKUP(Vlookup!B130,Forcast_Data,7,FALSE)","v":0.77259445254116732},{"$f":"VLOOKUP(Vlookup!C130,Forcast_Data,7,FALSE)","v":0.64378616647520781},""]
["NHH UMS category A",{"$f":"VLOOKUP(Vlookup!B131,Forcast_Data,7,FALSE)","v":1},{"$f":"VLOOKUP(Vlookup!C131,Forcast_Data,7,FALSE)","v":1},""]
["NHH UMS category B",{"$f":"VLOOKUP(Vlookup!B132,Forcast_Data,7,FALSE)","v":1},{"$f":"VLOOKUP(Vlookup!C132,Forcast_Data,7,FALSE)","v":0.47368294520547877}]
["NHH UMS category C",{"$f":"VLOOKUP(Vlookup!B133,Forcast_Data,7,FALSE)","v":1},{"$f":"VLOOKUP(Vlookup!C133,Forcast_Data,7,FALSE)","v":0.25800000000000001}]
["NHH UMS category D",{"$f":"VLOOKUP(Vlookup!B134,Forcast_Data,7,FALSE)","v":6.4133333333333334E-2},{"$f":"VLOOKUP(Vlookup!C134,Forcast_Data,7,FALSE)","v":0.55300000000000005}]
["LV UMS (Pseudo HH Metered)",{"$f":"VLOOKUP(Vlookup!B135,Forcast_Data,7,FALSE)","v":0.99387558706051526},{"$f":"VLOOKUP(Vlookup!C135,Forcast_Data,7,FALSE)","v":0.48773957041156946},""]
[]
["1053. Volume forecasts for the charging year"]
["",16,17,18,19,20,21]
["Source: forecast."]
["Please include MPAN counts for tariffs with no fixed charge (e.g. off-peak tariffs),"]
["but exclude MPANs on tariffs with a fixed charge that are not subject to a fixed charge due to a site grouping arrangement."]
[null,"Rate 1 units (MWh)","Rate 2 units (MWh)","Rate 3 units (MWh)","MPANs","Import capacity (kVA)","Reactive power units (MVArh)"]
["> Domestic Unrestricted"]
["Domestic Unrestricted",{"$f":"VLOOKUP(Vlookup!B144,Volume_Forecast_Data,B$138,FALSE)","v":7045206.8473494677},null,null,{"$f":"VLOOKUP(Vlookup!E144,Volume_Forecast_Data,E$138,FALSE)","v":1961348.3101999999}]
["LDNO LV: Domestic Unrestricted",{"$f":"VLOOKUP(Vlookup!B145,Volume_Forecast_Data,B$138,FALSE)","v":6748.0943508},null,null,{"$f":"VLOOKUP(Vlookup!E145,Volume_Forecast_Data,E$138,FALSE)","v":4340.5255000000006}]
["LDNO HV: Domestic Unrestricted",{"$f":"VLOOKUP(Vlookup!B146,Volume_Forecast_Data,B$138,FALSE)","v":21045.417772500001},null,null,{"$f":"VLOOKUP(Vlookup!E146,Volume_Forecast_Data,E$138,FALSE)","v":10124.4925}]
["> Domestic Two Rate"]
["Domestic Two Rate",{"$f":"VLOOKUP(Vlookup!B148,Volume_Forecast_Data,B$138,FALSE)","v":1010288.3934645535},{"$f":"VLOOKUP(Vlookup!C148,Volume_Forecast_Data,C$138,FALSE)","v":755544.6260567439},null,{"$f":"VLOOKUP(Vlookup!E148,Volume_Forecast_Data,E$138,FALSE)","v":320941.82179999998}]
["LDNO LV: Domestic Two Rate",{"$f":"VLOOKUP(Vlookup!B149,Volume_Forecast_Data,B$138,FALSE)","v":262.74030749999991},{"$f":"VLOOKUP(Vlookup!C149,Volume_Forecast_Data,C$138,FALSE)","v":153.79925219999998},null,{"$f":"VLOOKUP(Vlookup!E149,Volume_Forecast_Data,E$138,FALSE)","v":170.35669999999999}]
["LDNO HV: Domestic Two Rate",{"$f":"VLOOKUP(Vlookup!B150,Volume_Forecast_Data,B$138,FALSE)","v":379.17226709999994},{"$f":"VLOOKUP(Vlookup!C150,Volume_Forecast_Data,C$138,FALSE)","v":351.31390469999991},null,{"$f":"VLOOKUP(Vlookup!E150,Volume_Forecast_Data,E$138,FALSE)","v":270.32649999999995}]
["> Domestic Off Peak (related MPAN)"]
["Domestic Off Peak (related MPAN)",{"$f":"VLOOKUP(Vlookup!B152,Volume_Forecast_Data,B$138,FALSE)","v":37029.183615397604},null,null,{"$f":"VLOOKUP(Vlookup!E152,Volume_Forecast_Data,E$138,FALSE)","v":0}]
["LDNO LV: Domestic Off Peak (related MPAN)",{"$f":"VLOOKUP(Vlookup!B153,Volume_Forecast_Data,B$138,FALSE)","v":0},null,null,{"$f":"VLOOKUP(Vlookup!E153,Volume_Forecast_Data,E$138,FALSE)","v":0}]
["LDNO HV: Domestic Off Peak (related MPAN)",{"$f":"VLOOKUP(Vlookup!B154,Volume_Forecast_Data,B$138,FALSE)","v":0},null,null,{"$f":"VLOOKUP(Vlookup!E154,Volume_Forecast_Data,E$138,FALSE)","v":0}]
["> Small Non Domestic Unrestricted"]
["Small Non Domestic Unrestricted",{"$f":"VLOOKUP(Vlookup!B156,Volume_Forecast_Data,B$138,FALSE)","v":1634479.2155275533},null,null,{"$f":"VLOOKUP(Vlookup!E156,Volume_Forecast_Data,E$138,FALSE)","v":135592.7121}]
["LDNO LV: Small Non Domestic Unrestricted",{"$f":"VLOOKUP(Vlookup!B157,Volume_Forecast_Data,B$138,FALSE)","v":643.96588409999993},null,null,{"$f":"VLOOKUP(Vlookup!E157,Volume_Forecast_Data,E$138,FALSE)","v":106.0904}]
["LDNO HV: Small Non Domestic Unrestricted",{"$f":"VLOOKUP(Vlookup!B158,Volume_Forecast_Data,B$138,FALSE)","v":6285.9938624999995},null,null,{"$f":"VLOOKUP(Vlookup!E158,Volume_Forecast_Data,E$138,FALSE)","v":392.73850000000004}]
["> Small Non Domestic Two Rate"]
["Small Non Domestic Two Rate",{"$f":"VLOOKUP(Vlookup!B160,Volume_Forecast_Data,B$138,FALSE)","v":463145.75425999094},{"$f":"VLOOKUP(Vlookup!C160,Volume_Forecast_Data,C$138,FALSE)","v":210415.43448911962},null,{"$f":"VLOOKUP(Vlookup!E160,Volume_Forecast_Data,E$138,FALSE)","v":32821.717499999999}]
["LDNO LV: Small Non Domestic Two Rate",{"$f":"VLOOKUP(Vlookup!B161,Volume_Forecast_Data,B$138,FALSE)","v":315.41088150000002},{"$f":"VLOOKUP(Vlookup!C161,Volume_Forecast_Data,C$138,FALSE)","v":92.839972500000016},null,{"$f":"VLOOKUP(Vlookup!E161,Volume_Forecast_Data,E$138,FALSE)","v":9.1808999999999994}]
["LDNO HV: Small Non Domestic Two Rate",{"$f":"VLOOKUP(Vlookup!B162,Volume_Forecast_Data,B$138,FALSE)","v":1383.3268614000001},{"$f":"VLOOKUP(Vlookup!C162,Volume_Forecast_Data,C$138,FALSE)","v":356.54175809999992},null,{"$f":"VLOOKUP(Vlookup!E162,Volume_Forecast_Data,E$138,FALSE)","v":39.783900000000003}]
["> Small Non Domestic Off Peak (related MPAN)"]
["Small Non Domestic Off Peak (related MPAN)",{"$f":"VLOOKUP(Vlookup!B164,Volume_Forecast_Data,B$138,FALSE)","v":6274.271689335269},null,null,{"$f":"VLOOKUP(Vlookup!E164,Volume_Forecast_Data,E$138,FALSE)","v":0}]
["LDNO LV: Small Non Domestic Off Peak (related MPAN)",{"$f":"VLOOKUP(Vlookup!B165,Volume_Forecast_Data,B$138,FALSE)","v":0},null,null,{"$f":"VLOOKUP(Vlookup!E165,Volume_Forecast_Data,E$138,FALSE)","v":0}]
["LDNO HV: Small Non Domestic Off Peak (related MPAN)",{"$f":"VLOOKUP(Vlookup!B166,Volume_Forecast_Data,B$138,FALSE)","v":0},null,null,{"$f":"VLOOKUP(Vlookup!E166,Volume_Forecast_Data,E$138,FALSE)","v":0}]
["> LV Medium Non-Domestic"]
["LV Medium Non-Domestic",{"$f":"VLOOKUP(Vlookup!B168,Volume_Forecast_Data,B$138,FALSE)","v":1281115.4001669006},{"$f":"VLOOKUP(Vlookup!C168,Volume_Forecast_Data,C$138,FALSE)","v":309332.80572059861},null,{"$f":"VLOOKUP(Vlookup!E168,Volume_Forecast_Data,E$138,FALSE)","v":18122.076500000003}]
["LDNO LV: LV Medium Non-Domestic",{"$f":"VLOOKUP(Vlookup!B169,Volume_Forecast_Data,B$138,FALSE)","v":299.44309229999999},{"$f":"VLOOKUP(Vlookup!C169,Volume_Forecast_Data,C$138,FALSE)","v":101.3305788},null,{"$f":"VLOOKUP(Vlookup!E169,Volume_Forecast_Data,E$138,FALSE)","v":7.1407000000000007}]
["LDNO HV: LV Medium Non-Domestic",{"$f":"VLOOKUP(Vlookup!B170,Volume_Forecast_Data,B$138,FALSE)","v":6425.8590329999997},{"$f":"VLOOKUP(Vlookup!C170,Volume_Forecast_Data,C$138,FALSE)","v":1504.0242161999997},null,{"$f":"VLOOKUP(Vlookup!E170,Volume_Forecast_Data,E$138,FALSE)","v":63.246199999999995}]
["> LV Sub Medium Non-Domestic"]
["LV Sub Medium Non-Domestic",{"$f":"VLOOKUP(Vlookup!B172,Volume_Forecast_Data,B$138,FALSE)","v":91.777112620776009},{"$f":"VLOOKUP(Vlookup!C172,Volume_Forecast_Data,C$138,FALSE)","v":24.102985933818001},null,{"$f":"VLOOKUP(Vlookup!E172,Volume_Forecast_Data,E$138,FALSE)","v":3.0603000000000002}]
["> HV Medium Non-Domestic"]
["HV Medium Non-Domestic",{"$f":"VLOOKUP(Vlookup!B174,Volume_Forecast_Data,B$138,FALSE)","v":36514.168241293315},{"$f":"VLOOKUP(Vlookup!C174,Volume_Forecast_Data,C$138,FALSE)","v":10018.797265558025},null,{"$f":"VLOOKUP(Vlookup!E174,Volume_Forecast_Data,E$138,FALSE)","v":278.4873}]
["> LV HH Metered"]
["LV HH Metered",{"$f":"VLOOKUP(Vlookup!B176,Volume_Forecast_Data,B$138,FALSE)","v":205018.27653419317},{"$f":"VLOOKUP(Vlookup!C176,Volume_Forecast_Data,C$138,FALSE)","v":816520.03012598678},{"$f":"VLOOKUP(Vlookup!D176,Volume_Forecast_Data,D$138,FALSE)","v":841213.1509335438},{"$f":"VLOOKUP(Vlookup!E176,Volume_Forecast_Data,E$138,FALSE)","v":6138.9618},{"$f":"VLOOKUP(Vlookup!F176,Volume_Forecast_Data,F$138,FALSE)","v":983000},{"$f":"VLOOKUP(Vlookup!G176,Volume_Forecast_Data,G$138,FALSE)","v":164557.5686}]
["LDNO LV: LV HH Metered",{"$f":"VLOOKUP(Vlookup!B177,Volume_Forecast_Data,B$138,FALSE)","v":7.3636873199999995},{"$f":"VLOOKUP(Vlookup!C177,Volume_Forecast_Data,C$138,FALSE)","v":53.462886839999975},{"$f":"VLOOKUP(Vlookup!D177,Volume_Forecast_Data,D$138,FALSE)","v":1.3795887600000001},{"$f":"VLOOKUP(Vlookup!E177,Volume_Forecast_Data,E$138,FALSE)","v":1.0201},{"$f":"VLOOKUP(Vlookup!F177,Volume_Forecast_Data,F$138,FALSE)","v":0},{"$f":"VLOOKUP(Vlookup!G177,Volume_Forecast_Data,G$138,FALSE)","v":0.81}]
["LDNO HV: LV HH Metered",{"$f":"VLOOKUP(Vlookup!B178,Volume_Forecast_Data,B$138,FALSE)","v":4209.2238068100005},{"$f":"VLOOKUP(Vlookup!C178,Volume_Forecast_Data,C$138,FALSE)","v":14298.919808579994},{"$f":"VLOOKUP(Vlookup!D178,Volume_Forecast_Data,D$138,FALSE)","v":15659.111507489999},{"$f":"VLOOKUP(Vlookup!E178,Volume_Forecast_Data,E$138,FALSE)","v":80.587900000000005},{"$f":"VLOOKUP(Vlookup!F178,Volume_Forecast_Data,F$138,FALSE)","v":19000},{"$f":"VLOOKUP(Vlookup!G178,Volume_Forecast_Data,G$138,FALSE)","v":1075.1704}]
["> LV Sub HH Metered"]
["LV Sub HH Metered",{"$f":"VLOOKUP(Vlookup!B180,Volume_Forecast_Data,B$138,FALSE)","v":2253.3573875670004},{"$f":"VLOOKUP(Vlookup!C180,Volume_Forecast_Data,C$138,FALSE)","v":8329.7219441039961},{"$f":"VLOOKUP(Vlookup!D180,Volume_Forecast_Data,D$138,FALSE)","v":10340.804404061999},{"$f":"VLOOKUP(Vlookup!E180,Volume_Forecast_Data,E$138,FALSE)","v":32.6432},{"$f":"VLOOKUP(Vlookup!F180,Volume_Forecast_Data,F$138,FALSE)","v":17000},{"$f":"VLOOKUP(Vlookup!G180,Volume_Forecast_Data,G$138,FALSE)","v":603.10400000000004}]
["LDNO HV: LV Sub HH Metered",{"$f":"VLOOKUP(Vlookup!B181,Volume_Forecast_Data,B$138,FALSE)","v":183.32682290999998},{"$f":"VLOOKUP(Vlookup!C181,Volume_Forecast_Data,C$138,FALSE)","v":629.22390597000015},{"$f":"VLOOKUP(Vlookup!D181,Volume_Forecast_Data,D$138,FALSE)","v":1175.5442892600001},{"$f":"VLOOKUP(Vlookup!E181,Volume_Forecast_Data,E$138,FALSE)","v":1.0201},{"$f":"VLOOKUP(Vlookup!F181,Volume_Forecast_Data,F$138,FALSE)","v":0},{"$f":"VLOOKUP(Vlookup!G181,Volume_Forecast_Data,G$138,FALSE)","v":675.18520000000001}]
["> HV HH Metered"]
["HV HH Metered",{"$f":"VLOOKUP(Vlookup!B183,Volume_Forecast_Data,B$138,FALSE)","v":776743.20798490813},{"$f":"VLOOKUP(Vlookup!C183,Volume_Forecast_Data,C$138,FALSE)","v":3100595.2742895088},{"$f":"VLOOKUP(Vlookup!D183,Volume_Forecast_Data,D$138,FALSE)","v":3944742.753544732},{"$f":"VLOOKUP(Vlookup!E183,Volume_Forecast_Data,E$138,FALSE)","v":3783.5509000000002},{"$f":"VLOOKUP(Vlookup!F183,Volume_Forecast_Data,F$138,FALSE)","v":2873000},{"$f":"VLOOKUP(Vlookup!G183,Volume_Forecast_Data,G$138,FALSE)","v":1033930.8586}]
["LDNO HV: HV HH Metered",{"$f":"VLOOKUP(Vlookup!B184,Volume_Forecast_Data,B$138,FALSE)","v":1622.1401836200005},{"$f":"VLOOKUP(Vlookup!C184,Volume_Forecast_Data,C$138,FALSE)","v":5143.61057067},{"$f":"VLOOKUP(Vlookup!D184,Volume_Forecast_Data,D$138,FALSE)","v":5446.6107398999993},{"$f":"VLOOKUP(Vlookup!E184,Volume_Forecast_Data,E$138,FALSE)","v":9.1808999999999994},{"$f":"VLOOKUP(Vlookup!F184,Volume_Forecast_Data,F$138,FALSE)","v":6000},{"$f":"VLOOKUP(Vlookup!G184,Volume_Forecast_Data,G$138,FALSE)","v":832.24840000000006}]
["> HV Sub HH Metered"]
["HV Sub HH Metered",{"$f":"VLOOKUP(Vlookup!B186,Volume_Forecast_Data,B$138,FALSE)","v":0},{"$f":"VLOOKUP(Vlookup!C186,Volume_Forecast_Data,C$138,FALSE)","v":0},{"$f":"VLOOKUP(Vlookup!D186,Volume_Forecast_Data,D$138,FALSE)","v":0},{"$f":"VLOOKUP(Vlookup!E186,Volume_Forecast_Data,E$138,FALSE)","v":0},{"$f":"VLOOKUP(Vlookup!F186,Volume_Forecast_Data,F$138,FALSE)","v":0},{"$f":"VLOOKUP(Vlookup!G186,Volume_Forecast_Data,G$138,FALSE)","v":0}]
["> NHH UMS category A"]
["NHH UMS category A",{"$f":"VLOOKUP(Vlookup!B188,Volume_Forecast_Data,B$138,FALSE)","v":62954.913404719591},null,null,{"$f":"VLOOKUP(Vlookup!E188,Volume_Forecast_Data,E$138,FALSE)","v":0}]
["LDNO LV: NHH UMS category A",{"$f":"VLOOKUP(Vlookup!B189,Volume_Forecast_Data,B$138,FALSE)","v":40.012423103767475},null,null,{"$f":"VLOOKUP(Vlookup!E189,Volume_Forecast_Data,E$138,FALSE)","v":0}]
["LDNO HV: NHH UMS category A",{"$f":"VLOOKUP(Vlookup!B190,Volume_Forecast_Data,B$138,FALSE)","v":182.94283663269246},null,null,{"$f":"VLOOKUP(Vlookup!E190,Volume_Forecast_Data,E$138,FALSE)","v":0}]
["> NHH UMS category B"]
["NHH UMS category B",{"$f":"VLOOKUP(Vlookup!B192,Volume_Forecast_Data,B$138,FALSE)","v":33350.123757983827},null,null,{"$f":"VLOOKUP(Vlookup!E192,Volume_Forecast_Data,E$138,FALSE)","v":0}]
["LDNO LV: NHH UMS category B",{"$f":"VLOOKUP(Vlookup!B193,Volume_Forecast_Data,B$138,FALSE)","v":21.19642757331501},null,null,{"$f":"VLOOKUP(Vlookup!E193,Volume_Forecast_Data,E$138,FALSE)","v":0}]
["LDNO HV: NHH UMS category B",{"$f":"VLOOKUP(Vlookup!B194,Volume_Forecast_Data,B$138,FALSE)","v":96.913265579673109},null,null,{"$f":"VLOOKUP(Vlookup!E194,Volume_Forecast_Data,E$138,FALSE)","v":0}]
["> NHH UMS category C"]
["NHH UMS category C",{"$f":"VLOOKUP(Vlookup!B196,Volume_Forecast_Data,B$138,FALSE)","v":760.46431674261135},null,null,{"$f":"VLOOKUP(Vlookup!E196,Volume_Forecast_Data,E$138,FALSE)","v":0}]
["LDNO LV: NHH UMS category C",{"$f":"VLOOKUP(Vlookup!B197,Volume_Forecast_Data,B$138,FALSE)","v":0.48333034470573494},null,null,{"$f":"VLOOKUP(Vlookup!E197,Volume_Forecast_Data,E$138,FALSE)","v":0}]
["LDNO HV: NHH UMS category C",{"$f":"VLOOKUP(Vlookup!B198,Volume_Forecast_Data,B$138,FALSE)","v":2.2098592745011389},null,null,{"$f":"VLOOKUP(Vlookup!E198,Volume_Forecast_Data,E$138,FALSE)","v":0}]
["> NHH UMS category D"]
["NHH UMS category D",{"$f":"VLOOKUP(Vlookup!B200,Volume_Forecast_Data,B$138,FALSE)","v":5406.846738647364},null,null,{"$f":"VLOOKUP(Vlookup!E200,Volume_Forecast_Data,E$138,FALSE)","v":0}]
["LDNO LV: NHH UMS category D",{"$f":"VLOOKUP(Vlookup!B201,Volume_Forecast_Data,B$138,FALSE)","v":3.4364440782117747},null,null,{"$f":"VLOOKUP(Vlookup!E201,Volume_Forecast_Data,E$138,FALSE)","v":0}]
["LDNO HV: NHH UMS category D",{"$f":"VLOOKUP(Vlookup!B202,Volume_Forecast_Data,B$138,FALSE)","v":15.711940913133198},null,null,{"$f":"VLOOKUP(Vlookup!E202,Volume_Forecast_Data,E$138,FALSE)","v":0}]
["> LV UMS (Pseudo HH Metered)"]
["LV UMS (Pseudo HH Metered)",{"$f":"VLOOKUP(Vlookup!B204,Volume_Forecast_Data,B$138,FALSE)","v":11735.356876709522},{"$f":"VLOOKUP(Vlookup!C204,Volume_Forecast_Data,C$138,FALSE)","v":27054.581473345417},{"$f":"VLOOKUP(Vlookup!D204,Volume_Forecast_Data,D$138,FALSE)","v":204015.49217401035},{"$f":"VLOOKUP(Vlookup!E204,Volume_Forecast_Data,E$138,FALSE)","v":0}]
["LDNO LV: LV UMS (Pseudo HH Metered)",{"$f":"VLOOKUP(Vlookup!B205,Volume_Forecast_Data,B$138,FALSE)","v":0},{"$f":"VLOOKUP(Vlookup!C205,Volume_Forecast_Data,C$138,FALSE)","v":0},{"$f":"VLOOKUP(Vlookup!D205,Volume_Forecast_Data,D$138,FALSE)","v":0},{"$f":"VLOOKUP(Vlookup!E205,Volume_Forecast_Data,E$138,FALSE)","v":0}]
["LDNO HV: LV UMS (Pseudo HH Metered)",{"$f":"VLOOKUP(Vlookup!B206,Volume_Forecast_Data,B$138,FALSE)","v":0},{"$f":"VLOOKUP(Vlookup!C206,Volume_Forecast_Data,C$138,FALSE)","v":0},{"$f":"VLOOKUP(Vlookup!D206,Volume_Forecast_Data,D$138,FALSE)","v":0},{"$f":"VLOOKUP(Vlookup!E206,Volume_Forecast_Data,E$138,FALSE)","v":0}]
["> LV Generation NHH"]
["LV Generation NHH",{"$f":"VLOOKUP(Vlookup!B208,Volume_Forecast_Data,B$138,FALSE)","v":435.79068389999998},null,null,{"$f":"VLOOKUP(Vlookup!E208,Volume_Forecast_Data,E$138,FALSE)","v":97.929600000000008}]
["LDNO LV: LV Generation NHH",{"$f":"VLOOKUP(Vlookup!B209,Volume_Forecast_Data,B$138,FALSE)","v":0},null,null,{"$f":"VLOOKUP(Vlookup!E209,Volume_Forecast_Data,E$138,FALSE)","v":0}]
["LDNO HV: LV Generation NHH",{"$f":"VLOOKUP(Vlookup!B210,Volume_Forecast_Data,B$138,FALSE)","v":0},null,null,{"$f":"VLOOKUP(Vlookup!E210,Volume_Forecast_Data,E$138,FALSE)","v":0}]
["> LV Sub Generation NHH"]
["LV Sub Generation NHH",{"$f":"VLOOKUP(Vlookup!B212,Volume_Forecast_Data,B$138,FALSE)","v":0},null,null,{"$f":"VLOOKUP(Vlookup!E212,Volume_Forecast_Data,E$138,FALSE)","v":0}]
["LDNO HV: LV Sub Generation NHH",{"$f":"VLOOKUP(Vlookup!B213,Volume_Forecast_Data,B$138,FALSE)","v":0},null,null,{"$f":"VLOOKUP(Vlookup!E213,Volume_Forecast_Data,E$138,FALSE)","v":0}]
["> LV Generation Intermittent"]
["LV Generation Intermittent",{"$f":"VLOOKUP(Vlookup!B215,Volume_Forecast_Data,B$138,FALSE)","v":45.746167500000006},null,null,{"$f":"VLOOKUP(Vlookup!E215,Volume_Forecast_Data,E$138,FALSE)","v":20.402000000000001},null,{"$f":"VLOOKUP(Vlookup!G215,Volume_Forecast_Data,G$138,FALSE)","v":16.962}]
["LDNO LV: LV Generation Intermittent",{"$f":"VLOOKUP(Vlookup!B216,Volume_Forecast_Data,B$138,FALSE)","v":0},null,null,{"$f":"VLOOKUP(Vlookup!E216,Volume_Forecast_Data,E$138,FALSE)","v":0},null,{"$f":"VLOOKUP(Vlookup!G216,Volume_Forecast_Data,G$138,FALSE)","v":0}]
["LDNO HV: LV Generation Intermittent",{"$f":"VLOOKUP(Vlookup!B217,Volume_Forecast_Data,B$138,FALSE)","v":0},null,null,{"$f":"VLOOKUP(Vlookup!E217,Volume_Forecast_Data,E$138,FALSE)","v":0},null,{"$f":"VLOOKUP(Vlookup!G217,Volume_Forecast_Data,G$138,FALSE)","v":0}]
["> LV Generation Non-Intermittent"]
["LV Generation Non-Intermittent",{"$f":"VLOOKUP(Vlookup!B219,Volume_Forecast_Data,B$138,FALSE)","v":226.70987129999995},{"$f":"VLOOKUP(Vlookup!C219,Volume_Forecast_Data,C$138,FALSE)","v":860.28179489999991},{"$f":"VLOOKUP(Vlookup!D219,Volume_Forecast_Data,D$138,FALSE)","v":1414.7390664},{"$f":"VLOOKUP(Vlookup!E219,Volume_Forecast_Data,E$138,FALSE)","v":58.145699999999998},null,{"$f":"VLOOKUP(Vlookup!G219,Volume_Forecast_Data,G$138,FALSE)","v":85.26939999999999}]
["LDNO LV: LV Generation Non-Intermittent",{"$f":"VLOOKUP(Vlookup!B220,Volume_Forecast_Data,B$138,FALSE)","v":0},{"$f":"VLOOKUP(Vlookup!C220,Volume_Forecast_Data,C$138,FALSE)","v":0},{"$f":"VLOOKUP(Vlookup!D220,Volume_Forecast_Data,D$138,FALSE)","v":0},{"$f":"VLOOKUP(Vlookup!E220,Volume_Forecast_Data,E$138,FALSE)","v":0},null,{"$f":"VLOOKUP(Vlookup!G220,Volume_Forecast_Data,G$138,FALSE)","v":0}]
["LDNO HV: LV Generation Non-Intermittent",{"$f":"VLOOKUP(Vlookup!B221,Volume_Forecast_Data,B$138,FALSE)","v":0},{"$f":"VLOOKUP(Vlookup!C221,Volume_Forecast_Data,C$138,FALSE)","v":0},{"$f":"VLOOKUP(Vlookup!D221,Volume_Forecast_Data,D$138,FALSE)","v":0},{"$f":"VLOOKUP(Vlookup!E221,Volume_Forecast_Data,E$138,FALSE)","v":0},null,{"$f":"VLOOKUP(Vlookup!G221,Volume_Forecast_Data,G$138,FALSE)","v":0}]
["> LV Sub Generation Intermittent"]
["LV Sub Generation Intermittent",{"$f":"VLOOKUP(Vlookup!B223,Volume_Forecast_Data,B$138,FALSE)","v":0},null,null,{"$f":"VLOOKUP(Vlookup!E223,Volume_Forecast_Data,E$138,FALSE)","v":0},null,{"$f":"VLOOKUP(Vlookup!G223,Volume_Forecast_Data,G$138,FALSE)","v":0}]
["LDNO HV: LV Sub Generation Intermittent",{"$f":"VLOOKUP(Vlookup!B224,Volume_Forecast_Data,B$138,FALSE)","v":0},null,null,{"$f":"VLOOKUP(Vlookup!E224,Volume_Forecast_Data,E$138,FALSE)","v":0},null,{"$f":"VLOOKUP(Vlookup!G224,Volume_Forecast_Data,G$138,FALSE)","v":0}]
["> LV Sub Generation Non-Intermittent"]
["LV Sub Generation Non-Intermittent",{"$f":"VLOOKUP(Vlookup!B226,Volume_Forecast_Data,B$138,FALSE)","v":0},{"$f":"VLOOKUP(Vlookup!C226,Volume_Forecast_Data,C$138,FALSE)","v":0},{"$f":"VLOOKUP(Vlookup!D226,Volume_Forecast_Data,D$138,FALSE)","v":0.30579119999999999},{"$f":"VLOOKUP(Vlookup!E226,Volume_Forecast_Data,E$138,FALSE)","v":0},null,{"$f":"VLOOKUP(Vlookup!G226,Volume_Forecast_Data,G$138,FALSE)","v":3.4596}]
["LDNO HV: LV Sub Generation Non-Intermittent",{"$f":"VLOOKUP(Vlookup!B227,Volume_Forecast_Data,B$138,FALSE)","v":0},{"$f":"VLOOKUP(Vlookup!C227,Volume_Forecast_Data,C$138,FALSE)","v":0},{"$f":"VLOOKUP(Vlookup!D227,Volume_Forecast_Data,D$138,FALSE)","v":0},{"$f":"VLOOKUP(Vlookup!E227,Volume_Forecast_Data,E$138,FALSE)","v":0},null,{"$f":"VLOOKUP(Vlookup!G227,Volume_Forecast_Data,G$138,FALSE)","v":0}]
["> HV Generation Intermittent"]
["HV Generation Intermittent",{"$f":"VLOOKUP(Vlookup!B229,Volume_Forecast_Data,B$138,FALSE)","v":968.08593419999988},null,null,{"$f":"VLOOKUP(Vlookup!E229,Volume_Forecast_Data,E$138,FALSE)","v":4.0804},null,{"$f":"VLOOKUP(Vlookup!G229,Volume_Forecast_Data,G$138,FALSE)","v":376.0514}]
["LDNO HV: HV Generation Intermittent",{"$f":"VLOOKUP(Vlookup!B230,Volume_Forecast_Data,B$138,FALSE)","v":0},null,null,{"$f":"VLOOKUP(Vlookup!E230,Volume_Forecast_Data,E$138,FALSE)","v":0},null,{"$f":"VLOOKUP(Vlookup!G230,Volume_Forecast_Data,G$138,FALSE)","v":0}]
["> HV Generation Non-Intermittent"]
["HV Generation Non-Intermittent",{"$f":"VLOOKUP(Vlookup!B232,Volume_Forecast_Data,B$138,FALSE)","v":38585.457909899997},{"$f":"VLOOKUP(Vlookup!C232,Volume_Forecast_Data,C$138,FALSE)","v":130542.41715569998},{"$f":"VLOOKUP(Vlookup!D232,Volume_Forecast_Data,D$138,FALSE)","v":256674.12066450002},{"$f":"VLOOKUP(Vlookup!E232,Volume_Forecast_Data,E$138,FALSE)","v":82.628100000000003},null,{"$f":"VLOOKUP(Vlookup!G232,Volume_Forecast_Data,G$138,FALSE)","v":4526.9914000000008}]
["LDNO HV: HV Generation Non-Intermittent",{"$f":"VLOOKUP(Vlookup!B233,Volume_Forecast_Data,B$138,FALSE)","v":0},{"$f":"VLOOKUP(Vlookup!C233,Volume_Forecast_Data,C$138,FALSE)","v":0},{"$f":"VLOOKUP(Vlookup!D233,Volume_Forecast_Data,D$138,FALSE)","v":0},{"$f":"VLOOKUP(Vlookup!E233,Volume_Forecast_Data,E$138,FALSE)","v":0},null,{"$f":"VLOOKUP(Vlookup!G233,Volume_Forecast_Data,G$138,FALSE)","v":0}]
["> HV Sub Generation Non-Intermittent"]
["HV Sub Generation Non-Intermittent",{"$f":"VLOOKUP(Vlookup!B235,Volume_Forecast_Data,B$138,FALSE)","v":0},{"$f":"VLOOKUP(Vlookup!C235,Volume_Forecast_Data,C$138,FALSE)","v":0},{"$f":"VLOOKUP(Vlookup!D235,Volume_Forecast_Data,D$138,FALSE)","v":0},{"$f":"VLOOKUP(Vlookup!E235,Volume_Forecast_Data,E$138,FALSE)","v":0},null,{"$f":"VLOOKUP(Vlookup!G235,Volume_Forecast_Data,G$138,FALSE)","v":0}]
["> HV Sub Generation Intermittent"]
["HV Sub Generation Intermittent",{"$f":"VLOOKUP(Vlookup!B237,Volume_Forecast_Data,B$138,FALSE)","v":0},null,null,{"$f":"VLOOKUP(Vlookup!E237,Volume_Forecast_Data,E$138,FALSE)","v":0},null,{"$f":"VLOOKUP(Vlookup!G237,Volume_Forecast_Data,G$138,FALSE)","v":0}]
[]
["1055. Transmission exit charges (£/year)"]
[""]
["Source: forecast."]
[null,"Transmission\nexit"]
["Transmission exit charges (£/year)",{"$f":"VLOOKUP(Vlookup!B243,Forcast_Data,7,FALSE)","v":13719094.661517367},""]
[]
["1059. Other expenditure"]
[""]
[null,"Direct cost (£/year)","Indirect cost (£/year)","Indirect cost proportion","Network rates (£/year)"]
["Other expenditure",{"$f":"VLOOKUP(Vlookup!B248,Forcast_Data,7,FALSE)","v":33583077.277093604},{"$f":"VLOOKUP(Vlookup!C248,Forcast_Data,7,FALSE)","v":138396406.59612134},{"$f":"VLOOKUP(Vlookup!D248,Forcast_Data,7,FALSE)","v":0.6},{"$f":"VLOOKUP(Vlookup!E248,Forcast_Data,7,FALSE)","v":27504017.202144001},""]
[]
["1060. Customer contributions under current connection charging policy"]
[]
["Source: analysis of expenditure data and/or survey of capital expenditure schemes."]
["Customer contribution percentages by network level of supply and by asset network level."]
["These proportions should reflect the current connection charging method, not necessarily the method that was in place when the connection was built."]
[null,"Assets\n132kV","Assets\n132kV/EHV","Assets\nEHV","Assets\nEHV/HV","Assets\n132kV/HV","Assets\nHV","Assets\nHV/LV","Assets\nLV circuits"]
["LV network",{"$f":"VLOOKUP(Vlookup!B256,Forcast_Data,7,FALSE)","v":0},{"$f":"VLOOKUP(Vlookup!C256,Forcast_Data,7,FALSE)","v":0},{"$f":"VLOOKUP(Vlookup!D256,Forcast_Data,7,FALSE)","v":0},{"$f":"VLOOKUP(Vlookup!E256,Forcast_Data,7,FALSE)","v":0},{"$f":"VLOOKUP(Vlookup!F256,Forcast_Data,7,FALSE)","v":0},{"$f":"VLOOKUP(Vlookup!G256,Forcast_Data,7,FALSE)","v":0.38684969697494365},{"$f":"VLOOKUP(Vlookup!H256,Forcast_Data,7,FALSE)","v":0.64124825573068889},{"$f":"VLOOKUP(Vlookup!I256,Forcast_Data,7,FALSE)","v":0.89564681448643413},""]
["LV substation",{"$f":"VLOOKUP(Vlookup!B257,Forcast_Data,7,FALSE)","v":0},{"$f":"VLOOKUP(Vlookup!C257,Forcast_Data,7,FALSE)","v":0},{"$f":"VLOOKUP(Vlookup!D257,Forcast_Data,7,FALSE)","v":0},{"$f":"VLOOKUP(Vlookup!E257,Forcast_Data,7,FALSE)","v":0},{"$f":"VLOOKUP(Vlookup!F257,Forcast_Data,7,FALSE)","v":0},{"$f":"VLOOKUP(Vlookup!G257,Forcast_Data,7,FALSE)","v":0.38684969697494365},{"$f":"VLOOKUP(Vlookup!H257,Forcast_Data,7,FALSE)","v":0.64124825573068889},null,""]
["HV network",{"$f":"VLOOKUP(Vlookup!B258,Forcast_Data,7,FALSE)","v":0},{"$f":"VLOOKUP(Vlookup!C258,Forcast_Data,7,FALSE)","v":0},{"$f":"VLOOKUP(Vlookup!D258,Forcast_Data,7,FALSE)","v":0},{"$f":"VLOOKUP(Vlookup!E258,Forcast_Data,7,FALSE)","v":0.25764106948138837},{"$f":"VLOOKUP(Vlookup!F258,Forcast_Data,7,FALSE)","v":0.25764106948138837},{"$f":"VLOOKUP(Vlookup!G258,Forcast_Data,7,FALSE)","v":0.51528213896277675},null,null,""]
["HV substation",{"$f":"VLOOKUP(Vlookup!B259,Forcast_Data,7,FALSE)","v":0},{"$f":"VLOOKUP(Vlookup!C259,Forcast_Data,7,FALSE)","v":0},{"$f":"VLOOKUP(Vlookup!D259,Forcast_Data,7,FALSE)","v":0},{"$f":"VLOOKUP(Vlookup!E259,Forcast_Data,7,FALSE)","v":0.25764106948138837},null,null,null,null,""]
[]
["1061. Average split of rate 1 units by distribution time band"]
[]
[null,"Red","Amber","Green"]
["Domestic Two Rate",{"$f":"VLOOKUP(Vlookup!B269,Forcast_Data,7,FALSE)","v":0.14890278426189216},{"$f":"VLOOKUP(Vlookup!C269,Forcast_Data,7,FALSE)","v":0.41118526043131326},{"$f":"VLOOKUP(Vlookup!D269,Forcast_Data,7,FALSE)","v":0.43991195530679456},""]
["Domestic Off Peak (related MPAN)",{"$f":"VLOOKUP(Vlookup!B270,Forcast_Data,7,FALSE)","v":2.2966880173443485E-3},{"$f":"VLOOKUP(Vlookup!C270,Forcast_Data,7,FALSE)","v":0.2056778896815693},{"$f":"VLOOKUP(Vlookup!D270,Forcast_Data,7,FALSE)","v":0.7920254223010863},""]
["Small Non Domestic Two Rate",{"$f":"VLOOKUP(Vlookup!B271,Forcast_Data,7,FALSE)","v":0.13326282626713307},{"$f":"VLOOKUP(Vlookup!C271,Forcast_Data,7,FALSE)","v":0.53523461585794074},{"$f":"VLOOKUP(Vlookup!D271,Forcast_Data,7,FALSE)","v":0.33150255787492622},""]
["Small Non Domestic Off Peak (related MPAN)",{"$f":"VLOOKUP(Vlookup!B272,Forcast_Data,7,FALSE)","v":1.8394107775813375E-2},{"$f":"VLOOKUP(Vlookup!C272,Forcast_Data,7,FALSE)","v":0.17098236297510325},{"$f":"VLOOKUP(Vlookup!D272,Forcast_Data,7,FALSE)","v":0.81062352924908332},""]
["LV Medium Non-Domestic",{"$f":"VLOOKUP(Vlookup!B273,Forcast_Data,7,FALSE)","v":0.13922071459848015},{"$f":"VLOOKUP(Vlookup!C273,Forcast_Data,7,FALSE)","v":0.53278444505652578},{"$f":"VLOOKUP(Vlookup!D273,Forcast_Data,7,FALSE)","v":0.3279948403449941},""]
["LV Sub Medium Non-Domestic",{"$f":"VLOOKUP(Vlookup!B274,Forcast_Data,7,FALSE)","v":0.13922071459848015},{"$f":"VLOOKUP(Vlookup!C274,Forcast_Data,7,FALSE)","v":0.53278444505652578},{"$f":"VLOOKUP(Vlookup!D274,Forcast_Data,7,FALSE)","v":0.3279948403449941},""]
["HV Medium Non-Domestic",{"$f":"VLOOKUP(Vlookup!B275,Forcast_Data,7,FALSE)","v":0.1327379630534701},{"$f":"VLOOKUP(Vlookup!C275,Forcast_Data,7,FALSE)","v":0.56664216163065484},{"$f":"VLOOKUP(Vlookup!D275,Forcast_Data,7,FALSE)","v":0.30061987531587503},""]
[]
["1062. Average split of rate 2 units by distribution time band"]
[]
[null,"Red","Amber","Green"]
["Domestic Two Rate",{"$f":"VLOOKUP(Vlookup!B283,Forcast_Data,7,FALSE)","v":0},{"$f":"VLOOKUP(Vlookup!C283,Forcast_Data,7,FALSE)","v":0},{"$f":"VLOOKUP(Vlookup!D283,Forcast_Data,7,FALSE)","v":1},""]
["Small Non Domestic Two Rate",{"$f":"VLOOKUP(Vlookup!B284,Forcast_Data,7,FALSE)","v":0},{"$f":"VLOOKUP(Vlookup!C284,Forcast_Data,7,FALSE)","v":0},{"$f":"VLOOKUP(Vlookup!D284,Forcast_Data,7,FALSE)","v":1},""]
["LV Medium Non-Domestic",{"$f":"VLOOKUP(Vlookup!B285,Forcast_Data,7,FALSE)","v":0},{"$f":"VLOOKUP(Vlookup!C285,Forcast_Data,7,FALSE)","v":0},{"$f":"VLOOKUP(Vlookup!D285,Forcast_Data,7,FALSE)","v":1},""]
["LV Sub Medium Non-Domestic",{"$f":"VLOOKUP(Vlookup!B286,Forcast_Data,7,FALSE)","v":0},{"$f":"VLOOKUP(Vlookup!C286,Forcast_Data,7,FALSE)","v":0},{"$f":"VLOOKUP(Vlookup!D286,Forcast_Data,7,FALSE)","v":1},""]
["HV Medium Non-Domestic",{"$f":"VLOOKUP(Vlookup!B287,Forcast_Data,7,FALSE)","v":0},{"$f":"VLOOKUP(Vlookup!C287,Forcast_Data,7,FALSE)","v":0},{"$f":"VLOOKUP(Vlookup!D287,Forcast_Data,7,FALSE)","v":1},""]
[]
["1064. Average split of rate 1 units by special distribution time band"]
[]
[null,"Red","Amber","Green",""]
["NHH UMS category A",{"$f":"VLOOKUP(Vlookup!B292,Forcast_Data,7,FALSE)","v":2.9680365296803651E-2},{"$f":"VLOOKUP(Vlookup!C292,Forcast_Data,7,FALSE)","v":0.37254566210045664},{"$f":"VLOOKUP(Vlookup!D292,Forcast_Data,7,FALSE)","v":0.59777397260273968},""]
["NHH UMS category B",{"$f":"VLOOKUP(Vlookup!B293,Forcast_Data,7,FALSE)","v":4.9247533453833446E-2},{"$f":"VLOOKUP(Vlookup!C293,Forcast_Data,7,FALSE)","v":8.8278432042188382E-2},{"$f":"VLOOKUP(Vlookup!D293,Forcast_Data,7,FALSE)","v":0.86247403450397819},""]
["NHH UMS category C",{"$f":"VLOOKUP(Vlookup!B294,Forcast_Data,7,FALSE)","v":9.6056827605747144E-2},{"$f":"VLOOKUP(Vlookup!C294,Forcast_Data,7,FALSE)","v":0.17696296513012377},{"$f":"VLOOKUP(Vlookup!D294,Forcast_Data,7,FALSE)","v":0.72698020726412915},""]
["NHH UMS category D",{"$f":"VLOOKUP(Vlookup!B295,Forcast_Data,7,FALSE)","v":1.6971783970887895E-2},{"$f":"VLOOKUP(Vlookup!C295,Forcast_Data,7,FALSE)","v":0.60828178839872815},{"$f":"VLOOKUP(Vlookup!D295,Forcast_Data,7,FALSE)","v":0.37474642763038385},""]
[]
["1066. Typical annual hours by special distribution time band"]
["Source: definition of distribution time bands."]
["The figures in this table will be automatically adjusted to match the number of days in the charging period."]
[]
[null,"Red","Amber","Green"]
["Annual hours",{"$f":"VLOOKUP(Vlookup!B302,Forcast_Data,7,FALSE)","v":258},{"$f":"VLOOKUP(Vlookup!C302,Forcast_Data,7,FALSE)","v":3265.5},{"$f":"VLOOKUP(Vlookup!D302,Forcast_Data,7,FALSE)","v":5236.5},""]
[]
["1068. Typical annual hours by distribution time band"]
[]
["Source: definition of distribution time bands."]
["The figures in this table will be automatically adjusted to match the number of days in the charging period."]
[null,"Red","Amber","Green"]
["Annual hours",{"$f":"VLOOKUP(Vlookup!B309,Forcast_Data,7,FALSE)","v":783},{"$f":"VLOOKUP(Vlookup!C309,Forcast_Data,7,FALSE)","v":2740.5},{"$f":"VLOOKUP(Vlookup!D309,Forcast_Data,7,FALSE)","v":5236.5},""]
[]
["1069. Peaking probabilities by network level"]
[]
[]
["Source: analysis of network operation data."]
[null,"Red","Amber","Green","Black"]
["GSPs",{"$f":"VLOOKUP(Vlookup!B315,Forcast_Data,7,FALSE)","v":0.90713490721324597},{"$f":"VLOOKUP(Vlookup!C315,Forcast_Data,7,FALSE)","v":8.5943651473687752E-2},{"$f":"VLOOKUP(Vlookup!D315,Forcast_Data,7,FALSE)","v":6.9214413130663024E-3},{"$f":"VLOOKUP(Vlookup!E315,Forcast_Data,7,FALSE)","v":0.47623207722750621},""]
["132kV",{"$f":"VLOOKUP(Vlookup!B316,Forcast_Data,7,FALSE)","v":0.71771031215339598},{"$f":"VLOOKUP(Vlookup!C316,Forcast_Data,7,FALSE)","v":0.25348688310500261},{"$f":"VLOOKUP(Vlookup!D316,Forcast_Data,7,FALSE)","v":2.8802804741601341E-2},{"$f":"VLOOKUP(Vlookup!E316,Forcast_Data,7,FALSE)","v":0.5027642206564088},""]
["132kV/EHV",{"$f":"VLOOKUP(Vlookup!B317,Forcast_Data,7,FALSE)","v":0.71771031215339598},{"$f":"VLOOKUP(Vlookup!C317,Forcast_Data,7,FALSE)","v":0.25348688310500261},{"$f":"VLOOKUP(Vlookup!D317,Forcast_Data,7,FALSE)","v":2.8802804741601341E-2},{"$f":"VLOOKUP(Vlookup!E317,Forcast_Data,7,FALSE)","v":0.5027642206564088},""]
["EHV",{"$f":"VLOOKUP(Vlookup!B318,Forcast_Data,7,FALSE)","v":0.66033153174473114},{"$f":"VLOOKUP(Vlookup!C318,Forcast_Data,7,FALSE)","v":0.26482907568205305},{"$f":"VLOOKUP(Vlookup!D318,Forcast_Data,7,FALSE)","v":7.4839392573215757E-2},{"$f":"VLOOKUP(Vlookup!E318,Forcast_Data,7,FALSE)","v":0.5314588887042806},""]
["EHV/HV",{"$f":"VLOOKUP(Vlookup!B319,Forcast_Data,7,FALSE)","v":0.66033153174473114},{"$f":"VLOOKUP(Vlookup!C319,Forcast_Data,7,FALSE)","v":0.26482907568205305},{"$f":"VLOOKUP(Vlookup!D319,Forcast_Data,7,FALSE)","v":7.4839392573215757E-2},{"$f":"VLOOKUP(Vlookup!E319,Forcast_Data,7,FALSE)","v":0.5314588887042806},""]
["132kV/HV",{"$f":"VLOOKUP(Vlookup!B320,Forcast_Data,7,FALSE)","v":0.71771031215339598},{"$f":"VLOOKUP(Vlookup!C320,Forcast_Data,7,FALSE)","v":0.25348688310500261},{"$f":"VLOOKUP(Vlookup!D320,Forcast_Data,7,FALSE)","v":2.8802804741601341E-2},{"$f":"VLOOKUP(Vlookup!E320,Forcast_Data,7,FALSE)","v":0.5027642206564088},""]
["HV",{"$f":"VLOOKUP(Vlookup!B321,Forcast_Data,7,FALSE)","v":0.66033153174473114},{"$f":"VLOOKUP(Vlookup!C321,Forcast_Data,7,FALSE)","v":0.26482907568205305},{"$f":"VLOOKUP(Vlookup!D321,Forcast_Data,7,FALSE)","v":7.4839392573215757E-2},{"$f":"VLOOKUP(Vlookup!E321,Forcast_Data,7,FALSE)","v":0.5314588887042806},""]
["HV/LV",{"$f":"VLOOKUP(Vlookup!B322,Forcast_Data,7,FALSE)","v":0.66033153174473114},{"$f":"VLOOKUP(Vlookup!C322,Forcast_Data,7,FALSE)","v":0.26482907568205305},{"$f":"VLOOKUP(Vlookup!D322,Forcast_Data,7,FALSE)","v":7.4839392573215757E-2},{"$f":"VLOOKUP(Vlookup!E322,Forcast_Data,7,FALSE)","v":0.5314588887042806},""]
["LV circuits",{"$f":"VLOOKUP(Vlookup!B323,Forcast_Data,7,FALSE)","v":0.66033153174473114},{"$f":"VLOOKUP(Vlookup!C323,Forcast_Data,7,FALSE)","v":0.26482907568205305},{"$f":"VLOOKUP(Vlookup!D323,Forcast_Data,7,FALSE)","v":7.4839392573215757E-2},{"$f":"VLOOKUP(Vlookup!E323,Forcast_Data,7,FALSE)","v":0.5314588887042806},""]
[]
["1076. Target revenue"]
[""]
["Source: forecast."]
[null,"Allowed revenue (£/year)"]
["Target revenue",{"$f":"VLOOKUP(Vlookup!B329,Forcast_Data,7,FALSE)","v":467937293.82368445},""]
[]
["1092. Average kVAr by kVA, by network level"]
[""]
["Source: analysis of operational data."]
["This is the average of MVAr/MVA or SQRT(1-PF^2) across relevant network elements."]
[null,"GSPs","132kV","132kV/EHV","EHV","EHV/HV","132kV/HV","HV","HV/LV","LV circuits"]
["Average kVAr by kVA, by network level",{"$f":"VLOOKUP(Vlookup!B336,Forcast_Data,7,FALSE)","v":0.2810621222726124},{"$f":"VLOOKUP(Vlookup!C336,Forcast_Data,7,FALSE)","v":0.2810621222726124},{"$f":"VLOOKUP(Vlookup!D336,Forcast_Data,7,FALSE)","v":0.2810621222726124},{"$f":"VLOOKUP(Vlookup!E336,Forcast_Data,7,FALSE)","v":0.2810621222726124},{"$f":"VLOOKUP(Vlookup!F336,Forcast_Data,7,FALSE)","v":0.2810621222726124},{"$f":"VLOOKUP(Vlookup!G336,Forcast_Data,7,FALSE)","v":0.2810621222726124},{"$f":"VLOOKUP(Vlookup!H336,Forcast_Data,7,FALSE)","v":0.2810621222726124},{"$f":"VLOOKUP(Vlookup!I336,Forcast_Data,7,FALSE)","v":0.2810621222726124},{"$f":"VLOOKUP(Vlookup!J336,Forcast_Data,7,FALSE)","v":0.2810621222726124},""]
[]
["1201. Current tariff information"]
[""]
[null,"Current revenues if known (£/year)","Current Unit rate 1 p/kWh","Current Unit rate 2 p/kWh","Current Unit rate 3 p/kWh","Current Fixed charge p/MPAN/day","Current Capacity charge p/kVA/day","Current Reactive power charge p/kVArh"]
["Domestic Unrestricted",130826862,null,null,null,null,null,null,""]
["Domestic Two Rate",15098369,null,null,null,null,null,null,""]
["Domestic Off Peak (related MPAN)",146557,null,null,null,null,null,null,""]
["Small Non Domestic Unrestricted",29063999,null,null,null,null,null,null,""]
["Small Non Domestic Two Rate",6925425,null,null,null,null,null,null,""]
["Small Non Domestic Off Peak (related MPAN)",null,null,null,null,null,null,null,""]
["LV Medium Non-Domestic",19761662,null,null,null,null,null,null,""]
["LV Sub Medium Non-Domestic",733648,null,null,null,null,null,null,""]
["HV Medium Non-Domestic",266631,null,null,null,null,null,null,""]
["LV HH Metered",22598111,null,null,0,null,null,0,""]
["LV Sub HH Metered",14598953,null,null,0,null,null,0,""]
["HV HH Metered",41609304,null,null,0,null,null,0,""]
["HV Sub HH Metered",6392480,null,null,0,null,null,0,""]
["NHH UMS category A",540187,null,null,null,null,null,null,""]
["NHH UMS category B",540187,null,null,null,null,null,null,""]
["NHH UMS category C",540187,null,null,null,null,null,null,""]
["NHH UMS category D",540187,null,null,null,null,null,null,""]
["LV UMS (Pseudo HH Metered)",4899607,null,null,0,null,null,null,""]

{"sheet":"(Y+3)","index":12,"n_rows":351,"n_cols":11,"rows_kept":351,"cut":false,"hidden":false,"merged":[]}
[]
[]
[]
[]
["1000. Company, charging year, data version"]
[""]
[null,"Company","Year","Version"]
["Company, charging year, data version",{"$f":"VLOOKUP(Vlookup!B8,Forcast_Data,8,FALSE)","v":"WPD Mid West"},{"$f":"VLOOKUP(Vlookup!C8,Forcast_Data,8,FALSE)","v":"April 2016"},{"$f":"VLOOKUP(Vlookup!D8,Forcast_Data,8,FALSE)","v":0},""]
[]
["1010. Financial and general assumptions"]
[]
["Sources: financial assumptions; calendar; network model."]
["These financial assumptions determine the annuity rate applied to convert the asset values of the network model into an annual charge."]
[null,"Rate of return","Annualisation period (years)","Annuity proportion for customer-contributed assets","Power factor","Days in the charging period"]
["Financial and general assumptions",{"$f":"VLOOKUP(Vlookup!B15,Forcast_Data,8,FALSE)","v":5.6000000000000001E-2},{"$f":"VLOOKUP(Vlookup!C15,Forcast_Data,8,FALSE)","v":40},null,{"$f":"VLOOKUP(Vlookup!E15,Forcast_Data,8,FALSE)","v":0.95},{"$f":"VLOOKUP(Vlookup!F15,Forcast_Data,8,FALSE)","v":365},""]
[]
["1017. Diversity allowance between top and bottom of network level"]
[]
["Source: operational data analysis and/or network model."]
["The diversity figure against GSP is the diversity between GSP Group (the whole system) and individual GSPs."]
["The diversity figure against 132kV is the diversity between GSPs (the top of the 132kV network) and 132kV/EHV bulk supply points (the bottom of the 132kV network). "]
["The diversity figure against EHV is the diversity between 132kV/EHV bulk supply points (the top of the EHV network) and EHV/HV primary substations (the bottom of the EHV network). "]
["The diversity figure against HV is the diversity between EHV/HV primary substations (the top of the HV network) and HV/LV substations (the bottom of the HV network). "]
[null,"Diversity allowance between top and bottom of network level"]
["GSPs",{"$f":"VLOOKUP(Vlookup!B25,Forcast_Data,8,FALSE)","v":5.649040831841079E-2},""]
["132kV",{"$f":"VLOOKUP(Vlookup!B26,Forcast_Data,8,FALSE)","v":2.5568682496299511E-2},""]
["132kV/EHV",null,""]
["EHV",{"$f":"VLOOKUP(Vlookup!B28,Forcast_Data,8,FALSE)","v":2.6631596666738533E-2},""]
["EHV/HV",null,""]
["HV",{"$f":"VLOOKUP(Vlookup!B30,Forcast_Data,8,FALSE)","v":0.34000000000000008},""]
["HV/LV",null,""]
["LV circuits",null,""]
[]
["1018. Proportion of relevant load going through 132kV/HV direct transformation"]
[""]
[null,"132kV/HV"]
["EHV/HV",{"$f":"VLOOKUP(Vlookup!B37,Forcast_Data,8,FALSE)","v":0.69256562916818787},""]
[]
["1019. Network model GSP peak demand (MW)"]
[]
[null,"Network model GSP peak demand (MW)"]
["Network model GSP peak demand (MW)",{"$f":"VLOOKUP(Vlookup!B42,Forcast_Data,8,FALSE)","v":500},""]
[]
["1020. Gross asset cost by network level (£)"]
[]
[null,"Gross assets £"]
["132kV",{"$f":"VLOOKUP(Vlookup!B47,Forcast_Data,8,FALSE)","v":72089134.970399991},""]
["132kV/EHV",{"$f":"VLOOKUP(Vlookup!B48,Forcast_Data,8,FALSE)","v":11242272.1284},""]
["EHV",{"$f":"VLOOKUP(Vlookup!B49,Forcast_Data,8,FALSE)","v":12948682.107600002},""]
["EHV/HV",{"$f":"VLOOKUP(Vlookup!B50,Forcast_Data,8,FALSE)","v":22124469.099600002},""]
["132kV/HV",{"$f":"VLOOKUP(Vlookup!B51,Forcast_Data,8,FALSE)","v":20453250.650400002},""]
["HV",{"$f":"VLOOKUP(Vlookup!B52,Forcast_Data,8,FALSE)","v":112923947.50920001},""]
["HV/LV",{"$f":"VLOOKUP(Vlookup!B53,Forcast_Data,8,FALSE)","v":70811688.153600007},""]
["LV circuits",{"$f":"VLOOKUP(Vlookup!B54,Forcast_Data,8,FALSE)","v":98497246.111200005},""]
[]
["1022. LV service model asset cost (£)"]
[]
[null,"LV service model 1","LV service model 2","LV service model 3","LV service model 4","LV service model 5","LV service model 6","LV service model 7","LV service model 8"]
["LV service model asset cost (£)",{"$f":"VLOOKUP(Vlookup!B59,Forcast_Data,8,FALSE)","v":4879.2436672356007},{"$f":"VLOOKUP(Vlookup!C59,Forcast_Data,8,FALSE)","v":602.3330782802999},{"$f":"VLOOKUP(Vlookup!D59,Forcast_Data,8,FALSE)","v":711.50344075800001},{"$f":"VLOOKUP(Vlookup!E59,Forcast_Data,8,FALSE)","v":530.05686473759988},{"$f":"VLOOKUP(Vlookup!F59,Forcast_Data,8,FALSE)","v":1216.2657124183199},{"$f":"VLOOKUP(Vlookup!G59,Forcast_Data,8,FALSE)","v":893.2910551299002},{"$f":"VLOOKUP(Vlookup!H59,Forcast_Data,8,FALSE)","v":"-"},{"$f":"VLOOKUP(Vlookup!I59,Forcast_Data,8,FALSE)","v":468.50697171000002},""]
[]
["1023. HV service model asset cost (£)"]
[]
[null,"HV service model 1","HV service model 2","HV service model 3","HV service model 4","HV service model 5"]
["HV service model asset cost (£)",{"$f":"VLOOKUP(Vlookup!B64,Forcast_Data,8,FALSE)","v":8733.8214000000007},{"$f":"VLOOKUP(Vlookup!C64,Forcast_Data,8,FALSE)","v":4292.16},{"$f":"VLOOKUP(Vlookup!D64,Forcast_Data,8,FALSE)","v":0},{"$f":"VLOOKUP(Vlookup!E64,Forcast_Data,8,FALSE)","v":"-"},{"$f":"VLOOKUP(Vlookup!F64,Forcast_Data,8,FALSE)","v":"-"},""]
[]
["1025. Matrix of applicability of LV service models to tariffs with fixed charges"]
[null,26,{"$f":"B67+1","v":27},{"$f":"C67+1","v":28},29,30,31,32,33]
[null,"LV service model 1","LV service model 2","LV service model 3","LV service model 4","LV service model 5","LV service model 6","LV service model 7","LV service model 8"]
["Domestic Unrestricted",{"$f":"VLOOKUP($A69,'Mat of App'!$B$7:$AP$38,B$67,FALSE)","v":0.05},{"$f":"VLOOKUP($A69,'Mat of App'!$B$7:$AP$38,C$67,FALSE)","v":0},{"$f":"VLOOKUP($A69,'Mat of App'!$B$7:$AP$38,D$67,FALSE)","v":0},{"$f":"VLOOKUP($A69,'Mat of App'!$B$7:$AP$38,E$67,FALSE)","v":0},{"$f":"VLOOKUP($A69,'Mat of App'!$B$7:$AP$38,F$67,FALSE)","v":0},{"$f":"VLOOKUP($A69,'Mat of App'!$B$7:$AP$38,G$67,FALSE)","v":0},{"$f":"VLOOKUP($A69,'Mat of App'!$B$7:$AP$38,H$67,FALSE)","v":0},{"$f":"VLOOKUP($A69,'Mat of App'!$B$7:$AP$38,I$67,FALSE)","v":0},""]
["Domestic Two Rate",{"$f":"VLOOKUP($A70,'Mat of App'!$B$7:$AP$38,B$67,FALSE)","v":0.05},{"$f":"VLOOKUP($A70,'Mat of App'!$B$7:$AP$38,C$67,FALSE)","v":0},{"$f":"VLOOKUP($A70,'Mat of App'!$B$7:$AP$38,D$67,FALSE)","v":0},{"$f":"VLOOKUP($A70,'Mat of App'!$B$7:$AP$38,E$67,FALSE)","v":0},{"$f":"VLOOKUP($A70,'Mat of App'!$B$7:$AP$38,F$67,FALSE)","v":0},{"$f":"VLOOKUP($A70,'Mat of App'!$B$7:$AP$38,G$67,FALSE)","v":0},{"$f":"VLOOKUP($A70,'Mat of App'!$B$7:$AP$38,H$67,FALSE)","v":0},{"$f":"VLOOKUP($A70,'Mat of App'!$B$7:$AP$38,I$67,FALSE)","v":0},""]
["Small Non Domestic Unrestricted",{"$f":"VLOOKUP($A71,'Mat of App'!$B$7:$AP$38,B$67,FALSE)","v":0},{"$f":"VLOOKUP($A71,'Mat of App'!$B$7:$AP$38,C$67,FALSE)","v":1},{"$f":"VLOOKUP($A71,'Mat of App'!$B$7:$AP$38,D$67,FALSE)","v":0},{"$f":"VLOOKUP($A71,'Mat of App'!$B$7:$AP$38,E$67,FALSE)","v":0},{"$f":"VLOOKUP($A71,'Mat of App'!$B$7:$AP$38,F$67,FALSE)","v":0},{"$f":"VLOOKUP($A71,'Mat of App'!$B$7:$AP$38,G$67,FALSE)","v":0},{"$f":"VLOOKUP($A71,'Mat of App'!$B$7:$AP$38,H$67,FALSE)","v":0},{"$f":"VLOOKUP($A71,'Mat of App'!$B$7:$AP$38,I$67,FALSE)","v":0},""]
["Small Non Domestic Two Rate",{"$f":"VLOOKUP($A72,'Mat of App'!$B$7:$AP$38,B$67,FALSE)","v":0},{"$f":"VLOOKUP($A72,'Mat of App'!$B$7:$AP$38,C$67,FALSE)","v":1},{"$f":"VLOOKUP($A72,'Mat of App'!$B$7:$AP$38,D$67,FALSE)","v":0},{"$f":"VLOOKUP($A72,'Mat of App'!$B$7:$AP$38,E$67,FALSE)","v":0},{"$f":"VLOOKUP($A72,'Mat of App'!$B$7:$AP$38,F$67,FALSE)","v":0},{"$f":"VLOOKUP($A72,'Mat of App'!$B$7:$AP$38,G$67,FALSE)","v":0},{"$f":"VLOOKUP($A72,'Mat of App'!$B$7:$AP$38,H$67,FALSE)","v":0},{"$f":"VLOOKUP($A72,'Mat of App'!$B$7:$AP$38,I$67,FALSE)","v":0},""]
["LV Medium Non-Domestic",{"$f":"VLOOKUP($A73,'Mat of App'!$B$7:$AP$38,B$67,FALSE)","v":0},{"$f":"VLOOKUP($A73,'Mat of App'!$B$7:$AP$38,C$67,FALSE)","v":0},{"$f":"VLOOKUP($A73,'Mat of App'!$B$7:$AP$38,D$67,FALSE)","v":1},{"$f":"VLOOKUP($A73,'Mat of App'!$B$7:$AP$38,E$67,FALSE)","v":0},{"$f":"VLOOKUP($A73,'Mat of App'!$B$7:$AP$38,F$67,FALSE)","v":0},{"$f":"VLOOKUP($A73,'Mat of App'!$B$7:$AP$38,G$67,FALSE)","v":0},{"$f":"VLOOKUP($A73,'Mat of App'!$B$7:$AP$38,H$67,FALSE)","v":0},{"$f":"VLOOKUP($A73,'Mat of App'!$B$7:$AP$38,I$67,FALSE)","v":0},""]
["LV Sub Medium Non-Domestic",{"$f":"VLOOKUP($A74,'Mat of App'!$B$7:$AP$38,B$67,FALSE)","v":0},{"$f":"VLOOKUP($A74,'Mat of App'!$B$7:$AP$38,C$67,FALSE)","v":0},{"$f":"VLOOKUP($A74,'Mat of App'!$B$7:$AP$38,D$67,FALSE)","v":0},{"$f":"VLOOKUP($A74,'Mat of App'!$B$7:$AP$38,E$67,FALSE)","v":1},{"$f":"VLOOKUP($A74,'Mat of App'!$B$7:$AP$38,F$67,FALSE)","v":0},{"$f":"VLOOKUP($A74,'Mat of App'!$B$7:$AP$38,G$67,FALSE)","v":0},{"$f":"VLOOKUP($A74,'Mat of App'!$B$7:$AP$38,H$67,FALSE)","v":0},{"$f":"VLOOKUP($A74,'Mat of App'!$B$7:$AP$38,I$67,FALSE)","v":0},""]
["LV HH Metered",{"$f":"VLOOKUP($A75,'Mat of App'!$B$7:$AP$38,B$67,FALSE)","v":0},{"$f":"VLOOKUP($A75,'Mat of App'!$B$7:$AP$38,C$67,FALSE)","v":0},{"$f":"VLOOKUP($A75,'Mat of App'!$B$7:$AP$38,D$67,FALSE)","v":0},{"$f":"VLOOKUP($A75,'Mat of App'!$B$7:$AP$38,E$67,FALSE)","v":0},{"$f":"VLOOKUP($A75,'Mat of App'!$B$7:$AP$38,F$67,FALSE)","v":1},{"$f":"VLOOKUP($A75,'Mat of App'!$B$7:$AP$38,G$67,FALSE)","v":0},{"$f":"VLOOKUP($A75,'Mat of App'!$B$7:$AP$38,H$67,FALSE)","v":0},{"$f":"VLOOKUP($A75,'Mat of App'!$B$7:$AP$38,I$67,FALSE)","v":0},""]
["LV Sub HH Metered",{"$f":"VLOOKUP($A76,'Mat of App'!$B$7:$AP$38,B$67,FALSE)","v":0},{"$f":"VLOOKUP($A76,'Mat of App'!$B$7:$AP$38,C$67,FALSE)","v":0},{"$f":"VLOOKUP($A76,'Mat of App'!$B$7:$AP$38,D$67,FALSE)","v":0},{"$f":"VLOOKUP($A76,'Mat of App'!$B$7:$AP$38,E$67,FALSE)","v":0},{"$f":"VLOOKUP($A76,'Mat of App'!$B$7:$AP$38,F$67,FALSE)","v":0},{"$f":"VLOOKUP($A76,'Mat of App'!$B$7:$AP$38,G$67,FALSE)","v":1},{"$f":"VLOOKUP($A76,'Mat of App'!$B$7:$AP$38,H$67,FALSE)","v":0},{"$f":"VLOOKUP($A76,'Mat of App'!$B$7:$AP$38,I$67,FALSE)","v":0},""]
["LV Generation NHH",{"$f":"VLOOKUP($A77,'Mat of App'!$B$7:$AP$38,B$67,FALSE)","v":0},{"$f":"VLOOKUP($A77,'Mat of App'!$B$7:$AP$38,C$67,FALSE)","v":0},{"$f":"VLOOKUP($A77,'Mat of App'!$B$7:$AP$38,D$67,FALSE)","v":0},{"$f":"VLOOKUP($A77,'Mat of App'!$B$7:$AP$38,E$67,FALSE)","v":0},{"$f":"VLOOKUP($A77,'Mat of App'!$B$7:$AP$38,F$67,FALSE)","v":0},{"$f":"VLOOKUP($A77,'Mat of App'!$B$7:$AP$38,G$67,FALSE)","v":0},{"$f":"VLOOKUP($A77,'Mat of App'!$B$7:$AP$38,H$67,FALSE)","v":1},{"$f":"VLOOKUP($A77,'Mat of App'!$B$7:$AP$38,I$67,FALSE)","v":0},""]
["LV Sub Generation NHH",{"$f":"VLOOKUP($A78,'Mat of App'!$B$7:$AP$38,B$67,FALSE)","v":0},{"$f":"VLOOKUP($A78,'Mat of App'!$B$7:$AP$38,C$67,FALSE)","v":0},{"$f":"VLOOKUP($A78,'Mat of App'!$B$7:$AP$38,D$67,FALSE)","v":0},{"$f":"VLOOKUP($A78,'Mat of App'!$B$7:$AP$38,E$67,FALSE)","v":0},{"$f":"VLOOKUP($A78,'Mat of App'!$B$7:$AP$38,F$67,FALSE)","v":0},{"$f":"VLOOKUP($A78,'Mat of App'!$B$7:$AP$38,G$67,FALSE)","v":0},{"$f":"VLOOKUP($A78,'Mat of App'!$B$7:$AP$38,H$67,FALSE)","v":1},{"$f":"VLOOKUP($A78,'Mat of App'!$B$7:$AP$38,I$67,FALSE)","v":0},""]
["LV Generation Intermittent",{"$f":"VLOOKUP($A79,'Mat of App'!$B$7:$AP$38,B$67,FALSE)","v":0},{"$f":"VLOOKUP($A79,'Mat of App'!$B$7:$AP$38,C$67,FALSE)","v":0},{"$f":"VLOOKUP($A79,'Mat of App'!$B$7:$AP$38,D$67,FALSE)","v":0},{"$f":"VLOOKUP($A79,'Mat of App'!$B$7:$AP$38,E$67,FALSE)","v":0},{"$f":"VLOOKUP($A79,'Mat of App'!$B$7:$AP$38,F$67,FALSE)","v":0},{"$f":"VLOOKUP($A79,'Mat of App'!$B$7:$AP$38,G$67,FALSE)","v":0},{"$f":"VLOOKUP($A79,'Mat of App'!$B$7:$AP$38,H$67,FALSE)","v":1},{"$f":"VLOOKUP($A79,'Mat of App'!$B$7:$AP$38,I$67,FALSE)","v":0},""]
["LV Generation Non-Intermittent",{"$f":"VLOOKUP($A80,'Mat of App'!$B$7:$AP$38,B$67,FALSE)","v":0},{"$f":"VLOOKUP($A80,'Mat of App'!$B$7:$AP$38,C$67,FALSE)","v":0},{"$f":"VLOOKUP($A80,'Mat of App'!$B$7:$AP$38,D$67,FALSE)","v":0},{"$f":"VLOOKUP($A80,'Mat of App'!$B$7:$AP$38,E$67,FALSE)","v":0},{"$f":"VLOOKUP($A80,'Mat of App'!$B$7:$AP$38,F$67,FALSE)","v":0},{"$f":"VLOOKUP($A80,'Mat of App'!$B$7:$AP$38,G$67,FALSE)","v":0},{"$f":"VLOOKUP($A80,'Mat of App'!$B$7:$AP$38,H$67,FALSE)","v":0},{"$f":"VLOOKUP($A80,'Mat of App'!$B$7:$AP$38,I$67,FALSE)","v":0},""]
["LV Sub Generation Intermittent",{"$f":"VLOOKUP($A81,'Mat of App'!$B$7:$AP$38,B$67,FALSE)","v":0},{"$f":"VLOOKUP($A81,'Mat of App'!$B$7:$AP$38,C$67,FALSE)","v":0},{"$f":"VLOOKUP($A81,'Mat of App'!$B$7:$AP$38,D$67,FALSE)","v":0},{"$f":"VLOOKUP($A81,'Mat of App'!$B$7:$AP$38,E$67,FALSE)","v":0},{"$f":"VLOOKUP($A81,'Mat of App'!$B$7:$AP$38,F$67,FALSE)","v":0},{"$f":"VLOOKUP($A81,'Mat of App'!$B$7:$AP$38,G$67,FALSE)","v":0},{"$f":"VLOOKUP($A81,'Mat of App'!$B$7:$AP$38,H$67,FALSE)","v":0},{"$f":"VLOOKUP($A81,'Mat of App'!$B$7:$AP$38,I$67,FALSE)","v":0},""]
["LV Sub Generation Non-Intermittent",{"$f":"VLOOKUP($A82,'Mat of App'!$B$7:$AP$38,B$67,FALSE)","v":0},{"$f":"VLOOKUP($A82,'Mat of App'!$B$7:$AP$38,C$67,FALSE)","v":0},{"$f":"VLOOKUP($A82,'Mat of App'!$B$7:$AP$38,D$67,FALSE)","v":0},{"$f":"VLOOKUP($A82,'Mat of App'!$B$7:$AP$38,E$67,FALSE)","v":0},{"$f":"VLOOKUP($A82,'Mat of App'!$B$7:$AP$38,F$67,FALSE)","v":0},{"$f":"VLOOKUP($A82,'Mat of App'!$B$7:$AP$38,G$67,FALSE)","v":0},{"$f":"VLOOKUP($A82,'Mat of App'!$B$7:$AP$38,H$67,FALSE)","v":0},{"$f":"VLOOKUP($A82,'Mat of App'!$B$7:$AP$38,I$67,FALSE)","v":0},""]
[]
["1026. Matrix of applicability of LV service models to unmetered tariffs"]
[]
["Source: service models"]
["Proportion of service model involved in connecting load of 1 MWh/year"]
[null,"LV service model 1","LV service model 2","LV service model 3","LV service model 4","LV service model 5","LV service model 6","LV service model 7","LV service model 8"]
["All LV unmetered tariffs",{"$f":"VLOOKUP($A89,'Mat of App'!$B$7:$AP$38,B$67,FALSE)","v":0},{"$f":"VLOOKUP($A89,'Mat of App'!$B$7:$AP$38,C$67,FALSE)","v":0},{"$f":"VLOOKUP($A89,'Mat of App'!$B$7:$AP$38,D$67,FALSE)","v":0},{"$f":"VLOOKUP($A89,'Mat of App'!$B$7:$AP$38,E$67,FALSE)","v":0},{"$f":"VLOOKUP($A89,'Mat of App'!$B$7:$AP$38,F$67,FALSE)","v":0},{"$f":"VLOOKUP($A89,'Mat of App'!$B$7:$AP$38,G$67,FALSE)","v":0},{"$f":"VLOOKUP($A89,'Mat of App'!$B$7:$AP$38,H$67,FALSE)","v":0},{"$f":"VLOOKUP($A89,'Mat of App'!$B$7:$AP$38,I$67,FALSE)","v":0.48799999999999999},""]
[]
["1028. Matrix of applicability of HV service models to tariffs with fixed charges"]
[null,17,{"$f":"B92+1","v":18},{"$f":"C92+1","v":19},20,21]
[null,"HV service model 1","HV service model 2","HV service model 3","HV service model 4","HV service model 5"]
["HV Medium Non-Domestic",{"$f":"VLOOKUP($A94,'Mat of App'!$B$7:$AP$38,B$92,FALSE)","v":1},{"$f":"VLOOKUP($A94,'Mat of App'!$B$7:$AP$38,C$92,FALSE)","v":0},{"$f":"VLOOKUP($A94,'Mat of App'!$B$7:$AP$38,D$92,FALSE)","v":0},{"$f":"VLOOKUP($A94,'Mat of App'!$B$7:$AP$38,E$92,FALSE)","v":0},{"$f":"VLOOKUP($A94,'Mat of App'!$B$7:$AP$38,F$92,FALSE)","v":0},""]
["HV HH Metered",{"$f":"VLOOKUP($A95,'Mat of App'!$B$7:$AP$38,B$92,FALSE)","v":1},{"$f":"VLOOKUP($A95,'Mat of App'!$B$7:$AP$38,C$92,FALSE)","v":0},{"$f":"VLOOKUP($A95,'Mat of App'!$B$7:$AP$38,D$92,FALSE)","v":0},{"$f":"VLOOKUP($A95,'Mat of App'!$B$7:$AP$38,E$92,FALSE)","v":0},{"$f":"VLOOKUP($A95,'Mat of App'!$B$7:$AP$38,F$92,FALSE)","v":0},""]
["HV Sub HH Metered",{"$f":"VLOOKUP($A96,'Mat of App'!$B$7:$AP$38,B$92,FALSE)","v":1},{"$f":"VLOOKUP($A96,'Mat of App'!$B$7:$AP$38,C$92,FALSE)","v":0},{"$f":"VLOOKUP($A96,'Mat of App'!$B$7:$AP$38,D$92,FALSE)","v":0},{"$f":"VLOOKUP($A96,'Mat of App'!$B$7:$AP$38,E$92,FALSE)","v":0},{"$f":"VLOOKUP($A96,'Mat of App'!$B$7:$AP$38,F$92,FALSE)","v":0},""]
["HV Generation Intermittent",{"$f":"VLOOKUP($A97,'Mat of App'!$B$7:$AP$38,B$92,FALSE)","v":0},{"$f":"VLOOKUP($A97,'Mat of App'!$B$7:$AP$38,C$92,FALSE)","v":1},{"$f":"VLOOKUP($A97,'Mat of App'!$B$7:$AP$38,D$92,FALSE)","v":0},{"$f":"VLOOKUP($A97,'Mat of App'!$B$7:$AP$38,E$92,FALSE)","v":0},{"$f":"VLOOKUP($A97,'Mat of App'!$B$7:$AP$38,F$92,FALSE)","v":0},""]
["HV Generation Non-Intermittent",{"$f":"VLOOKUP($A98,'Mat of App'!$B$7:$AP$38,B$92,FALSE)","v":0},{"$f":"VLOOKUP($A98,'Mat of App'!$B$7:$AP$38,C$92,FALSE)","v":1},{"$f":"VLOOKUP($A98,'Mat of App'!$B$7:$AP$38,D$92,FALSE)","v":0},{"$f":"VLOOKUP($A98,'Mat of App'!$B$7:$AP$38,E$92,FALSE)","v":0},{"$f":"VLOOKUP($A98,'Mat of App'!$B$7:$AP$38,F$92,FALSE)","v":0},""]
["HV Sub Generation Non-Intermittent",{"$f":"VLOOKUP($A99,'Mat of App'!$B$7:$AP$38,B$92,FALSE)","v":0},{"$f":"VLOOKUP($A99,'Mat of App'!$B$7:$AP$38,C$92,FALSE)","v":1},{"$f":"VLOOKUP($A99,'Mat of App'!$B$7:$AP$38,D$92,FALSE)","v":0},{"$f":"VLOOKUP($A99,'Mat of App'!$B$7:$AP$38,E$92,FALSE)","v":0},{"$f":"VLOOKUP($A99,'Mat of App'!$B$7:$AP$38,F$92,FALSE)","v":0},""]
["HV Sub Generation Intermittent",{"$f":"VLOOKUP($A100,'Mat of App'!$B$7:$AP$38,B$92,FALSE)","v":0},{"$f":"VLOOKUP($A100,'Mat of App'!$B$7:$AP$38,C$92,FALSE)","v":1},{"$f":"VLOOKUP($A100,'Mat of App'!$B$7:$AP$38,D$92,FALSE)","v":0},{"$f":"VLOOKUP($A100,'Mat of App'!$B$7:$AP$38,E$92,FALSE)","v":0},{"$f":"VLOOKUP($A100,'Mat of App'!$B$7:$AP$38,F$92,FALSE)","v":0},""]
[]
["1032. Loss adjustment factors to transmission"]
[""]
["Source: losses model or loss adjustment factors at time of system peak."]
[null,"132kV","132kV/EHV","EHV","EHV/HV","HV","HV/LV","LV circuits"]
["Loss adjustment factor",{"$f":"VLOOKUP(Vlookup!B106,Forcast_Data,8,FALSE)","v":1.002},{"$f":"VLOOKUP(Vlookup!C106,Forcast_Data,8,FALSE)","v":1.0029999999999999},{"$f":"VLOOKUP(Vlookup!D106,Forcast_Data,8,FALSE)","v":1.006},{"$f":"VLOOKUP(Vlookup!E106,Forcast_Data,8,FALSE)","v":1.0269999999999999},{"$f":"VLOOKUP(Vlookup!F106,Forcast_Data,8,FALSE)","v":1.044},{"$f":"VLOOKUP(Vlookup!G106,Forcast_Data,8,FALSE)","v":1.0509999999999999},{"$f":"VLOOKUP(Vlookup!H106,Forcast_Data,8,FALSE)","v":1.077},""]
[]
["1037. Embedded network (LDNO) discounts"]
[""]
["Source: separate price control disaggregation model."]
[null,"No discount","LDNO LV: LV user","LDNO HV: LV user","LDNO HV: LV sub user","LDNO HV: HV user"]
["LDNO discount",null,{"$f":"VLOOKUP(Vlookup!C112,Forcast_Data,8,FALSE)","v":0.30883183558962979},{"$f":"VLOOKUP(Vlookup!D112,Forcast_Data,8,FALSE)","v":0.5007791580188965},{"$f":"VLOOKUP(Vlookup!E112,Forcast_Data,8,FALSE)","v":0.2542804505721758},{"$f":"VLOOKUP(Vlookup!F112,Forcast_Data,8,FALSE)","v":0.15228597408951491},""]
[]
["1041. Load profile data for demand users"]
[]
["Source: load data analysis."]
[null,"Coincidence factor","Load factor"]
["Domestic Unrestricted",{"$f":"VLOOKUP(Vlookup!B118,Forcast_Data,8,FALSE)","v":0.91725107523525962},{"$f":"VLOOKUP(Vlookup!C118,Forcast_Data,8,FALSE)","v":0.41143481343309968},""]
["Domestic Two Rate",{"$f":"VLOOKUP(Vlookup!B119,Forcast_Data,8,FALSE)","v":0.40080181765565559},{"$f":"VLOOKUP(Vlookup!C119,Forcast_Data,8,FALSE)","v":0.25560520593582642},""]
["Domestic Off Peak (related MPAN)",null,{"$f":"VLOOKUP(Vlookup!C120,Forcast_Data,8,FALSE)","v":0.15590780773679511},""]
["Small Non Domestic Unrestricted",{"$f":"VLOOKUP(Vlookup!B121,Forcast_Data,8,FALSE)","v":0.62008068887977208},{"$f":"VLOOKUP(Vlookup!C121,Forcast_Data,8,FALSE)","v":0.35245420345734263},""]
["Small Non Domestic Two Rate",{"$f":"VLOOKUP(Vlookup!B122,Forcast_Data,8,FALSE)","v":0.6187554380512692},{"$f":"VLOOKUP(Vlookup!C122,Forcast_Data,8,FALSE)","v":0.43068381316121135},""]
["Small Non Domestic Off Peak (related MPAN)",null,{"$f":"VLOOKUP(Vlookup!C123,Forcast_Data,8,FALSE)","v":0.18686847121079117},""]
["LV Medium Non-Domestic",{"$f":"VLOOKUP(Vlookup!B124,Forcast_Data,8,FALSE)","v":0.80480275736975215},{"$f":"VLOOKUP(Vlookup!C124,Forcast_Data,8,FALSE)","v":0.49209979939144438},""]
["LV Sub Medium Non-Domestic",{"$f":"VLOOKUP(Vlookup!B125,Forcast_Data,8,FALSE)","v":0.80480275736975215},{"$f":"VLOOKUP(Vlookup!C125,Forcast_Data,8,FALSE)","v":0.49209979939144438},""]
["HV Medium Non-Domestic",{"$f":"VLOOKUP(Vlookup!B126,Forcast_Data,8,FALSE)","v":0.61081642184024709},{"$f":"VLOOKUP(Vlookup!C126,Forcast_Data,8,FALSE)","v":0.42201413323580622},""]
["LV HH Metered",{"$f":"VLOOKUP(Vlookup!B127,Forcast_Data,8,FALSE)","v":0.76195140420011676},{"$f":"VLOOKUP(Vlookup!C127,Forcast_Data,8,FALSE)","v":0.51926429246950712},""]
["LV Sub HH Metered",{"$f":"VLOOKUP(Vlookup!B128,Forcast_Data,8,FALSE)","v":0.76195140420011676},{"$f":"VLOOKUP(Vlookup!C128,Forcast_Data,8,FALSE)","v":0.51926429246950712},""]
["HV HH Metered",{"$f":"VLOOKUP(Vlookup!B129,Forcast_Data,8,FALSE)","v":0.77259445254116732},{"$f":"VLOOKUP(Vlookup!C129,Forcast_Data,8,FALSE)","v":0.64378616647520781},""]
["HV Sub HH Metered",{"$f":"VLOOKUP(Vlookup!B130,Forcast_Data,8,FALSE)","v":0.77259445254116732},{"$f":"VLOOKUP(Vlookup!C130,Forcast_Data,8,FALSE)","v":0.64378616647520781},""]
["NHH UMS category A",{"$f":"VLOOKUP(Vlookup!B131,Forcast_Data,8,FALSE)","v":1},{"$f":"VLOOKUP(Vlookup!C131,Forcast_Data,8,FALSE)","v":1},""]
["NHH UMS category B",{"$f":"VLOOKUP(Vlookup!B132,Forcast_Data,8,FALSE)","v":1},{"$f":"VLOOKUP(Vlookup!C132,Forcast_Data,8,FALSE)","v":0.47368294520547877}]
["NHH UMS category C",{"$f":"VLOOKUP(Vlookup!B133,Forcast_Data,8,FALSE)","v":1},{"$f":"VLOOKUP(Vlookup!C133,Forcast_Data,8,FALSE)","v":0.25800000000000001}]
["NHH UMS category D",{"$f":"VLOOKUP(Vlookup!B134,Forcast_Data,8,FALSE)","v":6.4133333333333334E-2},{"$f":"VLOOKUP(Vlookup!C134,Forcast_Data,8,FALSE)","v":0.55300000000000005}]
["LV UMS (Pseudo HH Metered)",{"$f":"VLOOKUP(Vlookup!B135,Forcast_Data,8,FALSE)","v":0.99387558706051526},{"$f":"VLOOKUP(Vlookup!C135,Forcast_Data,8,FALSE)","v":0.48773957041156946},""]
[]
["1053. Volume forecasts for the charging year"]
["",22,23,24,25,26,27]
["Source: forecast."]
["Please include MPAN counts for tariffs with no fixed charge (e.g. off-peak tariffs),"]
["but exclude MPANs on tariffs with a fixed charge that are not subject to a fixed charge due to a site grouping arrangement."]
[null,"Rate 1 units (MWh)","Rate 2 units (MWh)","Rate 3 units (MWh)","MPANs","Import capacity (kVA)","Reactive power units (MVArh)"]
["> Domestic Unrestricted"]
["Domestic Unrestricted",{"$f":"VLOOKUP(Vlookup!B144,Volume_Forecast_Data,B$138,FALSE)","v":6974754.7788759731},null,null,{"$f":"VLOOKUP(Vlookup!E144,Volume_Forecast_Data,E$138,FALSE)","v":1980961.793302}]
["LDNO LV: Domestic Unrestricted",{"$f":"VLOOKUP(Vlookup!B145,Volume_Forecast_Data,B$138,FALSE)","v":6680.6134072920004},null,null,{"$f":"VLOOKUP(Vlookup!E145,Volume_Forecast_Data,E$138,FALSE)","v":4383.9307550000003}]
["LDNO HV: Domestic Unrestricted",{"$f":"VLOOKUP(Vlookup!B146,Volume_Forecast_Data,B$138,FALSE)","v":20834.963594774999},null,null,{"$f":"VLOOKUP(Vlookup!E146,Volume_Forecast_Data,E$138,FALSE)","v":10225.737425000001}]
["> Domestic Two Rate"]
["Domestic Two Rate",{"$f":"VLOOKUP(Vlookup!B148,Volume_Forecast_Data,B$138,FALSE)","v":1000185.509529908},{"$f":"VLOOKUP(Vlookup!C148,Volume_Forecast_Data,C$138,FALSE)","v":747989.1797961765},null,{"$f":"VLOOKUP(Vlookup!E148,Volume_Forecast_Data,E$138,FALSE)","v":324151.24001799995}]
["LDNO LV: Domestic Two Rate",{"$f":"VLOOKUP(Vlookup!B149,Volume_Forecast_Data,B$138,FALSE)","v":260.1129044249999},{"$f":"VLOOKUP(Vlookup!C149,Volume_Forecast_Data,C$138,FALSE)","v":152.26125967799999},null,{"$f":"VLOOKUP(Vlookup!E149,Volume_Forecast_Data,E$138,FALSE)","v":172.06026699999998}]
["LDNO HV: Domestic Two Rate",{"$f":"VLOOKUP(Vlookup!B150,Volume_Forecast_Data,B$138,FALSE)","v":375.38054442899994},{"$f":"VLOOKUP(Vlookup!C150,Volume_Forecast_Data,C$138,FALSE)","v":347.80076565299993},null,{"$f":"VLOOKUP(Vlookup!E150,Volume_Forecast_Data,E$138,FALSE)","v":273.02976499999994}]
["> Domestic Off Peak (related MPAN)"]
["Domestic Off Peak (related MPAN)",{"$f":"VLOOKUP(Vlookup!B152,Volume_Forecast_Data,B$138,FALSE)","v":36658.891779243626},null,null,{"$f":"VLOOKUP(Vlookup!E152,Volume_Forecast_Data,E$138,FALSE)","v":0}]
["LDNO LV: Domestic Off Peak (related MPAN)",{"$f":"VLOOKUP(Vlookup!B153,Volume_Forecast_Data,B$138,FALSE)","v":0},null,null,{"$f":"VLOOKUP(Vlookup!E153,Volume_Forecast_Data,E$138,FALSE)","v":0}]
["LDNO HV: Domestic Off Peak (related MPAN)",{"$f":"VLOOKUP(Vlookup!B154,Volume_Forecast_Data,B$138,FALSE)","v":0},null,null,{"$f":"VLOOKUP(Vlookup!E154,Volume_Forecast_Data,E$138,FALSE)","v":0}]
["> Small Non Domestic Unrestricted"]
["Small Non Domestic Unrestricted",{"$f":"VLOOKUP(Vlookup!B156,Volume_Forecast_Data,B$138,FALSE)","v":1618134.4233722778},null,null,{"$f":"VLOOKUP(Vlookup!E156,Volume_Forecast_Data,E$138,FALSE)","v":136948.63922100002}]
["LDNO LV: Small Non Domestic Unrestricted",{"$f":"VLOOKUP(Vlookup!B157,Volume_Forecast_Data,B$138,FALSE)","v":637.52622525899994},null,null,{"$f":"VLOOKUP(Vlookup!E157,Volume_Forecast_Data,E$138,FALSE)","v":107.15130400000001}]
["LDNO HV: Small Non Domestic Unrestricted",{"$f":"VLOOKUP(Vlookup!B158,Volume_Forecast_Data,B$138,FALSE)","v":6223.1339238749997},null,null,{"$f":"VLOOKUP(Vlookup!E158,Volume_Forecast_Data,E$138,FALSE)","v":396.66588500000006}]
["> Small Non Domestic Two Rate"]
["Small Non Domestic Two Rate",{"$f":"VLOOKUP(Vlookup!B160,Volume_Forecast_Data,B$138,FALSE)","v":458514.296717391},{"$f":"VLOOKUP(Vlookup!C160,Volume_Forecast_Data,C$138,FALSE)","v":208311.28014422843},null,{"$f":"VLOOKUP(Vlookup!E160,Volume_Forecast_Data,E$138,FALSE)","v":33149.934674999997}]
["LDNO LV: Small Non Domestic Two Rate",{"$f":"VLOOKUP(Vlookup!B161,Volume_Forecast_Data,B$138,FALSE)","v":312.25677268499999},{"$f":"VLOOKUP(Vlookup!C161,Volume_Forecast_Data,C$138,FALSE)","v":91.91157277500001},null,{"$f":"VLOOKUP(Vlookup!E161,Volume_Forecast_Data,E$138,FALSE)","v":9.272708999999999}]
["LDNO HV: Small Non Domestic Two Rate",{"$f":"VLOOKUP(Vlookup!B162,Volume_Forecast_Data,B$138,FALSE)","v":1369.4935927860001},{"$f":"VLOOKUP(Vlookup!C162,Volume_Forecast_Data,C$138,FALSE)","v":352.9763405189999},null,{"$f":"VLOOKUP(Vlookup!E162,Volume_Forecast_Data,E$138,FALSE)","v":40.181739}]
["> Small Non Domestic Off Peak (related MPAN)"]
["Small Non Domestic Off Peak (related MPAN)",{"$f":"VLOOKUP(Vlookup!B164,Volume_Forecast_Data,B$138,FALSE)","v":6211.5289724419163},null,null,{"$f":"VLOOKUP(Vlookup!E164,Volume_Forecast_Data,E$138,FALSE)","v":0}]
["LDNO LV: Small Non Domestic Off Peak (related MPAN)",{"$f":"VLOOKUP(Vlookup!B165,Volume_Forecast_Data,B$138,FALSE)","v":0},null,null,{"$f":"VLOOKUP(Vlookup!E165,Volume_Forecast_Data,E$138,FALSE)","v":0}]
["LDNO HV: Small Non Domestic Off Peak (related MPAN)",{"$f":"VLOOKUP(Vlookup!B166,Volume_Forecast_Data,B$138,FALSE)","v":0},null,null,{"$f":"VLOOKUP(Vlookup!E166,Volume_Forecast_Data,E$138,FALSE)","v":0}]
["> LV Medium Non-Domestic"]
["LV Medium Non-Domestic",{"$f":"VLOOKUP(Vlookup!B168,Volume_Forecast_Data,B$138,FALSE)","v":1268304.2461652316},{"$f":"VLOOKUP(Vlookup!C168,Volume_Forecast_Data,C$138,FALSE)","v":306239.47766339261},null,{"$f":"VLOOKUP(Vlookup!E168,Volume_Forecast_Data,E$138,FALSE)","v":18303.297265000005}]
["LDNO LV: LV Medium Non-Domestic",{"$f":"VLOOKUP(Vlookup!B169,Volume_Forecast_Data,B$138,FALSE)","v":296.44866137700001},{"$f":"VLOOKUP(Vlookup!C169,Volume_Forecast_Data,C$138,FALSE)","v":100.317273012},null,{"$f":"VLOOKUP(Vlookup!E169,Volume_Forecast_Data,E$138,FALSE)","v":7.2121070000000005}]
["LDNO HV: LV Medium Non-Domestic",{"$f":"VLOOKUP(Vlookup!B170,Volume_Forecast_Data,B$138,FALSE)","v":6361.6004426700001},{"$f":"VLOOKUP(Vlookup!C170,Volume_Forecast_Data,C$138,FALSE)","v":1488.9839740379998},null,{"$f":"VLOOKUP(Vlookup!E170,Volume_Forecast_Data,E$138,FALSE)","v":63.878661999999998}]
["> LV Sub Medium Non-Domestic"]
["LV Sub Medium Non-Domestic",{"$f":"VLOOKUP(Vlookup!B172,Volume_Forecast_Data,B$138,FALSE)","v":90.859341494568241},{"$f":"VLOOKUP(Vlookup!C172,Volume_Forecast_Data,C$138,FALSE)","v":23.861956074479821},null,{"$f":"VLOOKUP(Vlookup!E172,Volume_Forecast_Data,E$138,FALSE)","v":3.0909030000000004}]
["> HV Medium Non-Domestic"]
["HV Medium Non-Domestic",{"$f":"VLOOKUP(Vlookup!B174,Volume_Forecast_Data,B$138,FALSE)","v":36149.026558880381},{"$f":"VLOOKUP(Vlookup!C174,Volume_Forecast_Data,C$138,FALSE)","v":9918.6092929024453},null,{"$f":"VLOOKUP(Vlookup!E174,Volume_Forecast_Data,E$138,FALSE)","v":281.27217300000001}]
["> LV HH Metered"]
["LV HH Metered",{"$f":"VLOOKUP(Vlookup!B176,Volume_Forecast_Data,B$138,FALSE)","v":202968.09376885122},{"$f":"VLOOKUP(Vlookup!C176,Volume_Forecast_Data,C$138,FALSE)","v":808354.82982472691},{"$f":"VLOOKUP(Vlookup!D176,Volume_Forecast_Data,D$138,FALSE)","v":832801.01942420832},{"$f":"VLOOKUP(Vlookup!E176,Volume_Forecast_Data,E$138,FALSE)","v":6200.3514180000002},{"$f":"VLOOKUP(Vlookup!F176,Volume_Forecast_Data,F$138,FALSE)","v":983000},{"$f":"VLOOKUP(Vlookup!G176,Volume_Forecast_Data,G$138,FALSE)","v":164557.5686}]
["LDNO LV: LV HH Metered",{"$f":"VLOOKUP(Vlookup!B177,Volume_Forecast_Data,B$138,FALSE)","v":7.2900504467999996},{"$f":"VLOOKUP(Vlookup!C177,Volume_Forecast_Data,C$138,FALSE)","v":52.928257971599976},{"$f":"VLOOKUP(Vlookup!D177,Volume_Forecast_Data,D$138,FALSE)","v":1.3657928724000001},{"$f":"VLOOKUP(Vlookup!E177,Volume_Forecast_Data,E$138,FALSE)","v":1.0303009999999999},{"$f":"VLOOKUP(Vlookup!F177,Volume_Forecast_Data,F$138,FALSE)","v":0},{"$f":"VLOOKUP(Vlookup!G177,Volume_Forecast_Data,G$138,FALSE)","v":0.81}]
["LDNO HV: LV HH Metered",{"$f":"VLOOKUP(Vlookup!B178,Volume_Forecast_Data,B$138,FALSE)","v":4167.1315687419001},{"$f":"VLOOKUP(Vlookup!C178,Volume_Forecast_Data,C$138,FALSE)","v":14155.930610494195},{"$f":"VLOOKUP(Vlookup!D178,Volume_Forecast_Data,D$138,FALSE)","v":15502.520392415099},{"$f":"VLOOKUP(Vlookup!E178,Volume_Forecast_Data,E$138,FALSE)","v":81.393779000000009},{"$f":"VLOOKUP(Vlookup!F178,Volume_Forecast_Data,F$138,FALSE)","v":19000},{"$f":"VLOOKUP(Vlookup!G178,Volume_Forecast_Data,G$138,FALSE)","v":1075.1704}]
["> LV Sub HH Metered"]
["LV Sub HH Metered",{"$f":"VLOOKUP(Vlookup!B180,Volume_Forecast_Data,B$138,FALSE)","v":2230.8238136913305},{"$f":"VLOOKUP(Vlookup!C180,Volume_Forecast_Data,C$138,FALSE)","v":8246.4247246629566},{"$f":"VLOOKUP(Vlookup!D180,Volume_Forecast_Data,D$138,FALSE)","v":10237.396360021379},{"$f":"VLOOKUP(Vlookup!E180,Volume_Forecast_Data,E$138,FALSE)","v":32.969631999999997},{"$f":"VLOOKUP(Vlookup!F180,Volume_Forecast_Data,F$138,FALSE)","v":17000},{"$f":"VLOOKUP(Vlookup!G180,Volume_Forecast_Data,G$138,FALSE)","v":603.10400000000004}]
["LDNO HV: LV Sub HH Metered",{"$f":"VLOOKUP(Vlookup!B181,Volume_Forecast_Data,B$138,FALSE)","v":181.49355468089996},{"$f":"VLOOKUP(Vlookup!C181,Volume_Forecast_Data,C$138,FALSE)","v":622.93166691030012},{"$f":"VLOOKUP(Vlookup!D181,Volume_Forecast_Data,D$138,FALSE)","v":1163.7888463674001},{"$f":"VLOOKUP(Vlookup!E181,Volume_Forecast_Data,E$138,FALSE)","v":1.0303009999999999},{"$f":"VLOOKUP(Vlookup!F181,Volume_Forecast_Data,F$138,FALSE)","v":0},{"$f":"VLOOKUP(Vlookup!G181,Volume_Forecast_Data,G$138,FALSE)","v":675.18520000000001}]
["> HV HH Metered"]
["HV HH Metered",{"$f":"VLOOKUP(Vlookup!B183,Volume_Forecast_Data,B$138,FALSE)","v":768975.77590505907},{"$f":"VLOOKUP(Vlookup!C183,Volume_Forecast_Data,C$138,FALSE)","v":3069589.3215466137},{"$f":"VLOOKUP(Vlookup!D183,Volume_Forecast_Data,D$138,FALSE)","v":3905295.3260092847},{"$f":"VLOOKUP(Vlookup!E183,Volume_Forecast_Data,E$138,FALSE)","v":3821.3864090000002},{"$f":"VLOOKUP(Vlookup!F183,Volume_Forecast_Data,F$138,FALSE)","v":2873000},{"$f":"VLOOKUP(Vlookup!G183,Volume_Forecast_Data,G$138,FALSE)","v":1033930.8586}]
["LDNO HV: HV HH Metered",{"$f":"VLOOKUP(Vlookup!B184,Volume_Forecast_Data,B$138,FALSE)","v":1605.9187817838003},{"$f":"VLOOKUP(Vlookup!C184,Volume_Forecast_Data,C$138,FALSE)","v":5092.1744649633001},{"$f":"VLOOKUP(Vlookup!D184,Volume_Forecast_Data,D$138,FALSE)","v":5392.1446325009993},{"$f":"VLOOKUP(Vlookup!E184,Volume_Forecast_Data,E$138,FALSE)","v":9.272708999999999},{"$f":"VLOOKUP(Vlookup!F184,Volume_Forecast_Data,F$138,FALSE)","v":6000},{"$f":"VLOOKUP(Vlookup!G184,Volume_Forecast_Data,G$138,FALSE)","v":832.24840000000006}]
["> HV Sub HH Metered"]
["HV Sub HH Metered",{"$f":"VLOOKUP(Vlookup!B186,Volume_Forecast_Data,B$138,FALSE)","v":0},{"$f":"VLOOKUP(Vlookup!C186,Volume_Forecast_Data,C$138,FALSE)","v":0},{"$f":"VLOOKUP(Vlookup!D186,Volume_Forecast_Data,D$138,FALSE)","v":0},{"$f":"VLOOKUP(Vlookup!E186,Volume_Forecast_Data,E$138,FALSE)","v":0},{"$f":"VLOOKUP(Vlookup!F186,Volume_Forecast_Data,F$138,FALSE)","v":0},{"$f":"VLOOKUP(Vlookup!G186,Volume_Forecast_Data,G$138,FALSE)","v":0}]
["> NHH UMS category A"]
["NHH UMS category A",{"$f":"VLOOKUP(Vlookup!B188,Volume_Forecast_Data,B$138,FALSE)","v":62325.364270672391},null,null,{"$f":"VLOOKUP(Vlookup!E188,Volume_Forecast_Data,E$138,FALSE)","v":0}]
["LDNO LV: NHH UMS category A",{"$f":"VLOOKUP(Vlookup!B189,Volume_Forecast_Data,B$138,FALSE)","v":39.612298872729802},null,null,{"$f":"VLOOKUP(Vlookup!E189,Volume_Forecast_Data,E$138,FALSE)","v":0}]
["LDNO HV: NHH UMS category A",{"$f":"VLOOKUP(Vlookup!B190,Volume_Forecast_Data,B$138,FALSE)","v":181.11340826636552},null,null,{"$f":"VLOOKUP(Vlookup!E190,Volume_Forecast_Data,E$138,FALSE)","v":0}]
["> NHH UMS category B"]
["NHH UMS category B",{"$f":"VLOOKUP(Vlookup!B192,Volume_Forecast_Data,B$138,FALSE)","v":33016.622520403987},null,null,{"$f":"VLOOKUP(Vlookup!E192,Volume_Forecast_Data,E$138,FALSE)","v":0}]
["LDNO LV: NHH UMS category B",{"$f":"VLOOKUP(Vlookup!B193,Volume_Forecast_Data,B$138,FALSE)","v":20.984463297581858},null,null,{"$f":"VLOOKUP(Vlookup!E193,Volume_Forecast_Data,E$138,FALSE)","v":0}]
["LDNO HV: NHH UMS category B",{"$f":"VLOOKUP(Vlookup!B194,Volume_Forecast_Data,B$138,FALSE)","v":95.944132923876381},null,null,{"$f":"VLOOKUP(Vlookup!E194,Volume_Forecast_Data,E$138,FALSE)","v":0}]
["> NHH UMS category C"]
["NHH UMS category C",{"$f":"VLOOKUP(Vlookup!B196,Volume_Forecast_Data,B$138,FALSE)","v":752.85967357518518},null,null,{"$f":"VLOOKUP(Vlookup!E196,Volume_Forecast_Data,E$138,FALSE)","v":0}]
["LDNO LV: NHH UMS category C",{"$f":"VLOOKUP(Vlookup!B197,Volume_Forecast_Data,B$138,FALSE)","v":0.47849704125867759},null,null,{"$f":"VLOOKUP(Vlookup!E197,Volume_Forecast_Data,E$138,FALSE)","v":0}]
["LDNO HV: NHH UMS category C",{"$f":"VLOOKUP(Vlookup!B198,Volume_Forecast_Data,B$138,FALSE)","v":2.1877606817561275},null,null,{"$f":"VLOOKUP(Vlookup!E198,Volume_Forecast_Data,E$138,FALSE)","v":0}]
["> NHH UMS category D"]
["NHH UMS category D",{"$f":"VLOOKUP(Vlookup!B200,Volume_Forecast_Data,B$138,FALSE)","v":5352.7782712608905},null,null,{"$f":"VLOOKUP(Vlookup!E200,Volume_Forecast_Data,E$138,FALSE)","v":0}]
["LDNO LV: NHH UMS category D",{"$f":"VLOOKUP(Vlookup!B201,Volume_Forecast_Data,B$138,FALSE)","v":3.4020796374296567},null,null,{"$f":"VLOOKUP(Vlookup!E201,Volume_Forecast_Data,E$138,FALSE)","v":0}]
["LDNO HV: NHH UMS category D",{"$f":"VLOOKUP(Vlookup!B202,Volume_Forecast_Data,B$138,FALSE)","v":15.554821504001866},null,null,{"$f":"VLOOKUP(Vlookup!E202,Volume_Forecast_Data,E$138,FALSE)","v":0}]
["> LV UMS (Pseudo HH Metered)"]
["LV UMS (Pseudo HH Metered)",{"$f":"VLOOKUP(Vlookup!B204,Volume_Forecast_Data,B$138,FALSE)","v":11618.003307942427},{"$f":"VLOOKUP(Vlookup!C204,Volume_Forecast_Data,C$138,FALSE)","v":26784.035658611963},{"$f":"VLOOKUP(Vlookup!D204,Volume_Forecast_Data,D$138,FALSE)","v":201975.33725227023},{"$f":"VLOOKUP(Vlookup!E204,Volume_Forecast_Data,E$138,FALSE)","v":0}]
["LDNO LV: LV UMS (Pseudo HH Metered)",{"$f":"VLOOKUP(Vlookup!B205,Volume_Forecast_Data,B$138,FALSE)","v":0},{"$f":"VLOOKUP(Vlookup!C205,Volume_Forecast_Data,C$138,FALSE)","v":0},{"$f":"VLOOKUP(Vlookup!D205,Volume_Forecast_Data,D$138,FALSE)","v":0},{"$f":"VLOOKUP(Vlookup!E205,Volume_Forecast_Data,E$138,FALSE)","v":0}]
["LDNO HV: LV UMS (Pseudo HH Metered)",{"$f":"VLOOKUP(Vlookup!B206,Volume_Forecast_Data,B$138,FALSE)","v":0},{"$f":"VLOOKUP(Vlookup!C206,Volume_Forecast_Data,C$138,FALSE)","v":0},{"$f":"VLOOKUP(Vlookup!D206,Volume_Forecast_Data,D$138,FALSE)","v":0},{"$f":"VLOOKUP(Vlookup!E206,Volume_Forecast_Data,E$138,FALSE)","v":0}]
["> LV Generation NHH"]
["LV Generation NHH",{"$f":"VLOOKUP(Vlookup!B208,Volume_Forecast_Data,B$138,FALSE)","v":431.43277706099997},null,null,{"$f":"VLOOKUP(Vlookup!E208,Volume_Forecast_Data,E$138,FALSE)","v":98.908896000000013}]
["LDNO LV: LV Generation NHH",{"$f":"VLOOKUP(Vlookup!B209,Volume_Forecast_Data,B$138,FALSE)","v":0},null,null,{"$f":"VLOOKUP(Vlookup!E209,Volume_Forecast_Data,E$138,FALSE)","v":0}]
["LDNO HV: LV Generation NHH",{"$f":"VLOOKUP(Vlookup!B210,Volume_Forecast_Data,B$138,FALSE)","v":0},null,null,{"$f":"VLOOKUP(Vlookup!E210,Volume_Forecast_Data,E$138,FALSE)","v":0}]
["> LV Sub Generation NHH"]
["LV Sub Generation NHH",{"$f":"VLOOKUP(Vlookup!B212,Volume_Forecast_Data,B$138,FALSE)","v":0},null,null,{"$f":"VLOOKUP(Vlookup!E212,Volume_Forecast_Data,E$138,FALSE)","v":0}]
["LDNO HV: LV Sub Generation NHH",{"$f":"VLOOKUP(Vlookup!B213,Volume_Forecast_Data,B$138,FALSE)","v":0},null,null,{"$f":"VLOOKUP(Vlookup!E213,Volume_Forecast_Data,E$138,FALSE)","v":0}]
["> LV Generation Intermittent"]
["LV Generation Intermittent",{"$f":"VLOOKUP(Vlookup!B215,Volume_Forecast_Data,B$138,FALSE)","v":45.288705825000008},null,null,{"$f":"VLOOKUP(Vlookup!E215,Volume_Forecast_Data,E$138,FALSE)","v":20.606020000000001},null,{"$f":"VLOOKUP(Vlookup!G215,Volume_Forecast_Data,G$138,FALSE)","v":16.962}]
["LDNO LV: LV Generation Intermittent",{"$f":"VLOOKUP(Vlookup!B216,Volume_Forecast_Data,B$138,FALSE)","v":0},null,null,{"$f":"VLOOKUP(Vlookup!E216,Volume_Forecast_Data,E$138,FALSE)","v":0},null,{"$f":"VLOOKUP(Vlookup!G216,Volume_Forecast_Data,G$138,FALSE)","v":0}]
["LDNO HV: LV Generation Intermittent",{"$f":"VLOOKUP(Vlookup!B217,Volume_Forecast_Data,B$138,FALSE)","v":0},null,null,{"$f":"VLOOKUP(Vlookup!E217,Volume_Forecast_Data,E$138,FALSE)","v":0},null,{"$f":"VLOOKUP(Vlookup!G217,Volume_Forecast_Data,G$138,FALSE)","v":0}]
["> LV Generation Non-Intermittent"]
["LV Generation Non-Intermittent",{"$f":"VLOOKUP(Vlookup!B219,Volume_Forecast_Data,B$138,FALSE)","v":224.44277258699995},{"$f":"VLOOKUP(Vlookup!C219,Volume_Forecast_Data,C$138,FALSE)","v":851.67897695099987},{"$f":"VLOOKUP(Vlookup!D219,Volume_Forecast_Data,D$138,FALSE)","v":1400.5916757359998},{"$f":"VLOOKUP(Vlookup!E219,Volume_Forecast_Data,E$138,FALSE)","v":58.727156999999998},null,{"$f":"VLOOKUP(Vlookup!G219,Volume_Forecast_Data,G$138,FALSE)","v":85.26939999999999}]
["LDNO LV: LV Generation Non-Intermittent",{"$f":"VLOOKUP(Vlookup!B220,Volume_Forecast_Data,B$138,FALSE)","v":0},{"$f":"VLOOKUP(Vlookup!C220,Volume_Forecast_Data,C$138,FALSE)","v":0},{"$f":"VLOOKUP(Vlookup!D220,Volume_Forecast_Data,D$138,FALSE)","v":0},{"$f":"VLOOKUP(Vlookup!E220,Volume_Forecast_Data,E$138,FALSE)","v":0},null,{"$f":"VLOOKUP(Vlookup!G220,Volume_Forecast_Data,G$138,FALSE)","v":0}]
["LDNO HV: LV Generation Non-Intermittent",{"$f":"VLOOKUP(Vlookup!B221,Volume_Forecast_Data,B$138,FALSE)","v":0},{"$f":"VLOOKUP(Vlookup!C221,Volume_Forecast_Data,C$138,FALSE)","v":0},{"$f":"VLOOKUP(Vlookup!D221,Volume_Forecast_Data,D$138,FALSE)","v":0},{"$f":"VLOOKUP(Vlookup!E221,Volume_Forecast_Data,E$138,FALSE)","v":0},null,{"$f":"VLOOKUP(Vlookup!G221,Volume_Forecast_Data,G$138,FALSE)","v":0}]
["> LV Sub Generation Intermittent"]
["LV Sub Generation Intermittent",{"$f":"VLOOKUP(Vlookup!B223,Volume_Forecast_Data,B$138,FALSE)","v":0},null,null,{"$f":"VLOOKUP(Vlookup!E223,Volume_Forecast_Data,E$138,FALSE)","v":0},null,{"$f":"VLOOKUP(Vlookup!G223,Volume_Forecast_Data,G$138,FALSE)","v":0}]
["LDNO HV: LV Sub Generation Intermittent",{"$f":"VLOOKUP(Vlookup!B224,Volume_Forecast_Data,B$138,FALSE)","v":0},null,null,{"$f":"VLOOKUP(Vlookup!E224,Volume_Forecast_Data,E$138,FALSE)","v":0},null,{"$f":"VLOOKUP(Vlookup!G224,Volume_Forecast_Data,G$138,FALSE)","v":0}]
["> LV Sub Generation Non-Intermittent"]
["LV Sub Generation Non-Intermittent",{"$f":"VLOOKUP(Vlookup!B226,Volume_Forecast_Data,B$138,FALSE)","v":0},{"$f":"VLOOKUP(Vlookup!C226,Volume_Forecast_Data,C$138,FALSE)","v":0},{"$f":"VLOOKUP(Vlookup!D226,Volume_Forecast_Data,D$138,FALSE)","v":0.30273328799999999},{"$f":"VLOOKUP(Vlookup!E226,Volume_Forecast_Data,E$138,FALSE)","v":0},null,{"$f":"VLOOKUP(Vlookup!G226,Volume_Forecast_Data,G$138,FALSE)","v":3.4596}]
["LDNO HV: LV Sub Generation Non-Intermittent",{"$f":"VLOOKUP(Vlookup!B227,Volume_Forecast_Data,B$138,FALSE)","v":0},{"$f":"VLOOKUP(Vlookup!C227,Volume_Forecast_Data,C$138,FALSE)","v":0},{"$f":"VLOOKUP(Vlookup!D227,Volume_Forecast_Data,D$138,FALSE)","v":0},{"$f":"VLOOKUP(Vlookup!E227,Volume_Forecast_Data,E$138,FALSE)","v":0},null,{"$f":"VLOOKUP(Vlookup!G227,Volume_Forecast_Data,G$138,FALSE)","v":0}]
["> HV Generation Intermittent"]
["HV Generation Intermittent",{"$f":"VLOOKUP(Vlookup!B229,Volume_Forecast_Data,B$138,FALSE)","v":958.40507485799992},null,null,{"$f":"VLOOKUP(Vlookup!E229,Volume_Forecast_Data,E$138,FALSE)","v":4.1212039999999996},null,{"$f":"VLOOKUP(Vlookup!G229,Volume_Forecast_Data,G$138,FALSE)","v":376.0514}]
["LDNO HV: HV Generation Intermittent",{"$f":"VLOOKUP(Vlookup!B230,Volume_Forecast_Data,B$138,FALSE)","v":0},null,null,{"$f":"VLOOKUP(Vlookup!E230,Volume_Forecast_Data,E$138,FALSE)","v":0},null,{"$f":"VLOOKUP(Vlookup!G230,Volume_Forecast_Data,G$138,FALSE)","v":0}]
["> HV Generation Non-Intermittent"]
["HV Generation Non-Intermittent",{"$f":"VLOOKUP(Vlookup!B232,Volume_Forecast_Data,B$138,FALSE)","v":38199.603330800994},{"$f":"VLOOKUP(Vlookup!C232,Volume_Forecast_Data,C$138,FALSE)","v":129236.99298414298},{"$f":"VLOOKUP(Vlookup!D232,Volume_Forecast_Data,D$138,FALSE)","v":254107.37945785502},{"$f":"VLOOKUP(Vlookup!E232,Volume_Forecast_Data,E$138,FALSE)","v":83.454380999999998},null,{"$f":"VLOOKUP(Vlookup!G232,Volume_Forecast_Data,G$138,FALSE)","v":4526.9914000000008}]
["LDNO HV: HV Generation Non-Intermittent",{"$f":"VLOOKUP(Vlookup!B233,Volume_Forecast_Data,B$138,FALSE)","v":0},{"$f":"VLOOKUP(Vlookup!C233,Volume_Forecast_Data,C$138,FALSE)","v":0},{"$f":"VLOOKUP(Vlookup!D233,Volume_Forecast_Data,D$138,FALSE)","v":0},{"$f":"VLOOKUP(Vlookup!E233,Volume_Forecast_Data,E$138,FALSE)","v":0},null,{"$f":"VLOOKUP(Vlookup!G233,Volume_Forecast_Data,G$138,FALSE)","v":0}]
["> HV Sub Generation Non-Intermittent"]
["HV Sub Generation Non-Intermittent",{"$f":"VLOOKUP(Vlookup!B235,Volume_Forecast_Data,B$138,FALSE)","v":0},{"$f":"VLOOKUP(Vlookup!C235,Volume_Forecast_Data,C$138,FALSE)","v":0},{"$f":"VLOOKUP(Vlookup!D235,Volume_Forecast_Data,D$138,FALSE)","v":0},{"$f":"VLOOKUP(Vlookup!E235,Volume_Forecast_Data,E$138,FALSE)","v":0},null,{"$f":"VLOOKUP(Vlookup!G235,Volume_Forecast_Data,G$138,FALSE)","v":0}]
["> HV Sub Generation Intermittent"]
["HV Sub Generation Intermittent",{"$f":"VLOOKUP(Vlookup!B237,Volume_Forecast_Data,B$138,FALSE)","v":0},null,null,{"$f":"VLOOKUP(Vlookup!E237,Volume_Forecast_Data,E$138,FALSE)","v":0},null,{"$f":"VLOOKUP(Vlookup!G237,Volume_Forecast_Data,G$138,FALSE)","v":0}]
[]
["1055. Transmission exit charges (£/year)"]
[""]
["Source: forecast."]
[null,"Transmission\nexit"]
["Transmission exit charges (£/year)",{"$f":"VLOOKUP(Vlookup!B243,Forcast_Data,8,FALSE)","v":13993476.554747714},""]
[]
["1059. Other expenditure"]
[""]
[null,"Direct cost (£/year)","Indirect cost (£/year)","Indirect cost proportion","Network rates (£/year)"]
["Other expenditure",{"$f":"VLOOKUP(Vlookup!B248,Forcast_Data,8,FALSE)","v":34254738.822635479},{"$f":"VLOOKUP(Vlookup!C248,Forcast_Data,8,FALSE)","v":141164334.72804376},{"$f":"VLOOKUP(Vlookup!D248,Forcast_Data,8,FALSE)","v":0.6},{"$f":"VLOOKUP(Vlookup!E248,Forcast_Data,8,FALSE)","v":28054097.546186883},""]
[]
["1060. Customer contributions under current connection charging policy"]
[]
["Source: analysis of expenditure data and/or survey of capital expenditure schemes."]
["Customer contribution percentages by network level of supply and by asset network level."]
["These proportions should reflect the current connection charging method, not necessarily the method that was in place when the connection was built."]
[null,"Assets\n132kV","Assets\n132kV/EHV","Assets\nEHV","Assets\nEHV/HV","Assets\n132kV/HV","Assets\nHV","Assets\nHV/LV","Assets\nLV circuits"]
["LV network",{"$f":"VLOOKUP(Vlookup!B256,Forcast_Data,8,FALSE)","v":0},{"$f":"VLOOKUP(Vlookup!C256,Forcast_Data,8,FALSE)","v":0},{"$f":"VLOOKUP(Vlookup!D256,Forcast_Data,8,FALSE)","v":0},{"$f":"VLOOKUP(Vlookup!E256,Forcast_Data,8,FALSE)","v":0},{"$f":"VLOOKUP(Vlookup!F256,Forcast_Data,8,FALSE)","v":0},{"$f":"VLOOKUP(Vlookup!G256,Forcast_Data,8,FALSE)","v":0.38684969697494365},{"$f":"VLOOKUP(Vlookup!H256,Forcast_Data,8,FALSE)","v":0.64124825573068889},{"$f":"VLOOKUP(Vlookup!I256,Forcast_Data,8,FALSE)","v":0.89564681448643413},""]
["LV substation",{"$f":"VLOOKUP(Vlookup!B257,Forcast_Data,8,FALSE)","v":0},{"$f":"VLOOKUP(Vlookup!C257,Forcast_Data,8,FALSE)","v":0},{"$f":"VLOOKUP(Vlookup!D257,Forcast_Data,8,FALSE)","v":0},{"$f":"VLOOKUP(Vlookup!E257,Forcast_Data,8,FALSE)","v":0},{"$f":"VLOOKUP(Vlookup!F257,Forcast_Data,8,FALSE)","v":0},{"$f":"VLOOKUP(Vlookup!G257,Forcast_Data,8,FALSE)","v":0.38684969697494365},{"$f":"VLOOKUP(Vlookup!H257,Forcast_Data,8,FALSE)","v":0.64124825573068889},null,""]
["HV network",{"$f":"VLOOKUP(Vlookup!B258,Forcast_Data,8,FALSE)","v":0},{"$f":"VLOOKUP(Vlookup!C258,Forcast_Data,8,FALSE)","v":0},{"$f":"VLOOKUP(Vlookup!D258,Forcast_Data,8,FALSE)","v":0},{"$f":"VLOOKUP(Vlookup!E258,Forcast_Data,8,FALSE)","v":0.25764106948138837},{"$f":"VLOOKUP(Vlookup!F258,Forcast_Data,8,FALSE)","v":0.25764106948138837},{"$f":"VLOOKUP(Vlookup!G258,Forcast_Data,8,FALSE)","v":0.51528213896277675},null,null,""]
["HV substation",{"$f":"VLOOKUP(Vlookup!B259,Forcast_Data,8,FALSE)","v":0},{"$f":"VLOOKUP(Vlookup!C259,Forcast_Data,8,FALSE)","v":0},{"$f":"VLOOKUP(Vlookup!D259,Forcast_Data,8,FALSE)","v":0},{"$f":"VLOOKUP(Vlookup!E259,Forcast_Data,8,FALSE)","v":0.25764106948138837},null,null,null,null,""]
[]
["1061. Average split of rate 1 units by distribution time band"]
[]
[null,"Red","Amber","Green"]
["Domestic Two Rate",{"$f":"VLOOKUP(Vlookup!B269,Forcast_Data,8,FALSE)","v":0.14890278426189216},{"$f":"VLOOKUP(Vlookup!C269,Forcast_Data,8,FALSE)","v":0.41118526043131326},{"$f":"VLOOKUP(Vlookup!D269,Forcast_Data,8,FALSE)","v":0.43991195530679456},""]
["Domestic Off Peak (related MPAN)",{"$f":"VLOOKUP(Vlookup!B270,Forcast_Data,8,FALSE)","v":2.2966880173443485E-3},{"$f":"VLOOKUP(Vlookup!C270,Forcast_Data,8,FALSE)","v":0.2056778896815693},{"$f":"VLOOKUP(Vlookup!D270,Forcast_Data,8,FALSE)","v":0.7920254223010863},""]
["Small Non Domestic Two Rate",{"$f":"VLOOKUP(Vlookup!B271,Forcast_Data,8,FALSE)","v":0.13326282626713307},{"$f":"VLOOKUP(Vlookup!C271,Forcast_Data,8,FALSE)","v":0.53523461585794074},{"$f":"VLOOKUP(Vlookup!D271,Forcast_Data,8,FALSE)","v":0.33150255787492622},""]
["Small Non Domestic Off Peak (related MPAN)",{"$f":"VLOOKUP(Vlookup!B272,Forcast_Data,8,FALSE)","v":1.8394107775813375E-2},{"$f":"VLOOKUP(Vlookup!C272,Forcast_Data,8,FALSE)","v":0.17098236297510325},{"$f":"VLOOKUP(Vlookup!D272,Forcast_Data,8,FALSE)","v":0.81062352924908332},""]
["LV Medium Non-Domestic",{"$f":"VLOOKUP(Vlookup!B273,Forcast_Data,8,FALSE)","v":0.13922071459848015},{"$f":"VLOOKUP(Vlookup!C273,Forcast_Data,8,FALSE)","v":0.53278444505652578},{"$f":"VLOOKUP(Vlookup!D273,Forcast_Data,8,FALSE)","v":0.3279948403449941},""]
["LV Sub Medium Non-Domestic",{"$f":"VLOOKUP(Vlookup!B274,Forcast_Data,8,FALSE)","v":0.13922071459848015},{"$f":"VLOOKUP(Vlookup!C274,Forcast_Data,8,FALSE)","v":0.53278444505652578},{"$f":"VLOOKUP(Vlookup!D274,Forcast_Data,8,FALSE)","v":0.3279948403449941},""]
["HV Medium Non-Domestic",{"$f":"VLOOKUP(Vlookup!B275,Forcast_Data,8,FALSE)","v":0.1327379630534701},{"$f":"VLOOKUP(Vlookup!C275,Forcast_Data,8,FALSE)","v":0.56664216163065484},{"$f":"VLOOKUP(Vlookup!D275,Forcast_Data,8,FALSE)","v":0.30061987531587503},""]
[]
["1062. Average split of rate 2 units by distribution time band"]
[]
[null,"Red","Amber","Green"]
["Domestic Two Rate",{"$f":"VLOOKUP(Vlookup!B283,Forcast_Data,8,FALSE)","v":0},{"$f":"VLOOKUP(Vlookup!C283,Forcast_Data,8,FALSE)","v":0},{"$f":"VLOOKUP(Vlookup!D283,Forcast_Data,8,FALSE)","v":1},""]
["Small Non Domestic Two Rate",{"$f":"VLOOKUP(Vlookup!B284,Forcast_Data,8,FALSE)","v":0},{"$f":"VLOOKUP(Vlookup!C284,Forcast_Data,8,FALSE)","v":0},{"$f":"VLOOKUP(Vlookup!D284,Forcast_Data,8,FALSE)","v":1},""]
["LV Medium Non-Domestic",{"$f":"VLOOKUP(Vlookup!B285,Forcast_Data,8,FALSE)","v":0},{"$f":"VLOOKUP(Vlookup!C285,Forcast_Data,8,FALSE)","v":0},{"$f":"VLOOKUP(Vlookup!D285,Forcast_Data,8,FALSE)","v":1},""]
["LV Sub Medium Non-Domestic",{"$f":"VLOOKUP(Vlookup!B286,Forcast_Data,8,FALSE)","v":0},{"$f":"VLOOKUP(Vlookup!C286,Forcast_Data,8,FALSE)","v":0},{"$f":"VLOOKUP(Vlookup!D286,Forcast_Data,8,FALSE)","v":1},""]
["HV Medium Non-Domestic",{"$f":"VLOOKUP(Vlookup!B287,Forcast_Data,8,FALSE)","v":0},{"$f":"VLOOKUP(Vlookup!C287,Forcast_Data,8,FALSE)","v":0},{"$f":"VLOOKUP(Vlookup!D287,Forcast_Data,8,FALSE)","v":1},""]
[]
["1064. Average split of rate 1 units by special distribution time band"]
[]
[null,"Red","Amber","Green",""]
["NHH UMS category A",{"$f":"VLOOKUP(Vlookup!B292,Forcast_Data,8,FALSE)","v":2.9680365296803651E-2},{"$f":"VLOOKUP(Vlookup!C292,Forcast_Data,8,FALSE)","v":0.37254566210045664},{"$f":"VLOOKUP(Vlookup!D292,Forcast_Data,8,FALSE)","v":0.59777397260273968},""]
["NHH UMS category B",{"$f":"VLOOKUP(Vlookup!B293,Forcast_Data,8,FALSE)","v":4.9247533453833446E-2},{"$f":"VLOOKUP(Vlookup!C293,Forcast_Data,8,FALSE)","v":8.8278432042188382E-2},{"$f":"VLOOKUP(Vlookup!D293,Forcast_Data,8,FALSE)","v":0.86247403450397819},""]
["NHH UMS category C",{"$f":"VLOOKUP(Vlookup!B294,Forcast_Data,8,FALSE)","v":9.6056827605747144E-2},{"$f":"VLOOKUP(Vlookup!C294,Forcast_Data,8,FALSE)","v":0.17696296513012377},{"$f":"VLOOKUP(Vlookup!D294,Forcast_Data,8,FALSE)","v":0.72698020726412915},""]
["NHH UMS category D",{"$f":"VLOOKUP(Vlookup!B295,Forcast_Data,8,FALSE)","v":1.6971783970887895E-2},{"$f":"VLOOKUP(Vlookup!C295,Forcast_Data,8,FALSE)","v":0.60828178839872815},{"$f":"VLOOKUP(Vlookup!D295,Forcast_Data,8,FALSE)","v":0.37474642763038385},""]
[]
["1066. Typical annual hours by special distribution time band"]
["Source: definition of distribution time bands."]
["The figures in this table will be automatically adjusted to match the number of days in the charging period."]
[]
[null,"Red","Amber","Green"]
["Annual hours",{"$f":"VLOOKUP(Vlookup!B302,Forcast_Data,8,FALSE)","v":258},{"$f":"VLOOKUP(Vlookup!C302,Forcast_Data,8,FALSE)","v":3265.5},{"$f":"VLOOKUP(Vlookup!D302,Forcast_Data,8,FALSE)","v":5236.5},""]
[]
["1068. Typical annual hours by distribution time band"]
[]
["Source: definition of distribution time bands."]
["The figures in this table will be automatically adjusted to match the number of days in the charging period."]
[null,"Red","Amber","Green"]
["Annual hours",{"$f":"VLOOKUP(Vlookup!B309,Forcast_Data,8,FALSE)","v":783},{"$f":"VLOOKUP(Vlookup!C309,Forcast_Data,8,FALSE)","v":2740.5},{"$f":"VLOOKUP(Vlookup!D309,Forcast_Data,8,FALSE)","v":5236.5},""]
[]
["1069. Peaking probabilities by network level"]
[]
[]
["Source: analysis of network operation data."]
[null,"Red","Amber","Green","Black"]
["GSPs",{"$f":"VLOOKUP(Vlookup!B315,Forcast_Data,8,FALSE)","v":0.90713490721324597},{"$f":"VLOOKUP(Vlookup!C315,Forcast_Data,8,FALSE)","v":8.5943651473687752E-2},{"$f":"VLOOKUP(Vlookup!D315,Forcast_Data,8,FALSE)","v":6.9214413130663024E-3},{"$f":"VLOOKUP(Vlookup!E315,Forcast_Data,8,FALSE)","v":0.47623207722750621},""]
["132kV",{"$f":"VLOOKUP(Vlookup!B316,Forcast_Data,8,FALSE)","v":0.71771031215339598},{"$f":"VLOOKUP(Vlookup!C316,Forcast_Data,8,FALSE)","v":0.25348688310500261},{"$f":"VLOOKUP(Vlookup!D316,Forcast_Data,8,FALSE)","v":2.8802804741601341E-2},{"$f":"VLOOKUP(Vlookup!E316,Forcast_Data,8,FALSE)","v":0.5027642206564088},""]
["132kV/EHV",{"$f":"VLOOKUP(Vlookup!B317,Forcast_Data,8,FALSE)","v":0.71771031215339598},{"$f":"VLOOKUP(Vlookup!C317,Forcast_Data,8,FALSE)","v":0.25348688310500261},{"$f":"VLOOKUP(Vlookup!D317,Forcast_Data,8,FALSE)","v":2.8802804741601341E-2},{"$f":"VLOOKUP(Vlookup!E317,Forcast_Data,8,FALSE)","v":0.5027642206564088},""]
["EHV",{"$f":"VLOOKUP(Vlookup!B318,Forcast_Data,8,FALSE)","v":0.66033153174473114},{"$f":"VLOOKUP(Vlookup!C318,Forcast_Data,8,FALSE)","v":0.26482907568205305},{"$f":"VLOOKUP(Vlookup!D318,Forcast_Data,8,FALSE)","v":7.4839392573215757E-2},{"$f":"VLOOKUP(Vlookup!E318,Forcast_Data,8,FALSE)","v":0.5314588887042806},""]
["EHV/HV",{"$f":"VLOOKUP(Vlookup!B319,Forcast_Data,8,FALSE)","v":0.66033153174473114},{"$f":"VLOOKUP(Vlookup!C319,Forcast_Data,8,FALSE)","v":0.26482907568205305},{"$f":"VLOOKUP(Vlookup!D319,Forcast_Data,8,FALSE)","v":7.4839392573215757E-2},{"$f":"VLOOKUP(Vlookup!E319,Forcast_Data,8,FALSE)","v":0.5314588887042806},""]
["132kV/HV",{"$f":"VLOOKUP(Vlookup!B320,Forcast_Data,8,FALSE)","v":0.71771031215339598},{"$f":"VLOOKUP(Vlookup!C320,Forcast_Data,8,FALSE)","v":0.25348688310500261},{"$f":"VLOOKUP(Vlookup!D320,Forcast_Data,8,FALSE)","v":2.8802804741601341E-2},{"$f":"VLOOKUP(Vlookup!E320,Forcast_Data,8,FALSE)","v":0.5027642206564088},""]
["HV",{"$f":"VLOOKUP(Vlookup!B321,Forcast_Data,8,FALSE)","v":0.66033153174473114},{"$f":"VLOOKUP(Vlookup!C321,Forcast_Data,8,FALSE)","v":0.26482907568205305},{"$f":"VLOOKUP(Vlookup!D321,Forcast_Data,8,FALSE)","v":7.4839392573215757E-2},{"$f":"VLOOKUP(Vlookup!E321,Forcast_Data,8,FALSE)","v":0.5314588887042806},""]
["HV/LV",{"$f":"VLOOKUP(Vlookup!B322,Forcast_Data,8,FALSE)","v":0.66033153174473114},{"$f":"VLOOKUP(Vlookup!C322,Forcast_Data,8,FALSE)","v":0.26482907568205305},{"$f":"VLOOKUP(Vlookup!D322,Forcast_Data,8,FALSE)","v":7.4839392573215757E-2},{"$f":"VLOOKUP(Vlookup!E322,Forcast_Data,8,FALSE)","v":0.5314588887042806},""]
["LV circuits",{"$f":"VLOOKUP(Vlookup!B323,Forcast_Data,8,FALSE)","v":0.66033153174473114},{"$f":"VLOOKUP(Vlookup!C323,Forcast_Data,8,FALSE)","v":0.26482907568205305},{"$f":"VLOOKUP(Vlookup!D323,Forcast_Data,8,FALSE)","v":7.4839392573215757E-2},{"$f":"VLOOKUP(Vlookup!E323,Forcast_Data,8,FALSE)","v":0.5314588887042806},""]
[]
["1076. Target revenue"]
[""]
["Source: forecast."]
[null,"Allowed revenue (£/year)"]
["Target revenue",{"$f":"VLOOKUP(Vlookup!B329,Forcast_Data,8,FALSE)","v":477296039.70015818},""]
[]
["1092. Average kVAr by kVA, by network level"]
[""]
["Source: analysis of operational data."]
["This is the average of MVAr/MVA or SQRT(1-PF^2) across relevant network elements."]
[null,"GSPs","132kV","132kV/EHV","EHV","EHV/HV","132kV/HV","HV","HV/LV","LV circuits"]
["Average kVAr by kVA, by network level",{"$f":"VLOOKUP(Vlookup!B336,Forcast_Data,8,FALSE)","v":0.2810621222726124},{"$f":"VLOOKUP(Vlookup!C336,Forcast_Data,8,FALSE)","v":0.2810621222726124},{"$f":"VLOOKUP(Vlookup!D336,Forcast_Data,8,FALSE)","v":0.2810621222726124},{"$f":"VLOOKUP(Vlookup!E336,Forcast_Data,8,FALSE)","v":0.2810621222726124},{"$f":"VLOOKUP(Vlookup!F336,Forcast_Data,8,FALSE)","v":0.2810621222726124},{"$f":"VLOOKUP(Vlookup!G336,Forcast_Data,8,FALSE)","v":0.2810621222726124},{"$f":"VLOOKUP(Vlookup!H336,Forcast_Data,8,FALSE)","v":0.2810621222726124},{"$f":"VLOOKUP(Vlookup!I336,Forcast_Data,8,FALSE)","v":0.2810621222726124},{"$f":"VLOOKUP(Vlookup!J336,Forcast_Data,8,FALSE)","v":0.2810621222726124},""]
[]
["1201. Current tariff information"]
[""]
[null,"Current revenues if known (£/year)","Current Unit rate 1 p/kWh","Current Unit rate 2 p/kWh","Current Unit rate 3 p/kWh","Current Fixed charge p/MPAN/day","Current Capacity charge p/kVA/day","Current Reactive power charge p/kVArh"]
["Domestic Unrestricted",130826862,null,null,null,null,null,null,""]
["Domestic Two Rate",15098369,null,null,null,null,null,null,""]
["Domestic Off Peak (related MPAN)",146557,null,null,null,null,null,null,""]
["Small Non Domestic Unrestricted",29063999,null,null,null,null,null,null,""]
["Small Non Domestic Two Rate",6925425,null,null,null,null,null,null,""]
["Small Non Domestic Off Peak (related MPAN)",null,null,null,null,null,null,null,""]
["LV Medium Non-Domestic",19761662,null,null,null,null,null,null,""]
["LV Sub Medium Non-Domestic",733648,null,null,null,null,null,null,""]
["HV Medium Non-Domestic",266631,null,null,null,null,null,null,""]
["LV HH Metered",22598111,null,null,0,null,null,0,""]
["LV Sub HH Metered",14598953,null,null,0,null,null,0,""]
["HV HH Metered",41609304,null,null,0,null,null,0,""]
["HV Sub HH Metered",6392480,null,null,0,null,null,0,""]
["NHH UMS category A",540187,null,null,null,null,null,null,""]
["NHH UMS category B",540187,null,null,null,null,null,null,""]
["NHH UMS category C",540187,null,null,null,null,null,null,""]
["NHH UMS category D",540187,null,null,null,null,null,null,""]
["LV UMS (Pseudo HH Metered)",4899607,null,null,0,null,null,null,""]

{"sheet":"(Y+4)","index":13,"n_rows":351,"n_cols":11,"rows_kept":351,"cut":false,"hidden":false,"merged":[]}
[]
[]
[]
[]
["1000. Company, charging year, data version"]
[""]
[null,"Company","Year","Version"]
["Company, charging year, data version",{"$f":"VLOOKUP(Vlookup!B8,Forcast_Data,9,FALSE)","v":"WPD Mid West"},{"$f":"VLOOKUP(Vlookup!C8,Forcast_Data,9,FALSE)","v":"April 2017"},{"$f":"VLOOKUP(Vlookup!D8,Forcast_Data,9,FALSE)","v":0},""]
[]
["1010. Financial and general assumptions"]
[]
["Sources: financial assumptions; calendar; network model."]
["These financial assumptions determine the annuity rate applied to convert the asset values of the network model into an annual charge."]
[null,"Rate of return","Annualisation period (years)","Annuity proportion for customer-contributed assets","Power factor","Days in the charging period"]
["Financial and general assumptions",{"$f":"VLOOKUP(Vlookup!B15,Forcast_Data,9,FALSE)","v":5.6000000000000001E-2},{"$f":"VLOOKUP(Vlookup!C15,Forcast_Data,9,FALSE)","v":40},null,{"$f":"VLOOKUP(Vlookup!E15,Forcast_Data,9,FALSE)","v":0.95},{"$f":"VLOOKUP(Vlookup!F15,Forcast_Data,9,FALSE)","v":365},""]
[]
["1017. Diversity allowance between top and bottom of network level"]
[]
["Source: operational data analysis and/or network model."]
["The diversity figure against GSP is the diversity between GSP Group (the whole system) and individual GSPs."]
["The diversity figure against 132kV is the diversity between GSPs (the top of the 132kV network) and 132kV/EHV bulk supply points (the bottom of the 132kV network). "]
["The diversity figure against EHV is the diversity between 132kV/EHV bulk supply points (the top of the EHV network) and EHV/HV primary substations (the bottom of the EHV network). "]
["The diversity figure against HV is the diversity between EHV/HV primary substations (the top of the HV network) and HV/LV substations (the bottom of the HV network). "]
[null,"Diversity allowance between top and bottom of network level"]
["GSPs",{"$f":"VLOOKUP(Vlookup!B25,Forcast_Data,9,FALSE)","v":5.649040831841079E-2},""]
["132kV",{"$f":"VLOOKUP(Vlookup!B26,Forcast_Data,9,FALSE)","v":2.5568682496299511E-2},""]
["132kV/EHV",null,""]
["EHV",{"$f":"VLOOKUP(Vlookup!B28,Forcast_Data,9,FALSE)","v":2.6631596666738533E-2},""]
["EHV/HV",null,""]
["HV",{"$f":"VLOOKUP(Vlookup!B30,Forcast_Data,9,FALSE)","v":0.34000000000000008},""]
["HV/LV",null,""]
["LV circuits",null,""]
[]
["1018. Proportion of relevant load going through 132kV/HV direct transformation"]
[""]
[null,"132kV/HV"]
["EHV/HV",{"$f":"VLOOKUP(Vlookup!B37,Forcast_Data,9,FALSE)","v":0.69256562916818787},""]
[]
["1019. Network model GSP peak demand (MW)"]
[]
[null,"Network model GSP peak demand (MW)"]
["Network model GSP peak demand (MW)",{"$f":"VLOOKUP(Vlookup!B42,Forcast_Data,9,FALSE)","v":500},""]
[]
["1020. Gross asset cost by network level (£)"]
[]
[null,"Gross assets £"]
["132kV",{"$f":"VLOOKUP(Vlookup!B47,Forcast_Data,9,FALSE)","v":73530917.669807985},""]
["132kV/EHV",{"$f":"VLOOKUP(Vlookup!B48,Forcast_Data,9,FALSE)","v":11467117.570968},""]
["EHV",{"$f":"VLOOKUP(Vlookup!B49,Forcast_Data,9,FALSE)","v":13207655.749752002},""]
["EHV/HV",{"$f":"VLOOKUP(Vlookup!B50,Forcast_Data,9,FALSE)","v":22566958.481592003},""]
["132kV/HV",{"$f":"VLOOKUP(Vlookup!B51,Forcast_Data,9,FALSE)","v":20862315.663408004},""]
["HV",{"$f":"VLOOKUP(Vlookup!B52,Forcast_Data,9,FALSE)","v":115182426.45938401},""]
["HV/LV",{"$f":"VLOOKUP(Vlookup!B53,Forcast_Data,9,FALSE)","v":72227921.916672006},""]
["LV circuits",{"$f":"VLOOKUP(Vlookup!B54,Forcast_Data,9,FALSE)","v":100467191.033424},""]
[]
["1022. LV service model asset cost (£)"]
[]
[null,"LV service model 1","LV service model 2","LV service model 3","LV service model 4","LV service model 5","LV service model 6","LV service model 7","LV service model 8"]
["LV service model asset cost (£)",{"$f":"VLOOKUP(Vlookup!B59,Forcast_Data,9,FALSE)","v":4976.8285405803126},{"$f":"VLOOKUP(Vlookup!C59,Forcast_Data,9,FALSE)","v":614.37973984590587},{"$f":"VLOOKUP(Vlookup!D59,Forcast_Data,9,FALSE)","v":725.73350957316006},{"$f":"VLOOKUP(Vlookup!E59,Forcast_Data,9,FALSE)","v":540.65800203235187},{"$f":"VLOOKUP(Vlookup!F59,Forcast_Data,9,FALSE)","v":1240.5910266666863},{"$f":"VLOOKUP(Vlookup!G59,Forcast_Data,9,FALSE)","v":911.15687623249823},{"$f":"VLOOKUP(Vlookup!H59,Forcast_Data,9,FALSE)","v":"-"},{"$f":"VLOOKUP(Vlookup!I59,Forcast_Data,9,FALSE)","v":477.8771111442},""]
[]
["1023. HV service model asset cost (£)"]
[]
[null,"HV service model 1","HV service model 2","HV service model 3","HV service model 4","HV service model 5"]
["HV service model asset cost (£)",{"$f":"VLOOKUP(Vlookup!B64,Forcast_Data,9,FALSE)","v":8908.4978280000014},{"$f":"VLOOKUP(Vlookup!C64,Forcast_Data,9,FALSE)","v":4378.0032000000001},{"$f":"VLOOKUP(Vlookup!D64,Forcast_Data,9,FALSE)","v":0},{"$f":"VLOOKUP(Vlookup!E64,Forcast_Data,9,FALSE)","v":"-"},{"$f":"VLOOKUP(Vlookup!F64,Forcast_Data,9,FALSE)","v":"-"},""]
[]
["1025. Matrix of applicability of LV service models to tariffs with fixed charges"]
[null,34,{"$f":"B67+1","v":35},{"$f":"C67+1","v":36},37,38,39,40,41]
[null,"LV service model 1","LV service model 2","LV service model 3","LV service model 4","LV service model 5","LV service model 6","LV service model 7","LV service model 8"]
["Domestic Unrestricted",{"$f":"VLOOKUP($A69,'Mat of App'!$B$7:$AP$38,B$67,FALSE)","v":0.05},{"$f":"VLOOKUP($A69,'Mat of App'!$B$7:$AP$38,C$67,FALSE)","v":0},{"$f":"VLOOKUP($A69,'Mat of App'!$B$7:$AP$38,D$67,FALSE)","v":0},{"$f":"VLOOKUP($A69,'Mat of App'!$B$7:$AP$38,E$67,FALSE)","v":0},{"$f":"VLOOKUP($A69,'Mat of App'!$B$7:$AP$38,F$67,FALSE)","v":0},{"$f":"VLOOKUP($A69,'Mat of App'!$B$7:$AP$38,G$67,FALSE)","v":0},{"$f":"VLOOKUP($A69,'Mat of App'!$B$7:$AP$38,H$67,FALSE)","v":0},{"$f":"VLOOKUP($A69,'Mat of App'!$B$7:$AP$38,I$67,FALSE)","v":0},""]
["Domestic Two Rate",{"$f":"VLOOKUP($A70,'Mat of App'!$B$7:$AP$38,B$67,FALSE)","v":0.05},{"$f":"VLOOKUP($A70,'Mat of App'!$B$7:$AP$38,C$67,FALSE)","v":0},{"$f":"VLOOKUP($A70,'Mat of App'!$B$7:$AP$38,D$67,FALSE)","v":0},{"$f":"VLOOKUP($A70,'Mat of App'!$B$7:$AP$38,E$67,FALSE)","v":0},{"$f":"VLOOKUP($A70,'Mat of App'!$B$7:$AP$38,F$67,FALSE)","v":0},{"$f":"VLOOKUP($A70,'Mat of App'!$B$7:$AP$38,G$67,FALSE)","v":0},{"$f":"VLOOKUP($A70,'Mat of App'!$B$7:$AP$38,H$67,FALSE)","v":0},{"$f":"VLOOKUP($A70,'Mat of App'!$B$7:$AP$38,I$67,FALSE)","v":0},""]
["Small Non Domestic Unrestricted",{"$f":"VLOOKUP($A71,'Mat of App'!$B$7:$AP$38,B$67,FALSE)","v":0},{"$f":"VLOOKUP($A71,'Mat of App'!$B$7:$AP$38,C$67,FALSE)","v":1},{"$f":"VLOOKUP($A71,'Mat of App'!$B$7:$AP$38,D$67,FALSE)","v":0},{"$f":"VLOOKUP($A71,'Mat of App'!$B$7:$AP$38,E$67,FALSE)","v":0},{"$f":"VLOOKUP($A71,'Mat of App'!$B$7:$AP$38,F$67,FALSE)","v":0},{"$f":"VLOOKUP($A71,'Mat of App'!$B$7:$AP$38,G$67,FALSE)","v":0},{"$f":"VLOOKUP($A71,'Mat of App'!$B$7:$AP$38,H$67,FALSE)","v":0},{"$f":"VLOOKUP($A71,'Mat of App'!$B$7:$AP$38,I$67,FALSE)","v":0},""]
["Small Non Domestic Two Rate",{"$f":"VLOOKUP($A72,'Mat of App'!$B$7:$AP$38,B$67,FALSE)","v":0},{"$f":"VLOOKUP($A72,'Mat of App'!$B$7:$AP$38,C$67,FALSE)","v":1},{"$f":"VLOOKUP($A72,'Mat of App'!$B$7:$AP$38,D$67,FALSE)","v":0},{"$f":"VLOOKUP($A72,'Mat of App'!$B$7:$AP$38,E$67,FALSE)","v":0},{"$f":"VLOOKUP($A72,'Mat of App'!$B$7:$AP$38,F$67,FALSE)","v":0},{"$f":"VLOOKUP($A72,'Mat of App'!$B$7:$AP$38,G$67,FALSE)","v":0},{"$f":"VLOOKUP($A72,'Mat of App'!$B$7:$AP$38,H$67,FALSE)","v":0},{"$f":"VLOOKUP($A72,'Mat of App'!$B$7:$AP$38,I$67,FALSE)","v":0},""]
["LV Medium Non-Domestic",{"$f":"VLOOKUP($A73,'Mat of App'!$B$7:$AP$38,B$67,FALSE)","v":0},{"$f":"VLOOKUP($A73,'Mat of App'!$B$7:$AP$38,C$67,FALSE)","v":0},{"$f":"VLOOKUP($A73,'Mat of App'!$B$7:$AP$38,D$67,FALSE)","v":1},{"$f":"VLOOKUP($A73,'Mat of App'!$B$7:$AP$38,E$67,FALSE)","v":0},{"$f":"VLOOKUP($A73,'Mat of App'!$B$7:$AP$38,F$67,FALSE)","v":0},{"$f":"VLOOKUP($A73,'Mat of App'!$B$7:$AP$38,G$67,FALSE)","v":0},{"$f":"VLOOKUP($A73,'Mat of App'!$B$7:$AP$38,H$67,FALSE)","v":0},{"$f":"VLOOKUP($A73,'Mat of App'!$B$7:$AP$38,I$67,FALSE)","v":0},""]
["LV Sub Medium Non-Domestic",{"$f":"VLOOKUP($A74,'Mat of App'!$B$7:$AP$38,B$67,FALSE)","v":0},{"$f":"VLOOKUP($A74,'Mat of App'!$B$7:$AP$38,C$67,FALSE)","v":0},{"$f":"VLOOKUP($A74,'Mat of App'!$B$7:$AP$38,D$67,FALSE)","v":0},{"$f":"VLOOKUP($A74,'Mat of App'!$B$7:$AP$38,E$67,FALSE)","v":1},{"$f":"VLOOKUP($A74,'Mat of App'!$B$7:$AP$38,F$67,FALSE)","v":0},{"$f":"VLOOKUP($A74,'Mat of App'!$B$7:$AP$38,G$67,FALSE)","v":0},{"$f":"VLOOKUP($A74,'Mat of App'!$B$7:$AP$38,H$67,FALSE)","v":0},{"$f":"VLOOKUP($A74,'Mat of App'!$B$7:$AP$38,I$67,FALSE)","v":0},""]
["LV HH Metered",{"$f":"VLOOKUP($A75,'Mat of App'!$B$7:$AP$38,B$67,FALSE)","v":0},{"$f":"VLOOKUP($A75,'Mat of App'!$B$7:$AP$38,C$67,FALSE)","v":0},{"$f":"VLOOKUP($A75,'Mat of App'!$B$7:$AP$38,D$67,FALSE)","v":0},{"$f":"VLOOKUP($A75,'Mat of App'!$B$7:$AP$38,E$67,FALSE)","v":0},{"$f":"VLOOKUP($A75,'Mat of App'!$B$7:$AP$38,F$67,FALSE)","v":1},{"$f":"VLOOKUP($A75,'Mat of App'!$B$7:$AP$38,G$67,FALSE)","v":0},{"$f":"VLOOKUP($A75,'Mat of App'!$B$7:$AP$38,H$67,FALSE)","v":0},{"$f":"VLOOKUP($A75,'Mat of App'!$B$7:$AP$38,I$67,FALSE)","v":0},""]
["LV Sub HH Metered",{"$f":"VLOOKUP($A76,'Mat of App'!$B$7:$AP$38,B$67,FALSE)","v":0},{"$f":"VLOOKUP($A76,'Mat of App'!$B$7:$AP$38,C$67,FALSE)","v":0},{"$f":"VLOOKUP($A76,'Mat of App'!$B$7:$AP$38,D$67,FALSE)","v":0},{"$f":"VLOOKUP($A76,'Mat of App'!$B$7:$AP$38,E$67,FALSE)","v":0},{"$f":"VLOOKUP($A76,'Mat of App'!$B$7:$AP$38,F$67,FALSE)","v":0},{"$f":"VLOOKUP($A76,'Mat of App'!$B$7:$AP$38,G$67,FALSE)","v":1},{"$f":"VLOOKUP($A76,'Mat of App'!$B$7:$AP$38,H$67,FALSE)","v":0},{"$f":"VLOOKUP($A76,'Mat of App'!$B$7:$AP$38,I$67,FALSE)","v":0},""]
["LV Generation NHH",{"$f":"VLOOKUP($A77,'Mat of App'!$B$7:$AP$38,B$67,FALSE)","v":0},{"$f":"VLOOKUP($A77,'Mat of App'!$B$7:$AP$38,C$67,FALSE)","v":0},{"$f":"VLOOKUP($A77,'Mat of App'!$B$7:$AP$38,D$67,FALSE)","v":0},{"$f":"VLOOKUP($A77,'Mat of App'!$B$7:$AP$38,E$67,FALSE)","v":0},{"$f":"VLOOKUP($A77,'Mat of App'!$B$7:$AP$38,F$67,FALSE)","v":0},{"$f":"VLOOKUP($A77,'Mat of App'!$B$7:$AP$38,G$67,FALSE)","v":0},{"$f":"VLOOKUP($A77,'Mat of App'!$B$7:$AP$38,H$67,FALSE)","v":1},{"$f":"VLOOKUP($A77,'Mat of App'!$B$7:$AP$38,I$67,FALSE)","v":0},""]
["LV Sub Generation NHH",{"$f":"VLOOKUP($A78,'Mat of App'!$B$7:$AP$38,B$67,FALSE)","v":0},{"$f":"VLOOKUP($A78,'Mat of App'!$B$7:$AP$38,C$67,FALSE)","v":0},{"$f":"VLOOKUP($A78,'Mat of App'!$B$7:$AP$38,D$67,FALSE)","v":0},{"$f":"VLOOKUP($A78,'Mat of App'!$B$7:$AP$38,E$67,FALSE)","v":0},{"$f":"VLOOKUP($A78,'Mat of App'!$B$7:$AP$38,F$67,FALSE)","v":0},{"$f":"VLOOKUP($A78,'Mat of App'!$B$7:$AP$38,G$67,FALSE)","v":0},{"$f":"VLOOKUP($A78,'Mat of App'!$B$7:$AP$38,H$67,FALSE)","v":1},{"$f":"VLOOKUP($A78,'Mat of App'!$B$7:$AP$38,I$67,FALSE)","v":0},""]
["LV Generation Intermittent",{"$f":"VLOOKUP($A79,'Mat of App'!$B$7:$AP$38,B$67,FALSE)","v":0},{"$f":"VLOOKUP($A79,'Mat of App'!$B$7:$AP$38,C$67,FALSE)","v":0},{"$f":"VLOOKUP($A79,'Mat of App'!$B$7:$AP$38,D$67,FALSE)","v":0},{"$f":"VLOOKUP($A79,'Mat of App'!$B$7:$AP$38,E$67,FALSE)","v":0},{"$f":"VLOOKUP($A79,'Mat of App'!$B$7:$AP$38,F$67,FALSE)","v":0},{"$f":"VLOOKUP($A79,'Mat of App'!$B$7:$AP$38,G$67,FALSE)","v":0},{"$f":"VLOOKUP($A79,'Mat of App'!$B$7:$AP$38,H$67,FALSE)","v":1},{"$f":"VLOOKUP($A79,'Mat of App'!$B$7:$AP$38,I$67,FALSE)","v":0},""]
["LV Generation Non-Intermittent",{"$f":"VLOOKUP($A80,'Mat of App'!$B$7:$AP$38,B$67,FALSE)","v":0},{"$f":"VLOOKUP($A80,'Mat of App'!$B$7:$AP$38,C$67,FALSE)","v":0},{"$f":"VLOOKUP($A80,'Mat of App'!$B$7:$AP$38,D$67,FALSE)","v":0},{"$f":"VLOOKUP($A80,'Mat of App'!$B$7:$AP$38,E$67,FALSE)","v":0},{"$f":"VLOOKUP($A80,'Mat of App'!$B$7:$AP$38,F$67,FALSE)","v":0},{"$f":"VLOOKUP($A80,'Mat of App'!$B$7:$AP$38,G$67,FALSE)","v":0},{"$f":"VLOOKUP($A80,'Mat of App'!$B$7:$AP$38,H$67,FALSE)","v":0},{"$f":"VLOOKUP($A80,'Mat of App'!$B$7:$AP$38,I$67,FALSE)","v":0},""]
["LV Sub Generation Intermittent",{"$f":"VLOOKUP($A81,'Mat of App'!$B$7:$AP$38,B$67,FALSE)","v":0},{"$f":"VLOOKUP($A81,'Mat of App'!$B$7:$AP$38,C$67,FALSE)","v":0},{"$f":"VLOOKUP($A81,'Mat of App'!$B$7:$AP$38,D$67,FALSE)","v":0},{"$f":"VLOOKUP($A81,'Mat of App'!$B$7:$AP$38,E$67,FALSE)","v":0},{"$f":"VLOOKUP($A81,'Mat of App'!$B$7:$AP$38,F$67,FALSE)","v":0},{"$f":"VLOOKUP($A81,'Mat of App'!$B$7:$AP$38,G$67,FALSE)","v":0},{"$f":"VLOOKUP($A81,'Mat of App'!$B$7:$AP$38,H$67,FALSE)","v":0},{"$f":"VLOOKUP($A81,'Mat of App'!$B$7:$AP$38,I$67,FALSE)","v":0},""]
["LV Sub Generation Non-Intermittent",{"$f":"VLOOKUP($A82,'Mat of App'!$B$7:$AP$38,B$67,FALSE)","v":0},{"$f":"VLOOKUP($A82,'Mat of App'!$B$7:$AP$38,C$67,FALSE)","v":0},{"$f":"VLOOKUP($A82,'Mat of App'!$B$7:$AP$38,D$67,FALSE)","v":0},{"$f":"VLOOKUP($A82,'Mat of App'!$B$7:$AP$38,E$67,FALSE)","v":0},{"$f":"VLOOKUP($A82,'Mat of App'!$B$7:$AP$38,F$67,FALSE)","v":0},{"$f":"VLOOKUP($A82,'Mat of App'!$B$7:$AP$38,G$67,FALSE)","v":0},{"$f":"VLOOKUP($A82,'Mat of App'!$B$7:$AP$38,H$67,FALSE)","v":0},{"$f":"VLOOKUP($A82,'Mat of App'!$B$7:$AP$38,I$67,FALSE)","v":0},""]
[]
["1026. Matrix of applicability of LV service models to unmetered tariffs"]
[]
["Source: service models"]
["Proportion of service model involved in connecting load of 1 MWh/year"]
[null,"LV service model 1","LV service model 2","LV service model 3","LV service model 4","LV service model 5","LV service model 6","LV service model 7","LV service model 8"]
["All LV unmetered tariffs",{"$f":"VLOOKUP($A89,'Mat of App'!$B$7:$AP$38,B$67,FALSE)","v":0},{"$f":"VLOOKUP($A89,'Mat of App'!$B$7:$AP$38,C$67,FALSE)","v":0},{"$f":"VLOOKUP($A89,'Mat of App'!$B$7:$AP$38,D$67,FALSE)","v":0},{"$f":"VLOOKUP($A89,'Mat of App'!$B$7:$AP$38,E$67,FALSE)","v":0},{"$f":"VLOOKUP($A89,'Mat of App'!$B$7:$AP$38,F$67,FALSE)","v":0},{"$f":"VLOOKUP($A89,'Mat of App'!$B$7:$AP$38,G$67,FALSE)","v":0},{"$f":"VLOOKUP($A89,'Mat of App'!$B$7:$AP$38,H$67,FALSE)","v":0},{"$f":"VLOOKUP($A89,'Mat of App'!$B$7:$AP$38,I$67,FALSE)","v":0.48799999999999999},""]
[]
["1028. Matrix of applicability of HV service models to tariffs with fixed charges"]
[null,22,{"$f":"B92+1","v":23},{"$f":"C92+1","v":24},25,26]
[null,"HV service model 1","HV service model 2","HV service model 3","HV service model 4","HV service model 5"]
["HV Medium Non-Domestic",{"$f":"VLOOKUP($A94,'Mat of App'!$B$7:$AP$38,B$92,FALSE)","v":1},{"$f":"VLOOKUP($A94,'Mat of App'!$B$7:$AP$38,C$92,FALSE)","v":0},{"$f":"VLOOKUP($A94,'Mat of App'!$B$7:$AP$38,D$92,FALSE)","v":0},{"$f":"VLOOKUP($A94,'Mat of App'!$B$7:$AP$38,E$92,FALSE)","v":0},{"$f":"VLOOKUP($A94,'Mat of App'!$B$7:$AP$38,F$92,FALSE)","v":0},""]
["HV HH Metered",{"$f":"VLOOKUP($A95,'Mat of App'!$B$7:$AP$38,B$92,FALSE)","v":1},{"$f":"VLOOKUP($A95,'Mat of App'!$B$7:$AP$38,C$92,FALSE)","v":0},{"$f":"VLOOKUP($A95,'Mat of App'!$B$7:$AP$38,D$92,FALSE)","v":0},{"$f":"VLOOKUP($A95,'Mat of App'!$B$7:$AP$38,E$92,FALSE)","v":0},{"$f":"VLOOKUP($A95,'Mat of App'!$B$7:$AP$38,F$92,FALSE)","v":0},""]
["HV Sub HH Metered",{"$f":"VLOOKUP($A96,'Mat of App'!$B$7:$AP$38,B$92,FALSE)","v":1},{"$f":"VLOOKUP($A96,'Mat of App'!$B$7:$AP$38,C$92,FALSE)","v":0},{"$f":"VLOOKUP($A96,'Mat of App'!$B$7:$AP$38,D$92,FALSE)","v":0},{"$f":"VLOOKUP($A96,'Mat of App'!$B$7:$AP$38,E$92,FALSE)","v":0},{"$f":"VLOOKUP($A96,'Mat of App'!$B$7:$AP$38,F$92,FALSE)","v":0},""]
["HV Generation Intermittent",{"$f":"VLOOKUP($A97,'Mat of App'!$B$7:$AP$38,B$92,FALSE)","v":0},{"$f":"VLOOKUP($A97,'Mat of App'!$B$7:$AP$38,C$92,FALSE)","v":1},{"$f":"VLOOKUP($A97,'Mat of App'!$B$7:$AP$38,D$92,FALSE)","v":0},{"$f":"VLOOKUP($A97,'Mat of App'!$B$7:$AP$38,E$92,FALSE)","v":0},{"$f":"VLOOKUP($A97,'Mat of App'!$B$7:$AP$38,F$92,FALSE)","v":0},""]
["HV Generation Non-Intermittent",{"$f":"VLOOKUP($A98,'Mat of App'!$B$7:$AP$38,B$92,FALSE)","v":0},{"$f":"VLOOKUP($A98,'Mat of App'!$B$7:$AP$38,C$92,FALSE)","v":1},{"$f":"VLOOKUP($A98,'Mat of App'!$B$7:$AP$38,D$92,FALSE)","v":0},{"$f":"VLOOKUP($A98,'Mat of App'!$B$7:$AP$38,E$92,FALSE)","v":0},{"$f":"VLOOKUP($A98,'Mat of App'!$B$7:$AP$38,F$92,FALSE)","v":0},""]
["HV Sub Generation Non-Intermittent",{"$f":"VLOOKUP($A99,'Mat of App'!$B$7:$AP$38,B$92,FALSE)","v":0},{"$f":"VLOOKUP($A99,'Mat of App'!$B$7:$AP$38,C$92,FALSE)","v":1},{"$f":"VLOOKUP($A99,'Mat of App'!$B$7:$AP$38,D$92,FALSE)","v":0},{"$f":"VLOOKUP($A99,'Mat of App'!$B$7:$AP$38,E$92,FALSE)","v":0},{"$f":"VLOOKUP($A99,'Mat of App'!$B$7:$AP$38,F$92,FALSE)","v":0},""]
["HV Sub Generation Intermittent",{"$f":"VLOOKUP($A100,'Mat of App'!$B$7:$AP$38,B$92,FALSE)","v":0},{"$f":"VLOOKUP($A100,'Mat of App'!$B$7:$AP$38,C$92,FALSE)","v":1},{"$f":"VLOOKUP($A100,'Mat of App'!$B$7:$AP$38,D$92,FALSE)","v":0},{"$f":"VLOOKUP($A100,'Mat of App'!$B$7:$AP$38,E$92,FALSE)","v":0},{"$f":"VLOOKUP($A100,'Mat of App'!$B$7:$AP$38,F$92,FALSE)","v":0},""]
[]
["1032. Loss adjustment factors to transmission"]
[""]
["Source: losses model or loss adjustment factors at time of system peak."]
[null,"132kV","132kV/EHV","EHV","EHV/HV","HV","HV/LV","LV circuits"]
["Loss adjustment factor",{"$f":"VLOOKUP(Vlookup!B106,Forcast_Data,9,FALSE)","v":1.002},{"$f":"VLOOKUP(Vlookup!C106,Forcast_Data,9,FALSE)","v":1.0029999999999999},{"$f":"VLOOKUP(Vlookup!D106,Forcast_Data,9,FALSE)","v":1.006},{"$f":"VLOOKUP(Vlookup!E106,Forcast_Data,9,FALSE)","v":1.0269999999999999},{"$f":"VLOOKUP(Vlookup!F106,Forcast_Data,9,FALSE)","v":1.044},{"$f":"VLOOKUP(Vlookup!G106,Forcast_Data,9,FALSE)","v":1.0509999999999999},{"$f":"VLOOKUP(Vlookup!H106,Forcast_Data,9,FALSE)","v":1.077},""]
[]
["1037. Embedded network (LDNO) discounts"]
[""]
["Source: separate price control disaggregation model."]
[null,"No discount","LDNO LV: LV user","LDNO HV: LV user","LDNO HV: LV sub user","LDNO HV: HV user"]
["LDNO discount",null,{"$f":"VLOOKUP(Vlookup!C112,Forcast_Data,9,FALSE)","v":0.30883183558962979},{"$f":"VLOOKUP(Vlookup!D112,Forcast_Data,9,FALSE)","v":0.5007791580188965},{"$f":"VLOOKUP(Vlookup!E112,Forcast_Data,9,FALSE)","v":0.2542804505721758},{"$f":"VLOOKUP(Vlookup!F112,Forcast_Data,9,FALSE)","v":0.15228597408951491},""]
[]
["1041. Load profile data for demand users"]
[]
["Source: load data analysis."]
[null,"Coincidence factor","Load factor"]
["Domestic Unrestricted",{"$f":"VLOOKUP(Vlookup!B118,Forcast_Data,9,FALSE)","v":0.91725107523525962},{"$f":"VLOOKUP(Vlookup!C118,Forcast_Data,9,FALSE)","v":0.41143481343309968},""]
["Domestic Two Rate",{"$f":"VLOOKUP(Vlookup!B119,Forcast_Data,9,FALSE)","v":0.40080181765565559},{"$f":"VLOOKUP(Vlookup!C119,Forcast_Data,9,FALSE)","v":0.25560520593582642},""]
["Domestic Off Peak (related MPAN)",null,{"$f":"VLOOKUP(Vlookup!C120,Forcast_Data,9,FALSE)","v":0.15590780773679511},""]
["Small Non Domestic Unrestricted",{"$f":"VLOOKUP(Vlookup!B121,Forcast_Data,9,FALSE)","v":0.62008068887977208},{"$f":"VLOOKUP(Vlookup!C121,Forcast_Data,9,FALSE)","v":0.35245420345734263},""]
["Small Non Domestic Two Rate",{"$f":"VLOOKUP(Vlookup!B122,Forcast_Data,9,FALSE)","v":0.6187554380512692},{"$f":"VLOOKUP(Vlookup!C122,Forcast_Data,9,FALSE)","v":0.43068381316121135},""]
["Small Non Domestic Off Peak (related MPAN)",null,{"$f":"VLOOKUP(Vlookup!C123,Forcast_Data,9,FALSE)","v":0.18686847121079117},""]
["LV Medium Non-Domestic",{"$f":"VLOOKUP(Vlookup!B124,Forcast_Data,9,FALSE)","v":0.80480275736975215},{"$f":"VLOOKUP(Vlookup!C124,Forcast_Data,9,FALSE)","v":0.49209979939144438},""]
["LV Sub Medium Non-Domestic",{"$f":"VLOOKUP(Vlookup!B125,Forcast_Data,9,FALSE)","v":0.80480275736975215},{"$f":"VLOOKUP(Vlookup!C125,Forcast_Data,9,FALSE)","v":0.49209979939144438},""]
["HV Medium Non-Domestic",{"$f":"VLOOKUP(Vlookup!B126,Forcast_Data,9,FALSE)","v":0.61081642184024709},{"$f":"VLOOKUP(Vlookup!C126,Forcast_Data,9,FALSE)","v":0.42201413323580622},""]
["LV HH Metered",{"$f":"VLOOKUP(Vlookup!B127,Forcast_Data,9,FALSE)","v":0.76195140420011676},{"$f":"VLOOKUP(Vlookup!C127,Forcast_Data,9,FALSE)","v":0.51926429246950712},""]
["LV Sub HH Metered",{"$f":"VLOOKUP(Vlookup!B128,Forcast_Data,9,FALSE)","v":0.76195140420011676},{"$f":"VLOOKUP(Vlookup!C128,Forcast_Data,9,FALSE)","v":0.51926429246950712},""]
["HV HH Metered",{"$f":"VLOOKUP(Vlookup!B129,Forcast_Data,9,FALSE)","v":0.77259445254116732},{"$f":"VLOOKUP(Vlookup!C129,Forcast_Data,9,FALSE)","v":0.64378616647520781},""]
["HV Sub HH Metered",{"$f":"VLOOKUP(Vlookup!B130,Forcast_Data,9,FALSE)","v":0.77259445254116732},{"$f":"VLOOKUP(Vlookup!C130,Forcast_Data,9,FALSE)","v":0.64378616647520781},""]
["NHH UMS category A",{"$f":"VLOOKUP(Vlookup!B131,Forcast_Data,9,FALSE)","v":1},{"$f":"VLOOKUP(Vlookup!C131,Forcast_Data,9,FALSE)","v":1},""]
["NHH UMS category B",{"$f":"VLOOKUP(Vlookup!B132,Forcast_Data,9,FALSE)","v":1},{"$f":"VLOOKUP(Vlookup!C132,Forcast_Data,9,FALSE)","v":0.47368294520547877}]
["NHH UMS category C",{"$f":"VLOOKUP(Vlookup!B133,Forcast_Data,9,FALSE)","v":1},{"$f":"VLOOKUP(Vlookup!C133,Forcast_Data,9,FALSE)","v":0.25800000000000001}]
["NHH UMS category D",{"$f":"VLOOKUP(Vlookup!B134,Forcast_Data,9,FALSE)","v":6.4133333333333334E-2},{"$f":"VLOOKUP(Vlookup!C134,Forcast_Data,9,FALSE)","v":0.55300000000000005}]
["LV UMS (Pseudo HH Metered)",{"$f":"VLOOKUP(Vlookup!B135,Forcast_Data,9,FALSE)","v":0.99387558706051526},{"$f":"VLOOKUP(Vlookup!C135,Forcast_Data,9,FALSE)","v":0.48773957041156946},""]
[]
["1053. Volume forecasts for the charging year"]
["",28,29,30,31,32,33]
["Source: forecast."]
["Please include MPAN counts for tariffs with no fixed charge (e.g. off-peak tariffs),"]
["but exclude MPANs on tariffs with a fixed charge that are not subject to a fixed charge due to a site grouping arrangement."]
[null,"Rate 1 units (MWh)","Rate 2 units (MWh)","Rate 3 units (MWh)","MPANs","Import capacity (kVA)","Reactive power units (MVArh)"]
["> Domestic Unrestricted"]
["Domestic Unrestricted",{"$f":"VLOOKUP(Vlookup!B144,Volume_Forecast_Data,B$138,FALSE)","v":6905007.2310872134},null,null,{"$f":"VLOOKUP(Vlookup!E144,Volume_Forecast_Data,E$138,FALSE)","v":2000771.41123502}]
["LDNO LV: Domestic Unrestricted",{"$f":"VLOOKUP(Vlookup!B145,Volume_Forecast_Data,B$138,FALSE)","v":6613.8072732190803},null,null,{"$f":"VLOOKUP(Vlookup!E145,Volume_Forecast_Data,E$138,FALSE)","v":4427.7700625500001}]
["LDNO HV: Domestic Unrestricted",{"$f":"VLOOKUP(Vlookup!B146,Volume_Forecast_Data,B$138,FALSE)","v":20626.613958827249},null,null,{"$f":"VLOOKUP(Vlookup!E146,Volume_Forecast_Data,E$138,FALSE)","v":10327.994799250002}]
["> Domestic Two Rate"]
["Domestic Two Rate",{"$f":"VLOOKUP(Vlookup!B148,Volume_Forecast_Data,B$138,FALSE)","v":990183.65443460888},{"$f":"VLOOKUP(Vlookup!C148,Volume_Forecast_Data,C$138,FALSE)","v":740509.28799821471},null,{"$f":"VLOOKUP(Vlookup!E148,Volume_Forecast_Data,E$138,FALSE)","v":327392.75241817994}]
["LDNO LV: Domestic Two Rate",{"$f":"VLOOKUP(Vlookup!B149,Volume_Forecast_Data,B$138,FALSE)","v":257.5117753807499},{"$f":"VLOOKUP(Vlookup!C149,Volume_Forecast_Data,C$138,FALSE)","v":150.73864708121999},null,{"$f":"VLOOKUP(Vlookup!E149,Volume_Forecast_Data,E$138,FALSE)","v":173.78086966999999}]
["LDNO HV: Domestic Two Rate",{"$f":"VLOOKUP(Vlookup!B150,Volume_Forecast_Data,B$138,FALSE)","v":371.62673898470996},{"$f":"VLOOKUP(Vlookup!C150,Volume_Forecast_Data,C$138,FALSE)","v":344.32275799646993},null,{"$f":"VLOOKUP(Vlookup!E150,Volume_Forecast_Data,E$138,FALSE)","v":275.76006264999995}]
["> Domestic Off Peak (related MPAN)"]
["Domestic Off Peak (related MPAN)",{"$f":"VLOOKUP(Vlookup!B152,Volume_Forecast_Data,B$138,FALSE)","v":36292.302861451186},null,null,{"$f":"VLOOKUP(Vlookup!E152,Volume_Forecast_Data,E$138,FALSE)","v":0}]
["LDNO LV: Domestic Off Peak (related MPAN)",{"$f":"VLOOKUP(Vlookup!B153,Volume_Forecast_Data,B$138,FALSE)","v":0},null,null,{"$f":"VLOOKUP(Vlookup!E153,Volume_Forecast_Data,E$138,FALSE)","v":0}]
["LDNO HV: Domestic Off Peak (related MPAN)",{"$f":"VLOOKUP(Vlookup!B154,Volume_Forecast_Data,B$138,FALSE)","v":0},null,null,{"$f":"VLOOKUP(Vlookup!E154,Volume_Forecast_Data,E$138,FALSE)","v":0}]
["> Small Non Domestic Unrestricted"]
["Small Non Domestic Unrestricted",{"$f":"VLOOKUP(Vlookup!B156,Volume_Forecast_Data,B$138,FALSE)","v":1601953.0791385549},null,null,{"$f":"VLOOKUP(Vlookup!E156,Volume_Forecast_Data,E$138,FALSE)","v":138318.12561321002}]
["LDNO LV: Small Non Domestic Unrestricted",{"$f":"VLOOKUP(Vlookup!B157,Volume_Forecast_Data,B$138,FALSE)","v":631.15096300640994},null,null,{"$f":"VLOOKUP(Vlookup!E157,Volume_Forecast_Data,E$138,FALSE)","v":108.22281704000001}]
["LDNO HV: Small Non Domestic Unrestricted",{"$f":"VLOOKUP(Vlookup!B158,Volume_Forecast_Data,B$138,FALSE)","v":6160.9025846362492},null,null,{"$f":"VLOOKUP(Vlookup!E158,Volume_Forecast_Data,E$138,FALSE)","v":400.63254385000005}]
["> Small Non Domestic Two Rate"]
["Small Non Domestic Two Rate",{"$f":"VLOOKUP(Vlookup!B160,Volume_Forecast_Data,B$138,FALSE)","v":453929.15375021711},{"$f":"VLOOKUP(Vlookup!C160,Volume_Forecast_Data,C$138,FALSE)","v":206228.16734278615},null,{"$f":"VLOOKUP(Vlookup!E160,Volume_Forecast_Data,E$138,FALSE)","v":33481.434021749999}]
["LDNO LV: Small Non Domestic Two Rate",{"$f":"VLOOKUP(Vlookup!B161,Volume_Forecast_Data,B$138,FALSE)","v":309.13420495815001},{"$f":"VLOOKUP(Vlookup!C161,Volume_Forecast_Data,C$138,FALSE)","v":90.992457047250014},null,{"$f":"VLOOKUP(Vlookup!E161,Volume_Forecast_Data,E$138,FALSE)","v":9.3654360899999993}]
["LDNO HV: Small Non Domestic Two Rate",{"$f":"VLOOKUP(Vlookup!B162,Volume_Forecast_Data,B$138,FALSE)","v":1355.79865685814},{"$f":"VLOOKUP(Vlookup!C162,Volume_Forecast_Data,C$138,FALSE)","v":349.44657711380989},null,{"$f":"VLOOKUP(Vlookup!E162,Volume_Forecast_Data,E$138,FALSE)","v":40.583556389999998}]
["> Small Non Domestic Off Peak (related MPAN)"]
["Small Non Domestic Off Peak (related MPAN)",{"$f":"VLOOKUP(Vlookup!B164,Volume_Forecast_Data,B$138,FALSE)","v":6149.4136827174971},null,null,{"$f":"VLOOKUP(Vlookup!E164,Volume_Forecast_Data,E$138,FALSE)","v":0}]
["LDNO LV: Small Non Domestic Off Peak (related MPAN)",{"$f":"VLOOKUP(Vlookup!B165,Volume_Forecast_Data,B$138,FALSE)","v":0},null,null,{"$f":"VLOOKUP(Vlookup!E165,Volume_Forecast_Data,E$138,FALSE)","v":0}]
["LDNO HV: Small Non Domestic Off Peak (related MPAN)",{"$f":"VLOOKUP(Vlookup!B166,Volume_Forecast_Data,B$138,FALSE)","v":0},null,null,{"$f":"VLOOKUP(Vlookup!E166,Volume_Forecast_Data,E$138,FALSE)","v":0}]
["> LV Medium Non-Domestic"]
["LV Medium Non-Domestic",{"$f":"VLOOKUP(Vlookup!B168,Volume_Forecast_Data,B$138,FALSE)","v":1255621.2037035793},{"$f":"VLOOKUP(Vlookup!C168,Volume_Forecast_Data,C$138,FALSE)","v":303177.08288675867},null,{"$f":"VLOOKUP(Vlookup!E168,Volume_Forecast_Data,E$138,FALSE)","v":18486.330237650003}]
["LDNO LV: LV Medium Non-Domestic",{"$f":"VLOOKUP(Vlookup!B169,Volume_Forecast_Data,B$138,FALSE)","v":293.48417476322999},{"$f":"VLOOKUP(Vlookup!C169,Volume_Forecast_Data,C$138,FALSE)","v":99.314100281880002},null,{"$f":"VLOOKUP(Vlookup!E169,Volume_Forecast_Data,E$138,FALSE)","v":7.2842280700000002}]
["LDNO HV: LV Medium Non-Domestic",{"$f":"VLOOKUP(Vlookup!B170,Volume_Forecast_Data,B$138,FALSE)","v":6297.9844382433002},{"$f":"VLOOKUP(Vlookup!C170,Volume_Forecast_Data,C$138,FALSE)","v":1474.0941342976198},null,{"$f":"VLOOKUP(Vlookup!E170,Volume_Forecast_Data,E$138,FALSE)","v":64.517448619999996}]
["> LV Sub Medium Non-Domestic"]
["LV Sub Medium Non-Domestic",{"$f":"VLOOKUP(Vlookup!B172,Volume_Forecast_Data,B$138,FALSE)","v":89.950748079622556},{"$f":"VLOOKUP(Vlookup!C172,Volume_Forecast_Data,C$138,FALSE)","v":23.623336513735023},null,{"$f":"VLOOKUP(Vlookup!E172,Volume_Forecast_Data,E$138,FALSE)","v":3.1218120300000005}]
["> HV Medium Non-Domestic"]
["HV Medium Non-Domestic",{"$f":"VLOOKUP(Vlookup!B174,Volume_Forecast_Data,B$138,FALSE)","v":35787.536293291574},{"$f":"VLOOKUP(Vlookup!C174,Volume_Forecast_Data,C$138,FALSE)","v":9819.4231999734202},null,{"$f":"VLOOKUP(Vlookup!E174,Volume_Forecast_Data,E$138,FALSE)","v":284.08489473000003}]
["> LV HH Metered"]
["LV HH Metered",{"$f":"VLOOKUP(Vlookup!B176,Volume_Forecast_Data,B$138,FALSE)","v":200938.41283116271},{"$f":"VLOOKUP(Vlookup!C176,Volume_Forecast_Data,C$138,FALSE)","v":800271.28152647964},{"$f":"VLOOKUP(Vlookup!D176,Volume_Forecast_Data,D$138,FALSE)","v":824473.00922996621},{"$f":"VLOOKUP(Vlookup!E176,Volume_Forecast_Data,E$138,FALSE)","v":6262.3549321800001},{"$f":"VLOOKUP(Vlookup!F176,Volume_Forecast_Data,F$138,FALSE)","v":983000},{"$f":"VLOOKUP(Vlookup!G176,Volume_Forecast_Data,G$138,FALSE)","v":164557.5686}]
["LDNO LV: LV HH Metered",{"$f":"VLOOKUP(Vlookup!B177,Volume_Forecast_Data,B$138,FALSE)","v":7.2171499423319991},{"$f":"VLOOKUP(Vlookup!C177,Volume_Forecast_Data,C$138,FALSE)","v":52.398975391883972},{"$f":"VLOOKUP(Vlookup!D177,Volume_Forecast_Data,D$138,FALSE)","v":1.3521349436760002},{"$f":"VLOOKUP(Vlookup!E177,Volume_Forecast_Data,E$138,FALSE)","v":1.04060401},{"$f":"VLOOKUP(Vlookup!F177,Volume_Forecast_Data,F$138,FALSE)","v":0},{"$f":"VLOOKUP(Vlookup!G177,Volume_Forecast_Data,G$138,FALSE)","v":0.81}]
["LDNO HV: LV HH Metered",{"$f":"VLOOKUP(Vlookup!B178,Volume_Forecast_Data,B$138,FALSE)","v":4125.4602530544807},{"$f":"VLOOKUP(Vlookup!C178,Volume_Forecast_Data,C$138,FALSE)","v":14014.371304389253},{"$f":"VLOOKUP(Vlookup!D178,Volume_Forecast_Data,D$138,FALSE)","v":15347.495188490948},{"$f":"VLOOKUP(Vlookup!E178,Volume_Forecast_Data,E$138,FALSE)","v":82.207716790000006},{"$f":"VLOOKUP(Vlookup!F178,Volume_Forecast_Data,F$138,FALSE)","v":19000},{"$f":"VLOOKUP(Vlookup!G178,Volume_Forecast_Data,G$138,FALSE)","v":1075.1704}]
["> LV Sub HH Metered"]
["LV Sub HH Metered",{"$f":"VLOOKUP(Vlookup!B180,Volume_Forecast_Data,B$138,FALSE)","v":2208.5155755544174},{"$f":"VLOOKUP(Vlookup!C180,Volume_Forecast_Data,C$138,FALSE)","v":8163.9604774163272},{"$f":"VLOOKUP(Vlookup!D180,Volume_Forecast_Data,D$138,FALSE)","v":10135.022396421165},{"$f":"VLOOKUP(Vlookup!E180,Volume_Forecast_Data,E$138,FALSE)","v":33.299328320000001},{"$f":"VLOOKUP(Vlookup!F180,Volume_Forecast_Data,F$138,FALSE)","v":17000},{"$f":"VLOOKUP(Vlookup!G180,Volume_Forecast_Data,G$138,FALSE)","v":603.10400000000004}]
["LDNO HV: LV Sub HH Metered",{"$f":"VLOOKUP(Vlookup!B181,Volume_Forecast_Data,B$138,FALSE)","v":179.67861913409095},{"$f":"VLOOKUP(Vlookup!C181,Volume_Forecast_Data,C$138,FALSE)","v":616.70235024119711},{"$f":"VLOOKUP(Vlookup!D181,Volume_Forecast_Data,D$138,FALSE)","v":1152.1509579037261},{"$f":"VLOOKUP(Vlookup!E181,Volume_Forecast_Data,E$138,FALSE)","v":1.04060401},{"$f":"VLOOKUP(Vlookup!F181,Volume_Forecast_Data,F$138,FALSE)","v":0},{"$f":"VLOOKUP(Vlookup!G181,Volume_Forecast_Data,G$138,FALSE)","v":675.18520000000001}]
["> HV HH Metered"]
["HV HH Metered",{"$f":"VLOOKUP(Vlookup!B183,Volume_Forecast_Data,B$138,FALSE)","v":761286.01814600849},{"$f":"VLOOKUP(Vlookup!C183,Volume_Forecast_Data,C$138,FALSE)","v":3038893.4283311474},{"$f":"VLOOKUP(Vlookup!D183,Volume_Forecast_Data,D$138,FALSE)","v":3866242.3727491917},{"$f":"VLOOKUP(Vlookup!E183,Volume_Forecast_Data,E$138,FALSE)","v":3859.6002730900004},{"$f":"VLOOKUP(Vlookup!F183,Volume_Forecast_Data,F$138,FALSE)","v":2873000},{"$f":"VLOOKUP(Vlookup!G183,Volume_Forecast_Data,G$138,FALSE)","v":1033930.8586}]
["LDNO HV: HV HH Metered",{"$f":"VLOOKUP(Vlookup!B184,Volume_Forecast_Data,B$138,FALSE)","v":1589.8595939659624},{"$f":"VLOOKUP(Vlookup!C184,Volume_Forecast_Data,C$138,FALSE)","v":5041.2527203136669},{"$f":"VLOOKUP(Vlookup!D184,Volume_Forecast_Data,D$138,FALSE)","v":5338.2231861759892},{"$f":"VLOOKUP(Vlookup!E184,Volume_Forecast_Data,E$138,FALSE)","v":9.3654360899999993},{"$f":"VLOOKUP(Vlookup!F184,Volume_Forecast_Data,F$138,FALSE)","v":6000},{"$f":"VLOOKUP(Vlookup!G184,Volume_Forecast_Data,G$138,FALSE)","v":832.24840000000006}]
["> HV Sub HH Metered"]
["HV Sub HH Metered",{"$f":"VLOOKUP(Vlookup!B186,Volume_Forecast_Data,B$138,FALSE)","v":0},{"$f":"VLOOKUP(Vlookup!C186,Volume_Forecast_Data,C$138,FALSE)","v":0},{"$f":"VLOOKUP(Vlookup!D186,Volume_Forecast_Data,D$138,FALSE)","v":0},{"$f":"VLOOKUP(Vlookup!E186,Volume_Forecast_Data,E$138,FALSE)","v":0},{"$f":"VLOOKUP(Vlookup!F186,Volume_Forecast_Data,F$138,FALSE)","v":0},{"$f":"VLOOKUP(Vlookup!G186,Volume_Forecast_Data,G$138,FALSE)","v":0}]
["> NHH UMS category A"]
["NHH UMS category A",{"$f":"VLOOKUP(Vlookup!B188,Volume_Forecast_Data,B$138,FALSE)","v":61702.110627965667},null,null,{"$f":"VLOOKUP(Vlookup!E188,Volume_Forecast_Data,E$138,FALSE)","v":0}]
["LDNO LV: NHH UMS category A",{"$f":"VLOOKUP(Vlookup!B189,Volume_Forecast_Data,B$138,FALSE)","v":39.216175884002503},null,null,{"$f":"VLOOKUP(Vlookup!E189,Volume_Forecast_Data,E$138,FALSE)","v":0}]
["LDNO HV: NHH UMS category A",{"$f":"VLOOKUP(Vlookup!B190,Volume_Forecast_Data,B$138,FALSE)","v":179.30227418370185},null,null,{"$f":"VLOOKUP(Vlookup!E190,Volume_Forecast_Data,E$138,FALSE)","v":0}]
["> NHH UMS category B"]
["NHH UMS category B",{"$f":"VLOOKUP(Vlookup!B192,Volume_Forecast_Data,B$138,FALSE)","v":32686.456295199947},null,null,{"$f":"VLOOKUP(Vlookup!E192,Volume_Forecast_Data,E$138,FALSE)","v":0}]
["LDNO LV: NHH UMS category B",{"$f":"VLOOKUP(Vlookup!B193,Volume_Forecast_Data,B$138,FALSE)","v":20.774618664606038},null,null,{"$f":"VLOOKUP(Vlookup!E193,Volume_Forecast_Data,E$138,FALSE)","v":0}]
["LDNO HV: NHH UMS category B",{"$f":"VLOOKUP(Vlookup!B194,Volume_Forecast_Data,B$138,FALSE)","v":94.98469159463761},null,null,{"$f":"VLOOKUP(Vlookup!E194,Volume_Forecast_Data,E$138,FALSE)","v":0}]
["> NHH UMS category C"]
["NHH UMS category C",{"$f":"VLOOKUP(Vlookup!B196,Volume_Forecast_Data,B$138,FALSE)","v":745.33107683943331},null,null,{"$f":"VLOOKUP(Vlookup!E196,Volume_Forecast_Data,E$138,FALSE)","v":0}]
["LDNO LV: NHH UMS category C",{"$f":"VLOOKUP(Vlookup!B197,Volume_Forecast_Data,B$138,FALSE)","v":0.47371207084609079},null,null,{"$f":"VLOOKUP(Vlookup!E197,Volume_Forecast_Data,E$138,FALSE)","v":0}]
["LDNO HV: NHH UMS category C",{"$f":"VLOOKUP(Vlookup!B198,Volume_Forecast_Data,B$138,FALSE)","v":2.165883074938566},null,null,{"$f":"VLOOKUP(Vlookup!E198,Volume_Forecast_Data,E$138,FALSE)","v":0}]
["> NHH UMS category D"]
["NHH UMS category D",{"$f":"VLOOKUP(Vlookup!B200,Volume_Forecast_Data,B$138,FALSE)","v":5299.2504885482813},null,null,{"$f":"VLOOKUP(Vlookup!E200,Volume_Forecast_Data,E$138,FALSE)","v":0}]
["LDNO LV: NHH UMS category D",{"$f":"VLOOKUP(Vlookup!B201,Volume_Forecast_Data,B$138,FALSE)","v":3.36805884105536},null,null,{"$f":"VLOOKUP(Vlookup!E201,Volume_Forecast_Data,E$138,FALSE)","v":0}]
["LDNO HV: NHH UMS category D",{"$f":"VLOOKUP(Vlookup!B202,Volume_Forecast_Data,B$138,FALSE)","v":15.399273288961847},null,null,{"$f":"VLOOKUP(Vlookup!E202,Volume_Forecast_Data,E$138,FALSE)","v":0}]
["> LV UMS (Pseudo HH Metered)"]
["LV UMS (Pseudo HH Metered)",{"$f":"VLOOKUP(Vlookup!B204,Volume_Forecast_Data,B$138,FALSE)","v":11501.823274863002},{"$f":"VLOOKUP(Vlookup!C204,Volume_Forecast_Data,C$138,FALSE)","v":26516.195302025844},{"$f":"VLOOKUP(Vlookup!D204,Volume_Forecast_Data,D$138,FALSE)","v":199955.58387974752},{"$f":"VLOOKUP(Vlookup!E204,Volume_Forecast_Data,E$138,FALSE)","v":0}]
["LDNO LV: LV UMS (Pseudo HH Metered)",{"$f":"VLOOKUP(Vlookup!B205,Volume_Forecast_Data,B$138,FALSE)","v":0},{"$f":"VLOOKUP(Vlookup!C205,Volume_Forecast_Data,C$138,FALSE)","v":0},{"$f":"VLOOKUP(Vlookup!D205,Volume_Forecast_Data,D$138,FALSE)","v":0},{"$f":"VLOOKUP(Vlookup!E205,Volume_Forecast_Data,E$138,FALSE)","v":0}]
["LDNO HV: LV UMS (Pseudo HH Metered)",{"$f":"VLOOKUP(Vlookup!B206,Volume_Forecast_Data,B$138,FALSE)","v":0},{"$f":"VLOOKUP(Vlookup!C206,Volume_Forecast_Data,C$138,FALSE)","v":0},{"$f":"VLOOKUP(Vlookup!D206,Volume_Forecast_Data,D$138,FALSE)","v":0},{"$f":"VLOOKUP(Vlookup!E206,Volume_Forecast_Data,E$138,FALSE)","v":0}]
["> LV Generation NHH"]
["LV Generation NHH",{"$f":"VLOOKUP(Vlookup!B208,Volume_Forecast_Data,B$138,FALSE)","v":427.11844929038995},null,null,{"$f":"VLOOKUP(Vlookup!E208,Volume_Forecast_Data,E$138,FALSE)","v":99.897984960000016}]
["LDNO LV: LV Generation NHH",{"$f":"VLOOKUP(Vlookup!B209,Volume_Forecast_Data,B$138,FALSE)","v":0},null,null,{"$f":"VLOOKUP(Vlookup!E209,Volume_Forecast_Data,E$138,FALSE)","v":0}]
["LDNO HV: LV Generation NHH",{"$f":"VLOOKUP(Vlookup!B210,Volume_Forecast_Data,B$138,FALSE)","v":0},null,null,{"$f":"VLOOKUP(Vlookup!E210,Volume_Forecast_Data,E$138,FALSE)","v":0}]
["> LV Sub Generation NHH"]
["LV Sub Generation NHH",{"$f":"VLOOKUP(Vlookup!B212,Volume_Forecast_Data,B$138,FALSE)","v":0},null,null,{"$f":"VLOOKUP(Vlookup!E212,Volume_Forecast_Data,E$138,FALSE)","v":0}]
["LDNO HV: LV Sub Generation NHH",{"$f":"VLOOKUP(Vlookup!B213,Volume_Forecast_Data,B$138,FALSE)","v":0},null,null,{"$f":"VLOOKUP(Vlookup!E213,Volume_Forecast_Data,E$138,FALSE)","v":0}]
["> LV Generation Intermittent"]
["LV Generation Intermittent",{"$f":"VLOOKUP(Vlookup!B215,Volume_Forecast_Data,B$138,FALSE)","v":44.835818766750009},null,null,{"$f":"VLOOKUP(Vlookup!E215,Volume_Forecast_Data,E$138,FALSE)","v":20.8120802},null,{"$f":"VLOOKUP(Vlookup!G215,Volume_Forecast_Data,G$138,FALSE)","v":16.962}]
["LDNO LV: LV Generation Intermittent",{"$f":"VLOOKUP(Vlookup!B216,Volume_Forecast_Data,B$138,FALSE)","v":0},null,null,{"$f":"VLOOKUP(Vlookup!E216,Volume_Forecast_Data,E$138,FALSE)","v":0},null,{"$f":"VLOOKUP(Vlookup!G216,Volume_Forecast_Data,G$138,FALSE)","v":0}]
["LDNO HV: LV Generation Intermittent",{"$f":"VLOOKUP(Vlookup!B217,Volume_Forecast_Data,B$138,FALSE)","v":0},null,null,{"$f":"VLOOKUP(Vlookup!E217,Volume_Forecast_Data,E$138,FALSE)","v":0},null,{"$f":"VLOOKUP(Vlookup!G217,Volume_Forecast_Data,G$138,FALSE)","v":0}]
["> LV Generation Non-Intermittent"]
["LV Generation Non-Intermittent",{"$f":"VLOOKUP(Vlookup!B219,Volume_Forecast_Data,B$138,FALSE)","v":222.19834486112995},{"$f":"VLOOKUP(Vlookup!C219,Volume_Forecast_Data,C$138,FALSE)","v":843.16218718148991},{"$f":"VLOOKUP(Vlookup!D219,Volume_Forecast_Data,D$138,FALSE)","v":1386.5857589786399},{"$f":"VLOOKUP(Vlookup!E219,Volume_Forecast_Data,E$138,FALSE)","v":59.314428569999997},null,{"$f":"VLOOKUP(Vlookup!G219,Volume_Forecast_Data,G$138,FALSE)","v":85.26939999999999}]
["LDNO LV: LV Generation Non-Intermittent",{"$f":"VLOOKUP(Vlookup!B220,Volume_Forecast_Data,B$138,FALSE)","v":0},{"$f":"VLOOKUP(Vlookup!C220,Volume_Forecast_Data,C$138,FALSE)","v":0},{"$f":"VLOOKUP(Vlookup!D220,Volume_Forecast_Data,D$138,FALSE)","v":0},{"$f":"VLOOKUP(Vlookup!E220,Volume_Forecast_Data,E$138,FALSE)","v":0},null,{"$f":"VLOOKUP(Vlookup!G220,Volume_Forecast_Data,G$138,FALSE)","v":0}]
["LDNO HV: LV Generation Non-Intermittent",{"$f":"VLOOKUP(Vlookup!B221,Volume_Forecast_Data,B$138,FALSE)","v":0},{"$f":"VLOOKUP(Vlookup!C221,Volume_Forecast_Data,C$138,FALSE)","v":0},{"$f":"VLOOKUP(Vlookup!D221,Volume_Forecast_Data,D$138,FALSE)","v":0},{"$f":"VLOOKUP(Vlookup!E221,Volume_Forecast_Data,E$138,FALSE)","v":0},null,{"$f":"VLOOKUP(Vlookup!G221,Volume_Forecast_Data,G$138,FALSE)","v":0}]
["> LV Sub Generation Intermittent"]
["LV Sub Generation Intermittent",{"$f":"VLOOKUP(Vlookup!B223,Volume_Forecast_Data,B$138,FALSE)","v":0},null,null,{"$f":"VLOOKUP(Vlookup!E223,Volume_Forecast_Data,E$138,FALSE)","v":0},null,{"$f":"VLOOKUP(Vlookup!G223,Volume_Forecast_Data,G$138,FALSE)","v":0}]
["LDNO HV: LV Sub Generation Intermittent",{"$f":"VLOOKUP(Vlookup!B224,Volume_Forecast_Data,B$138,FALSE)","v":0},null,null,{"$f":"VLOOKUP(Vlookup!E224,Volume_Forecast_Data,E$138,FALSE)","v":0},null,{"$f":"VLOOKUP(Vlookup!G224,Volume_Forecast_Data,G$138,FALSE)","v":0}]
["> LV Sub Generation Non-Intermittent"]
["LV Sub Generation Non-Intermittent",{"$f":"VLOOKUP(Vlookup!B226,Volume_Forecast_Data,B$138,FALSE)","v":0},{"$f":"VLOOKUP(Vlookup!C226,Volume_Forecast_Data,C$138,FALSE)","v":0},{"$f":"VLOOKUP(Vlookup!D226,Volume_Forecast_Data,D$138,FALSE)","v":0.29970595511999998},{"$f":"VLOOKUP(Vlookup!E226,Volume_Forecast_Data,E$138,FALSE)","v":0},null,{"$f":"VLOOKUP(Vlookup!G226,Volume_Forecast_Data,G$138,FALSE)","v":3.4596}]
["LDNO HV: LV Sub Generation Non-Intermittent",{"$f":"VLOOKUP(Vlookup!B227,Volume_Forecast_Data,B$138,FALSE)","v":0},{"$f":"VLOOKUP(Vlookup!C227,Volume_Forecast_Data,C$138,FALSE)","v":0},{"$f":"VLOOKUP(Vlookup!D227,Volume_Forecast_Data,D$138,FALSE)","v":0},{"$f":"VLOOKUP(Vlookup!E227,Volume_Forecast_Data,E$138,FALSE)","v":0},null,{"$f":"VLOOKUP(Vlookup!G227,Volume_Forecast_Data,G$138,FALSE)","v":0}]
["> HV Generation Intermittent"]
["HV Generation Intermittent",{"$f":"VLOOKUP(Vlookup!B229,Volume_Forecast_Data,B$138,FALSE)","v":948.82102410941991},null,null,{"$f":"VLOOKUP(Vlookup!E229,Volume_Forecast_Data,E$138,FALSE)","v":4.1624160400000001},null,{"$f":"VLOOKUP(Vlookup!G229,Volume_Forecast_Data,G$138,FALSE)","v":376.0514}]
["LDNO HV: HV Generation Intermittent",{"$f":"VLOOKUP(Vlookup!B230,Volume_Forecast_Data,B$138,FALSE)","v":0},null,null,{"$f":"VLOOKUP(Vlookup!E230,Volume_Forecast_Data,E$138,FALSE)","v":0},null,{"$f":"VLOOKUP(Vlookup!G230,Volume_Forecast_Data,G$138,FALSE)","v":0}]
["> HV Generation Non-Intermittent"]
["HV Generation Non-Intermittent",{"$f":"VLOOKUP(Vlookup!B232,Volume_Forecast_Data,B$138,FALSE)","v":37817.607297492985},{"$f":"VLOOKUP(Vlookup!C232,Volume_Forecast_Data,C$138,FALSE)","v":127944.62305430156},{"$f":"VLOOKUP(Vlookup!D232,Volume_Forecast_Data,D$138,FALSE)","v":251566.30566327646},{"$f":"VLOOKUP(Vlookup!E232,Volume_Forecast_Data,E$138,FALSE)","v":84.288924809999997},null,{"$f":"VLOOKUP(Vlookup!G232,Volume_Forecast_Data,G$138,FALSE)","v":4526.9914000000008}]
["LDNO HV: HV Generation Non-Intermittent",{"$f":"VLOOKUP(Vlookup!B233,Volume_Forecast_Data,B$138,FALSE)","v":0},{"$f":"VLOOKUP(Vlookup!C233,Volume_Forecast_Data,C$138,FALSE)","v":0},{"$f":"VLOOKUP(Vlookup!D233,Volume_Forecast_Data,D$138,FALSE)","v":0},{"$f":"VLOOKUP(Vlookup!E233,Volume_Forecast_Data,E$138,FALSE)","v":0},null,{"$f":"VLOOKUP(Vlookup!G233,Volume_Forecast_Data,G$138,FALSE)","v":0}]
["> HV Sub Generation Non-Intermittent"]
["HV Sub Generation Non-Intermittent",{"$f":"VLOOKUP(Vlookup!B235,Volume_Forecast_Data,B$138,FALSE)","v":0},{"$f":"VLOOKUP(Vlookup!C235,Volume_Forecast_Data,C$138,FALSE)","v":0},{"$f":"VLOOKUP(Vlookup!D235,Volume_Forecast_Data,D$138,FALSE)","v":0},{"$f":"VLOOKUP(Vlookup!E235,Volume_Forecast_Data,E$138,FALSE)","v":0},null,{"$f":"VLOOKUP(Vlookup!G235,Volume_Forecast_Data,G$138,FALSE)","v":0}]
["> HV Sub Generation Intermittent"]
["HV Sub Generation Intermittent",{"$f":"VLOOKUP(Vlookup!B237,Volume_Forecast_Data,B$138,FALSE)","v":0},null,null,{"$f":"VLOOKUP(Vlookup!E237,Volume_Forecast_Data,E$138,FALSE)","v":0},null,{"$f":"VLOOKUP(Vlookup!G237,Volume_Forecast_Data,G$138,FALSE)","v":0}]
[]
["1055. Transmission exit charges (£/year)"]
[""]
["Source: forecast."]
[null,"Transmission\nexit"]
["Transmission exit charges (£/year)",{"$f":"VLOOKUP(Vlookup!B243,Forcast_Data,9,FALSE)","v":14273346.085842669},""]
[]
["1059. Other expenditure"]
[""]
[null,"Direct cost (£/year)","Indirect cost (£/year)","Indirect cost proportion","Network rates (£/year)"]
["Other expenditure",{"$f":"VLOOKUP(Vlookup!B248,Forcast_Data,9,FALSE)","v":34939833.599088192},{"$f":"VLOOKUP(Vlookup!C248,Forcast_Data,9,FALSE)","v":143987621.42260465},{"$f":"VLOOKUP(Vlookup!D248,Forcast_Data,9,FALSE)","v":0.6},{"$f":"VLOOKUP(Vlookup!E248,Forcast_Data,9,FALSE)","v":28615179.49711062},""]
[]
["1060. Customer contributions under current connection charging policy"]
[]
["Source: analysis of expenditure data and/or survey of capital expenditure schemes."]
["Customer contribution percentages by network level of supply and by asset network level."]
["These proportions should reflect the current connection charging method, not necessarily the method that was in place when the connection was built."]
[null,"Assets\n132kV","Assets\n132kV/EHV","Assets\nEHV","Assets\nEHV/HV","Assets\n132kV/HV","Assets\nHV","Assets\nHV/LV","Assets\nLV circuits"]
["LV network",{"$f":"VLOOKUP(Vlookup!B256,Forcast_Data,9,FALSE)","v":0},{"$f":"VLOOKUP(Vlookup!C256,Forcast_Data,9,FALSE)","v":0},{"$f":"VLOOKUP(Vlookup!D256,Forcast_Data,9,FALSE)","v":0},{"$f":"VLOOKUP(Vlookup!E256,Forcast_Data,9,FALSE)","v":0},{"$f":"VLOOKUP(Vlookup!F256,Forcast_Data,9,FALSE)","v":0},{"$f":"VLOOKUP(Vlookup!G256,Forcast_Data,9,FALSE)","v":0.38684969697494365},{"$f":"VLOOKUP(Vlookup!H256,Forcast_Data,9,FALSE)","v":0.64124825573068889},{"$f":"VLOOKUP(Vlookup!I256,Forcast_Data,9,FALSE)","v":0.89564681448643413},""]
["LV substation",{"$f":"VLOOKUP(Vlookup!B257,Forcast_Data,9,FALSE)","v":0},{"$f":"VLOOKUP(Vlookup!C257,Forcast_Data,9,FALSE)","v":0},{"$f":"VLOOKUP(Vlookup!D257,Forcast_Data,9,FALSE)","v":0},{"$f":"VLOOKUP(Vlookup!E257,Forcast_Data,9,FALSE)","v":0},{"$f":"VLOOKUP(Vlookup!F257,Forcast_Data,9,FALSE)","v":0},{"$f":"VLOOKUP(Vlookup!G257,Forcast_Data,9,FALSE)","v":0.38684969697494365},{"$f":"VLOOKUP(Vlookup!H257,Forcast_Data,9,FALSE)","v":0.64124825573068889},null,""]
["HV network",{"$f":"VLOOKUP(Vlookup!B258,Forcast_Data,9,FALSE)","v":0},{"$f":"VLOOKUP(Vlookup!C258,Forcast_Data,9,FALSE)","v":0},{"$f":"VLOOKUP(Vlookup!D258,Forcast_Data,9,FALSE)","v":0},{"$f":"VLOOKUP(Vlookup!E258,Forcast_Data,9,FALSE)","v":0.25764106948138837},{"$f":"VLOOKUP(Vlookup!F258,Forcast_Data,9,FALSE)","v":0.25764106948138837},{"$f":"VLOOKUP(Vlookup!G258,Forcast_Data,9,FALSE)","v":0.51528213896277675},null,null,""]
["HV substation",{"$f":"VLOOKUP(Vlookup!B259,Forcast_Data,9,FALSE)","v":0},{"$f":"VLOOKUP(Vlookup!C259,Forcast_Data,9,FALSE)","v":0},{"$f":"VLOOKUP(Vlookup!D259,Forcast_Data,9,FALSE)","v":0},{"$f":"VLOOKUP(Vlookup!E259,Forcast_Data,9,FALSE)","v":0.25764106948138837},null,null,null,null,""]
[]
["1061. Average split of rate 1 units by distribution time band"]
[]
[null,"Red","Amber","Green"]
["Domestic Two Rate",{"$f":"VLOOKUP(Vlookup!B269,Forcast_Data,9,FALSE)","v":0.14890278426189216},{"$f":"VLOOKUP(Vlookup!C269,Forcast_Data,9,FALSE)","v":0.41118526043131326},{"$f":"VLOOKUP(Vlookup!D269,Forcast_Data,9,FALSE)","v":0.43991195530679456},""]
["Domestic Off Peak (related MPAN)",{"$f":"VLOOKUP(Vlookup!B270,Forcast_Data,9,FALSE)","v":2.2966880173443485E-3},{"$f":"VLOOKUP(Vlookup!C270,Forcast_Data,9,FALSE)","v":0.2056778896815693},{"$f":"VLOOKUP(Vlookup!D270,Forcast_Data,9,FALSE)","v":0.7920254223010863},""]
["Small Non Domestic Two Rate",{"$f":"VLOOKUP(Vlookup!B271,Forcast_Data,9,FALSE)","v":0.13326282626713307},{"$f":"VLOOKUP(Vlookup!C271,Forcast_Data,9,FALSE)","v":0.53523461585794074},{"$f":"VLOOKUP(Vlookup!D271,Forcast_Data,9,FALSE)","v":0.33150255787492622},""]
["Small Non Domestic Off Peak (related MPAN)",{"$f":"VLOOKUP(Vlookup!B272,Forcast_Data,9,FALSE)","v":1.8394107775813375E-2},{"$f":"VLOOKUP(Vlookup!C272,Forcast_Data,9,FALSE)","v":0.17098236297510325},{"$f":"VLOOKUP(Vlookup!D272,Forcast_Data,9,FALSE)","v":0.81062352924908332},""]
["LV Medium Non-Domestic",{"$f":"VLOOKUP(Vlookup!B273,Forcast_Data,9,FALSE)","v":0.13922071459848015},{"$f":"VLOOKUP(Vlookup!C273,Forcast_Data,9,FALSE)","v":0.53278444505652578},{"$f":"VLOOKUP(Vlookup!D273,Forcast_Data,9,FALSE)","v":0.3279948403449941},""]
["LV Sub Medium Non-Domestic",{"$f":"VLOOKUP(Vlookup!B274,Forcast_Data,9,FALSE)","v":0.13922071459848015},{"$f":"VLOOKUP(Vlookup!C274,Forcast_Data,9,FALSE)","v":0.53278444505652578},{"$f":"VLOOKUP(Vlookup!D274,Forcast_Data,9,FALSE)","v":0.3279948403449941},""]
["HV Medium Non-Domestic",{"$f":"VLOOKUP(Vlookup!B275,Forcast_Data,9,FALSE)","v":0.1327379630534701},{"$f":"VLOOKUP(Vlookup!C275,Forcast_Data,9,FALSE)","v":0.56664216163065484},{"$f":"VLOOKUP(Vlookup!D275,Forcast_Data,9,FALSE)","v":0.30061987531587503},""]
[]
["1062. Average split of rate 2 units by distribution time band"]
[]
[null,"Red","Amber","Green"]
["Domestic Two Rate",{"$f":"VLOOKUP(Vlookup!B283,Forcast_Data,9,FALSE)","v":0},{"$f":"VLOOKUP(Vlookup!C283,Forcast_Data,9,FALSE)","v":0},{"$f":"VLOOKUP(Vlookup!D283,Forcast_Data,9,FALSE)","v":1},""]
["Small Non Domestic Two Rate",{"$f":"VLOOKUP(Vlookup!B284,Forcast_Data,9,FALSE)","v":0},{"$f":"VLOOKUP(Vlookup!C284,Forcast_Data,9,FALSE)","v":0},{"$f":"VLOOKUP(Vlookup!D284,Forcast_Data,9,FALSE)","v":1},""]
["LV Medium Non-Domestic",{"$f":"VLOOKUP(Vlookup!B285,Forcast_Data,9,FALSE)","v":0},{"$f":"VLOOKUP(Vlookup!C285,Forcast_Data,9,FALSE)","v":0},{"$f":"VLOOKUP(Vlookup!D285,Forcast_Data,9,FALSE)","v":1},""]
["LV Sub Medium Non-Domestic",{"$f":"VLOOKUP(Vlookup!B286,Forcast_Data,9,FALSE)","v":0},{"$f":"VLOOKUP(Vlookup!C286,Forcast_Data,9,FALSE)","v":0},{"$f":"VLOOKUP(Vlookup!D286,Forcast_Data,9,FALSE)","v":1},""]
["HV Medium Non-Domestic",{"$f":"VLOOKUP(Vlookup!B287,Forcast_Data,9,FALSE)","v":0},{"$f":"VLOOKUP(Vlookup!C287,Forcast_Data,9,FALSE)","v":0},{"$f":"VLOOKUP(Vlookup!D287,Forcast_Data,9,FALSE)","v":1},""]
[]
["1064. Average split of rate 1 units by special distribution time band"]
[]
[null,"Red","Amber","Green",""]
["NHH UMS category A",{"$f":"VLOOKUP(Vlookup!B292,Forcast_Data,9,FALSE)","v":2.9680365296803651E-2},{"$f":"VLOOKUP(Vlookup!C292,Forcast_Data,9,FALSE)","v":0.37254566210045664},{"$f":"VLOOKUP(Vlookup!D292,Forcast_Data,9,FALSE)","v":0.59777397260273968},""]
["NHH UMS category B",{"$f":"VLOOKUP(Vlookup!B293,Forcast_Data,9,FALSE)","v":4.9247533453833446E-2},{"$f":"VLOOKUP(Vlookup!C293,Forcast_Data,9,FALSE)","v":8.8278432042188382E-2},{"$f":"VLOOKUP(Vlookup!D293,Forcast_Data,9,FALSE)","v":0.86247403450397819},""]
["NHH UMS category C",{"$f":"VLOOKUP(Vlookup!B294,Forcast_Data,9,FALSE)","v":9.6056827605747144E-2},{"$f":"VLOOKUP(Vlookup!C294,Forcast_Data,9,FALSE)","v":0.17696296513012377},{"$f":"VLOOKUP(Vlookup!D294,Forcast_Data,9,FALSE)","v":0.72698020726412915},""]
["NHH UMS category D",{"$f":"VLOOKUP(Vlookup!B295,Forcast_Data,9,FALSE)","v":1.6971783970887895E-2},{"$f":"VLOOKUP(Vlookup!C295,Forcast_Data,9,FALSE)","v":0.60828178839872815},{"$f":"VLOOKUP(Vlookup!D295,Forcast_Data,9,FALSE)","v":0.37474642763038385},""]
[]
["1066. Typical annual hours by special distribution time band"]
["Source: definition of distribution time bands."]
["The figures in this table will be automatically adjusted to match the number of days in the charging period."]
[]
[null,"Red","Amber","Green"]
["Annual hours",{"$f":"VLOOKUP(Vlookup!B302,Forcast_Data,9,FALSE)","v":258},{"$f":"VLOOKUP(Vlookup!C302,Forcast_Data,9,FALSE)","v":3265.5},{"$f":"VLOOKUP(Vlookup!D302,Forcast_Data,9,FALSE)","v":5236.5},""]
[]
["1068. Typical annual hours by distribution time band"]
[]
["Source: definition of distribution time bands."]
["The figures in this table will be automatically adjusted to match the number of days in the charging period."]
[null,"Red","Amber","Green"]
["Annual hours",{"$f":"VLOOKUP(Vlookup!B309,Forcast_Data,9,FALSE)","v":783},{"$f":"VLOOKUP(Vlookup!C309,Forcast_Data,9,FALSE)","v":2740.5},{"$f":"VLOOKUP(Vlookup!D309,Forcast_Data,9,FALSE)","v":5236.5},""]
[]
["1069. Peaking probabilities by network level"]
[]
[]
["Source: analysis of network operation data."]
[null,"Red","Amber","Green","Black"]
["GSPs",{"$f":"VLOOKUP(Vlookup!B315,Forcast_Data,9,FALSE)","v":0.90713490721324597},{"$f":"VLOOKUP(Vlookup!C315,Forcast_Data,9,FALSE)","v":8.5943651473687752E-2},{"$f":"VLOOKUP(Vlookup!D315,Forcast_Data,9,FALSE)","v":6.9214413130663024E-3},{"$f":"VLOOKUP(Vlookup!E315,Forcast_Data,9,FALSE)","v":0.47623207722750621},""]
["132kV",{"$f":"VLOOKUP(Vlookup!B316,Forcast_Data,9,FALSE)","v":0.71771031215339598},{"$f":"VLOOKUP(Vlookup!C316,Forcast_Data,9,FALSE)","v":0.25348688310500261},{"$f":"VLOOKUP(Vlookup!D316,Forcast_Data,9,FALSE)","v":2.8802804741601341E-2},{"$f":"VLOOKUP(Vlookup!E316,Forcast_Data,9,FALSE)","v":0.5027642206564088},""]
["132kV/EHV",{"$f":"VLOOKUP(Vlookup!B317,Forcast_Data,9,FALSE)","v":0.71771031215339598},{"$f":"VLOOKUP(Vlookup!C317,Forcast_Data,9,FALSE)","v":0.25348688310500261},{"$f":"VLOOKUP(Vlookup!D317,Forcast_Data,9,FALSE)","v":2.8802804741601341E-2},{"$f":"VLOOKUP(Vlookup!E317,Forcast_Data,9,FALSE)","v":0.5027642206564088},""]
["EHV",{"$f":"VLOOKUP(Vlookup!B318,Forcast_Data,9,FALSE)","v":0.66033153174473114},{"$f":"VLOOKUP(Vlookup!C318,Forcast_Data,9,FALSE)","v":0.26482907568205305},{"$f":"VLOOKUP(Vlookup!D318,Forcast_Data,9,FALSE)","v":7.4839392573215757E-2},{"$f":"VLOOKUP(Vlookup!E318,Forcast_Data,9,FALSE)","v":0.5314588887042806},""]
["EHV/HV",{"$f":"VLOOKUP(Vlookup!B319,Forcast_Data,9,FALSE)","v":0.66033153174473114},{"$f":"VLOOKUP(Vlookup!C319,Forcast_Data,9,FALSE)","v":0.26482907568205305},{"$f":"VLOOKUP(Vlookup!D319,Forcast_Data,9,FALSE)","v":7.4839392573215757E-2},{"$f":"VLOOKUP(Vlookup!E319,Forcast_Data,9,FALSE)","v":0.5314588887042806},""]
["132kV/HV",{"$f":"VLOOKUP(Vlookup!B320,Forcast_Data,9,FALSE)","v":0.71771031215339598},{"$f":"VLOOKUP(Vlookup!C320,Forcast_Data,9,FALSE)","v":0.25348688310500261},{"$f":"VLOOKUP(Vlookup!D320,Forcast_Data,9,FALSE)","v":2.8802804741601341E-2},{"$f":"VLOOKUP(Vlookup!E320,Forcast_Data,9,FALSE)","v":0.5027642206564088},""]
["HV",{"$f":"VLOOKUP(Vlookup!B321,Forcast_Data,9,FALSE)","v":0.66033153174473114},{"$f":"VLOOKUP(Vlookup!C321,Forcast_Data,9,FALSE)","v":0.26482907568205305},{"$f":"VLOOKUP(Vlookup!D321,Forcast_Data,9,FALSE)","v":7.4839392573215757E-2},{"$f":"VLOOKUP(Vlookup!E321,Forcast_Data,9,FALSE)","v":0.5314588887042806},""]
["HV/LV",{"$f":"VLOOKUP(Vlookup!B322,Forcast_Data,9,FALSE)","v":0.66033153174473114},{"$f":"VLOOKUP(Vlookup!C322,Forcast_Data,9,FALSE)","v":0.26482907568205305},{"$f":"VLOOKUP(Vlookup!D322,Forcast_Data,9,FALSE)","v":7.4839392573215757E-2},{"$f":"VLOOKUP(Vlookup!E322,Forcast_Data,9,FALSE)","v":0.5314588887042806},""]
["LV circuits",{"$f":"VLOOKUP(Vlookup!B323,Forcast_Data,9,FALSE)","v":0.66033153174473114},{"$f":"VLOOKUP(Vlookup!C323,Forcast_Data,9,FALSE)","v":0.26482907568205305},{"$f":"VLOOKUP(Vlookup!D323,Forcast_Data,9,FALSE)","v":7.4839392573215757E-2},{"$f":"VLOOKUP(Vlookup!E323,Forcast_Data,9,FALSE)","v":0.5314588887042806},""]
[]
["1076. Target revenue"]
[""]
["Source: forecast."]
[null,"Allowed revenue (£/year)"]
["Target revenue",{"$f":"VLOOKUP(Vlookup!B329,Forcast_Data,9,FALSE)","v":486841960.49416137},""]
[]
["1092. Average kVAr by kVA, by network level"]
[""]
["Source: analysis of operational data."]
["This is the average of MVAr/MVA or SQRT(1-PF^2) across relevant network elements."]
[null,"GSPs","132kV","132kV/EHV","EHV","EHV/HV","132kV/HV","HV","HV/LV","LV circuits"]
["Average kVAr by kVA, by network level",{"$f":"VLOOKUP(Vlookup!B336,Forcast_Data,9,FALSE)","v":0.2810621222726124},{"$f":"VLOOKUP(Vlookup!C336,Forcast_Data,9,FALSE)","v":0.2810621222726124},{"$f":"VLOOKUP(Vlookup!D336,Forcast_Data,9,FALSE)","v":0.2810621222726124},{"$f":"VLOOKUP(Vlookup!E336,Forcast_Data,9,FALSE)","v":0.2810621222726124},{"$f":"VLOOKUP(Vlookup!F336,Forcast_Data,9,FALSE)","v":0.2810621222726124},{"$f":"VLOOKUP(Vlookup!G336,Forcast_Data,9,FALSE)","v":0.2810621222726124},{"$f":"VLOOKUP(Vlookup!H336,Forcast_Data,9,FALSE)","v":0.2810621222726124},{"$f":"VLOOKUP(Vlookup!I336,Forcast_Data,9,FALSE)","v":0.2810621222726124},{"$f":"VLOOKUP(Vlookup!J336,Forcast_Data,9,FALSE)","v":0.2810621222726124},""]
[]
["1201. Current tariff information"]
[""]
[null,"Current revenues if known (£/year)","Current Unit rate 1 p/kWh","Current Unit rate 2 p/kWh","Current Unit rate 3 p/kWh","Current Fixed charge p/MPAN/day","Current Capacity charge p/kVA/day","Current Reactive power charge p/kVArh"]
["Domestic Unrestricted",130826862,null,null,null,null,null,null,""]
["Domestic Two Rate",15098369,null,null,null,null,null,null,""]
["Domestic Off Peak (related MPAN)",146557,null,null,null,null,null,null,""]
["Small Non Domestic Unrestricted",29063999,null,null,null,null,null,null,""]
["Small Non Domestic Two Rate",6925425,null,null,null,null,null,null,""]
["Small Non Domestic Off Peak (related MPAN)",null,null,null,null,null,null,null,""]
["LV Medium Non-Domestic",19761662,null,null,null,null,null,null,""]
["LV Sub Medium Non-Domestic",733648,null,null,null,null,null,null,""]
["HV Medium Non-Domestic",266631,null,null,null,null,null,null,""]
["LV HH Metered",22598111,null,null,0,null,null,0,""]
["LV Sub HH Metered",14598953,null,null,0,null,null,0,""]
["HV HH Metered",41609304,null,null,0,null,null,0,""]
["HV Sub HH Metered",6392480,null,null,0,null,null,0,""]
["NHH UMS category A",540187,null,null,null,null,null,null,""]
["NHH UMS category B",540187,null,null,null,null,null,null,""]
["NHH UMS category C",540187,null,null,null,null,null,null,""]
["NHH UMS category D",540187,null,null,null,null,null,null,""]
["LV UMS (Pseudo HH Metered)",4899607,null,null,0,null,null,null,""]

{"sheet":"Tariffs","index":14,"n_rows":391,"n_cols":12,"rows_kept":391,"cut":false,"hidden":false,"merged":[[320,2,320,7],[4,5,6,13],[16,2,16,7],[92,2,92,7],[168,2,168,7],[244,2,244,7]]}
[]
[null,{"$f":"'CDCM Forecast Data'!F3&\" - 5 Year Tariff Summary\"","v":"WPD Mid West - 5 Year Tariff Summary"}]
[]
[]
[null,null,null,"Shortcut",null,"Note: These tariffs are based on the assumptions set out in the CDCM forecast Data and CDCM Volume Forecast sheets.\nIf the assumptions in these sheets have been changed, the tariffs can be updated by pressing the button below."]
[null,null,"Year 0:",{"$f":"+'CDCM Volume Forecasts'!G6","v":"2013/14"}]
[null,null,"Year 1:",{"$f":"+'CDCM Volume Forecasts'!H6","v":"2014/15"}]
[null,null,"Year 2:",{"$f":"+'CDCM Volume Forecasts'!I6","v":"2015/16"}]
[null,null,"Year 3:",{"$f":"+'CDCM Volume Forecasts'!J6","v":"2016/17"}]
[null,null,"Year 4:",{"$f":"+'CDCM Volume Forecasts'!K6","v":"2017/18"}]
[]
[]
[]
[]
[]
[]
[null,null,{"$f":"\"Tariffs for Charging Year: \"& \" \"&D6&\"\"","v":"Tariffs for Charging Year:  2013/14"}]
[]
[]
[null,null,null,"Open LLFCs","PCs","Unit rate 1 p/kWh","Unit rate 2 p/kWh","Unit rate 3 p/kWh","Fixed charge p/MPAN/day","Capacity charge p/kVA/day","Reactive power charge p/kVArh","Closed LLFCs"]
[null,null,"Domestic Unrestricted",{"$f":"'Tariffs (2)'!B15","v":"1"},{"$f":"'Tariffs (2)'!C15","v":1},2.1829999999999998,0,0,4.82,0,0,{"$f":"'Tariffs (2)'!J15","v":"2, 3"}]
[null,null,"Domestic Two Rate",{"$f":"'Tariffs (2)'!B16","v":"4"},{"$f":"'Tariffs (2)'!C16","v":2},2.5099999999999998,0.104,0,4.82,0,0,{"$f":"'Tariffs (2)'!J16","v":"5, 6, 30"}]
[null,null,"Domestic Off Peak (related MPAN)",{"$f":"'Tariffs (2)'!B17","v":"34"},{"$f":"'Tariffs (2)'!C17","v":2},0.20100000000000001,0,0,0,0,0,{"$f":"'Tariffs (2)'!J17","v":"35, 36"}]
[null,null,"Small Non Domestic Unrestricted",{"$f":"'Tariffs (2)'!B18","v":"7"},{"$f":"'Tariffs (2)'!C18","v":3},1.7230000000000001,0,0,6.25,0,0,{"$f":"'Tariffs (2)'!J18","v":"8, 9, 13, 14, 15, 46, 47, 49, 107, 108, 109"}]
[null,null,"Small Non Domestic Two Rate",{"$f":"'Tariffs (2)'!B19","v":"10"},{"$f":"'Tariffs (2)'!C19","v":4},2.0569999999999999,8.8999999999999996E-2,0,6.25,0,0,{"$f":"'Tariffs (2)'!J19","v":"11, 12, 110, 111, 112"}]
[null,null,"Small Non Domestic Off Peak (related MPAN)",{"$f":"'Tariffs (2)'!B20","v":"40"},{"$f":"'Tariffs (2)'!C20","v":4},0.313,0,0,0,0,0,{"$f":"'Tariffs (2)'!J20","v":"41, 42"}]
[null,null,"LV Medium Non-Domestic",{"$f":"'Tariffs (2)'!B21","v":"21"},{"$f":"'Tariffs (2)'!C21","v":"5-8"},1.976,8.3000000000000004E-2,0,37.020000000000003,0,0,{"$f":"'Tariffs (2)'!J21","v":"20, 22, 25, 26, 27"}]
[null,null,"LV Sub Medium Non-Domestic",{"$f":"'Tariffs (2)'!B22","v":"19"},{"$f":"'Tariffs (2)'!C22","v":"5-8"},1.774,6.6000000000000003E-2,0,24.13,0,0,{"$f":"'Tariffs (2)'!J22","v":0}]
[null,null,"HV Medium Non-Domestic",{"$f":"'Tariffs (2)'!B23","v":"322, 323"},{"$f":"'Tariffs (2)'!C23","v":"5-8"},1.0049999999999999,0.02,0,349.93,0,0,{"$f":"'Tariffs (2)'!J23","v":"121, 124, 132"}]
[null,null,"LV HH Metered",{"$f":"'Tariffs (2)'!B24","v":"127, 129"},{"$f":"'Tariffs (2)'!C24","v":0},8.7050000000000001,0.627,5.6000000000000001E-2,10.42,3.22,0.33200000000000002,{"$f":"'Tariffs (2)'!J24","v":0}]
[null,null,"LV Sub HH Metered",{"$f":"'Tariffs (2)'!B25","v":"128"},{"$f":"'Tariffs (2)'!C25","v":0},7.452,0.48099999999999998,3.4000000000000002E-2,10.42,4.21,0.26700000000000002,{"$f":"'Tariffs (2)'!J25","v":130}]
[null,null,"HV HH Metered",{"$f":"'Tariffs (2)'!B26","v":"365, 367"},{"$f":"'Tariffs (2)'!C26","v":0},5.298,0.29199999999999998,1.7000000000000001E-2,104.75,4.95,0.17100000000000001,{"$f":"'Tariffs (2)'!J26","v":0}]
[null,null,"HV Sub HH Metered",{"$f":"'Tariffs (2)'!B27","v":"N/A"},{"$f":"'Tariffs (2)'!C27","v":0},5.4240000000000004,0.32500000000000001,1.7999999999999999E-2,104.75,4.2,0.191,{"$f":"'Tariffs (2)'!J27","v":0}]
[null,null,"NHH UMS category A",{"$f":"'Tariffs (2)'!B28","v":"95"},{"$f":"'Tariffs (2)'!C28","v":8},1.9239999999999999,0,0,0,0,0,{"$f":"'Tariffs (2)'!J28","v":0}]
[null,null,"NHH UMS category B",{"$f":"'Tariffs (2)'!B29","v":"96"},{"$f":"'Tariffs (2)'!C29","v":1},2.3690000000000002,0,0,0,0,0,{"$f":"'Tariffs (2)'!J29","v":0}]
[null,null,"NHH UMS category C",{"$f":"'Tariffs (2)'!B30","v":"97"},{"$f":"'Tariffs (2)'!C30","v":1},3.931,0,0,0,0,0,{"$f":"'Tariffs (2)'!J30","v":0}]
[null,null,"NHH UMS category D",{"$f":"'Tariffs (2)'!B31","v":"98"},{"$f":"'Tariffs (2)'!C31","v":1},1.669,0,0,0,0,0,{"$f":"'Tariffs (2)'!J31","v":0}]
[null,null,"LV UMS (Pseudo HH Metered)",{"$f":"'Tariffs (2)'!B32","v":"99"},{"$f":"'Tariffs (2)'!C32","v":0},32.872,1.377,0.72799999999999998,0,0,0,{"$f":"'Tariffs (2)'!J32","v":0}]
[null,null,"LV Generation NHH",{"$f":"'Tariffs (2)'!B33","v":"625"},{"$f":"'Tariffs (2)'!C33","v":8},-0.70199999999999996,0,0,0,0,0,{"$f":"'Tariffs (2)'!J33","v":0}]
[null,null,"LV Sub Generation NHH",{"$f":"'Tariffs (2)'!B34","v":"570"},{"$f":"'Tariffs (2)'!C34","v":8},-0.59199999999999997,0,0,0,0,0,{"$f":"'Tariffs (2)'!J34","v":0}]
[null,null,"LV Generation Intermittent",{"$f":"'Tariffs (2)'!B35","v":"571"},{"$f":"'Tariffs (2)'!C35","v":0},-0.70199999999999996,0,0,0,0,0.27900000000000003,{"$f":"'Tariffs (2)'!J35","v":0}]
[null,null,"LV Generation Non-Intermittent",{"$f":"'Tariffs (2)'!B36","v":"573"},{"$f":"'Tariffs (2)'!C36","v":0},-5.4820000000000002,-0.56299999999999994,-0.06,0,0,0.27900000000000003,{"$f":"'Tariffs (2)'!J36","v":0}]
[null,null,"LV Sub Generation Intermittent",{"$f":"'Tariffs (2)'!B37","v":"572"},{"$f":"'Tariffs (2)'!C37","v":0},-0.59199999999999997,0,0,0,0,0.251,{"$f":"'Tariffs (2)'!J37","v":0}]
[null,null,"LV Sub Generation Non-Intermittent",{"$f":"'Tariffs (2)'!B38","v":"574"},{"$f":"'Tariffs (2)'!C38","v":0},-4.6609999999999996,-0.47099999999999997,-4.7E-2,0,0,0.251,{"$f":"'Tariffs (2)'!J38","v":0}]
[null,null,"HV Generation Intermittent",{"$f":"'Tariffs (2)'!B39","v":"575"},{"$f":"'Tariffs (2)'!C39","v":0},-0.38700000000000001,0,0,17.98,0,0.20599999999999999,{"$f":"'Tariffs (2)'!J39","v":0}]
[null,null,"HV Generation Non-Intermittent",{"$f":"'Tariffs (2)'!B40","v":"577"},{"$f":"'Tariffs (2)'!C40","v":0},-3.1349999999999998,-0.29799999999999999,-2.1999999999999999E-2,17.98,0,0.20599999999999999,{"$f":"'Tariffs (2)'!J40","v":0}]
[null,null,"HV Sub Generation Non-Intermittent",{"$f":"'Tariffs (2)'!B41","v":"N/A"},{"$f":"'Tariffs (2)'!C41","v":0},-0.40500000000000003,0,0,17.98,0,0.13,{"$f":"'Tariffs (2)'!J41","v":0}]
[null,null,"HV Sub Generation Intermittent",{"$f":"'Tariffs (2)'!B42","v":"N/A"},{"$f":"'Tariffs (2)'!C42","v":0},-3.2789999999999999,-0.313,-2.4E-2,17.98,0,0.13,{"$f":"'Tariffs (2)'!J42","v":0}]
[null,null,"LDNO LV: Domestic Unrestricted",{"$f":"'Tariffs (2)'!B43","v":"200"},{"$f":"'Tariffs (2)'!C43","v":1},1.5089999999999999,0,0,3.33,0,0,{"$f":"'Tariffs (2)'!J43","v":0}]
[null,null,"LDNO LV: Domestic Two Rate",{"$f":"'Tariffs (2)'!B44","v":"201"},{"$f":"'Tariffs (2)'!C44","v":2},1.7350000000000001,7.1999999999999995E-2,0,3.33,0,0,{"$f":"'Tariffs (2)'!J44","v":0}]
[null,null,"LDNO LV: Domestic Off Peak (related MPAN)",{"$f":"'Tariffs (2)'!B45","v":"202"},{"$f":"'Tariffs (2)'!C45","v":2},0.13900000000000001,0,0,0,0,0,{"$f":"'Tariffs (2)'!J45","v":0}]
[null,null,"LDNO LV: Small Non Domestic Unrestricted",{"$f":"'Tariffs (2)'!B46","v":"203"},{"$f":"'Tariffs (2)'!C46","v":3},1.1910000000000001,0,0,4.32,0,0,{"$f":"'Tariffs (2)'!J46","v":0}]
[null,null,"LDNO LV: Small Non Domestic Two Rate",{"$f":"'Tariffs (2)'!B47","v":"204"},{"$f":"'Tariffs (2)'!C47","v":4},1.4219999999999999,6.2E-2,0,4.32,0,0,{"$f":"'Tariffs (2)'!J47","v":0}]
[null,null,"LDNO LV: Small Non Domestic Off Peak (related MPAN)",{"$f":"'Tariffs (2)'!B48","v":"205"},{"$f":"'Tariffs (2)'!C48","v":4},0.216,0,0,0,0,0,{"$f":"'Tariffs (2)'!J48","v":0}]
[null,null,"LDNO LV: LV Medium Non-Domestic",{"$f":"'Tariffs (2)'!B49","v":"206"},{"$f":"'Tariffs (2)'!C49","v":"5-8"},1.3660000000000001,5.7000000000000002E-2,0,25.59,0,0,{"$f":"'Tariffs (2)'!J49","v":0}]
[null,null,"LDNO LV: LV HH Metered",{"$f":"'Tariffs (2)'!B50","v":"207"},{"$f":"'Tariffs (2)'!C50","v":0},6.0170000000000003,0.433,3.9E-2,7.2,2.23,0.22900000000000001,{"$f":"'Tariffs (2)'!J50","v":0}]
[null,null,"LDNO LV: NHH UMS category A",{"$f":"'Tariffs (2)'!B51","v":"252"},{"$f":"'Tariffs (2)'!C51","v":8},1.33,0,0,0,0,0,{"$f":"'Tariffs (2)'!J51","v":0}]
[null,null,"LDNO LV: NHH UMS category B",{"$f":"'Tariffs (2)'!B52","v":"208"},{"$f":"'Tariffs (2)'!C52","v":1},1.637,0,0,0,0,0,{"$f":"'Tariffs (2)'!J52","v":0}]
[null,null,"LDNO LV: NHH UMS category C",{"$f":"'Tariffs (2)'!B53","v":"253"},{"$f":"'Tariffs (2)'!C53","v":1},2.7170000000000001,0,0,0,0,0,{"$f":"'Tariffs (2)'!J53","v":0}]
[null,null,"LDNO LV: NHH UMS category D",{"$f":"'Tariffs (2)'!B54","v":"24"},{"$f":"'Tariffs (2)'!C54","v":1},1.1539999999999999,0,0,0,0,0,{"$f":"'Tariffs (2)'!J54","v":0}]
[null,null,"LDNO LV: LV UMS (Pseudo HH Metered)",{"$f":"'Tariffs (2)'!B55","v":"209"},{"$f":"'Tariffs (2)'!C55","v":0},22.72,0.95199999999999996,0.503,0,0,0,{"$f":"'Tariffs (2)'!J55","v":0}]
[null,null,"LDNO LV: LV Generation NHH",{"$f":"'Tariffs (2)'!B56","v":"210"},{"$f":"'Tariffs (2)'!C56","v":8},-0.70199999999999996,0,0,0,0,0,{"$f":"'Tariffs (2)'!J56","v":0}]
[null,null,"LDNO LV: LV Generation Intermittent",{"$f":"'Tariffs (2)'!B57","v":"211"},{"$f":"'Tariffs (2)'!C57","v":0},-0.70199999999999996,0,0,0,0,0.27900000000000003,{"$f":"'Tariffs (2)'!J57","v":0}]
[null,null,"LDNO LV: LV Generation Non-Intermittent",{"$f":"'Tariffs (2)'!B58","v":"212"},{"$f":"'Tariffs (2)'!C58","v":0},-5.4820000000000002,-0.56299999999999994,-0.06,0,0,0.27900000000000003,{"$f":"'Tariffs (2)'!J58","v":0}]
[null,null,"LDNO HV: Domestic Unrestricted",{"$f":"'Tariffs (2)'!B59","v":"213"},{"$f":"'Tariffs (2)'!C59","v":1},1.0900000000000001,0,0,2.41,0,0,{"$f":"'Tariffs (2)'!J59","v":0}]
[null,null,"LDNO HV: Domestic Two Rate",{"$f":"'Tariffs (2)'!B60","v":"214"},{"$f":"'Tariffs (2)'!C60","v":2},1.2529999999999999,5.1999999999999998E-2,0,2.41,0,0,{"$f":"'Tariffs (2)'!J60","v":0}]
[null,null,"LDNO HV: Domestic Off Peak (related MPAN)",{"$f":"'Tariffs (2)'!B61","v":"215"},{"$f":"'Tariffs (2)'!C61","v":2},0.1,0,0,0,0,0,{"$f":"'Tariffs (2)'!J61","v":0}]
[null,null,"LDNO HV: Small Non Domestic Unrestricted",{"$f":"'Tariffs (2)'!B62","v":"216"},{"$f":"'Tariffs (2)'!C62","v":3},0.86,0,0,3.12,0,0,{"$f":"'Tariffs (2)'!J62","v":0}]
[null,null,"LDNO HV: Small Non Domestic Two Rate",{"$f":"'Tariffs (2)'!B63","v":"217"},{"$f":"'Tariffs (2)'!C63","v":4},1.0269999999999999,4.3999999999999997E-2,0,3.12,0,0,{"$f":"'Tariffs (2)'!J63","v":0}]
[null,null,"LDNO HV: Small Non Domestic Off Peak (related MPAN)",{"$f":"'Tariffs (2)'!B64","v":"218"},{"$f":"'Tariffs (2)'!C64","v":4},0.156,0,0,0,0,0,{"$f":"'Tariffs (2)'!J64","v":0}]
[null,null,"LDNO HV: LV Medium Non-Domestic",{"$f":"'Tariffs (2)'!B65","v":"219"},{"$f":"'Tariffs (2)'!C65","v":"5-8"},0.98599999999999999,4.1000000000000002E-2,0,18.48,0,0,{"$f":"'Tariffs (2)'!J65","v":0}]
[null,null,"LDNO HV: LV HH Metered",{"$f":"'Tariffs (2)'!B66","v":"220"},{"$f":"'Tariffs (2)'!C66","v":0},4.3460000000000001,0.313,2.8000000000000001E-2,5.2,1.61,0.16600000000000001,{"$f":"'Tariffs (2)'!J66","v":0}]
[null,null,"LDNO HV: LV Sub HH Metered",{"$f":"'Tariffs (2)'!B67","v":"221"},{"$f":"'Tariffs (2)'!C67","v":0},5.5570000000000004,0.35899999999999999,2.5000000000000001E-2,7.77,3.14,0.19900000000000001,{"$f":"'Tariffs (2)'!J67","v":0}]
[null,null,"LDNO HV: HV HH Metered",{"$f":"'Tariffs (2)'!B68","v":"222"},{"$f":"'Tariffs (2)'!C68","v":0},4.4909999999999997,0.248,1.4E-2,88.8,4.2,0.14499999999999999,{"$f":"'Tariffs (2)'!J68","v":0}]
[null,null,"LDNO HV: NHH UMS category A",{"$f":"'Tariffs (2)'!B69","v":"249"},{"$f":"'Tariffs (2)'!C69","v":8},0.96099999999999997,0,0,0,0,0,{"$f":"'Tariffs (2)'!J69","v":0}]
[null,null,"LDNO HV: NHH UMS category B",{"$f":"'Tariffs (2)'!B70","v":"223"},{"$f":"'Tariffs (2)'!C70","v":1},1.1830000000000001,0,0,0,0,0,{"$f":"'Tariffs (2)'!J70","v":0}]
[null,null,"LDNO HV: NHH UMS category C",{"$f":"'Tariffs (2)'!B71","v":"250"},{"$f":"'Tariffs (2)'!C71","v":1},1.962,0,0,0,0,0,{"$f":"'Tariffs (2)'!J71","v":0}]
[null,null,"LDNO HV: NHH UMS category D",{"$f":"'Tariffs (2)'!B72","v":"251"},{"$f":"'Tariffs (2)'!C72","v":1},0.83299999999999996,0,0,0,0,0,{"$f":"'Tariffs (2)'!J72","v":0}]
[null,null,"LDNO HV: LV UMS (Pseudo HH Metered)",{"$f":"'Tariffs (2)'!B73","v":"224"},{"$f":"'Tariffs (2)'!C73","v":0},16.41,0.68700000000000006,0.36299999999999999,0,0,0,{"$f":"'Tariffs (2)'!J73","v":0}]
[null,null,"LDNO HV: LV Generation NHH",{"$f":"'Tariffs (2)'!B74","v":"225"},{"$f":"'Tariffs (2)'!C74","v":8},-0.70199999999999996,0,0,0,0,0,{"$f":"'Tariffs (2)'!J74","v":0}]
[null,null,"LDNO HV: LV Sub Generation NHH",{"$f":"'Tariffs (2)'!B75","v":"226"},{"$f":"'Tariffs (2)'!C75","v":8},-0.59199999999999997,0,0,0,0,0,{"$f":"'Tariffs (2)'!J75","v":0}]
[null,null,"LDNO HV: LV Generation Intermittent",{"$f":"'Tariffs (2)'!B76","v":"227"},{"$f":"'Tariffs (2)'!C76","v":0},-0.70199999999999996,0,0,0,0,0.27900000000000003,{"$f":"'Tariffs (2)'!J76","v":0}]
[null,null,"LDNO HV: LV Generation Non-Intermittent",{"$f":"'Tariffs (2)'!B77","v":"228"},{"$f":"'Tariffs (2)'!C77","v":0},-5.4820000000000002,-0.56299999999999994,-0.06,0,0,0.27900000000000003,{"$f":"'Tariffs (2)'!J77","v":0}]
[null,null,"LDNO HV: LV Sub Generation Intermittent",{"$f":"'Tariffs (2)'!B78","v":"229"},{"$f":"'Tariffs (2)'!C78","v":0},-0.59199999999999997,0,0,0,0,0.251,{"$f":"'Tariffs (2)'!J78","v":0}]
[null,null,"LDNO HV: LV Sub Generation Non-Intermittent",{"$f":"'Tariffs (2)'!B79","v":"230"},{"$f":"'Tariffs (2)'!C79","v":0},-4.6609999999999996,-0.47099999999999997,-4.7E-2,0,0,0.251,{"$f":"'Tariffs (2)'!J79","v":0}]
[null,null,"LDNO HV: HV Generation Intermittent",{"$f":"'Tariffs (2)'!B80","v":"231"},{"$f":"'Tariffs (2)'!C80","v":0},-0.38700000000000001,0,0,0,0,0.20599999999999999,{"$f":"'Tariffs (2)'!J80","v":0}]
[null,null,"LDNO HV: HV Generation Non-Intermittent",{"$f":"'Tariffs (2)'!B81","v":"232"},{"$f":"'Tariffs (2)'!C81","v":0},-3.1349999999999998,-0.29799999999999999,-2.1999999999999999E-2,0,0,0.20599999999999999,{"$f":"'Tariffs (2)'!J81","v":0}]
[]
[]
[]
[]
[]
[null,null,{"$f":"\"Tariffs for Charging Year: \"& \" \"&D7&\"\"","v":"Tariffs for Charging Year:  2014/15"}]
[]
[]
[null,null,null,"Open LLFCs","PCs","Unit rate 1 p/kWh","Unit rate 2 p/kWh","Unit rate 3 p/kWh","Fixed charge p/MPAN/day","Capacity charge p/kVA/day","Reactive power charge p/kVArh","Closed LLFCs"]
[null,null,"Domestic Unrestricted",{"$f":"'Tariffs (2)'!B15","v":"1"},{"$f":"'Tariffs (2)'!C15","v":1},2.5270000000000001,0,0,4.1900000000000004,0,0,{"$f":"'Tariffs (2)'!J15","v":"2, 3"}]
[null,null,"Domestic Two Rate",{"$f":"'Tariffs (2)'!B16","v":"4"},{"$f":"'Tariffs (2)'!C16","v":2},2.9340000000000002,0.104,0,4.1900000000000004,0,0,{"$f":"'Tariffs (2)'!J16","v":"5, 6, 30"}]
[null,null,"Domestic Off Peak (related MPAN)",{"$f":"'Tariffs (2)'!B17","v":"34"},{"$f":"'Tariffs (2)'!C17","v":2},0.20300000000000001,0,0,0,0,0,{"$f":"'Tariffs (2)'!J17","v":"35, 36"}]
[null,null,"Small Non Domestic Unrestricted",{"$f":"'Tariffs (2)'!B18","v":"7"},{"$f":"'Tariffs (2)'!C18","v":3},1.994,0,0,7.19,0,0,{"$f":"'Tariffs (2)'!J18","v":"8, 9, 13, 14, 15, 46, 47, 49, 107, 108, 109"}]
[null,null,"Small Non Domestic Two Rate",{"$f":"'Tariffs (2)'!B19","v":"10"},{"$f":"'Tariffs (2)'!C19","v":4},2.379,8.8999999999999996E-2,0,7.19,0,0,{"$f":"'Tariffs (2)'!J19","v":"11, 12, 110, 111, 112"}]
[null,null,"Small Non Domestic Off Peak (related MPAN)",{"$f":"'Tariffs (2)'!B20","v":"40"},{"$f":"'Tariffs (2)'!C20","v":4},0.34399999999999997,0,0,0,0,0,{"$f":"'Tariffs (2)'!J20","v":"41, 42"}]
[null,null,"LV Medium Non-Domestic",{"$f":"'Tariffs (2)'!B21","v":"21"},{"$f":"'Tariffs (2)'!C21","v":"5-8"},2.2890000000000001,8.3000000000000004E-2,0,37.14,0,0,{"$f":"'Tariffs (2)'!J21","v":"20, 22, 25, 26, 27"}]
[null,null,"LV Sub Medium Non-Domestic",{"$f":"'Tariffs (2)'!B22","v":"19"},{"$f":"'Tariffs (2)'!C22","v":"5-8"},2.0830000000000002,6.6000000000000003E-2,0,17.97,0,0,{"$f":"'Tariffs (2)'!J22","v":0}]
[null,null,"HV Medium Non-Domestic",{"$f":"'Tariffs (2)'!B23","v":"322, 323"},{"$f":"'Tariffs (2)'!C23","v":"5-8"},1.423,2.3E-2,0,250.39,0,0,{"$f":"'Tariffs (2)'!J23","v":"121, 124, 132"}]
[null,null,"LV HH Metered",{"$f":"'Tariffs (2)'!B24","v":"127, 129"},{"$f":"'Tariffs (2)'!C24","v":0},10.759,0.61699999999999999,5.5E-2,10.17,3.5,0.39100000000000001,{"$f":"'Tariffs (2)'!J24","v":0}]
[null,null,"LV Sub HH Metered",{"$f":"'Tariffs (2)'!B25","v":"128"},{"$f":"'Tariffs (2)'!C25","v":0},9.4359999999999999,0.46,3.2000000000000001E-2,7.47,4.4000000000000004,0.32100000000000001,{"$f":"'Tariffs (2)'!J25","v":130}]
[null,null,"HV HH Metered",{"$f":"'Tariffs (2)'!B26","v":"365, 367"},{"$f":"'Tariffs (2)'!C26","v":0},7.7779999999999996,0.35,0.02,76.069999999999993,3.59,0.24199999999999999,{"$f":"'Tariffs (2)'!J26","v":0}]
[null,null,"HV Sub HH Metered",{"$f":"'Tariffs (2)'!B27","v":"N/A"},{"$f":"'Tariffs (2)'!C27","v":0},6.9139999999999997,0.29899999999999999,1.4999999999999999E-2,76.069999999999993,1.45,0.23100000000000001,{"$f":"'Tariffs (2)'!J27","v":0}]
[null,null,"NHH UMS category A",{"$f":"'Tariffs (2)'!B28","v":"95"},{"$f":"'Tariffs (2)'!C28","v":8},2.1850000000000001,0,0,0,0,0,{"$f":"'Tariffs (2)'!J28","v":0}]
[null,null,"NHH UMS category B",{"$f":"'Tariffs (2)'!B29","v":"96"},{"$f":"'Tariffs (2)'!C29","v":1},2.181,0,0,0,0,0,{"$f":"'Tariffs (2)'!J29","v":0}]
[null,null,"NHH UMS category C",{"$f":"'Tariffs (2)'!B30","v":"97"},{"$f":"'Tariffs (2)'!C30","v":1},3.5139999999999998,0,0,0,0,0,{"$f":"'Tariffs (2)'!J30","v":0}]
[null,null,"NHH UMS category D",{"$f":"'Tariffs (2)'!B31","v":"98"},{"$f":"'Tariffs (2)'!C31","v":1},2.2770000000000001,0,0,0,0,0,{"$f":"'Tariffs (2)'!J31","v":0}]
[null,null,"LV UMS (Pseudo HH Metered)",{"$f":"'Tariffs (2)'!B32","v":"99"},{"$f":"'Tariffs (2)'!C32","v":0},25.948,2.5329999999999999,0.78800000000000003,0,0,0,{"$f":"'Tariffs (2)'!J32","v":0}]
[null,null,"LV Generation NHH",{"$f":"'Tariffs (2)'!B33","v":"625"},{"$f":"'Tariffs (2)'!C33","v":8},-0.61099999999999999,0,0,0,0,0,{"$f":"'Tariffs (2)'!J33","v":0}]
[null,null,"LV Sub Generation NHH",{"$f":"'Tariffs (2)'!B34","v":"570"},{"$f":"'Tariffs (2)'!C34","v":8},-0.503,0,0,0,0,0,{"$f":"'Tariffs (2)'!J34","v":0}]
[null,null,"LV Generation Intermittent",{"$f":"'Tariffs (2)'!B35","v":"571"},{"$f":"'Tariffs (2)'!C35","v":0},-0.61099999999999999,0,0,0,0,0.188,{"$f":"'Tariffs (2)'!J35","v":0}]
[null,null,"LV Generation Non-Intermittent",{"$f":"'Tariffs (2)'!B36","v":"573"},{"$f":"'Tariffs (2)'!C36","v":0},-4.742,-0.49,-5.7000000000000002E-2,0,0,0.188,{"$f":"'Tariffs (2)'!J36","v":0}]
[null,null,"LV Sub Generation Intermittent",{"$f":"'Tariffs (2)'!B37","v":"572"},{"$f":"'Tariffs (2)'!C37","v":0},-0.503,0,0,0,0,0.159,{"$f":"'Tariffs (2)'!J37","v":0}]
[null,null,"LV Sub Generation Non-Intermittent",{"$f":"'Tariffs (2)'!B38","v":"574"},{"$f":"'Tariffs (2)'!C38","v":0},-3.9340000000000002,-0.39800000000000002,-4.3999999999999997E-2,0,0,0.159,{"$f":"'Tariffs (2)'!J38","v":0}]
[null,null,"HV Generation Intermittent",{"$f":"'Tariffs (2)'!B39","v":"575"},{"$f":"'Tariffs (2)'!C39","v":0},-0.29799999999999999,0,0,37.39,0,0.125,{"$f":"'Tariffs (2)'!J39","v":0}]
[null,null,"HV Generation Non-Intermittent",{"$f":"'Tariffs (2)'!B40","v":"577"},{"$f":"'Tariffs (2)'!C40","v":0},-2.4209999999999998,-0.22500000000000001,-1.9E-2,37.39,0,0.125,{"$f":"'Tariffs (2)'!J40","v":0}]
[null,null,"HV Sub Generation Non-Intermittent",{"$f":"'Tariffs (2)'!B41","v":"N/A"},{"$f":"'Tariffs (2)'!C41","v":0},-0.252,0,0,37.39,0,6.7000000000000004E-2,{"$f":"'Tariffs (2)'!J41","v":0}]
[null,null,"HV Sub Generation Intermittent",{"$f":"'Tariffs (2)'!B42","v":"N/A"},{"$f":"'Tariffs (2)'!C42","v":0},-2.0760000000000001,-0.187,-1.2999999999999999E-2,37.39,0,6.7000000000000004E-2,{"$f":"'Tariffs (2)'!J42","v":0}]
[null,null,"LDNO LV: Domestic Unrestricted",{"$f":"'Tariffs (2)'!B43","v":"200"},{"$f":"'Tariffs (2)'!C43","v":1},1.7470000000000001,0,0,2.9,0,0,{"$f":"'Tariffs (2)'!J43","v":0}]
[null,null,"LDNO LV: Domestic Two Rate",{"$f":"'Tariffs (2)'!B44","v":"201"},{"$f":"'Tariffs (2)'!C44","v":2},2.028,7.1999999999999995E-2,0,2.9,0,0,{"$f":"'Tariffs (2)'!J44","v":0}]
[null,null,"LDNO LV: Domestic Off Peak (related MPAN)",{"$f":"'Tariffs (2)'!B45","v":"202"},{"$f":"'Tariffs (2)'!C45","v":2},0.14000000000000001,0,0,0,0,0,{"$f":"'Tariffs (2)'!J45","v":0}]
[null,null,"LDNO LV: Small Non Domestic Unrestricted",{"$f":"'Tariffs (2)'!B46","v":"203"},{"$f":"'Tariffs (2)'!C46","v":3},1.3779999999999999,0,0,4.97,0,0,{"$f":"'Tariffs (2)'!J46","v":0}]
[null,null,"LDNO LV: Small Non Domestic Two Rate",{"$f":"'Tariffs (2)'!B47","v":"204"},{"$f":"'Tariffs (2)'!C47","v":4},1.6439999999999999,6.2E-2,0,4.97,0,0,{"$f":"'Tariffs (2)'!J47","v":0}]
[null,null,"LDNO LV: Small Non Domestic Off Peak (related MPAN)",{"$f":"'Tariffs (2)'!B48","v":"205"},{"$f":"'Tariffs (2)'!C48","v":4},0.23799999999999999,0,0,0,0,0,{"$f":"'Tariffs (2)'!J48","v":0}]
[null,null,"LDNO LV: LV Medium Non-Domestic",{"$f":"'Tariffs (2)'!B49","v":"206"},{"$f":"'Tariffs (2)'!C49","v":"5-8"},1.5820000000000001,5.7000000000000002E-2,0,25.67,0,0,{"$f":"'Tariffs (2)'!J49","v":0}]
[null,null,"LDNO LV: LV HH Metered",{"$f":"'Tariffs (2)'!B50","v":"207"},{"$f":"'Tariffs (2)'!C50","v":0},7.4359999999999999,0.42599999999999999,3.7999999999999999E-2,7.03,2.42,0.27,{"$f":"'Tariffs (2)'!J50","v":0}]
[null,null,"LDNO LV: NHH UMS category A",{"$f":"'Tariffs (2)'!B51","v":"252"},{"$f":"'Tariffs (2)'!C51","v":8},1.51,0,0,0,0,0,{"$f":"'Tariffs (2)'!J51","v":0}]
[null,null,"LDNO LV: NHH UMS category B",{"$f":"'Tariffs (2)'!B52","v":"208"},{"$f":"'Tariffs (2)'!C52","v":1},1.5069999999999999,0,0,0,0,0,{"$f":"'Tariffs (2)'!J52","v":0}]
[null,null,"LDNO LV: NHH UMS category C",{"$f":"'Tariffs (2)'!B53","v":"253"},{"$f":"'Tariffs (2)'!C53","v":1},2.4289999999999998,0,0,0,0,0,{"$f":"'Tariffs (2)'!J53","v":0}]
[null,null,"LDNO LV: NHH UMS category D",{"$f":"'Tariffs (2)'!B54","v":"24"},{"$f":"'Tariffs (2)'!C54","v":1},1.5740000000000001,0,0,0,0,0,{"$f":"'Tariffs (2)'!J54","v":0}]
[null,null,"LDNO LV: LV UMS (Pseudo HH Metered)",{"$f":"'Tariffs (2)'!B55","v":"209"},{"$f":"'Tariffs (2)'!C55","v":0},17.934000000000001,1.7509999999999999,0.54500000000000004,0,0,0,{"$f":"'Tariffs (2)'!J55","v":0}]
[null,null,"LDNO LV: LV Generation NHH",{"$f":"'Tariffs (2)'!B56","v":"210"},{"$f":"'Tariffs (2)'!C56","v":8},-0.61099999999999999,0,0,0,0,0,{"$f":"'Tariffs (2)'!J56","v":0}]
[null,null,"LDNO LV: LV Generation Intermittent",{"$f":"'Tariffs (2)'!B57","v":"211"},{"$f":"'Tariffs (2)'!C57","v":0},-0.61099999999999999,0,0,0,0,0.188,{"$f":"'Tariffs (2)'!J57","v":0}]
[null,null,"LDNO LV: LV Generation Non-Intermittent",{"$f":"'Tariffs (2)'!B58","v":"212"},{"$f":"'Tariffs (2)'!C58","v":0},-4.742,-0.49,-5.7000000000000002E-2,0,0,0.188,{"$f":"'Tariffs (2)'!J58","v":0}]
[null,null,"LDNO HV: Domestic Unrestricted",{"$f":"'Tariffs (2)'!B59","v":"213"},{"$f":"'Tariffs (2)'!C59","v":1},1.262,0,0,2.09,0,0,{"$f":"'Tariffs (2)'!J59","v":0}]
[null,null,"LDNO HV: Domestic Two Rate",{"$f":"'Tariffs (2)'!B60","v":"214"},{"$f":"'Tariffs (2)'!C60","v":2},1.4650000000000001,5.1999999999999998E-2,0,2.09,0,0,{"$f":"'Tariffs (2)'!J60","v":0}]
[null,null,"LDNO HV: Domestic Off Peak (related MPAN)",{"$f":"'Tariffs (2)'!B61","v":"215"},{"$f":"'Tariffs (2)'!C61","v":2},0.10100000000000001,0,0,0,0,0,{"$f":"'Tariffs (2)'!J61","v":0}]
[null,null,"LDNO HV: Small Non Domestic Unrestricted",{"$f":"'Tariffs (2)'!B62","v":"216"},{"$f":"'Tariffs (2)'!C62","v":3},0.995,0,0,3.59,0,0,{"$f":"'Tariffs (2)'!J62","v":0}]
[null,null,"LDNO HV: Small Non Domestic Two Rate",{"$f":"'Tariffs (2)'!B63","v":"217"},{"$f":"'Tariffs (2)'!C63","v":4},1.1879999999999999,4.3999999999999997E-2,0,3.59,0,0,{"$f":"'Tariffs (2)'!J63","v":0}]
[null,null,"LDNO HV: Small Non Domestic Off Peak (related MPAN)",{"$f":"'Tariffs (2)'!B64","v":"218"},{"$f":"'Tariffs (2)'!C64","v":4},0.17199999999999999,0,0,0,0,0,{"$f":"'Tariffs (2)'!J64","v":0}]
[null,null,"LDNO HV: LV Medium Non-Domestic",{"$f":"'Tariffs (2)'!B65","v":"219"},{"$f":"'Tariffs (2)'!C65","v":"5-8"},1.143,4.1000000000000002E-2,0,18.54,0,0,{"$f":"'Tariffs (2)'!J65","v":0}]
[null,null,"LDNO HV: LV HH Metered",{"$f":"'Tariffs (2)'!B66","v":"220"},{"$f":"'Tariffs (2)'!C66","v":0},5.3710000000000004,0.308,2.7E-2,5.08,1.75,0.19500000000000001,{"$f":"'Tariffs (2)'!J66","v":0}]
[null,null,"LDNO HV: LV Sub HH Metered",{"$f":"'Tariffs (2)'!B67","v":"221"},{"$f":"'Tariffs (2)'!C67","v":0},7.0369999999999999,0.34300000000000003,2.4E-2,5.57,3.28,0.23899999999999999,{"$f":"'Tariffs (2)'!J67","v":0}]
[null,null,"LDNO HV: HV HH Metered",{"$f":"'Tariffs (2)'!B68","v":"222"},{"$f":"'Tariffs (2)'!C68","v":0},6.5940000000000003,0.29699999999999999,1.7000000000000001E-2,64.489999999999995,3.04,0.20499999999999999,{"$f":"'Tariffs (2)'!J68","v":0}]
[null,null,"LDNO HV: NHH UMS category A",{"$f":"'Tariffs (2)'!B69","v":"249"},{"$f":"'Tariffs (2)'!C69","v":8},1.091,0,0,0,0,0,{"$f":"'Tariffs (2)'!J69","v":0}]
[null,null,"LDNO HV: NHH UMS category B",{"$f":"'Tariffs (2)'!B70","v":"223"},{"$f":"'Tariffs (2)'!C70","v":1},1.089,0,0,0,0,0,{"$f":"'Tariffs (2)'!J70","v":0}]
[null,null,"LDNO HV: NHH UMS category C",{"$f":"'Tariffs (2)'!B71","v":"250"},{"$f":"'Tariffs (2)'!C71","v":1},1.754,0,0,0,0,0,{"$f":"'Tariffs (2)'!J71","v":0}]
[null,null,"LDNO HV: NHH UMS category D",{"$f":"'Tariffs (2)'!B72","v":"251"},{"$f":"'Tariffs (2)'!C72","v":1},1.137,0,0,0,0,0,{"$f":"'Tariffs (2)'!J72","v":0}]
[null,null,"LDNO HV: LV UMS (Pseudo HH Metered)",{"$f":"'Tariffs (2)'!B73","v":"224"},{"$f":"'Tariffs (2)'!C73","v":0},12.954000000000001,1.2649999999999999,0.39300000000000002,0,0,0,{"$f":"'Tariffs (2)'!J73","v":0}]
[null,null,"LDNO HV: LV Generation NHH",{"$f":"'Tariffs (2)'!B74","v":"225"},{"$f":"'Tariffs (2)'!C74","v":8},-0.61099999999999999,0,0,0,0,0,{"$f":"'Tariffs (2)'!J74","v":0}]
[null,null,"LDNO HV: LV Sub Generation NHH",{"$f":"'Tariffs (2)'!B75","v":"226"},{"$f":"'Tariffs (2)'!C75","v":8},-0.503,0,0,0,0,0,{"$f":"'Tariffs (2)'!J75","v":0}]
[null,null,"LDNO HV: LV Generation Intermittent",{"$f":"'Tariffs (2)'!B76","v":"227"},{"$f":"'Tariffs (2)'!C76","v":0},-0.61099999999999999,0,0,0,0,0.188,{"$f":"'Tariffs (2)'!J76","v":0}]
[null,null,"LDNO HV: LV Generation Non-Intermittent",{"$f":"'Tariffs (2)'!B77","v":"228"},{"$f":"'Tariffs (2)'!C77","v":0},-4.742,-0.49,-5.7000000000000002E-2,0,0,0.188,{"$f":"'Tariffs (2)'!J77","v":0}]
[null,null,"LDNO HV: LV Sub Generation Intermittent",{"$f":"'Tariffs (2)'!B78","v":"229"},{"$f":"'Tariffs (2)'!C78","v":0},-0.503,0,0,0,0,0.159,{"$f":"'Tariffs (2)'!J78","v":0}]
[null,null,"LDNO HV: LV Sub Generation Non-Intermittent",{"$f":"'Tariffs (2)'!B79","v":"230"},{"$f":"'Tariffs (2)'!C79","v":0},-3.9340000000000002,-0.39800000000000002,-4.3999999999999997E-2,0,0,0.159,{"$f":"'Tariffs (2)'!J79","v":0}]
[null,null,"LDNO HV: HV Generation Intermittent",{"$f":"'Tariffs (2)'!B80","v":"231"},{"$f":"'Tariffs (2)'!C80","v":0},-0.29799999999999999,0,0,0,0,0.125,{"$f":"'Tariffs (2)'!J80","v":0}]
[null,null,"LDNO HV: HV Generation Non-Intermittent",{"$f":"'Tariffs (2)'!B81","v":"232"},{"$f":"'Tariffs (2)'!C81","v":0},-2.4209999999999998,-0.22500000000000001,-1.9E-2,0,0,0.125,{"$f":"'Tariffs (2)'!J81","v":0}]
[]
[]
[]
[]
[]
[null,null,{"$f":"\"Tariffs for Charging Year: \"& \" \"&D8&\"\"","v":"Tariffs for Charging Year:  2015/16"}]
[]
[]
[null,null,null,"Open LLFCs","PCs","Unit rate 1 p/kWh","Unit rate 2 p/kWh","Unit rate 3 p/kWh","Fixed charge p/MPAN/day","Capacity charge p/kVA/day","Reactive power charge p/kVArh","Closed LLFCs"]
[null,null,"Domestic Unrestricted",{"$f":"'Tariffs (2)'!B15","v":"1"},{"$f":"'Tariffs (2)'!C15","v":1},2.4089999999999998,0,0,4.24,0,0,{"$f":"'Tariffs (2)'!J15","v":"2, 3"}]
[null,null,"Domestic Two Rate",{"$f":"'Tariffs (2)'!B16","v":"4"},{"$f":"'Tariffs (2)'!C16","v":2},2.79,0.105,0,4.24,0,0,{"$f":"'Tariffs (2)'!J16","v":"5, 6, 30"}]
[null,null,"Domestic Off Peak (related MPAN)",{"$f":"'Tariffs (2)'!B17","v":"34"},{"$f":"'Tariffs (2)'!C17","v":2},0.20100000000000001,0,0,0,0,0,{"$f":"'Tariffs (2)'!J17","v":"35, 36"}]
[null,null,"Small Non Domestic Unrestricted",{"$f":"'Tariffs (2)'!B18","v":"7"},{"$f":"'Tariffs (2)'!C18","v":3},1.901,0,0,7.31,0,0,{"$f":"'Tariffs (2)'!J18","v":"8, 9, 13, 14, 15, 46, 47, 49, 107, 108, 109"}]
[null,null,"Small Non Domestic Two Rate",{"$f":"'Tariffs (2)'!B19","v":"10"},{"$f":"'Tariffs (2)'!C19","v":4},2.2669999999999999,8.8999999999999996E-2,0,7.31,0,0,{"$f":"'Tariffs (2)'!J19","v":"11, 12, 110, 111, 112"}]
[null,null,"Small Non Domestic Off Peak (related MPAN)",{"$f":"'Tariffs (2)'!B20","v":"40"},{"$f":"'Tariffs (2)'!C20","v":4},0.33300000000000002,0,0,0,0,0,{"$f":"'Tariffs (2)'!J20","v":"41, 42"}]
[null,null,"LV Medium Non-Domestic",{"$f":"'Tariffs (2)'!B21","v":"21"},{"$f":"'Tariffs (2)'!C21","v":"5-8"},2.181,8.3000000000000004E-2,0,37.229999999999997,0,0,{"$f":"'Tariffs (2)'!J21","v":"20, 22, 25, 26, 27"}]
[null,null,"LV Sub Medium Non-Domestic",{"$f":"'Tariffs (2)'!B22","v":"19"},{"$f":"'Tariffs (2)'!C22","v":"5-8"},1.9710000000000001,6.7000000000000004E-2,0,18.059999999999999,0,0,{"$f":"'Tariffs (2)'!J22","v":0}]
[null,null,"HV Medium Non-Domestic",{"$f":"'Tariffs (2)'!B23","v":"322, 323"},{"$f":"'Tariffs (2)'!C23","v":"5-8"},1.3129999999999999,2.1999999999999999E-2,0,248.77,0,0,{"$f":"'Tariffs (2)'!J23","v":"121, 124, 132"}]
[null,null,"LV HH Metered",{"$f":"'Tariffs (2)'!B24","v":"127, 129"},{"$f":"'Tariffs (2)'!C24","v":0},10.057,0.60399999999999998,5.5E-2,10.42,3.58,0.36899999999999999,{"$f":"'Tariffs (2)'!J24","v":0}]
[null,null,"LV Sub HH Metered",{"$f":"'Tariffs (2)'!B25","v":"128"},{"$f":"'Tariffs (2)'!C25","v":0},8.6999999999999993,0.44400000000000001,3.1E-2,7.65,4.49,0.29799999999999999,{"$f":"'Tariffs (2)'!J25","v":130}]
[null,null,"HV HH Metered",{"$f":"'Tariffs (2)'!B26","v":"365, 367"},{"$f":"'Tariffs (2)'!C26","v":0},7.1269999999999998,0.33500000000000002,1.9E-2,74.819999999999993,3.67,0.224,{"$f":"'Tariffs (2)'!J26","v":0}]
[null,null,"HV Sub HH Metered",{"$f":"'Tariffs (2)'!B27","v":"N/A"},{"$f":"'Tariffs (2)'!C27","v":0},6.3170000000000002,0.28499999999999998,1.4999999999999999E-2,74.819999999999993,1.48,0.21199999999999999,{"$f":"'Tariffs (2)'!J27","v":0}]
[null,null,"NHH UMS category A",{"$f":"'Tariffs (2)'!B28","v":"95"},{"$f":"'Tariffs (2)'!C28","v":8},2.1429999999999998,0,0,0,0,0,{"$f":"'Tariffs (2)'!J28","v":0}]
[null,null,"NHH UMS category B",{"$f":"'Tariffs (2)'!B29","v":"96"},{"$f":"'Tariffs (2)'!C29","v":1},2.1459999999999999,0,0,0,0,0,{"$f":"'Tariffs (2)'!J29","v":0}]
[null,null,"NHH UMS category C",{"$f":"'Tariffs (2)'!B30","v":"97"},{"$f":"'Tariffs (2)'!C30","v":1},3.4249999999999998,0,0,0,0,0,{"$f":"'Tariffs (2)'!J30","v":0}]
[null,null,"NHH UMS category D",{"$f":"'Tariffs (2)'!B31","v":"98"},{"$f":"'Tariffs (2)'!C31","v":1},2.2250000000000001,0,0,0,0,0,{"$f":"'Tariffs (2)'!J31","v":0}]
[null,null,"LV UMS (Pseudo HH Metered)",{"$f":"'Tariffs (2)'!B32","v":"99"},{"$f":"'Tariffs (2)'!C32","v":0},25.001999999999999,2.4630000000000001,0.80800000000000005,0,0,0,{"$f":"'Tariffs (2)'!J32","v":0}]
[null,null,"LV Generation NHH",{"$f":"'Tariffs (2)'!B33","v":"625"},{"$f":"'Tariffs (2)'!C33","v":8},-0.624,0,0,0,0,0,{"$f":"'Tariffs (2)'!J33","v":0}]
[null,null,"LV Sub Generation NHH",{"$f":"'Tariffs (2)'!B34","v":"570"},{"$f":"'Tariffs (2)'!C34","v":8},-0.51300000000000001,0,0,0,0,0,{"$f":"'Tariffs (2)'!J34","v":0}]
[null,null,"LV Generation Intermittent",{"$f":"'Tariffs (2)'!B35","v":"571"},{"$f":"'Tariffs (2)'!C35","v":0},-0.624,0,0,0,0,0.192,{"$f":"'Tariffs (2)'!J35","v":0}]
[null,null,"LV Generation Non-Intermittent",{"$f":"'Tariffs (2)'!B36","v":"573"},{"$f":"'Tariffs (2)'!C36","v":0},-4.8419999999999996,-0.5,-5.8000000000000003E-2,0,0,0.192,{"$f":"'Tariffs (2)'!J36","v":0}]
[null,null,"LV Sub Generation Intermittent",{"$f":"'Tariffs (2)'!B37","v":"572"},{"$f":"'Tariffs (2)'!C37","v":0},-0.51300000000000001,0,0,0,0,0.16300000000000001,{"$f":"'Tariffs (2)'!J37","v":0}]
[null,null,"LV Sub Generation Non-Intermittent",{"$f":"'Tariffs (2)'!B38","v":"574"},{"$f":"'Tariffs (2)'!C38","v":0},-4.0170000000000003,-0.40699999999999997,-4.4999999999999998E-2,0,0,0.16300000000000001,{"$f":"'Tariffs (2)'!J38","v":0}]
[null,null,"HV Generation Intermittent",{"$f":"'Tariffs (2)'!B39","v":"575"},{"$f":"'Tariffs (2)'!C39","v":0},-0.30399999999999999,0,0,36.770000000000003,0,0.128,{"$f":"'Tariffs (2)'!J39","v":0}]
[null,null,"HV Generation Non-Intermittent",{"$f":"'Tariffs (2)'!B40","v":"577"},{"$f":"'Tariffs (2)'!C40","v":0},-2.4729999999999999,-0.23,-1.9E-2,36.770000000000003,0,0.128,{"$f":"'Tariffs (2)'!J40","v":0}]
[null,null,"HV Sub Generation Non-Intermittent",{"$f":"'Tariffs (2)'!B41","v":"N/A"},{"$f":"'Tariffs (2)'!C41","v":0},-0.25700000000000001,0,0,36.770000000000003,0,6.9000000000000006E-2,{"$f":"'Tariffs (2)'!J41","v":0}]
[null,null,"HV Sub Generation Intermittent",{"$f":"'Tariffs (2)'!B42","v":"N/A"},{"$f":"'Tariffs (2)'!C42","v":0},-2.121,-0.191,-1.2999999999999999E-2,36.770000000000003,0,6.9000000000000006E-2,{"$f":"'Tariffs (2)'!J42","v":0}]
[null,null,"LDNO LV: Domestic Unrestricted",{"$f":"'Tariffs (2)'!B43","v":"200"},{"$f":"'Tariffs (2)'!C43","v":1},1.665,0,0,2.93,0,0,{"$f":"'Tariffs (2)'!J43","v":0}]
[null,null,"LDNO LV: Domestic Two Rate",{"$f":"'Tariffs (2)'!B44","v":"201"},{"$f":"'Tariffs (2)'!C44","v":2},1.9279999999999999,7.2999999999999995E-2,0,2.93,0,0,{"$f":"'Tariffs (2)'!J44","v":0}]
[null,null,"LDNO LV: Domestic Off Peak (related MPAN)",{"$f":"'Tariffs (2)'!B45","v":"202"},{"$f":"'Tariffs (2)'!C45","v":2},0.13900000000000001,0,0,0,0,0,{"$f":"'Tariffs (2)'!J45","v":0}]
[null,null,"LDNO LV: Small Non Domestic Unrestricted",{"$f":"'Tariffs (2)'!B46","v":"203"},{"$f":"'Tariffs (2)'!C46","v":3},1.3140000000000001,0,0,5.05,0,0,{"$f":"'Tariffs (2)'!J46","v":0}]
[null,null,"LDNO LV: Small Non Domestic Two Rate",{"$f":"'Tariffs (2)'!B47","v":"204"},{"$f":"'Tariffs (2)'!C47","v":4},1.5669999999999999,6.2E-2,0,5.05,0,0,{"$f":"'Tariffs (2)'!J47","v":0}]
[null,null,"LDNO LV: Small Non Domestic Off Peak (related MPAN)",{"$f":"'Tariffs (2)'!B48","v":"205"},{"$f":"'Tariffs (2)'!C48","v":4},0.23,0,0,0,0,0,{"$f":"'Tariffs (2)'!J48","v":0}]
[null,null,"LDNO LV: LV Medium Non-Domestic",{"$f":"'Tariffs (2)'!B49","v":"206"},{"$f":"'Tariffs (2)'!C49","v":"5-8"},1.5069999999999999,5.7000000000000002E-2,0,25.73,0,0,{"$f":"'Tariffs (2)'!J49","v":0}]
[null,null,"LDNO LV: LV HH Metered",{"$f":"'Tariffs (2)'!B50","v":"207"},{"$f":"'Tariffs (2)'!C50","v":0},6.9509999999999996,0.41699999999999998,3.7999999999999999E-2,7.2,2.4700000000000002,0.255,{"$f":"'Tariffs (2)'!J50","v":0}]
[null,null,"LDNO LV: NHH UMS category A",{"$f":"'Tariffs (2)'!B51","v":"252"},{"$f":"'Tariffs (2)'!C51","v":8},1.4810000000000001,0,0,0,0,0,{"$f":"'Tariffs (2)'!J51","v":0}]
[null,null,"LDNO LV: NHH UMS category B",{"$f":"'Tariffs (2)'!B52","v":"208"},{"$f":"'Tariffs (2)'!C52","v":1},1.4830000000000001,0,0,0,0,0,{"$f":"'Tariffs (2)'!J52","v":0}]
[null,null,"LDNO LV: NHH UMS category C",{"$f":"'Tariffs (2)'!B53","v":"253"},{"$f":"'Tariffs (2)'!C53","v":1},2.367,0,0,0,0,0,{"$f":"'Tariffs (2)'!J53","v":0}]
[null,null,"LDNO LV: NHH UMS category D",{"$f":"'Tariffs (2)'!B54","v":"24"},{"$f":"'Tariffs (2)'!C54","v":1},1.538,0,0,0,0,0,{"$f":"'Tariffs (2)'!J54","v":0}]
[null,null,"LDNO LV: LV UMS (Pseudo HH Metered)",{"$f":"'Tariffs (2)'!B55","v":"209"},{"$f":"'Tariffs (2)'!C55","v":0},17.280999999999999,1.702,0.55800000000000005,0,0,0,{"$f":"'Tariffs (2)'!J55","v":0}]
[null,null,"LDNO LV: LV Generation NHH",{"$f":"'Tariffs (2)'!B56","v":"210"},{"$f":"'Tariffs (2)'!C56","v":8},-0.624,0,0,0,0,0,{"$f":"'Tariffs (2)'!J56","v":0}]
[null,null,"LDNO LV: LV Generation Intermittent",{"$f":"'Tariffs (2)'!B57","v":"211"},{"$f":"'Tariffs (2)'!C57","v":0},-0.624,0,0,0,0,0.192,{"$f":"'Tariffs (2)'!J57","v":0}]
[null,null,"LDNO LV: LV Generation Non-Intermittent",{"$f":"'Tariffs (2)'!B58","v":"212"},{"$f":"'Tariffs (2)'!C58","v":0},-4.8419999999999996,-0.5,-5.8000000000000003E-2,0,0,0.192,{"$f":"'Tariffs (2)'!J58","v":0}]
[null,null,"LDNO HV: Domestic Unrestricted",{"$f":"'Tariffs (2)'!B59","v":"213"},{"$f":"'Tariffs (2)'!C59","v":1},1.2030000000000001,0,0,2.12,0,0,{"$f":"'Tariffs (2)'!J59","v":0}]
[null,null,"LDNO HV: Domestic Two Rate",{"$f":"'Tariffs (2)'!B60","v":"214"},{"$f":"'Tariffs (2)'!C60","v":2},1.393,5.1999999999999998E-2,0,2.12,0,0,{"$f":"'Tariffs (2)'!J60","v":0}]
[null,null,"LDNO HV: Domestic Off Peak (related MPAN)",{"$f":"'Tariffs (2)'!B61","v":"215"},{"$f":"'Tariffs (2)'!C61","v":2},0.1,0,0,0,0,0,{"$f":"'Tariffs (2)'!J61","v":0}]
[null,null,"LDNO HV: Small Non Domestic Unrestricted",{"$f":"'Tariffs (2)'!B62","v":"216"},{"$f":"'Tariffs (2)'!C62","v":3},0.94899999999999995,0,0,3.65,0,0,{"$f":"'Tariffs (2)'!J62","v":0}]
[null,null,"LDNO HV: Small Non Domestic Two Rate",{"$f":"'Tariffs (2)'!B63","v":"217"},{"$f":"'Tariffs (2)'!C63","v":4},1.1319999999999999,4.3999999999999997E-2,0,3.65,0,0,{"$f":"'Tariffs (2)'!J63","v":0}]
[null,null,"LDNO HV: Small Non Domestic Off Peak (related MPAN)",{"$f":"'Tariffs (2)'!B64","v":"218"},{"$f":"'Tariffs (2)'!C64","v":4},0.16600000000000001,0,0,0,0,0,{"$f":"'Tariffs (2)'!J64","v":0}]
[null,null,"LDNO HV: LV Medium Non-Domestic",{"$f":"'Tariffs (2)'!B65","v":"219"},{"$f":"'Tariffs (2)'!C65","v":"5-8"},1.089,4.1000000000000002E-2,0,18.59,0,0,{"$f":"'Tariffs (2)'!J65","v":0}]
[null,null,"LDNO HV: LV HH Metered",{"$f":"'Tariffs (2)'!B66","v":"220"},{"$f":"'Tariffs (2)'!C66","v":0},5.0209999999999999,0.30199999999999999,2.7E-2,5.2,1.79,0.184,{"$f":"'Tariffs (2)'!J66","v":0}]
[null,null,"LDNO HV: LV Sub HH Metered",{"$f":"'Tariffs (2)'!B67","v":"221"},{"$f":"'Tariffs (2)'!C67","v":0},6.4880000000000004,0.33100000000000002,2.3E-2,5.7,3.35,0.222,{"$f":"'Tariffs (2)'!J67","v":0}]
[null,null,"LDNO HV: HV HH Metered",{"$f":"'Tariffs (2)'!B68","v":"222"},{"$f":"'Tariffs (2)'!C68","v":0},6.0419999999999998,0.28399999999999997,1.6E-2,63.43,3.11,0.19,{"$f":"'Tariffs (2)'!J68","v":0}]
[null,null,"LDNO HV: NHH UMS category A",{"$f":"'Tariffs (2)'!B69","v":"249"},{"$f":"'Tariffs (2)'!C69","v":8},1.07,0,0,0,0,0,{"$f":"'Tariffs (2)'!J69","v":0}]
[null,null,"LDNO HV: NHH UMS category B",{"$f":"'Tariffs (2)'!B70","v":"223"},{"$f":"'Tariffs (2)'!C70","v":1},1.071,0,0,0,0,0,{"$f":"'Tariffs (2)'!J70","v":0}]
[null,null,"LDNO HV: NHH UMS category C",{"$f":"'Tariffs (2)'!B71","v":"250"},{"$f":"'Tariffs (2)'!C71","v":1},1.71,0,0,0,0,0,{"$f":"'Tariffs (2)'!J71","v":0}]
[null,null,"LDNO HV: NHH UMS category D",{"$f":"'Tariffs (2)'!B72","v":"251"},{"$f":"'Tariffs (2)'!C72","v":1},1.111,0,0,0,0,0,{"$f":"'Tariffs (2)'!J72","v":0}]
[null,null,"LDNO HV: LV UMS (Pseudo HH Metered)",{"$f":"'Tariffs (2)'!B73","v":"224"},{"$f":"'Tariffs (2)'!C73","v":0},12.481999999999999,1.23,0.40300000000000002,0,0,0,{"$f":"'Tariffs (2)'!J73","v":0}]
[null,null,"LDNO HV: LV Generation NHH",{"$f":"'Tariffs (2)'!B74","v":"225"},{"$f":"'Tariffs (2)'!C74","v":8},-0.624,0,0,0,0,0,{"$f":"'Tariffs (2)'!J74","v":0}]
[null,null,"LDNO HV: LV Sub Generation NHH",{"$f":"'Tariffs (2)'!B75","v":"226"},{"$f":"'Tariffs (2)'!C75","v":8},-0.51300000000000001,0,0,0,0,0,{"$f":"'Tariffs (2)'!J75","v":0}]
[null,null,"LDNO HV: LV Generation Intermittent",{"$f":"'Tariffs (2)'!B76","v":"227"},{"$f":"'Tariffs (2)'!C76","v":0},-0.624,0,0,0,0,0.192,{"$f":"'Tariffs (2)'!J76","v":0}]
[null,null,"LDNO HV: LV Generation Non-Intermittent",{"$f":"'Tariffs (2)'!B77","v":"228"},{"$f":"'Tariffs (2)'!C77","v":0},-4.8419999999999996,-0.5,-5.8000000000000003E-2,0,0,0.192,{"$f":"'Tariffs (2)'!J77","v":0}]
[null,null,"LDNO HV: LV Sub Generation Intermittent",{"$f":"'Tariffs (2)'!B78","v":"229"},{"$f":"'Tariffs (2)'!C78","v":0},-0.51300000000000001,0,0,0,0,0.16300000000000001,{"$f":"'Tariffs (2)'!J78","v":0}]
[null,null,"LDNO HV: LV Sub Generation Non-Intermittent",{"$f":"'Tariffs (2)'!B79","v":"230"},{"$f":"'Tariffs (2)'!C79","v":0},-4.0170000000000003,-0.40699999999999997,-4.4999999999999998E-2,0,0,0.16300000000000001,{"$f":"'Tariffs (2)'!J79","v":0}]
[null,null,"LDNO HV: HV Generation Intermittent",{"$f":"'Tariffs (2)'!B80","v":"231"},{"$f":"'Tariffs (2)'!C80","v":0},-0.30399999999999999,0,0,0,0,0.128,{"$f":"'Tariffs (2)'!J80","v":0}]
[null,null,"LDNO HV: HV Generation Non-Intermittent",{"$f":"'Tariffs (2)'!B81","v":"232"},{"$f":"'Tariffs (2)'!C81","v":0},-2.4729999999999999,-0.23,-1.9E-2,0,0,0.128,{"$f":"'Tariffs (2)'!J81","v":0}]
[]
[]
[]
[]
[]
[null,null,{"$f":"\"Tariffs for Charging Year: \"& \" \"&D9&\"\"","v":"Tariffs for Charging Year:  2016/17"}]
[]
[]
[null,null,null,"Open LLFCs","PCs","Unit rate 1 p/kWh","Unit rate 2 p/kWh","Unit rate 3 p/kWh","Fixed charge p/MPAN/day","Capacity charge p/kVA/day","Reactive power charge p/kVArh","Closed LLFCs"]
[null,null,"Domestic Unrestricted",{"$f":"'Tariffs (2)'!B15","v":"1"},{"$f":"'Tariffs (2)'!C15","v":1},2.4790000000000001,0,0,4.3099999999999996,0,0,{"$f":"'Tariffs (2)'!J15","v":"2, 3"}]
[null,null,"Domestic Two Rate",{"$f":"'Tariffs (2)'!B16","v":"4"},{"$f":"'Tariffs (2)'!C16","v":2},2.8719999999999999,0.107,0,4.3099999999999996,0,0,{"$f":"'Tariffs (2)'!J16","v":"5, 6, 30"}]
[null,null,"Domestic Off Peak (related MPAN)",{"$f":"'Tariffs (2)'!B17","v":"34"},{"$f":"'Tariffs (2)'!C17","v":2},0.20599999999999999,0,0,0,0,0,{"$f":"'Tariffs (2)'!J17","v":"35, 36"}]
[null,null,"Small Non Domestic Unrestricted",{"$f":"'Tariffs (2)'!B18","v":"7"},{"$f":"'Tariffs (2)'!C18","v":3},1.956,0,0,7.46,0,0,{"$f":"'Tariffs (2)'!J18","v":"8, 9, 13, 14, 15, 46, 47, 49, 107, 108, 109"}]
[null,null,"Small Non Domestic Two Rate",{"$f":"'Tariffs (2)'!B19","v":"10"},{"$f":"'Tariffs (2)'!C19","v":4},2.3330000000000002,9.1999999999999998E-2,0,7.46,0,0,{"$f":"'Tariffs (2)'!J19","v":"11, 12, 110, 111, 112"}]
[null,null,"Small Non Domestic Off Peak (related MPAN)",{"$f":"'Tariffs (2)'!B20","v":"40"},{"$f":"'Tariffs (2)'!C20","v":4},0.34200000000000003,0,0,0,0,0,{"$f":"'Tariffs (2)'!J20","v":"41, 42"}]
[null,null,"LV Medium Non-Domestic",{"$f":"'Tariffs (2)'!B21","v":"21"},{"$f":"'Tariffs (2)'!C21","v":"5-8"},2.2440000000000002,8.5000000000000006E-2,0,37.6,0,0,{"$f":"'Tariffs (2)'!J21","v":"20, 22, 25, 26, 27"}]
[null,null,"LV Sub Medium Non-Domestic",{"$f":"'Tariffs (2)'!B22","v":"19"},{"$f":"'Tariffs (2)'!C22","v":"5-8"},2.0289999999999999,6.8000000000000005E-2,0,18.28,0,0,{"$f":"'Tariffs (2)'!J22","v":0}]
[null,null,"HV Medium Non-Domestic",{"$f":"'Tariffs (2)'!B23","v":"322, 323"},{"$f":"'Tariffs (2)'!C23","v":"5-8"},1.3540000000000001,2.3E-2,0,251.96,0,0,{"$f":"'Tariffs (2)'!J23","v":"121, 124, 132"}]
[null,null,"LV HH Metered",{"$f":"'Tariffs (2)'!B24","v":"127, 129"},{"$f":"'Tariffs (2)'!C24","v":0},10.363,0.621,5.7000000000000002E-2,10.69,3.67,0.38,{"$f":"'Tariffs (2)'!J24","v":0}]
[null,null,"LV Sub HH Metered",{"$f":"'Tariffs (2)'!B25","v":"128"},{"$f":"'Tariffs (2)'!C25","v":0},8.9730000000000008,0.45700000000000002,3.2000000000000001E-2,7.85,4.5999999999999996,0.307,{"$f":"'Tariffs (2)'!J25","v":130}]
[null,null,"HV HH Metered",{"$f":"'Tariffs (2)'!B26","v":"365, 367"},{"$f":"'Tariffs (2)'!C26","v":0},7.3540000000000001,0.34399999999999997,0.02,76.790000000000006,3.76,0.23100000000000001,{"$f":"'Tariffs (2)'!J26","v":0}]
[null,null,"HV Sub HH Metered",{"$f":"'Tariffs (2)'!B27","v":"N/A"},{"$f":"'Tariffs (2)'!C27","v":0},6.5190000000000001,0.29299999999999998,1.4999999999999999E-2,76.790000000000006,1.51,0.219,{"$f":"'Tariffs (2)'!J27","v":0}]
[null,null,"NHH UMS category A",{"$f":"'Tariffs (2)'!B28","v":"95"},{"$f":"'Tariffs (2)'!C28","v":8},2.2010000000000001,0,0,0,0,0,{"$f":"'Tariffs (2)'!J28","v":0}]
[null,null,"NHH UMS category B",{"$f":"'Tariffs (2)'!B29","v":"96"},{"$f":"'Tariffs (2)'!C29","v":1},2.2029999999999998,0,0,0,0,0,{"$f":"'Tariffs (2)'!J29","v":0}]
[null,null,"NHH UMS category C",{"$f":"'Tariffs (2)'!B30","v":"97"},{"$f":"'Tariffs (2)'!C30","v":1},3.5190000000000001,0,0,0,0,0,{"$f":"'Tariffs (2)'!J30","v":0}]
[null,null,"NHH UMS category D",{"$f":"'Tariffs (2)'!B31","v":"98"},{"$f":"'Tariffs (2)'!C31","v":1},2.286,0,0,0,0,0,{"$f":"'Tariffs (2)'!J31","v":0}]
[null,null,"LV UMS (Pseudo HH Metered)",{"$f":"'Tariffs (2)'!B32","v":"99"},{"$f":"'Tariffs (2)'!C32","v":0},25.713000000000001,2.5310000000000001,0.82799999999999996,0,0,0,{"$f":"'Tariffs (2)'!J32","v":0}]
[null,null,"LV Generation NHH",{"$f":"'Tariffs (2)'!B33","v":"625"},{"$f":"'Tariffs (2)'!C33","v":8},-0.64,0,0,0,0,0,{"$f":"'Tariffs (2)'!J33","v":0}]
[null,null,"LV Sub Generation NHH",{"$f":"'Tariffs (2)'!B34","v":"570"},{"$f":"'Tariffs (2)'!C34","v":8},-0.52600000000000002,0,0,0,0,0,{"$f":"'Tariffs (2)'!J34","v":0}]
[null,null,"LV Generation Intermittent",{"$f":"'Tariffs (2)'!B35","v":"571"},{"$f":"'Tariffs (2)'!C35","v":0},-0.64,0,0,0,0,0.19700000000000001,{"$f":"'Tariffs (2)'!J35","v":0}]
[null,null,"LV Generation Non-Intermittent",{"$f":"'Tariffs (2)'!B36","v":"573"},{"$f":"'Tariffs (2)'!C36","v":0},-4.9619999999999997,-0.51200000000000001,-0.06,0,0,0.19700000000000001,{"$f":"'Tariffs (2)'!J36","v":0}]
[null,null,"LV Sub Generation Intermittent",{"$f":"'Tariffs (2)'!B37","v":"572"},{"$f":"'Tariffs (2)'!C37","v":0},-0.52600000000000002,0,0,0,0,0.16700000000000001,{"$f":"'Tariffs (2)'!J37","v":0}]
[null,null,"LV Sub Generation Non-Intermittent",{"$f":"'Tariffs (2)'!B38","v":"574"},{"$f":"'Tariffs (2)'!C38","v":0},-4.117,-0.41699999999999998,-4.5999999999999999E-2,0,0,0.16700000000000001,{"$f":"'Tariffs (2)'!J38","v":0}]
[null,null,"HV Generation Intermittent",{"$f":"'Tariffs (2)'!B39","v":"575"},{"$f":"'Tariffs (2)'!C39","v":0},-0.312,0,0,37.74,0,0.13100000000000001,{"$f":"'Tariffs (2)'!J39","v":0}]
[null,null,"HV Generation Non-Intermittent",{"$f":"'Tariffs (2)'!B40","v":"577"},{"$f":"'Tariffs (2)'!C40","v":0},-2.5350000000000001,-0.23599999999999999,-1.9E-2,37.74,0,0.13100000000000001,{"$f":"'Tariffs (2)'!J40","v":0}]
[null,null,"HV Sub Generation Non-Intermittent",{"$f":"'Tariffs (2)'!B41","v":"N/A"},{"$f":"'Tariffs (2)'!C41","v":0},-0.26400000000000001,0,0,37.74,0,7.0000000000000007E-2,{"$f":"'Tariffs (2)'!J41","v":0}]
[null,null,"HV Sub Generation Intermittent",{"$f":"'Tariffs (2)'!B42","v":"N/A"},{"$f":"'Tariffs (2)'!C42","v":0},-2.1739999999999999,-0.19500000000000001,-1.4E-2,37.74,0,7.0000000000000007E-2,{"$f":"'Tariffs (2)'!J42","v":0}]
[null,null,"LDNO LV: Domestic Unrestricted",{"$f":"'Tariffs (2)'!B43","v":"200"},{"$f":"'Tariffs (2)'!C43","v":1},1.7130000000000001,0,0,2.98,0,0,{"$f":"'Tariffs (2)'!J43","v":0}]
[null,null,"LDNO LV: Domestic Two Rate",{"$f":"'Tariffs (2)'!B44","v":"201"},{"$f":"'Tariffs (2)'!C44","v":2},1.9850000000000001,7.3999999999999996E-2,0,2.98,0,0,{"$f":"'Tariffs (2)'!J44","v":0}]
[null,null,"LDNO LV: Domestic Off Peak (related MPAN)",{"$f":"'Tariffs (2)'!B45","v":"202"},{"$f":"'Tariffs (2)'!C45","v":2},0.14199999999999999,0,0,0,0,0,{"$f":"'Tariffs (2)'!J45","v":0}]
[null,null,"LDNO LV: Small Non Domestic Unrestricted",{"$f":"'Tariffs (2)'!B46","v":"203"},{"$f":"'Tariffs (2)'!C46","v":3},1.3520000000000001,0,0,5.16,0,0,{"$f":"'Tariffs (2)'!J46","v":0}]
[null,null,"LDNO LV: Small Non Domestic Two Rate",{"$f":"'Tariffs (2)'!B47","v":"204"},{"$f":"'Tariffs (2)'!C47","v":4},1.6120000000000001,6.4000000000000001E-2,0,5.16,0,0,{"$f":"'Tariffs (2)'!J47","v":0}]
[null,null,"LDNO LV: Small Non Domestic Off Peak (related MPAN)",{"$f":"'Tariffs (2)'!B48","v":"205"},{"$f":"'Tariffs (2)'!C48","v":4},0.23599999999999999,0,0,0,0,0,{"$f":"'Tariffs (2)'!J48","v":0}]
[null,null,"LDNO LV: LV Medium Non-Domestic",{"$f":"'Tariffs (2)'!B49","v":"206"},{"$f":"'Tariffs (2)'!C49","v":"5-8"},1.5509999999999999,5.8999999999999997E-2,0,25.99,0,0,{"$f":"'Tariffs (2)'!J49","v":0}]
[null,null,"LDNO LV: LV HH Metered",{"$f":"'Tariffs (2)'!B50","v":"207"},{"$f":"'Tariffs (2)'!C50","v":0},7.1630000000000003,0.42899999999999999,3.9E-2,7.39,2.54,0.26300000000000001,{"$f":"'Tariffs (2)'!J50","v":0}]
[null,null,"LDNO LV: NHH UMS category A",{"$f":"'Tariffs (2)'!B51","v":"252"},{"$f":"'Tariffs (2)'!C51","v":8},1.5209999999999999,0,0,0,0,0,{"$f":"'Tariffs (2)'!J51","v":0}]
[null,null,"LDNO LV: NHH UMS category B",{"$f":"'Tariffs (2)'!B52","v":"208"},{"$f":"'Tariffs (2)'!C52","v":1},1.5229999999999999,0,0,0,0,0,{"$f":"'Tariffs (2)'!J52","v":0}]
[null,null,"LDNO LV: NHH UMS category C",{"$f":"'Tariffs (2)'!B53","v":"253"},{"$f":"'Tariffs (2)'!C53","v":1},2.4319999999999999,0,0,0,0,0,{"$f":"'Tariffs (2)'!J53","v":0}]
[null,null,"LDNO LV: NHH UMS category D",{"$f":"'Tariffs (2)'!B54","v":"24"},{"$f":"'Tariffs (2)'!C54","v":1},1.58,0,0,0,0,0,{"$f":"'Tariffs (2)'!J54","v":0}]
[null,null,"LDNO LV: LV UMS (Pseudo HH Metered)",{"$f":"'Tariffs (2)'!B55","v":"209"},{"$f":"'Tariffs (2)'!C55","v":0},17.771999999999998,1.7490000000000001,0.57199999999999995,0,0,0,{"$f":"'Tariffs (2)'!J55","v":0}]
[null,null,"LDNO LV: LV Generation NHH",{"$f":"'Tariffs (2)'!B56","v":"210"},{"$f":"'Tariffs (2)'!C56","v":8},-0.64,0,0,0,0,0,{"$f":"'Tariffs (2)'!J56","v":0}]
[null,null,"LDNO LV: LV Generation Intermittent",{"$f":"'Tariffs (2)'!B57","v":"211"},{"$f":"'Tariffs (2)'!C57","v":0},-0.64,0,0,0,0,0.19700000000000001,{"$f":"'Tariffs (2)'!J57","v":0}]
[null,null,"LDNO LV: LV Generation Non-Intermittent",{"$f":"'Tariffs (2)'!B58","v":"212"},{"$f":"'Tariffs (2)'!C58","v":0},-4.9619999999999997,-0.51200000000000001,-0.06,0,0,0.19700000000000001,{"$f":"'Tariffs (2)'!J58","v":0}]
[null,null,"LDNO HV: Domestic Unrestricted",{"$f":"'Tariffs (2)'!B59","v":"213"},{"$f":"'Tariffs (2)'!C59","v":1},1.238,0,0,2.15,0,0,{"$f":"'Tariffs (2)'!J59","v":0}]
[null,null,"LDNO HV: Domestic Two Rate",{"$f":"'Tariffs (2)'!B60","v":"214"},{"$f":"'Tariffs (2)'!C60","v":2},1.4339999999999999,5.2999999999999999E-2,0,2.15,0,0,{"$f":"'Tariffs (2)'!J60","v":0}]
[null,null,"LDNO HV: Domestic Off Peak (related MPAN)",{"$f":"'Tariffs (2)'!B61","v":"215"},{"$f":"'Tariffs (2)'!C61","v":2},0.10299999999999999,0,0,0,0,0,{"$f":"'Tariffs (2)'!J61","v":0}]
[null,null,"LDNO HV: Small Non Domestic Unrestricted",{"$f":"'Tariffs (2)'!B62","v":"216"},{"$f":"'Tariffs (2)'!C62","v":3},0.97599999999999998,0,0,3.72,0,0,{"$f":"'Tariffs (2)'!J62","v":0}]
[null,null,"LDNO HV: Small Non Domestic Two Rate",{"$f":"'Tariffs (2)'!B63","v":"217"},{"$f":"'Tariffs (2)'!C63","v":4},1.165,4.5999999999999999E-2,0,3.72,0,0,{"$f":"'Tariffs (2)'!J63","v":0}]
[null,null,"LDNO HV: Small Non Domestic Off Peak (related MPAN)",{"$f":"'Tariffs (2)'!B64","v":"218"},{"$f":"'Tariffs (2)'!C64","v":4},0.17100000000000001,0,0,0,0,0,{"$f":"'Tariffs (2)'!J64","v":0}]
[null,null,"LDNO HV: LV Medium Non-Domestic",{"$f":"'Tariffs (2)'!B65","v":"219"},{"$f":"'Tariffs (2)'!C65","v":"5-8"},1.1200000000000001,4.2000000000000003E-2,0,18.77,0,0,{"$f":"'Tariffs (2)'!J65","v":0}]
[null,null,"LDNO HV: LV HH Metered",{"$f":"'Tariffs (2)'!B66","v":"220"},{"$f":"'Tariffs (2)'!C66","v":0},5.173,0.31,2.8000000000000001E-2,5.34,1.83,0.19,{"$f":"'Tariffs (2)'!J66","v":0}]
[null,null,"LDNO HV: LV Sub HH Metered",{"$f":"'Tariffs (2)'!B67","v":"221"},{"$f":"'Tariffs (2)'!C67","v":0},6.6909999999999998,0.34100000000000003,2.4E-2,5.85,3.43,0.22900000000000001,{"$f":"'Tariffs (2)'!J67","v":0}]
[null,null,"LDNO HV: HV HH Metered",{"$f":"'Tariffs (2)'!B68","v":"222"},{"$f":"'Tariffs (2)'!C68","v":0},6.234,0.29199999999999998,1.7000000000000001E-2,65.099999999999994,3.19,0.19600000000000001,{"$f":"'Tariffs (2)'!J68","v":0}]
[null,null,"LDNO HV: NHH UMS category A",{"$f":"'Tariffs (2)'!B69","v":"249"},{"$f":"'Tariffs (2)'!C69","v":8},1.099,0,0,0,0,0,{"$f":"'Tariffs (2)'!J69","v":0}]
[null,null,"LDNO HV: NHH UMS category B",{"$f":"'Tariffs (2)'!B70","v":"223"},{"$f":"'Tariffs (2)'!C70","v":1},1.1000000000000001,0,0,0,0,0,{"$f":"'Tariffs (2)'!J70","v":0}]
[null,null,"LDNO HV: NHH UMS category C",{"$f":"'Tariffs (2)'!B71","v":"250"},{"$f":"'Tariffs (2)'!C71","v":1},1.7569999999999999,0,0,0,0,0,{"$f":"'Tariffs (2)'!J71","v":0}]
[null,null,"LDNO HV: NHH UMS category D",{"$f":"'Tariffs (2)'!B72","v":"251"},{"$f":"'Tariffs (2)'!C72","v":1},1.141,0,0,0,0,0,{"$f":"'Tariffs (2)'!J72","v":0}]
[null,null,"LDNO HV: LV UMS (Pseudo HH Metered)",{"$f":"'Tariffs (2)'!B73","v":"224"},{"$f":"'Tariffs (2)'!C73","v":0},12.836,1.264,0.41299999999999998,0,0,0,{"$f":"'Tariffs (2)'!J73","v":0}]
[null,null,"LDNO HV: LV Generation NHH",{"$f":"'Tariffs (2)'!B74","v":"225"},{"$f":"'Tariffs (2)'!C74","v":8},-0.64,0,0,0,0,0,{"$f":"'Tariffs (2)'!J74","v":0}]
[null,null,"LDNO HV: LV Sub Generation NHH",{"$f":"'Tariffs (2)'!B75","v":"226"},{"$f":"'Tariffs (2)'!C75","v":8},-0.52600000000000002,0,0,0,0,0,{"$f":"'Tariffs (2)'!J75","v":0}]
[null,null,"LDNO HV: LV Generation Intermittent",{"$f":"'Tariffs (2)'!B76","v":"227"},{"$f":"'Tariffs (2)'!C76","v":0},-0.64,0,0,0,0,0.19700000000000001,{"$f":"'Tariffs (2)'!J76","v":0}]
[null,null,"LDNO HV: LV Generation Non-Intermittent",{"$f":"'Tariffs (2)'!B77","v":"228"},{"$f":"'Tariffs (2)'!C77","v":0},-4.9619999999999997,-0.51200000000000001,-0.06,0,0,0.19700000000000001,{"$f":"'Tariffs (2)'!J77","v":0}]
[null,null,"LDNO HV: LV Sub Generation Intermittent",{"$f":"'Tariffs (2)'!B78","v":"229"},{"$f":"'Tariffs (2)'!C78","v":0},-0.52600000000000002,0,0,0,0,0.16700000000000001,{"$f":"'Tariffs (2)'!J78","v":0}]
[null,null,"LDNO HV: LV Sub Generation Non-Intermittent",{"$f":"'Tariffs (2)'!B79","v":"230"},{"$f":"'Tariffs (2)'!C79","v":0},-4.117,-0.41699999999999998,-4.5999999999999999E-2,0,0,0.16700000000000001,{"$f":"'Tariffs (2)'!J79","v":0}]
[null,null,"LDNO HV: HV Generation Intermittent",{"$f":"'Tariffs (2)'!B80","v":"231"},{"$f":"'Tariffs (2)'!C80","v":0},-0.312,0,0,0,0,0.13100000000000001,{"$f":"'Tariffs (2)'!J80","v":0}]
[null,null,"LDNO HV: HV Generation Non-Intermittent",{"$f":"'Tariffs (2)'!B81","v":"232"},{"$f":"'Tariffs (2)'!C81","v":0},-2.5350000000000001,-0.23599999999999999,-1.9E-2,0,0,0.13100000000000001,{"$f":"'Tariffs (2)'!J81","v":0}]
[]
[]
[]
[]
[]
[null,null,{"$f":"\"Tariffs for Charging Year: \"& \" \"&D10&\"\"","v":"Tariffs for Charging Year:  2017/18"}]
[]
[]
[null,null,null,"Open LLFCs","PCs","Unit rate 1 p/kWh","Unit rate 2 p/kWh","Unit rate 3 p/kWh","Fixed charge p/MPAN/day","Capacity charge p/kVA/day","Reactive power charge p/kVArh","Closed LLFCs"]
[null,null,"Domestic Unrestricted",{"$f":"'Tariffs (2)'!B15","v":"1"},{"$f":"'Tariffs (2)'!C15","v":1},2.5499999999999998,0,0,4.37,0,0,{"$f":"'Tariffs (2)'!J15","v":"2, 3"}]
[null,null,"Domestic Two Rate",{"$f":"'Tariffs (2)'!B16","v":"4"},{"$f":"'Tariffs (2)'!C16","v":2},2.9550000000000001,0.11,0,4.37,0,0,{"$f":"'Tariffs (2)'!J16","v":"5, 6, 30"}]
[null,null,"Domestic Off Peak (related MPAN)",{"$f":"'Tariffs (2)'!B17","v":"34"},{"$f":"'Tariffs (2)'!C17","v":2},0.21099999999999999,0,0,0,0,0,{"$f":"'Tariffs (2)'!J17","v":"35, 36"}]
[null,null,"Small Non Domestic Unrestricted",{"$f":"'Tariffs (2)'!B18","v":"7"},{"$f":"'Tariffs (2)'!C18","v":3},2.012,0,0,7.6,0,0,{"$f":"'Tariffs (2)'!J18","v":"8, 9, 13, 14, 15, 46, 47, 49, 107, 108, 109"}]
[null,null,"Small Non Domestic Two Rate",{"$f":"'Tariffs (2)'!B19","v":"10"},{"$f":"'Tariffs (2)'!C19","v":4},2.4,9.4E-2,0,7.6,0,0,{"$f":"'Tariffs (2)'!J19","v":"11, 12, 110, 111, 112"}]
[null,null,"Small Non Domestic Off Peak (related MPAN)",{"$f":"'Tariffs (2)'!B20","v":"40"},{"$f":"'Tariffs (2)'!C20","v":4},0.35199999999999998,0,0,0,0,0,{"$f":"'Tariffs (2)'!J20","v":"41, 42"}]
[null,null,"LV Medium Non-Domestic",{"$f":"'Tariffs (2)'!B21","v":"21"},{"$f":"'Tariffs (2)'!C21","v":"5-8"},2.3090000000000002,8.6999999999999994E-2,0,37.82,0,0,{"$f":"'Tariffs (2)'!J21","v":"20, 22, 25, 26, 27"}]
[null,null,"LV Sub Medium Non-Domestic",{"$f":"'Tariffs (2)'!B22","v":"19"},{"$f":"'Tariffs (2)'!C22","v":"5-8"},2.089,7.0000000000000007E-2,0,18.440000000000001,0,0,{"$f":"'Tariffs (2)'!J22","v":0}]
[null,null,"HV Medium Non-Domestic",{"$f":"'Tariffs (2)'!B23","v":"322, 323"},{"$f":"'Tariffs (2)'!C23","v":"5-8"},1.397,2.4E-2,0,254.32,0,0,{"$f":"'Tariffs (2)'!J23","v":"121, 124, 132"}]
[null,null,"LV HH Metered",{"$f":"'Tariffs (2)'!B24","v":"127, 129"},{"$f":"'Tariffs (2)'!C24","v":0},10.679,0.63700000000000001,5.8000000000000003E-2,10.96,3.75,0.39100000000000001,{"$f":"'Tariffs (2)'!J24","v":0}]
[null,null,"LV Sub HH Metered",{"$f":"'Tariffs (2)'!B25","v":"128"},{"$f":"'Tariffs (2)'!C25","v":0},9.2590000000000003,0.46899999999999997,3.3000000000000002E-2,8.0500000000000007,4.71,0.317,{"$f":"'Tariffs (2)'!J25","v":130}]
[null,null,"HV HH Metered",{"$f":"'Tariffs (2)'!B26","v":"365, 367"},{"$f":"'Tariffs (2)'!C26","v":0},7.593,0.35399999999999998,0.02,78.739999999999995,3.84,0.23799999999999999,{"$f":"'Tariffs (2)'!J26","v":0}]
[null,null,"HV Sub HH Metered",{"$f":"'Tariffs (2)'!B27","v":"N/A"},{"$f":"'Tariffs (2)'!C27","v":0},6.7329999999999997,0.30099999999999999,1.6E-2,78.739999999999995,1.55,0.22600000000000001,{"$f":"'Tariffs (2)'!J27","v":0}]
[null,null,"NHH UMS category A",{"$f":"'Tariffs (2)'!B28","v":"95"},{"$f":"'Tariffs (2)'!C28","v":8},2.2610000000000001,0,0,0,0,0,{"$f":"'Tariffs (2)'!J28","v":0}]
[null,null,"NHH UMS category B",{"$f":"'Tariffs (2)'!B29","v":"96"},{"$f":"'Tariffs (2)'!C29","v":1},2.2629999999999999,0,0,0,0,0,{"$f":"'Tariffs (2)'!J29","v":0}]
[null,null,"NHH UMS category C",{"$f":"'Tariffs (2)'!B30","v":"97"},{"$f":"'Tariffs (2)'!C30","v":1},3.6160000000000001,0,0,0,0,0,{"$f":"'Tariffs (2)'!J30","v":0}]
[null,null,"NHH UMS category D",{"$f":"'Tariffs (2)'!B31","v":"98"},{"$f":"'Tariffs (2)'!C31","v":1},2.3490000000000002,0,0,0,0,0,{"$f":"'Tariffs (2)'!J31","v":0}]
[null,null,"LV UMS (Pseudo HH Metered)",{"$f":"'Tariffs (2)'!B32","v":"99"},{"$f":"'Tariffs (2)'!C32","v":0},26.431999999999999,2.6019999999999999,0.84799999999999998,0,0,0,{"$f":"'Tariffs (2)'!J32","v":0}]
[null,null,"LV Generation NHH",{"$f":"'Tariffs (2)'!B33","v":"625"},{"$f":"'Tariffs (2)'!C33","v":8},-0.65400000000000003,0,0,0,0,0,{"$f":"'Tariffs (2)'!J33","v":0}]
[null,null,"LV Sub Generation NHH",{"$f":"'Tariffs (2)'!B34","v":"570"},{"$f":"'Tariffs (2)'!C34","v":8},-0.53800000000000003,0,0,0,0,0,{"$f":"'Tariffs (2)'!J34","v":0}]
[null,null,"LV Generation Intermittent",{"$f":"'Tariffs (2)'!B35","v":"571"},{"$f":"'Tariffs (2)'!C35","v":0},-0.65400000000000003,0,0,0,0,0.20200000000000001,{"$f":"'Tariffs (2)'!J35","v":0}]
[null,null,"LV Generation Non-Intermittent",{"$f":"'Tariffs (2)'!B36","v":"573"},{"$f":"'Tariffs (2)'!C36","v":0},-5.0759999999999996,-0.52400000000000002,-6.0999999999999999E-2,0,0,0.20200000000000001,{"$f":"'Tariffs (2)'!J36","v":0}]
[null,null,"LV Sub Generation Intermittent",{"$f":"'Tariffs (2)'!B37","v":"572"},{"$f":"'Tariffs (2)'!C37","v":0},-0.53800000000000003,0,0,0,0,0.17,{"$f":"'Tariffs (2)'!J37","v":0}]
[null,null,"LV Sub Generation Non-Intermittent",{"$f":"'Tariffs (2)'!B38","v":"574"},{"$f":"'Tariffs (2)'!C38","v":0},-4.21,-0.42599999999999999,-4.7E-2,0,0,0.17,{"$f":"'Tariffs (2)'!J38","v":0}]
[null,null,"HV Generation Intermittent",{"$f":"'Tariffs (2)'!B39","v":"575"},{"$f":"'Tariffs (2)'!C39","v":0},-0.31900000000000001,0,0,38.69,0,0.13400000000000001,{"$f":"'Tariffs (2)'!J39","v":0}]
[null,null,"HV Generation Non-Intermittent",{"$f":"'Tariffs (2)'!B40","v":"577"},{"$f":"'Tariffs (2)'!C40","v":0},-2.593,-0.24099999999999999,-0.02,38.69,0,0.13400000000000001,{"$f":"'Tariffs (2)'!J40","v":0}]
[null,null,"HV Sub Generation Non-Intermittent",{"$f":"'Tariffs (2)'!B41","v":"N/A"},{"$f":"'Tariffs (2)'!C41","v":0},-0.27,0,0,38.69,0,7.1999999999999995E-2,{"$f":"'Tariffs (2)'!J41","v":0}]
[null,null,"HV Sub Generation Intermittent",{"$f":"'Tariffs (2)'!B42","v":"N/A"},{"$f":"'Tariffs (2)'!C42","v":0},-2.2240000000000002,-0.19900000000000001,-1.4E-2,38.69,0,7.1999999999999995E-2,{"$f":"'Tariffs (2)'!J42","v":0}]
[null,null,"LDNO LV: Domestic Unrestricted",{"$f":"'Tariffs (2)'!B43","v":"200"},{"$f":"'Tariffs (2)'!C43","v":1},1.762,0,0,3.02,0,0,{"$f":"'Tariffs (2)'!J43","v":0}]
[null,null,"LDNO LV: Domestic Two Rate",{"$f":"'Tariffs (2)'!B44","v":"201"},{"$f":"'Tariffs (2)'!C44","v":2},2.0419999999999998,7.5999999999999998E-2,0,3.02,0,0,{"$f":"'Tariffs (2)'!J44","v":0}]
[null,null,"LDNO LV: Domestic Off Peak (related MPAN)",{"$f":"'Tariffs (2)'!B45","v":"202"},{"$f":"'Tariffs (2)'!C45","v":2},0.14599999999999999,0,0,0,0,0,{"$f":"'Tariffs (2)'!J45","v":0}]
[null,null,"LDNO LV: Small Non Domestic Unrestricted",{"$f":"'Tariffs (2)'!B46","v":"203"},{"$f":"'Tariffs (2)'!C46","v":3},1.391,0,0,5.25,0,0,{"$f":"'Tariffs (2)'!J46","v":0}]
[null,null,"LDNO LV: Small Non Domestic Two Rate",{"$f":"'Tariffs (2)'!B47","v":"204"},{"$f":"'Tariffs (2)'!C47","v":4},1.659,6.5000000000000002E-2,0,5.25,0,0,{"$f":"'Tariffs (2)'!J47","v":0}]
[null,null,"LDNO LV: Small Non Domestic Off Peak (related MPAN)",{"$f":"'Tariffs (2)'!B48","v":"205"},{"$f":"'Tariffs (2)'!C48","v":4},0.24299999999999999,0,0,0,0,0,{"$f":"'Tariffs (2)'!J48","v":0}]
[null,null,"LDNO LV: LV Medium Non-Domestic",{"$f":"'Tariffs (2)'!B49","v":"206"},{"$f":"'Tariffs (2)'!C49","v":"5-8"},1.5960000000000001,0.06,0,26.14,0,0,{"$f":"'Tariffs (2)'!J49","v":0}]
[null,null,"LDNO LV: LV HH Metered",{"$f":"'Tariffs (2)'!B50","v":"207"},{"$f":"'Tariffs (2)'!C50","v":0},7.3810000000000002,0.44,0.04,7.58,2.59,0.27,{"$f":"'Tariffs (2)'!J50","v":0}]
[null,null,"LDNO LV: NHH UMS category A",{"$f":"'Tariffs (2)'!B51","v":"252"},{"$f":"'Tariffs (2)'!C51","v":8},1.5629999999999999,0,0,0,0,0,{"$f":"'Tariffs (2)'!J51","v":0}]
[null,null,"LDNO LV: NHH UMS category B",{"$f":"'Tariffs (2)'!B52","v":"208"},{"$f":"'Tariffs (2)'!C52","v":1},1.5640000000000001,0,0,0,0,0,{"$f":"'Tariffs (2)'!J52","v":0}]
[null,null,"LDNO LV: NHH UMS category C",{"$f":"'Tariffs (2)'!B53","v":"253"},{"$f":"'Tariffs (2)'!C53","v":1},2.4990000000000001,0,0,0,0,0,{"$f":"'Tariffs (2)'!J53","v":0}]
[null,null,"LDNO LV: NHH UMS category D",{"$f":"'Tariffs (2)'!B54","v":"24"},{"$f":"'Tariffs (2)'!C54","v":1},1.6240000000000001,0,0,0,0,0,{"$f":"'Tariffs (2)'!J54","v":0}]
[null,null,"LDNO LV: LV UMS (Pseudo HH Metered)",{"$f":"'Tariffs (2)'!B55","v":"209"},{"$f":"'Tariffs (2)'!C55","v":0},18.268999999999998,1.798,0.58599999999999997,0,0,0,{"$f":"'Tariffs (2)'!J55","v":0}]
[null,null,"LDNO LV: LV Generation NHH",{"$f":"'Tariffs (2)'!B56","v":"210"},{"$f":"'Tariffs (2)'!C56","v":8},-0.65400000000000003,0,0,0,0,0,{"$f":"'Tariffs (2)'!J56","v":0}]
[null,null,"LDNO LV: LV Generation Intermittent",{"$f":"'Tariffs (2)'!B57","v":"211"},{"$f":"'Tariffs (2)'!C57","v":0},-0.65400000000000003,0,0,0,0,0.20200000000000001,{"$f":"'Tariffs (2)'!J57","v":0}]
[null,null,"LDNO LV: LV Generation Non-Intermittent",{"$f":"'Tariffs (2)'!B58","v":"212"},{"$f":"'Tariffs (2)'!C58","v":0},-5.0759999999999996,-0.52400000000000002,-6.0999999999999999E-2,0,0,0.20200000000000001,{"$f":"'Tariffs (2)'!J58","v":0}]
[null,null,"LDNO HV: Domestic Unrestricted",{"$f":"'Tariffs (2)'!B59","v":"213"},{"$f":"'Tariffs (2)'!C59","v":1},1.2729999999999999,0,0,2.1800000000000002,0,0,{"$f":"'Tariffs (2)'!J59","v":0}]
[null,null,"LDNO HV: Domestic Two Rate",{"$f":"'Tariffs (2)'!B60","v":"214"},{"$f":"'Tariffs (2)'!C60","v":2},1.4750000000000001,5.5E-2,0,2.1800000000000002,0,0,{"$f":"'Tariffs (2)'!J60","v":0}]
[null,null,"LDNO HV: Domestic Off Peak (related MPAN)",{"$f":"'Tariffs (2)'!B61","v":"215"},{"$f":"'Tariffs (2)'!C61","v":2},0.105,0,0,0,0,0,{"$f":"'Tariffs (2)'!J61","v":0}]
[null,null,"LDNO HV: Small Non Domestic Unrestricted",{"$f":"'Tariffs (2)'!B62","v":"216"},{"$f":"'Tariffs (2)'!C62","v":3},1.004,0,0,3.79,0,0,{"$f":"'Tariffs (2)'!J62","v":0}]
[null,null,"LDNO HV: Small Non Domestic Two Rate",{"$f":"'Tariffs (2)'!B63","v":"217"},{"$f":"'Tariffs (2)'!C63","v":4},1.198,4.7E-2,0,3.79,0,0,{"$f":"'Tariffs (2)'!J63","v":0}]
[null,null,"LDNO HV: Small Non Domestic Off Peak (related MPAN)",{"$f":"'Tariffs (2)'!B64","v":"218"},{"$f":"'Tariffs (2)'!C64","v":4},0.17599999999999999,0,0,0,0,0,{"$f":"'Tariffs (2)'!J64","v":0}]
[null,null,"LDNO HV: LV Medium Non-Domestic",{"$f":"'Tariffs (2)'!B65","v":"219"},{"$f":"'Tariffs (2)'!C65","v":"5-8"},1.153,4.2999999999999997E-2,0,18.88,0,0,{"$f":"'Tariffs (2)'!J65","v":0}]
[null,null,"LDNO HV: LV HH Metered",{"$f":"'Tariffs (2)'!B66","v":"220"},{"$f":"'Tariffs (2)'!C66","v":0},5.3310000000000004,0.318,2.9000000000000001E-2,5.47,1.87,0.19500000000000001,{"$f":"'Tariffs (2)'!J66","v":0}]
[null,null,"LDNO HV: LV Sub HH Metered",{"$f":"'Tariffs (2)'!B67","v":"221"},{"$f":"'Tariffs (2)'!C67","v":0},6.9050000000000002,0.35,2.5000000000000001E-2,6,3.51,0.23599999999999999,{"$f":"'Tariffs (2)'!J67","v":0}]
[null,null,"LDNO HV: HV HH Metered",{"$f":"'Tariffs (2)'!B68","v":"222"},{"$f":"'Tariffs (2)'!C68","v":0},6.4370000000000003,0.3,1.7000000000000001E-2,66.75,3.26,0.20200000000000001,{"$f":"'Tariffs (2)'!J68","v":0}]
[null,null,"LDNO HV: NHH UMS category A",{"$f":"'Tariffs (2)'!B69","v":"249"},{"$f":"'Tariffs (2)'!C69","v":8},1.129,0,0,0,0,0,{"$f":"'Tariffs (2)'!J69","v":0}]
[null,null,"LDNO HV: NHH UMS category B",{"$f":"'Tariffs (2)'!B70","v":"223"},{"$f":"'Tariffs (2)'!C70","v":1},1.1299999999999999,0,0,0,0,0,{"$f":"'Tariffs (2)'!J70","v":0}]
[null,null,"LDNO HV: NHH UMS category C",{"$f":"'Tariffs (2)'!B71","v":"250"},{"$f":"'Tariffs (2)'!C71","v":1},1.8049999999999999,0,0,0,0,0,{"$f":"'Tariffs (2)'!J71","v":0}]
[null,null,"LDNO HV: NHH UMS category D",{"$f":"'Tariffs (2)'!B72","v":"251"},{"$f":"'Tariffs (2)'!C72","v":1},1.173,0,0,0,0,0,{"$f":"'Tariffs (2)'!J72","v":0}]
[null,null,"LDNO HV: LV UMS (Pseudo HH Metered)",{"$f":"'Tariffs (2)'!B73","v":"224"},{"$f":"'Tariffs (2)'!C73","v":0},13.195,1.2989999999999999,0.42299999999999999,0,0,0,{"$f":"'Tariffs (2)'!J73","v":0}]
[null,null,"LDNO HV: LV Generation NHH",{"$f":"'Tariffs (2)'!B74","v":"225"},{"$f":"'Tariffs (2)'!C74","v":8},-0.65400000000000003,0,0,0,0,0,{"$f":"'Tariffs (2)'!J74","v":0}]
[null,null,"LDNO HV: LV Sub Generation NHH",{"$f":"'Tariffs (2)'!B75","v":"226"},{"$f":"'Tariffs (2)'!C75","v":8},-0.53800000000000003,0,0,0,0,0,{"$f":"'Tariffs (2)'!J75","v":0}]
[null,null,"LDNO HV: LV Generation Intermittent",{"$f":"'Tariffs (2)'!B76","v":"227"},{"$f":"'Tariffs (2)'!C76","v":0},-0.65400000000000003,0,0,0,0,0.20200000000000001,{"$f":"'Tariffs (2)'!J76","v":0}]
[null,null,"LDNO HV: LV Generation Non-Intermittent",{"$f":"'Tariffs (2)'!B77","v":"228"},{"$f":"'Tariffs (2)'!C77","v":0},-5.0759999999999996,-0.52400000000000002,-6.0999999999999999E-2,0,0,0.20200000000000001,{"$f":"'Tariffs (2)'!J77","v":0}]
[null,null,"LDNO HV: LV Sub Generation Intermittent",{"$f":"'Tariffs (2)'!B78","v":"229"},{"$f":"'Tariffs (2)'!C78","v":0},-0.53800000000000003,0,0,0,0,0.17,{"$f":"'Tariffs (2)'!J78","v":0}]
[null,null,"LDNO HV: LV Sub Generation Non-Intermittent",{"$f":"'Tariffs (2)'!B79","v":"230"},{"$f":"'Tariffs (2)'!C79","v":0},-4.21,-0.42599999999999999,-4.7E-2,0,0,0.17,{"$f":"'Tariffs (2)'!J79","v":0}]
[null,null,"LDNO HV: HV Generation Intermittent",{"$f":"'Tariffs (2)'!B80","v":"231"},{"$f":"'Tariffs (2)'!C80","v":0},-0.31900000000000001,0,0,0,0,0.13400000000000001,{"$f":"'Tariffs (2)'!J80","v":0}]
[null,null,"LDNO HV: HV Generation Non-Intermittent",{"$f":"'Tariffs (2)'!B81","v":"232"},{"$f":"'Tariffs (2)'!C81","v":0},-2.593,-0.24099999999999999,-0.02,0,0,0.13400000000000001,{"$f":"'Tariffs (2)'!J81","v":0}]

{"sheet":"Typical Bill","index":15,"n_rows":114,"n_cols":7,"rows_kept":114,"cut":false,"hidden":false,"merged":[[2,1,4,5]]}
[]
[]
[null,"Note: These tariffs are based on the assumptions set out in the CDCM forecast Data and CDCM Volume Forecast sheets.\nIf the assumptions in these sheets have been changed, the typical bills can be updated by pressing the button below."]
[]
[]
[]
[]
[]
[]
[]
[]
[]
[null,{"$f":"'CDCM Forecast Data'!F3&\" - 5 Year Typical Bill\"","v":"WPD Mid West - 5 Year Typical Bill"}]
[]
[null,"Typical Bills by Customer Category"]
[]
[]
[null,null,{"$f":"+'CDCM Forecast Data'!F10","v":"Y"},{"$f":"+'CDCM Forecast Data'!G10","v":"Y+1"},{"$f":"+'CDCM Forecast Data'!H10","v":"Y+2"},{"$f":"+'CDCM Forecast Data'!I10","v":"Y+3"},{"$f":"+'CDCM Forecast Data'!J10","v":"Y+4"}]
[null,"TARIFF",{"$f":"+'CDCM Forecast Data'!F11","v":"2013/14"},{"$f":"+'CDCM Forecast Data'!G11","v":"2014/15"},{"$f":"+'CDCM Forecast Data'!H11","v":"2015/16"},{"$f":"+'CDCM Forecast Data'!I11","v":"2016/17"},{"$f":"+'CDCM Forecast Data'!J11","v":"2017/18"}]
[null,"> Domestic Unrestricted"]
[null,"Domestic Unrestricted",99.207085187151876,107.89764877122204,102.05021694960764,103.01444081842291,103.95539821275291]
[null,"LDNO LV: Domestic Unrestricted",36.571957043478264,38.29381278691347,36.609092216534613,36.981177748791097,37.342181553661412]
[null,"LDNO HV: Domestic Unrestricted",32.378636272040303,34.391193628451013,32.765527556978782,33.071778561339499,33.380792401109524]
[null,"> Domestic Two Rate"]
[null,"Domestic Two Rate",102.3778320484484,112.01609992258311,105.81628599218521,106.81761231732854,107.81107719117276]
[null,"LDNO LV: Domestic Two Rate",40.681955628742514,43.157771634552674,41.118299204938808,41.540177367950776,41.940970633128785]
[null,"LDNO HV: Domestic Two Rate",27.792296490566038,29.281823609564729,27.973840115367899,28.238285645323135,28.521514899026958]
[null,"> Domestic Off Peak (related MPAN)"]
[null,"Domestic Off Peak (related MPAN)","","","","",""]
[null,"LDNO LV: Domestic Off Peak (related MPAN)","","","","",""]
[null,"LDNO HV: Domestic Off Peak (related MPAN)","","","","",""]
[null,"> Small Non Domestic Unrestricted"]
[null,"Small Non Domestic Unrestricted",238.98512221758517,271.4626529940561,255.9074018427975,258.34271899128998,260.76293758952937]
[null,"LDNO LV: Small Non Domestic Unrestricted",91.011829903846149,103.47451304455443,98.24244776411436,99.274967526645113,100.28504084251254]
[null,"LDNO HV: Small Non Domestic Unrestricted",154.65338961038958,175.57595226308339,165.25162513128961,166.69877341115429,168.22800164314936]
[null,"> Small Non Domestic Two Rate"]
[null,"Small Non Domestic Two Rate",330.85958816000431,374.54584322703442,352.35559835632648,355.69978061849685,358.91321558283346]
[null,"LDNO LV: Small Non Domestic Two Rate",530.76120000000003,600.74494653465354,563.09728575139695,568.0157528467895,573.08027889292316]
[null,"LDNO HV: Small Non Domestic Two Rate",387.16454923076924,438.55121110434118,410.91023164425803,414.67984062953678,418.10333881695254]
[null,"> Small Non Domestic Off Peak (related MPAN)"]
[null,"Small Non Domestic Off Peak (related MPAN)","","","","",""]
[null,"LDNO LV: Small Non Domestic Off Peak (related MPAN)","","","","",""]
[null,"LDNO HV: Small Non Domestic Off Peak (related MPAN)","","","","",""]
[null,"> LV Medium Non-Domestic"]
[null,"LV Medium Non-Domestic",1603.7857257628639,1800.8824850653909,1692.2574998519567,1706.4135988401804,1720.6208983458309]
[null,"LDNO LV: LV Medium Non-Domestic",698.02854857142847,778.75659898161234,734.21630976472875,740.59794751087986,746.62563026764872]
[null,"LDNO HV: LV Medium Non-Domestic",1120.267874516129,1262.3746425550942,1184.2211595051087,1193.6952796530236,1204.2579043634023]
[null,"> LV Sub Medium Non-Domestic"]
[null,"LV Sub Medium Non-Domestic",647.21266570040018,708.19650280264182,662.47116171981611,668.41094625791754,674.5198375810312]
[null,"> HV Medium Non-Domestic"]
[null,"HV Medium Non-Domestic",2656.2289658824502,2825.8397372086374,2639.9672436748961,2667.921859204856,2696.4315064148022]
[null,"> LV HH Metered"]
[null,"LV HH Metered",6022.2316138859169,6788.8333637919231,6472.5160739900975,6542.0787580322012,6608.1989607771993]
[null,"LDNO LV: LV HH Metered",716.94767999999999,803.74236906930673,749.20259059386308,756.7713934531597,763.75986105411494]
[null,"LDNO HV: LV HH Metered",4452.1868660253167,5038.9242311144253,4799.0391574623982,4844.7139499434679,4894.5181377604013]
[null,"> LV Sub HH Metered"]
[null,"LV Sub HH Metered",14995.444379425,16480.754150258788,15878.061415308855,16055.991777230627,16254.554481201245]
[null,"LDNO HV: LV Sub HH Metered",14370.929607999999,16960.657389485146,15456.860166543771,15641.461729236227,15826.895493462593]
[null,"> HV HH Metered"]
[null,"HV HH Metered",28849.617583100207,30424.402238254916,28660.323181355598,28989.32923177024,29322.558550763119]
[null,"LDNO HV: HV HH Metered",20469.608444222224,21433.692670014309,20204.693920620772,20446.487913581146,20685.361525920925]
[null,"> HV Sub HH Metered"]
[null,"HV Sub HH Metered","","","","",""]
[null,"> NHH UMS category A"]
[null,"NHH UMS category A","","","","",""]
[null,"LDNO LV: NHH UMS category A","","","","",""]
[null,"LDNO HV: NHH UMS category A","","","","",""]
[null,"> NHH UMS category B"]
[null,"NHH UMS category B","","","","",""]
[null,"LDNO LV: NHH UMS category B","","","","",""]
[null,"LDNO HV: NHH UMS category B","","","","",""]
[null,"> NHH UMS category C"]
[null,"NHH UMS category C","","","","",""]
[null,"LDNO LV: NHH UMS category C","","","","",""]
[null,"LDNO HV: NHH UMS category C","","","","",""]
[null,"> NHH UMS category D"]
[null,"NHH UMS category D","","","","",""]
[null,"LDNO LV: NHH UMS category D","","","","",""]
[null,"LDNO HV: NHH UMS category D","","","","",""]
[null,"> LV UMS (Pseudo HH Metered)"]
[null,"LV UMS (Pseudo HH Metered)","","","","",""]
[null,"LDNO LV: LV UMS (Pseudo HH Metered)","","","","",""]
[null,"LDNO HV: LV UMS (Pseudo HH Metered)","","","","",""]
[null,"> LV Generation NHH"]
[null,"LV Generation NHH",-32.514226874999999,-27.739035139232673,-27.768252576708161,-27.916293527231353,-27.962072102631829]
[null,"LDNO LV: LV Generation NHH","","","","",""]
[null,"LDNO HV: LV Generation NHH","","","","",""]
[null,"> LV Sub Generation NHH"]
[null,"LV Sub Generation NHH","","","","",""]
[null,"LDNO HV: LV Sub Generation NHH","","","","",""]
[null,"> LV Generation Intermittent"]
[null,"LV Generation Intermittent",-14.016726,-12.398210272277229,-12.395306597392413,-12.444546655783117,-12.442918355395587]
[null,"LDNO LV: LV Generation Intermittent","","","","",""]
[null,"LDNO HV: LV Generation Intermittent","","","","",""]
[null,"> LV Generation Non-Intermittent"]
[null,"LV Generation Non-Intermittent",-320.18390007017541,-273.95126797985051,-274.0620949332108,-275.33805229491452,-275.99576301471456]
[null,"LDNO LV: LV Generation Non-Intermittent","","","","",""]
[null,"LDNO HV: LV Generation Non-Intermittent","","","","",""]
[null,"> LV Sub Generation Intermittent"]
[null,"LV Sub Generation Intermittent","","","","",""]
[null,"LDNO HV: LV Sub Generation Intermittent","","","","",""]
[null,"> LV Sub Generation Non-Intermittent"]
[null,"LV Sub Generation Non-Intermittent","","","","",""]
[null,"LDNO HV: LV Sub Generation Non-Intermittent","","","","",""]
[null,"> HV Generation Intermittent"]
[null,"HV Generation Intermittent",-696.34691400000008,-468.47011346534646,-468.70467618076646,-468.28463899213915,-464.87905648285692]
[null,"LDNO HV: HV Generation Intermittent","","","","",""]
[null,"> HV Generation Non-Intermittent"]
[null,"HV Generation Non-Intermittent",-20667.943804024686,-15556.951468024688,-15567.57963134541,-15627.859810070897,-15675.855859967924]
[null,"LDNO HV: HV Generation Non-Intermittent","","","","",""]
[null,"HV Sub Generation Non-Intermittent","","","","",""]
[null,"> HV Sub Generation Intermittent"]
[null,"HV Sub Generation Intermittent","","","","",""]
[null,null,"","","","",""]

{"sheet":"Index Page","index":16,"n_rows":305,"n_cols":3,"rows_kept":305,"cut":false,"hidden":true,"merged":[]}
[{"$f":"\"r6140: Overview\"&\" for \"&Input!B7&\" in \"&Input!C7&\" (\"&Input!D7&\")\"","v":"r6140: Overview for WPD Mid West in April 2017 (0)"}]
[]
["This version of the model is a draft for testing only.",null,"Colour coding"]
[null,null,"Data input"]
["Copyright 2009-2012 DCUSA Limited and contributors. All rights reserved.",null,"Unused cell in input data table"]
[null,null,"Calculation"]
["Redistribution and use in source and binary forms, with or without modification, are permitted provided that the",null,"Copy data"]
["following conditions are met:",null,"Unused cell in calculation table"]
[null,null,"Constant value"]
["1. Redistributions of source code must retain the above copyright notice, this list of conditions and the",null,"Unlocked cell for notes"]
["following disclaimer."]
[]
["2. Redistributions in binary form must reproduce the above copyright notice, this list of conditions and the"]
["following disclaimer in the documentation and/or other materials provided with the distribution."]
[]
["THIS SOFTWARE IS PROVIDED BY DCUSA LIMITED AND CONTRIBUTORS \"AS IS\" AND ANY EXPRESS OR IMPLIED WARRANTIES,"]
["INCLUDING, BUT NOT LIMITED TO, THE IMPLIED WARRANTIES OF MERCHANTABILITY AND FITNESS FOR A PARTICULAR PURPOSE"]
["ARE DISCLAIMED. IN NO EVENT SHALL DCUSA LIMITED OR CONTRIBUTORS BE LIABLE FOR ANY DIRECT, INDIRECT, INCIDENTAL,"]
["SPECIAL, EXEMPLARY, OR CONSEQUENTIAL DAMAGES (INCLUDING, BUT NOT LIMITED TO, PROCUREMENT OF SUBSTITUTE GOODS OR"]
["SERVICES; LOSS OF USE, DATA, OR PROFITS; OR BUSINESS INTERRUPTION) HOWEVER CAUSED AND ON ANY THEORY OF"]
["LIABILITY, WHETHER IN CONTRACT, STRICT LIABILITY, OR TORT (INCLUDING NEGLIGENCE OR OTHERWISE) ARISING IN ANY WAY"]
["OUT OF THE USE OF THIS SOFTWARE, EVEN IF ADVISED OF THE POSSIBILITY OF SUCH DAMAGE."]
[]
["This workbook is structured as a series of named and numbered tables. Above each calculation table, the"]
["algorithm used in the calculations is stated together with hyperlinks to all source data tables."]
[]
["Some versions of Microsoft Excel have a \"Back\" button which can be useful when using hyperlinks to navigate"]
["around the workbook.  The \"Back\" button might be in the \"Web\" toolbar (Microsoft Excel versions up to 2004), or"]
["an additional command which can be added to the \"Quick Access Toolbar\" (Microsoft Excel versions 2007 and 2010)."]
[]
["Unless stated otherwise, all the data in this model are for illustration only."]
[]
["List of data tables"]
["This table lists the data tables (inputs and calculations) in the model.  Each line contains a link is to the first data cell of the table."]
[]
["Worksheet","Data table","Type of table"]
["Input","1000. Company, charging year, data version","Input data"]
["Input","1010. Financial and general assumptions","Composite"]
["Input","1017. Diversity allowance between top and bottom of network level","Input data"]
["Input","1018. Proportion of relevant load going through 132kV/HV direct transformation","Input data"]
["Input","1019. Network model GSP peak demand (MW)","Input data"]
["Input","1020. Gross asset cost by network level (£)","Input data"]
["Input","1022. LV service model asset cost (£)","Input data"]
["Input","1023. HV service model asset cost (£)","Input data"]
["Input","1025. Matrix of applicability of LV service models to tariffs with fixed charges","Input data"]
["Input","1026. Matrix of applicability of LV service models to unmetered tariffs","Input data"]
["Input","1028. Matrix of applicability of HV service models to tariffs with fixed charges","Input data"]
["Input","1032. Loss adjustment factors to transmission","Input data"]
["Input","1037. Embedded network (LDNO) discounts","Input data"]
["Input","1041. Load profile data for demand users","Input data"]
["Input","1053. Volume forecasts for the charging year","Input data"]
["Input","1055. Transmission exit charges (£/year)","Input data"]
["Input","1059. Other expenditure","Input data"]
["Input","1060. Customer contributions under current connection charging policy","Input data"]
["Input","1061. Average split of rate 1 units by distribution time band","Input data"]
["Input","1062. Average split of rate 2 units by distribution time band","Input data"]
["Input","1064. Average split of rate 1 units by special distribution time band","Input data"]
["Input","1066. Typical annual hours by special distribution time band","Input data"]
["Input","1068. Typical annual hours by distribution time band","Input data"]
["Input","1069. Peaking probabilities by network level","Input data"]
["Input","1076. Target revenue","Input data"]
["Input","1092. Average kVAr by kVA, by network level","Input data"]
["Input","1201. Current tariff information","Input data"]
["LAFs","2001. Loss adjustment factors to transmission","Composite"]
["LAFs","2002. Mapping of DRM network levels to core network levels","Fixed data"]
["LAFs","2003. Loss adjustment factor to transmission for each DRM network level","Sum-product calculation"]
["LAFs","2004. Loss adjustment factor to transmission for each network level","Combine tables"]
["LAFs","2005. Network use factors","Fixed data"]
["LAFs","2006. Proportion going through 132kV/EHV","Calculation"]
["LAFs","2007. Proportion going through EHV","Calculation"]
["LAFs","2008. Proportion going through EHV/HV","Calculation"]
["LAFs","2009. Rerouteing matrix for all network levels","Combine tables"]
["LAFs","2010. Network use factors: interim step in calculations before adjustments","Sum-product calculation"]
["LAFs","2011. Network use factors for all tariffs","Combine tables"]
["LAFs","2012. Loss adjustment factors between end user meter reading and each network level, scaled by network use","Calculation"]
["DRM","2101. Annuity rate","Calculation"]
["DRM","2102. Loss adjustment factor to transmission for each core level","Combine tables"]
["DRM","2103. Loss adjustment factors","Composite"]
["DRM","2104. Diversity calculations","Special calculation"]
["DRM","2105. Network model total maximum demand at substation (MW)","Calculation"]
["DRM","2106. Network model contribution to system maximum load measured at network level exit (MW)","Calculation"]
["DRM","2107. Rerouteing matrix for DRM network levels","Combine tables"]
["DRM","2108. GSP simultaneous maximum load assumed through each network level (MW)","Sum-product calculation"]
["DRM","2109. Network model annuity by simultaneous maximum load for each network level (£/kW/year)","Calculation"]
["SM","2201. Asset £/customer from LV service models","Sum-product calculation"]
["SM","2202. Asset £/(MWh/year) from LV service models","Sum-product calculation"]
["SM","2203. Service model asset p/kWh charge for unmetered tariffs","Calculation"]
["SM","2204. Asset £/customer from HV service models","Sum-product calculation"]
["SM","2205. Service model assets by tariff (£)","Combine tables"]
["SM","2206. Replacement annuities for service models","Composite"]
["Loads","2301. Demand coefficient (load at time of system maximum load divided by average load)","Calculation"]
["Loads","2302. Load coefficient","Combine tables"]
["Loads","2303. Discount map","Fixed data"]
["Loads","2304. LDNO discounts and volumes adjusted for discount","Composite"]
["Loads","2305. Equivalent volume for each end user","Cell summation"]
["Multi","2401. Adjust annual hours by distribution time band to match days in year","Composite"]
["Multi","2402. Normalisation of split of rate 1 units by time band","Composite"]
["Multi","2403. Split of rate 1 units between distribution time bands","Combine tables"]
["Multi","2404. Normalisation of split of rate 2 units by time band","Composite"]
["Multi","2405. Split of rate 2 units between distribution time bands","Combine tables"]
["Multi","2406. Split of rate 3 units between distribution time bands (default)","Fixed data"]
["Multi","2407. All units (MWh)","Calculation"]
["Multi","2408. Calculation of implied load coefficients for two-rate users","Calculation"]
["Multi","2409. Calculation of implied load coefficients for three-rate users","Calculation"]
["Multi","2410. Calculation of adjusted time band load coefficients","Composite"]
["Multi","2411. Normalisation of peaking probabilities","Composite"]
["Multi","2412. Peaking probabilities by network level (reshaped)","Reshape table"]
["Multi","2413. Pseudo load coefficient by time band and network level","Calculation"]
["Multi","2414. Unit rate 1 pseudo load coefficient by network level","Sum-product calculation"]
["Multi","2415. Unit rate 2 pseudo load coefficient by network level","Sum-product calculation"]
["Multi","2416. Unit rate 3 pseudo load coefficient by network level","Sum-product calculation"]
["Multi","2417. Adjust annual hours by special distribution time band to match days in year","Composite"]
["Multi","2418. Normalisation of split of rate 1 units by special time band","Composite"]
["Multi","2419. Split of rate 1 units between special distribution time bands","Combine tables"]
["Multi","2420. Split of rate 2 units between special distribution time bands (default)","Fixed data"]
["Multi","2421. Split of rate 3 units between special distribution time bands (default)","Fixed data"]
["Multi","2422. Calculation of implied special load coefficients for one-rate users","Calculation"]
["Multi","2423. Calculation of implied special load coefficients for three-rate users","Calculation"]
["Multi","2424. Estimated contributions to peak demand","Composite"]
["Multi","2425. Mapping of tariffs to tariff groups for coincidence adjustment factor","Fixed data"]
["Multi","2426. Group contribution to first-band peak kW","Sum-product calculation"]
["Multi","2427. Group contribution to system-peak-time kW","Sum-product calculation"]
["Multi","2428. Load coefficient correction factor for each group","Calculation"]
["Multi","2429. Load coefficient correction factor (based on group)","Sum-product calculation"]
["Multi","2430. Calculation of special peaking probabilities","Composite"]
["Multi","2431. Special peaking probabilities by network level","Combine tables"]
["Multi","2432. Special peaking probabilities by network level (reshaped)","Reshape table"]
["Multi","2433. Pseudo load coefficient by time band and network level","Calculation"]
["Multi","2434. Unit rate 1 pseudo load coefficient by network level (special)","Sum-product calculation"]
["Multi","2435. Unit rate 2 pseudo load coefficient by network level (special)","Sum-product calculation"]
["Multi","2436. Unit rate 3 pseudo load coefficient by network level (special)","Sum-product calculation"]
["Multi","2437. Unit rate 1 pseudo load coefficient by network level (combined)","Combine tables"]
["Multi","2438. Unit rate 2 pseudo load coefficient by network level (combined)","Combine tables"]
["Multi","2439. Unit rate 3 pseudo load coefficient by network level (combined)","Combine tables"]
["SMD","2501. Contributions of users on one-rate multi tariffs to system simultaneous maximum load by network level (kW)","Calculation"]
["SMD","2502. Contributions of users on two-rate multi tariffs to system simultaneous maximum load by network level (kW)","Calculation"]
["SMD","2503. Contributions of users on three-rate multi tariffs to system simultaneous maximum load by network level (kW)","Calculation"]
["SMD","2504. Estimated contributions of users on each tariff to system simultaneous maximum load by network level (kW)","Calculation"]
["SMD","2505. Contributions of users on each tariff to system simultaneous maximum load by network level (kW)","Combine tables"]
["SMD","2506. Forecast system simultaneous maximum load (kW) from forecast units","Cell summation"]
["AMD","2601. Pre-processing of data for standing charge factors","Composite"]
["AMD","2602. Standing charges factors adapted to use 132kV/HV","Combine tables"]
["AMD","2603. Capacity-based contributions to chargeable aggregate maximum load by network level (kW)","Calculation"]
["AMD","2604. Unit-based contributions to chargeable aggregate maximum load (kW)","Calculation"]
["AMD","2605. Contributions to aggregate maximum load by network level (kW)","Combine tables"]
["AMD","2606. Forecast chargeable aggregate maximum load (kW)","Cell summation"]
["AMD","2607. Forecast simultaneous load subject to standing charge factors (kW)","Calculation"]
["AMD","2608. Forecast simultaneous load replaced by standing charge (kW)","Cell summation"]
["AMD","2609. Calculated LV diversity allowance","Calculation"]
["AMD","2610. Network level mapping for diversity allowances","Fixed data"]
["AMD","2611. Diversity allowances including 132kV/HV","Sum-product calculation"]
["AMD","2612. Diversity allowances (including calculated LV value)","Combine tables"]
["AMD","2613. Forecast simultaneous maximum load (kW) adjusted for standing charges","Calculation"]
["Otex","2701. Operating expenditure coded by network level (£/year)","Combine tables"]
["Otex","2702. Network model assets (£) scaled by load forecast","Calculation"]
["Otex","2703. Annual consumption by tariff for unmetered users (MWh)","Copy cells"]
["Otex","2704. Total unmetered units","Cell summation"]
["Otex","2705. Service model asset data","Composite"]
["Otex","2706. Data for allocation of operating expenditure","Composite"]
["Otex","2707. Amount of expenditure to be allocated according to asset values (£/year)","Calculation"]
["Otex","2708. Total operating expenditure by network level  (£/year)","Calculation"]
["Otex","2709. Operating expenditure percentage by network level","Calculation"]
["Otex","2710. Unit operating expenditure based on simultaneous maximum load (£/kW/year)","Calculation"]
["Otex","2711. Operating expenditure for customer assets p/MPAN/day","Composite"]
["Otex","2712. Operating expenditure for unmetered customer assets (p/kWh)","Calculation"]
["Contrib","2801. Network level of supply (for customer contributions) by tariff","Fixed data"]
["Contrib","2802. Contribution proportion of asset annuities, by customer type and network level of assets","Calculation"]
["Contrib","2803. Proportion of assets annuities deemed to be covered by customer contributions","Sum-product calculation"]
["Contrib","2804. Proportion of annual charge covered by contributions (for all charging levels)","Combine tables"]
["Yard","2901. Unit cost at each level, £/kW/year (relative to system simultaneous maximum load)","Combine tables"]
["Yard","2902. Pay-as-you-go yardstick unit costs by charging level (p/kWh)","Calculation"]
["Yard","2903. Pay-as-you-go unit rate 1 p/kWh","Composite"]
["Yard","2904. Pay-as-you-go unit rate 2 p/kWh","Composite"]
["Yard","2905. Pay-as-you-go unit rate 3 p/kWh","Composite"]
["Standing","3001. Costs based on aggregate maximum load (£/kW/year)","Calculation"]
["Standing","3002. Capacity elements p/kVA/day","Calculation"]
["Standing","3003. Yardstick unit rate p/kWh (taking account of standing charges)","Composite"]
["Standing","3004. Unit rate 1 (taking account of standing charges)","Composite"]
["Standing","3005. Unit rate 2 (taking account of standing charges)","Composite"]
["Standing","3006. Unit rate 3 (taking account of standing charges)","Composite"]
["NHH","3101. Average maximum kVA/MPAN by end user class, for user classes without an agreed import capacity","Calculation"]
["NHH","3102. Capacity-driven fixed charge elements from standing charges factors p/MPAN/day","Calculation"]
["NHH","3103. Statistics for tariffs charged for LV circuits on an exit point basis","Composite"]
["NHH","3104. Aggregate data for tariffs charged for LV circuits on an exit point basis","Composite"]
["NHH","3105. LV fixed charge elements from standing charges factors p/MPAN/day","Calculation"]
["NHH","3106. Fixed charge elements from standing charges factors p/MPAN/day","Combine tables"]
["Reactive","3201. Standard components p/kWh for reactive power (absolute value)","Calculation"]
["Reactive","3202. Standard reactive p/kVArh","Calculation"]
["Reactive","3203. Network use factors for generator reactive unit charges","Fixed data"]
["Reactive","3204. Absolute value of load coefficient (kW peak / average kW)","Calculation"]
["Reactive","3205. Pay-as-you-go components p/kWh for reactive power (absolute value)","Calculation"]
["Reactive","3206. Pay-as-you-go reactive p/kVArh","Calculation"]
["Aggreg","3301. Unit rate 1 p/kWh (elements)","Combine tables"]
["Aggreg","3302. Unit rate 2 p/kWh (elements)","Combine tables"]
["Aggreg","3303. Unit rate 3 p/kWh (elements)","Combine tables"]
["Aggreg","3304. Fixed charge p/MPAN/day (elements)","Combine tables"]
["Aggreg","3305. Capacity charge p/kVA/day (elements)","Copy cells"]
["Aggreg","3306. Reactive power charge p/kVArh (elements)","Combine tables"]
["Aggreg","3307. Summary of charges before revenue matching","Cell summation"]
["Revenue","3401. Net revenues by tariff before matching (£)","Calculation"]
["Revenue","3402. Target Revenue (£/annum)","Calculation"]
["Revenue","3403. Revenue surplus or shortfall","Composite"]
["Scaler","3501. Factor to scale to £1/kW at transmission exit level","Calculation"]
["Scaler","3502. Applicability factor for £1/kW scaler","Combine tables"]
["Scaler","3503. Scalable elements of tariff components","Sum-product calculation"]
["Scaler","3504. Marginal revenue effect of scaler","Calculation"]
["Scaler","3505. Scaler value at which the minimum is breached","Calculation"]
["Scaler","3506. Constraint-free solution","Special calculation"]
["Scaler","3507. Starting point","Special calculation"]
["Scaler","3508. Solve for General scaler rate","Composite"]
["Scaler","3509. General scaler rate","Optimisation result"]
["Scaler","3510. Scaler","Calculation"]
["Adjust","3601. Tariffs before rounding","Calculation"]
["Adjust","3602. Decimal places","Fixed data"]
["Adjust","3603. Tariff rounding","Calculation"]
["Adjust","3604. All the way tariffs","Calculation"]
["Adjust","3605. Net revenues by tariff from rounding","Calculation"]
["Adjust","3606. Revenue forecast summary","Composite"]
["Adjust","3607. Tariffs","Calculation"]
["Tariffs","3701. Tariffs","Composite"]
["Summary","3801. Workbook build options and main parameters","Composite"]
["Summary","3802. Revenue summary","Composite"]
["Summary","3803. Revenue summary by tariff component","Cell summation"]
["M-Rev","3901. Revenue matrix by tariff","Composite"]
["M-Rev","3902. Revenues by charging element and network level","Cell summation"]
["CData","4001. Revenues under current tariffs (£)","Calculation"]
["CData","4002. All-the-way volumes","Copy cells"]
["CData","4003. Normalised to","Fixed data"]
["CData","4004. Normalised volumes for comparisons","Calculation"]
["CData","4005. LDNO LV charges (normalised £)","Copy cells"]
["CData","4006. LDNO HV charges (normalised £)","Copy cells"]
["CTables","4101. Comparison with current all-the-way demand tariffs","Composite"]
["CTables","4102. LDNO margins in use of system charges","Composite"]
["M-ATW","Tariff matrices","Notes"]
[]
["Model identification and configuration"]
["---"]
["PerlModule: CDCM"]
["coincidenceAdj: groupums"]
["dcp130preprocess: 1"]
["drm: top500gsp"]
["extraLevels: 1"]
["inputData: dataSheet"]
["matrices: big"]
["noReplacement: blanket"]
["pcd: 1"]
["portfolio: 1"]
["protect: 1"]
["revisionText: r6140"]
["scaler: levelledpickexitnogenminzero"]
["standing: sub132"]
["summary: consultation"]
["tariffs: commongensubdcp130"]
["template: '%-DCP130'"]
["timeOfDay: timeOfDaySpecial"]
["validation: lenientnomsg"]
["version: DCP130 prototype"]
["'~codeValidation':"]
["  Ancillary/Validation.pm: 1c7f7d0ce6a9595096d771fea93fc6d2d4b2bb1c"]
["  CDCM/AML.pm: 86bfc80549fd25d6d660c954a706a4b14d86e4f4"]
["  CDCM/Aggregation.pm: 59f4a7b6372cadb079a9059e0fdb08ac4c331721"]
["  CDCM/Contributions.pm: de3c65f7299f7b75a063144b4500535b13799f58"]
["  CDCM/Loads.pm: 4fb2f235dc3076b5706dae1c1280e36f538dffc0"]
["  CDCM/Master.pm: 3b8b2e68a76800a5013ab0565d5a0ab05c34f603"]
["  CDCM/Matching.pm: 8b5f8524d7f8ddc59c79a615e8fd08e7abc57c30"]
["  CDCM/ModelNotes.pm: cd7389891fb8176697c3890a15df7950bdbc8d3c"]
["  CDCM/NetworkSizer.pm: 3e5c655a66f0de56624932f4b525c97b385ec219"]
["  CDCM/Operating.pm: f6e9ccaee16099f7001750f861b13bb28920113e"]
["  CDCM/Reactive.pm: 4acdd24e4e61fd85eed1aa8e6aa72935fcae761b"]
["  CDCM/Revenue.pm: 0549caec1cf80ce1cbd00742db01bf3c7657d54d"]
["  CDCM/Routeing.pm: dcc2bc55acf53aff0f20a53ca66043625ff18fa8"]
["  CDCM/SML.pm: 842e1b01e8e827eeffdd99684f986825f01b102b"]
["  CDCM/ServiceModels.pm: 000f9742dd0cde60b3e6c3cbb3211945a883cae7"]
["  CDCM/Setup.pm: eb53bcdfab8524960e816f4b39c2c93f0d3b4102"]
["  CDCM/Sheets.pm: 9bbbb0112c7aaac746c0d59a18dee1f2132b0cc9"]
["  CDCM/Standing.pm: 1073dfd00e9c6bf52a7fa44d8634a92899248fc0"]
["  CDCM/Summary.pm: 44f086c18de4386cbc61179d3053f5957a99ce06"]
["  CDCM/TariffList.pm: bae7f09aba9bc5d4e48f1945c4aab348dada0490"]
["  CDCM/Tariffs.pm: 9686a7afe6a47b17fffcdaca676c8dc0883447f5"]
["  CDCM/TimeOfDay.pm: 64b3a3b0f2e1dfe805b17f1ac5290b8e16d911d6"]
["  CDCM/TimeOfDaySpecial.pm: 78ac90bbb67df98dc41f47f02261eb590d876dc0"]
["  CDCM/Yardsticks.pm: ff1bd267cfc609bb90bf8d97799d130eba426a6c"]
["  SpreadsheetModel/Arithmetic.pm: 3ca29b0251e3686673108a0dee78f326df35bcf9"]
["  SpreadsheetModel/Columnset.pm: f78dc1f6f1abb0b00404d0a36c98f3dba5e0e38d"]
["  SpreadsheetModel/Dataset.pm: 87e98b72f876e67352b7272380b21a85ba20f429"]
["  SpreadsheetModel/GroupBy.pm: ddfe480a83a27265c3de69207784420731785eb5"]
["  SpreadsheetModel/Label.pm: 2f5a6e32a1ba16954ac70bfc1df5a4308e965a07"]
["  SpreadsheetModel/Labelset.pm: 7eedb3feb01b42f9ad0dc08a8f5d64c0d543f113"]
["  SpreadsheetModel/Logger.pm: 55417892d15887401c27f7bb19413a01b4486ec6"]
["  SpreadsheetModel/Miscellaneous.pm: 0f222dfe31972b48fbf265c64e81a67969de1b2e"]
["  SpreadsheetModel/Notes.pm: fa435e070f362661800e57fb1eeb14de94c046ce"]
["  SpreadsheetModel/Object.pm: 9ee6cf3f64b20a8df2503a9062a92aded8e68278"]
["  SpreadsheetModel/SegmentRoot.pm: 3d2447c254b65db0cde416851de32c632915bd1f"]
["  SpreadsheetModel/Shortcuts.pm: a1ba747fab34ac7d04ad9d4f44de6576b981f5c8"]
["  SpreadsheetModel/Stack.pm: 8318e6890d54bddf12af02b5a3e46eb2d36d37dc"]
["  SpreadsheetModel/SumProduct.pm: 3d0e5182022c1194aa20899fad1cf4aa60bc428b"]
["  SpreadsheetModel/Workbook.pm: d3a6726670285d5e9b6bb023900f79a32db56cd7"]
["  SpreadsheetModel/WorkbookCreate.pm: fbc2d317f984621d095b67e7bec93b2193bf6e90"]
["  SpreadsheetModel/WorkbookFormats.pm: b484fad80103eaeab8a4b9c9a9e95cc9f54ba86e"]
["'~datasetName': Blank"]
["'~datasetSource': Empty dataset"]
["'~scmData':"]
["  gitCommit: 12f37e33505f4505e314ac2b99b66e40c225fd4f"]
[]
["Generated on Wed 10 Oct 2012 08:35:02"]

{"sheet":"CDCM Revenues","index":17,"n_rows":46,"n_cols":4,"rows_kept":46,"cut":false,"hidden":true,"merged":[[15,0,18,0],[24,0,26,0]]}
["1001. CDCM Target Revenue Calculations (£m)"]
[]
[]
[]
["Description","Licence Term","CRC",{"$f":"+Input!C7","v":"April 2017"}]
["Base Demand Before Inflation (A1)","PUt","CRC3"]
["RPI Effective % (A2)","PIADt","CRC3"]
["Merger adjustment (A3)","MGt","CRC3"]
["Base Demand Revenue (A): [A = A1 * A2 - A3]","BRt","CRC3",{"$f":"D6*D7-D8","v":0}]
["Pass-Through Business Rates (B1)","RBt","CRC4"]
["Pass-Through Licence Fees (B2)","LFt","CRC4"]
["Pass-Through Transmission Exit (B3)","TBt","CRC4"]
["Price Control Reopener (B4)","UNCt","CRC4"]
["Pass-Through Others (B5)","MPTt, HBt, IEDt","CRC4"]
["Allowed Pass-Through Items (B): [B = B1 + B2 + B3 +B4 + B5]","PTt","CRC3",{"$f":"SUM(D10:D14)","v":0}]
["Losses Incentive (C1)","UILt","CRC7"]
[null,"PCOLt","CRC7"]
[null,"-COLt","CRC7"]
[null,"PPLt","CRC7"]
["Quality of service incentive adjustment (C2)","IQt","CRC8"]
["Transmission connection point charges incentive adjustment (C3)","ITt","CRC9"]
["Innovation funding incentive adjustment (C4)","IFIt","CRC10"]
["Incentive revenue for Distributed Generation (C5)","IGt","CRC11"]
["Connection Guaranteed Standards Systems & Processes penalty (C6)","CGSRAt,CGSSPt & AUMt","CRC12"]
["Low Carbon Networks Fund (C7)","LCN1t","CRC13"]
[null,"LCN2t","CRC13"]
[null,"LCN3t","CRC13"]
["Incentive Revenue and Other Adjustments (C): [C = C1 + C2 + C3 + C4 + C5 + C6 + C7]",null,null,{"$f":"SUM(D16:D27)","v":0}]
["Correction Factor (D)","-Kt","CRC3"]
["Tax Trigger Mechanism Adjustment (E)","CTRAt","CRC3"]
["Total allowed Revenue (F): [F= A + B + C + D + E]","ARt",null,{"$f":"D9+D15+D28+D29+D30","v":0}]
["Other 1. Excluded services - Top-up, standby, and enhanced system security (G1) (see note 1)","ES4","CRC15"]
["Other 2. Excluded services - Revenue protection services (G2) (see note 1)","ES5","CRC15"]
["Other 3. Excluded services - Miscellaneous (G3) (see note 1)","ES7","CRC15"]
["Other 4. - blank or if required please provide description (G4)"]
["Other 5. - blank or if required please provide description (G5)"]
["Total Other Revenue to be recovered by Use of System Charges (G): [G = G1 + G2 + G3 + G4 +G5]",null,null,{"$f":"SUM(D32:D36)","v":0}]
["Total Revenue for Use of System Charges (H): [H =F + G]",null,null,{"$f":"D31+D37","v":0}]
["1. Revenue raised outside CDCM - EDCM and Certain Interconnector Revenue (I1)"]
["2. Revenue raised outside CDCM - Voluntary under-recovery (I2)"]
["3. Revenue raised outside CDCM - blank or if required please provide description (I3)"]
["4. Revenue raised outside CDCM - blank or if required please provide description (I4)"]
["Total Revenue to be raised outside the CDCM (I): [I = I1 + I2 + I3 + I4]",null,null,{"$f":"SUM(D39:D42)","v":0}]
["CDCM Target Revenue (J): [J =  H - I]",null,null,{"$f":"D38-D43","v":0}]
[]
["Note 1: Cost categories associated with excluded services should only be populated if the Company recovers the costs of providing these services from Use of System charges."]

{"sheet":"Input","index":18,"n_rows":350,"n_cols":11,"rows_kept":350,"cut":false,"hidden":false,"merged":[]}
[{"$f":"\"r6140: Input data\"&\" for \"&Input!B7&\" in \"&Input!C7&\" (\"&Input!D7&\")\"","v":"r6140: Input data for WPD Mid West in April 2017 (0)"}]
["This sheet contains all the input data (except LLFCs, which are entered directly into the Tariff sheet)."]
[]
["1000. Company, charging year, data version"]
[]
[null,"Company","Year","Version"]
["Company, charging year, data version","WPD Mid West","April 2017",0,""]
[]
["1010. Financial and general assumptions"]
["Sources: financial assumptions; calendar; network model."]
["These financial assumptions determine the annuity rate applied to convert the asset values of the network model into an annual charge."]
[]
[null,"Rate of return","Annualisation period (years)","Annuity proportion for customer-contributed assets","Power factor","Days in the charging period"]
["Financial and general assumptions",5.6000000000000001E-2,40,null,0.95,365,""]
[]
["1017. Diversity allowance between top and bottom of network level"]
["Source: operational data analysis and/or network model."]
["The diversity figure against GSP is the diversity between GSP Group (the whole system) and individual GSPs."]
["The diversity figure against 132kV is the diversity between GSPs (the top of the 132kV network) and 132kV/EHV bulk supply points (the bottom of the 132kV network). "]
["The diversity figure against EHV is the diversity between 132kV/EHV bulk supply points (the top of the EHV network) and EHV/HV primary substations (the bottom of the EHV network). "]
["The diversity figure against HV is the diversity between EHV/HV primary substations (the top of the HV network) and HV/LV substations (the bottom of the HV network). "]
[]
[null,"Diversity allowance between top and bottom of network level"]
["GSPs",5.649040831841079E-2,""]
["132kV",2.5568682496299511E-2,""]
["132kV/EHV",null,""]
["EHV",2.6631596666738533E-2,""]
["EHV/HV",null,""]
["HV",0.34000000000000008,""]
["HV/LV",null,""]
["LV circuits",null,""]
[]
["1018. Proportion of relevant load going through 132kV/HV direct transformation"]
[]
[null,"132kV/HV"]
["EHV/HV",0,""]
[]
["1019. Network model GSP peak demand (MW)"]
[]
[null,"Network model GSP peak demand (MW)"]
["Network model GSP peak demand (MW)",500,""]
[]
["1020. Gross asset cost by network level (£)"]
[]
[null,"Gross assets £"]
["132kV",73530917.669807985,""]
["132kV/EHV",11467117.570968,""]
["EHV",13207655.749752002,""]
["EHV/HV",22566958.481592003,""]
["132kV/HV",20862315.663408004,""]
["HV",115182426.45938401,""]
["HV/LV",72227921.916672006,""]
["LV circuits",100467191.033424,""]
[]
["1022. LV service model asset cost (£)"]
[]
[null,"LV service model 1","LV service model 2","LV service model 3","LV service model 4","LV service model 5","LV service model 6","LV service model 7","LV service model 8"]
["LV service model asset cost (£)",4976.8285405803126,614.37973984590587,725.73350957316006,540.65800203235187,1240.5910266666863,911.15687623249823,"-",477.8771111442,""]
[]
["1023. HV service model asset cost (£)"]
[]
[null,"HV service model 1","HV service model 2","HV service model 3","HV service model 4","HV service model 5"]
["HV service model asset cost (£)",8908.4978280000014,4378.0032000000001,0,"-","-",""]
[]
["1025. Matrix of applicability of LV service models to tariffs with fixed charges"]
[null,34,35,36,37,38,39,40,41]
[null,"LV service model 1","LV service model 2","LV service model 3","LV service model 4","LV service model 5","LV service model 6","LV service model 7","LV service model 8"]
["Domestic Unrestricted",0.05,0,0,0,0,0,0,0,""]
["Domestic Two Rate",0.05,0,0,0,0,0,0,0,""]
["Small Non Domestic Unrestricted",0,1,0,0,0,0,0,0,""]
["Small Non Domestic Two Rate",0,1,0,0,0,0,0,0,""]
["LV Medium Non-Domestic",0,0,1,0,0,0,0,0,""]
["LV Sub Medium Non-Domestic",0,0,0,1,0,0,0,0,""]
["LV HH Metered",0,0,0,0,1,0,0,0,""]
["LV Sub HH Metered",0,0,0,0,0,1,0,0,""]
["LV Generation NHH",0,0,0,0,0,0,1,0,""]
["LV Sub Generation NHH",0,0,0,0,0,0,1,0,""]
["LV Generation Intermittent",0,0,0,0,0,0,1,0,""]
["LV Generation Non-Intermittent",0,0,0,0,0,0,0,0,""]
["LV Sub Generation Intermittent",0,0,0,0,0,0,0,0,""]
["LV Sub Generation Non-Intermittent",0,0,0,0,0,0,0,0,""]
[]
["1026. Matrix of applicability of LV service models to unmetered tariffs"]
["Source: service models"]
["Proportion of service model involved in connecting load of 1 MWh/year"]
[]
[null,"LV service model 1","LV service model 2","LV service model 3","LV service model 4","LV service model 5","LV service model 6","LV service model 7","LV service model 8"]
["All LV unmetered tariffs",0,0,0,0,0,0,0,0.48799999999999999,""]
[]
["1028. Matrix of applicability of HV service models to tariffs with fixed charges"]
[null,22,23,24,25,26]
[null,"HV service model 1","HV service model 2","HV service model 3","HV service model 4","HV service model 5"]
["HV Medium Non-Domestic",1,0,0,0,0,""]
["HV HH Metered",1,0,0,0,0,""]
["HV Sub HH Metered",1,0,0,0,0,""]
["HV Generation Intermittent",0,1,0,0,0,""]
["HV Generation Non-Intermittent",0,1,0,0,0,""]
["HV Sub Generation Intermittent",0,1,0,0,0,""]
["HV Sub Generation Non-Intermittent",0,1,0,0,0,""]
[]
["1032. Loss adjustment factors to transmission"]
["Source: losses model or loss adjustment factors at time of system peak."]
[]
[null,"132kV","132kV/EHV","EHV","EHV/HV","HV","HV/LV","LV circuits"]
["Loss adjustment factor",1.002,1.0029999999999999,1.006,1.0269999999999999,1.044,1.0509999999999999,1.077,""]
[]
["1037. Embedded network (LDNO) discounts"]
["Source: separate price control disaggregation model."]
[]
[null,"No discount","LDNO LV: LV user","LDNO HV: LV user","LDNO HV: LV sub user","LDNO HV: HV user"]
["LDNO discount",null,0.30883183558962979,0.5007791580188965,0.2542804505721758,0.15228597408951491,""]
[]
["1041. Load profile data for demand users"]
["Source: load data analysis."]
[]
[null,"Coincidence factor","Load factor"]
["Domestic Unrestricted",0.91725107523525962,0.41143481343309968,""]
["Domestic Two Rate",0.40080181765565559,0.25560520593582642,""]
["Domestic Off Peak (related MPAN)",null,0.15590780773679511,""]
["Small Non Domestic Unrestricted",0.62008068887977208,0.35245420345734263,""]
["Small Non Domestic Two Rate",0.6187554380512692,0.43068381316121135,""]
["Small Non Domestic Off Peak (related MPAN)",null,0.18686847121079117,""]
["LV Medium Non-Domestic",0.80480275736975215,0.49209979939144438,""]
["LV Sub Medium Non-Domestic",0.80480275736975215,0.49209979939144438,""]
["HV Medium Non-Domestic",0.61081642184024709,0.42201413323580622,""]
["LV HH Metered",0.76195140420011676,0.51926429246950712,""]
["LV Sub HH Metered",0.76195140420011676,0.51926429246950712,""]
["HV HH Metered",0.77259445254116732,0.64378616647520781,""]
["HV Sub HH Metered",0.77259445254116732,0.64378616647520781,""]
["NHH UMS category A",1,1,""]
["NHH UMS category B",1,0.47368294520547877]
["NHH UMS category C",1,0.25800000000000001]
["NHH UMS category D",6.4133333333333334E-2,0.55300000000000005]
["LV UMS (Pseudo HH Metered)",0.99387558706051526,0.48773957041156946,""]
[]
["1053. Volume forecasts for the charging year"]
["Source: forecast.",28,29,30,31,32,33]
["Please include MPAN counts for tariffs with no fixed charge (e.g. off-peak tariffs),"]
["but exclude MPANs on tariffs with a fixed charge that are not subject to a fixed charge due to a site grouping arrangement."]
[]
[null,"Rate 1 units (MWh)","Rate 2 units (MWh)","Rate 3 units (MWh)","MPANs","Import capacity (kVA)","Reactive power units (MVArh)"]
["> Domestic Unrestricted"]
["Domestic Unrestricted",6905007.2310872134,null,null,2000771.41123502]
["LDNO LV: Domestic Unrestricted",6613.8072732190803,null,null,4427.7700625500001]
["LDNO HV: Domestic Unrestricted",20626.613958827249,null,null,10327.994799250002]
["> Domestic Two Rate"]
["Domestic Two Rate",990183.65443460888,740509.28799821471,null,327392.75241817994]
["LDNO LV: Domestic Two Rate",257.5117753807499,150.73864708121999,null,173.78086966999999]
["LDNO HV: Domestic Two Rate",371.62673898470996,344.32275799646993,null,275.76006264999995]
["> Domestic Off Peak (related MPAN)"]
["Domestic Off Peak (related MPAN)",36292.302861451186,null,null,0]
["LDNO LV: Domestic Off Peak (related MPAN)",0,null,null,0]
["LDNO HV: Domestic Off Peak (related MPAN)",0,null,null,0]
["> Small Non Domestic Unrestricted"]
["Small Non Domestic Unrestricted",1601953.0791385549,null,null,138318.12561321002]
["LDNO LV: Small Non Domestic Unrestricted",631.15096300640994,null,null,108.22281704000001]
["LDNO HV: Small Non Domestic Unrestricted",6160.9025846362492,null,null,400.63254385000005]
["> Small Non Domestic Two Rate"]
["Small Non Domestic Two Rate",453929.15375021711,206228.16734278615,null,33481.434021749999]
["LDNO LV: Small Non Domestic Two Rate",309.13420495815001,90.992457047250014,null,9.3654360899999993]
["LDNO HV: Small Non Domestic Two Rate",1355.79865685814,349.44657711380989,null,40.583556389999998]
["> Small Non Domestic Off Peak (related MPAN)"]
["Small Non Domestic Off Peak (related MPAN)",6149.4136827174971,null,null,0]
["LDNO LV: Small Non Domestic Off Peak (related MPAN)",0,null,null,0]
["LDNO HV: Small Non Domestic Off Peak (related MPAN)",0,null,null,0]
["> LV Medium Non-Domestic"]
["LV Medium Non-Domestic",1255621.2037035793,303177.08288675867,null,18486.330237650003]
["LDNO LV: LV Medium Non-Domestic",293.48417476322999,99.314100281880002,null,7.2842280700000002]
["LDNO HV: LV Medium Non-Domestic",6297.9844382433002,1474.0941342976198,null,64.517448619999996]
["> LV Sub Medium Non-Domestic"]
["LV Sub Medium Non-Domestic",89.950748079622556,23.623336513735023,null,3.1218120300000005]
["> HV Medium Non-Domestic"]
["HV Medium Non-Domestic",35787.536293291574,9819.4231999734202,null,284.08489473000003]
["> LV HH Metered"]
["LV HH Metered",200938.41283116271,800271.28152647964,824473.00922996621,6262.3549321800001,983000,164557.5686]
["LDNO LV: LV HH Metered",7.2171499423319991,52.398975391883972,1.3521349436760002,1.04060401,0,0.81]
["LDNO HV: LV HH Metered",4125.4602530544807,14014.371304389253,15347.495188490948,82.207716790000006,19000,1075.1704]
["> LV Sub HH Metered"]
["LV Sub HH Metered",2208.5155755544174,8163.9604774163272,10135.022396421165,33.299328320000001,17000,603.10400000000004]
["LDNO HV: LV Sub HH Metered",179.67861913409095,616.70235024119711,1152.1509579037261,1.04060401,0,675.18520000000001]
["> HV HH Metered"]
["HV HH Metered",761286.01814600849,3038893.4283311474,3866242.3727491917,3859.6002730900004,2873000,1033930.8586]
["LDNO HV: HV HH Metered",1589.8595939659624,5041.2527203136669,5338.2231861759892,9.3654360899999993,6000,832.24840000000006]
["> HV Sub HH Metered"]
["HV Sub HH Metered",0,0,0,0,0,0]
["> NHH UMS category A"]
["NHH UMS category A",61702.110627965667,null,null,0]
["LDNO LV: NHH UMS category A",39.216175884002503,null,null,0]
["LDNO HV: NHH UMS category A",179.30227418370185,null,null,0]
["> NHH UMS category B"]
["NHH UMS category B",32686.456295199947,null,null,0]
["LDNO LV: NHH UMS category B",20.774618664606038,null,null,0]
["LDNO HV: NHH UMS category B",94.98469159463761,null,null,0]
["> NHH UMS category C"]
["NHH UMS category C",745.33107683943331,null,null,0]
["LDNO LV: NHH UMS category C",0.47371207084609079,null,null,0]
["LDNO HV: NHH UMS category C",2.165883074938566,null,null,0]
["> NHH UMS category D"]
["NHH UMS category D",5299.2504885482813,null,null,0]
["LDNO LV: NHH UMS category D",3.36805884105536,null,null,0]
["LDNO HV: NHH UMS category D",15.399273288961847,null,null,0]
["> LV UMS (Pseudo HH Metered)"]
["LV UMS (Pseudo HH Metered)",11501.823274863002,26516.195302025844,199955.58387974752,0]
["LDNO LV: LV UMS (Pseudo HH Metered)",0,0,0,0]
["LDNO HV: LV UMS (Pseudo HH Metered)",0,0,0,0]
["> LV Generation NHH"]
["LV Generation NHH",427.11844929038995,null,null,99.897984960000016]
["LDNO LV: LV Generation NHH",0,null,null,0]
["LDNO HV: LV Generation NHH",0,null,null,0]
["> LV Sub Generation NHH"]
["LV Sub Generation NHH",0,null,null,0]
["LDNO HV: LV Sub Generation NHH",0,null,null,0]
["> LV Generation Intermittent"]
["LV Generation Intermittent",44.835818766750009,null,null,20.8120802,null,16.962]
["LDNO LV: LV Generation Intermittent",0,null,null,0,null,0]
["LDNO HV: LV Generation Intermittent",0,null,null,0,null,0]
["> LV Generation Non-Intermittent"]
["LV Generation Non-Intermittent",222.19834486112995,843.16218718148991,1386.5857589786399,59.314428569999997,null,85.26939999999999]
["LDNO LV: LV Generation Non-Intermittent",0,0,0,0,null,0]
["LDNO HV: LV Generation Non-Intermittent",0,0,0,0,null,0]
["> LV Sub Generation Intermittent"]
["LV Sub Generation Intermittent",0,null,null,0,null,0]
["LDNO HV: LV Sub Generation Intermittent",0,null,null,0,null,0]
["> LV Sub Generation Non-Intermittent"]
["LV Sub Generation Non-Intermittent",0,0,0.29970595511999998,0,null,3.4596]
["LDNO HV: LV Sub Generation Non-Intermittent",0,0,0,0,null,0]
["> HV Generation Intermittent"]
["HV Generation Intermittent",948.82102410941991,null,null,4.1624160400000001,null,376.0514]
["LDNO HV: HV Generation Intermittent",0,null,null,0,null,0]
["> HV Generation Non-Intermittent"]
["HV Generation Non-Intermittent",37817.607297492985,127944.62305430156,251566.30566327646,84.288924809999997,null,4526.9914000000008]
["LDNO HV: HV Generation Non-Intermittent",0,0,0,0,null,0]
["> HV Sub Generation Intermittent"]
["HV Sub Generation Intermittent",0,0,0,0,null,0]
["> HV Sub Generation Non-Intermittent"]
["HV Sub Generation Non-Intermittent",0,null,null,0,null,0]
[]
["1055. Transmission exit charges (£/year)"]
["Source: forecast."]
[]
[null,"Transmission\nexit"]
["Transmission exit charges (£/year)",14273346.085842669,""]
[]
["1059. Other expenditure"]
[]
[null,"Direct cost (£/year)","Indirect cost (£/year)","Indirect cost proportion","Network rates (£/year)"]
["Other expenditure",34939833.599088192,143987621.42260465,0.6,28615179.49711062,""]
[]
["1060. Customer contributions under current connection charging policy"]
["Source: analysis of expenditure data and/or survey of capital expenditure schemes."]
["Customer contribution percentages by network level of supply and by asset network level."]
["These proportions should reflect the current connection charging method, not necessarily the method that was in place when the connection was built."]
[]
[null,"Assets\n132kV","Assets\n132kV/EHV","Assets\nEHV","Assets\nEHV/HV","Assets\n132kV/HV","Assets\nHV","Assets\nHV/LV","Assets\nLV circuits"]
["LV network",0,0,0,0,0,0.38684969697494365,0.64124825573068889,0.89564681448643413,""]
["LV substation",0,0,0,0,0,0.38684969697494365,0.64124825573068889,null,""]
["HV network",0,0,0,0.25764106948138837,0.25764106948138837,0.51528213896277675,null,null,""]
["HV substation",0,0,0,0.25764106948138837,null,null,null,null,""]
[]
["1061. Average split of rate 1 units by distribution time band"]
[]
[null,"Red","Amber","Green"]
["Domestic Two Rate",0.14890278426189216,0.41118526043131326,0.43991195530679456,""]
["Domestic Off Peak (related MPAN)",2.2966880173443485E-3,0.2056778896815693,0.7920254223010863,""]
["Small Non Domestic Two Rate",0.13326282626713307,0.53523461585794074,0.33150255787492622,""]
["Small Non Domestic Off Peak (related MPAN)",1.8394107775813375E-2,0.17098236297510325,0.81062352924908332,""]
["LV Medium Non-Domestic",0.13922071459848015,0.53278444505652578,0.3279948403449941,""]
["LV Sub Medium Non-Domestic",0.13922071459848015,0.53278444505652578,0.3279948403449941,""]
["HV Medium Non-Domestic",0.1327379630534701,0.56664216163065484,0.30061987531587503,""]
[]
["1062. Average split of rate 2 units by distribution time band"]
[]
[null,"Red","Amber","Green"]
["Domestic Two Rate",0,0,1,""]
["Small Non Domestic Two Rate",0,0,1,""]
["LV Medium Non-Domestic",0,0,1,""]
["LV Sub Medium Non-Domestic",0,0,1,""]
["HV Medium Non-Domestic",0,0,1,""]
[]
["1064. Average split of rate 1 units by special distribution time band"]
[]
[null,"Red","Amber","Green",""]
["NHH UMS category A",2.9680365296803651E-2,0.37254566210045664,0.59777397260273968,""]
["NHH UMS category B",4.9247533453833446E-2,8.8278432042188382E-2,0.86247403450397819,""]
["NHH UMS category C",9.6056827605747144E-2,0.17696296513012377,0.72698020726412915,""]
["NHH UMS category D",1.6971783970887895E-2,0.60828178839872815,0.37474642763038385,""]
[]
["1066. Typical annual hours by special distribution time band"]
["Source: definition of distribution time bands."]
["The figures in this table will be automatically adjusted to match the number of days in the charging period."]
[]
[null,"Red","Amber","Green"]
["Annual hours",258,3265.5,5236.5,""]
[]
["1068. Typical annual hours by distribution time band"]
["Source: definition of distribution time bands."]
["The figures in this table will be automatically adjusted to match the number of days in the charging period."]
[]
[null,"Red","Amber","Green"]
["Annual hours",783,2740.5,5236.5,""]
[]
["1069. Peaking probabilities by network level"]
["Source: analysis of network operation data."]
[]
[]
[null,"Red","Amber","Green","Black"]
["GSPs",0.90713490721324597,8.5943651473687752E-2,6.9214413130663024E-3,0.47623207722750621,""]
["132kV",0.71771031215339598,0.25348688310500261,2.8802804741601341E-2,0.5027642206564088,""]
["132kV/EHV",0.71771031215339598,0.25348688310500261,2.8802804741601341E-2,0.5027642206564088,""]
["EHV",0.66033153174473114,0.26482907568205305,7.4839392573215757E-2,0.5314588887042806,""]
["EHV/HV",0.66033153174473114,0.26482907568205305,7.4839392573215757E-2,0.5314588887042806,""]
["132kV/HV",0.71771031215339598,0.25348688310500261,2.8802804741601341E-2,0.5027642206564088,""]
["HV",0.66033153174473114,0.26482907568205305,7.4839392573215757E-2,0.5314588887042806,""]
["HV/LV",0.66033153174473114,0.26482907568205305,7.4839392573215757E-2,0.5314588887042806,""]
["LV circuits",0.66033153174473114,0.26482907568205305,7.4839392573215757E-2,0.5314588887042806,""]
[]
["1076. Target revenue"]
[]
["Source: CDCM Revenues"]
[null,"Allowed revenue (£/year)"]
["Target revenue",486841960.49416137,""]
[]
["1092. Average kVAr by kVA, by network level"]
["Source: analysis of operational data."]
["This is the average of MVAr/MVA or SQRT(1-PF^2) across relevant network elements."]
[]
[null,"GSPs","132kV","132kV/EHV","EHV","EHV/HV","132kV/HV","HV","HV/LV","LV circuits"]
["Average kVAr by kVA, by network level",0.2810621222726124,0.2810621222726124,0.2810621222726124,0.2810621222726124,0.2810621222726124,0.2810621222726124,0.2810621222726124,0.2810621222726124,0.2810621222726124,""]
[]
["1201. Current tariff information"]
[]
[null,"Current revenues if known (£/year)","Current Unit rate 1 p/kWh","Current Unit rate 2 p/kWh","Current Unit rate 3 p/kWh","Current Fixed charge p/MPAN/day","Current Capacity charge p/kVA/day","Current Reactive power charge p/kVArh"]
["Domestic Unrestricted",130826862,null,null,null,null,null,null,""]
["Domestic Two Rate",15098369,null,null,null,null,null,null,""]
["Domestic Off Peak (related MPAN)",146557,null,null,null,null,null,null,""]
["Small Non Domestic Unrestricted",29063999,null,null,null,null,null,null,""]
["Small Non Domestic Two Rate",6925425,null,null,null,null,null,null,""]
["Small Non Domestic Off Peak (related MPAN)",null,null,null,null,null,null,null,""]
["LV Medium Non-Domestic",19761662,null,null,null,null,null,null,""]
["LV Sub Medium Non-Domestic",733648,null,null,null,null,null,null,""]
["HV Medium Non-Domestic",266631,null,null,null,null,null,null,""]
["LV HH Metered",22598111,null,null,0,null,null,0,""]
["LV Sub HH Metered",14598953,null,null,0,null,null,0,""]
["HV HH Metered",41609304,null,null,0,null,null,0,""]
["HV Sub HH Metered",6392480,null,null,0,null,null,0,""]
["NHH UMS category A",540187,null,null,null,null,null,null,""]
["NHH UMS category B",540187,null,null,null,null,null,null,""]
["NHH UMS category C",540187,null,null,null,null,null,null,""]
["NHH UMS category D",540187,null,null,null,null,null,null,""]
["LV UMS (Pseudo HH Metered)",4899607,null,null,0,null,null,null,""]

{"sheet":"Tariffs (2)","index":19,"n_rows":81,"n_cols":10,"rows_kept":81,"cut":false,"hidden":true,"merged":[]}
[{"$f":"\"r6140: Tariffs\"&\" for \"&Input!B7&\" in \"&Input!C7&\" (\"&Input!D7&\")\"","v":"r6140: Tariffs for WPD Mid West in April 2017 (0)"}]
[]
["3701. Tariffs"]
["Data sources:"]
["x1 = 3607. Unit rate 1 p/kWh (in Tariffs)"]
["x2 = 3607. Unit rate 2 p/kWh (in Tariffs)"]
["x3 = 3607. Unit rate 3 p/kWh (in Tariffs)"]
["x4 = 3607. Fixed charge p/MPAN/day (in Tariffs)"]
["x5 = 3607. Capacity charge p/kVA/day (in Tariffs)"]
["x6 = 3607. Reactive power charge p/kVArh (in Tariffs)"]
["Kind:","Input data","Fixed data","Copy cells","Copy cells","Copy cells","Copy cells","Copy cells","Copy cells","Input data"]
["Formula:","","","= x1","= x2","= x3","= x4","= x5","= x6",""]
[]
[null,"Open LLFCs","PCs","Unit rate 1 p/kWh","Unit rate 2 p/kWh","Unit rate 3 p/kWh","Fixed charge p/MPAN/day","Capacity charge p/kVA/day","Reactive power charge p/kVArh","Closed LLFCs"]
["Domestic Unrestricted","1",1,{"$f":"Adjust!B$227","v":2.5499999999999998},{"$f":"Adjust!C$227","v":0},{"$f":"Adjust!D$227","v":0},{"$f":"Adjust!E$227","v":4.37},{"$f":"Adjust!F$227","v":0},{"$f":"Adjust!G$227","v":0},"2, 3"]
["Domestic Two Rate","4",2,{"$f":"Adjust!B$231","v":2.9550000000000001},{"$f":"Adjust!C$231","v":0.11},{"$f":"Adjust!D$231","v":0},{"$f":"Adjust!E$231","v":4.37},{"$f":"Adjust!F$231","v":0},{"$f":"Adjust!G$231","v":0},"5, 6, 30"]
["Domestic Off Peak (related MPAN)","34",2,{"$f":"Adjust!B$235","v":0.21099999999999999},{"$f":"Adjust!C$235","v":0},{"$f":"Adjust!D$235","v":0},{"$f":"Adjust!E$235","v":0},{"$f":"Adjust!F$235","v":0},{"$f":"Adjust!G$235","v":0},"35, 36"]
["Small Non Domestic Unrestricted","7",3,{"$f":"Adjust!B$239","v":2.012},{"$f":"Adjust!C$239","v":0},{"$f":"Adjust!D$239","v":0},{"$f":"Adjust!E$239","v":7.6},{"$f":"Adjust!F$239","v":0},{"$f":"Adjust!G$239","v":0},"8, 9, 13, 14, 15, 46, 47, 49, 107, 108, 109"]
["Small Non Domestic Two Rate","10",4,{"$f":"Adjust!B$243","v":2.4},{"$f":"Adjust!C$243","v":9.4E-2},{"$f":"Adjust!D$243","v":0},{"$f":"Adjust!E$243","v":7.6},{"$f":"Adjust!F$243","v":0},{"$f":"Adjust!G$243","v":0},"11, 12, 110, 111, 112"]
["Small Non Domestic Off Peak (related MPAN)","40",4,{"$f":"Adjust!B$247","v":0.35199999999999998},{"$f":"Adjust!C$247","v":0},{"$f":"Adjust!D$247","v":0},{"$f":"Adjust!E$247","v":0},{"$f":"Adjust!F$247","v":0},{"$f":"Adjust!G$247","v":0},"41, 42"]
["LV Medium Non-Domestic","21","5-8",{"$f":"Adjust!B$251","v":2.3090000000000002},{"$f":"Adjust!C$251","v":8.6999999999999994E-2},{"$f":"Adjust!D$251","v":0},{"$f":"Adjust!E$251","v":37.82},{"$f":"Adjust!F$251","v":0},{"$f":"Adjust!G$251","v":0},"20, 22, 25, 26, 27"]
["LV Sub Medium Non-Domestic","19","5-8",{"$f":"Adjust!B$255","v":2.089},{"$f":"Adjust!C$255","v":7.0000000000000007E-2},{"$f":"Adjust!D$255","v":0},{"$f":"Adjust!E$255","v":18.440000000000001},{"$f":"Adjust!F$255","v":0},{"$f":"Adjust!G$255","v":0}]
["HV Medium Non-Domestic","322, 323","5-8",{"$f":"Adjust!B$257","v":1.397},{"$f":"Adjust!C$257","v":2.4E-2},{"$f":"Adjust!D$257","v":0},{"$f":"Adjust!E$257","v":254.32},{"$f":"Adjust!F$257","v":0},{"$f":"Adjust!G$257","v":0},"121, 124, 132"]
["LV HH Metered","127, 129",null,{"$f":"Adjust!B$259","v":10.679},{"$f":"Adjust!C$259","v":0.63700000000000001},{"$f":"Adjust!D$259","v":5.8000000000000003E-2},{"$f":"Adjust!E$259","v":10.96},{"$f":"Adjust!F$259","v":3.75},{"$f":"Adjust!G$259","v":0.39100000000000001}]
["LV Sub HH Metered","128",null,{"$f":"Adjust!B$263","v":9.2590000000000003},{"$f":"Adjust!C$263","v":0.46899999999999997},{"$f":"Adjust!D$263","v":3.3000000000000002E-2},{"$f":"Adjust!E$263","v":8.0500000000000007},{"$f":"Adjust!F$263","v":4.71},{"$f":"Adjust!G$263","v":0.317},130]
["HV HH Metered","365, 367",null,{"$f":"Adjust!B$266","v":7.593},{"$f":"Adjust!C$266","v":0.35399999999999998},{"$f":"Adjust!D$266","v":0.02},{"$f":"Adjust!E$266","v":78.739999999999995},{"$f":"Adjust!F$266","v":3.84},{"$f":"Adjust!G$266","v":0.23799999999999999}]
["HV Sub HH Metered","N/A",null,{"$f":"Adjust!B$269","v":6.7329999999999997},{"$f":"Adjust!C$269","v":0.30099999999999999},{"$f":"Adjust!D$269","v":1.6E-2},{"$f":"Adjust!E$269","v":78.739999999999995},{"$f":"Adjust!F$269","v":1.55},{"$f":"Adjust!G$269","v":0.22600000000000001}]
["NHH UMS category A","95",8,{"$f":"Adjust!B$271","v":2.2610000000000001},{"$f":"Adjust!C$271","v":0},{"$f":"Adjust!D$271","v":0},{"$f":"Adjust!E$271","v":0},{"$f":"Adjust!F$271","v":0},{"$f":"Adjust!G$271","v":0}]
["NHH UMS category B","96",1,{"$f":"Adjust!B$275","v":2.2629999999999999},{"$f":"Adjust!C$275","v":0},{"$f":"Adjust!D$275","v":0},{"$f":"Adjust!E$275","v":0},{"$f":"Adjust!F$275","v":0},{"$f":"Adjust!G$275","v":0}]
["NHH UMS category C","97",1,{"$f":"Adjust!B$279","v":3.6160000000000001},{"$f":"Adjust!C$279","v":0},{"$f":"Adjust!D$279","v":0},{"$f":"Adjust!E$279","v":0},{"$f":"Adjust!F$279","v":0},{"$f":"Adjust!G$279","v":0}]
["NHH UMS category D","98",1,{"$f":"Adjust!B$283","v":2.3490000000000002},{"$f":"Adjust!C$283","v":0},{"$f":"Adjust!D$283","v":0},{"$f":"Adjust!E$283","v":0},{"$f":"Adjust!F$283","v":0},{"$f":"Adjust!G$283","v":0}]
["LV UMS (Pseudo HH Metered)","99",null,{"$f":"Adjust!B$287","v":26.431999999999999},{"$f":"Adjust!C$287","v":2.6019999999999999},{"$f":"Adjust!D$287","v":0.84799999999999998},{"$f":"Adjust!E$287","v":0},{"$f":"Adjust!F$287","v":0},{"$f":"Adjust!G$287","v":0}]
["LV Generation NHH","625",8,{"$f":"Adjust!B$291","v":-0.65400000000000003},{"$f":"Adjust!C$291","v":0},{"$f":"Adjust!D$291","v":0},{"$f":"Adjust!E$291","v":0},{"$f":"Adjust!F$291","v":0},{"$f":"Adjust!G$291","v":0}]
["LV Sub Generation NHH","570",8,{"$f":"Adjust!B$295","v":-0.53800000000000003},{"$f":"Adjust!C$295","v":0},{"$f":"Adjust!D$295","v":0},{"$f":"Adjust!E$295","v":0},{"$f":"Adjust!F$295","v":0},{"$f":"Adjust!G$295","v":0}]
["LV Generation Intermittent","571",null,{"$f":"Adjust!B$298","v":-0.65400000000000003},{"$f":"Adjust!C$298","v":0},{"$f":"Adjust!D$298","v":0},{"$f":"Adjust!E$298","v":0},{"$f":"Adjust!F$298","v":0},{"$f":"Adjust!G$298","v":0.20200000000000001}]
["LV Generation Non-Intermittent","573",null,{"$f":"Adjust!B$302","v":-5.0759999999999996},{"$f":"Adjust!C$302","v":-0.52400000000000002},{"$f":"Adjust!D$302","v":-6.0999999999999999E-2},{"$f":"Adjust!E$302","v":0},{"$f":"Adjust!F$302","v":0},{"$f":"Adjust!G$302","v":0.20200000000000001}]
["LV Sub Generation Intermittent","572",null,{"$f":"Adjust!B$306","v":-0.53800000000000003},{"$f":"Adjust!C$306","v":0},{"$f":"Adjust!D$306","v":0},{"$f":"Adjust!E$306","v":0},{"$f":"Adjust!F$306","v":0},{"$f":"Adjust!G$306","v":0.17}]
["LV Sub Generation Non-Intermittent","574",null,{"$f":"Adjust!B$309","v":-4.21},{"$f":"Adjust!C$309","v":-0.42599999999999999},{"$f":"Adjust!D$309","v":-4.7E-2},{"$f":"Adjust!E$309","v":0},{"$f":"Adjust!F$309","v":0},{"$f":"Adjust!G$309","v":0.17}]
["HV Generation Intermittent","575",null,{"$f":"Adjust!B$312","v":-0.31900000000000001},{"$f":"Adjust!C$312","v":0},{"$f":"Adjust!D$312","v":0},{"$f":"Adjust!E$312","v":38.69},{"$f":"Adjust!F$312","v":0},{"$f":"Adjust!G$312","v":0.13400000000000001}]
["HV Generation Non-Intermittent","577",null,{"$f":"Adjust!B$315","v":-2.593},{"$f":"Adjust!C$315","v":-0.24099999999999999},{"$f":"Adjust!D$315","v":-0.02},{"$f":"Adjust!E$315","v":38.69},{"$f":"Adjust!F$315","v":0},{"$f":"Adjust!G$315","v":0.13400000000000001}]
["HV Sub Generation Intermittent","N/A",null,{"$f":"Adjust!B$318","v":-0.27},{"$f":"Adjust!C$318","v":0},{"$f":"Adjust!D$318","v":0},{"$f":"Adjust!E$318","v":38.69},{"$f":"Adjust!F$318","v":0},{"$f":"Adjust!G$318","v":7.1999999999999995E-2}]
["HV Sub Generation Non-Intermittent","N/A",null,{"$f":"Adjust!B$320","v":-2.2240000000000002},{"$f":"Adjust!C$320","v":-0.19900000000000001},{"$f":"Adjust!D$320","v":-1.4E-2},{"$f":"Adjust!E$320","v":38.69},{"$f":"Adjust!F$320","v":0},{"$f":"Adjust!G$320","v":7.1999999999999995E-2}]
["LDNO LV: Domestic Unrestricted","200",1,{"$f":"Adjust!B$228","v":1.762},{"$f":"Adjust!C$228","v":0},{"$f":"Adjust!D$228","v":0},{"$f":"Adjust!E$228","v":3.02},{"$f":"Adjust!F$228","v":0},{"$f":"Adjust!G$228","v":0}]
["LDNO LV: Domestic Two Rate","201",2,{"$f":"Adjust!B$232","v":2.0419999999999998},{"$f":"Adjust!C$232","v":7.5999999999999998E-2},{"$f":"Adjust!D$232","v":0},{"$f":"Adjust!E$232","v":3.02},{"$f":"Adjust!F$232","v":0},{"$f":"Adjust!G$232","v":0}]
["LDNO LV: Domestic Off Peak (related MPAN)","202",2,{"$f":"Adjust!B$236","v":0.14599999999999999},{"$f":"Adjust!C$236","v":0},{"$f":"Adjust!D$236","v":0},{"$f":"Adjust!E$236","v":0},{"$f":"Adjust!F$236","v":0},{"$f":"Adjust!G$236","v":0}]
["LDNO LV: Small Non Domestic Unrestricted","203",3,{"$f":"Adjust!B$240","v":1.391},{"$f":"Adjust!C$240","v":0},{"$f":"Adjust!D$240","v":0},{"$f":"Adjust!E$240","v":5.25},{"$f":"Adjust!F$240","v":0},{"$f":"Adjust!G$240","v":0}]
["LDNO LV: Small Non Domestic Two Rate","204",4,{"$f":"Adjust!B$244","v":1.659},{"$f":"Adjust!C$244","v":6.5000000000000002E-2},{"$f":"Adjust!D$244","v":0},{"$f":"Adjust!E$244","v":5.25},{"$f":"Adjust!F$244","v":0},{"$f":"Adjust!G$244","v":0}]
["LDNO LV: Small Non Domestic Off Peak (related MPAN)","205",4,{"$f":"Adjust!B$248","v":0.24299999999999999},{"$f":"Adjust!C$248","v":0},{"$f":"Adjust!D$248","v":0},{"$f":"Adjust!E$248","v":0},{"$f":"Adjust!F$248","v":0},{"$f":"Adjust!G$248","v":0}]
["LDNO LV: LV Medium Non-Domestic","206","5-8",{"$f":"Adjust!B$252","v":1.5960000000000001},{"$f":"Adjust!C$252","v":0.06},{"$f":"Adjust!D$252","v":0},{"$f":"Adjust!E$252","v":26.14},{"$f":"Adjust!F$252","v":0},{"$f":"Adjust!G$252","v":0}]
["LDNO LV: LV HH Metered","207",null,{"$f":"Adjust!B$260","v":7.3810000000000002},{"$f":"Adjust!C$260","v":0.44},{"$f":"Adjust!D$260","v":0.04},{"$f":"Adjust!E$260","v":7.58},{"$f":"Adjust!F$260","v":2.59},{"$f":"Adjust!G$260","v":0.27}]
["LDNO LV: NHH UMS category A","252",8,{"$f":"Adjust!B$272","v":1.5629999999999999},{"$f":"Adjust!C$272","v":0},{"$f":"Adjust!D$272","v":0},{"$f":"Adjust!E$272","v":0},{"$f":"Adjust!F$272","v":0},{"$f":"Adjust!G$272","v":0}]
["LDNO LV: NHH UMS category B","208",1,{"$f":"Adjust!B$276","v":1.5640000000000001},{"$f":"Adjust!C$276","v":0},{"$f":"Adjust!D$276","v":0},{"$f":"Adjust!E$276","v":0},{"$f":"Adjust!F$276","v":0},{"$f":"Adjust!G$276","v":0}]
["LDNO LV: NHH UMS category C","253",1,{"$f":"Adjust!B$280","v":2.4990000000000001},{"$f":"Adjust!C$280","v":0},{"$f":"Adjust!D$280","v":0},{"$f":"Adjust!E$280","v":0},{"$f":"Adjust!F$280","v":0},{"$f":"Adjust!G$280","v":0}]
["LDNO LV: NHH UMS category D","24",1,{"$f":"Adjust!B$284","v":1.6240000000000001},{"$f":"Adjust!C$284","v":0},{"$f":"Adjust!D$284","v":0},{"$f":"Adjust!E$284","v":0},{"$f":"Adjust!F$284","v":0},{"$f":"Adjust!G$284","v":0}]
["LDNO LV: LV UMS (Pseudo HH Metered)","209",null,{"$f":"Adjust!B$288","v":18.268999999999998},{"$f":"Adjust!C$288","v":1.798},{"$f":"Adjust!D$288","v":0.58599999999999997},{"$f":"Adjust!E$288","v":0},{"$f":"Adjust!F$288","v":0},{"$f":"Adjust!G$288","v":0}]
["LDNO LV: LV Generation NHH","210",8,{"$f":"Adjust!B$292","v":-0.65400000000000003},{"$f":"Adjust!C$292","v":0},{"$f":"Adjust!D$292","v":0},{"$f":"Adjust!E$292","v":0},{"$f":"Adjust!F$292","v":0},{"$f":"Adjust!G$292","v":0}]
["LDNO LV: LV Generation Intermittent","211",null,{"$f":"Adjust!B$299","v":-0.65400000000000003},{"$f":"Adjust!C$299","v":0},{"$f":"Adjust!D$299","v":0},{"$f":"Adjust!E$299","v":0},{"$f":"Adjust!F$299","v":0},{"$f":"Adjust!G$299","v":0.20200000000000001}]
["LDNO LV: LV Generation Non-Intermittent","212",null,{"$f":"Adjust!B$303","v":-5.0759999999999996},{"$f":"Adjust!C$303","v":-0.52400000000000002},{"$f":"Adjust!D$303","v":-6.0999999999999999E-2},{"$f":"Adjust!E$303","v":0},{"$f":"Adjust!F$303","v":0},{"$f":"Adjust!G$303","v":0.20200000000000001}]
["LDNO HV: Domestic Unrestricted","213",1,{"$f":"Adjust!B$229","v":1.2729999999999999},{"$f":"Adjust!C$229","v":0},{"$f":"Adjust!D$229","v":0},{"$f":"Adjust!E$229","v":2.1800000000000002},{"$f":"Adjust!F$229","v":0},{"$f":"Adjust!G$229","v":0}]
["LDNO HV: Domestic Two Rate","214",2,{"$f":"Adjust!B$233","v":1.4750000000000001},{"$f":"Adjust!C$233","v":5.5E-2},{"$f":"Adjust!D$233","v":0},{"$f":"Adjust!E$233","v":2.1800000000000002},{"$f":"Adjust!F$233","v":0},{"$f":"Adjust!G$233","v":0}]
["LDNO HV: Domestic Off Peak (related MPAN)","215",2,{"$f":"Adjust!B$237","v":0.105},{"$f":"Adjust!C$237","v":0},{"$f":"Adjust!D$237","v":0},{"$f":"Adjust!E$237","v":0},{"$f":"Adjust!F$237","v":0},{"$f":"Adjust!G$237","v":0}]
["LDNO HV: Small Non Domestic Unrestricted","216",3,{"$f":"Adjust!B$241","v":1.004},{"$f":"Adjust!C$241","v":0},{"$f":"Adjust!D$241","v":0},{"$f":"Adjust!E$241","v":3.79},{"$f":"Adjust!F$241","v":0},{"$f":"Adjust!G$241","v":0}]
["LDNO HV: Small Non Domestic Two Rate","217",4,{"$f":"Adjust!B$245","v":1.198},{"$f":"Adjust!C$245","v":4.7E-2},{"$f":"Adjust!D$245","v":0},{"$f":"Adjust!E$245","v":3.79},{"$f":"Adjust!F$245","v":0},{"$f":"Adjust!G$245","v":0}]
["LDNO HV: Small Non Domestic Off Peak (related MPAN)","218",4,{"$f":"Adjust!B$249","v":0.17599999999999999},{"$f":"Adjust!C$249","v":0},{"$f":"Adjust!D$249","v":0},{"$f":"Adjust!E$249","v":0},{"$f":"Adjust!F$249","v":0},{"$f":"Adjust!G$249","v":0}]
["LDNO HV: LV Medium Non-Domestic","219","5-8",{"$f":"Adjust!B$253","v":1.153},{"$f":"Adjust!C$253","v":4.2999999999999997E-2},{"$f":"Adjust!D$253","v":0},{"$f":"Adjust!E$253","v":18.88},{"$f":"Adjust!F$253","v":0},{"$f":"Adjust!G$253","v":0}]
["LDNO HV: LV HH Metered","220",null,{"$f":"Adjust!B$261","v":5.3310000000000004},{"$f":"Adjust!C$261","v":0.318},{"$f":"Adjust!D$261","v":2.9000000000000001E-2},{"$f":"Adjust!E$261","v":5.47},{"$f":"Adjust!F$261","v":1.87},{"$f":"Adjust!G$261","v":0.19500000000000001}]
["LDNO HV: LV Sub HH Metered","221",null,{"$f":"Adjust!B$264","v":6.9050000000000002},{"$f":"Adjust!C$264","v":0.35},{"$f":"Adjust!D$264","v":2.5000000000000001E-2},{"$f":"Adjust!E$264","v":6},{"$f":"Adjust!F$264","v":3.51},{"$f":"Adjust!G$264","v":0.23599999999999999}]
["LDNO HV: HV HH Metered","222",null,{"$f":"Adjust!B$267","v":6.4370000000000003},{"$f":"Adjust!C$267","v":0.3},{"$f":"Adjust!D$267","v":1.7000000000000001E-2},{"$f":"Adjust!E$267","v":66.75},{"$f":"Adjust!F$267","v":3.26},{"$f":"Adjust!G$267","v":0.20200000000000001}]
["LDNO HV: NHH UMS category A","249",8,{"$f":"Adjust!B$273","v":1.129},{"$f":"Adjust!C$273","v":0},{"$f":"Adjust!D$273","v":0},{"$f":"Adjust!E$273","v":0},{"$f":"Adjust!F$273","v":0},{"$f":"Adjust!G$273","v":0}]
["LDNO HV: NHH UMS category B","223",1,{"$f":"Adjust!B$277","v":1.1299999999999999},{"$f":"Adjust!C$277","v":0},{"$f":"Adjust!D$277","v":0},{"$f":"Adjust!E$277","v":0},{"$f":"Adjust!F$277","v":0},{"$f":"Adjust!G$277","v":0}]
["LDNO HV: NHH UMS category C","250",1,{"$f":"Adjust!B$281","v":1.8049999999999999},{"$f":"Adjust!C$281","v":0},{"$f":"Adjust!D$281","v":0},{"$f":"Adjust!E$281","v":0},{"$f":"Adjust!F$281","v":0},{"$f":"Adjust!G$281","v":0}]
["LDNO HV: NHH UMS category D","251",1,{"$f":"Adjust!B$285","v":1.173},{"$f":"Adjust!C$285","v":0},{"$f":"Adjust!D$285","v":0},{"$f":"Adjust!E$285","v":0},{"$f":"Adjust!F$285","v":0},{"$f":"Adjust!G$285","v":0}]
["LDNO HV: LV UMS (Pseudo HH Metered)","224",null,{"$f":"Adjust!B$289","v":13.195},{"$f":"Adjust!C$289","v":1.2989999999999999},{"$f":"Adjust!D$289","v":0.42299999999999999},{"$f":"Adjust!E$289","v":0},{"$f":"Adjust!F$289","v":0},{"$f":"Adjust!G$289","v":0}]
["LDNO HV: LV Generation NHH","225",8,{"$f":"Adjust!B$293","v":-0.65400000000000003},{"$f":"Adjust!C$293","v":0},{"$f":"Adjust!D$293","v":0},{"$f":"Adjust!E$293","v":0},{"$f":"Adjust!F$293","v":0},{"$f":"Adjust!G$293","v":0}]
["LDNO HV: LV Sub Generation NHH","226",8,{"$f":"Adjust!B$296","v":-0.53800000000000003},{"$f":"Adjust!C$296","v":0},{"$f":"Adjust!D$296","v":0},{"$f":"Adjust!E$296","v":0},{"$f":"Adjust!F$296","v":0},{"$f":"Adjust!G$296","v":0}]
["LDNO HV: LV Generation Intermittent","227",null,{"$f":"Adjust!B$300","v":-0.65400000000000003},{"$f":"Adjust!C$300","v":0},{"$f":"Adjust!D$300","v":0},{"$f":"Adjust!E$300","v":0},{"$f":"Adjust!F$300","v":0},{"$f":"Adjust!G$300","v":0.20200000000000001}]
["LDNO HV: LV Generation Non-Intermittent","228",null,{"$f":"Adjust!B$304","v":-5.0759999999999996},{"$f":"Adjust!C$304","v":-0.52400000000000002},{"$f":"Adjust!D$304","v":-6.0999999999999999E-2},{"$f":"Adjust!E$304","v":0},{"$f":"Adjust!F$304","v":0},{"$f":"Adjust!G$304","v":0.20200000000000001}]
["LDNO HV: LV Sub Generation Intermittent","229",null,{"$f":"Adjust!B$307","v":-0.53800000000000003},{"$f":"Adjust!C$307","v":0},{"$f":"Adjust!D$307","v":0},{"$f":"Adjust!E$307","v":0},{"$f":"Adjust!F$307","v":0},{"$f":"Adjust!G$307","v":0.17}]
["LDNO HV: LV Sub Generation Non-Intermittent","230",null,{"$f":"Adjust!B$310","v":-4.21},{"$f":"Adjust!C$310","v":-0.42599999999999999},{"$f":"Adjust!D$310","v":-4.7E-2},{"$f":"Adjust!E$310","v":0},{"$f":"Adjust!F$310","v":0},{"$f":"Adjust!G$310","v":0.17}]
["LDNO HV: HV Generation Intermittent","231",null,{"$f":"Adjust!B$313","v":-0.31900000000000001},{"$f":"Adjust!C$313","v":0},{"$f":"Adjust!D$313","v":0},{"$f":"Adjust!E$313","v":0},{"$f":"Adjust!F$313","v":0},{"$f":"Adjust!G$313","v":0.13400000000000001}]
["LDNO HV: HV Generation Non-Intermittent","232",null,{"$f":"Adjust!B$316","v":-2.593},{"$f":"Adjust!C$316","v":-0.24099999999999999},{"$f":"Adjust!D$316","v":-0.02},{"$f":"Adjust!E$316","v":0},{"$f":"Adjust!F$316","v":0},{"$f":"Adjust!G$316","v":0.13400000000000001}]

{"sheet":"Summary","index":20,"n_rows":165,"n_cols":20,"rows_kept":165,"cut":false,"hidden":true,"merged":[]}
[{"$f":"\"r6140: Summary statistics\"&\" for \"&Input!B7&\" in \"&Input!C7&\" (\"&Input!D7&\")\"","v":"r6140: Summary statistics for WPD Mid West in April 2017 (0)"}]
["This sheet is for information only.  It can be deleted without affecting any calculations elsewhere in the model."]
[]
["3801. Workbook build options and main parameters"]
["Include a 132kV/HV network level"]
["Network model: 500 MW at time of GSP peak"]
["Coincidence correction factors grouped for UMS"]
["Standing charges factors: 100/0/0 LV NHH, 100/100/20 network, 100/100/0 substation"]
["Put some 132kV costs into HV capacity charges"]
["Operating expenditure allocated by asset values"]
["LV circuit costs by exit point for all small NHH demand"]
["Revenue matching by £/kW/year at transmission exit level"]
["Scaler subject to capping of each tariff component to zero"]
[" "]
["Data sources:"]
["x1 = 1010. Annuity proportion for customer-contributed assets (in Financial and general assumptions)"]
["x2 = 3606. Total net revenues from scaler (£) (in Revenue forecast summary)"]
["x3 = 3606. Deviation from target revenue (£) (in Revenue forecast summary)"]
["x4 = Deviation from target revenue (£) (copy) (in Workbook build options and main parameters)"]
["x5 = 3402. Target net income from all use of system charges (£/year)"]
["Kind:","Copy cells","Copy cells","Copy cells","Calculation"]
["Formula:","= x1","= x2","= x3","=x4/x5"]
[]
[null,"Annuity proportion for customer-contributed assets","Total net revenues from scaler (£)","Deviation from target revenue (£)","Over/under recovery"]
["Workbook build options and main parameters",{"$f":"Input!D14","v":0},{"$f":"Adjust!C210","v":181616046.28808975},{"$f":"Adjust!F210","v":-1313.0246857404709},{"$f":"D25/Revenue!B56","v":-2.6970244808144836E-6}]
[]
["3802. Revenue summary"]
["Data sources:"]
["x1 = 1053. Rate 1 units (MWh) by tariff (in Volume forecasts for the charging year)"]
["x2 = 1053. Rate 2 units (MWh) by tariff (in Volume forecasts for the charging year)"]
["x3 = 1053. Rate 3 units (MWh) by tariff (in Volume forecasts for the charging year)"]
["x4 = 1053. MPANs by tariff (in Volume forecasts for the charging year)"]
["x5 = 1010. Days in the charging year (in Financial and general assumptions)"]
["x6 = 3607. Fixed charge p/MPAN/day (in Tariffs)"]
["x7 = 3607. Capacity charge p/kVA/day (in Tariffs)"]
["x8 = 1053. Import capacity (kVA) by tariff (in Volume forecasts for the charging year)"]
["x9 = 3607. Unit rate 1 p/kWh (in Tariffs)"]
["x10 = 3607. Unit rate 2 p/kWh (in Tariffs)"]
["x11 = 3607. Unit rate 3 p/kWh (in Tariffs)"]
["x12 = 3607. Reactive power charge p/kVArh (in Tariffs)"]
["x13 = 1053. Reactive power units (MVArh) by tariff (in Volume forecasts for the charging year)"]
["x14 = All units (MWh) (in Revenue summary)"]
["x15 = Net revenues (£) (in Revenue summary)"]
["x16 = MPANs by tariff (in Volume forecasts for the charging year) (copy) (in Revenue summary)"]
["x17 = Revenues from unit rates (£) (in Revenue summary)"]
["x18 = Net revenues from unit rate 1 (£) (in Revenue summary)"]
["x19 = Net revenues from unit rate 2 (£) (in Revenue summary)"]
["x20 = Net revenues from unit rate 3 (£) (in Revenue summary)"]
["x21 = Revenues from fixed charges (£) (in Revenue summary)"]
["x22 = Revenues from capacity charges (£) (in Revenue summary)"]
["x23 = Revenues from reactive power charges (£) (in Revenue summary)"]
["Kind:","Calculation","Copy cells","Calculation","Calculation","Calculation","Calculation","Calculation","Calculation","Calculation","Calculation","Calculation","Calculation","Calculation","Calculation","Calculation","Calculation","Calculation","Calculation","Calculation"]
["Formula:","=x1+x2+x3","= x4","=0.01*x5*(x6*x4+x7*x8)+10*(x9*x1+x10*x2+x11*x3+x12*x13)","=10*(x9*x1+x10*x2+x11*x3)","=x6*x5*x4/100","=x7*x5*x8/100","=x12*x13*10","=IF(x14<>0,0.1*x15/x14,\"\")","=IF(x16<>0,x15/x16,\"\")","=IF(x14<>0,0.1*x17/x14,0)","=x9*x1*10","=x10*x2*10","=x11*x3*10","=IF(x17<>0,x18/x17,\"\")","=IF(x17<>0,x19/x17,\"\")","=IF(x17<>0,x20/x17,\"\")","=IF(x15<>0,x21/x15,\"\")","=IF(x15<>0,x22/x15,\"\")","=IF(x15<>0,x23/x15,\"\")"]
[]
[null,"All units (MWh)","MPANs","Net revenues (£)","Revenues from unit rates (£)","Revenues from fixed charges (£)","Revenues from capacity charges (£)","Revenues from reactive power charges (£)","Average p/kWh","Average £/MPAN","Average unit rate p/kWh","Net revenues from unit rate 1 (£)","Net revenues from unit rate 2 (£)","Net revenues from unit rate 3 (£)","Rate 1 revenue proportion","Rate 2 revenue proportion","Rate 3 revenue proportion","Fixed charge proportion","Capacity charge proportion","Reactive power charge proportion"]
["> Domestic Unrestricted"]
["Domestic Unrestricted",{"$f":"Input!B143+Input!C143+Input!D143","v":6905007.2310872134},{"$f":"Input!E143","v":2000771.41123502},{"$f":"0.01*Input!F$14*(Adjust!$E227*Input!E143+Adjust!$F227*Input!F143)+10*(Adjust!$B227*Input!B143+Adjust!$C227*Input!C143+Adjust!$D227*Input!D143+Adjust!$G227*Input!G143)","v":207990988.78762811},{"$f":"10*(Adjust!$B227*Input!B143+Adjust!$C227*Input!C143+Adjust!$D227*Input!D143)","v":176077684.39272392},{"$f":"Adjust!E227*Input!$F$14*Input!$E143/100","v":31913304.394904185},{"$f":"Adjust!F227*Input!$F$14*Input!$F143/100","v":0},{"$f":"Adjust!G227*Input!$G143*10","v":0},{"$f":"IF(B57<>0,0.1*D57/B57,\"\")","v":3.0121762632083344},{"$f":"IF(C57<>0,D57/C57,\"\")","v":103.95539821275291},{"$f":"IF(B57<>0,0.1*E57/B57,0)","v":2.5499999999999998},{"$f":"Adjust!B227*Input!$B143*10","v":176077684.39272392},{"$f":"Adjust!C227*Input!$C143*10","v":0},{"$f":"Adjust!D227*Input!$D143*10","v":0},{"$f":"IF(E57<>0,$L57/E57,\"\")","v":1},{"$f":"IF(E57<>0,$M57/E57,\"\")","v":0},{"$f":"IF(E57<>0,$N57/E57,\"\")","v":0},{"$f":"IF(D57<>0,$F57/D57,\"\")","v":0.15343599538098104},{"$f":"IF(D57<>0,$G57/D57,\"\")","v":0},{"$f":"IF(D57<>0,$H57/D57,\"\")","v":0}]
["LDNO LV: Domestic Unrestricted",{"$f":"Input!B144+Input!C144+Input!D144","v":6613.8072732190803},{"$f":"Input!E144","v":4427.7700625500001},{"$f":"0.01*Input!F$14*(Adjust!$E228*Input!E144+Adjust!$F228*Input!F144)+10*(Adjust!$B228*Input!B144+Adjust!$C228*Input!C144+Adjust!$D228*Input!D144+Adjust!$G228*Input!G144)","v":165342.59355360884},{"$f":"10*(Adjust!$B228*Input!B144+Adjust!$C228*Input!C144+Adjust!$D228*Input!D144)","v":116535.28415412019},{"$f":"Adjust!E228*Input!$F$14*Input!$E144/100","v":48807.309399488651},{"$f":"Adjust!F228*Input!$F$14*Input!$F144/100","v":0},{"$f":"Adjust!G228*Input!$G144*10","v":0},{"$f":"IF(B58<>0,0.1*D58/B58,\"\")","v":2.4999608655535122},{"$f":"IF(C58<>0,D58/C58,\"\")","v":37.342181553661412},{"$f":"IF(B58<>0,0.1*E58/B58,0)","v":1.762},{"$f":"Adjust!B228*Input!$B144*10","v":116535.28415412019},{"$f":"Adjust!C228*Input!$C144*10","v":0},{"$f":"Adjust!D228*Input!$D144*10","v":0},{"$f":"IF(E58<>0,$L58/E58,\"\")","v":1},{"$f":"IF(E58<>0,$M58/E58,\"\")","v":0},{"$f":"IF(E58<>0,$N58/E58,\"\")","v":0},{"$f":"IF(D58<>0,$F58/D58,\"\")","v":0.29518896704413866},{"$f":"IF(D58<>0,$G58/D58,\"\")","v":0},{"$f":"IF(D58<>0,$H58/D58,\"\")","v":0}]
["LDNO HV: Domestic Unrestricted",{"$f":"Input!B145+Input!C145+Input!D145","v":20626.613958827249},{"$f":"Input!E145","v":10327.994799250002},{"$f":"0.01*Input!F$14*(Adjust!$E229*Input!E145+Adjust!$F229*Input!F145)+10*(Adjust!$B229*Input!B145+Adjust!$C229*Input!C145+Adjust!$D229*Input!D145+Adjust!$G229*Input!G145)","v":344756.65031350317},{"$f":"10*(Adjust!$B229*Input!B145+Adjust!$C229*Input!C145+Adjust!$D229*Input!D145)","v":262576.79569587088},{"$f":"Adjust!E229*Input!$F$14*Input!$E145/100","v":82179.854617632271},{"$f":"Adjust!F229*Input!$F$14*Input!$F145/100","v":0},{"$f":"Adjust!G229*Input!$G145*10","v":0},{"$f":"IF(B59<>0,0.1*D59/B59,\"\")","v":1.6714166028494613},{"$f":"IF(C59<>0,D59/C59,\"\")","v":33.380792401109524},{"$f":"IF(B59<>0,0.1*E59/B59,0)","v":1.2730000000000001},{"$f":"Adjust!B229*Input!$B145*10","v":262576.79569587088},{"$f":"Adjust!C229*Input!$C145*10","v":0},{"$f":"Adjust!D229*Input!$D145*10","v":0},{"$f":"IF(E59<>0,$L59/E59,\"\")","v":1},{"$f":"IF(E59<>0,$M59/E59,\"\")","v":0},{"$f":"IF(E59<>0,$N59/E59,\"\")","v":0},{"$f":"IF(D59<>0,$F59/D59,\"\")","v":0.23837061458539618},{"$f":"IF(D59<>0,$G59/D59,\"\")","v":0},{"$f":"IF(D59<>0,$H59/D59,\"\")","v":0}]
["> Domestic Two Rate"]
["Domestic Two Rate",{"$f":"Input!B147+Input!C147+Input!D147","v":1730692.9424328236},{"$f":"Input!E147","v":327392.75241817994},{"$f":"0.01*Input!F$14*(Adjust!$E231*Input!E147+Adjust!$F231*Input!F147)+10*(Adjust!$B231*Input!B147+Adjust!$C231*Input!C147+Adjust!$D231*Input!D147+Adjust!$G231*Input!G147)","v":35296565.302786909},{"$f":"10*(Adjust!$B231*Input!B147+Adjust!$C231*Input!C147+Adjust!$D231*Input!D147)","v":30074487.205340732},{"$f":"Adjust!E231*Input!$F$14*Input!$E147/100","v":5222078.097446179},{"$f":"Adjust!F231*Input!$F$14*Input!$F147/100","v":0},{"$f":"Adjust!G231*Input!$G147*10","v":0},{"$f":"IF(B61<>0,0.1*D61/B61,\"\")","v":2.0394470005274745},{"$f":"IF(C61<>0,D61/C61,\"\")","v":107.81107719117276},{"$f":"IF(B61<>0,0.1*E61/B61,0)","v":1.7377136329605196},{"$f":"Adjust!B231*Input!$B147*10","v":29259926.988542695},{"$f":"Adjust!C231*Input!$C147*10","v":814560.21679803613},{"$f":"Adjust!D231*Input!$D147*10","v":0},{"$f":"IF(E61<>0,$L61/E61,\"\")","v":0.97291524170515586},{"$f":"IF(E61<>0,$M61/E61,\"\")","v":2.7084758294844132E-2},{"$f":"IF(E61<>0,$N61/E61,\"\")","v":0},{"$f":"IF(D61<>0,$F61/D61,\"\")","v":0.14794861915456289},{"$f":"IF(D61<>0,$G61/D61,\"\")","v":0},{"$f":"IF(D61<>0,$H61/D61,\"\")","v":0}]
["LDNO LV: Domestic Two Rate",{"$f":"Input!B148+Input!C148+Input!D148","v":408.25042246196989},{"$f":"Input!E148","v":173.78086966999999},{"$f":"0.01*Input!F$14*(Adjust!$E232*Input!E148+Adjust!$F232*Input!F148)+10*(Adjust!$B232*Input!B148+Adjust!$C232*Input!C148+Adjust!$D232*Input!D148+Adjust!$G232*Input!G148)","v":7288.5383514290497},{"$f":"10*(Adjust!$B232*Input!B148+Adjust!$C232*Input!C148+Adjust!$D232*Input!D148)","v":5372.9518250566398},{"$f":"Adjust!E232*Input!$F$14*Input!$E148/100","v":1915.5865263724097},{"$f":"Adjust!F232*Input!$F$14*Input!$F148/100","v":0},{"$f":"Adjust!G232*Input!$G148*10","v":0},{"$f":"IF(B62<>0,0.1*D62/B62,\"\")","v":1.785310669729437},{"$f":"IF(C62<>0,D62/C62,\"\")","v":41.940970633128785},{"$f":"IF(B62<>0,0.1*E62/B62,0)","v":1.3160921653564612},{"$f":"Adjust!B232*Input!$B148*10","v":5258.3904532749129},{"$f":"Adjust!C232*Input!$C148*10","v":114.56137178172719},{"$f":"Adjust!D232*Input!$D148*10","v":0},{"$f":"IF(E62<>0,$L62/E62,\"\")","v":0.97867813159100503},{"$f":"IF(E62<>0,$M62/E62,\"\")","v":2.1321868408994998E-2},{"$f":"IF(E62<>0,$N62/E62,\"\")","v":0},{"$f":"IF(D62<>0,$F62/D62,\"\")","v":0.26282176672594776},{"$f":"IF(D62<>0,$G62/D62,\"\")","v":0},{"$f":"IF(D62<>0,$H62/D62,\"\")","v":0}]
["LDNO HV: Domestic Two Rate",{"$f":"Input!B149+Input!C149+Input!D149","v":715.94949698117989},{"$f":"Input!E149","v":275.76006264999995},{"$f":"0.01*Input!F$14*(Adjust!$E233*Input!E149+Adjust!$F233*Input!F149)+10*(Adjust!$B233*Input!B149+Adjust!$C233*Input!C149+Adjust!$D233*Input!D149+Adjust!$G233*Input!G149)","v":7865.0947354285809},{"$f":"10*(Adjust!$B233*Input!B149+Adjust!$C233*Input!C149+Adjust!$D233*Input!D149)","v":5670.8719169225315},{"$f":"Adjust!E233*Input!$F$14*Input!$E149/100","v":2194.2228185060499},{"$f":"Adjust!F233*Input!$F$14*Input!$F149/100","v":0},{"$f":"Adjust!G233*Input!$G149*10","v":0},{"$f":"IF(B63<>0,0.1*D63/B63,\"\")","v":1.0985544048277096},{"$f":"IF(C63<>0,D63/C63,\"\")","v":28.521514899026958},{"$f":"IF(B63<>0,0.1*E63/B63,0)","v":0.79207708655902609},{"$f":"Adjust!B233*Input!$B149*10","v":5481.4944000244723},{"$f":"Adjust!C233*Input!$C149*10","v":189.37751689805847},{"$f":"Adjust!D233*Input!$D149*10","v":0},{"$f":"IF(E63<>0,$L63/E63,\"\")","v":0.96660522056001041},{"$f":"IF(E63<>0,$M63/E63,\"\")","v":3.3394779439989516E-2},{"$f":"IF(E63<>0,$N63/E63,\"\")","v":0},{"$f":"IF(D63<>0,$F63/D63,\"\")","v":0.27898237622264105},{"$f":"IF(D63<>0,$G63/D63,\"\")","v":0},{"$f":"IF(D63<>0,$H63/D63,\"\")","v":0}]
["> Domestic Off Peak (related MPAN)"]
["Domestic Off Peak (related MPAN)",{"$f":"Input!B151+Input!C151+Input!D151","v":36292.302861451186},{"$f":"Input!E151","v":0},{"$f":"0.01*Input!F$14*(Adjust!$E235*Input!E151+Adjust!$F235*Input!F151)+10*(Adjust!$B235*Input!B151+Adjust!$C235*Input!C151+Adjust!$D235*Input!D151+Adjust!$G235*Input!G151)","v":76576.759037661992},{"$f":"10*(Adjust!$B235*Input!B151+Adjust!$C235*Input!C151+Adjust!$D235*Input!D151)","v":76576.759037661992},{"$f":"Adjust!E235*Input!$F$14*Input!$E151/100","v":0},{"$f":"Adjust!F235*Input!$F$14*Input!$F151/100","v":0},{"$f":"Adjust!G235*Input!$G151*10","v":0},{"$f":"IF(B65<>0,0.1*D65/B65,\"\")","v":0.21099999999999999},{"$f":"IF(C65<>0,D65/C65,\"\")","v":""},{"$f":"IF(B65<>0,0.1*E65/B65,0)","v":0.21099999999999999},{"$f":"Adjust!B235*Input!$B151*10","v":76576.759037661992},{"$f":"Adjust!C235*Input!$C151*10","v":0},{"$f":"Adjust!D235*Input!$D151*10","v":0},{"$f":"IF(E65<>0,$L65/E65,\"\")","v":1},{"$f":"IF(E65<>0,$M65/E65,\"\")","v":0},{"$f":"IF(E65<>0,$N65/E65,\"\")","v":0},{"$f":"IF(D65<>0,$F65/D65,\"\")","v":0},{"$f":"IF(D65<>0,$G65/D65,\"\")","v":0},{"$f":"IF(D65<>0,$H65/D65,\"\")","v":0}]
["LDNO LV: Domestic Off Peak (related MPAN)",{"$f":"Input!B152+Input!C152+Input!D152","v":0},{"$f":"Input!E152","v":0},{"$f":"0.01*Input!F$14*(Adjust!$E236*Input!E152+Adjust!$F236*Input!F152)+10*(Adjust!$B236*Input!B152+Adjust!$C236*Input!C152+Adjust!$D236*Input!D152+Adjust!$G236*Input!G152)","v":0},{"$f":"10*(Adjust!$B236*Input!B152+Adjust!$C236*Input!C152+Adjust!$D236*Input!D152)","v":0},{"$f":"Adjust!E236*Input!$F$14*Input!$E152/100","v":0},{"$f":"Adjust!F236*Input!$F$14*Input!$F152/100","v":0},{"$f":"Adjust!G236*Input!$G152*10","v":0},{"$f":"IF(B66<>0,0.1*D66/B66,\"\")","v":""},{"$f":"IF(C66<>0,D66/C66,\"\")","v":""},{"$f":"IF(B66<>0,0.1*E66/B66,0)","v":0},{"$f":"Adjust!B236*Input!$B152*10","v":0},{"$f":"Adjust!C236*Input!$C152*10","v":0},{"$f":"Adjust!D236*Input!$D152*10","v":0},{"$f":"IF(E66<>0,$L66/E66,\"\")","v":""},{"$f":"IF(E66<>0,$M66/E66,\"\")","v":""},{"$f":"IF(E66<>0,$N66/E66,\"\")","v":""},{"$f":"IF(D66<>0,$F66/D66,\"\")","v":""},{"$f":"IF(D66<>0,$G66/D66,\"\")","v":""},{"$f":"IF(D66<>0,$H66/D66,\"\")","v":""}]
["LDNO HV: Domestic Off Peak (related MPAN)",{"$f":"Input!B153+Input!C153+Input!D153","v":0},{"$f":"Input!E153","v":0},{"$f":"0.01*Input!F$14*(Adjust!$E237*Input!E153+Adjust!$F237*Input!F153)+10*(Adjust!$B237*Input!B153+Adjust!$C237*Input!C153+Adjust!$D237*Input!D153+Adjust!$G237*Input!G153)","v":0},{"$f":"10*(Adjust!$B237*Input!B153+Adjust!$C237*Input!C153+Adjust!$D237*Input!D153)","v":0},{"$f":"Adjust!E237*Input!$F$14*Input!$E153/100","v":0},{"$f":"Adjust!F237*Input!$F$14*Input!$F153/100","v":0},{"$f":"Adjust!G237*Input!$G153*10","v":0},{"$f":"IF(B67<>0,0.1*D67/B67,\"\")","v":""},{"$f":"IF(C67<>0,D67/C67,\"\")","v":""},{"$f":"IF(B67<>0,0.1*E67/B67,0)","v":0},{"$f":"Adjust!B237*Input!$B153*10","v":0},{"$f":"Adjust!C237*Input!$C153*10","v":0},{"$f":"Adjust!D237*Input!$D153*10","v":0},{"$f":"IF(E67<>0,$L67/E67,\"\")","v":""},{"$f":"IF(E67<>0,$M67/E67,\"\")","v":""},{"$f":"IF(E67<>0,$N67/E67,\"\")","v":""},{"$f":"IF(D67<>0,$F67/D67,\"\")","v":""},{"$f":"IF(D67<>0,$G67/D67,\"\")","v":""},{"$f":"IF(D67<>0,$H67/D67,\"\")","v":""}]
["> Small Non Domestic Unrestricted"]
["Small Non Domestic Unrestricted",{"$f":"Input!B155+Input!C155+Input!D155","v":1601953.0791385549},{"$f":"Input!E155","v":138318.12561321002},{"$f":"0.01*Input!F$14*(Adjust!$E239*Input!E155+Adjust!$F239*Input!F155)+10*(Adjust!$B239*Input!B155+Adjust!$C239*Input!C155+Adjust!$D239*Input!D155+Adjust!$G239*Input!G155)","v":36068240.756778173},{"$f":"10*(Adjust!$B239*Input!B155+Adjust!$C239*Input!C155+Adjust!$D239*Input!D155)","v":32231295.952267725},{"$f":"Adjust!E239*Input!$F$14*Input!$E155/100","v":3836944.8045104463},{"$f":"Adjust!F239*Input!$F$14*Input!$F155/100","v":0},{"$f":"Adjust!G239*Input!$G155*10","v":0},{"$f":"IF(B69<>0,0.1*D69/B69,\"\")","v":2.2515166783894669},{"$f":"IF(C69<>0,D69/C69,\"\")","v":260.76293758952937},{"$f":"IF(B69<>0,0.1*E69/B69,0)","v":2.012},{"$f":"Adjust!B239*Input!$B155*10","v":32231295.952267725},{"$f":"Adjust!C239*Input!$C155*10","v":0},{"$f":"Adjust!D239*Input!$D155*10","v":0},{"$f":"IF(E69<>0,$L69/E69,\"\")","v":1},{"$f":"IF(E69<>0,$M69/E69,\"\")","v":0},{"$f":"IF(E69<>0,$N69/E69,\"\")","v":0},{"$f":"IF(D69<>0,$F69/D69,\"\")","v":0.10638014840769253},{"$f":"IF(D69<>0,$G69/D69,\"\")","v":0},{"$f":"IF(D69<>0,$H69/D69,\"\")","v":0}]
["LDNO LV: Small Non Domestic Unrestricted",{"$f":"Input!B156+Input!C156+Input!D156","v":631.15096300640994},{"$f":"Input!E156","v":108.22281704000001},{"$f":"0.01*Input!F$14*(Adjust!$E240*Input!E156+Adjust!$F240*Input!F156)+10*(Adjust!$B240*Input!B156+Adjust!$C240*Input!C156+Adjust!$D240*Input!D156+Adjust!$G240*Input!G156)","v":10853.129626948163},{"$f":"10*(Adjust!$B240*Input!B156+Adjust!$C240*Input!C156+Adjust!$D240*Input!D156)","v":8779.3098954191628},{"$f":"Adjust!E240*Input!$F$14*Input!$E156/100","v":2073.8197315290004},{"$f":"Adjust!F240*Input!$F$14*Input!$F156/100","v":0},{"$f":"Adjust!G240*Input!$G156*10","v":0},{"$f":"IF(B70<>0,0.1*D70/B70,\"\")","v":1.7195774486741835},{"$f":"IF(C70<>0,D70/C70,\"\")","v":100.28504084251254},{"$f":"IF(B70<>0,0.1*E70/B70,0)","v":1.3910000000000002},{"$f":"Adjust!B240*Input!$B156*10","v":8779.3098954191628},{"$f":"Adjust!C240*Input!$C156*10","v":0},{"$f":"Adjust!D240*Input!$D156*10","v":0},{"$f":"IF(E70<>0,$L70/E70,\"\")","v":1},{"$f":"IF(E70<>0,$M70/E70,\"\")","v":0},{"$f":"IF(E70<>0,$N70/E70,\"\")","v":0},{"$f":"IF(D70<>0,$F70/D70,\"\")","v":0.19108034298049256},{"$f":"IF(D70<>0,$G70/D70,\"\")","v":0},{"$f":"IF(D70<>0,$H70/D70,\"\")","v":0}]
["LDNO HV: Small Non Domestic Unrestricted",{"$f":"Input!B157+Input!C157+Input!D157","v":6160.9025846362492},{"$f":"Input!E157","v":400.63254385000005},{"$f":"0.01*Input!F$14*(Adjust!$E241*Input!E157+Adjust!$F241*Input!F157)+10*(Adjust!$B241*Input!B157+Adjust!$C241*Input!C157+Adjust!$D241*Input!D157+Adjust!$G241*Input!G157)","v":67397.612245096912},{"$f":"10*(Adjust!$B241*Input!B157+Adjust!$C241*Input!C157+Adjust!$D241*Input!D157)","v":61855.461949747943},{"$f":"Adjust!E241*Input!$F$14*Input!$E157/100","v":5542.1502953489753},{"$f":"Adjust!F241*Input!$F$14*Input!$F157/100","v":0},{"$f":"Adjust!G241*Input!$G157*10","v":0},{"$f":"IF(B71<>0,0.1*D71/B71,\"\")","v":1.0939567915449551},{"$f":"IF(C71<>0,D71/C71,\"\")","v":168.22800164314936},{"$f":"IF(B71<>0,0.1*E71/B71,0)","v":1.0040000000000002},{"$f":"Adjust!B241*Input!$B157*10","v":61855.461949747943},{"$f":"Adjust!C241*Input!$C157*10","v":0},{"$f":"Adjust!D241*Input!$D157*10","v":0},{"$f":"IF(E71<>0,$L71/E71,\"\")","v":1},{"$f":"IF(E71<>0,$M71/E71,\"\")","v":0},{"$f":"IF(E71<>0,$N71/E71,\"\")","v":0},{"$f":"IF(D71<>0,$F71/D71,\"\")","v":8.2230662344453601E-2},{"$f":"IF(D71<>0,$G71/D71,\"\")","v":0},{"$f":"IF(D71<>0,$H71/D71,\"\")","v":0}]
["> Small Non Domestic Two Rate"]
["Small Non Domestic Two Rate",{"$f":"Input!B159+Input!C159+Input!D159","v":660157.32109300327},{"$f":"Input!E159","v":33481.434021749999},{"$f":"0.01*Input!F$14*(Adjust!$E243*Input!E159+Adjust!$F243*Input!F159)+10*(Adjust!$B243*Input!B159+Adjust!$C243*Input!C159+Adjust!$D243*Input!D159+Adjust!$G243*Input!G159)","v":12016929.147070773},{"$f":"10*(Adjust!$B243*Input!B159+Adjust!$C243*Input!C159+Adjust!$D243*Input!D159)","v":11088154.167307429},{"$f":"Adjust!E243*Input!$F$14*Input!$E159/100","v":928774.97976334498},{"$f":"Adjust!F243*Input!$F$14*Input!$F159/100","v":0},{"$f":"Adjust!G243*Input!$G159*10","v":0},{"$f":"IF(B73<>0,0.1*D73/B73,\"\")","v":1.8203129410387655},{"$f":"IF(C73<>0,D73/C73,\"\")","v":358.91321558283346},{"$f":"IF(B73<>0,0.1*E73/B73,0)","v":1.6796229948566039},{"$f":"Adjust!B243*Input!$B159*10","v":10894299.690005211},{"$f":"Adjust!C243*Input!$C159*10","v":193854.47730221899},{"$f":"Adjust!D243*Input!$D159*10","v":0},{"$f":"IF(E73<>0,$L73/E73,\"\")","v":0.98251697492863299},{"$f":"IF(E73<>0,$M73/E73,\"\")","v":1.7483025071367064E-2},{"$f":"IF(E73<>0,$N73/E73,\"\")","v":0},{"$f":"IF(D73<>0,$F73/D73,\"\")","v":7.7288878747341347E-2},{"$f":"IF(D73<>0,$G73/D73,\"\")","v":0},{"$f":"IF(D73<>0,$H73/D73,\"\")","v":0}]
["LDNO LV: Small Non Domestic Two Rate",{"$f":"Input!B160+Input!C160+Input!D160","v":400.12666200540002},{"$f":"Input!E160","v":9.3654360899999993},{"$f":"0.01*Input!F$14*(Adjust!$E244*Input!E160+Adjust!$F244*Input!F160)+10*(Adjust!$B244*Input!B160+Adjust!$C244*Input!C160+Adjust!$D244*Input!D160+Adjust!$G244*Input!G160)","v":5367.146726411047},{"$f":"10*(Adjust!$B244*Input!B160+Adjust!$C244*Input!C160+Adjust!$D244*Input!D160)","v":5187.681557336422},{"$f":"Adjust!E244*Input!$F$14*Input!$E160/100","v":179.46516907462498},{"$f":"Adjust!F244*Input!$F$14*Input!$F160/100","v":0},{"$f":"Adjust!G244*Input!$G160*10","v":0},{"$f":"IF(B74<>0,0.1*D74/B74,\"\")","v":1.3413619326218789},{"$f":"IF(C74<>0,D74/C74,\"\")","v":573.08027889292316},{"$f":"IF(B74<>0,0.1*E74/B74,0)","v":1.2965098429922697},{"$f":"Adjust!B244*Input!$B160*10","v":5128.5364602557092},{"$f":"Adjust!C244*Input!$C160*10","v":59.14509708071251},{"$f":"Adjust!D244*Input!$D160*10","v":0},{"$f":"IF(E74<>0,$L74/E74,\"\")","v":0.98859893452845626},{"$f":"IF(E74<>0,$M74/E74,\"\")","v":1.1401065471543735E-2},{"$f":"IF(E74<>0,$N74/E74,\"\")","v":0},{"$f":"IF(D74<>0,$F74/D74,\"\")","v":3.3437723658922849E-2},{"$f":"IF(D74<>0,$G74/D74,\"\")","v":0},{"$f":"IF(D74<>0,$H74/D74,\"\")","v":0}]
["LDNO HV: Small Non Domestic Two Rate",{"$f":"Input!B161+Input!C161+Input!D161","v":1705.2452339719498},{"$f":"Input!E161","v":40.583556389999998},{"$f":"0.01*Input!F$14*(Adjust!$E245*Input!E161+Adjust!$F245*Input!F161)+10*(Adjust!$B245*Input!B161+Adjust!$C245*Input!C161+Adjust!$D245*Input!D161+Adjust!$G245*Input!G161)","v":16968.120427725069},{"$f":"10*(Adjust!$B245*Input!B161+Adjust!$C245*Input!C161+Adjust!$D245*Input!D161)","v":16406.707800404005},{"$f":"Adjust!E245*Input!$F$14*Input!$E161/100","v":561.41262732106497},{"$f":"Adjust!F245*Input!$F$14*Input!$F161/100","v":0},{"$f":"Adjust!G245*Input!$G161*10","v":0},{"$f":"IF(B75<>0,0.1*D75/B75,\"\")","v":0.99505455811783761},{"$f":"IF(C75<>0,D75/C75,\"\")","v":418.10333881695254},{"$f":"IF(B75<>0,0.1*E75/B75,0)","v":0.96213186664000294},{"$f":"Adjust!B245*Input!$B161*10","v":16242.467909160516},{"$f":"Adjust!C245*Input!$C161*10","v":164.23989124349066},{"$f":"Adjust!D245*Input!$D161*10","v":0},{"$f":"IF(E75<>0,$L75/E75,\"\")","v":0.98998946691551093},{"$f":"IF(E75<>0,$M75/E75,\"\")","v":1.0010533084489159E-2},{"$f":"IF(E75<>0,$N75/E75,\"\")","v":0},{"$f":"IF(D75<>0,$F75/D75,\"\")","v":3.3086317940303187E-2},{"$f":"IF(D75<>0,$G75/D75,\"\")","v":0},{"$f":"IF(D75<>0,$H75/D75,\"\")","v":0}]
["> Small Non Domestic Off Peak (related MPAN)"]
["Small Non Domestic Off Peak (related MPAN)",{"$f":"Input!B163+Input!C163+Input!D163","v":6149.4136827174971},{"$f":"Input!E163","v":0},{"$f":"0.01*Input!F$14*(Adjust!$E247*Input!E163+Adjust!$F247*Input!F163)+10*(Adjust!$B247*Input!B163+Adjust!$C247*Input!C163+Adjust!$D247*Input!D163+Adjust!$G247*Input!G163)","v":21645.936163165588},{"$f":"10*(Adjust!$B247*Input!B163+Adjust!$C247*Input!C163+Adjust!$D247*Input!D163)","v":21645.936163165588},{"$f":"Adjust!E247*Input!$F$14*Input!$E163/100","v":0},{"$f":"Adjust!F247*Input!$F$14*Input!$F163/100","v":0},{"$f":"Adjust!G247*Input!$G163*10","v":0},{"$f":"IF(B77<>0,0.1*D77/B77,\"\")","v":0.35199999999999998},{"$f":"IF(C77<>0,D77/C77,\"\")","v":""},{"$f":"IF(B77<>0,0.1*E77/B77,0)","v":0.35199999999999998},{"$f":"Adjust!B247*Input!$B163*10","v":21645.936163165588},{"$f":"Adjust!C247*Input!$C163*10","v":0},{"$f":"Adjust!D247*Input!$D163*10","v":0},{"$f":"IF(E77<>0,$L77/E77,\"\")","v":1},{"$f":"IF(E77<>0,$M77/E77,\"\")","v":0},{"$f":"IF(E77<>0,$N77/E77,\"\")","v":0},{"$f":"IF(D77<>0,$F77/D77,\"\")","v":0},{"$f":"IF(D77<>0,$G77/D77,\"\")","v":0},{"$f":"IF(D77<>0,$H77/D77,\"\")","v":0}]
["LDNO LV: Small Non Domestic Off Peak (related MPAN)",{"$f":"Input!B164+Input!C164+Input!D164","v":0},{"$f":"Input!E164","v":0},{"$f":"0.01*Input!F$14*(Adjust!$E248*Input!E164+Adjust!$F248*Input!F164)+10*(Adjust!$B248*Input!B164+Adjust!$C248*Input!C164+Adjust!$D248*Input!D164+Adjust!$G248*Input!G164)","v":0},{"$f":"10*(Adjust!$B248*Input!B164+Adjust!$C248*Input!C164+Adjust!$D248*Input!D164)","v":0},{"$f":"Adjust!E248*Input!$F$14*Input!$E164/100","v":0},{"$f":"Adjust!F248*Input!$F$14*Input!$F164/100","v":0},{"$f":"Adjust!G248*Input!$G164*10","v":0},{"$f":"IF(B78<>0,0.1*D78/B78,\"\")","v":""},{"$f":"IF(C78<>0,D78/C78,\"\")","v":""},{"$f":"IF(B78<>0,0.1*E78/B78,0)","v":0},{"$f":"Adjust!B248*Input!$B164*10","v":0},{"$f":"Adjust!C248*Input!$C164*10","v":0},{"$f":"Adjust!D248*Input!$D164*10","v":0},{"$f":"IF(E78<>0,$L78/E78,\"\")","v":""},{"$f":"IF(E78<>0,$M78/E78,\"\")","v":""},{"$f":"IF(E78<>0,$N78/E78,\"\")","v":""},{"$f":"IF(D78<>0,$F78/D78,\"\")","v":""},{"$f":"IF(D78<>0,$G78/D78,\"\")","v":""},{"$f":"IF(D78<>0,$H78/D78,\"\")","v":""}]
["LDNO HV: Small Non Domestic Off Peak (related MPAN)",{"$f":"Input!B165+Input!C165+Input!D165","v":0},{"$f":"Input!E165","v":0},{"$f":"0.01*Input!F$14*(Adjust!$E249*Input!E165+Adjust!$F249*Input!F165)+10*(Adjust!$B249*Input!B165+Adjust!$C249*Input!C165+Adjust!$D249*Input!D165+Adjust!$G249*Input!G165)","v":0},{"$f":"10*(Adjust!$B249*Input!B165+Adjust!$C249*Input!C165+Adjust!$D249*Input!D165)","v":0},{"$f":"Adjust!E249*Input!$F$14*Input!$E165/100","v":0},{"$f":"Adjust!F249*Input!$F$14*Input!$F165/100","v":0},{"$f":"Adjust!G249*Input!$G165*10","v":0},{"$f":"IF(B79<>0,0.1*D79/B79,\"\")","v":""},{"$f":"IF(C79<>0,D79/C79,\"\")","v":""},{"$f":"IF(B79<>0,0.1*E79/B79,0)","v":0},{"$f":"Adjust!B249*Input!$B165*10","v":0},{"$f":"Adjust!C249*Input!$C165*10","v":0},{"$f":"Adjust!D249*Input!$D165*10","v":0},{"$f":"IF(E79<>0,$L79/E79,\"\")","v":""},{"$f":"IF(E79<>0,$M79/E79,\"\")","v":""},{"$f":"IF(E79<>0,$N79/E79,\"\")","v":""},{"$f":"IF(D79<>0,$F79/D79,\"\")","v":""},{"$f":"IF(D79<>0,$G79/D79,\"\")","v":""},{"$f":"IF(D79<>0,$H79/D79,\"\")","v":""}]
["> LV Medium Non-Domestic"]
["LV Medium Non-Domestic",{"$f":"Input!B167+Input!C167+Input!D167","v":1558798.286590338},{"$f":"Input!E167","v":18486.330237650003},{"$f":"0.01*Input!F$14*(Adjust!$E251*Input!E167+Adjust!$F251*Input!F167)+10*(Adjust!$B251*Input!B167+Adjust!$C251*Input!C167+Adjust!$D251*Input!D167+Adjust!$G251*Input!G167)","v":31807966.140623048},{"$f":"10*(Adjust!$B251*Input!B167+Adjust!$C251*Input!C167+Adjust!$D251*Input!D167)","v":29256057.655627128},{"$f":"Adjust!E251*Input!$F$14*Input!$E167/100","v":2551908.4849959193},{"$f":"Adjust!F251*Input!$F$14*Input!$F167/100","v":0},{"$f":"Adjust!G251*Input!$G167*10","v":0},{"$f":"IF(B81<>0,0.1*D81/B81,\"\")","v":2.040544079003237},{"$f":"IF(C81<>0,D81/C81,\"\")","v":1720.6208983458309},{"$f":"IF(B81<>0,0.1*E81/B81,0)","v":1.8768340911909027},{"$f":"Adjust!B251*Input!$B167*10","v":28992293.593515646},{"$f":"Adjust!C251*Input!$C167*10","v":263764.06211148005},{"$f":"Adjust!D251*Input!$D167*10","v":0},{"$f":"IF(E81<>0,$L81/E81,\"\")","v":0.99098429237403596},{"$f":"IF(E81<>0,$M81/E81,\"\")","v":9.0157076259640024E-3},{"$f":"IF(E81<>0,$N81/E81,\"\")","v":0},{"$f":"IF(D81<>0,$F81/D81,\"\")","v":8.0228596626201423E-2},{"$f":"IF(D81<>0,$G81/D81,\"\")","v":0},{"$f":"IF(D81<>0,$H81/D81,\"\")","v":0}]
["LDNO LV: LV Medium Non-Domestic",{"$f":"Input!B168+Input!C168+Input!D168","v":392.79827504511002},{"$f":"Input!E168","v":7.2842280700000002},{"$f":"0.01*Input!F$14*(Adjust!$E252*Input!E168+Adjust!$F252*Input!F168)+10*(Adjust!$B252*Input!B168+Adjust!$C252*Input!C168+Adjust!$D252*Input!D168+Adjust!$G252*Input!G168)","v":5438.5913737770488},{"$f":"10*(Adjust!$B252*Input!B168+Adjust!$C252*Input!C168+Adjust!$D252*Input!D168)","v":4743.5958893902789},{"$f":"Adjust!E252*Input!$F$14*Input!$E168/100","v":694.99548438677016},{"$f":"Adjust!F252*Input!$F$14*Input!$F168/100","v":0},{"$f":"Adjust!G252*Input!$G168*10","v":0},{"$f":"IF(B82<>0,0.1*D82/B82,\"\")","v":1.3845761856139684},{"$f":"IF(C82<>0,D82/C82,\"\")","v":746.62563026764872},{"$f":"IF(B82<>0,0.1*E82/B82,0)","v":1.2076417313302894},{"$f":"Adjust!B252*Input!$B168*10","v":4684.0074292211502},{"$f":"Adjust!C252*Input!$C168*10","v":59.588460169127998},{"$f":"Adjust!D252*Input!$D168*10","v":0},{"$f":"IF(E82<>0,$L82/E82,\"\")","v":0.98743812467195891},{"$f":"IF(E82<>0,$M82/E82,\"\")","v":1.2561875328040905E-2},{"$f":"IF(E82<>0,$N82/E82,\"\")","v":0},{"$f":"IF(D82<>0,$F82/D82,\"\")","v":0.12778961253419238},{"$f":"IF(D82<>0,$G82/D82,\"\")","v":0},{"$f":"IF(D82<>0,$H82/D82,\"\")","v":0}]
["LDNO HV: LV Medium Non-Domestic",{"$f":"Input!B169+Input!C169+Input!D169","v":7772.0785725409205},{"$f":"Input!E169","v":64.517448619999996},{"$f":"0.01*Input!F$14*(Adjust!$E253*Input!E169+Adjust!$F253*Input!F169)+10*(Adjust!$B253*Input!B169+Adjust!$C253*Input!C169+Adjust!$D253*Input!D169+Adjust!$G253*Input!G169)","v":77695.64746999467},{"$f":"10*(Adjust!$B253*Input!B169+Adjust!$C253*Input!C169+Adjust!$D253*Input!D169)","v":73249.621050693226},{"$f":"Adjust!E253*Input!$F$14*Input!$E169/100","v":4446.02641930144},{"$f":"Adjust!F253*Input!$F$14*Input!$F169/100","v":0},{"$f":"Adjust!G253*Input!$G169*10","v":0},{"$f":"IF(B83<>0,0.1*D83/B83,\"\")","v":0.99967655685438717},{"$f":"IF(C83<>0,D83/C83,\"\")","v":1204.2579043634023},{"$f":"IF(B83<>0,0.1*E83/B83,0)","v":0.94247144270372163},{"$f":"Adjust!B253*Input!$B169*10","v":72615.760572945263},{"$f":"Adjust!C253*Input!$C169*10","v":633.86047774797646},{"$f":"Adjust!D253*Input!$D169*10","v":0},{"$f":"IF(E83<>0,$L83/E83,\"\")","v":0.99134656987086267},{"$f":"IF(E83<>0,$M83/E83,\"\")","v":8.6534301291375446E-3},{"$f":"IF(E83<>0,$N83/E83,\"\")","v":0},{"$f":"IF(D83<>0,$F83/D83,\"\")","v":5.7223622739207544E-2},{"$f":"IF(D83<>0,$G83/D83,\"\")","v":0},{"$f":"IF(D83<>0,$H83/D83,\"\")","v":0}]
["> LV Sub Medium Non-Domestic"]
["LV Sub Medium Non-Domestic",{"$f":"Input!B171+Input!C171+Input!D171","v":113.57408459335758},{"$f":"Input!E171","v":3.1218120300000005},{"$f":"0.01*Input!F$14*(Adjust!$E255*Input!E171+Adjust!$F255*Input!F171)+10*(Adjust!$B255*Input!B171+Adjust!$C255*Input!C171+Adjust!$D255*Input!D171+Adjust!$G255*Input!G171)","v":2105.7241434341095},{"$f":"10*(Adjust!$B255*Input!B171+Adjust!$C255*Input!C171+Adjust!$D255*Input!D171)","v":1895.6074629429295},{"$f":"Adjust!E255*Input!$F$14*Input!$E171/100","v":210.11668049118006},{"$f":"Adjust!F255*Input!$F$14*Input!$F171/100","v":0},{"$f":"Adjust!G255*Input!$G171*10","v":0},{"$f":"IF(B85<>0,0.1*D85/B85,\"\")","v":1.8540533705144771},{"$f":"IF(C85<>0,D85/C85,\"\")","v":674.5198375810312},{"$f":"IF(B85<>0,0.1*E85/B85,0)","v":1.669049299168901},{"$f":"Adjust!B255*Input!$B171*10","v":1879.0711273833151},{"$f":"Adjust!C255*Input!$C171*10","v":16.536335559614518},{"$f":"Adjust!D255*Input!$D171*10","v":0},{"$f":"IF(E85<>0,$L85/E85,\"\")","v":0.99127649796549033},{"$f":"IF(E85<>0,$M85/E85,\"\")","v":8.7235020345097537E-3},{"$f":"IF(E85<>0,$N85/E85,\"\")","v":0},{"$f":"IF(D85<>0,$F85/D85,\"\")","v":9.9783573810628565E-2},{"$f":"IF(D85<>0,$G85/D85,\"\")","v":0},{"$f":"IF(D85<>0,$H85/D85,\"\")","v":0}]
["> HV Medium Non-Domestic"]
["HV Medium Non-Domestic",{"$f":"Input!B173+Input!C173+Input!D173","v":45606.959493264992},{"$f":"Input!E173","v":284.08489473000003},{"$f":"0.01*Input!F$14*(Adjust!$E257*Input!E173+Adjust!$F257*Input!F173)+10*(Adjust!$B257*Input!B173+Adjust!$C257*Input!C173+Adjust!$D257*Input!D173+Adjust!$G257*Input!G173)","v":766015.46064650454},{"$f":"10*(Adjust!$B257*Input!B173+Adjust!$C257*Input!C173+Adjust!$D257*Input!D173)","v":502308.54358527693},{"$f":"Adjust!E257*Input!$F$14*Input!$E173/100","v":263706.91706122766},{"$f":"Adjust!F257*Input!$F$14*Input!$F173/100","v":0},{"$f":"Adjust!G257*Input!$G173*10","v":0},{"$f":"IF(B87<>0,0.1*D87/B87,\"\")","v":1.6796021246705251},{"$f":"IF(C87<>0,D87/C87,\"\")","v":2696.4315064148022},{"$f":"IF(B87<>0,0.1*E87/B87,0)","v":1.1013857296482465},{"$f":"Adjust!B257*Input!$B173*10","v":499951.88201728329},{"$f":"Adjust!C257*Input!$C173*10","v":2356.6615679936208},{"$f":"Adjust!D257*Input!$D173*10","v":0},{"$f":"IF(E87<>0,$L87/E87,\"\")","v":0.99530833867333268},{"$f":"IF(E87<>0,$M87/E87,\"\")","v":4.6916613266673023E-3},{"$f":"IF(E87<>0,$N87/E87,\"\")","v":0},{"$f":"IF(D87<>0,$F87/D87,\"\")","v":0.34425795641077966},{"$f":"IF(D87<>0,$G87/D87,\"\")","v":0},{"$f":"IF(D87<>0,$H87/D87,\"\")","v":0}]
["> LV HH Metered"]
["LV HH Metered",{"$f":"Input!B175+Input!C175+Input!D175","v":1825682.7035876084},{"$f":"Input!E175","v":6262.3549321800001},{"$f":"0.01*Input!F$14*(Adjust!$E259*Input!E175+Adjust!$F259*Input!F175)+10*(Adjust!$B259*Input!B175+Adjust!$C259*Input!C175+Adjust!$D259*Input!D175+Adjust!$G259*Input!G175)","v":41382887.354849845},{"$f":"10*(Adjust!$B259*Input!B175+Adjust!$C259*Input!C175+Adjust!$D259*Input!D175)","v":27034135.514916923},{"$f":"Adjust!E259*Input!$F$14*Input!$E175/100","v":250519.24670692871},{"$f":"Adjust!F259*Input!$F$14*Input!$F175/100","v":13454812.5},{"$f":"Adjust!G259*Input!$G175*10","v":643420.09322599997},{"$f":"IF(B89<>0,0.1*D89/B89,\"\")","v":2.2667075321209573},{"$f":"IF(C89<>0,D89/C89,\"\")","v":6608.1989607771993},{"$f":"IF(B89<>0,0.1*E89/B89,0)","v":1.4807685619079782},{"$f":"Adjust!B259*Input!$B175*10","v":21458213.106239866},{"$f":"Adjust!C259*Input!$C175*10","v":5097728.0633236757},{"$f":"Adjust!D259*Input!$D175*10","v":478194.34535338043},{"$f":"IF(E89<>0,$L89/E89,\"\")","v":0.79374511881097998},{"$f":"IF(E89<>0,$M89/E89,\"\")","v":0.18856634274511372},{"$f":"IF(E89<>0,$N89/E89,\"\")","v":1.7688538443906294E-2},{"$f":"IF(D89<>0,$F89/D89,\"\")","v":6.0536918209398273E-3},{"$f":"IF(D89<>0,$G89/D89,\"\")","v":0.32512986309117869},{"$f":"IF(D89<>0,$H89/D89,\"\")","v":1.5547974884130329E-2}]
["LDNO LV: LV HH Metered",{"$f":"Input!B176+Input!C176+Input!D176","v":60.968260277891972},{"$f":"Input!E176","v":1.04060401},{"$f":"0.01*Input!F$14*(Adjust!$E260*Input!E176+Adjust!$F260*Input!F176)+10*(Adjust!$B260*Input!B176+Adjust!$C260*Input!C176+Adjust!$D260*Input!D176+Adjust!$G260*Input!G176)","v":794.77157408995481},{"$f":"10*(Adjust!$B260*Input!B176+Adjust!$C260*Input!C176+Adjust!$D260*Input!D176)","v":763.79418294528477},{"$f":"Adjust!E260*Input!$F$14*Input!$E176/100","v":28.790391144669996},{"$f":"Adjust!F260*Input!$F$14*Input!$F176/100","v":0},{"$f":"Adjust!G260*Input!$G176*10","v":2.1870000000000003},{"$f":"IF(B90<>0,0.1*D90/B90,\"\")","v":1.3035825041872668},{"$f":"IF(C90<>0,D90/C90,\"\")","v":763.75986105411494},{"$f":"IF(B90<>0,0.1*E90/B90,0)","v":1.2527734586224504},{"$f":"Adjust!B260*Input!$B176*10","v":532.69783724352487},{"$f":"Adjust!C260*Input!$C176*10","v":230.55549172428948},{"$f":"Adjust!D260*Input!$D176*10","v":0.54085397747040009},{"$f":"IF(E90<>0,$L90/E90,\"\")","v":0.69743636327443104},{"$f":"IF(E90<>0,$M90/E90,\"\")","v":0.30185552190936965},{"$f":"IF(E90<>0,$N90/E90,\"\")","v":7.0811481619930685E-4},{"$f":"IF(D90<>0,$F90/D90,\"\")","v":3.6224736871894474E-2},{"$f":"IF(D90<>0,$G90/D90,\"\")","v":0},{"$f":"IF(D90<>0,$H90/D90,\"\")","v":2.7517340469860193E-3}]
["LDNO HV: LV HH Metered",{"$f":"Input!B177+Input!C177+Input!D177","v":33487.326745934683},{"$f":"Input!E177","v":82.207716790000006},{"$f":"0.01*Input!F$14*(Adjust!$E261*Input!E177+Adjust!$F261*Input!F177)+10*(Adjust!$B261*Input!B177+Adjust!$C261*Input!C177+Adjust!$D261*Input!D177+Adjust!$G261*Input!G177)","v":402367.16089252534},{"$f":"10*(Adjust!$B261*Input!B177+Adjust!$C261*Input!C177+Adjust!$D261*Input!D177)","v":268944.7604429546},{"$f":"Adjust!E261*Input!$F$14*Input!$E177/100","v":1641.3181695707451},{"$f":"Adjust!F261*Input!$F$14*Input!$F177/100","v":129684.50000000001},{"$f":"Adjust!G261*Input!$G177*10","v":2096.5822800000001},{"$f":"IF(B91<>0,0.1*D91/B91,\"\")","v":1.2015505565590487},{"$f":"IF(C91<>0,D91/C91,\"\")","v":4894.5181377604013},{"$f":"IF(B91<>0,0.1*E91/B91,0)","v":0.8031240071308593},{"$f":"Adjust!B261*Input!$B177*10","v":219928.28609033435},{"$f":"Adjust!C261*Input!$C177*10","v":44565.700747957824},{"$f":"Adjust!D261*Input!$D177*10","v":4450.773604662375},{"$f":"IF(E91<>0,$L91/E91,\"\")","v":0.81774519692486425},{"$f":"IF(E91<>0,$M91/E91,\"\")","v":0.16570577792464775},{"$f":"IF(E91<>0,$N91/E91,\"\")","v":1.6549025150487812E-2},{"$f":"IF(D91<>0,$F91/D91,\"\")","v":4.0791553811946176E-3},{"$f":"IF(D91<>0,$G91/D91,\"\")","v":0.3223038871073266},{"$f":"IF(D91<>0,$H91/D91,\"\")","v":5.2106197616857948E-3}]
["> LV Sub HH Metered"]
["LV Sub HH Metered",{"$f":"Input!B179+Input!C179+Input!D179","v":20507.498449391911},{"$f":"Input!E179","v":33.299328320000001},{"$f":"0.01*Input!F$14*(Adjust!$E263*Input!E179+Adjust!$F263*Input!F179)+10*(Adjust!$B263*Input!B179+Adjust!$C263*Input!C179+Adjust!$D263*Input!D179+Adjust!$G263*Input!G179)","v":541265.74636484752},{"$f":"10*(Adjust!$B263*Input!B179+Adjust!$C263*Input!C179+Adjust!$D263*Input!D179)","v":246119.98917048509},{"$f":"Adjust!E263*Input!$F$14*Input!$E179/100","v":978.41751436240008},{"$f":"Adjust!F263*Input!$F$14*Input!$F179/100","v":292255.5},{"$f":"Adjust!G263*Input!$G179*10","v":1911.8396800000003},{"$f":"IF(B93<>0,0.1*D93/B93,\"\")","v":2.6393552958230124},{"$f":"IF(C93<>0,D93/C93,\"\")","v":16254.554481201245},{"$f":"IF(B93<>0,0.1*E93/B93,0)","v":1.2001463258810245},{"$f":"Adjust!B263*Input!$B179*10","v":204486.45714058352},{"$f":"Adjust!C263*Input!$C179*10","v":38288.974639082575},{"$f":"Adjust!D263*Input!$D179*10","v":3344.5573908189845},{"$f":"IF(E93<>0,$L93/E93,\"\")","v":0.83084050925639197},{"$f":"IF(E93<>0,$M93/E93,\"\")","v":0.15557035723969639},{"$f":"IF(E93<>0,$N93/E93,\"\")","v":1.3589133503911541E-2},{"$f":"IF(D93<>0,$F93/D93,\"\")","v":1.8076472064479847E-3},{"$f":"IF(D93<>0,$G93/D93,\"\")","v":0.53994826379240557},{"$f":"IF(D93<>0,$H93/D93,\"\")","v":3.532164547341037E-3}]
["LDNO HV: LV Sub HH Metered",{"$f":"Input!B180+Input!C180+Input!D180","v":1948.5319272790141},{"$f":"Input!E180","v":1.04060401},{"$f":"0.01*Input!F$14*(Adjust!$E264*Input!E180+Adjust!$F264*Input!F180)+10*(Adjust!$B264*Input!B180+Adjust!$C264*Input!C180+Adjust!$D264*Input!D180+Adjust!$G264*Input!G180)","v":16469.530916348103},{"$f":"10*(Adjust!$B264*Input!B180+Adjust!$C264*Input!C180+Adjust!$D264*Input!D180)","v":14853.304616529102},{"$f":"Adjust!E264*Input!$F$14*Input!$E180/100","v":22.789227819000004},{"$f":"Adjust!F264*Input!$F$14*Input!$F180/100","v":0},{"$f":"Adjust!G264*Input!$G180*10","v":1593.4370719999997},{"$f":"IF(B94<>0,0.1*D94/B94,\"\")","v":0.84522766528884286},{"$f":"IF(C94<>0,D94/C94,\"\")","v":15826.895493462593},{"$f":"IF(B94<>0,0.1*E94/B94,0)","v":0.76228181887020374},{"$f":"Adjust!B264*Input!$B180*10","v":12406.808651208979},{"$f":"Adjust!C264*Input!$C180*10","v":2158.4582258441897},{"$f":"Adjust!D264*Input!$D180*10","v":288.03773947593152},{"$f":"IF(E94<>0,$L94/E94,\"\")","v":0.835289450497258},{"$f":"IF(E94<>0,$M94/E94,\"\")","v":0.14531838412862061},{"$f":"IF(E94<>0,$N94/E94,\"\")","v":1.9392165374121289E-2},{"$f":"IF(D94<>0,$F94/D94,\"\")","v":1.3837205160699992E-3},{"$f":"IF(D94<>0,$G94/D94,\"\")","v":0},{"$f":"IF(D94<>0,$H94/D94,\"\")","v":9.675060450072144E-2}]
["> HV HH Metered"]
["HV HH Metered",{"$f":"Input!B182+Input!C182+Input!D182","v":7666421.8192263478},{"$f":"Input!E182","v":3859.6002730900004},{"$f":"0.01*Input!F$14*(Adjust!$E266*Input!E182+Adjust!$F266*Input!F182)+10*(Adjust!$B266*Input!B182+Adjust!$C266*Input!C182+Adjust!$D266*Input!D182+Adjust!$G266*Input!G182)","v":113173354.99022286},{"$f":"10*(Adjust!$B266*Input!B182+Adjust!$C266*Input!C182+Adjust!$D266*Input!D182)","v":69335378.568668529},{"$f":"Adjust!E266*Input!$F$14*Input!$E182/100","v":1109252.9780863391},{"$f":"Adjust!F266*Input!$F$14*Input!$F182/100","v":40267967.999999993},{"$f":"Adjust!G266*Input!$G182*10","v":2460755.4434679998},{"$f":"IF(B96<>0,0.1*D96/B96,\"\")","v":1.4762213410485634},{"$f":"IF(C96<>0,D96/C96,\"\")","v":29322.558550763119},{"$f":"IF(B96<>0,0.1*E96/B96,0)","v":0.90440338665927289},{"$f":"Adjust!B266*Input!$B182*10","v":57804447.357826427},{"$f":"Adjust!C266*Input!$C182*10","v":10757682.73629226},{"$f":"Adjust!D266*Input!$D182*10","v":773248.47454983846},{"$f":"IF(E96<>0,$L96/E96,\"\")","v":0.83369339796101249},{"$f":"IF(E96<>0,$M96/E96,\"\")","v":0.15515430878679118},{"$f":"IF(E96<>0,$N96/E96,\"\")","v":1.1152293252196306E-2},{"$f":"IF(D96<>0,$F96/D96,\"\")","v":9.8013616206939196E-3},{"$f":"IF(D96<>0,$G96/D96,\"\")","v":0.35580784897186069},{"$f":"IF(D96<>0,$H96/D96,\"\")","v":2.1743240214806628E-2}]
["LDNO HV: HV HH Metered",{"$f":"Input!B183+Input!C183+Input!D183","v":11969.335500455618},{"$f":"Input!E183","v":9.3654360899999993},{"$f":"0.01*Input!F$14*(Adjust!$E267*Input!E183+Adjust!$F267*Input!F183)+10*(Adjust!$B267*Input!B183+Adjust!$C267*Input!C183+Adjust!$D267*Input!D183+Adjust!$G267*Input!G183)","v":193727.43136955731},{"$f":"10*(Adjust!$B267*Input!B183+Adjust!$C267*Input!C183+Adjust!$D267*Input!D183)","v":118370.51816617994},{"$f":"Adjust!E267*Input!$F$14*Input!$E183/100","v":2281.7714353773749},{"$f":"Adjust!F267*Input!$F$14*Input!$F183/100","v":71393.999999999985},{"$f":"Adjust!G267*Input!$G183*10","v":1681.1417680000002},{"$f":"IF(B97<>0,0.1*D97/B97,\"\")","v":1.6185312155564775},{"$f":"IF(C97<>0,D97/C97,\"\")","v":20685.361525920925},{"$f":"IF(B97<>0,0.1*E97/B97,0)","v":0.98894811797759474},{"$f":"Adjust!B267*Input!$B183*10","v":102339.26206358901},{"$f":"Adjust!C267*Input!$C183*10","v":15123.758160940999},{"$f":"Adjust!D267*Input!$D183*10","v":907.49794164991829},{"$f":"IF(E97<>0,$L97/E97,\"\")","v":0.86456715446590582},{"$f":"IF(E97<>0,$M97/E97,\"\")","v":0.12776625797741975},{"$f":"IF(E97<>0,$N97/E97,\"\")","v":7.6665875566742491E-3},{"$f":"IF(D97<>0,$F97/D97,\"\")","v":1.1778256797431202E-2},{"$f":"IF(D97<>0,$G97/D97,\"\")","v":0.36852808864124015},{"$f":"IF(D97<>0,$H97/D97,\"\")","v":8.6778715647812896E-3}]
["> HV Sub HH Metered"]
["HV Sub HH Metered",{"$f":"Input!B185+Input!C185+Input!D185","v":0},{"$f":"Input!E185","v":0},{"$f":"0.01*Input!F$14*(Adjust!$E269*Input!E185+Adjust!$F269*Input!F185)+10*(Adjust!$B269*Input!B185+Adjust!$C269*Input!C185+Adjust!$D269*Input!D185+Adjust!$G269*Input!G185)","v":0},{"$f":"10*(Adjust!$B269*Input!B185+Adjust!$C269*Input!C185+Adjust!$D269*Input!D185)","v":0},{"$f":"Adjust!E269*Input!$F$14*Input!$E185/100","v":0},{"$f":"Adjust!F269*Input!$F$14*Input!$F185/100","v":0},{"$f":"Adjust!G269*Input!$G185*10","v":0},{"$f":"IF(B99<>0,0.1*D99/B99,\"\")","v":""},{"$f":"IF(C99<>0,D99/C99,\"\")","v":""},{"$f":"IF(B99<>0,0.1*E99/B99,0)","v":0},{"$f":"Adjust!B269*Input!$B185*10","v":0},{"$f":"Adjust!C269*Input!$C185*10","v":0},{"$f":"Adjust!D269*Input!$D185*10","v":0},{"$f":"IF(E99<>0,$L99/E99,\"\")","v":""},{"$f":"IF(E99<>0,$M99/E99,\"\")","v":""},{"$f":"IF(E99<>0,$N99/E99,\"\")","v":""},{"$f":"IF(D99<>0,$F99/D99,\"\")","v":""},{"$f":"IF(D99<>0,$G99/D99,\"\")","v":""},{"$f":"IF(D99<>0,$H99/D99,\"\")","v":""}]
["> NHH UMS category A"]
["NHH UMS category A",{"$f":"Input!B187+Input!C187+Input!D187","v":61702.110627965667},{"$f":"Input!E187","v":0},{"$f":"0.01*Input!F$14*(Adjust!$E271*Input!E187+Adjust!$F271*Input!F187)+10*(Adjust!$B271*Input!B187+Adjust!$C271*Input!C187+Adjust!$D271*Input!D187+Adjust!$G271*Input!G187)","v":1395084.7212983039},{"$f":"10*(Adjust!$B271*Input!B187+Adjust!$C271*Input!C187+Adjust!$D271*Input!D187)","v":1395084.7212983039},{"$f":"Adjust!E271*Input!$F$14*Input!$E187/100","v":0},{"$f":"Adjust!F271*Input!$F$14*Input!$F187/100","v":0},{"$f":"Adjust!G271*Input!$G187*10","v":0},{"$f":"IF(B101<>0,0.1*D101/B101,\"\")","v":2.2610000000000001},{"$f":"IF(C101<>0,D101/C101,\"\")","v":""},{"$f":"IF(B101<>0,0.1*E101/B101,0)","v":2.2610000000000001},{"$f":"Adjust!B271*Input!$B187*10","v":1395084.7212983039},{"$f":"Adjust!C271*Input!$C187*10","v":0},{"$f":"Adjust!D271*Input!$D187*10","v":0},{"$f":"IF(E101<>0,$L101/E101,\"\")","v":1},{"$f":"IF(E101<>0,$M101/E101,\"\")","v":0},{"$f":"IF(E101<>0,$N101/E101,\"\")","v":0},{"$f":"IF(D101<>0,$F101/D101,\"\")","v":0},{"$f":"IF(D101<>0,$G101/D101,\"\")","v":0},{"$f":"IF(D101<>0,$H101/D101,\"\")","v":0}]
["LDNO LV: NHH UMS category A",{"$f":"Input!B188+Input!C188+Input!D188","v":39.216175884002503},{"$f":"Input!E188","v":0},{"$f":"0.01*Input!F$14*(Adjust!$E272*Input!E188+Adjust!$F272*Input!F188)+10*(Adjust!$B272*Input!B188+Adjust!$C272*Input!C188+Adjust!$D272*Input!D188+Adjust!$G272*Input!G188)","v":612.94882906695909},{"$f":"10*(Adjust!$B272*Input!B188+Adjust!$C272*Input!C188+Adjust!$D272*Input!D188)","v":612.94882906695909},{"$f":"Adjust!E272*Input!$F$14*Input!$E188/100","v":0},{"$f":"Adjust!F272*Input!$F$14*Input!$F188/100","v":0},{"$f":"Adjust!G272*Input!$G188*10","v":0},{"$f":"IF(B102<>0,0.1*D102/B102,\"\")","v":1.5629999999999999},{"$f":"IF(C102<>0,D102/C102,\"\")","v":""},{"$f":"IF(B102<>0,0.1*E102/B102,0)","v":1.5629999999999999},{"$f":"Adjust!B272*Input!$B188*10","v":612.94882906695909},{"$f":"Adjust!C272*Input!$C188*10","v":0},{"$f":"Adjust!D272*Input!$D188*10","v":0},{"$f":"IF(E102<>0,$L102/E102,\"\")","v":1},{"$f":"IF(E102<>0,$M102/E102,\"\")","v":0},{"$f":"IF(E102<>0,$N102/E102,\"\")","v":0},{"$f":"IF(D102<>0,$F102/D102,\"\")","v":0},{"$f":"IF(D102<>0,$G102/D102,\"\")","v":0},{"$f":"IF(D102<>0,$H102/D102,\"\")","v":0}]
["LDNO HV: NHH UMS category A",{"$f":"Input!B189+Input!C189+Input!D189","v":179.30227418370185},{"$f":"Input!E189","v":0},{"$f":"0.01*Input!F$14*(Adjust!$E273*Input!E189+Adjust!$F273*Input!F189)+10*(Adjust!$B273*Input!B189+Adjust!$C273*Input!C189+Adjust!$D273*Input!D189+Adjust!$G273*Input!G189)","v":2024.3226755339938},{"$f":"10*(Adjust!$B273*Input!B189+Adjust!$C273*Input!C189+Adjust!$D273*Input!D189)","v":2024.3226755339938},{"$f":"Adjust!E273*Input!$F$14*Input!$E189/100","v":0},{"$f":"Adjust!F273*Input!$F$14*Input!$F189/100","v":0},{"$f":"Adjust!G273*Input!$G189*10","v":0},{"$f":"IF(B103<>0,0.1*D103/B103,\"\")","v":1.129},{"$f":"IF(C103<>0,D103/C103,\"\")","v":""},{"$f":"IF(B103<>0,0.1*E103/B103,0)","v":1.129},{"$f":"Adjust!B273*Input!$B189*10","v":2024.3226755339938},{"$f":"Adjust!C273*Input!$C189*10","v":0},{"$f":"Adjust!D273*Input!$D189*10","v":0},{"$f":"IF(E103<>0,$L103/E103,\"\")","v":1},{"$f":"IF(E103<>0,$M103/E103,\"\")","v":0},{"$f":"IF(E103<>0,$N103/E103,\"\")","v":0},{"$f":"IF(D103<>0,$F103/D103,\"\")","v":0},{"$f":"IF(D103<>0,$G103/D103,\"\")","v":0},{"$f":"IF(D103<>0,$H103/D103,\"\")","v":0}]
["> NHH UMS category B"]
["NHH UMS category B",{"$f":"Input!B191+Input!C191+Input!D191","v":32686.456295199947},{"$f":"Input!E191","v":0},{"$f":"0.01*Input!F$14*(Adjust!$E275*Input!E191+Adjust!$F275*Input!F191)+10*(Adjust!$B275*Input!B191+Adjust!$C275*Input!C191+Adjust!$D275*Input!D191+Adjust!$G275*Input!G191)","v":739694.50596037484},{"$f":"10*(Adjust!$B275*Input!B191+Adjust!$C275*Input!C191+Adjust!$D275*Input!D191)","v":739694.50596037484},{"$f":"Adjust!E275*Input!$F$14*Input!$E191/100","v":0},{"$f":"Adjust!F275*Input!$F$14*Input!$F191/100","v":0},{"$f":"Adjust!G275*Input!$G191*10","v":0},{"$f":"IF(B105<>0,0.1*D105/B105,\"\")","v":2.2629999999999999},{"$f":"IF(C105<>0,D105/C105,\"\")","v":""},{"$f":"IF(B105<>0,0.1*E105/B105,0)","v":2.2629999999999999},{"$f":"Adjust!B275*Input!$B191*10","v":739694.50596037484},{"$f":"Adjust!C275*Input!$C191*10","v":0},{"$f":"Adjust!D275*Input!$D191*10","v":0},{"$f":"IF(E105<>0,$L105/E105,\"\")","v":1},{"$f":"IF(E105<>0,$M105/E105,\"\")","v":0},{"$f":"IF(E105<>0,$N105/E105,\"\")","v":0},{"$f":"IF(D105<>0,$F105/D105,\"\")","v":0},{"$f":"IF(D105<>0,$G105/D105,\"\")","v":0},{"$f":"IF(D105<>0,$H105/D105,\"\")","v":0}]
["LDNO LV: NHH UMS category B",{"$f":"Input!B192+Input!C192+Input!D192","v":20.774618664606038},{"$f":"Input!E192","v":0},{"$f":"0.01*Input!F$14*(Adjust!$E276*Input!E192+Adjust!$F276*Input!F192)+10*(Adjust!$B276*Input!B192+Adjust!$C276*Input!C192+Adjust!$D276*Input!D192+Adjust!$G276*Input!G192)","v":324.91503591443848},{"$f":"10*(Adjust!$B276*Input!B192+Adjust!$C276*Input!C192+Adjust!$D276*Input!D192)","v":324.91503591443848},{"$f":"Adjust!E276*Input!$F$14*Input!$E192/100","v":0},{"$f":"Adjust!F276*Input!$F$14*Input!$F192/100","v":0},{"$f":"Adjust!G276*Input!$G192*10","v":0},{"$f":"IF(B106<>0,0.1*D106/B106,\"\")","v":1.5640000000000005},{"$f":"IF(C106<>0,D106/C106,\"\")","v":""},{"$f":"IF(B106<>0,0.1*E106/B106,0)","v":1.5640000000000005},{"$f":"Adjust!B276*Input!$B192*10","v":324.91503591443848},{"$f":"Adjust!C276*Input!$C192*10","v":0},{"$f":"Adjust!D276*Input!$D192*10","v":0},{"$f":"IF(E106<>0,$L106/E106,\"\")","v":1},{"$f":"IF(E106<>0,$M106/E106,\"\")","v":0},{"$f":"IF(E106<>0,$N106/E106,\"\")","v":0},{"$f":"IF(D106<>0,$F106/D106,\"\")","v":0},{"$f":"IF(D106<>0,$G106/D106,\"\")","v":0},{"$f":"IF(D106<>0,$H106/D106,\"\")","v":0}]
["LDNO HV: NHH UMS category B",{"$f":"Input!B193+Input!C193+Input!D193","v":94.98469159463761},{"$f":"Input!E193","v":0},{"$f":"0.01*Input!F$14*(Adjust!$E277*Input!E193+Adjust!$F277*Input!F193)+10*(Adjust!$B277*Input!B193+Adjust!$C277*Input!C193+Adjust!$D277*Input!D193+Adjust!$G277*Input!G193)","v":1073.3270150194048},{"$f":"10*(Adjust!$B277*Input!B193+Adjust!$C277*Input!C193+Adjust!$D277*Input!D193)","v":1073.3270150194048},{"$f":"Adjust!E277*Input!$F$14*Input!$E193/100","v":0},{"$f":"Adjust!F277*Input!$F$14*Input!$F193/100","v":0},{"$f":"Adjust!G277*Input!$G193*10","v":0},{"$f":"IF(B107<>0,0.1*D107/B107,\"\")","v":1.1299999999999999},{"$f":"IF(C107<>0,D107/C107,\"\")","v":""},{"$f":"IF(B107<>0,0.1*E107/B107,0)","v":1.1299999999999999},{"$f":"Adjust!B277*Input!$B193*10","v":1073.3270150194048},{"$f":"Adjust!C277*Input!$C193*10","v":0},{"$f":"Adjust!D277*Input!$D193*10","v":0},{"$f":"IF(E107<>0,$L107/E107,\"\")","v":1},{"$f":"IF(E107<>0,$M107/E107,\"\")","v":0},{"$f":"IF(E107<>0,$N107/E107,\"\")","v":0},{"$f":"IF(D107<>0,$F107/D107,\"\")","v":0},{"$f":"IF(D107<>0,$G107/D107,\"\")","v":0},{"$f":"IF(D107<>0,$H107/D107,\"\")","v":0}]
["> NHH UMS category C"]
["NHH UMS category C",{"$f":"Input!B195+Input!C195+Input!D195","v":745.33107683943331},{"$f":"Input!E195","v":0},{"$f":"0.01*Input!F$14*(Adjust!$E279*Input!E195+Adjust!$F279*Input!F195)+10*(Adjust!$B279*Input!B195+Adjust!$C279*Input!C195+Adjust!$D279*Input!D195+Adjust!$G279*Input!G195)","v":26951.171738513909},{"$f":"10*(Adjust!$B279*Input!B195+Adjust!$C279*Input!C195+Adjust!$D279*Input!D195)","v":26951.171738513909},{"$f":"Adjust!E279*Input!$F$14*Input!$E195/100","v":0},{"$f":"Adjust!F279*Input!$F$14*Input!$F195/100","v":0},{"$f":"Adjust!G279*Input!$G195*10","v":0},{"$f":"IF(B109<>0,0.1*D109/B109,\"\")","v":3.6160000000000005},{"$f":"IF(C109<>0,D109/C109,\"\")","v":""},{"$f":"IF(B109<>0,0.1*E109/B109,0)","v":3.6160000000000005},{"$f":"Adjust!B279*Input!$B195*10","v":26951.171738513909},{"$f":"Adjust!C279*Input!$C195*10","v":0},{"$f":"Adjust!D279*Input!$D195*10","v":0},{"$f":"IF(E109<>0,$L109/E109,\"\")","v":1},{"$f":"IF(E109<>0,$M109/E109,\"\")","v":0},{"$f":"IF(E109<>0,$N109/E109,\"\")","v":0},{"$f":"IF(D109<>0,$F109/D109,\"\")","v":0},{"$f":"IF(D109<>0,$G109/D109,\"\")","v":0},{"$f":"IF(D109<>0,$H109/D109,\"\")","v":0}]
["LDNO LV: NHH UMS category C",{"$f":"Input!B196+Input!C196+Input!D196","v":0.47371207084609079},{"$f":"Input!E196","v":0},{"$f":"0.01*Input!F$14*(Adjust!$E280*Input!E196+Adjust!$F280*Input!F196)+10*(Adjust!$B280*Input!B196+Adjust!$C280*Input!C196+Adjust!$D280*Input!D196+Adjust!$G280*Input!G196)","v":11.838064650443808},{"$f":"10*(Adjust!$B280*Input!B196+Adjust!$C280*Input!C196+Adjust!$D280*Input!D196)","v":11.838064650443808},{"$f":"Adjust!E280*Input!$F$14*Input!$E196/100","v":0},{"$f":"Adjust!F280*Input!$F$14*Input!$F196/100","v":0},{"$f":"Adjust!G280*Input!$G196*10","v":0},{"$f":"IF(B110<>0,0.1*D110/B110,\"\")","v":2.4990000000000001},{"$f":"IF(C110<>0,D110/C110,\"\")","v":""},{"$f":"IF(B110<>0,0.1*E110/B110,0)","v":2.4990000000000001},{"$f":"Adjust!B280*Input!$B196*10","v":11.838064650443808},{"$f":"Adjust!C280*Input!$C196*10","v":0},{"$f":"Adjust!D280*Input!$D196*10","v":0},{"$f":"IF(E110<>0,$L110/E110,\"\")","v":1},{"$f":"IF(E110<>0,$M110/E110,\"\")","v":0},{"$f":"IF(E110<>0,$N110/E110,\"\")","v":0},{"$f":"IF(D110<>0,$F110/D110,\"\")","v":0},{"$f":"IF(D110<>0,$G110/D110,\"\")","v":0},{"$f":"IF(D110<>0,$H110/D110,\"\")","v":0}]
["LDNO HV: NHH UMS category C",{"$f":"Input!B197+Input!C197+Input!D197","v":2.165883074938566},{"$f":"Input!E197","v":0},{"$f":"0.01*Input!F$14*(Adjust!$E281*Input!E197+Adjust!$F281*Input!F197)+10*(Adjust!$B281*Input!B197+Adjust!$C281*Input!C197+Adjust!$D281*Input!D197+Adjust!$G281*Input!G197)","v":39.094189502641115},{"$f":"10*(Adjust!$B281*Input!B197+Adjust!$C281*Input!C197+Adjust!$D281*Input!D197)","v":39.094189502641115},{"$f":"Adjust!E281*Input!$F$14*Input!$E197/100","v":0},{"$f":"Adjust!F281*Input!$F$14*Input!$F197/100","v":0},{"$f":"Adjust!G281*Input!$G197*10","v":0},{"$f":"IF(B111<>0,0.1*D111/B111,\"\")","v":1.8049999999999999},{"$f":"IF(C111<>0,D111/C111,\"\")","v":""},{"$f":"IF(B111<>0,0.1*E111/B111,0)","v":1.8049999999999999},{"$f":"Adjust!B281*Input!$B197*10","v":39.094189502641115},{"$f":"Adjust!C281*Input!$C197*10","v":0},{"$f":"Adjust!D281*Input!$D197*10","v":0},{"$f":"IF(E111<>0,$L111/E111,\"\")","v":1},{"$f":"IF(E111<>0,$M111/E111,\"\")","v":0},{"$f":"IF(E111<>0,$N111/E111,\"\")","v":0},{"$f":"IF(D111<>0,$F111/D111,\"\")","v":0},{"$f":"IF(D111<>0,$G111/D111,\"\")","v":0},{"$f":"IF(D111<>0,$H111/D111,\"\")","v":0}]
["> NHH UMS category D"]
["NHH UMS category D",{"$f":"Input!B199+Input!C199+Input!D199","v":5299.2504885482813},{"$f":"Input!E199","v":0},{"$f":"0.01*Input!F$14*(Adjust!$E283*Input!E199+Adjust!$F283*Input!F199)+10*(Adjust!$B283*Input!B199+Adjust!$C283*Input!C199+Adjust!$D283*Input!D199+Adjust!$G283*Input!G199)","v":124479.39397599913},{"$f":"10*(Adjust!$B283*Input!B199+Adjust!$C283*Input!C199+Adjust!$D283*Input!D199)","v":124479.39397599913},{"$f":"Adjust!E283*Input!$F$14*Input!$E199/100","v":0},{"$f":"Adjust!F283*Input!$F$14*Input!$F199/100","v":0},{"$f":"Adjust!G283*Input!$G199*10","v":0},{"$f":"IF(B113<>0,0.1*D113/B113,\"\")","v":2.3490000000000002},{"$f":"IF(C113<>0,D113/C113,\"\")","v":""},{"$f":"IF(B113<>0,0.1*E113/B113,0)","v":2.3490000000000002},{"$f":"Adjust!B283*Input!$B199*10","v":124479.39397599913},{"$f":"Adjust!C283*Input!$C199*10","v":0},{"$f":"Adjust!D283*Input!$D199*10","v":0},{"$f":"IF(E113<>0,$L113/E113,\"\")","v":1},{"$f":"IF(E113<>0,$M113/E113,\"\")","v":0},{"$f":"IF(E113<>0,$N113/E113,\"\")","v":0},{"$f":"IF(D113<>0,$F113/D113,\"\")","v":0},{"$f":"IF(D113<>0,$G113/D113,\"\")","v":0},{"$f":"IF(D113<>0,$H113/D113,\"\")","v":0}]
["LDNO LV: NHH UMS category D",{"$f":"Input!B200+Input!C200+Input!D200","v":3.36805884105536},{"$f":"Input!E200","v":0},{"$f":"0.01*Input!F$14*(Adjust!$E284*Input!E200+Adjust!$F284*Input!F200)+10*(Adjust!$B284*Input!B200+Adjust!$C284*Input!C200+Adjust!$D284*Input!D200+Adjust!$G284*Input!G200)","v":54.697275578739053},{"$f":"10*(Adjust!$B284*Input!B200+Adjust!$C284*Input!C200+Adjust!$D284*Input!D200)","v":54.697275578739053},{"$f":"Adjust!E284*Input!$F$14*Input!$E200/100","v":0},{"$f":"Adjust!F284*Input!$F$14*Input!$F200/100","v":0},{"$f":"Adjust!G284*Input!$G200*10","v":0},{"$f":"IF(B114<>0,0.1*D114/B114,\"\")","v":1.6240000000000003},{"$f":"IF(C114<>0,D114/C114,\"\")","v":""},{"$f":"IF(B114<>0,0.1*E114/B114,0)","v":1.6240000000000003},{"$f":"Adjust!B284*Input!$B200*10","v":54.697275578739053},{"$f":"Adjust!C284*Input!$C200*10","v":0},{"$f":"Adjust!D284*Input!$D200*10","v":0},{"$f":"IF(E114<>0,$L114/E114,\"\")","v":1},{"$f":"IF(E114<>0,$M114/E114,\"\")","v":0},{"$f":"IF(E114<>0,$N114/E114,\"\")","v":0},{"$f":"IF(D114<>0,$F114/D114,\"\")","v":0},{"$f":"IF(D114<>0,$G114/D114,\"\")","v":0},{"$f":"IF(D114<>0,$H114/D114,\"\")","v":0}]
["LDNO HV: NHH UMS category D",{"$f":"Input!B201+Input!C201+Input!D201","v":15.399273288961847},{"$f":"Input!E201","v":0},{"$f":"0.01*Input!F$14*(Adjust!$E285*Input!E201+Adjust!$F285*Input!F201)+10*(Adjust!$B285*Input!B201+Adjust!$C285*Input!C201+Adjust!$D285*Input!D201+Adjust!$G285*Input!G201)","v":180.63347567952249},{"$f":"10*(Adjust!$B285*Input!B201+Adjust!$C285*Input!C201+Adjust!$D285*Input!D201)","v":180.63347567952249},{"$f":"Adjust!E285*Input!$F$14*Input!$E201/100","v":0},{"$f":"Adjust!F285*Input!$F$14*Input!$F201/100","v":0},{"$f":"Adjust!G285*Input!$G201*10","v":0},{"$f":"IF(B115<>0,0.1*D115/B115,\"\")","v":1.173},{"$f":"IF(C115<>0,D115/C115,\"\")","v":""},{"$f":"IF(B115<>0,0.1*E115/B115,0)","v":1.173},{"$f":"Adjust!B285*Input!$B201*10","v":180.63347567952249},{"$f":"Adjust!C285*Input!$C201*10","v":0},{"$f":"Adjust!D285*Input!$D201*10","v":0},{"$f":"IF(E115<>0,$L115/E115,\"\")","v":1},{"$f":"IF(E115<>0,$M115/E115,\"\")","v":0},{"$f":"IF(E115<>0,$N115/E115,\"\")","v":0},{"$f":"IF(D115<>0,$F115/D115,\"\")","v":0},{"$f":"IF(D115<>0,$G115/D115,\"\")","v":0},{"$f":"IF(D115<>0,$H115/D115,\"\")","v":0}]
["> LV UMS (Pseudo HH Metered)"]
["LV UMS (Pseudo HH Metered)",{"$f":"Input!B203+Input!C203+Input!D203","v":237973.60245663638},{"$f":"Input!E203","v":0},{"$f":"0.01*Input!F$14*(Adjust!$E287*Input!E203+Adjust!$F287*Input!F203)+10*(Adjust!$B287*Input!B203+Adjust!$C287*Input!C203+Adjust!$D287*Input!D203+Adjust!$G287*Input!G203)","v":5425736.6810707599},{"$f":"10*(Adjust!$B287*Input!B203+Adjust!$C287*Input!C203+Adjust!$D287*Input!D203)","v":5425736.6810707599},{"$f":"Adjust!E287*Input!$F$14*Input!$E203/100","v":0},{"$f":"Adjust!F287*Input!$F$14*Input!$F203/100","v":0},{"$f":"Adjust!G287*Input!$G203*10","v":0},{"$f":"IF(B117<>0,0.1*D117/B117,\"\")","v":2.2799741757321335},{"$f":"IF(C117<>0,D117/C117,\"\")","v":""},{"$f":"IF(B117<>0,0.1*E117/B117,0)","v":2.2799741757321335},{"$f":"Adjust!B287*Input!$B203*10","v":3040161.9280117885},{"$f":"Adjust!C287*Input!$C203*10","v":689951.40175871248},{"$f":"Adjust!D287*Input!$D203*10","v":1695623.3513002589},{"$f":"IF(E117<>0,$L117/E117,\"\")","v":0.56032242379514408},{"$f":"IF(E117<>0,$M117/E117,\"\")","v":0.12716271398975296},{"$f":"IF(E117<>0,$N117/E117,\"\")","v":0.312514862215103},{"$f":"IF(D117<>0,$F117/D117,\"\")","v":0},{"$f":"IF(D117<>0,$G117/D117,\"\")","v":0},{"$f":"IF(D117<>0,$H117/D117,\"\")","v":0}]
["LDNO LV: LV UMS (Pseudo HH Metered)",{"$f":"Input!B204+Input!C204+Input!D204","v":0},{"$f":"Input!E204","v":0},{"$f":"0.01*Input!F$14*(Adjust!$E288*Input!E204+Adjust!$F288*Input!F204)+10*(Adjust!$B288*Input!B204+Adjust!$C288*Input!C204+Adjust!$D288*Input!D204+Adjust!$G288*Input!G204)","v":0},{"$f":"10*(Adjust!$B288*Input!B204+Adjust!$C288*Input!C204+Adjust!$D288*Input!D204)","v":0},{"$f":"Adjust!E288*Input!$F$14*Input!$E204/100","v":0},{"$f":"Adjust!F288*Input!$F$14*Input!$F204/100","v":0},{"$f":"Adjust!G288*Input!$G204*10","v":0},{"$f":"IF(B118<>0,0.1*D118/B118,\"\")","v":""},{"$f":"IF(C118<>0,D118/C118,\"\")","v":""},{"$f":"IF(B118<>0,0.1*E118/B118,0)","v":0},{"$f":"Adjust!B288*Input!$B204*10","v":0},{"$f":"Adjust!C288*Input!$C204*10","v":0},{"$f":"Adjust!D288*Input!$D204*10","v":0},{"$f":"IF(E118<>0,$L118/E118,\"\")","v":""},{"$f":"IF(E118<>0,$M118/E118,\"\")","v":""},{"$f":"IF(E118<>0,$N118/E118,\"\")","v":""},{"$f":"IF(D118<>0,$F118/D118,\"\")","v":""},{"$f":"IF(D118<>0,$G118/D118,\"\")","v":""},{"$f":"IF(D118<>0,$H118/D118,\"\")","v":""}]
["LDNO HV: LV UMS (Pseudo HH Metered)",{"$f":"Input!B205+Input!C205+Input!D205","v":0},{"$f":"Input!E205","v":0},{"$f":"0.01*Input!F$14*(Adjust!$E289*Input!E205+Adjust!$F289*Input!F205)+10*(Adjust!$B289*Input!B205+Adjust!$C289*Input!C205+Adjust!$D289*Input!D205+Adjust!$G289*Input!G205)","v":0},{"$f":"10*(Adjust!$B289*Input!B205+Adjust!$C289*Input!C205+Adjust!$D289*Input!D205)","v":0},{"$f":"Adjust!E289*Input!$F$14*Input!$E205/100","v":0},{"$f":"Adjust!F289*Input!$F$14*Input!$F205/100","v":0},{"$f":"Adjust!G289*Input!$G205*10","v":0},{"$f":"IF(B119<>0,0.1*D119/B119,\"\")","v":""},{"$f":"IF(C119<>0,D119/C119,\"\")","v":""},{"$f":"IF(B119<>0,0.1*E119/B119,0)","v":0},{"$f":"Adjust!B289*Input!$B205*10","v":0},{"$f":"Adjust!C289*Input!$C205*10","v":0},{"$f":"Adjust!D289*Input!$D205*10","v":0},{"$f":"IF(E119<>0,$L119/E119,\"\")","v":""},{"$f":"IF(E119<>0,$M119/E119,\"\")","v":""},{"$f":"IF(E119<>0,$N119/E119,\"\")","v":""},{"$f":"IF(D119<>0,$F119/D119,\"\")","v":""},{"$f":"IF(D119<>0,$G119/D119,\"\")","v":""},{"$f":"IF(D119<>0,$H119/D119,\"\")","v":""}]
["> LV Generation NHH"]
["LV Generation NHH",{"$f":"Input!B207+Input!C207+Input!D207","v":427.11844929038995},{"$f":"Input!E207","v":99.897984960000016},{"$f":"0.01*Input!F$14*(Adjust!$E291*Input!E207+Adjust!$F291*Input!F207)+10*(Adjust!$B291*Input!B207+Adjust!$C291*Input!C207+Adjust!$D291*Input!D207+Adjust!$G291*Input!G207)","v":-2793.3546583591506},{"$f":"10*(Adjust!$B291*Input!B207+Adjust!$C291*Input!C207+Adjust!$D291*Input!D207)","v":-2793.3546583591506},{"$f":"Adjust!E291*Input!$F$14*Input!$E207/100","v":0},{"$f":"Adjust!F291*Input!$F$14*Input!$F207/100","v":0},{"$f":"Adjust!G291*Input!$G207*10","v":0},{"$f":"IF(B121<>0,0.1*D121/B121,\"\")","v":-0.65400000000000003},{"$f":"IF(C121<>0,D121/C121,\"\")","v":-27.962072102631829},{"$f":"IF(B121<>0,0.1*E121/B121,0)","v":-0.65400000000000003},{"$f":"Adjust!B291*Input!$B207*10","v":-2793.3546583591506},{"$f":"Adjust!C291*Input!$C207*10","v":0},{"$f":"Adjust!D291*Input!$D207*10","v":0},{"$f":"IF(E121<>0,$L121/E121,\"\")","v":1},{"$f":"IF(E121<>0,$M121/E121,\"\")","v":0},{"$f":"IF(E121<>0,$N121/E121,\"\")","v":0},{"$f":"IF(D121<>0,$F121/D121,\"\")","v":0},{"$f":"IF(D121<>0,$G121/D121,\"\")","v":0},{"$f":"IF(D121<>0,$H121/D121,\"\")","v":0}]
["LDNO LV: LV Generation NHH",{"$f":"Input!B208+Input!C208+Input!D208","v":0},{"$f":"Input!E208","v":0},{"$f":"0.01*Input!F$14*(Adjust!$E292*Input!E208+Adjust!$F292*Input!F208)+10*(Adjust!$B292*Input!B208+Adjust!$C292*Input!C208+Adjust!$D292*Input!D208+Adjust!$G292*Input!G208)","v":0},{"$f":"10*(Adjust!$B292*Input!B208+Adjust!$C292*Input!C208+Adjust!$D292*Input!D208)","v":0},{"$f":"Adjust!E292*Input!$F$14*Input!$E208/100","v":0},{"$f":"Adjust!F292*Input!$F$14*Input!$F208/100","v":0},{"$f":"Adjust!G292*Input!$G208*10","v":0},{"$f":"IF(B122<>0,0.1*D122/B122,\"\")","v":""},{"$f":"IF(C122<>0,D122/C122,\"\")","v":""},{"$f":"IF(B122<>0,0.1*E122/B122,0)","v":0},{"$f":"Adjust!B292*Input!$B208*10","v":0},{"$f":"Adjust!C292*Input!$C208*10","v":0},{"$f":"Adjust!D292*Input!$D208*10","v":0},{"$f":"IF(E122<>0,$L122/E122,\"\")","v":""},{"$f":"IF(E122<>0,$M122/E122,\"\")","v":""},{"$f":"IF(E122<>0,$N122/E122,\"\")","v":""},{"$f":"IF(D122<>0,$F122/D122,\"\")","v":""},{"$f":"IF(D122<>0,$G122/D122,\"\")","v":""},{"$f":"IF(D122<>0,$H122/D122,\"\")","v":""}]
["LDNO HV: LV Generation NHH",{"$f":"Input!B209+Input!C209+Input!D209","v":0},{"$f":"Input!E209","v":0},{"$f":"0.01*Input!F$14*(Adjust!$E293*Input!E209+Adjust!$F293*Input!F209)+10*(Adjust!$B293*Input!B209+Adjust!$C293*Input!C209+Adjust!$D293*Input!D209+Adjust!$G293*Input!G209)","v":0},{"$f":"10*(Adjust!$B293*Input!B209+Adjust!$C293*Input!C209+Adjust!$D293*Input!D209)","v":0},{"$f":"Adjust!E293*Input!$F$14*Input!$E209/100","v":0},{"$f":"Adjust!F293*Input!$F$14*Input!$F209/100","v":0},{"$f":"Adjust!G293*Input!$G209*10","v":0},{"$f":"IF(B123<>0,0.1*D123/B123,\"\")","v":""},{"$f":"IF(C123<>0,D123/C123,\"\")","v":""},{"$f":"IF(B123<>0,0.1*E123/B123,0)","v":0},{"$f":"Adjust!B293*Input!$B209*10","v":0},{"$f":"Adjust!C293*Input!$C209*10","v":0},{"$f":"Adjust!D293*Input!$D209*10","v":0},{"$f":"IF(E123<>0,$L123/E123,\"\")","v":""},{"$f":"IF(E123<>0,$M123/E123,\"\")","v":""},{"$f":"IF(E123<>0,$N123/E123,\"\")","v":""},{"$f":"IF(D123<>0,$F123/D123,\"\")","v":""},{"$f":"IF(D123<>0,$G123/D123,\"\")","v":""},{"$f":"IF(D123<>0,$H123/D123,\"\")","v":""}]
["> LV Sub Generation NHH"]
["LV Sub Generation NHH",{"$f":"Input!B211+Input!C211+Input!D211","v":0},{"$f":"Input!E211","v":0},{"$f":"0.01*Input!F$14*(Adjust!$E295*Input!E211+Adjust!$F295*Input!F211)+10*(Adjust!$B295*Input!B211+Adjust!$C295*Input!C211+Adjust!$D295*Input!D211+Adjust!$G295*Input!G211)","v":0},{"$f":"10*(Adjust!$B295*Input!B211+Adjust!$C295*Input!C211+Adjust!$D295*Input!D211)","v":0},{"$f":"Adjust!E295*Input!$F$14*Input!$E211/100","v":0},{"$f":"Adjust!F295*Input!$F$14*Input!$F211/100","v":0},{"$f":"Adjust!G295*Input!$G211*10","v":0},{"$f":"IF(B125<>0,0.1*D125/B125,\"\")","v":""},{"$f":"IF(C125<>0,D125/C125,\"\")","v":""},{"$f":"IF(B125<>0,0.1*E125/B125,0)","v":0},{"$f":"Adjust!B295*Input!$B211*10","v":0},{"$f":"Adjust!C295*Input!$C211*10","v":0},{"$f":"Adjust!D295*Input!$D211*10","v":0},{"$f":"IF(E125<>0,$L125/E125,\"\")","v":""},{"$f":"IF(E125<>0,$M125/E125,\"\")","v":""},{"$f":"IF(E125<>0,$N125/E125,\"\")","v":""},{"$f":"IF(D125<>0,$F125/D125,\"\")","v":""},{"$f":"IF(D125<>0,$G125/D125,\"\")","v":""},{"$f":"IF(D125<>0,$H125/D125,\"\")","v":""}]
["LDNO HV: LV Sub Generation NHH",{"$f":"Input!B212+Input!C212+Input!D212","v":0},{"$f":"Input!E212","v":0},{"$f":"0.01*Input!F$14*(Adjust!$E296*Input!E212+Adjust!$F296*Input!F212)+10*(Adjust!$B296*Input!B212+Adjust!$C296*Input!C212+Adjust!$D296*Input!D212+Adjust!$G296*Input!G212)","v":0},{"$f":"10*(Adjust!$B296*Input!B212+Adjust!$C296*Input!C212+Adjust!$D296*Input!D212)","v":0},{"$f":"Adjust!E296*Input!$F$14*Input!$E212/100","v":0},{"$f":"Adjust!F296*Input!$F$14*Input!$F212/100","v":0},{"$f":"Adjust!G296*Input!$G212*10","v":0},{"$f":"IF(B126<>0,0.1*D126/B126,\"\")","v":""},{"$f":"IF(C126<>0,D126/C126,\"\")","v":""},{"$f":"IF(B126<>0,0.1*E126/B126,0)","v":0},{"$f":"Adjust!B296*Input!$B212*10","v":0},{"$f":"Adjust!C296*Input!$C212*10","v":0},{"$f":"Adjust!D296*Input!$D212*10","v":0},{"$f":"IF(E126<>0,$L126/E126,\"\")","v":""},{"$f":"IF(E126<>0,$M126/E126,\"\")","v":""},{"$f":"IF(E126<>0,$N126/E126,\"\")","v":""},{"$f":"IF(D126<>0,$F126/D126,\"\")","v":""},{"$f":"IF(D126<>0,$G126/D126,\"\")","v":""},{"$f":"IF(D126<>0,$H126/D126,\"\")","v":""}]
["> LV Generation Intermittent"]
["LV Generation Intermittent",{"$f":"Input!B214+Input!C214+Input!D214","v":44.835818766750009},{"$f":"Input!E214","v":20.8120802},{"$f":"0.01*Input!F$14*(Adjust!$E298*Input!E214+Adjust!$F298*Input!F214)+10*(Adjust!$B298*Input!B214+Adjust!$C298*Input!C214+Adjust!$D298*Input!D214+Adjust!$G298*Input!G214)","v":-258.96301473454508},{"$f":"10*(Adjust!$B298*Input!B214+Adjust!$C298*Input!C214+Adjust!$D298*Input!D214)","v":-293.22625473454508},{"$f":"Adjust!E298*Input!$F$14*Input!$E214/100","v":0},{"$f":"Adjust!F298*Input!$F$14*Input!$F214/100","v":0},{"$f":"Adjust!G298*Input!$G214*10","v":34.263240000000003},{"$f":"IF(B128<>0,0.1*D128/B128,\"\")","v":-0.5775806528297206},{"$f":"IF(C128<>0,D128/C128,\"\")","v":-12.442918355395587},{"$f":"IF(B128<>0,0.1*E128/B128,0)","v":-0.65400000000000003},{"$f":"Adjust!B298*Input!$B214*10","v":-293.22625473454508},{"$f":"Adjust!C298*Input!$C214*10","v":0},{"$f":"Adjust!D298*Input!$D214*10","v":0},{"$f":"IF(E128<>0,$L128/E128,\"\")","v":1},{"$f":"IF(E128<>0,$M128/E128,\"\")","v":0},{"$f":"IF(E128<>0,$N128/E128,\"\")","v":0},{"$f":"IF(D128<>0,$F128/D128,\"\")","v":0},{"$f":"IF(D128<>0,$G128/D128,\"\")","v":0},{"$f":"IF(D128<>0,$H128/D128,\"\")","v":-0.13230939574565187}]
["LDNO LV: LV Generation Intermittent",{"$f":"Input!B215+Input!C215+Input!D215","v":0},{"$f":"Input!E215","v":0},{"$f":"0.01*Input!F$14*(Adjust!$E299*Input!E215+Adjust!$F299*Input!F215)+10*(Adjust!$B299*Input!B215+Adjust!$C299*Input!C215+Adjust!$D299*Input!D215+Adjust!$G299*Input!G215)","v":0},{"$f":"10*(Adjust!$B299*Input!B215+Adjust!$C299*Input!C215+Adjust!$D299*Input!D215)","v":0},{"$f":"Adjust!E299*Input!$F$14*Input!$E215/100","v":0},{"$f":"Adjust!F299*Input!$F$14*Input!$F215/100","v":0},{"$f":"Adjust!G299*Input!$G215*10","v":0},{"$f":"IF(B129<>0,0.1*D129/B129,\"\")","v":""},{"$f":"IF(C129<>0,D129/C129,\"\")","v":""},{"$f":"IF(B129<>0,0.1*E129/B129,0)","v":0},{"$f":"Adjust!B299*Input!$B215*10","v":0},{"$f":"Adjust!C299*Input!$C215*10","v":0},{"$f":"Adjust!D299*Input!$D215*10","v":0},{"$f":"IF(E129<>0,$L129/E129,\"\")","v":""},{"$f":"IF(E129<>0,$M129/E129,\"\")","v":""},{"$f":"IF(E129<>0,$N129/E129,\"\")","v":""},{"$f":"IF(D129<>0,$F129/D129,\"\")","v":""},{"$f":"IF(D129<>0,$G129/D129,\"\")","v":""},{"$f":"IF(D129<>0,$H129/D129,\"\")","v":""}]
["LDNO HV: LV Generation Intermittent",{"$f":"Input!B216+Input!C216+Input!D216","v":0},{"$f":"Input!E216","v":0},{"$f":"0.01*Input!F$14*(Adjust!$E300*Input!E216+Adjust!$F300*Input!F216)+10*(Adjust!$B300*Input!B216+Adjust!$C300*Input!C216+Adjust!$D300*Input!D216+Adjust!$G300*Input!G216)","v":0},{"$f":"10*(Adjust!$B300*Input!B216+Adjust!$C300*Input!C216+Adjust!$D300*Input!D216)","v":0},{"$f":"Adjust!E300*Input!$F$14*Input!$E216/100","v":0},{"$f":"Adjust!F300*Input!$F$14*Input!$F216/100","v":0},{"$f":"Adjust!G300*Input!$G216*10","v":0},{"$f":"IF(B130<>0,0.1*D130/B130,\"\")","v":""},{"$f":"IF(C130<>0,D130/C130,\"\")","v":""},{"$f":"IF(B130<>0,0.1*E130/B130,0)","v":0},{"$f":"Adjust!B300*Input!$B216*10","v":0},{"$f":"Adjust!C300*Input!$C216*10","v":0},{"$f":"Adjust!D300*Input!$D216*10","v":0},{"$f":"IF(E130<>0,$L130/E130,\"\")","v":""},{"$f":"IF(E130<>0,$M130/E130,\"\")","v":""},{"$f":"IF(E130<>0,$N130/E130,\"\")","v":""},{"$f":"IF(D130<>0,$F130/D130,\"\")","v":""},{"$f":"IF(D130<>0,$G130/D130,\"\")","v":""},{"$f":"IF(D130<>0,$H130/D130,\"\")","v":""}]
["> LV Generation Non-Intermittent"]
["LV Generation Non-Intermittent",{"$f":"Input!B218+Input!C218+Input!D218","v":2451.9462910212596},{"$f":"Input!E218","v":59.314428569999997},{"$f":"0.01*Input!F$14*(Adjust!$E302*Input!E218+Adjust!$F302*Input!F218)+10*(Adjust!$B302*Input!B218+Adjust!$C302*Input!C218+Adjust!$D302*Input!D218+Adjust!$G302*Input!G218)","v":-16370.530970958933},{"$f":"10*(Adjust!$B302*Input!B218+Adjust!$C302*Input!C218+Adjust!$D302*Input!D218)","v":-16542.775158958932},{"$f":"Adjust!E302*Input!$F$14*Input!$E218/100","v":0},{"$f":"Adjust!F302*Input!$F$14*Input!$F218/100","v":0},{"$f":"Adjust!G302*Input!$G218*10","v":172.24418799999998},{"$f":"IF(B132<>0,0.1*D132/B132,\"\")","v":-0.6676545498123635},{"$f":"IF(C132<>0,D132/C132,\"\")","v":-275.99576301471456},{"$f":"IF(B132<>0,0.1*E132/B132,0)","v":-0.67467934430442622},{"$f":"Adjust!B302*Input!$B218*10","v":-11278.787985150955},{"$f":"Adjust!C302*Input!$C218*10","v":-4418.1698608310071},{"$f":"Adjust!D302*Input!$D218*10","v":-845.81731297697036},{"$f":"IF(E132<>0,$L132/E132,\"\")","v":0.68179539870266548},{"$f":"IF(E132<>0,$M132/E132,\"\")","v":0.26707549479316328},{"$f":"IF(E132<>0,$N132/E132,\"\")","v":5.1129106504171289E-2},{"$f":"IF(D132<>0,$F132/D132,\"\")","v":0},{"$f":"IF(D132<>0,$G132/D132,\"\")","v":0},{"$f":"IF(D132<>0,$H132/D132,\"\")","v":-1.0521600570290512E-2}]
["LDNO LV: LV Generation Non-Intermittent",{"$f":"Input!B219+Input!C219+Input!D219","v":0},{"$f":"Input!E219","v":0},{"$f":"0.01*Input!F$14*(Adjust!$E303*Input!E219+Adjust!$F303*Input!F219)+10*(Adjust!$B303*Input!B219+Adjust!$C303*Input!C219+Adjust!$D303*Input!D219+Adjust!$G303*Input!G219)","v":0},{"$f":"10*(Adjust!$B303*Input!B219+Adjust!$C303*Input!C219+Adjust!$D303*Input!D219)","v":0},{"$f":"Adjust!E303*Input!$F$14*Input!$E219/100","v":0},{"$f":"Adjust!F303*Input!$F$14*Input!$F219/100","v":0},{"$f":"Adjust!G303*Input!$G219*10","v":0},{"$f":"IF(B133<>0,0.1*D133/B133,\"\")","v":""},{"$f":"IF(C133<>0,D133/C133,\"\")","v":""},{"$f":"IF(B133<>0,0.1*E133/B133,0)","v":0},{"$f":"Adjust!B303*Input!$B219*10","v":0},{"$f":"Adjust!C303*Input!$C219*10","v":0},{"$f":"Adjust!D303*Input!$D219*10","v":0},{"$f":"IF(E133<>0,$L133/E133,\"\")","v":""},{"$f":"IF(E133<>0,$M133/E133,\"\")","v":""},{"$f":"IF(E133<>0,$N133/E133,\"\")","v":""},{"$f":"IF(D133<>0,$F133/D133,\"\")","v":""},{"$f":"IF(D133<>0,$G133/D133,\"\")","v":""},{"$f":"IF(D133<>0,$H133/D133,\"\")","v":""}]
["LDNO HV: LV Generation Non-Intermittent",{"$f":"Input!B220+Input!C220+Input!D220","v":0},{"$f":"Input!E220","v":0},{"$f":"0.01*Input!F$14*(Adjust!$E304*Input!E220+Adjust!$F304*Input!F220)+10*(Adjust!$B304*Input!B220+Adjust!$C304*Input!C220+Adjust!$D304*Input!D220+Adjust!$G304*Input!G220)","v":0},{"$f":"10*(Adjust!$B304*Input!B220+Adjust!$C304*Input!C220+Adjust!$D304*Input!D220)","v":0},{"$f":"Adjust!E304*Input!$F$14*Input!$E220/100","v":0},{"$f":"Adjust!F304*Input!$F$14*Input!$F220/100","v":0},{"$f":"Adjust!G304*Input!$G220*10","v":0},{"$f":"IF(B134<>0,0.1*D134/B134,\"\")","v":""},{"$f":"IF(C134<>0,D134/C134,\"\")","v":""},{"$f":"IF(B134<>0,0.1*E134/B134,0)","v":0},{"$f":"Adjust!B304*Input!$B220*10","v":0},{"$f":"Adjust!C304*Input!$C220*10","v":0},{"$f":"Adjust!D304*Input!$D220*10","v":0},{"$f":"IF(E134<>0,$L134/E134,\"\")","v":""},{"$f":"IF(E134<>0,$M134/E134,\"\")","v":""},{"$f":"IF(E134<>0,$N134/E134,\"\")","v":""},{"$f":"IF(D134<>0,$F134/D134,\"\")","v":""},{"$f":"IF(D134<>0,$G134/D134,\"\")","v":""},{"$f":"IF(D134<>0,$H134/D134,\"\")","v":""}]
["> LV Sub Generation Intermittent"]
["LV Sub Generation Intermittent",{"$f":"Input!B222+Input!C222+Input!D222","v":0},{"$f":"Input!E222","v":0},{"$f":"0.01*Input!F$14*(Adjust!$E306*Input!E222+Adjust!$F306*Input!F222)+10*(Adjust!$B306*Input!B222+Adjust!$C306*Input!C222+Adjust!$D306*Input!D222+Adjust!$G306*Input!G222)","v":0},{"$f":"10*(Adjust!$B306*Input!B222+Adjust!$C306*Input!C222+Adjust!$D306*Input!D222)","v":0},{"$f":"Adjust!E306*Input!$F$14*Input!$E222/100","v":0},{"$f":"Adjust!F306*Input!$F$14*Input!$F222/100","v":0},{"$f":"Adjust!G306*Input!$G222*10","v":0},{"$f":"IF(B136<>0,0.1*D136/B136,\"\")","v":""},{"$f":"IF(C136<>0,D136/C136,\"\")","v":""},{"$f":"IF(B136<>0,0.1*E136/B136,0)","v":0},{"$f":"Adjust!B306*Input!$B222*10","v":0},{"$f":"Adjust!C306*Input!$C222*10","v":0},{"$f":"Adjust!D306*Input!$D222*10","v":0},{"$f":"IF(E136<>0,$L136/E136,\"\")","v":""},{"$f":"IF(E136<>0,$M136/E136,\"\")","v":""},{"$f":"IF(E136<>0,$N136/E136,\"\")","v":""},{"$f":"IF(D136<>0,$F136/D136,\"\")","v":""},{"$f":"IF(D136<>0,$G136/D136,\"\")","v":""},{"$f":"IF(D136<>0,$H136/D136,\"\")","v":""}]
["LDNO HV: LV Sub Generation Intermittent",{"$f":"Input!B223+Input!C223+Input!D223","v":0},{"$f":"Input!E223","v":0},{"$f":"0.01*Input!F$14*(Adjust!$E307*Input!E223+Adjust!$F307*Input!F223)+10*(Adjust!$B307*Input!B223+Adjust!$C307*Input!C223+Adjust!$D307*Input!D223+Adjust!$G307*Input!G223)","v":0},{"$f":"10*(Adjust!$B307*Input!B223+Adjust!$C307*Input!C223+Adjust!$D307*Input!D223)","v":0},{"$f":"Adjust!E307*Input!$F$14*Input!$E223/100","v":0},{"$f":"Adjust!F307*Input!$F$14*Input!$F223/100","v":0},{"$f":"Adjust!G307*Input!$G223*10","v":0},{"$f":"IF(B137<>0,0.1*D137/B137,\"\")","v":""},{"$f":"IF(C137<>0,D137/C137,\"\")","v":""},{"$f":"IF(B137<>0,0.1*E137/B137,0)","v":0},{"$f":"Adjust!B307*Input!$B223*10","v":0},{"$f":"Adjust!C307*Input!$C223*10","v":0},{"$f":"Adjust!D307*Input!$D223*10","v":0},{"$f":"IF(E137<>0,$L137/E137,\"\")","v":""},{"$f":"IF(E137<>0,$M137/E137,\"\")","v":""},{"$f":"IF(E137<>0,$N137/E137,\"\")","v":""},{"$f":"IF(D137<>0,$F137/D137,\"\")","v":""},{"$f":"IF(D137<>0,$G137/D137,\"\")","v":""},{"$f":"IF(D137<>0,$H137/D137,\"\")","v":""}]
["> LV Sub Generation Non-Intermittent"]
["LV Sub Generation Non-Intermittent",{"$f":"Input!B225+Input!C225+Input!D225","v":0.29970595511999998},{"$f":"Input!E225","v":0},{"$f":"0.01*Input!F$14*(Adjust!$E309*Input!E225+Adjust!$F309*Input!F225)+10*(Adjust!$B309*Input!B225+Adjust!$C309*Input!C225+Adjust!$D309*Input!D225+Adjust!$G309*Input!G225)","v":5.7404582010936007},{"$f":"10*(Adjust!$B309*Input!B225+Adjust!$C309*Input!C225+Adjust!$D309*Input!D225)","v":-0.14086179890639999},{"$f":"Adjust!E309*Input!$F$14*Input!$E225/100","v":0},{"$f":"Adjust!F309*Input!$F$14*Input!$F225/100","v":0},{"$f":"Adjust!G309*Input!$G225*10","v":5.8813200000000005},{"$f":"IF(B139<>0,0.1*D139/B139,\"\")","v":1.9153634097110834},{"$f":"IF(C139<>0,D139/C139,\"\")","v":""},{"$f":"IF(B139<>0,0.1*E139/B139,0)","v":-4.7E-2},{"$f":"Adjust!B309*Input!$B225*10","v":0},{"$f":"Adjust!C309*Input!$C225*10","v":0},{"$f":"Adjust!D309*Input!$D225*10","v":-0.14086179890639999},{"$f":"IF(E139<>0,$L139/E139,\"\")","v":0},{"$f":"IF(E139<>0,$M139/E139,\"\")","v":0},{"$f":"IF(E139<>0,$N139/E139,\"\")","v":1},{"$f":"IF(D139<>0,$F139/D139,\"\")","v":0},{"$f":"IF(D139<>0,$G139/D139,\"\")","v":0},{"$f":"IF(D139<>0,$H139/D139,\"\")","v":1.0245384242811078}]
["LDNO HV: LV Sub Generation Non-Intermittent",{"$f":"Input!B226+Input!C226+Input!D226","v":0},{"$f":"Input!E226","v":0},{"$f":"0.01*Input!F$14*(Adjust!$E310*Input!E226+Adjust!$F310*Input!F226)+10*(Adjust!$B310*Input!B226+Adjust!$C310*Input!C226+Adjust!$D310*Input!D226+Adjust!$G310*Input!G226)","v":0},{"$f":"10*(Adjust!$B310*Input!B226+Adjust!$C310*Input!C226+Adjust!$D310*Input!D226)","v":0},{"$f":"Adjust!E310*Input!$F$14*Input!$E226/100","v":0},{"$f":"Adjust!F310*Input!$F$14*Input!$F226/100","v":0},{"$f":"Adjust!G310*Input!$G226*10","v":0},{"$f":"IF(B140<>0,0.1*D140/B140,\"\")","v":""},{"$f":"IF(C140<>0,D140/C140,\"\")","v":""},{"$f":"IF(B140<>0,0.1*E140/B140,0)","v":0},{"$f":"Adjust!B310*Input!$B226*10","v":0},{"$f":"Adjust!C310*Input!$C226*10","v":0},{"$f":"Adjust!D310*Input!$D226*10","v":0},{"$f":"IF(E140<>0,$L140/E140,\"\")","v":""},{"$f":"IF(E140<>0,$M140/E140,\"\")","v":""},{"$f":"IF(E140<>0,$N140/E140,\"\")","v":""},{"$f":"IF(D140<>0,$F140/D140,\"\")","v":""},{"$f":"IF(D140<>0,$G140/D140,\"\")","v":""},{"$f":"IF(D140<>0,$H140/D140,\"\")","v":""}]
["> HV Generation Intermittent"]
["HV Generation Intermittent",{"$f":"Input!B228+Input!C228+Input!D228","v":948.82102410941991},{"$f":"Input!E228","v":4.1624160400000001},{"$f":"0.01*Input!F$14*(Adjust!$E312*Input!E228+Adjust!$F312*Input!F228)+10*(Adjust!$B312*Input!B228+Adjust!$C312*Input!C228+Adjust!$D312*Input!D228+Adjust!$G312*Input!G228)","v":-1935.0200413643097},{"$f":"10*(Adjust!$B312*Input!B228+Adjust!$C312*Input!C228+Adjust!$D312*Input!D228)","v":-3026.7390669090496},{"$f":"Adjust!E312*Input!$F$14*Input!$E228/100","v":587.81014954473994},{"$f":"Adjust!F312*Input!$F$14*Input!$F228/100","v":0},{"$f":"Adjust!G312*Input!$G228*10","v":503.90887600000008},{"$f":"IF(B142<>0,0.1*D142/B142,\"\")","v":-0.20393941451503497},{"$f":"IF(C142<>0,D142/C142,\"\")","v":-464.87905648285692},{"$f":"IF(B142<>0,0.1*E142/B142,0)","v":-0.31900000000000001},{"$f":"Adjust!B312*Input!$B228*10","v":-3026.7390669090496},{"$f":"Adjust!C312*Input!$C228*10","v":0},{"$f":"Adjust!D312*Input!$D228*10","v":0},{"$f":"IF(E142<>0,$L142/E142,\"\")","v":1},{"$f":"IF(E142<>0,$M142/E142,\"\")","v":0},{"$f":"IF(E142<>0,$N142/E142,\"\")","v":0},{"$f":"IF(D142<>0,$F142/D142,\"\")","v":-0.30377470877784662},{"$f":"IF(D142<>0,$G142/D142,\"\")","v":0},{"$f":"IF(D142<>0,$H142/D142,\"\")","v":-0.26041532657445393}]
["LDNO HV: HV Generation Intermittent",{"$f":"Input!B229+Input!C229+Input!D229","v":0},{"$f":"Input!E229","v":0},{"$f":"0.01*Input!F$14*(Adjust!$E313*Input!E229+Adjust!$F313*Input!F229)+10*(Adjust!$B313*Input!B229+Adjust!$C313*Input!C229+Adjust!$D313*Input!D229+Adjust!$G313*Input!G229)","v":0},{"$f":"10*(Adjust!$B313*Input!B229+Adjust!$C313*Input!C229+Adjust!$D313*Input!D229)","v":0},{"$f":"Adjust!E313*Input!$F$14*Input!$E229/100","v":0},{"$f":"Adjust!F313*Input!$F$14*Input!$F229/100","v":0},{"$f":"Adjust!G313*Input!$G229*10","v":0},{"$f":"IF(B143<>0,0.1*D143/B143,\"\")","v":""},{"$f":"IF(C143<>0,D143/C143,\"\")","v":""},{"$f":"IF(B143<>0,0.1*E143/B143,0)","v":0},{"$f":"Adjust!B313*Input!$B229*10","v":0},{"$f":"Adjust!C313*Input!$C229*10","v":0},{"$f":"Adjust!D313*Input!$D229*10","v":0},{"$f":"IF(E143<>0,$L143/E143,\"\")","v":""},{"$f":"IF(E143<>0,$M143/E143,\"\")","v":""},{"$f":"IF(E143<>0,$N143/E143,\"\")","v":""},{"$f":"IF(D143<>0,$F143/D143,\"\")","v":""},{"$f":"IF(D143<>0,$G143/D143,\"\")","v":""},{"$f":"IF(D143<>0,$H143/D143,\"\")","v":""}]
["> HV Generation Non-Intermittent"]
["HV Generation Non-Intermittent",{"$f":"Input!B231+Input!C231+Input!D231","v":417328.53601507097},{"$f":"Input!E231","v":84.288924809999997},{"$f":"0.01*Input!F$14*(Adjust!$E315*Input!E231+Adjust!$F315*Input!F231)+10*(Adjust!$B315*Input!B231+Adjust!$C315*Input!C231+Adjust!$D315*Input!D231+Adjust!$G315*Input!G231)","v":-1321301.0359132341},{"$f":"10*(Adjust!$B315*Input!B231+Adjust!$C315*Input!C231+Adjust!$D315*Input!D231)","v":-1339270.359917515},{"$f":"Adjust!E315*Input!$F$14*Input!$E231/100","v":11903.155528280984},{"$f":"Adjust!F315*Input!$F$14*Input!$F231/100","v":0},{"$f":"Adjust!G315*Input!$G231*10","v":6066.1684760000016},{"$f":"IF(B145<>0,0.1*D145/B145,\"\")","v":-0.3166093190103631},{"$f":"IF(C145<>0,D145/C145,\"\")","v":-15675.855859967924},{"$f":"IF(B145<>0,0.1*E145/B145,0)","v":-0.32091511706957654},{"$f":"Adjust!B315*Input!$B231*10","v":-980610.55722399312},{"$f":"Adjust!C315*Input!$C231*10","v":-308346.54156086675},{"$f":"Adjust!D315*Input!$D231*10","v":-50313.261132655301},{"$f":"IF(E145<>0,$L145/E145,\"\")","v":0.73219761040958786},{"$f":"IF(E145<>0,$M145/E145,\"\")","v":0.23023472391329386},{"$f":"IF(E145<>0,$N145/E145,\"\")","v":3.7567665677118452E-2},{"$f":"IF(D145<>0,$F145/D145,\"\")","v":-9.0086628290985682E-3},{"$f":"IF(D145<>0,$G145/D145,\"\")","v":0},{"$f":"IF(D145<>0,$H145/D145,\"\")","v":-4.5910570801961812E-3}]
["LDNO HV: HV Generation Non-Intermittent",{"$f":"Input!B232+Input!C232+Input!D232","v":0},{"$f":"Input!E232","v":0},{"$f":"0.01*Input!F$14*(Adjust!$E316*Input!E232+Adjust!$F316*Input!F232)+10*(Adjust!$B316*Input!B232+Adjust!$C316*Input!C232+Adjust!$D316*Input!D232+Adjust!$G316*Input!G232)","v":0},{"$f":"10*(Adjust!$B316*Input!B232+Adjust!$C316*Input!C232+Adjust!$D316*Input!D232)","v":0},{"$f":"Adjust!E316*Input!$F$14*Input!$E232/100","v":0},{"$f":"Adjust!F316*Input!$F$14*Input!$F232/100","v":0},{"$f":"Adjust!G316*Input!$G232*10","v":0},{"$f":"IF(B146<>0,0.1*D146/B146,\"\")","v":""},{"$f":"IF(C146<>0,D146/C146,\"\")","v":""},{"$f":"IF(B146<>0,0.1*E146/B146,0)","v":0},{"$f":"Adjust!B316*Input!$B232*10","v":0},{"$f":"Adjust!C316*Input!$C232*10","v":0},{"$f":"Adjust!D316*Input!$D232*10","v":0},{"$f":"IF(E146<>0,$L146/E146,\"\")","v":""},{"$f":"IF(E146<>0,$M146/E146,\"\")","v":""},{"$f":"IF(E146<>0,$N146/E146,\"\")","v":""},{"$f":"IF(D146<>0,$F146/D146,\"\")","v":""},{"$f":"IF(D146<>0,$G146/D146,\"\")","v":""},{"$f":"IF(D146<>0,$H146/D146,\"\")","v":""}]
["> HV Sub Generation Intermittent"]
["HV Sub Generation Intermittent",{"$f":"Input!B234+Input!C234+Input!D234","v":0},{"$f":"Input!E234","v":0},{"$f":"0.01*Input!F$14*(Adjust!$E318*Input!E234+Adjust!$F318*Input!F234)+10*(Adjust!$B318*Input!B234+Adjust!$C318*Input!C234+Adjust!$D318*Input!D234+Adjust!$G318*Input!G234)","v":0},{"$f":"10*(Adjust!$B318*Input!B234+Adjust!$C318*Input!C234+Adjust!$D318*Input!D234)","v":0},{"$f":"Adjust!E318*Input!$F$14*Input!$E234/100","v":0},{"$f":"Adjust!F318*Input!$F$14*Input!$F234/100","v":0},{"$f":"Adjust!G318*Input!$G234*10","v":0},{"$f":"IF(B148<>0,0.1*D148/B148,\"\")","v":""},{"$f":"IF(C148<>0,D148/C148,\"\")","v":""},{"$f":"IF(B148<>0,0.1*E148/B148,0)","v":0},{"$f":"Adjust!B318*Input!$B234*10","v":0},{"$f":"Adjust!C318*Input!$C234*10","v":0},{"$f":"Adjust!D318*Input!$D234*10","v":0},{"$f":"IF(E148<>0,$L148/E148,\"\")","v":""},{"$f":"IF(E148<>0,$M148/E148,\"\")","v":""},{"$f":"IF(E148<>0,$N148/E148,\"\")","v":""},{"$f":"IF(D148<>0,$F148/D148,\"\")","v":""},{"$f":"IF(D148<>0,$G148/D148,\"\")","v":""},{"$f":"IF(D148<>0,$H148/D148,\"\")","v":""}]
["> HV Sub Generation Non-Intermittent"]
["HV Sub Generation Non-Intermittent",{"$f":"Input!B236+Input!C236+Input!D236","v":0},{"$f":"Input!E236","v":0},{"$f":"0.01*Input!F$14*(Adjust!$E320*Input!E236+Adjust!$F320*Input!F236)+10*(Adjust!$B320*Input!B236+Adjust!$C320*Input!C236+Adjust!$D320*Input!D236+Adjust!$G320*Input!G236)","v":0},{"$f":"10*(Adjust!$B320*Input!B236+Adjust!$C320*Input!C236+Adjust!$D320*Input!D236)","v":0},{"$f":"Adjust!E320*Input!$F$14*Input!$E236/100","v":0},{"$f":"Adjust!F320*Input!$F$14*Input!$F236/100","v":0},{"$f":"Adjust!G320*Input!$G236*10","v":0},{"$f":"IF(B150<>0,0.1*D150/B150,\"\")","v":""},{"$f":"IF(C150<>0,D150/C150,\"\")","v":""},{"$f":"IF(B150<>0,0.1*E150/B150,0)","v":0},{"$f":"Adjust!B320*Input!$B236*10","v":0},{"$f":"Adjust!C320*Input!$C236*10","v":0},{"$f":"Adjust!D320*Input!$D236*10","v":0},{"$f":"IF(E150<>0,$L150/E150,\"\")","v":""},{"$f":"IF(E150<>0,$M150/E150,\"\")","v":""},{"$f":"IF(E150<>0,$N150/E150,\"\")","v":""},{"$f":"IF(D150<>0,$F150/D150,\"\")","v":""},{"$f":"IF(D150<>0,$G150/D150,\"\")","v":""},{"$f":"IF(D150<>0,$H150/D150,\"\")","v":""}]
[]
["3803. Revenue summary by tariff component"]
["Data sources:"]
["x1 = 3802. All units (MWh) (in Revenue summary)"]
["x2 = 3802. MPANs by tariff (in Volume forecasts for the charging year) (copy) (in Revenue summary)"]
["x3 = 3802. Net revenues (£) (in Revenue summary)"]
["x4 = 3802. Revenues from unit rates (£) (in Revenue summary)"]
["x5 = 3802. Revenues from fixed charges (£) (in Revenue summary)"]
["x6 = 3802. Revenues from capacity charges (£) (in Revenue summary)"]
["x7 = 3802. Revenues from reactive power charges (£) (in Revenue summary)"]
["Kind:","Cell summation","Cell summation","Cell summation","Cell summation","Cell summation","Cell summation","Cell summation"]
["Formula:","=SUM(x1)","=SUM(x2)","=SUM(x3)","=SUM(x4)","=SUM(x5)","=SUM(x6)","=SUM(x7)"]
[]
[null,"Total units (MWh)","Total MPANs","Total net revenues (£)","Total net revenues from unit rates (£)","Total revenues from fixed charges (£)","Total revenues from capacity charges (£)","Total revenues from reactive power charges (£)"]
["Revenue summary by tariff component",{"$f":"SUM(B$56:B$150)","v":22910240.210540954},{"$f":"SUM(C$56:C$150)","v":2545090.5567858214},{"$f":"SUM(D$56:D$150)","v":486840489.21235615},{"$f":"SUM(E$56:E$150)","v":383263392.60610205},{"$f":"SUM($F$56:$F$150)","v":46242738.915660121},{"$f":"SUM($G$56:$G$150)","v":54216114.499999993},{"$f":"SUM($H$56:$H$150)","v":3118243.1905939998}]

{"sheet":"M-ATW","index":21,"n_rows":966,"n_cols":12,"rows_kept":966,"cut":false,"hidden":true,"merged":[]}
[{"$f":"\"r6140: Tariff matrices\"&\" for \"&Input!B7&\" in \"&Input!C7&\" (\"&Input!D7&\")\"","v":"r6140: Tariff matrices for WPD Mid West in April 2017 (0)"}]
["This sheet provides matrices breaking down each tariff component into its elements."]
["This sheet is for information only.  It can be deleted without affecting any calculations elsewhere in the model."]
["Domestic Unrestricted"]
["Domestic Two Rate"]
["Domestic Off Peak (related MPAN)"]
["Small Non Domestic Unrestricted"]
["Small Non Domestic Two Rate"]
["Small Non Domestic Off Peak (related MPAN)"]
["LV Medium Non-Domestic"]
["LV Sub Medium Non-Domestic"]
["HV Medium Non-Domestic"]
["LV HH Metered"]
["LV Sub HH Metered"]
["HV HH Metered"]
["HV Sub HH Metered"]
["NHH UMS category A"]
["NHH UMS category B"]
["NHH UMS category C"]
["NHH UMS category D"]
["LV UMS (Pseudo HH Metered)"]
["LV Generation NHH"]
["LV Sub Generation NHH"]
["LV Generation Intermittent"]
["LV Generation Non-Intermittent"]
["LV Sub Generation Intermittent"]
["LV Sub Generation Non-Intermittent"]
["HV Generation Intermittent"]
["HV Generation Non-Intermittent"]
["HV Sub Generation Intermittent"]
["HV Sub Generation Non-Intermittent"]
[]
[]
["Domestic Unrestricted"]
[]
[null,"Rate 1 units (MWh)","MPANs","MWh/year","MWh/MPAN/year"]
["Domestic Unrestricted",{"$f":"Loads!B$298","v":6919875.7197077535},{"$f":"Loads!E$298","v":2008987.6952012419},{"$f":"Multi!B$115","v":6919875.7197077535},{"$f":"IF(C37,D37/C37,\"\")","v":3.4444589861037374}]
[]
[]
[null,"Unit rate 1 p/kWh","Fixed charge p/MPAN/day","Revenue (£/year)","Average p/kWh","Average £/MPAN/year"]
["Assets 132kV",{"$f":"Standing!$C$54","v":0.26889036276041528},{"$f":"NHH!$C$88","v":0},{"$f":"0.01*Input!$F$14*(C41*$C$37)+10*(B41*$B$37)","v":18606878.925292075},{"$f":"IF($D$37<>0,0.1*D41/$D$37,\"\")","v":0.26889036276041528},{"$f":"IF($C$37<>0,D41/$C$37,\"\")","v":9.2618182628680596}]
["Assets 132kV/EHV",{"$f":"Standing!$D$54","v":4.1933345879347973E-2},{"$f":"NHH!$D$88","v":0},{"$f":"0.01*Input!$F$14*(C42*$C$37)+10*(B42*$B$37)","v":2901735.4199660718},4.1933345879347973E-2,1.4443769003151623]
["Assets EHV",{"$f":"Standing!$E$54","v":4.8298205140226626E-2},{"$f":"NHH!$E$88","v":0},{"$f":"0.01*Input!$F$14*(C43*$C$37)+10*(B43*$B$37)","v":3342175.7705531847},4.8298205140226633E-2,1.6636118670793532]
["Assets EHV/HV",{"$f":"Standing!$F$54","v":8.2523621964887578E-2},{"$f":"NHH!$F$88","v":0},{"$f":"0.01*Input!$F$14*(C44*$C$37)+10*(B44*$B$37)","v":5710532.0793716703},8.2523621964887578E-2,2.8424923124278476]
["Assets 132kV/HV",{"$f":"Standing!$G$54","v":0},{"$f":"NHH!$G$88","v":0},{"$f":"0.01*Input!$F$14*(C45*$C$37)+10*(B45*$B$37)","v":0},0,0]
["Assets HV",{"$f":"Standing!$H$54","v":0.25826075808387716},{"$f":"NHH!$H$88","v":0},{"$f":"0.01*Input!$F$14*(C46*$C$37)+10*(B46*$B$37)","v":17871323.492179394},0.25826075808387716,8.8956858893997399]
["Assets HV/LV",{"$f":"Standing!$I$54","v":9.4755492274508607E-2},{"$f":"NHH!$I$88","v":0},{"$f":"0.01*Input!$F$14*(C47*$C$37)+10*(B47*$B$37)","v":6556962.3029932771},9.4755492274508607E-2,3.2638140684761443]
["Assets LV circuits",{"$f":"Standing!$J$54","v":0},{"$f":"NHH!$J$88","v":0.36758068432020513},{"$f":"0.01*Input!$F$14*(C48*$C$37)+10*(B48*$B$37)","v":2695397.5120442463},3.8951530652028547E-2,1.3416694977687487]
["Assets LV customer",null,{"$f":"SM!$B$108","v":0},{"$f":"0.01*Input!$F$14*(C49*$C$37)+10*(B49*$B$37)","v":0},0,0]
["Assets HV customer",null,{"$f":"SM!$C$108","v":0},{"$f":"0.01*Input!$F$14*(C50*$C$37)+10*(B50*$B$37)","v":0},0,0]
["Transmission exit",{"$f":"Standing!$K$54","v":8.7700860090000957E-2},{"$f":"NHH!$K$88","v":0},{"$f":"0.01*Input!$F$14*(C51*$C$37)+10*(B51*$B$37)","v":6068790.5233428441},8.7700860090000957E-2,3.0208201562603043]
["Operating 132kV",{"$f":"Standing!$L$54","v":0.13738328987422394},{"$f":"NHH!$L$88","v":0},{"$f":"0.01*Input!$F$14*(C52*$C$37)+10*(B52*$B$37)","v":9506752.9189421423},0.13738328987422394,4.7321110734776521]
["Operating 132kV/EHV",{"$f":"Standing!$M$54","v":2.1424869798965709E-2},{"$f":"NHH!$M$88","v":0},{"$f":"0.01*Input!$F$14*(C53*$C$37)+10*(B53*$B$37)","v":1482574.3631976275},2.1424869798965709E-2,0.73797085305150012]
["Operating EHV",{"$f":"Standing!$N$54","v":2.4676846909149661E-2},{"$f":"NHH!$N$88","v":0},{"$f":"0.01*Input!$F$14*(C54*$C$37)+10*(B54*$B$37)","v":1707607.1376557006},2.4676846909149664E-2,0.84998387084926785]
["Operating EHV/HV",{"$f":"Standing!$O$54","v":4.2163529259599229E-2},{"$f":"NHH!$O$88","v":0},{"$f":"0.01*Input!$F$14*(C55*$C$37)+10*(B55*$B$37)","v":2917663.8238068814},4.2163529259599229E-2,1.4523054724407443]
["Operating 132kV/HV",{"$f":"Standing!$P$54","v":0},{"$f":"NHH!$P$88","v":0},{"$f":"0.01*Input!$F$14*(C56*$C$37)+10*(B56*$B$37)","v":0},0,0]
["Operating HV",{"$f":"Standing!$Q$54","v":0.21520390584195678},{"$f":"NHH!$Q$88","v":0},{"$f":"0.01*Input!$F$14*(C57*$C$37)+10*(B57*$B$37)","v":14891842.828220304},0.21520390584195681,7.4126102732195065]
["Operating HV/LV",{"$f":"Standing!$R$54","v":0.13494880586490135},{"$f":"NHH!$R$88","v":0},{"$f":"0.01*Input!$F$14*(C58*$C$37)+10*(B58*$B$37)","v":9338289.6510808617},0.13494880586490138,4.6482562702532819]
["Operating LV circuits",{"$f":"Standing!$S$54","v":0},{"$f":"NHH!$S$88","v":1.7997229134547936},{"$f":"0.01*Input!$F$14*(C59*$C$37)+10*(B59*$B$37)","v":13197017.335843796},0.19071176810674204,6.5689886341099966]
["Operating LV customer",null,{"$f":"Otex!$B$121","v":2.1993755895122127},{"$f":"0.01*Input!$F$14*(C60*$C$37)+10*(B60*$B$37)","v":16127592.512064448},0.23306188095449731,8.0277209017195759]
["Operating HV customer",null,{"$f":"Otex!$C$121","v":0},{"$f":"0.01*Input!$F$14*(C61*$C$37)+10*(B61*$B$37)","v":0},0,0]
["Scaler",{"$f":"Scaler!$B$407","v":1.0918645931630668},{"$f":"Scaler!$E$407","v":0},{"$f":"0.01*Input!$F$14*(C62*$C$37)+10*(B62*$B$37)","v":75555672.874376908},1.0918645931630671,37.608828095290271]
["Rounding",{"$f":"Adjust!$B$73","v":-2.8486905128133344E-5},{"$f":"Adjust!$E$73","v":3.3208127127890563E-3},{"$f":"0.01*Input!$F$14*(C63*$C$37)+10*(B63*$B$37)","v":22379.613923665027},3.2341063380557627E-4,1.1139746638131222E-2]
[]
[]
["Total",{"$f":"SUM($B$41:$B$63)","v":2.5499999999999998},{"$f":"SUM($C$41:$C$63)","v":4.37},{"$f":"SUM($D$41:$D$63)","v":208501189.08485508},{"$f":"SUM($E$41:$E$63)","v":3.0130770772522015},{"$f":"SUM($F$41:$F$63)","v":103.78420414564529}]
[]
["Domestic Two Rate"]
[]
[null,"Rate 1 units (MWh)","Rate 2 units (MWh)","MPANs","MWh/year","MWh/MPAN/year"]
["Domestic Two Rate",{"$f":"Loads!B$299","v":990547.16218925139},{"$f":"Loads!C$299","v":740785.3668493838},{"$f":"Loads!E$299","v":327650.52939354029},{"$f":"Multi!B$116","v":1731332.5290386351},{"$f":"IF(D71,E71/D71,\"\")","v":5.2840828068955616}]
[]
[]
[null,"Unit rate 1 p/kWh","Unit rate 2 p/kWh","Fixed charge p/MPAN/day","Average unit rate (p/kWh)","Revenue (£/year)","Average p/kWh","Average £/MPAN/year"]
["Assets 132kV",{"$f":"Standing!$C$83","v":0.30756529218351497},{"$f":"Standing!$C$110","v":9.5610585632865033E-3},{"$f":"NHH!$C$89","v":0},{"$f":"IF(E$71<>0,(($B75*B$71+$C75*C$71))/E$71,0)","v":0.18005820049408008},{"$f":"0.01*Input!$F$14*(D75*$D$71)+10*(B75*$B$71+C75*$C$71)","v":3117406.1963556129},{"$f":"IF($E$71<>0,0.1*F75/$E$71,\"\")","v":0.18005820049408008},{"$f":"IF($D$71<>0,F75/$D$71,\"\")","v":9.5144244147132255}]
["Assets 132kV/EHV",{"$f":"Standing!$D$83","v":4.7964685848951964E-2},{"$f":"Standing!$D$110","v":1.4910433069861488E-3},{"$f":"NHH!$D$89","v":0},2.8080005256487323E-2,{"$f":"0.01*Input!$F$14*(D76*$D$71)+10*(B76*$B$71+C76*$C$71)","v":486158.26516132365},2.8080005256487323E-2,1.4837707299334166]
["Assets EHV",{"$f":"Standing!$E$83","v":5.3576969340398718E-2},{"$f":"Standing!$E$110","v":4.462283994114578E-3},{"$f":"NHH!$E$89","v":0},3.2562265583783029E-2,{"$f":"0.01*Input!$F$14*(D77*$D$71)+10*(B77*$B$71+C77*$C$71)","v":563761.09624398779},3.2562265583783036E-2,1.7206170772483498]
["Assets EHV/HV",{"$f":"Standing!$F$83","v":9.1543061507868909E-2},{"$f":"Standing!$F$110","v":7.6243793400011259E-3},{"$f":"NHH!$F$89","v":0},5.5636769266158528E-2,{"$f":"0.01*Input!$F$14*(D78*$D$71)+10*(B78*$B$71+C78*$C$71)","v":963257.48441117245},5.5636769266158528E-2,2.9398929591052365]
["Assets 132kV/HV",{"$f":"Standing!$G$83","v":0},{"$f":"Standing!$G$110","v":0},{"$f":"NHH!$G$89","v":0},0,{"$f":"0.01*Input!$F$14*(D79*$D$71)+10*(B79*$B$71+C79*$C$71)","v":0},0,0]
["Assets HV",{"$f":"Standing!$H$83","v":0.28648743110670166},{"$f":"Standing!$H$110","v":2.3860779997096487E-2},{"$f":"NHH!$H$89","v":0},0.1741173480501079,{"$f":"0.01*Input!$F$14*(D80*$D$71)+10*(B80*$B$71+C80*$C$71)","v":3014550.2854909357},0.1741173480501079,9.2005048521382555]
["Assets HV/LV",{"$f":"Standing!$I$83","v":0.10511181708898412},{"$f":"Standing!$I$110","v":8.7544850849710729E-3},{"$f":"NHH!$I$89","v":0},6.388339889663594E-2,{"$f":"0.01*Input!$F$14*(D81*$D$71)+10*(B81*$B$71+C81*$C$71)","v":1106034.0657529663},6.388339889663594E-2,3.375651697557648]
["Assets LV circuits",{"$f":"Standing!$J$83","v":0},{"$f":"Standing!$J$110","v":0},{"$f":"NHH!$J$89","v":0.36758068432020513},0,{"$f":"0.01*Input!$F$14*(D82*$D$71)+10*(B82*$B$71+C82*$C$71)","v":439598.72121509584},2.5390773513577651E-2,1.3416694977687487]
["Assets LV customer",null,null,{"$f":"SM!$B$109","v":0},0,{"$f":"0.01*Input!$F$14*(D83*$D$71)+10*(B83*$B$71+C83*$C$71)","v":0},0,0]
["Assets HV customer",null,null,{"$f":"SM!$C$109","v":0},0,{"$f":"0.01*Input!$F$14*(D84*$D$71)+10*(B84*$B$71+C84*$C$71)","v":0},0,0]
["Transmission exit",{"$f":"Standing!$K$83","v":0.10544379411870582},{"$f":"Standing!$K$110","v":7.4937008921209471E-4},{"$f":"NHH!$K$89","v":0},6.0648183794882952E-2,{"$f":"0.01*Input!$F$14*(D85*$D$71)+10*(B85*$B$71+C85*$C$71)","v":1050021.7343119467},6.0648183794882959E-2,3.2047002525998303]
["Operating 132kV",{"$f":"Standing!$L$83","v":0.15714334741311406},{"$f":"Standing!$L$110","v":4.8850009595724801E-3},{"$f":"NHH!$L$89","v":0},9.1996558369592085E-2,{"$f":"0.01*Input!$F$14*(D86*$D$71)+10*(B86*$B$71+C86*$C$71)","v":1592766.3406487626},9.1996558369592085E-2,4.8611743237432545]
["Operating 132kV/EHV",{"$f":"Standing!$M$83","v":2.4506442968296425E-2},{"$f":"Standing!$M$110","v":7.6181397040703356E-4},{"$f":"NHH!$M$89","v":0},1.4346826945445456E-2,{"$f":"0.01*Input!$F$14*(D87*$D$71)+10*(B87*$B$71+C87*$C$71)","v":248391.28179137717},1.4346826945445456E-2,0.75809821595934301]
["Operating EHV",{"$f":"Standing!$N$83","v":2.7373908956464812E-2},{"$f":"Standing!$N$110","v":2.2799004366355147E-3},{"$f":"NHH!$N$89","v":0},1.6636933825866732E-2,{"$f":"0.01*Input!$F$14*(D88*$D$71)+10*(B88*$B$71+C88*$C$71)","v":288040.64716186264},1.6636933825866732E-2,0.87910935988721595]
["Operating EHV/HV",{"$f":"Standing!$O$83","v":4.6771802551790496E-2},{"$f":"Standing!$O$110","v":3.8954996609964817E-3},{"$f":"NHH!$O$89","v":0},2.8426315920323554E-2,{"$f":"0.01*Input!$F$14*(D89*$D$71)+10*(B89*$B$71+C89*$C$71)","v":492154.05433584994},2.8426315920323554E-2,1.5020700721796327]
["Operating 132kV/HV",{"$f":"Standing!$P$83","v":0},{"$f":"Standing!$P$110","v":0},{"$f":"NHH!$P$89","v":0},0,{"$f":"0.01*Input!$F$14*(D90*$D$71)+10*(B90*$B$71+C90*$C$71)","v":0},0,0]
["Operating HV",{"$f":"Standing!$Q$83","v":0.2387246696177015},{"$f":"Standing!$Q$110","v":1.9882745988622441E-2},{"$f":"NHH!$Q$89","v":0},0.14508876088351372,{"$f":"0.01*Input!$F$14*(D91*$D$71)+10*(B91*$B$71+C91*$C$71)","v":2511968.913155356},0.14508876088351372,7.6666102685835611]
["Operating HV/LV",{"$f":"Standing!$R$83","v":0.1496980687658182},{"$f":"Standing!$R$110","v":1.2467955997277442E-2},{"$f":"NHH!$R$89","v":0},9.0981411090314407E-2,{"$f":"0.01*Input!$F$14*(D92*$D$71)+10*(B92*$B$71+C92*$C$71)","v":1575190.7655849776},9.0981411090314407E-2,4.8075331008942754]
["Operating LV circuits",{"$f":"Standing!$S$83","v":0},{"$f":"Standing!$S$110","v":0},{"$f":"NHH!$S$89","v":1.7997229134547936},0,{"$f":"0.01*Input!$F$14*(D93*$D$71)+10*(B93*$B$71+C93*$C$71)","v":2152332.6035462893},0.12431653466023797,6.5689886341099957]
["Operating LV customer",null,null,{"$f":"Otex!$B$122","v":2.1993755895122127},0,{"$f":"0.01*Input!$F$14*(D94*$D$71)+10*(B94*$B$71+C94*$C$71)","v":2630287.0032720077},0.15192269302145781,8.0277209017195759]
["Operating HV customer",null,null,{"$f":"Otex!$C$122","v":0},0,{"$f":"0.01*Input!$F$14*(D95*$D$71)+10*(B95*$B$71+C95*$C$71)","v":0},0,0]
["Scaler",{"$f":"Scaler!$B$408","v":1.3127618731314732},{"$f":"Scaler!$C$408","v":9.3295626376578896E-3},{"$f":"Scaler!$E$408","v":0},0.75506220186805983,{"$f":"0.01*Input!$F$14*(D96*$D$71)+10*(B96*$B$71+C96*$C$71)","v":13072637.515417084},0.75506220186805995,39.898111990277208]
["Rounding",{"$f":"Adjust!$B$74","v":3.2683540021505308E-4},{"$f":"Adjust!$C$74","v":-5.8800268372821707E-6},{"$f":"Adjust!$E$74","v":3.3208127127890563E-3},1.8447642783308527E-4,{"$f":"0.01*Input!$F$14*(D97*$D$71)+10*(B97*$B$71+C97*$C$71)","v":7165.3414617544722},4.1386281038300623E-4,2.186885360758321E-2]
[]
[]
["Total",{"$f":"SUM($B$75:$B$97)","v":2.9550000000000001},{"$f":"SUM($C$75:$C$97)","v":0.11},{"$f":"SUM($D$75:$D$97)","v":4.37},{"$f":"SUM(E$75:E$97)","v":1.7377096566730845},{"$f":"SUM($F$75:$F$97)","v":35311722.315318361},{"$f":"SUM($G$75:$G$97)","v":2.039569044250908},{"$f":"SUM($H$75:$H$97)","v":107.77251720202635}]
[]
["Domestic Off Peak (related MPAN)"]
[]
[null,"Rate 1 units (MWh)","MWh/year"]
["Domestic Off Peak (related MPAN)",{"$f":"Loads!B$300","v":36292.302861451186},{"$f":"Multi!B$117","v":36292.302861451186}]
[]
[]
[null,"Unit rate 1 p/kWh","Revenue (£/year)","Average p/kWh"]
["Assets 132kV",{"$f":"Standing!$C$84","v":2.6927504134923251E-2},{"$f":"0+10*(B109*$B$105)","v":9772.6113536761368},{"$f":"IF($C$105<>0,0.1*C109/$C$105,\"\")","v":2.6927504134923251E-2}]
["Assets 132kV/EHV",{"$f":"Standing!$D$84","v":4.1993336353352527E-3},1524.0348810986579,4.1993336353352527E-3]
["Assets EHV",{"$f":"Standing!$E$84","v":6.2877830754338284E-3},2281.9812770075146,6.2877830754338284E-3]
["Assets EHV/HV",{"$f":"Standing!$F$84","v":1.0743476533088507E-2},3899.0550412374168,1.0743476533088507E-2]
["Assets 132kV/HV",{"$f":"Standing!$G$84","v":0},0,0]
["Assets HV",{"$f":"Standing!$H$84","v":3.3622111194687228E-2},12202.238423189772,3.3622111194687228E-2]
["Assets HV/LV",{"$f":"Standing!$I$84","v":1.2335903143775924E-2},4476.9833296344368,1.2335903143775926E-2]
["Assets LV circuits",{"$f":"Standing!$J$84","v":0},0,0]
["Transmission exit",{"$f":"Standing!$K$84","v":3.5004394590407019E-3},1270.390089956795,3.5004394590407019E-3]
["Operating 132kV",{"$f":"Standing!$L$84","v":1.3757983247074302E-2},4993.0889476559214,1.3757983247074302E-2]
["Operating 132kV/EHV",{"$f":"Standing!$M$84","v":2.1455520539272097E-3},778.6702494613495,2.1455520539272101E-3]
["Operating EHV",{"$f":"Standing!$N$84","v":3.2125968221786141E-3},1165.9253684224191,3.2125968221786145E-3]
["Operating EHV/HV",{"$f":"Standing!$O$84","v":5.4891299771771002E-3},1992.1316757758198,5.4891299771771011E-3]
["Operating 132kV/HV",{"$f":"Standing!$P$84","v":0},0,0]
["Operating HV",{"$f":"Standing!$Q$84","v":2.801668246245646E-2},10167.89925100578,2.8016682462456463E-2]
["Operating HV/LV",{"$f":"Standing!$R$84","v":1.7568537280086404E-2},6376.0267580159161,1.7568537280086404E-2]
["Operating LV circuits",{"$f":"Standing!$S$84","v":0},0,0]
["Scaler",{"$f":"Scaler!$B$409","v":4.3580027629320589E-2},15816.195614337135,4.3580027629320596E-2]
["Rounding",{"$f":"Adjust!$B$75","v":-3.8706064850535515E-4},-140.47322281306052,-3.8706064850535515E-4]
[]
[]
["Total",{"$f":"SUM($B$109:$B$127)","v":0.21099999999999999},{"$f":"SUM($C$109:$C$127)","v":76576.759037662006},{"$f":"SUM($D$109:$D$127)","v":0.21100000000000002}]
[]
["Small Non Domestic Unrestricted"]
[]
[null,"Rate 1 units (MWh)","MPANs","MWh/year","MWh/MPAN/year"]
["Small Non Domestic Unrestricted",{"$f":"Loads!B$301","v":1605464.9615667877},{"$f":"Loads!E$301","v":138592.9298948767},{"$f":"Multi!B$118","v":1605464.9615667877},{"$f":"IF(C135,D135/C135,\"\")","v":11.58403219258399}]
[]
[]
[null,"Unit rate 1 p/kWh","Fixed charge p/MPAN/day","Revenue (£/year)","Average p/kWh","Average £/MPAN/year"]
["Assets 132kV",{"$f":"Standing!$C$57","v":0.2121942230119995},{"$f":"NHH!$C$90","v":0},{"$f":"0.01*Input!$F$14*(C139*$C$135)+10*(B139*$B$135)","v":3406703.9009265415},{"$f":"IF($D$135<>0,0.1*D139/$D$135,\"\")","v":0.2121942230119995},{"$f":"IF($C$135<>0,D139/$C$135,\"\")","v":24.580647104513488}]
["Assets 132kV/EHV",{"$f":"Standing!$D$57","v":3.309160527664548E-2},{"$f":"NHH!$D$90","v":0},{"$f":"0.01*Input!$F$14*(C140*$C$135)+10*(B140*$B$135)","v":531274.12793652946},3.309160527664548E-2,3.8333422082894346]
["Assets EHV",{"$f":"Standing!$E$57","v":3.8114419599843304E-2},{"$f":"NHH!$E$90","v":0},{"$f":"0.01*Input!$F$14*(C141*$C$135)+10*(B141*$B$135)","v":611913.65198002849},3.8114419599843304E-2,4.4151866364623906]
["Assets EHV/HV",{"$f":"Standing!$F$57","v":6.5123330056190407E-2},{"$f":"NHH!$F$90","v":0},{"$f":"0.01*Input!$F$14*(C142*$C$135)+10*(B142*$B$135)","v":1045532.2458576296},6.5123330056190407E-2,7.5439075185918218]
["Assets 132kV/HV",{"$f":"Standing!$G$57","v":0},{"$f":"NHH!$G$90","v":0},{"$f":"0.01*Input!$F$14*(C143*$C$135)+10*(B143*$B$135)","v":0},0,0]
["Assets HV",{"$f":"Standing!$H$57","v":0.20380589446757919},{"$f":"NHH!$H$90","v":0},{"$f":"0.01*Input!$F$14*(C144*$C$135)+10*(B144*$B$135)","v":3272032.2252847678},0.20380589446757919,23.608940425508123]
["Assets HV/LV",{"$f":"Standing!$I$57","v":7.4776082909390404E-2},{"$f":"NHH!$I$90","v":0},{"$f":"0.01*Input!$F$14*(C145*$C$135)+10*(B145*$B$135)","v":1200503.8107423941},7.4776082909390418E-2,8.6620855165770809]
["Assets LV circuits",{"$f":"Standing!$J$57","v":0},{"$f":"NHH!$J$90","v":0.36758068432020513},{"$f":"0.01*Input!$F$14*(C146*$C$135)+10*(B146*$B$135)","v":185945.90664635864},1.1582059471724152E-2,1.3416694977687489]
["Assets LV customer",null,{"$f":"SM!$B$111","v":0},{"$f":"0.01*Input!$F$14*(C147*$C$135)+10*(B147*$B$135)","v":0},0,0]
["Assets HV customer",null,{"$f":"SM!$C$111","v":0},{"$f":"0.01*Input!$F$14*(C148*$C$135)+10*(B148*$B$135)","v":0},0,0]
["Transmission exit",{"$f":"Standing!$K$57","v":6.920893584000716E-2},{"$f":"NHH!$K$90","v":0},{"$f":"0.01*Input!$F$14*(C149*$C$135)+10*(B149*$B$135)","v":1111125.2151845538},6.9208935840007174E-2,8.0171854078512279]
["Operating 132kV",{"$f":"Standing!$L$57","v":0.1084157131941095},{"$f":"NHH!$L$90","v":0},{"$f":"0.01*Input!$F$14*(C150*$C$135)+10*(B150*$B$135)","v":1740576.2881641691},0.10841571319410953,12.558911118225174]
["Operating 132kV/EHV",{"$f":"Standing!$M$57","v":1.6907387655895778E-2},{"$f":"NHH!$M$90","v":0},{"$f":"0.01*Input!$F$14*(C151*$C$135)+10*(B151*$B$135)","v":271442.18473167496},1.6907387655895778E-2,1.9585572289839386]
["Operating EHV",{"$f":"Standing!$N$57","v":1.9473678054198879E-2},{"$f":"NHH!$N$90","v":0},{"$f":"0.01*Input!$F$14*(C152*$C$135)+10*(B152*$B$135)","v":312643.077888484},1.9473678054198879E-2,2.2558371348785617]
["Operating EHV/HV",{"$f":"Standing!$O$57","v":3.3273253971754013E-2},{"$f":"NHH!$O$90","v":0},{"$f":"0.01*Input!$F$14*(C153*$C$135)+10*(B153*$B$135)","v":534190.43408964027},3.327325397175402E-2,3.8543844516082162]
["Operating 132kV/HV",{"$f":"Standing!$P$57","v":0},{"$f":"NHH!$P$90","v":0},{"$f":"0.01*Input!$F$14*(C154*$C$135)+10*(B154*$B$135)","v":0},0,0]
["Operating HV",{"$f":"Standing!$Q$57","v":0.16982767668014062},{"$f":"NHH!$Q$90","v":0},{"$f":"0.01*Input!$F$14*(C155*$C$135)+10*(B155*$B$135)","v":2726523.8441425883},0.16982767668014062,19.672892738544945]
["Operating HV/LV",{"$f":"Standing!$R$57","v":0.10649454563164978},{"$f":"NHH!$R$90","v":0},{"$f":"0.01*Input!$F$14*(C156*$C$135)+10*(B156*$B$135)","v":1709732.6160958912},0.10649454563164978,12.336362449316358]
["Operating LV circuits",{"$f":"Standing!$S$57","v":0},{"$f":"NHH!$S$90","v":1.7997229134547936},{"$f":"0.01*Input!$F$14*(C157*$C$135)+10*(B157*$B$135)","v":910415.3812474485},5.6707271914484263E-2,6.5689886341099957]
["Operating LV customer",null,{"$f":"Otex!$B$124","v":5.4301722130471024},{"$f":"0.01*Input!$F$14*(C158*$C$135)+10*(B158*$B$135)","v":2746929.6904657972},0.17109870076423492,19.820128577621922]
["Operating HV customer",null,{"$f":"Otex!$C$124","v":0},{"$f":"0.01*Input!$F$14*(C159*$C$135)+10*(B159*$B$135)","v":0},0,0]
["Scaler",{"$f":"Scaler!$B$410","v":0.8616424798645026},{"$f":"Scaler!$E$410","v":0},{"$f":"0.01*Input!$F$14*(C160*$C$135)+10*(B160*$B$135)","v":13833368.108199753},0.8616424798645026,99.812942252482998]
["Rounding",{"$f":"Adjust!$B$76","v":-3.4922621390665043E-4},{"$f":"Adjust!$E$76","v":2.5241891778984282E-3},{"$f":"0.01*Input!$F$14*(C161*$C$135)+10*(B161*$B$135)","v":-4329.8075766028796},-2.6969181391398175E-4,-3.1241186544559353E-2]
[]
[]
["Total",{"$f":"SUM($B$139:$B$161)","v":2.012},{"$f":"SUM($C$139:$C$161)","v":7.6},{"$f":"SUM($D$139:$D$161)","v":36146522.902007647},{"$f":"SUM($E$139:$E$161)","v":2.2514675665504358},{"$f":"SUM($F$139:$F$161)","v":260.81072771478989}]
[]
["Small Non Domestic Two Rate"]
[]
[null,"Rate 1 units (MWh)","Rate 2 units (MWh)","MPANs","MWh/year","MWh/MPAN/year"]
["Small Non Domestic Two Rate",{"$f":"Loads!B$302","v":454819.6604182481},{"$f":"Loads!C$302","v":206465.50944675284},{"$f":"Loads!E$302","v":33508.167270212827},{"$f":"Multi!B$119","v":661285.16986500099},{"$f":"IF(D169,E169/D169,\"\")","v":19.735044430581322}]
[]
[]
[null,"Unit rate 1 p/kWh","Unit rate 2 p/kWh","Fixed charge p/MPAN/day","Average unit rate (p/kWh)","Revenue (£/year)","Average p/kWh","Average £/MPAN/year"]
["Assets 132kV",{"$f":"Standing!$C$85","v":0.25680545541028649},{"$f":"Standing!$C$111","v":8.1422511070736343E-3},{"$f":"NHH!$C$91","v":0},{"$f":"IF(E$169<>0,(($B173*B$169+$C173*C$169))/E$169,0)","v":0.17916818559580419},{"$f":"0.01*Input!$F$14*(D173*$D$169)+10*(B173*$B$169+C173*$C$169)","v":1184812.6404612539},{"$f":"IF($E$169<>0,0.1*F173/$E$169,\"\")","v":0.17916818559580419},{"$f":"IF($D$169<>0,F173/$D$169,\"\")","v":35.358921032798357}]
["Assets 132kV/EHV",{"$f":"Standing!$D$85","v":4.0048709350799877E-2},{"$f":"Standing!$D$111","v":1.2697808445207937E-3},{"$f":"NHH!$D$91","v":0},2.7941207784595665E-2,{"$f":"0.01*Input!$F$14*(D174*$D$169)+10*(B174*$B$169+C174*$C$169)","v":184771.06336069631},2.7941207784595665E-2,5.5142097707310009]
["Assets EHV",{"$f":"Standing!$E$85","v":4.4894829373658664E-2},{"$f":"Standing!$E$111","v":3.8001060814198506E-3},{"$f":"NHH!$E$91","v":0},3.2064293673247389E-2,{"$f":"0.01*Input!$F$14*(D175*$D$169)+10*(B175*$B$169+C175*$C$169)","v":212036.41888314678},3.2064293673247396E-2,6.3279026027674483]
["Assets EHV/HV",{"$f":"Standing!$F$85","v":7.6708521914082742E-2},{"$f":"Standing!$F$111","v":6.492964216352877E-3},{"$f":"NHH!$F$91","v":0},5.4785920967037161E-2,{"$f":"0.01*Input!$F$14*(D176*$D$169)+10*(B176*$B$169+C176*$C$169)","v":362291.17052897689},5.4785920967037161E-2,10.812025844547952]
["Assets 132kV/HV",{"$f":"Standing!$G$85","v":0},{"$f":"Standing!$G$111","v":0},{"$f":"NHH!$G$91","v":0},0,{"$f":"0.01*Input!$F$14*(D177*$D$169)+10*(B177*$B$169+C177*$C$169)","v":0},0,0]
["Assets HV",{"$f":"Standing!$H$85","v":0.24006218521835945},{"$f":"Standing!$H$111","v":2.0319974097116885E-2},{"$f":"NHH!$H$91","v":0},0.17145458650967341,{"$f":"0.01*Input!$F$14*(D178*$D$169)+10*(B178*$B$169+C178*$C$169)","v":1133803.7536418289},0.17145458650967341,33.836638825953536]
["Assets HV/LV",{"$f":"Standing!$I$85","v":8.8078462657776802E-2},{"$f":"Standing!$I$111","v":7.4553686083126802E-3},{"$f":"NHH!$I$91","v":0},6.2906435604010755E-2,{"$f":"0.01*Input!$F$14*(D179*$D$169)+10*(B179*$B$169+C179*$C$169)","v":415990.92953999998},6.2906435604010755E-2,12.41461301614655]
["Assets LV circuits",{"$f":"Standing!$J$85","v":0},{"$f":"Standing!$J$111","v":0},{"$f":"NHH!$J$91","v":0.36758068432020513},0,{"$f":"0.01*Input!$F$14*(D180*$D$169)+10*(B180*$B$169+C180*$C$169)","v":44956.885952577672},6.7984113361797402E-3,1.3416694977687489]
["Assets LV customer",null,null,{"$f":"SM!$B$112","v":0},0,{"$f":"0.01*Input!$F$14*(D181*$D$169)+10*(B181*$B$169+C181*$C$169)","v":0},0,0]
["Assets HV customer",null,null,{"$f":"SM!$C$112","v":0},0,{"$f":"0.01*Input!$F$14*(D182*$D$169)+10*(B182*$B$169+C182*$C$169)","v":0},0,0]
["Transmission exit",{"$f":"Standing!$K$85","v":8.2857283301423501E-2},{"$f":"Standing!$K$111","v":6.381677717072474E-4},{"$f":"NHH!$K$91","v":0},5.7186948704974337E-2,{"$f":"0.01*Input!$F$14*(D183*$D$169)+10*(B183*$B$169+C183*$C$169)","v":378168.81088430056},5.7186948704974337E-2,11.285869735420436]
["Operating 132kV",{"$f":"Standing!$L$85","v":0.13120878695585345},{"$f":"Standing!$L$111","v":4.1600942205151214E-3},{"$f":"NHH!$L$91","v":0},9.1541825914672678E-2,{"$f":"0.01*Input!$F$14*(D184*$D$169)+10*(B184*$B$169+C184*$C$169)","v":605352.51899736677},9.1541825914672692E-2,18.065820016826063]
["Operating 132kV/EHV",{"$f":"Standing!$M$85","v":2.0461958507348416E-2},{"$f":"Standing!$M$111","v":6.4876505073917896E-4},{"$f":"NHH!$M$91","v":0},1.427591159868871E-2,{"$f":"0.01*Input!$F$14*(D185*$D$169)+10*(B185*$B$169+C185*$C$169)","v":94404.486265166022},1.4275911598688712E-2,2.8173574968717294]
["Operating EHV",{"$f":"Standing!$N$85","v":2.2937971053989606E-2},{"$f":"Standing!$N$111","v":1.9415760013744949E-3},{"$f":"NHH!$N$91","v":0},1.6382506636167499E-2,{"$f":"0.01*Input!$F$14*(D186*$D$169)+10*(B186*$B$169+C186*$C$169)","v":108335.0868371253},1.6382506636167499E-2,3.2330949634905894]
["Operating EHV/HV",{"$f":"Standing!$O$85","v":3.9192438857823982E-2},{"$f":"Standing!$O$111","v":3.3174293638518226E-3},{"$f":"NHH!$O$91","v":0},2.7991594730180588E-2,{"$f":"0.01*Input!$F$14*(D187*$D$169)+10*(B187*$B$169+C187*$C$169)","v":185104.26475939737},2.7991594730180588E-2,5.524153656829399]
["Operating 132kV/HV",{"$f":"Standing!$P$85","v":0},{"$f":"Standing!$P$111","v":0},{"$f":"NHH!$P$91","v":0},0,{"$f":"0.01*Input!$F$14*(D188*$D$169)+10*(B188*$B$169+C188*$C$169)","v":0},0,0]
["Operating HV",{"$f":"Standing!$Q$85","v":0.20003937217270726},{"$f":"Standing!$Q$111","v":1.6932258019961021E-2},{"$f":"NHH!$Q$91","v":0},0.14286993101528753,{"$f":"0.01*Input!$F$14*(D189*$D$169)+10*(B189*$B$169+C189*$C$169)","v":944777.66600045387},0.14286993101528753,28.195444363807876]
["Operating HV/LV",{"$f":"Standing!$R$85","v":0.12543951883706181},{"$f":"Standing!$R$111","v":1.0617781268655074E-2},{"$f":"NHH!$R$91","v":0},8.95900402415232E-2,{"$f":"0.01*Input!$F$14*(D190*$D$169)+10*(B190*$B$169+C190*$C$169)","v":592445.64979327947},8.9590040241523214E-2,17.680634247040292]
["Operating LV circuits",{"$f":"Standing!$S$85","v":0},{"$f":"Standing!$S$111","v":0},{"$f":"NHH!$S$91","v":1.7997229134547936},0,{"$f":"0.01*Input!$F$14*(D191*$D$169)+10*(B191*$B$169+C191*$C$169)","v":220114.76994788463},3.3285907499304768E-2,6.5689886341099957]
["Operating LV customer",null,null,{"$f":"Otex!$B$125","v":5.4301722130471024},0,{"$f":"0.01*Input!$F$14*(D192*$D$169)+10*(B192*$B$169+C192*$C$169)","v":664136.18369608081},0.100431132280142,19.820128577621922]
["Operating HV customer",null,null,{"$f":"Otex!$C$125","v":0},0,{"$f":"0.01*Input!$F$14*(D193*$D$169)+10*(B193*$B$169+C193*$C$169)","v":0},0,0]
["Scaler",{"$f":"Scaler!$B$411","v":1.0315626760064167},{"$f":"Scaler!$C$411","v":7.9451078781878227E-3},{"$f":"Scaler!$E$411","v":0},0.71197026366578353,{"$f":"0.01*Input!$F$14*(D194*$D$169)+10*(B194*$B$169+C194*$C$169)","v":4708153.7674705721},0.71197026366578364,140.50764786696936]
["Rounding",{"$f":"Adjust!$B$77","v":-2.981696175887727E-4},{"$f":"Adjust!$C$77","v":3.1837547021149049E-4},{"$f":"Adjust!$E$77","v":2.5241891778984282E-3},-1.0567279254193066E-4,{"$f":"0.01*Input!$F$14*(D195*$D$169)+10*(B195*$B$169+C195*$C$169)","v":-390.07802650140854},-5.8987868513827645E-5,-1.1641282059856775E-2]
[]
[]
["Total",{"$f":"SUM($B$173:$B$195)","v":2.4},{"$f":"SUM($C$173:$C$195)","v":9.4E-2},{"$f":"SUM($D$173:$D$195)","v":7.6},{"$f":"SUM(E$173:E$195)","v":1.6800239798491046},{"$f":"SUM($F$173:$F$195)","v":12039265.988993606},{"$f":"SUM($G$173:$G$195)","v":1.8205861158887593},{"$f":"SUM($H$173:$H$195)","v":359.29347886764134}]
[]
["Small Non Domestic Off Peak (related MPAN)"]
[]
[null,"Rate 1 units (MWh)","MWh/year"]
["Small Non Domestic Off Peak (related MPAN)",{"$f":"Loads!B$303","v":6149.4136827174971},{"$f":"Multi!B$120","v":6149.4136827174971}]
[]
[]
[null,"Unit rate 1 p/kWh","Revenue (£/year)","Average p/kWh"]
["Assets 132kV",{"$f":"Standing!$C$86","v":3.9234502454046284E-2},{"$f":"0+10*(B207*$B$203)","v":2412.6918622552544},{"$f":"IF($C$203<>0,0.1*C207/$C$203,\"\")","v":3.9234502454046291E-2}]
["Assets 132kV/EHV",{"$f":"Standing!$D$86","v":6.1186051627873843E-3},376.25834307190655,6.1186051627873843E-3]
["Assets EHV",{"$f":"Standing!$E$86","v":8.2782810348603509E-3},509.06574665151004,8.2782810348603509E-3]
["Assets EHV/HV",{"$f":"Standing!$F$86","v":1.4144495280031193E-2},869.80352810156876,1.4144495280031194E-2]
["Assets 132kV/HV",{"$f":"Standing!$G$86","v":0},0,0]
["Assets HV",{"$f":"Standing!$H$86","v":4.4265726427870015E-2},2722.0826377097337,4.4265726427870009E-2]
["Assets HV/LV",{"$f":"Standing!$I$86","v":1.624102991751963E-2},998.72811596219435,1.624102991751963E-2]
["Assets LV circuits",{"$f":"Standing!$J$86","v":0},0,0]
["Transmission exit",{"$f":"Standing!$K$86","v":9.5606434834844267E-3},587.92351852923002,9.5606434834844267E-3]
["Operating 132kV",{"$f":"Standing!$L$86","v":2.0045958391293837E-2},1232.7089081460795,2.0045958391293837E-2]
["Operating 132kV/EHV",{"$f":"Standing!$M$86","v":3.1261592943519594E-3},192.24046739042416,3.1261592943519598E-3]
["Operating EHV",{"$f":"Standing!$N$86","v":4.2295955548464796E-3},260.09532777334044,4.2295955548464796E-3]
["Operating EHV/HV",{"$f":"Standing!$O$86","v":7.2268015678663379E-3},444.40592443721522,7.2268015678663396E-3]
["Operating 132kV/HV",{"$f":"Standing!$P$86","v":0},0,0]
["Operating HV",{"$f":"Standing!$Q$86","v":3.6885809880242364E-2},2268.261039756786,3.6885809880242364E-2]
["Operating HV/LV",{"$f":"Standing!$R$86","v":2.3130137797564176E-2},1422.3678585548232,2.3130137797564183E-2]
["Operating LV circuits",{"$f":"Standing!$S$86","v":0},0,0]
["Scaler",{"$f":"Scaler!$B$412","v":0.1190287996806319},7319.5732939351783,0.1190287996806319]
["Rounding",{"$f":"Adjust!$B$78","v":4.834540726036396E-4},29.729590890343193,4.8345407260363954E-4]
[]
[]
["Total",{"$f":"SUM($B$207:$B$225)","v":0.35199999999999998},{"$f":"SUM($C$207:$C$225)","v":21645.936163165588},{"$f":"SUM($D$207:$D$225)","v":0.35199999999999998}]
[]
["LV Medium Non-Domestic"]
[]
[null,"Rate 1 units (MWh)","Rate 2 units (MWh)","MPANs","MWh/year","MWh/MPAN/year"]
["LV Medium Non-Domestic",{"$f":"Loads!B$304","v":1258968.1357159775},{"$f":"Loads!C$304","v":303981.62414603401},{"$f":"Loads!E$304","v":18523.573319216841},{"$f":"Multi!B$121","v":1562949.7598620115},{"$f":"IF(D233,E233/D233,\"\")","v":84.376255754097215}]
[]
[]
[null,"Unit rate 1 p/kWh","Unit rate 2 p/kWh","Fixed charge p/MPAN/day","Average unit rate (p/kWh)","Revenue (£/year)","Average p/kWh","Average £/MPAN/year"]
["Assets 132kV",{"$f":"Standing!$C$87","v":0.24610996740525137},{"$f":"Standing!$C$112","v":7.5754104281777696E-3},{"$f":"NHH!$C$92","v":0},{"$f":"IF(E$233<>0,(($B237*B$233+$C237*C$233))/E$233,0)","v":0.19971684338618678},{"$f":"0.01*Input!$F$14*(D237*$D$233)+10*(B237*$B$233+C237*$C$233)","v":3121473.9241083963},{"$f":"IF($E$233<>0,0.1*F237/$E$233,\"\")","v":0.19971684338618678},{"$f":"IF($D$233<>0,F237/$D$233,\"\")","v":168.51359455953875}]
["Assets 132kV/EHV",{"$f":"Standing!$D$87","v":3.8380752220394394E-2},{"$f":"Standing!$D$112","v":1.1813822645099371E-3},{"$f":"NHH!$D$92","v":0},3.1145762851703951E-2,{"$f":"0.01*Input!$F$14*(D238*$D$233)+10*(B238*$B$233+C238*$C$233)","v":486792.62569789845},3.1145762851703951E-2,26.279628520318322]
["Assets EHV",{"$f":"Standing!$E$87","v":4.2941372853643363E-2},{"$f":"Standing!$E$112","v":3.5355533572724719E-3},{"$f":"NHH!$E$92","v":0},3.5277246137011199E-2,{"$f":"0.01*Input!$F$14*(D239*$D$233)+10*(B239*$B$233+C239*$C$233)","v":551365.63378434721},3.5277246137011199E-2,29.765619423566946]
["Assets EHV/HV",{"$f":"Standing!$F$87","v":7.3370793174173068E-2},{"$f":"Standing!$F$112","v":6.0409422636957541E-3},{"$f":"NHH!$F$92","v":0},6.0275658603062991E-2,{"$f":"0.01*Input!$F$14*(D240*$D$233)+10*(B240*$B$233+C240*$C$233)","v":942078.26139181899},6.0275658603063005E-2,50.858343860386931]
["Assets 132kV/HV",{"$f":"Standing!$G$87","v":0},{"$f":"Standing!$G$112","v":0},{"$f":"NHH!$G$92","v":0},0,{"$f":"0.01*Input!$F$14*(D241*$D$233)+10*(B241*$B$233+C241*$C$233)","v":0},0,0]
["Assets HV",{"$f":"Standing!$H$87","v":0.22961663842674881},{"$f":"Standing!$H$112","v":1.8905354508395325E-2},{"$f":"NHH!$H$92","v":0},0.18863492554235503,{"$f":"0.01*Input!$F$14*(D242*$D$233)+10*(B242*$B$233+C242*$C$233)","v":2948269.1157801221},0.18863492554235503,159.16308721716831]
["Assets HV/LV",{"$f":"Standing!$I$87","v":8.424600690391422E-2},{"$f":"Standing!$I$112","v":6.9363467619238473E-3},{"$f":"NHH!$I$92","v":0},6.9209876725158534E-2,{"$f":"0.01*Input!$F$14*(D243*$D$233)+10*(B243*$B$233+C243*$C$233)","v":1081715.6020766594},6.9209876725158534E-2,58.396702592715158]
["Assets LV circuits",{"$f":"Standing!$J$87","v":0},{"$f":"Standing!$J$112","v":0},{"$f":"NHH!$J$92","v":5.3268343164561198},0,{"$f":"0.01*Input!$F$14*(D244*$D$233)+10*(B244*$B$233+C244*$C$233)","v":360152.82197371271},2.3043147721236387E-2,19.442945255064839]
["Assets LV customer",null,null,{"$f":"SM!$B$114","v":0},0,{"$f":"0.01*Input!$F$14*(D245*$D$233)+10*(B245*$B$233+C245*$C$233)","v":0},0,0]
["Assets HV customer",null,null,{"$f":"SM!$C$114","v":0},0,{"$f":"0.01*Input!$F$14*(D246*$D$233)+10*(B246*$B$233+C246*$C$233)","v":0},0,0]
["Transmission exit",{"$f":"Standing!$K$87","v":8.0152977549314455E-2},{"$f":"Standing!$K$112","v":5.9374032182797078E-4},{"$f":"NHH!$K$92","v":0},6.4679322049110699E-2,{"$f":"0.01*Input!$F$14*(D247*$D$233)+10*(B247*$B$233+C247*$C$233)","v":1010905.3086469527},6.4679322049110699E-2,54.573990192173831]
["Operating 132kV",{"$f":"Standing!$L$87","v":0.12574417560326562},{"$f":"Standing!$L$112","v":3.8704801320747721E-3},{"$f":"NHH!$L$92","v":0},0.10204068567580785,{"$f":"0.01*Input!$F$14*(D248*$D$233)+10*(B248*$B$233+C248*$C$233)","v":1594844.6517315889},0.10204068567580787,86.098109919054068]
["Operating 132kV/EHV",{"$f":"Standing!$M$87","v":1.9609754525056752E-2},{"$f":"Standing!$M$112","v":6.0359984802448681E-4},{"$f":"NHH!$M$92","v":0},1.5913204632112599E-2,{"$f":"0.01*Input!$F$14*(D249*$D$233)+10*(B249*$B$233+C249*$C$233)","v":248715.39358395437},1.5913204632112602E-2,13.426966239064171]
["Operating EHV",{"$f":"Standing!$N$87","v":2.1939897785052568E-2},{"$f":"Standing!$N$112","v":1.8064089272724791E-3},{"$f":"NHH!$N$92","v":0},1.8024090124507928E-2,{"$f":"0.01*Input!$F$14*(D250*$D$233)+10*(B250*$B$233+C250*$C$233)","v":281707.47331830917},1.8024090124507928E-2,15.208052380803787]
["Operating EHV/HV",{"$f":"Standing!$O$87","v":3.7487103827259463E-2},{"$f":"Standing!$O$112","v":3.0864792386264789E-3},{"$f":"NHH!$O$92","v":0},3.0796448757825955E-2,{"$f":"0.01*Input!$F$14*(D251*$D$233)+10*(B251*$B$233+C251*$C$233)","v":481333.0219064682},3.0796448757825955E-2,25.98489036708272]
["Operating 132kV/HV",{"$f":"Standing!$P$87","v":0},{"$f":"Standing!$P$112","v":0},{"$f":"NHH!$P$92","v":0},0,{"$f":"0.01*Input!$F$14*(D252*$D$233)+10*(B252*$B$233+C252*$C$233)","v":0},0,0]
["Operating HV",{"$f":"Standing!$Q$87","v":0.191335291518381},{"$f":"Standing!$Q$112","v":1.5753481720254859E-2},{"$f":"NHH!$Q$92","v":0},0.15718598929279529,{"$f":"0.01*Input!$F$14*(D253*$D$233)+10*(B253*$B$233+C253*$C$233)","v":2456738.0421884712},0.15718598929279529,132.6276523352968]
["Operating HV/LV",{"$f":"Standing!$R$87","v":0.11998141487813209},{"$f":"Standing!$R$112","v":9.8786011250380848E-3},{"$f":"NHH!$R$92","v":0},9.8567270286134004E-2,{"$f":"0.01*Input!$F$14*(D254*$D$233)+10*(B254*$B$233+C254*$C$233)","v":1540556.9142396713},9.8567270286134004E-2,83.1673720664607]
["Operating LV circuits",{"$f":"Standing!$S$87","v":0},{"$f":"Standing!$S$112","v":0},{"$f":"NHH!$S$92","v":26.080874715256126},0,{"$f":"0.01*Input!$F$14*(D255*$D$233)+10*(B255*$B$233+C255*$C$233)","v":1763355.1318133476},0.11282225296666154,95.195192710684864]
["Operating LV customer",null,null,{"$f":"Otex!$B$127","v":6.4143683168161498},0,{"$f":"0.01*Input!$F$14*(D256*$D$233)+10*(B256*$B$233+C256*$C$233)","v":433682.12961746997},2.7747669231271935E-2,23.412444356378948]
["Operating HV customer",null,null,{"$f":"Otex!$C$127","v":0},0,{"$f":"0.01*Input!$F$14*(D257*$D$233)+10*(B257*$B$233+C257*$C$233)","v":0},0,0]
["Scaler",{"$f":"Scaler!$B$413","v":0.9978944121286748},{"$f":"Scaler!$C$413","v":7.3919917577994028E-3},{"$f":"Scaler!$E$413","v":0},0.8052493622382042,{"$f":"0.01*Input!$F$14*(D258*$D$233)+10*(B258*$B$233+C258*$C$233)","v":12585642.973392392},0.8052493622382042,679.43926134034382]
["Rounding",{"$f":"Adjust!$B$79","v":1.8944120073793869E-4},{"$f":"Adjust!$C$79","v":-1.5977265489365566E-4},{"$f":"Adjust!$E$79","v":-2.0773485283953619E-3},1.2152181027809255E-4,{"$f":"0.01*Input!$F$14*(D259*$D$233)+10*(B259*$B$233+C259*$C$233)","v":1758.8731420415768},1.1253548816545856E-4,9.495323130860911E-2]
[]
[]
["Total",{"$f":"SUM($B$237:$B$259)","v":2.3090000000000002},{"$f":"SUM($C$237:$C$259)","v":8.6999999999999994E-2},{"$f":"SUM($D$237:$D$259)","v":37.82},{"$f":"SUM(E$237:E$259)","v":1.8768382081122552},{"$f":"SUM($F$237:$F$259)","v":31891087.898393624},{"$f":"SUM($G$237:$G$259)","v":2.0404422917093124},{"$f":"SUM($H$237:$H$259)","v":1721.6488065674114}]
[]
["LV Sub Medium Non-Domestic"]
[]
[null,"Rate 1 units (MWh)","Rate 2 units (MWh)","MPANs","MWh/year","MWh/MPAN/year"]
["LV Sub Medium Non-Domestic",{"$f":"Loads!B$305","v":89.950748079622556},{"$f":"Loads!C$305","v":23.623336513735023},{"$f":"Loads!E$305","v":3.1218120300000005},{"$f":"Multi!B$122","v":113.57408459335758},{"$f":"IF(D267,E267/D267,\"\")","v":36.380820978948421}]
[]
[]
[null,"Unit rate 1 p/kWh","Unit rate 2 p/kWh","Fixed charge p/MPAN/day","Average unit rate (p/kWh)","Revenue (£/year)","Average p/kWh","Average £/MPAN/year"]
["Assets 132kV",{"$f":"Standing!$C$88","v":0.24426452684479544},{"$f":"Standing!$C$113","v":7.5186066757184427E-3},{"$f":"NHH!$C$93","v":0},{"$f":"IF(E$267<>0,(($B271*B$267+$C271*C$267))/E$267,0)","v":0.19502152778887305},{"$f":"0.01*Input!$F$14*(D271*$D$267)+10*(B271*$B$267+C271*$C$267)","v":221.49391494619306},{"$f":"IF($E$267<>0,0.1*F271/$E$267,\"\")","v":0.19502152778887308},{"$f":"IF($D$267<>0,F271/$D$267,\"\")","v":70.950432895280059}]
["Assets 132kV/EHV",{"$f":"Standing!$D$88","v":3.8092956493812967E-2},{"$f":"Standing!$D$113","v":1.1725237417474679E-3},{"$f":"NHH!$D$93","v":0},3.0413530238628538E-2,{"$f":"0.01*Input!$F$14*(D272*$D$267)+10*(B272*$B$267+C272*$C$267)","v":34.541888561046363},3.0413530238628538E-2,11.064691989493793]
["Assets EHV",{"$f":"Standing!$E$88","v":4.2619379591764255E-2},{"$f":"Standing!$E$113","v":3.5090422263420306E-3},{"$f":"NHH!$E$93","v":0},3.4484454586142778E-2,{"$f":"0.01*Input!$F$14*(D273*$D$267)+10*(B273*$B$267+C273*$C$267)","v":39.165403623223774},3.4484454586142778E-2,12.545727688551372]
["Assets EHV/HV",{"$f":"Standing!$F$88","v":7.2820626762369459E-2},{"$f":"Standing!$F$113","v":5.9956446270565972E-3},{"$f":"NHH!$F$93","v":0},5.8921073478193975E-2,{"$f":"0.01*Input!$F$14*(D274*$D$267)+10*(B274*$B$267+C274*$C$267)","v":66.919069835438407},5.8921073478193982E-2,21.435970260976411]
["Assets 132kV/HV",{"$f":"Standing!$G$88","v":0},{"$f":"Standing!$G$113","v":0},{"$f":"NHH!$G$93","v":0},0,{"$f":"0.01*Input!$F$14*(D275*$D$267)+10*(B275*$B$267+C275*$C$267)","v":0},0,0]
["Assets HV",{"$f":"Standing!$H$88","v":0.22789487208637735},{"$f":"Standing!$H$113","v":1.8763593862179215E-2},{"$f":"NHH!$H$93","v":0},0.18439570078575548,{"$f":"0.01*Input!$F$14*(D276*$D$267)+10*(B276*$B$267+C276*$C$267)","v":209.42572919692847},0.18439570078575551,67.084669795743096]
["Assets HV/LV",{"$f":"Standing!$I$88","v":0},{"$f":"Standing!$I$113","v":0},{"$f":"NHH!$I$93","v":5.6361289526004708},0,{"$f":"0.01*Input!$F$14*(D277*$D$267)+10*(B277*$B$267+C277*$C$267)","v":64.221513359037004},5.6545922063978515E-2,20.571870676991718]
["Assets LV circuits",{"$f":"Standing!$J$88","v":0},{"$f":"Standing!$J$113","v":0},{"$f":"NHH!$J$93","v":0},0,{"$f":"0.01*Input!$F$14*(D278*$D$267)+10*(B278*$B$267+C278*$C$267)","v":0},0,0]
["Assets LV customer",null,null,{"$f":"SM!$B$115","v":0},0,{"$f":"0.01*Input!$F$14*(D279*$D$267)+10*(B279*$B$267+C279*$C$267)","v":0},0,0]
["Assets HV customer",null,null,{"$f":"SM!$C$115","v":0},0,{"$f":"0.01*Input!$F$14*(D280*$D$267)+10*(B280*$B$267+C280*$C$267)","v":0},0,0]
["Transmission exit",{"$f":"Standing!$K$88","v":7.9551955342167274E-2},{"$f":"Standing!$K$113","v":5.8928819628493946E-4},{"$f":"NHH!$K$93","v":0},6.3127771386047388E-2,{"$f":"0.01*Input!$F$14*(D281*$D$267)+10*(B281*$B$267+C281*$C$267)","v":71.696788475890841},6.3127771386047388E-2,22.966401495957726]
["Operating 132kV",{"$f":"Standing!$L$88","v":0.1248012905818018},{"$f":"Standing!$L$113","v":3.8414575731777218E-3},{"$f":"NHH!$L$93","v":0},9.9641723150209749E-2,{"$f":"0.01*Input!$F$14*(D282*$D$267)+10*(B282*$B$267+C282*$C$267)","v":113.16717494089838},9.9641723150209749E-2,36.250476919617213]
["Operating 132kV/EHV",{"$f":"Standing!$M$88","v":1.9462711978333991E-2},{"$f":"Standing!$M$113","v":5.990737914264001E-4},{"$f":"NHH!$M$93","v":0},1.5539087373670235E-2,{"$f":"0.01*Input!$F$14*(D283*$D$267)+10*(B283*$B$267+C283*$C$267)","v":17.64837623880798},1.5539087373670235E-2,5.6532475591773466]
["Operating EHV",{"$f":"Standing!$N$88","v":2.177538280139843E-2},{"$f":"Standing!$N$113","v":1.792863680250162E-3},{"$f":"NHH!$N$93","v":0},1.7619031682380576E-2,{"$f":"0.01*Input!$F$14*(D284*$D$267)+10*(B284*$B$267+C284*$C$267)","v":20.01065394747739},1.7619031682380576E-2,6.4099483745910826]
["Operating EHV/HV",{"$f":"Standing!$O$88","v":3.7206009068578121E-2},{"$f":"Standing!$O$113","v":3.0633354625493893E-3},{"$f":"NHH!$O$93","v":0},3.0104354928360576E-2,{"$f":"0.01*Input!$F$14*(D285*$D$267)+10*(B285*$B$267+C285*$C$267)","v":34.190745532620852},3.0104354928360576E-2,10.952211473354097]
["Operating 132kV/HV",{"$f":"Standing!$P$88","v":0},{"$f":"Standing!$P$113","v":0},{"$f":"NHH!$P$93","v":0},0,{"$f":"0.01*Input!$F$14*(D286*$D$267)+10*(B286*$B$267+C286*$C$267)","v":0},0,0]
["Operating HV",{"$f":"Standing!$Q$88","v":0.18990057551992942},{"$f":"Standing!$Q$113","v":1.5635355199653238E-2},{"$f":"NHH!$Q$93","v":0},0.15365352182800973,{"$f":"0.01*Input!$F$14*(D287*$D$267)+10*(B287*$B$267+C287*$C$267)","v":174.51058086161694},0.15365352182800973,55.900412704097661]
["Operating HV/LV",{"$f":"Standing!$R$88","v":0},{"$f":"Standing!$R$113","v":0},{"$f":"NHH!$R$93","v":8.0268579012875509},0,{"$f":"0.01*Input!$F$14*(D288*$D$267)+10*(B288*$B$267+C288*$C$267)","v":91.462946691591114},8.0531528842223532E-2,29.298031339699559]
["Operating LV circuits",{"$f":"Standing!$S$88","v":0},{"$f":"Standing!$S$113","v":0},{"$f":"NHH!$S$93","v":0},0,{"$f":"0.01*Input!$F$14*(D289*$D$267)+10*(B289*$B$267+C289*$C$267)","v":0},0,0]
["Operating LV customer",null,null,{"$f":"Otex!$B$128","v":4.7785854073475686},0,{"$f":"0.01*Input!$F$14*(D290*$D$267)+10*(B290*$B$267+C290*$C$267)","v":54.450135750296333},4.7942394557042176E-2,17.441836736818622]
["Operating HV customer",null,null,{"$f":"Otex!$C$128","v":0},0,{"$f":"0.01*Input!$F$14*(D291*$D$267)+10*(B291*$B$267+C291*$C$267)","v":0},0,0]
["Scaler",{"$f":"Scaler!$B$414","v":0.99041176182153667},{"$f":"Scaler!$C$414","v":7.3365633590383849E-3},{"$f":"Scaler!$E$414","v":0},0.78593275312218169,{"$f":"0.01*Input!$F$14*(D292*$D$267)+10*(B292*$B$267+C292*$C$267)","v":892.61592987789084},0.78593275312218169,285.92878792830157]
["Rounding",{"$f":"Adjust!$B$80","v":1.9795110713483055E-4},{"$f":"Adjust!$C$80","v":1.8265160457602014E-4},{"$f":"Adjust!$E$80","v":-1.5722612355908439E-3},1.947688204473914E-4,{"$f":"0.01*Input!$F$14*(D293*$D$267)+10*(B293*$B$267+C293*$C$267)","v":0.20329159515197395},1.7899470277910878E-4,6.5119742379868367E-2]
[]
[]
["Total",{"$f":"SUM($B$271:$B$293)","v":2.089},{"$f":"SUM($C$271:$C$293)","v":7.0000000000000007E-2},{"$f":"SUM($D$271:$D$293)","v":18.440000000000001},{"$f":"SUM(E$271:E$293)","v":1.669049299168901},{"$f":"SUM($F$271:$F$293)","v":2105.7241434341095},{"$f":"SUM($G$271:$G$293)","v":1.8540533705144771},{"$f":"SUM($H$271:$H$293)","v":674.51983758103131}]
[]
["HV Medium Non-Domestic"]
[]
[null,"Rate 1 units (MWh)","Rate 2 units (MWh)","MPANs","MWh/year","MWh/MPAN/year"]
["HV Medium Non-Domestic",{"$f":"Loads!B$306","v":35787.536293291574},{"$f":"Loads!C$306","v":9819.4231999734202},{"$f":"Loads!E$306","v":284.08489473000003},{"$f":"Multi!B$123","v":45606.959493264992},{"$f":"IF(D301,E301/D301,\"\")","v":160.53989613425509}]
[]
[]
[null,"Unit rate 1 p/kWh","Unit rate 2 p/kWh","Fixed charge p/MPAN/day","Average unit rate (p/kWh)","Revenue (£/year)","Average p/kWh","Average £/MPAN/year"]
["Assets 132kV",{"$f":"Standing!$C$89","v":0.22355405203528234},{"$f":"Standing!$C$114","v":6.9970689313867988E-3},{"$f":"NHH!$C$94","v":0},{"$f":"IF(E$301<>0,(($B305*B$301+$C305*C$301))/E$301,0)","v":0.17692817108128739},{"$f":"0.01*Input!$F$14*(D305*$D$301)+10*(B305*$B$301+C305*$C$301)","v":80691.559317217325},{"$f":"IF($E$301<>0,0.1*F305/$E$301,\"\")","v":0.17692817108128739},{"$f":"IF($D$301<>0,F305/$D$301,\"\")","v":284.04030208613591}]
["Assets 132kV/EHV",{"$f":"Standing!$D$89","v":3.4863166126477836E-2},{"$f":"Standing!$D$114","v":1.0911901364903693E-3},{"$f":"NHH!$D$94","v":0},2.7591878405707929E-2,{"$f":"0.01*Input!$F$14*(D306*$D$301)+10*(B306*$B$301+C306*$C$301)","v":12583.816807922147},2.7591878405707936E-2,44.29597293401347]
["Assets EHV",{"$f":"Standing!$E$89","v":3.1257618084594936E-2},{"$f":"Standing!$E$114","v":2.6125064283686336E-3},{"$f":"NHH!$E$94","v":3.9352902721073564},2.5090171776219229E-2,{"$f":"0.01*Input!$F$14*(D307*$D$301)+10*(B307*$B$301+C307*$C$301)","v":15523.405786566091},3.403736175146363E-2,54.643545202640382]
["Assets EHV/HV",{"$f":"Standing!$F$89","v":0},{"$f":"Standing!$F$114","v":0},{"$f":"NHH!$F$94","v":24.957897852197053},0,{"$f":"0.01*Input!$F$14*(D308*$D$301)+10*(B308*$B$301+C308*$C$301)","v":25879.090511685754},5.6743731218274807E-2,91.096327160519252]
["Assets 132kV/HV",{"$f":"Standing!$G$89","v":0},{"$f":"Standing!$G$114","v":0},{"$f":"NHH!$G$94","v":0},0,{"$f":"0.01*Input!$F$14*(D309*$D$301)+10*(B309*$B$301+C309*$C$301)","v":0},0,0]
["Assets HV",{"$f":"Standing!$H$89","v":0},{"$f":"Standing!$H$114","v":0},{"$f":"NHH!$H$94","v":62.071391799723827},0,{"$f":"0.01*Input!$F$14*(D310*$D$301)+10*(B310*$B$301+C310*$C$301)","v":64362.438538867325},0.14112416011501941,226.56058006899195]
["Assets HV/LV",{"$f":"Standing!$I$89","v":0},{"$f":"Standing!$I$114","v":0},{"$f":"NHH!$I$94","v":0},0,{"$f":"0.01*Input!$F$14*(D311*$D$301)+10*(B311*$B$301+C311*$C$301)","v":0},0,0]
["Assets LV circuits",{"$f":"Standing!$J$89","v":0},{"$f":"Standing!$J$114","v":0},{"$f":"NHH!$J$94","v":0},0,{"$f":"0.01*Input!$F$14*(D312*$D$301)+10*(B312*$B$301+C312*$C$301)","v":0},0,0]
["Assets LV customer",null,null,{"$f":"SM!$B$116","v":0},0,{"$f":"0.01*Input!$F$14*(D313*$D$301)+10*(B313*$B$301+C313*$C$301)","v":0},0,0]
["Assets HV customer",null,null,{"$f":"SM!$C$116","v":0},0,{"$f":"0.01*Input!$F$14*(D314*$D$301)+10*(B314*$B$301+C314*$C$301)","v":0},0,0]
["Transmission exit",{"$f":"Standing!$K$89","v":7.134310119957922E-2},{"$f":"Standing!$K$114","v":5.4841146873324271E-4},{"$f":"NHH!$K$94","v":0},5.6100624470108863E-2,{"$f":"0.01*Input!$F$14*(D315*$D$301)+10*(B315*$B$301+C315*$C$301)","v":25585.789077551257},5.6100624470108863E-2,90.063884254981261]
["Operating 132kV",{"$f":"Standing!$L$89","v":0.1142197541705347},{"$f":"Standing!$L$114","v":3.5749899676663093E-3},{"$f":"NHH!$L$94","v":0},9.0397342489491189E-2,{"$f":"0.01*Input!$F$14*(D316*$D$301)+10*(B316*$B$301+C316*$C$301)","v":41227.479372170274},9.0397342489491189E-2,145.123799740756]
["Operating 132kV/EHV",{"$f":"Standing!$M$89","v":1.7812525553973602E-2},{"$f":"Standing!$M$114","v":5.5751827358321198E-4},{"$f":"NHH!$M$94","v":0},1.409742986052364E-2,{"$f":"0.01*Input!$F$14*(D317*$D$301)+10*(B317*$B$301+C317*$C$301)","v":6429.4091260804598},1.409742986052364E-2,22.631999255684111]
["Operating EHV",{"$f":"Standing!$N$89","v":1.5970354467184613E-2},{"$f":"Standing!$N$114","v":1.3347995229811898E-3},{"$f":"NHH!$N$94","v":2.0106452259646743},1.2819240923103263E-2,{"$f":"0.01*Input!$F$14*(D318*$D$301)+10*(B318*$B$301+C318*$C$301)","v":7931.323886498818},1.7390599975580647E-2,27.91885113792096]
["Operating EHV/HV",{"$f":"Standing!$O$89","v":0},{"$f":"Standing!$O$114","v":0},{"$f":"NHH!$O$94","v":17.177214562246583},0,{"$f":"0.01*Input!$F$14*(D319*$D$301)+10*(B319*$B$301+C319*$C$301)","v":17811.22324594712},3.905373970079587E-2,62.696833152200021]
["Operating 132kV/HV",{"$f":"Standing!$P$89","v":0},{"$f":"Standing!$P$114","v":0},{"$f":"NHH!$P$94","v":0},0,{"$f":"0.01*Input!$F$14*(D320*$D$301)+10*(B320*$B$301+C320*$C$301)","v":0},0,0]
["Operating HV",{"$f":"Standing!$Q$89","v":0},{"$f":"Standing!$Q$114","v":0},{"$f":"NHH!$Q$94","v":65.427621931673016},0,{"$f":"0.01*Input!$F$14*(D321*$D$301)+10*(B321*$B$301+C321*$C$301)","v":67842.546674461541},0.14875481160825946,238.81082005060654]
["Operating HV/LV",{"$f":"Standing!$R$89","v":0},{"$f":"Standing!$R$114","v":0},{"$f":"NHH!$R$94","v":0},0,{"$f":"0.01*Input!$F$14*(D322*$D$301)+10*(B322*$B$301+C322*$C$301)","v":0},0,0]
["Operating LV circuits",{"$f":"Standing!$S$89","v":0},{"$f":"Standing!$S$114","v":0},{"$f":"NHH!$S$94","v":0},0,{"$f":"0.01*Input!$F$14*(D323*$D$301)+10*(B323*$B$301+C323*$C$301)","v":0},0,0]
["Operating LV customer",null,null,{"$f":"Otex!$B$129","v":0},0,{"$f":"0.01*Input!$F$14*(D324*$D$301)+10*(B324*$B$301+C324*$C$301)","v":0},0,0]
["Operating HV customer",null,null,{"$f":"Otex!$C$129","v":78.737422848170496},0,{"$f":"0.01*Input!$F$14*(D325*$D$301)+10*(B325*$B$301+C325*$C$301)","v":81643.61055613916},0.17901568414837188,287.39159339582233]
["Scaler",{"$f":"Scaler!$B$415","v":0.8882125681131301},{"$f":"Scaler!$C$415","v":6.827653281619891E-3},{"$f":"Scaler!$E$415","v":0},0.69844566461935065,{"$f":"0.01*Input!$F$14*(D326*$D$301)+10*(B326*$B$301+C326*$C$301)","v":318539.83134541271},0.69844566461935065,1121.2839445341131]
["Rounding",{"$f":"Adjust!$B$81","v":-2.331397507573385E-4},{"$f":"Adjust!$C$81","v":4.5586198917035511E-4},{"$f":"Adjust!$E$81","v":2.5155079169678629E-3},-8.4793977545529549E-5,{"$f":"0.01*Input!$F$14*(D327*$D$301)+10*(B327*$B$301+C327*$C$301)","v":-36.063600015405186},-7.907477371020728E-5,-0.12694655958276399]
[]
[]
["Total",{"$f":"SUM($B$305:$B$327)","v":1.397},{"$f":"SUM($C$305:$C$327)","v":2.4E-2},{"$f":"SUM($D$305:$D$327)","v":254.32},{"$f":"SUM(E$305:E$327)","v":1.1013857296482465},{"$f":"SUM($F$305:$F$327)","v":766015.46064650454},{"$f":"SUM($G$305:$G$327)","v":1.6796021246705251},{"$f":"SUM($H$305:$H$327)","v":2696.4315064148027}]
[]
["LV HH Metered"]
[]
[null,"Rate 1 units (MWh)","Rate 2 units (MWh)","Rate 3 units (MWh)","MPANs","Import capacity (kVA)","Reactive power units (MVArh)","MWh/year","MWh/MPAN/year"]
["LV HH Metered",{"$f":"Loads!B$307","v":203002.91683653009},{"$f":"Loads!C$307","v":807303.76427253115},{"$f":"Loads!D$307","v":832135.73325289262},{"$f":"Loads!E$307","v":6304.1139701367183},{"$f":"Loads!F$307","v":992485.19599764096},{"$f":"Loads!G$307","v":165094.87591857434},{"$f":"Multi!B$124","v":1842442.4143619537},{"$f":"IF(E335,H335/E335,\"\")","v":292.2603276352246}]
[]
[]
[null,"Unit rate 1 p/kWh","Unit rate 2 p/kWh","Unit rate 3 p/kWh","Fixed charge p/MPAN/day","Capacity charge p/kVA/day","Reactive power charge p/kVArh","Average unit rate (p/kWh)","Revenue (£/year)","Average p/kWh","Average £/MPAN/year","Average p/kVA/day"]
["Assets 132kV",{"$f":"Standing!$C$90","v":1.1528364245744598},{"$f":"Standing!$C$115","v":0.11633380967494517},{"$f":"Standing!$C$131","v":6.9178945542626271E-3},null,{"$f":"Standing!$C$34","v":0},{"$f":"Reactive!$C$22","v":4.7255545987146694E-2},{"$f":"IF(H$335<>0,(($B339*B$335+$C339*C$335+$D339*D$335+$G339*G$335))/H$335,0)","v":0.18535404546888576},{"$f":"0.01*Input!$F$14*(E339*$E$335+F339*$F$335)+10*(B339*$B$335+C339*$C$335+D339*$D$335+G339*$G$335)","v":3415041.5504544922},{"$f":"IF($H$335<>0,0.1*I339/$H$335,\"\")","v":0.18535404546888579},{"$f":"IF($E$335<>0,I339/$E$335,\"\")","v":541.71634057250867},{"$f":"IF($F$335<>0,I339/$F$335*100/Input!$F$14,\"\")","v":0.94271211884610373}]
["Assets 132kV/EHV",{"$f":"Standing!$D$90","v":0.17978438512154957},{"$f":"Standing!$D$115","v":1.8142211674980369E-2},{"$f":"Standing!$D$131","v":1.0788429236462699E-3},null,{"$f":"Standing!$D$34","v":0},{"$f":"Reactive!$D$22","v":7.3694837340156794E-3},2.8905890188814932E-2,{"$f":"0.01*Input!$F$14*(E340*$E$335+F340*$F$335)+10*(B340*$B$335+C340*$C$335+D340*$D$335+G340*$G$335)","v":532574.3810876169},2.8905890188814932E-2,84.480449371708758,{"$f":"IF($F$335<>0,I340/$F$335*100/Input!$F$14,\"\")","v":0.14701558262781378}]
["Assets EHV",{"$f":"Standing!$E$90","v":0.19051812302411245},{"$f":"Standing!$E$115","v":2.1830911982670977E-2},{"$f":"Standing!$E$131","v":3.2286812111992171E-3},null,{"$f":"Standing!$E$34","v":0},{"$f":"Reactive!$E$22","v":8.4880619397067567E-3},3.2776030433486883E-2,{"$f":"0.01*Input!$F$14*(E341*$E$335+F341*$F$335)+10*(B341*$B$335+C341*$C$335+D341*$D$335+G341*$G$335)","v":603879.48645074444},3.2776030433486883E-2,95.791333930729678,{"$f":"IF($F$335<>0,I341/$F$335*100/Input!$F$14,\"\")","v":0.16669914605399597}]
["Assets EHV/HV",{"$f":"Standing!$F$90","v":0.32552442717601215},{"$f":"Standing!$F$115","v":3.7300887732289352E-2},{"$f":"Standing!$F$131","v":5.5166122000716916E-3},null,{"$f":"Standing!$F$34","v":0},{"$f":"Reactive!$F$22","v":1.4502932618162797E-2},5.6002013680420383E-2,{"$f":"0.01*Input!$F$14*(E342*$E$335+F342*$F$335)+10*(B342*$B$335+C342*$C$335+D342*$D$335+G342*$G$335)","v":1031804.8529448489},5.6002013680420383E-2,163.6716686647199,{"$f":"IF($F$335<>0,I342/$F$335*100/Input!$F$14,\"\")","v":0.28482667773862935}]
["Assets 132kV/HV",{"$f":"Standing!$G$90","v":0},{"$f":"Standing!$G$115","v":0},{"$f":"Standing!$G$131","v":0},null,{"$f":"Standing!$G$34","v":0},{"$f":"Reactive!$G$22","v":0},0,{"$f":"0.01*Input!$F$14*(E343*$E$335+F343*$F$335)+10*(B343*$B$335+C343*$C$335+D343*$D$335+G343*$G$335)","v":0},0,0,{"$f":"IF($F$335<>0,I343/$F$335*100/Input!$F$14,\"\")","v":0}]
["Assets HV",{"$f":"Standing!$H$90","v":0.81499268534836955},{"$f":"Standing!$H$115","v":9.338761739800007E-2},{"$f":"Standing!$H$131","v":1.3811555187933727E-2},null,{"$f":"Standing!$H$34","v":0.35439398118758036},{"$f":"Reactive!$H$22","v":3.6309975575233737E-2},0.14020831527227776,{"$f":"0.01*Input!$F$14*(E344*$E$335+F344*$F$335)+10*(B344*$B$335+C344*$C$335+D344*$D$335+G344*$G$335)","v":3867074.8155983649},0.20988850373038936,613.42082867110651,{"$f":"IF($F$335<>0,I344/$F$335*100/Input!$F$14,\"\")","v":1.0674945646456255}]
["Assets HV/LV",{"$f":"Standing!$I$90","v":0},{"$f":"Standing!$I$115","v":0},{"$f":"Standing!$I$131","v":0},null,{"$f":"Standing!$I$34","v":0.6501331521617747},{"$f":"Reactive!$I$22","v":0},0,{"$f":"0.01*Input!$F$14*(E345*$E$335+F345*$F$335)+10*(B345*$B$335+C345*$C$335+D345*$D$335+G345*$G$335)","v":2355153.4806596274},0.12782779327598295,373.58992743726537,{"$f":"IF($F$335<>0,I345/$F$335*100/Input!$F$14,\"\")","v":0.6501331521617747}]
["Assets LV circuits",{"$f":"Standing!$J$90","v":0},{"$f":"Standing!$J$115","v":0},{"$f":"Standing!$J$131","v":0},null,{"$f":"Standing!$J$34","v":0.25854124685806679},{"$f":"Reactive!$J$22","v":0},0,{"$f":"0.01*Input!$F$14*(E346*$E$335+F346*$F$335)+10*(B346*$B$335+C346*$C$335+D346*$D$335+G346*$G$335)","v":936584.01422412053},5.0833828342388872E-2,148.56711326299336,{"$f":"IF($F$335<>0,I346/$F$335*100/Input!$F$14,\"\")","v":0.25854124685806679}]
["Assets LV customer",null,null,null,{"$f":"SM!$B$117","v":0},null,null,0,{"$f":"0.01*Input!$F$14*(E347*$E$335+F347*$F$335)+10*(B347*$B$335+C347*$C$335+D347*$D$335+G347*$G$335)","v":0},0,0,{"$f":"IF($F$335<>0,I347/$F$335*100/Input!$F$14,\"\")","v":0}]
["Assets HV customer",null,null,null,{"$f":"SM!$C$117","v":0},null,null,0,{"$f":"0.01*Input!$F$14*(E348*$E$335+F348*$F$335)+10*(B348*$B$335+C348*$C$335+D348*$D$335+G348*$G$335)","v":0},0,0,{"$f":"IF($F$335<>0,I348/$F$335*100/Input!$F$14,\"\")","v":0}]
["Transmission exit",{"$f":"Standing!$K$90","v":0.47524657784527025},{"$f":"Standing!$K$115","v":1.2864498961231817E-2},{"$f":"Standing!$K$131","v":5.4220599371642016E-4},null,{"$f":"Standing!$K$34","v":0},{"$f":"Reactive!$K$22","v":1.5412794956835356E-2},5.9626157948175627E-2,{"$f":"0.01*Input!$F$14*(E349*$E$335+F349*$F$335)+10*(B349*$B$335+C349*$C$335+D349*$D$335+G349*$G$335)","v":1098577.624091639},5.9626157948175627E-2,174.26360457563459,{"$f":"IF($F$335<>0,I349/$F$335*100/Input!$F$14,\"\")","v":0.30325910371032488}]
["Operating 132kV",{"$f":"Standing!$L$90","v":0.58901501366189124},{"$f":"Standing!$L$115","v":5.9438059931460757E-2},{"$f":"Standing!$L$131","v":3.5345376573216896E-3},null,{"$f":"Standing!$L$34","v":0},{"$f":"Reactive!$L$22","v":2.4144124415129958E-2},9.4702347442259388E-2,{"$f":"0.01*Input!$F$14*(E350*$E$335+F350*$F$335)+10*(B350*$B$335+C350*$C$335+D350*$D$335+G350*$G$335)","v":1744836.2166726098},9.4702347442259402E-2,276.777390912996,{"$f":"IF($F$335<>0,I350/$F$335*100/Input!$F$14,\"\")","v":0.48165687666082602}]
["Operating 132kV/EHV",{"$f":"Standing!$M$90","v":9.1856658760285897E-2},{"$f":"Standing!$M$115","v":9.2693419723790926E-3},{"$f":"Standing!$M$131","v":5.5120975176083998E-4},null,{"$f":"Standing!$M$34","v":0},{"$f":"Reactive!$M$22","v":3.7652666672764123E-3},1.4768793682727946E-2,{"$f":"0.01*Input!$F$14*(E351*$E$335+F351*$F$335)+10*(B351*$B$335+C351*$C$335+D351*$D$335+G351*$G$335)","v":272106.51890018844},1.4768793682727946E-2,43.163324804911042,{"$f":"IF($F$335<>0,I351/$F$335*100/Input!$F$14,\"\")","v":7.5114199694025732E-2}]
["Operating EHV",{"$f":"Standing!$N$90","v":9.7340813010230731E-2},{"$f":"Standing!$N$115","v":1.1153997779408266E-2},{"$f":"Standing!$N$131","v":1.649619726776397E-3},null,{"$f":"Standing!$N$34","v":0},{"$f":"Reactive!$N$22","v":4.3367782391372884E-3},1.6746152014314605E-2,{"$f":"0.01*Input!$F$14*(E352*$E$335+F352*$F$335)+10*(B352*$B$335+C352*$C$335+D352*$D$335+G352*$G$335)","v":308538.20748526097},1.6746152014314605E-2,48.942358743328626,{"$f":"IF($F$335<>0,I352/$F$335*100/Input!$F$14,\"\")","v":8.5171059568718732E-2}]
["Operating EHV/HV",{"$f":"Standing!$O$90","v":0.16631915060381061},{"$f":"Standing!$O$115","v":1.9058022828646343E-2},{"$f":"Standing!$O$131","v":2.8185849623826773E-3},null,{"$f":"Standing!$O$34","v":0},{"$f":"Reactive!$O$22","v":7.409936806410217E-3},2.8612929076423127E-2,{"$f":"0.01*Input!$F$14*(E353*$E$335+F353*$F$335)+10*(B353*$B$335+C353*$C$335+D353*$D$335+G353*$G$335)","v":527176.74129532371},2.8612929076423127E-2,83.624240264788668,{"$f":"IF($F$335<>0,I353/$F$335*100/Input!$F$14,\"\")","v":0.14552558012852251}]
["Operating 132kV/HV",{"$f":"Standing!$P$90","v":0},{"$f":"Standing!$P$115","v":0},{"$f":"Standing!$P$131","v":0},null,{"$f":"Standing!$P$34","v":0},{"$f":"Reactive!$P$22","v":0},0,{"$f":"0.01*Input!$F$14*(E354*$E$335+F354*$F$335)+10*(B354*$B$335+C354*$C$335+D354*$D$335+G354*$G$335)","v":0},0,0,{"$f":"IF($F$335<>0,I354/$F$335*100/Input!$F$14,\"\")","v":0}]
["Operating HV",{"$f":"Standing!$Q$90","v":0.67911830825894026},{"$f":"Standing!$Q$115","v":7.7818171720833884E-2},{"$f":"Standing!$Q$131","v":1.1508913101036224E-2},null,{"$f":"Standing!$Q$34","v":0.29530993993937898},{"$f":"Reactive!$Q$22","v":3.025643006235787E-2},0.1168329919805898,{"$f":"0.01*Input!$F$14*(E355*$E$335+F355*$F$335)+10*(B355*$B$335+C355*$C$335+D355*$D$335+G355*$G$335)","v":3222361.8124343557},0.17489620230818853,511.15221388747699,{"$f":"IF($F$335<>0,I355/$F$335*100/Input!$F$14,\"\")","v":0.88952344708206577}]
["Operating HV/LV",{"$f":"Standing!$R$90","v":0},{"$f":"Standing!$R$115","v":0},{"$f":"Standing!$R$131","v":0},null,{"$f":"Standing!$R$34","v":0.9259061446617417},{"$f":"Reactive!$R$22","v":0},0,{"$f":"0.01*Input!$F$14*(E356*$E$335+F356*$F$335)+10*(B356*$B$335+C356*$C$335+D356*$D$335+G356*$G$335)","v":3354160.7163291052},0.18204969068141358,532.05902244441222,{"$f":"IF($F$335<>0,I356/$F$335*100/Input!$F$14,\"\")","v":0.9259061446617417}]
["Operating LV circuits",{"$f":"Standing!$S$90","v":0},{"$f":"Standing!$S$115","v":0},{"$f":"Standing!$S$131","v":0},null,{"$f":"Standing!$S$34","v":1.265851623580696},{"$f":"Reactive!$S$22","v":0},0,{"$f":"0.01*Input!$F$14*(E357*$E$335+F357*$F$335)+10*(B357*$B$335+C357*$C$335+D357*$D$335+G357*$G$335)","v":4585637.3380769799},0.24888904545030285,727.40393968123806,{"$f":"IF($F$335<>0,I357/$F$335*100/Input!$F$14,\"\")","v":1.265851623580696}]
["Operating LV customer",null,null,null,{"$f":"Otex!$B$130","v":10.964917108839961},null,null,0,{"$f":"0.01*Input!$F$14*(E358*$E$335+F358*$F$335)+10*(B358*$B$335+C358*$C$335+D358*$D$335+G358*$G$335)","v":252302.91801438626},1.3693937788647789E-2,40.021947447265859,{"$f":"IF($F$335<>0,I358/$F$335*100/Input!$F$14,\"\")","v":6.9647474245442959E-2}]
["Operating HV customer",null,null,null,{"$f":"Otex!$C$130","v":0},null,null,0,{"$f":"0.01*Input!$F$14*(E359*$E$335+F359*$F$335)+10*(B359*$B$335+C359*$C$335+D359*$D$335+G359*$G$335)","v":0},0,0,{"$f":"IF($F$335<>0,I359/$F$335*100/Input!$F$14,\"\")","v":0}]
["Scaler",{"$f":"Scaler!$B$416","v":5.916759662774707},{"$f":"Scaler!$C$416","v":0.16016138165734514},{"$f":"Scaler!$D$416","v":6.7503959041246963E-3},{"$f":"Scaler!$E$416","v":0},{"$f":"Scaler!$F$416","v":0},{"$f":"Scaler!$G$416","v":0.19188734383882619},0.7423381096052013,{"$f":"0.01*Input!$F$14*(E360*$E$335+F360*$F$335)+10*(B360*$B$335+C360*$C$335+D360*$D$335+G360*$G$335)","v":13677152.189338956},0.7423381096052013,2169.5597912932935,{"$f":"IF($F$335<>0,I360/$F$335*100/Input!$F$14,\"\")","v":3.7755374069976986}]
["Rounding",{"$f":"Adjust!$B$82","v":-3.1223015963810496E-4},{"$f":"Adjust!$C$82","v":2.4108668580868908E-4},{"$f":"Adjust!$D$82","v":9.0946825767532213E-5},{"$f":"Adjust!$E$82","v":-4.9171088399599938E-3},{"$f":"Adjust!$F$82","v":-1.3608838923850897E-4},{"$f":"Adjust!$G$82","v":-1.3867484023893928E-4},9.9884887803680352E-5,{"$f":"0.01*Input!$F$14*(E361*$E$335+F361*$F$335)+10*(B361*$B$335+C361*$C$335+D361*$D$335+G361*$G$335)","v":1234.1889378135902},6.6986567840221782E-5,0.19577516264142417,{"$f":"IF($F$335<>0,I361/$F$335*100/Input!$F$14,\"\")","v":3.4069420574628991E-4}]
[]
[]
["Total",{"$f":"SUM($B$339:$B$361)","v":10.679},{"$f":"SUM($C$339:$C$361)","v":0.63700000000000001},{"$f":"SUM($D$339:$D$361)","v":5.8000000000000003E-2},{"$f":"SUM($E$339:$E$361)","v":10.96},{"$f":"SUM($F$339:$F$361)","v":3.75},{"$f":"SUM($G$339:$G$361)","v":0.39100000000000001},{"$f":"SUM(H$339:H$361)","v":1.5169736616813811},{"$f":"SUM($I$339:$I$361)","v":41786197.052996427},{"$f":"SUM($J$339:$J$361)","v":2.2679784576858637},{"$f":"SUM($K$339:$K$361)","v":6628.4012711290197},{"$f":"SUM($L$339:$L$361)","v":11.53495609946782}]
[]
["LV Sub HH Metered"]
[]
[null,"Rate 1 units (MWh)","Rate 2 units (MWh)","Rate 3 units (MWh)","MPANs","Import capacity (kVA)","Reactive power units (MVArh)","MWh/year","MWh/MPAN/year"]
["LV Sub HH Metered",{"$f":"Loads!B$308","v":2342.5054344569053},{"$f":"Loads!C$308","v":8623.8474761692723},{"$f":"Loads!D$308","v":10994.203889621967},{"$f":"Loads!E$308","v":34.075327073469985},{"$f":"Loads!F$308","v":17000},{"$f":"Loads!G$308","v":1106.6028031243354},{"$f":"Multi!B$125","v":21960.556800248145},{"$f":"IF(E369,H369/E369,\"\")","v":644.47090274141397}]
[]
[]
[null,"Unit rate 1 p/kWh","Unit rate 2 p/kWh","Unit rate 3 p/kWh","Fixed charge p/MPAN/day","Capacity charge p/kVA/day","Reactive power charge p/kVArh","Average unit rate (p/kWh)","Revenue (£/year)","Average p/kWh","Average £/MPAN/year","Average p/kVA/day"]
["Assets 132kV",{"$f":"Standing!$C$91","v":1.1620526300969862},{"$f":"Standing!$C$116","v":0.11726382565668216},{"$f":"Standing!$C$132","v":6.9731987905238858E-3},null,{"$f":"Standing!$C$35","v":0},{"$f":"Reactive!$C$23","v":4.6114743577057721E-2},{"$f":"IF(H$369<>0,(($B373*B$369+$C373*C$369+$D373*D$369+$G373*G$369))/H$369,0)","v":0.17581864872353556},{"$f":"0.01*Input!$F$14*(E373*$E$369+F373*$F$369)+10*(B373*$B$369+C373*$C$369+D373*$D$369+G373*$G$369)","v":38610.754218360787},{"$f":"IF($H$369<>0,0.1*I373/$H$369,\"\")","v":0.17581864872353556},{"$f":"IF($E$369<>0,I373/$E$369,\"\")","v":1133.1000326163251},{"$f":"IF($F$369<>0,I373/$F$369*100/Input!$F$14,\"\")","v":0.62225228393812715}]
["Assets 132kV/EHV",{"$f":"Standing!$D$91","v":0.18122164873302235},{"$f":"Standing!$D$116","v":1.828724730004011E-2},{"$f":"Standing!$D$132","v":1.0874675974498562E-3},null,{"$f":"Standing!$D$35","v":0},{"$f":"Reactive!$D$23","v":7.19157604870054E-3},2.7418848832201304E-2,{"$f":"0.01*Input!$F$14*(E374*$E$369+F374*$F$369)+10*(B374*$B$369+C374*$C$369+D374*$D$369+G374*$G$369)","v":6021.331871769743},2.7418848832201304E-2,176.70650259019141,{"$f":"IF($F$369<>0,I374/$F$369*100/Input!$F$14,\"\")","v":9.7039997933436623E-2}]
["Assets EHV",{"$f":"Standing!$E$91","v":0.19204119615064408},{"$f":"Standing!$E$116","v":2.2005436457512021E-2},{"$f":"Standing!$E$132","v":3.2544924962825419E-3},null,{"$f":"Standing!$E$35","v":0},{"$f":"Reactive!$E$23","v":8.283150509407429E-3},3.1172970300309383E-2,{"$f":"0.01*Input!$F$14*(E375*$E$369+F375*$F$369)+10*(B375*$B$369+C375*$C$369+D375*$D$369+G375*$G$369)","v":6845.7578491239274},3.117297030030939E-2,200.90072310571676,{"$f":"IF($F$369<>0,I375/$F$369*100/Input!$F$14,\"\")","v":0.11032647621472888}]
["Assets EHV/HV",{"$f":"Standing!$F$91","v":0.32812679118837768},{"$f":"Standing!$F$116","v":3.7599084978824436E-2},{"$f":"Standing!$F$132","v":5.5607140611338155E-3},null,{"$f":"Standing!$F$35","v":0},{"$f":"Reactive!$F$23","v":1.4152815396183002E-2},5.3262981701214566E-2,{"$f":"0.01*Input!$F$14*(E376*$E$369+F376*$F$369)+10*(B376*$B$369+C376*$C$369+D376*$D$369+G376*$G$369)","v":11696.847350001},5.3262981701214566E-2,343.26441899681163,{"$f":"IF($F$369<>0,I376/$F$369*100/Input!$F$14,\"\")","v":0.18850680660759067}]
["Assets 132kV/HV",{"$f":"Standing!$G$91","v":0},{"$f":"Standing!$G$116","v":0},{"$f":"Standing!$G$132","v":0},null,{"$f":"Standing!$G$35","v":0},{"$f":"Reactive!$G$23","v":0},0,{"$f":"0.01*Input!$F$14*(E377*$E$369+F377*$F$369)+10*(B377*$B$369+C377*$C$369+D377*$D$369+G377*$G$369)","v":0},0,0,{"$f":"IF($F$369<>0,I377/$F$369*100/Input!$F$14,\"\")","v":0}]
["Assets HV",{"$f":"Standing!$H$91","v":0},{"$f":"Standing!$H$116","v":0},{"$f":"Standing!$H$132","v":0},null,{"$f":"Standing!$H$35","v":1.7291925451631709},{"$f":"Reactive!$H$23","v":0},0,{"$f":"0.01*Input!$F$14*(E378*$E$369+F378*$F$369)+10*(B378*$B$369+C378*$C$369+D378*$D$369+G378*$G$369)","v":107296.39742737474},0.48858687146840629,3148.8002212284696,{"$f":"IF($F$369<>0,I378/$F$369*100/Input!$F$14,\"\")","v":1.7291925451631707}]
["Assets HV/LV",{"$f":"Standing!$I$91","v":0},{"$f":"Standing!$I$116","v":0},{"$f":"Standing!$I$132","v":0},null,{"$f":"Standing!$I$35","v":0.63443820141320817},{"$f":"Reactive!$I$23","v":0},0,{"$f":"0.01*Input!$F$14*(E379*$E$369+F379*$F$369)+10*(B379*$B$369+C379*$C$369+D379*$D$369+G379*$G$369)","v":39366.890397689567},0.17926180449689116,1155.2901697116631,{"$f":"IF($F$369<>0,I379/$F$369*100/Input!$F$14,\"\")","v":0.63443820141320817}]
["Assets LV circuits",{"$f":"Standing!$J$91","v":0},{"$f":"Standing!$J$116","v":0},{"$f":"Standing!$J$132","v":0},null,{"$f":"Standing!$J$35","v":0},{"$f":"Reactive!$J$23","v":0},0,{"$f":"0.01*Input!$F$14*(E380*$E$369+F380*$F$369)+10*(B380*$B$369+C380*$C$369+D380*$D$369+G380*$G$369)","v":0},0,0,{"$f":"IF($F$369<>0,I380/$F$369*100/Input!$F$14,\"\")","v":0}]
["Assets LV customer",null,null,null,{"$f":"SM!$B$118","v":0},null,null,0,{"$f":"0.01*Input!$F$14*(E381*$E$369+F381*$F$369)+10*(B381*$B$369+C381*$C$369+D381*$D$369+G381*$G$369)","v":0},0,0,{"$f":"IF($F$369<>0,I381/$F$369*100/Input!$F$14,\"\")","v":0}]
["Assets HV customer",null,null,null,{"$f":"SM!$C$118","v":0},null,null,0,{"$f":"0.01*Input!$F$14*(E382*$E$369+F382*$F$369)+10*(B382*$B$369+C382*$C$369+D382*$D$369+G382*$G$369)","v":0},0,0,{"$f":"IF($F$369<>0,I382/$F$369*100/Input!$F$14,\"\")","v":0}]
["Transmission exit",{"$f":"Standing!$K$91","v":0.47904587672404769},{"$f":"Standing!$K$116","v":1.2967342577068127E-2},{"$f":"Standing!$K$132","v":5.4654059120754373E-4},null,{"$f":"Standing!$K$35","v":0},{"$f":"Reactive!$K$23","v":1.5040712627329582E-2},5.7222994799931808E-2,{"$f":"0.01*Input!$F$14*(E383*$E$369+F383*$F$369)+10*(B383*$B$369+C383*$C$369+D383*$D$369+G383*$G$369)","v":12566.488275842066},5.7222994799931808E-2,368.78555116279284,{"$f":"IF($F$369<>0,I383/$F$369*100/Input!$F$14,\"\")","v":0.20252197060180605}]
["Operating 132kV",{"$f":"Standing!$L$91","v":0.59372381996436863},{"$f":"Standing!$L$116","v":5.9913230011544562E-2},{"$f":"Standing!$L$132","v":3.5627940732212925E-3},null,{"$f":"Standing!$L$35","v":0},{"$f":"Reactive!$L$23","v":2.3561257901858482E-2},8.9830457792947543E-2,{"$f":"0.01*Input!$F$14*(E384*$E$369+F384*$F$369)+10*(B384*$B$369+C384*$C$369+D384*$D$369+G384*$G$369)","v":19727.268707543182},8.9830457792947543E-2,578.93116227495386,{"$f":"IF($F$369<>0,I384/$F$369*100/Input!$F$14,\"\")","v":0.31792536192656218}]
["Operating 132kV/EHV",{"$f":"Standing!$M$91","v":9.2590995243503685E-2},{"$f":"Standing!$M$116","v":9.3434445587087696E-3},{"$f":"Standing!$M$132","v":5.5561632866104845E-4},null,{"$f":"Standing!$M$35","v":0},{"$f":"Reactive!$M$23","v":3.674368864723779E-3},1.4009024415977995E-2,{"$f":"0.01*Input!$F$14*(E385*$E$369+F385*$F$369)+10*(B385*$B$369+C385*$C$369+D385*$D$369+G385*$G$369)","v":3076.4597640314787},1.4009024415977995E-2,90.284086118918481,{"$f":"IF($F$369<>0,I385/$F$369*100/Input!$F$14,\"\")","v":4.9580334633867511E-2}]
["Operating EHV",{"$f":"Standing!$N$91","v":9.811899187351851E-2},{"$f":"Standing!$N$116","v":1.1243167009093889E-2},{"$f":"Standing!$N$132","v":1.6628074038066371E-3},null,{"$f":"Standing!$N$35","v":0},{"$f":"Reactive!$N$23","v":4.2320834998452097E-3},1.5927105646489338E-2,{"$f":"0.01*Input!$F$14*(E386*$E$369+F386*$F$369)+10*(B386*$B$369+C386*$C$369+D386*$D$369+G386*$G$369)","v":3497.6810821328208},1.5927105646489342E-2,102.64556154050857,{"$f":"IF($F$369<>0,I386/$F$369*100/Input!$F$14,\"\")","v":5.636875233090767E-2}]
["Operating EHV/HV",{"$f":"Standing!$O$91","v":0.16764876809474169},{"$f":"Standing!$O$116","v":1.9210379790568881E-2},{"$f":"Standing!$O$132","v":2.8411177846827786E-3},null,{"$f":"Standing!$O$35","v":0},{"$f":"Reactive!$O$23","v":7.2310525381031904E-3},2.721348425991519E-2,{"$f":"0.01*Input!$F$14*(E387*$E$369+F387*$F$369)+10*(B387*$B$369+C387*$C$369+D387*$D$369+G387*$G$369)","v":5976.2326682252642},2.7213484259915193E-2,175.38298767726803,{"$f":"IF($F$369<>0,I387/$F$369*100/Input!$F$14,\"\")","v":9.6313177570109015E-2}]
["Operating 132kV/HV",{"$f":"Standing!$P$91","v":0},{"$f":"Standing!$P$116","v":0},{"$f":"Standing!$P$132","v":0},null,{"$f":"Standing!$P$35","v":0},{"$f":"Reactive!$P$23","v":0},0,{"$f":"0.01*Input!$F$14*(E388*$E$369+F388*$F$369)+10*(B388*$B$369+C388*$C$369+D388*$D$369+G388*$G$369)","v":0},0,0,{"$f":"IF($F$369<>0,I388/$F$369*100/Input!$F$14,\"\")","v":0}]
["Operating HV",{"$f":"Standing!$Q$91","v":0},{"$f":"Standing!$Q$116","v":0},{"$f":"Standing!$Q$132","v":0},null,{"$f":"Standing!$Q$35","v":1.4409041173458095},{"$f":"Reactive!$Q$23","v":0},0,{"$f":"0.01*Input!$F$14*(E389*$E$369+F389*$F$369)+10*(B389*$B$369+C389*$C$369+D389*$D$369+G389*$G$369)","v":89408.100481307483},0.4071303897007621,2623.8368978391381,{"$f":"IF($F$369<>0,I389/$F$369*100/Input!$F$14,\"\")","v":1.4409041173458095}]
["Operating HV/LV",{"$f":"Standing!$R$91","v":0},{"$f":"Standing!$R$116","v":0},{"$f":"Standing!$R$132","v":0},null,{"$f":"Standing!$R$35","v":0.90355372148513524},{"$f":"Reactive!$R$23","v":0},0,{"$f":"0.01*Input!$F$14*(E390*$E$369+F390*$F$369)+10*(B390*$B$369+C390*$C$369+D390*$D$369+G390*$G$369)","v":56065.50841815264},0.25530094217610694,1645.3402867496918,{"$f":"IF($F$369<>0,I390/$F$369*100/Input!$F$14,\"\")","v":0.90355372148513524}]
["Operating LV circuits",{"$f":"Standing!$S$91","v":0},{"$f":"Standing!$S$116","v":0},{"$f":"Standing!$S$132","v":0},null,{"$f":"Standing!$S$35","v":0},{"$f":"Reactive!$S$23","v":0},0,{"$f":"0.01*Input!$F$14*(E391*$E$369+F391*$F$369)+10*(B391*$B$369+C391*$C$369+D391*$D$369+G391*$G$369)","v":0},0,0,{"$f":"IF($F$369<>0,I391/$F$369*100/Input!$F$14,\"\")","v":0}]
["Operating LV customer",null,null,null,{"$f":"Otex!$B$131","v":8.0532257660147852},null,null,0,{"$f":"0.01*Input!$F$14*(E392*$E$369+F392*$F$369)+10*(B392*$B$369+C392*$C$369+D392*$D$369+G392*$G$369)","v":1001.6195022030912},4.5609931993699417E-3,29.394274045953964,{"$f":"IF($F$369<>0,I392/$F$369*100/Input!$F$14,\"\")","v":1.6142135410202922E-2}]
["Operating HV customer",null,null,null,{"$f":"Otex!$C$131","v":0},null,null,0,{"$f":"0.01*Input!$F$14*(E393*$E$369+F393*$F$369)+10*(B393*$B$369+C393*$C$369+D393*$D$369+G393*$G$369)","v":0},0,0,{"$f":"IF($F$369<>0,I393/$F$369*100/Input!$F$14,\"\")","v":0}]
["Scaler",{"$f":"Scaler!$B$417","v":5.9640604523031575},{"$f":"Scaler!$C$417","v":0.16144177164039999},{"$f":"Scaler!$D$417","v":6.8043610935346324E-3},{"$f":"Scaler!$E$417","v":0},{"$f":"Scaler!$F$417","v":0},{"$f":"Scaler!$G$417","v":0.18725496599313493},0.7124190329796245,{"$f":"0.01*Input!$F$14*(E394*$E$369+F394*$F$369)+10*(B394*$B$369+C394*$C$369+D394*$D$369+G394*$G$369)","v":156451.18639326899},0.7124190329796245,4591.3333731454377,{"$f":"IF($F$369<>0,I394/$F$369*100/Input!$F$14,\"\")","v":2.5213728669342306}]
["Rounding",{"$f":"Adjust!$B$83","v":3.6882962763229443E-4},{"$f":"Adjust!$C$83","v":-2.7492998044298389E-4},{"$f":"Adjust!$D$83","v":1.5088977949597598E-4},{"$f":"Adjust!$E$83","v":-3.2257660147845257E-3},{"$f":"Adjust!$F$83","v":1.9114145926764081E-3},{"$f":"Adjust!$G$83","v":2.6327304365614257E-4},2.0185411595833792E-5,{"$f":"0.01*Input!$F$14*(E395*$E$369+F395*$F$369)+10*(B395*$B$369+C395*$C$369+D395*$D$369+G395*$G$369)","v":122.63489978757872},5.5843256117346261E-4,3.5989353681966132,{"$f":"IF($F$369<>0,I395/$F$369*100/Input!$F$14,\"\")","v":1.9763883930310833E-3}]
[]
[]
["Total",{"$f":"SUM($B$373:$B$395)","v":9.2590000000000003},{"$f":"SUM($C$373:$C$395)","v":0.46899999999999997},{"$f":"SUM($D$373:$D$395)","v":3.3000000000000002E-2},{"$f":"SUM($E$373:$E$395)","v":8.0500000000000007},{"$f":"SUM($F$373:$F$395)","v":4.71},{"$f":"SUM($G$373:$G$395)","v":0.317},{"$f":"SUM(H$373:H$395)","v":1.204315734863743},{"$f":"SUM($I$373:$I$395)","v":557731.15930681443},{"$f":"SUM($J$373:$J$395)","v":2.5396949830548574},{"$f":"SUM($K$373:$K$395)","v":16367.595184172036},{"$f":"SUM($L$373:$L$395)","v":8.9884151379019226}]
[]
["HV HH Metered"]
[]
[null,"Rate 1 units (MWh)","Rate 2 units (MWh)","Rate 3 units (MWh)","MPANs","Import capacity (kVA)","Reactive power units (MVArh)","MWh/year","MWh/MPAN/year"]
["HV HH Metered",{"$f":"Loads!B$309","v":762633.76442304184},{"$f":"Loads!C$309","v":3043166.9689703169},{"$f":"Loads!D$309","v":3870767.6594175538},{"$f":"Loads!E$309","v":3867.5394846222616},{"$f":"Loads!F$309","v":2878086.2841554629},{"$f":"Loads!G$309","v":1034636.3672417216},{"$f":"Multi!B$126","v":7676568.3928109128},{"$f":"IF(E403,H403/E403,\"\")","v":1984.8713693379848}]
[]
[]
[null,"Unit rate 1 p/kWh","Unit rate 2 p/kWh","Unit rate 3 p/kWh","Fixed charge p/MPAN/day","Capacity charge p/kVA/day","Reactive power charge p/kVArh","Average unit rate (p/kWh)","Revenue (£/year)","Average p/kWh","Average £/MPAN/year","Average p/kVA/day"]
["Assets 132kV",{"$f":"Standing!$C$92","v":1.0136384246247745},{"$f":"Standing!$C$117","v":0.10228720836352571},{"$f":"Standing!$C$133","v":6.082600782059318E-3},null,{"$f":"Standing!$C$36","v":0},{"$f":"Reactive!$C$24","v":3.7463531269526666E-2},{"$f":"IF(H$403<>0,(($B407*B$403+$C407*C$403+$D407*D$403+$G407*G$403))/H$403,0)","v":0.14936588186179603},{"$f":"0.01*Input!$F$14*(E407*$E$403+F407*$F$403)+10*(B407*$B$403+C407*$C$403+D407*$D$403+G407*$G$403)","v":11466174.076645922},{"$f":"IF($H$403<>0,0.1*I407/$H$403,\"\")","v":0.14936588186179603},{"$f":"IF($E$403<>0,I407/$E$403,\"\")","v":2964.7206246339874},{"$f":"IF($F$403<>0,I407/$F$403*100/Input!$F$14,\"\")","v":1.0914952663301636}]
["Assets 132kV/EHV",{"$f":"Standing!$D$92","v":0.15807651200300094},{"$f":"Standing!$D$117","v":1.5951649747902755E-2},{"$f":"Standing!$D$133","v":9.4857918975456521E-4},null,{"$f":"Standing!$D$36","v":0},{"$f":"Reactive!$D$24","v":5.8424229059729641E-3},2.3293550287130597E-2,{"$f":"0.01*Input!$F$14*(E408*$E$403+F408*$F$403)+10*(B408*$B$403+C408*$C$403+D408*$D$403+G408*$G$403)","v":1788145.3189053829},2.3293550287130597E-2,462.34701055160116,{"$f":"IF($F$403<>0,I408/$F$403*100/Input!$F$14,\"\")","v":0.17021825571887633}]
["Assets EHV",{"$f":"Standing!$E$92","v":0.13401137297056817},{"$f":"Standing!$E$117","v":1.5355969508617806E-2},{"$f":"Standing!$E$133","v":2.2710700437791058E-3},null,{"$f":"Standing!$E$36","v":8.6089166188414071E-2},{"$f":"Reactive!$E$24","v":5.3833727619166799E-3},2.1271613354964559E-2,{"$f":"0.01*Input!$F$14*(E409*$E$403+F409*$F$403)+10*(B409*$B$403+C409*$C$403+D409*$D$403+G409*$G$403)","v":2537297.9241857342},3.3052502034136864E-2,656.04964972543758,{"$f":"IF($F$403<>0,I409/$F$403*100/Input!$F$14,\"\")","v":0.24153206248271061}]
["Assets EHV/HV",{"$f":"Standing!$F$92","v":0},{"$f":"Standing!$F$117","v":0},{"$f":"Standing!$F$133","v":0},null,{"$f":"Standing!$F$36","v":0.54598376926352432},{"$f":"Reactive!$F$24","v":0},0,{"$f":"0.01*Input!$F$14*(E410*$E$403+F410*$F$403)+10*(B410*$B$403+C410*$C$403+D410*$D$403+G410*$G$403)","v":5735567.6515643038},7.4715255021184326E-2,1483.0017054433488,{"$f":"IF($F$403<>0,I410/$F$403*100/Input!$F$14,\"\")","v":0.54598376926352432}]
["Assets 132kV/HV",{"$f":"Standing!$G$92","v":0},{"$f":"Standing!$G$117","v":0},{"$f":"Standing!$G$133","v":0},null,{"$f":"Standing!$G$36","v":0},{"$f":"Reactive!$G$24","v":0},0,{"$f":"0.01*Input!$F$14*(E411*$E$403+F411*$F$403)+10*(B411*$B$403+C411*$C$403+D411*$D$403+G411*$G$403)","v":0},0,0,{"$f":"IF($F$403<>0,I411/$F$403*100/Input!$F$14,\"\")","v":0}]
["Assets HV",{"$f":"Standing!$H$92","v":0},{"$f":"Standing!$H$117","v":0},{"$f":"Standing!$H$133","v":0},null,{"$f":"Standing!$H$36","v":1.3578856944982201},{"$f":"Reactive!$H$24","v":0},0,{"$f":"0.01*Input!$F$14*(E412*$E$403+F412*$F$403)+10*(B412*$B$403+C412*$C$403+D412*$D$403+G412*$G$403)","v":14264609.503669783},0.18582013177956647,3688.2905941587283,{"$f":"IF($F$403<>0,I412/$F$403*100/Input!$F$14,\"\")","v":1.3578856944982201}]
["Assets HV/LV",{"$f":"Standing!$I$92","v":0},{"$f":"Standing!$I$117","v":0},{"$f":"Standing!$I$133","v":0},null,{"$f":"Standing!$I$36","v":0},{"$f":"Reactive!$I$24","v":0},0,{"$f":"0.01*Input!$F$14*(E413*$E$403+F413*$F$403)+10*(B413*$B$403+C413*$C$403+D413*$D$403+G413*$G$403)","v":0},0,0,{"$f":"IF($F$403<>0,I413/$F$403*100/Input!$F$14,\"\")","v":0}]
["Assets LV circuits",{"$f":"Standing!$J$92","v":0},{"$f":"Standing!$J$117","v":0},{"$f":"Standing!$J$133","v":0},null,{"$f":"Standing!$J$36","v":0},{"$f":"Reactive!$J$24","v":0},0,{"$f":"0.01*Input!$F$14*(E414*$E$403+F414*$F$403)+10*(B414*$B$403+C414*$C$403+D414*$D$403+G414*$G$403)","v":0},0,0,{"$f":"IF($F$403<>0,I414/$F$403*100/Input!$F$14,\"\")","v":0}]
["Assets LV customer",null,null,null,{"$f":"SM!$B$119","v":0},null,null,0,{"$f":"0.01*Input!$F$14*(E415*$E$403+F415*$F$403)+10*(B415*$B$403+C415*$C$403+D415*$D$403+G415*$G$403)","v":0},0,0,{"$f":"IF($F$403<>0,I415/$F$403*100/Input!$F$14,\"\")","v":0}]
["Assets HV customer",null,null,null,{"$f":"SM!$C$119","v":0},null,null,0,{"$f":"0.01*Input!$F$14*(E416*$E$403+F416*$F$403)+10*(B416*$B$403+C416*$C$403+D416*$D$403+G416*$G$403)","v":0},0,0,{"$f":"IF($F$403<>0,I416/$F$403*100/Input!$F$14,\"\")","v":0}]
["Transmission exit",{"$f":"Standing!$K$92","v":0.41786343856476671},{"$f":"Standing!$K$117","v":1.131118880587368E-2},{"$f":"Standing!$K$133","v":4.7673791144801279E-4},null,{"$f":"Standing!$K$36","v":0},{"$f":"Reactive!$K$24","v":1.221904675428487E-2},4.7884184227438259E-2,{"$f":"0.01*Input!$F$14*(E417*$E$403+F417*$F$403)+10*(B417*$B$403+C417*$C$403+D417*$D$403+G417*$G$403)","v":3675862.1515588737},4.7884184227438266E-2,950.43946317147709,{"$f":"IF($F$403<>0,I417/$F$403*100/Input!$F$14,\"\")","v":0.34991498570396412}]
["Operating 132kV",{"$f":"Standing!$L$92","v":0.51789502639020513},{"$f":"Standing!$L$117","v":5.2261275014725606E-2},{"$f":"Standing!$L$133","v":3.1077636916850351E-3},null,{"$f":"Standing!$L$36","v":0},{"$f":"Reactive!$L$24","v":1.9141121769021354E-2},7.6315030536896283E-2,{"$f":"0.01*Input!$F$14*(E418*$E$403+F418*$F$403)+10*(B418*$B$403+C418*$C$403+D418*$D$403+G418*$G$403)","v":5858375.5131593766},7.6315030536896283E-2,1514.7551916283946,{"$f":"IF($F$403<>0,I418/$F$403*100/Input!$F$14,\"\")","v":0.55767417259275431}]
["Operating 132kV/EHV",{"$f":"Standing!$M$92","v":8.0765524832753871E-2},{"$f":"Standing!$M$117","v":8.1501251989490615E-3},{"$f":"Standing!$M$133","v":4.8465452036607092E-4},null,{"$f":"Standing!$M$36","v":0},{"$f":"Reactive!$M$24","v":2.9850503804565946E-3},1.1901298873057952E-2,{"$f":"0.01*Input!$F$14*(E419*$E$403+F419*$F$403)+10*(B419*$B$403+C419*$C$403+D419*$D$403+G419*$G$403)","v":913611.34762312809},1.1901298873057952E-2,236.22547391067152,{"$f":"IF($F$403<>0,I419/$F$403*100/Input!$F$14,\"\")","v":8.6969066973023576E-2}]
["Operating EHV",{"$f":"Standing!$N$92","v":6.8470000598952932E-2},{"$f":"Standing!$N$117","v":7.8457762064976354E-3},{"$f":"Standing!$N$133","v":1.1603505270554215E-3},null,{"$f":"Standing!$N$36","v":4.3985261323892529E-2},{"$f":"Reactive!$N$24","v":2.7505093639610305E-3},1.0868237126971235E-2,{"$f":"0.01*Input!$F$14*(E420*$E$403+F420*$F$403)+10*(B420*$B$403+C420*$C$403+D420*$D$403+G420*$G$403)","v":1296373.483367519},1.6887408761727046E-2,335.19334153459442,{"$f":"IF($F$403<>0,I420/$F$403*100/Input!$F$14,\"\")","v":0.12340520133682663}]
["Operating EHV/HV",{"$f":"Standing!$O$92","v":0},{"$f":"Standing!$O$117","v":0},{"$f":"Standing!$O$133","v":0},null,{"$f":"Standing!$O$36","v":0.37577204649541818},{"$f":"Reactive!$O$24","v":0},0,{"$f":"0.01*Input!$F$14*(E421*$E$403+F421*$F$403)+10*(B421*$B$403+C421*$C$403+D421*$D$403+G421*$G$403)","v":3947490.9614043459},5.1422598736971609E-2,1020.6724396997056,{"$f":"IF($F$403<>0,I421/$F$403*100/Input!$F$14,\"\")","v":0.37577204649541823}]
["Operating 132kV/HV",{"$f":"Standing!$P$92","v":0},{"$f":"Standing!$P$117","v":0},{"$f":"Standing!$P$133","v":0},null,{"$f":"Standing!$P$36","v":0},{"$f":"Reactive!$P$24","v":0},0,{"$f":"0.01*Input!$F$14*(E422*$E$403+F422*$F$403)+10*(B422*$B$403+C422*$C$403+D422*$D$403+G422*$G$403)","v":0},0,0,{"$f":"IF($F$403<>0,I422/$F$403*100/Input!$F$14,\"\")","v":0}]
["Operating HV",{"$f":"Standing!$Q$92","v":0},{"$f":"Standing!$Q$117","v":0},{"$f":"Standing!$Q$133","v":0},null,{"$f":"Standing!$Q$36","v":1.431307229789748},{"$f":"Reactive!$Q$24","v":0},0,{"$f":"0.01*Input!$F$14*(E423*$E$403+F423*$F$403)+10*(B423*$B$403+C423*$C$403+D423*$D$403+G423*$G$403)","v":15035903.828617051},0.19586751604659888,3887.7182478424243,{"$f":"IF($F$403<>0,I423/$F$403*100/Input!$F$14,\"\")","v":1.431307229789748}]
["Operating HV/LV",{"$f":"Standing!$R$92","v":0},{"$f":"Standing!$R$117","v":0},{"$f":"Standing!$R$133","v":0},null,{"$f":"Standing!$R$36","v":0},{"$f":"Reactive!$R$24","v":0},0,{"$f":"0.01*Input!$F$14*(E424*$E$403+F424*$F$403)+10*(B424*$B$403+C424*$C$403+D424*$D$403+G424*$G$403)","v":0},0,0,{"$f":"IF($F$403<>0,I424/$F$403*100/Input!$F$14,\"\")","v":0}]
["Operating LV circuits",{"$f":"Standing!$S$92","v":0},{"$f":"Standing!$S$117","v":0},{"$f":"Standing!$S$133","v":0},null,{"$f":"Standing!$S$36","v":0},{"$f":"Reactive!$S$24","v":0},0,{"$f":"0.01*Input!$F$14*(E425*$E$403+F425*$F$403)+10*(B425*$B$403+C425*$C$403+D425*$D$403+G425*$G$403)","v":0},0,0,{"$f":"IF($F$403<>0,I425/$F$403*100/Input!$F$14,\"\")","v":0}]
["Operating LV customer",null,null,null,{"$f":"Otex!$B$132","v":0},null,null,0,{"$f":"0.01*Input!$F$14*(E426*$E$403+F426*$F$403)+10*(B426*$B$403+C426*$C$403+D426*$D$403+G426*$G$403)","v":0},0,0,{"$f":"IF($F$403<>0,I426/$F$403*100/Input!$F$14,\"\")","v":0}]
["Operating HV customer",null,null,null,{"$f":"Otex!$C$132","v":78.737422848170496},null,null,0,{"$f":"0.01*Input!$F$14*(E427*$E$403+F427*$F$403)+10*(B427*$B$403+C427*$C$403+D427*$D$403+G427*$G$403)","v":1111498.3350068491},1.447910417951548E-2,287.39159339582233,{"$f":"IF($F$403<>0,I427/$F$403*100/Input!$F$14,\"\")","v":0.10580644974375947}]
["Scaler",{"$f":"Scaler!$B$418","v":5.2023468513082189},{"$f":"Scaler!$C$418","v":0.14082286708524533},{"$f":"Scaler!$D$418","v":5.9353265771214742E-3},{"$f":"Scaler!$E$418","v":0},{"$f":"Scaler!$F$418","v":0},{"$f":"Scaler!$G$418","v":0.15212558348363167},0.59615202492635699,{"$f":"0.01*Input!$F$14*(E428*$E$403+F428*$F$403)+10*(B428*$B$403+C428*$C$403+D428*$D$403+G428*$G$403)","v":45764017.918598957},0.59615202492635699,11832.850860491908,{"$f":"IF($F$403<>0,I428/$F$403*100/Input!$F$14,\"\")","v":4.3563972247847857}]
["Rounding",{"$f":"Adjust!$B$84","v":-6.7151293240641508E-5},{"$f":"Adjust!$C$84","v":1.3940068662399163E-5},{"$f":"Adjust!$D$84","v":-4.6708324326900225E-4},{"$f":"Adjust!$E$84","v":2.5771518294988027E-3},{"$f":"Adjust!$F$84","v":-1.0231675592171641E-3},{"$f":"Adjust!$G$84","v":8.9361311228164375E-5},-2.2461913301608205E-4,{"$f":"0.01*Input!$F$14*(E429*$E$403+F429*$F$403)+10*(B429*$B$403+C429*$C$403+D429*$D$403+G429*$G$403)","v":-27955.051449046565},-3.6416078146618748E-4,-7.228123089679821,{"$f":"IF($F$403<>0,I429/$F$403*100/Input!$F$14,\"\")","v":-2.6611148690650348E-3}]
[]
[]
["Total",{"$f":"SUM($B$407:$B$429)","v":7.593},{"$f":"SUM($C$407:$C$429)","v":0.35399999999999998},{"$f":"SUM($D$407:$D$429)","v":0.02},{"$f":"SUM($E$407:$E$429)","v":78.739999999999995},{"$f":"SUM($F$407:$F$429)","v":3.84},{"$f":"SUM($G$407:$G$429)","v":0.23799999999999999},{"$f":"SUM(H$407:H$429)","v":0.93682720206159587},{"$f":"SUM($I$407:$I$429)","v":113366972.96285819},{"$f":"SUM($J$407:$J$429)","v":1.4767923264909104},{"$f":"SUM($K$407:$K$429)","v":29312.428073098421},{"$f":"SUM($L$407:$L$429)","v":10.79170031084471}]
[]
["HV Sub HH Metered"]
[]
[null,"Rate 1 units (MWh)","Rate 2 units (MWh)","Rate 3 units (MWh)","MPANs","Import capacity (kVA)","Reactive power units (MVArh)","MWh/year","MWh/MPAN/year"]
["HV Sub HH Metered",{"$f":"Loads!B$310","v":0},{"$f":"Loads!C$310","v":0},{"$f":"Loads!D$310","v":0},{"$f":"Loads!E$310","v":0},{"$f":"Loads!F$310","v":0},{"$f":"Loads!G$310","v":0},{"$f":"Multi!B$127","v":0},{"$f":"IF(E437,H437/E437,\"\")","v":""}]
[]
[]
[null,"Unit rate 1 p/kWh","Unit rate 2 p/kWh","Unit rate 3 p/kWh","Fixed charge p/MPAN/day","Capacity charge p/kVA/day","Reactive power charge p/kVArh","Average unit rate (p/kWh)","Revenue (£/year)","Average p/kWh","Average £/MPAN/year","Average p/kVA/day"]
["Assets 132kV",{"$f":"Standing!$C$93","v":0.92349450327314819},{"$f":"Standing!$C$118","v":9.3190700336600527E-2},{"$f":"Standing!$C$134","v":5.5416687562096978E-3},null,{"$f":"Standing!$C$37","v":0},{"$f":"Reactive!$C$25","v":3.6853492925099499E-2},{"$f":"IF(H$437<>0,(($B441*B$437+$C441*C$437+$D441*D$437+$G441*G$437))/H$437,0)","v":0},{"$f":"0.01*Input!$F$14*(E441*$E$437+F441*$F$437)+10*(B441*$B$437+C441*$C$437+D441*$D$437+G441*$G$437)","v":0},{"$f":"IF($H$437<>0,0.1*I441/$H$437,\"\")","v":""},{"$f":"IF($E$437<>0,I441/$E$437,\"\")","v":""},{"$f":"IF($F$437<>0,I441/$F$437*100/Input!$F$14,\"\")","v":""}]
["Assets 132kV/EHV",{"$f":"Standing!$D$93","v":0.14401860306884343},{"$f":"Standing!$D$118","v":1.4533052913596745E-2},{"$f":"Standing!$D$134","v":8.6422105395414061E-4},null,{"$f":"Standing!$D$37","v":0},{"$f":"Reactive!$D$25","v":5.7472876670825986E-3},0,{"$f":"0.01*Input!$F$14*(E442*$E$437+F442*$F$437)+10*(B442*$B$437+C442*$C$437+D442*$D$437+G442*$G$437)","v":0},"","",{"$f":"IF($F$437<>0,I442/$F$437*100/Input!$F$14,\"\")","v":""}]
["Assets EHV",{"$f":"Standing!$E$93","v":0},{"$f":"Standing!$E$118","v":0},{"$f":"Standing!$E$134","v":0},null,{"$f":"Standing!$E$37","v":0.42343665553400983},{"$f":"Reactive!$E$25","v":0},0,{"$f":"0.01*Input!$F$14*(E443*$E$437+F443*$F$437)+10*(B443*$B$437+C443*$C$437+D443*$D$437+G443*$G$437)","v":0},"","",{"$f":"IF($F$437<>0,I443/$F$437*100/Input!$F$14,\"\")","v":""}]
["Assets EHV/HV",{"$f":"Standing!$F$93","v":0},{"$f":"Standing!$F$118","v":0},{"$f":"Standing!$F$134","v":0},null,{"$f":"Standing!$F$37","v":0.5370932289594248},{"$f":"Reactive!$F$25","v":0},0,{"$f":"0.01*Input!$F$14*(E444*$E$437+F444*$F$437)+10*(B444*$B$437+C444*$C$437+D444*$D$437+G444*$G$437)","v":0},"","",{"$f":"IF($F$437<>0,I444/$F$437*100/Input!$F$14,\"\")","v":""}]
["Assets 132kV/HV",{"$f":"Standing!$G$93","v":0},{"$f":"Standing!$G$118","v":0},{"$f":"Standing!$G$134","v":0},null,{"$f":"Standing!$G$37","v":0},{"$f":"Reactive!$G$25","v":0},0,{"$f":"0.01*Input!$F$14*(E445*$E$437+F445*$F$437)+10*(B445*$B$437+C445*$C$437+D445*$D$437+G445*$G$437)","v":0},"","",{"$f":"IF($F$437<>0,I445/$F$437*100/Input!$F$14,\"\")","v":""}]
["Assets HV",{"$f":"Standing!$H$93","v":0},{"$f":"Standing!$H$118","v":0},{"$f":"Standing!$H$134","v":0},null,{"$f":"Standing!$H$37","v":0},{"$f":"Reactive!$H$25","v":0},0,{"$f":"0.01*Input!$F$14*(E446*$E$437+F446*$F$437)+10*(B446*$B$437+C446*$C$437+D446*$D$437+G446*$G$437)","v":0},"","",{"$f":"IF($F$437<>0,I446/$F$437*100/Input!$F$14,\"\")","v":""}]
["Assets HV/LV",{"$f":"Standing!$I$93","v":0},{"$f":"Standing!$I$118","v":0},{"$f":"Standing!$I$134","v":0},null,{"$f":"Standing!$I$37","v":0},{"$f":"Reactive!$I$25","v":0},0,{"$f":"0.01*Input!$F$14*(E447*$E$437+F447*$F$437)+10*(B447*$B$437+C447*$C$437+D447*$D$437+G447*$G$437)","v":0},"","",{"$f":"IF($F$437<>0,I447/$F$437*100/Input!$F$14,\"\")","v":""}]
["Assets LV circuits",{"$f":"Standing!$J$93","v":0},{"$f":"Standing!$J$118","v":0},{"$f":"Standing!$J$134","v":0},null,{"$f":"Standing!$J$37","v":0},{"$f":"Reactive!$J$25","v":0},0,{"$f":"0.01*Input!$F$14*(E448*$E$437+F448*$F$437)+10*(B448*$B$437+C448*$C$437+D448*$D$437+G448*$G$437)","v":0},"","",{"$f":"IF($F$437<>0,I448/$F$437*100/Input!$F$14,\"\")","v":""}]
["Assets LV customer",null,null,null,{"$f":"SM!$B$120","v":0},null,null,0,{"$f":"0.01*Input!$F$14*(E449*$E$437+F449*$F$437)+10*(B449*$B$437+C449*$C$437+D449*$D$437+G449*$G$437)","v":0},"","",{"$f":"IF($F$437<>0,I449/$F$437*100/Input!$F$14,\"\")","v":""}]
["Assets HV customer",null,null,null,{"$f":"SM!$C$120","v":0},null,null,0,{"$f":"0.01*Input!$F$14*(E450*$E$437+F450*$F$437)+10*(B450*$B$437+C450*$C$437+D450*$D$437+G450*$G$437)","v":0},"","",{"$f":"IF($F$437<>0,I450/$F$437*100/Input!$F$14,\"\")","v":""}]
["Transmission exit",{"$f":"Standing!$K$93","v":0.38070240754362494},{"$f":"Standing!$K$118","v":1.0305272998678899E-2},{"$f":"Standing!$K$134","v":4.3434111220392663E-4},null,{"$f":"Standing!$K$37","v":0},{"$f":"Reactive!$K$25","v":1.2020077602155708E-2},0,{"$f":"0.01*Input!$F$14*(E451*$E$437+F451*$F$437)+10*(B451*$B$437+C451*$C$437+D451*$D$437+G451*$G$437)","v":0},"","",{"$f":"IF($F$437<>0,I451/$F$437*100/Input!$F$14,\"\")","v":""}]
["Operating 132kV",{"$f":"Standing!$L$93","v":0.47183808202703259},{"$f":"Standing!$L$118","v":4.7613625369432165E-2},{"$f":"Standing!$L$134","v":2.8313870281756587E-3},null,{"$f":"Standing!$L$37","v":0},{"$f":"Reactive!$L$25","v":1.8829436836000892E-2},0,{"$f":"0.01*Input!$F$14*(E452*$E$437+F452*$F$437)+10*(B452*$B$437+C452*$C$437+D452*$D$437+G452*$G$437)","v":0},"","",{"$f":"IF($F$437<>0,I452/$F$437*100/Input!$F$14,\"\")","v":""}]
["Operating 132kV/EHV",{"$f":"Standing!$M$93","v":7.3582962548632017E-2},{"$f":"Standing!$M$118","v":7.4253260722664527E-3},{"$f":"Standing!$M$134","v":4.4155368884149466E-4},null,{"$f":"Standing!$M$37","v":0},{"$f":"Reactive!$M$25","v":2.9364432382460942E-3},0,{"$f":"0.01*Input!$F$14*(E453*$E$437+F453*$F$437)+10*(B453*$B$437+C453*$C$437+D453*$D$437+G453*$G$437)","v":0},"","",{"$f":"IF($F$437<>0,I453/$F$437*100/Input!$F$14,\"\")","v":""}]
["Operating EHV",{"$f":"Standing!$N$93","v":0},{"$f":"Standing!$N$118","v":0},{"$f":"Standing!$N$134","v":0},null,{"$f":"Standing!$N$37","v":0.21634513112853271},{"$f":"Reactive!$N$25","v":0},0,{"$f":"0.01*Input!$F$14*(E454*$E$437+F454*$F$437)+10*(B454*$B$437+C454*$C$437+D454*$D$437+G454*$G$437)","v":0},"","",{"$f":"IF($F$437<>0,I454/$F$437*100/Input!$F$14,\"\")","v":""}]
["Operating EHV/HV",{"$f":"Standing!$O$93","v":0},{"$f":"Standing!$O$118","v":0},{"$f":"Standing!$O$134","v":0},null,{"$f":"Standing!$O$37","v":0.36965315301800233},{"$f":"Reactive!$O$25","v":0},0,{"$f":"0.01*Input!$F$14*(E455*$E$437+F455*$F$437)+10*(B455*$B$437+C455*$C$437+D455*$D$437+G455*$G$437)","v":0},"","",{"$f":"IF($F$437<>0,I455/$F$437*100/Input!$F$14,\"\")","v":""}]
["Operating 132kV/HV",{"$f":"Standing!$P$93","v":0},{"$f":"Standing!$P$118","v":0},{"$f":"Standing!$P$134","v":0},null,{"$f":"Standing!$P$37","v":0},{"$f":"Reactive!$P$25","v":0},0,{"$f":"0.01*Input!$F$14*(E456*$E$437+F456*$F$437)+10*(B456*$B$437+C456*$C$437+D456*$D$437+G456*$G$437)","v":0},"","",{"$f":"IF($F$437<>0,I456/$F$437*100/Input!$F$14,\"\")","v":""}]
["Operating HV",{"$f":"Standing!$Q$93","v":0},{"$f":"Standing!$Q$118","v":0},{"$f":"Standing!$Q$134","v":0},null,{"$f":"Standing!$Q$37","v":0},{"$f":"Reactive!$Q$25","v":0},0,{"$f":"0.01*Input!$F$14*(E457*$E$437+F457*$F$437)+10*(B457*$B$437+C457*$C$437+D457*$D$437+G457*$G$437)","v":0},"","",{"$f":"IF($F$437<>0,I457/$F$437*100/Input!$F$14,\"\")","v":""}]
["Operating HV/LV",{"$f":"Standing!$R$93","v":0},{"$f":"Standing!$R$118","v":0},{"$f":"Standing!$R$134","v":0},null,{"$f":"Standing!$R$37","v":0},{"$f":"Reactive!$R$25","v":0},0,{"$f":"0.01*Input!$F$14*(E458*$E$437+F458*$F$437)+10*(B458*$B$437+C458*$C$437+D458*$D$437+G458*$G$437)","v":0},"","",{"$f":"IF($F$437<>0,I458/$F$437*100/Input!$F$14,\"\")","v":""}]
["Operating LV circuits",{"$f":"Standing!$S$93","v":0},{"$f":"Standing!$S$118","v":0},{"$f":"Standing!$S$134","v":0},null,{"$f":"Standing!$S$37","v":0},{"$f":"Reactive!$S$25","v":0},0,{"$f":"0.01*Input!$F$14*(E459*$E$437+F459*$F$437)+10*(B459*$B$437+C459*$C$437+D459*$D$437+G459*$G$437)","v":0},"","",{"$f":"IF($F$437<>0,I459/$F$437*100/Input!$F$14,\"\")","v":""}]
["Operating LV customer",null,null,null,{"$f":"Otex!$B$133","v":0},null,null,0,{"$f":"0.01*Input!$F$14*(E460*$E$437+F460*$F$437)+10*(B460*$B$437+C460*$C$437+D460*$D$437+G460*$G$437)","v":0},"","",{"$f":"IF($F$437<>0,I460/$F$437*100/Input!$F$14,\"\")","v":""}]
["Operating HV customer",null,null,null,{"$f":"Otex!$C$133","v":78.737422848170496},null,null,0,{"$f":"0.01*Input!$F$14*(E461*$E$437+F461*$F$437)+10*(B461*$B$437+C461*$C$437+D461*$D$437+G461*$G$437)","v":0},"","",{"$f":"IF($F$437<>0,I461/$F$437*100/Input!$F$14,\"\")","v":""}]
["Scaler",{"$f":"Scaler!$B$419","v":4.7396967247783302},{"$f":"Scaler!$C$419","v":0.12829934277257726},{"$f":"Scaler!$D$419","v":5.4074917997822929E-3},{"$f":"Scaler!$E$419","v":0},{"$f":"Scaler!$F$419","v":0},{"$f":"Scaler!$G$419","v":0.14964844275640773},0,{"$f":"0.01*Input!$F$14*(E462*$E$437+F462*$F$437)+10*(B462*$B$437+C462*$C$437+D462*$D$437+G462*$G$437)","v":0},"","",{"$f":"IF($F$437<>0,I462/$F$437*100/Input!$F$14,\"\")","v":""}]
["Rounding",{"$f":"Adjust!$B$85","v":-3.3328323961168138E-4},{"$f":"Adjust!$C$85","v":-3.6732046315207656E-4},{"$f":"Adjust!$D$85","v":4.7933656083278854E-4},{"$f":"Adjust!$E$85","v":2.5771518294988027E-3},{"$f":"Adjust!$F$85","v":3.4718313600303752E-3},{"$f":"Adjust!$G$85","v":-3.5181024992531063E-5},0,{"$f":"0.01*Input!$F$14*(E463*$E$437+F463*$F$437)+10*(B463*$B$437+C463*$C$437+D463*$D$437+G463*$G$437)","v":0},"","",{"$f":"IF($F$437<>0,I463/$F$437*100/Input!$F$14,\"\")","v":""}]
[]
[]
["Total",{"$f":"SUM($B$441:$B$463)","v":6.7329999999999997},{"$f":"SUM($C$441:$C$463)","v":0.30099999999999999},{"$f":"SUM($D$441:$D$463)","v":1.6E-2},{"$f":"SUM($E$441:$E$463)","v":78.739999999999995},{"$f":"SUM($F$441:$F$463)","v":1.55},{"$f":"SUM($G$441:$G$463)","v":0.22600000000000001},{"$f":"SUM(H$441:H$463)","v":0},{"$f":"SUM($I$441:$I$463)","v":0},{"$f":"SUM($J$441:$J$463)","v":0},{"$f":"SUM($K$441:$K$463)","v":0},{"$f":"SUM($L$441:$L$463)","v":0}]
[]
["NHH UMS category A"]
[]
[null,"Rate 1 units (MWh)","MWh/year"]
["NHH UMS category A",{"$f":"Loads!B$311","v":61818.727032553725},{"$f":"Multi!B$128","v":61818.727032553725}]
[]
[]
[null,"Unit rate 1 p/kWh","Revenue (£/year)","Average p/kWh"]
["Assets 132kV",{"$f":"Yard!$C$80","v":0.14612723416845816},{"$f":"0+10*(B475*$B$471)","v":90333.996010819712},{"$f":"IF($C$471<>0,0.1*C475/$C$471,\"\")","v":0.14612723416845816}]
["Assets 132kV/EHV",{"$f":"Yard!$D$80","v":2.2788484458396908E-2},14087.551002192313,2.2788484458396905E-2]
["Assets EHV",{"$f":"Yard!$E$80","v":2.6254452511857356E-2},16230.168332196545,2.6254452511857356E-2]
["Assets EHV/HV",{"$f":"Yard!$F$80","v":4.4859068938341989E-2},27731.305376338732,4.4859068938341989E-2]
["Assets 132kV/HV",{"$f":"Yard!$G$80","v":0},0,0]
["Assets HV",{"$f":"Yard!$H$80","v":0.14038813221119253},86786.156237737741,0.14038813221119253]
["Assets HV/LV",{"$f":"Yard!$I$80","v":5.1508199216429094E-2},31841.713072988277,5.1508199216429094E-2]
["Assets LV circuits",{"$f":"Yard!$J$80","v":2.0840455001703315E-2},12883.303989845163,2.0840455001703315E-2]
["Assets LV customer",null,0,0]
["Transmission exit",{"$f":"Yard!$K$80","v":4.764945462199846E-2},29456.286285273782,4.764945462199846E-2]
["Operating 132kV",{"$f":"Yard!$L$80","v":7.4660318667394407E-2},46154.058598631302,7.4660318667394407E-2]
["Operating 132kV/EHV",{"$f":"Yard!$M$80","v":1.1643247210506141E-2},7197.7072107882168,1.1643247210506141E-2]
["Operating EHV",{"$f":"Yard!$N$80","v":1.3414103141879278E-2},8292.4278051435631,1.3414103141879278E-2]
["Operating EHV/HV",{"$f":"Yard!$O$80","v":2.2919700089568631E-2},14168.666835050404,2.2919700089568635E-2]
["Operating 132kV/HV",{"$f":"Yard!$P$80","v":0},0,0]
["Operating HV",{"$f":"Yard!$Q$80","v":0.11698283010496499},72317.296417544392,0.11698283010496499]
["Operating HV/LV",{"$f":"Yard!$R$80","v":7.3356908498469431E-2},45348.307024189024,7.3356908498469431E-2]
["Operating LV circuits",{"$f":"Yard!$S$80","v":0.1020375824773101},63078.334582265197,0.1020375824773101]
["Operating LV customer",{"$f":"Otex!$B$157","v":0.7523252419266635},465077.88770364359,0.75232524192666372]
["Scaler",{"$f":"Scaler!$B$420","v":0.59322967108759395},366727.03104575601,0.59322967108759395]
["Rounding",{"$f":"Adjust!$B$86","v":1.4915667271964139E-5},9.2206756359394646,1.4915667271964141E-5]
[]
[]
["Total",{"$f":"SUM($B$475:$B$495)","v":2.2610000000000001},{"$f":"SUM($C$475:$C$495)","v":1397721.4182060398},{"$f":"SUM($D$475:$D$495)","v":2.2610000000000006}]
[]
["NHH UMS category B"]
[]
[null,"Rate 1 units (MWh)","MWh/year"]
["NHH UMS category B",{"$f":"Loads!B$312","v":32748.233387961882},{"$f":"Multi!B$129","v":32748.233387961882}]
[]
[]
[null,"Unit rate 1 p/kWh","Revenue (£/year)","Average p/kWh"]
["Assets 132kV",{"$f":"Yard!$C$81","v":0.14460763096744289},{"$f":"0+10*(B507*$B$503)","v":47356.444486020839},{"$f":"IF($C$503<>0,0.1*C507/$C$503,\"\")","v":0.14460763096744289}]
["Assets 132kV/EHV",{"$f":"Yard!$D$81","v":2.2551502939336984E-2},7385.21881506716,2.2551502939336984E-2]
["Assets EHV",{"$f":"Yard!$E$81","v":2.8503630161473701E-2},9334.4353293209042,2.8503630161473701E-2]
["Assets EHV/HV",{"$f":"Yard!$F$81","v":4.870207481298934E-2},15949.069124537549,4.870207481298934E-2]
["Assets 132kV/HV",{"$f":"Yard!$G$81","v":0},0,0]
["Assets HV",{"$f":"Yard!$H$81","v":0.15241496267349955},49913.207694492623,0.15241496267349958]
["Assets HV/LV",{"$f":"Yard!$I$81","v":5.5920825623216902E-2},18313.082487566258,5.5920825623216902E-2]
["Assets LV circuits",{"$f":"Yard!$J$81","v":2.2625824000599652E-2},7409.5576496658678,2.2625824000599652E-2]
["Assets LV customer",null,0,0]
["Transmission exit",{"$f":"Yard!$K$81","v":4.4103339749090142E-2},14443.064632917802,4.4103339749090149E-2]
["Operating 132kV",{"$f":"Yard!$L$81","v":7.3883912682011832E-2},24195.6761612632,7.3883912682011832E-2]
["Operating 132kV/EHV",{"$f":"Yard!$M$81","v":1.1522167003712518E-2},3773.3061417265098,1.1522167003712518E-2]
["Operating EHV",{"$f":"Yard!$N$81","v":1.4563268258262383E-2},4769.2130781307369,1.4563268258262384E-2]
["Operating EHV/HV",{"$f":"Yard!$O$81","v":2.4883194744583264E-2},8148.8066893371924,2.4883194744583267E-2]
["Operating 132kV/HV",{"$f":"Yard!$P$81","v":0},0,0]
["Operating HV",{"$f":"Yard!$Q$81","v":0.12700456515132033},41591.751409120487,0.12700456515132033]
["Operating HV/LV",{"$f":"Yard!$R$81","v":7.9641279462411368E-2},26081.112071509429,7.9641279462411382E-2]
["Operating LV circuits",{"$f":"Yard!$S$81","v":0.11077898166760744},36278.15946131559,0.11077898166760744]
["Operating LV customer",{"$f":"Otex!$B$158","v":0.7523252419266635},246373.22606269264,0.75232524192666361]
["Scaler",{"$f":"Scaler!$B$421","v":0.5490809903443935},179814.32420691443,0.5490809903443935]
["Rounding",{"$f":"Adjust!$B$87","v":-1.1339216861561141E-4},-37.13393202191169,-1.1339216861561141E-4]
[]
[]
["Total",{"$f":"SUM($B$507:$B$527)","v":2.2629999999999999},{"$f":"SUM($C$507:$C$527)","v":741092.52156957728},{"$f":"SUM($D$507:$D$527)","v":2.2629999999999999}]
[]
["NHH UMS category C"]
[]
[null,"Rate 1 units (MWh)","MWh/year"]
["NHH UMS category C",{"$f":"Loads!B$313","v":746.73974551420247},{"$f":"Multi!B$130","v":746.73974551420247}]
[]
[]
[null,"Unit rate 1 p/kWh","Revenue (£/year)","Average p/kWh"]
["Assets 132kV",{"$f":"Yard!$C$82","v":0.27622798089756428},{"$f":"0+10*(B539*$B$535)","v":2062.7041215934914},{"$f":"IF($C$535<>0,0.1*C539/$C$535,\"\")","v":0.27622798089756428}]
["Assets 132kV/EHV",{"$f":"Yard!$D$82","v":4.3077644529983521E-2},321.6778931367117,4.3077644529983521E-2]
["Assets EHV",{"$f":"Yard!$E$82","v":5.2600183916675002E-2},392.78647951938132,5.2600183916674995E-2]
["Assets EHV/HV",{"$f":"Yard!$F$82","v":8.98740994664399E-2},671.12562163887446,8.98740994664399E-2]
["Assets 132kV/HV",{"$f":"Yard!$G$82","v":0},0,0]
["Assets HV",{"$f":"Yard!$H$82","v":0.28126435204436889},2100.3127066782909,0.28126435204436889]
["Assets HV/LV",{"$f":"Yard!$I$82","v":0.1031954770634535},770.60164280579988,0.10319547706345351]
["Assets LV circuits",{"$f":"Yard!$J$82","v":4.1753366043405356E-2},311.7889793361386,4.1753366043405363E-2]
["Assets LV customer",null,0,0]
["Transmission exit",{"$f":"Yard!$K$82","v":8.5812379724868798E-2},640.79514597716638,8.5812379724868798E-2]
["Operating 132kV",{"$f":"Yard!$L$82","v":0.14113227555438573},1053.890795313223,0.14113227555438573]
["Operating 132kV/EHV",{"$f":"Yard!$M$82","v":2.2009522635196295E-2},164.35385331495559,2.2009522635196295E-2]
["Operating EHV",{"$f":"Yard!$N$82","v":2.6874843115522344E-2},200.68513508819274,2.6874843115522351E-2]
["Operating EHV/HV",{"$f":"Yard!$O$82","v":4.5919085133535466E-2},342.89605946861275,4.5919085133535473E-2]
["Operating 132kV/HV",{"$f":"Yard!$P$82","v":0},0,0]
["Operating HV",{"$f":"Yard!$Q$82","v":0.23437237458428303},1750.1516735262683,0.23437237458428301]
["Operating HV/LV",{"$f":"Yard!$R$82","v":0.14696885706664531},1097.4748692445992,0.14696885706664531]
["Operating LV circuits",{"$f":"Yard!$S$82","v":0.20442991916496472},1526.5594581273472,0.2044299191649647]
["Operating LV customer",{"$f":"Otex!$B$159","v":0.7523252419266635},5617.9115970022749,0.7523252419266635]
["Scaler",{"$f":"Scaler!$B$422","v":1.0683532519577992},7977.8183548623756,1.0683532519577992]
["Rounding",{"$f":"Adjust!$B$88","v":-1.9085482575498247E-4},-1.4251888401443309,-1.9085482575498253E-4]
[]
[]
["Total",{"$f":"SUM($B$539:$B$559)","v":3.6160000000000001},{"$f":"SUM($C$539:$C$559)","v":27002.109197793558},{"$f":"SUM($D$539:$D$559)","v":3.6160000000000001}]
[]
["NHH UMS category D"]
[]
[null,"Rate 1 units (MWh)","MWh/year"]
["NHH UMS category D",{"$f":"Loads!B$314","v":5309.2660217722923},{"$f":"Multi!B$131","v":5309.2660217722923}]
[]
[]
[null,"Unit rate 1 p/kWh","Revenue (£/year)","Average p/kWh"]
["Assets 132kV",{"$f":"Yard!$C$83","v":0.15610675995653173},{"$f":"0+10*(B571*$B$567)","v":8288.1231640617734},{"$f":"IF($C$567<>0,0.1*C571/$C$567,\"\")","v":0.15610675995653173}]
["Assets 132kV/EHV",{"$f":"Yard!$D$83","v":2.4344787563822929E-2},1292.5295341986973,2.4344787563822926E-2]
["Assets EHV",{"$f":"Yard!$E$83","v":2.6037991518805481E-2},1382.4262364598906,2.6037991518805481E-2]
["Assets EHV/HV",{"$f":"Yard!$F$83","v":4.4489217820502427E-2},2362.0509250961991,4.4489217820502434E-2]
["Assets 132kV/HV",{"$f":"Yard!$G$83","v":0},0,0]
["Assets HV",{"$f":"Yard!$H$83","v":0.13923066931999689},7392.1266180927341,0.13923066931999689]
["Assets HV/LV",{"$f":"Yard!$I$83","v":5.1083527784119974E-2},2712.1603833648901,5.1083527784119974E-2]
["Assets LV circuits",{"$f":"Yard!$J$83","v":2.0668630981252521E-2},1097.3526018531411,2.0668630981252521E-2]
["Assets LV customer",null,0,0]
["Transmission exit",{"$f":"Yard!$K$83","v":5.3289666620260238E-2},2829.2901629852081,5.3289666620260245E-2]
["Operating 132kV",{"$f":"Yard!$L$83","v":7.975912574279638E-2},4234.6241623249252,7.975912574279638E-2]
["Operating 132kV/EHV",{"$f":"Yard!$M$83","v":1.2438404160238118E-2},660.38796573023365,1.2438404160238118E-2]
["Operating EHV",{"$f":"Yard!$N$83","v":1.3303507421565547E-2},706.31859923713478,1.3303507421565547E-2]
["Operating EHV/HV",{"$f":"Yard!$O$83","v":2.2730733245198191E-2},1206.8350966870059,2.2730733245198191E-2]
["Operating 132kV/HV",{"$f":"Yard!$P$83","v":0},0,0]
["Operating HV",{"$f":"Yard!$Q$83","v":0.1160183377178888},6159.7221834808979,0.11601833771788882]
["Operating HV/LV",{"$f":"Yard!$R$83","v":7.2752100256757934E-2},3862.6025390577615,7.2752100256757934E-2]
["Operating LV circuits",{"$f":"Yard!$S$83","v":0.10119630969046846},5372.7812856835035,0.10119630969046846]
["Operating LV customer",{"$f":"Otex!$B$160","v":0.7523252419266635},39942.948442828543,0.75232524192666361]
["Scaler",{"$f":"Scaler!$B$423","v":0.66344959564153427},35224.303952981645,0.66344959564153427]
["Rounding",{"$f":"Adjust!$B$89","v":-2.2460736840290707E-4},-11.925002693012461,-2.2460736840290707E-4]
[]
[]
["Total",{"$f":"SUM($B$571:$B$591)","v":2.3490000000000002},{"$f":"SUM($C$571:$C$591)","v":124714.65885143117},{"$f":"SUM($D$571:$D$591)","v":2.3490000000000006}]
[]
["LV UMS (Pseudo HH Metered)"]
[]
[null,"Rate 1 units (MWh)","Rate 2 units (MWh)","Rate 3 units (MWh)","MWh/year"]
["LV UMS (Pseudo HH Metered)",{"$f":"Loads!B$315","v":11501.823274863002},{"$f":"Loads!C$315","v":26516.195302025844},{"$f":"Loads!D$315","v":199955.58387974752},{"$f":"Multi!B$132","v":237973.60245663638}]
[]
[]
[null,"Unit rate 1 p/kWh","Unit rate 2 p/kWh","Unit rate 3 p/kWh","Average unit rate (p/kWh)","Revenue (£/year)","Average p/kWh"]
["Assets 132kV",{"$f":"Yard!$C$84","v":2.4855055200599012},{"$f":"Yard!$C$112","v":0.18296492643544648},{"$f":"Yard!$C$135","v":7.01558267507675E-3},{"$f":"IF(E$599<>0,(($B603*B$599+$C603*C$599+$D603*D$599))/E$599,0)","v":0.1464119697881579},{"$f":"0+10*(B603*$B$599+C603*$C$599+D603*$D$599)","v":348421.83893260144},{"$f":"IF($E$599<>0,0.1*F603/$E$599,\"\")","v":0.1464119697881579}]
["Assets 132kV/EHV",{"$f":"Yard!$D$84","v":0.38761360425017083},{"$f":"Yard!$D$112","v":2.8533308019087246E-2},{"$f":"Yard!$D$135","v":1.0940773475071653E-3},2.2832888865838164E-2,54336.248178955298,2.2832888865838164E-2]
["Assets EHV",{"$f":"Yard!$E$84","v":0.47192805769730556},{"$f":"Yard!$E$112","v":2.7621257835586971E-2},{"$f":"Yard!$E$135","v":3.2742736667875395E-3},2.8638273395916833E-2,68151.53088164379,2.8638273395916836E-2]
["Assets EHV/HV",{"$f":"Yard!$F$84","v":0.80634906649148719},{"$f":"Yard!$F$112","v":4.7194429548691352E-2},{"$f":"Yard!$F$135","v":5.5945127050386553E-3},4.8932129891579822E-2,116445.55226175311,4.8932129891579822E-2]
["Assets 132kV/HV",{"$f":"Yard!$G$84","v":0},{"$f":"Yard!$G$112","v":0},{"$f":"Yard!$G$135","v":0},0,0,0]
["Assets HV",{"$f":"Yard!$H$84","v":2.5234995293944369},{"$f":"Yard!$H$112","v":0.14769673049211474},{"$f":"Yard!$H$135","v":1.7508236525632895E-2},0.15313492863697978,364420.70629682008,0.15313492863697978]
["Assets HV/LV",{"$f":"Yard!$I$84","v":0.92586826561006785},{"$f":"Yard!$I$112","v":5.4189713175744954E-2},{"$f":"Yard!$I$135","v":6.4237462290189333E-3},5.6184980076245755E-2,133705.42112698543,5.6184980076245762E-2]
["Assets LV circuits",{"$f":"Yard!$J$84","v":0.37461057114179208},{"$f":"Yard!$J$112","v":2.1925407919019375E-2},{"$f":"Yard!$J$135","v":2.5990773559315186E-3},2.2732702110795578E-2,54097.830148796056,2.2732702110795578E-2]
["Assets LV customer",null,null,null,0,0,0]
["Transmission exit",{"$f":"Yard!$K$84","v":0.76788755405094722},{"$f":"Yard!$K$112","v":6.5843144880290028E-2},{"$f":"Yard!$K$135","v":5.498625262357939E-4},4.4912396176549858E-2,106879.64713093231,4.4912396176549858E-2]
["Operating 132kV",{"$f":"Yard!$L$84","v":1.2699113565874596},{"$f":"Yard!$L$112","v":9.3481682523868626E-2},{"$f":"Yard!$L$135","v":3.5844491352984326E-3},7.4805797723531436E-2,178018.05168911227,7.480579772353145E-2]
["Operating 132kV/EHV",{"$f":"Yard!$M$84","v":0.1980421745324574},{"$f":"Yard!$M$112","v":1.4578431470783318E-2},{"$f":"Yard!$M$135","v":5.5899342703972317E-4},1.1665934611856521E-2,27761.844856070584,1.1665934611856521E-2]
["Operating EHV",{"$f":"Yard!$N$84","v":0.24112068757249294},{"$f":"Yard!$N$112","v":1.4112440598320172E-2},{"$f":"Yard!$N$135","v":1.6729141337527792E-3},1.4632061093815159E-2,34820.442898607849,1.4632061093815162E-2]
["Operating EHV/HV",{"$f":"Yard!$O$84","v":0.41198534006335968},{"$f":"Yard!$O$112","v":2.4112898389421211E-2},{"$f":"Yard!$O$135","v":2.8583864173152983E-3},2.5000736047382562E-2,59495.152212631161,2.5000736047382562E-2]
["Operating 132kV/HV",{"$f":"Yard!$P$84","v":0},{"$f":"Yard!$P$112","v":0},{"$f":"Yard!$P$135","v":0},0,0,0]
["Operating HV",{"$f":"Yard!$Q$84","v":2.1027854140335442},{"$f":"Yard!$Q$112","v":0.12307294967231114},{"$f":"Yard!$Q$135","v":1.4589289184605052E-2},0.12760449945246527,303665.02424379042,0.12760449945246527]
["Operating HV/LV",{"$f":"Yard!$R$84","v":1.3186023715682702},{"$f":"Yard!$R$112","v":7.7175865036327979E-2},{"$f":"Yard!$R$135","v":9.1485660828388524E-3},8.0017482753054037E-2,190420.48630256037,8.0017482753054037E-2]
["Operating LV circuits",{"$f":"Yard!$S$84","v":1.834142155083885},{"$f":"Yard!$S$112","v":0.10734965329225092},{"$f":"Yard!$S$135","v":1.2725421304337932E-2},0.11130227081764012,264870.02348077972,0.11130227081764014]
["Operating LV customer",{"$f":"Otex!$B$161","v":0.7523252419266635},{"$f":"Otex!$B$161","v":0.7523252419266635},{"$f":"Otex!$B$161","v":0.7523252419266635},0.7523252419266635,1790335.4804034859,0.7523252419266635]
["Scaler",{"$f":"Scaler!$B$424","v":9.5601027280508024},{"$f":"Scaler!$C$424","v":0.81973880898679274},{"$f":"Scaler!$D$424","v":6.8457187636237543E-3},0.55915364032875758,1330638.0611577679,0.55915364032875758]
["Rounding",{"$f":"Adjust!$B$90","v":-2.7963811504250202E-4},{"$f":"Adjust!$C$90","v":8.3109797279323772E-5},{"$f":"Adjust!$D$90","v":-3.6834940670460448E-4},-3.1375796509593032E-4,-746.66113253342121,-3.1375796509593032E-4]
[]
[]
["Total",{"$f":"SUM($B$603:$B$623)","v":26.431999999999999},{"$f":"SUM($C$603:$C$623)","v":2.6019999999999999},{"$f":"SUM($D$603:$D$623)","v":0.84799999999999998},{"$f":"SUM(E$603:E$623)","v":2.2799741757321343},{"$f":"SUM($F$603:$F$623)","v":5425736.6810707608},{"$f":"SUM($G$603:$G$623)","v":2.2799741757321343}]
[]
["LV Generation NHH"]
[]
[null,"Rate 1 units (MWh)","MPANs","MWh/year","MWh/MPAN/year"]
["LV Generation NHH",{"$f":"Loads!B$316","v":427.11844929038995},{"$f":"Loads!E$316","v":99.897984960000016},{"$f":"Multi!B$133","v":427.11844929038995},{"$f":"IF(C631,D631/C631,\"\")","v":4.2755461930629703}]
[]
[]
[null,"Unit rate 1 p/kWh","Fixed charge p/MPAN/day","Revenue (£/year)","Average p/kWh","Average £/MPAN/year"]
["Assets 132kV",{"$f":"Yard!$C$41","v":-0.12061131267457495},null,{"$f":"0.01*Input!$F$14*(C635*$C$631)+10*(B635*$B$631)","v":-515.1531683644281},{"$f":"IF($D$631<>0,0.1*D635/$D$631,\"\")","v":-0.12061131267457496},{"$f":"IF($C$631<>0,D635/$C$631,\"\")","v":-5.1567923874610653}]
["Assets 132kV/EHV",{"$f":"Yard!$D$41","v":-1.8809286578454112E-2},null,{"$f":"0.01*Input!$F$14*(C636*$C$631)+10*(B636*$B$631)","v":-80.337933156478641},-1.8809286578454112E-2,-0.80419973624739893]
["Assets EHV",{"$f":"Yard!$E$41","v":-2.1664256993022324E-2},null,{"$f":"0.01*Input!$F$14*(C637*$C$631)+10*(B637*$B$631)","v":-92.532038518881805},-2.1664256993022324E-2,-0.92626531512054422]
["Assets EHV/HV",{"$f":"Yard!$F$41","v":-3.7016136501381323E-2},null,{"$f":"0.01*Input!$F$14*(C638*$C$631)+10*(B638*$B$631)","v":-158.10274821191393},-3.701613650138133E-2,-1.5826420150038021]
["Assets 132kV/HV",{"$f":"Yard!$G$41","v":0},null,{"$f":"0.01*Input!$F$14*(C639*$C$631)+10*(B639*$B$631)","v":0},0,0]
["Assets HV",{"$f":"Yard!$H$41","v":-0.11584338213185263},null,{"$f":"0.01*Input!$F$14*(C640*$C$631)+10*(B640*$B$631)","v":-494.78845736710969},-0.11584338213185265,-4.9529373146538154]
["Assets HV/LV",{"$f":"Yard!$I$41","v":-4.2502766514309918E-2},null,{"$f":"0.01*Input!$F$14*(C641*$C$631)+10*(B641*$B$631)","v":-181.53715724143566},-4.2502766514309925E-2,-1.8172254156490208]
["Assets LV circuits",{"$f":"Yard!$J$41","v":0},null,{"$f":"0.01*Input!$F$14*(C642*$C$631)+10*(B642*$B$631)","v":0},0,0]
["Assets LV customer",null,{"$f":"SM!$B$126","v":0},{"$f":"0.01*Input!$F$14*(C643*$C$631)+10*(B643*$B$631)","v":0},0,0]
["Assets HV customer",null,{"$f":"SM!$C$126","v":0},{"$f":"0.01*Input!$F$14*(C644*$C$631)+10*(B644*$B$631)","v":0},0,0]
["Transmission exit",{"$f":"Yard!$K$41","v":-3.933839706843318E-2},null,{"$f":"0.01*Input!$F$14*(C645*$C$631)+10*(B645*$B$631)","v":-168.02155153438801},-3.933839706843318E-2,-1.6819313382713899]
["Operating 132kV",{"$f":"Yard!$L$41","v":-6.1623550807753752E-2},null,{"$f":"0.01*Input!$F$14*(C646*$C$631)+10*(B646*$B$631)","v":-263.20555460775336},-6.1623550807753752E-2,-2.6347433805911407]
["Operating 132kV/EHV",{"$f":"Yard!$M$41","v":-9.610168411418896E-3},null,{"$f":"0.01*Input!$F$14*(C647*$C$631)+10*(B647*$B$631)","v":-41.046802293047293},-9.610168411418896E-3,-0.41088718966136079]
["Operating EHV",{"$f":"Yard!$N$41","v":-1.1068849280529982E-2},null,{"$f":"0.01*Input!$F$14*(C648*$C$631)+10*(B648*$B$631)","v":-47.277097401290142},-1.1068849280529982E-2,-0.47325376402957764]
["Operating EHV/HV",{"$f":"Yard!$O$41","v":-1.8912535796324789E-2},null,{"$f":"0.01*Input!$F$14*(C649*$C$631)+10*(B649*$B$631)","v":-80.778929614752343},-1.8912535796324789E-2,-0.80861420425143604]
["Operating 132kV/HV",{"$f":"Yard!$P$41","v":0},null,{"$f":"0.01*Input!$F$14*(C650*$C$631)+10*(B650*$B$631)","v":0},0,0]
["Operating HV",{"$f":"Yard!$Q$41","v":-9.6530144516265862E-2},null,{"$f":"0.01*Input!$F$14*(C651*$C$631)+10*(B651*$B$631)","v":-412.29805635564719},-9.6530144516265889E-2,-4.1271909190233895]
["Operating HV/LV",{"$f":"Yard!$R$41","v":-6.0531558112161009E-2},null,{"$f":"0.01*Input!$F$14*(C652*$C$631)+10*(B652*$B$631)","v":-258.54145233997332},-6.0531558112161002E-2,-2.5880547284661994]
["Operating LV circuits",{"$f":"Yard!$S$41","v":0},null,{"$f":"0.01*Input!$F$14*(C653*$C$631)+10*(B653*$B$631)","v":0},0,0]
["Operating LV customer",null,{"$f":"Otex!$B$139","v":0},{"$f":"0.01*Input!$F$14*(C654*$C$631)+10*(B654*$B$631)","v":0},0,0]
["Operating HV customer",null,{"$f":"Otex!$C$139","v":0},{"$f":"0.01*Input!$F$14*(C655*$C$631)+10*(B655*$B$631)","v":0},0,0]
["Scaler",{"$f":"Scaler!$B$425","v":0},{"$f":"Scaler!$E$425","v":0},{"$f":"0.01*Input!$F$14*(C656*$C$631)+10*(B656*$B$631)","v":0},0,0]
["Rounding",{"$f":"Adjust!$B$91","v":6.2345386482753895E-5},{"$f":"Adjust!$E$91","v":0},{"$f":"0.01*Input!$F$14*(C657*$C$631)+10*(B657*$B$631)","v":0.26628864794923884},6.2345386482753909E-5,2.6656057983137802E-3]
[]
[]
["Total",{"$f":"SUM($B$635:$B$657)","v":-0.65400000000000003},{"$f":"SUM($C$635:$C$657)","v":0},{"$f":"SUM($D$635:$D$657)","v":-2793.3546583591497},{"$f":"SUM($E$635:$E$657)","v":-0.65400000000000014},{"$f":"SUM($F$635:$F$657)","v":-27.962072102631826}]
[]
["LV Sub Generation NHH"]
[]
[null,"Rate 1 units (MWh)","MPANs","MWh/year","MWh/MPAN/year"]
["LV Sub Generation NHH",{"$f":"Loads!B$317","v":0},{"$f":"Loads!E$317","v":0},{"$f":"Multi!B$134","v":0},{"$f":"IF(C665,D665/C665,\"\")","v":""}]
[]
[]
[null,"Unit rate 1 p/kWh","Fixed charge p/MPAN/day","Revenue (£/year)","Average p/kWh","Average £/MPAN/year"]
["Assets 132kV",{"$f":"Yard!$C$42","v":-0.11769961896098259},null,{"$f":"0.01*Input!$F$14*(C669*$C$665)+10*(B669*$B$665)","v":0},{"$f":"IF($D$665<>0,0.1*D669/$D$665,\"\")","v":""},{"$f":"IF($C$665<>0,D669/$C$665,\"\")","v":""}]
["Assets 132kV/EHV",{"$f":"Yard!$D$42","v":-1.8355209093737487E-2},null,{"$f":"0.01*Input!$F$14*(C670*$C$665)+10*(B670*$B$665)","v":0},"",""]
["Assets EHV",{"$f":"Yard!$E$42","v":-2.1141257288455395E-2},null,{"$f":"0.01*Input!$F$14*(C671*$C$665)+10*(B671*$B$665)","v":0},"",""]
["Assets EHV/HV",{"$f":"Yard!$F$42","v":-3.6122525035238412E-2},null,{"$f":"0.01*Input!$F$14*(C672*$C$665)+10*(B672*$B$665)","v":0},"",""]
["Assets 132kV/HV",{"$f":"Yard!$G$42","v":0},null,{"$f":"0.01*Input!$F$14*(C673*$C$665)+10*(B673*$B$665)","v":0},"",""]
["Assets HV",{"$f":"Yard!$H$42","v":-0.11304679166256001},null,{"$f":"0.01*Input!$F$14*(C674*$C$665)+10*(B674*$B$665)","v":0},"",""]
["Assets HV/LV",{"$f":"Yard!$I$42","v":0},null,{"$f":"0.01*Input!$F$14*(C675*$C$665)+10*(B675*$B$665)","v":0},"",""]
["Assets LV circuits",{"$f":"Yard!$J$42","v":0},null,{"$f":"0.01*Input!$F$14*(C676*$C$665)+10*(B676*$B$665)","v":0},"",""]
["Assets LV customer",null,{"$f":"SM!$B$127","v":0},{"$f":"0.01*Input!$F$14*(C677*$C$665)+10*(B677*$B$665)","v":0},"",""]
["Assets HV customer",null,{"$f":"SM!$C$127","v":0},{"$f":"0.01*Input!$F$14*(C678*$C$665)+10*(B678*$B$665)","v":0},"",""]
["Transmission exit",{"$f":"Yard!$K$42","v":-3.8388723601600068E-2},null,{"$f":"0.01*Input!$F$14*(C679*$C$665)+10*(B679*$B$665)","v":0},"",""]
["Operating 132kV",{"$f":"Yard!$L$42","v":-6.0135888485561E-2},null,{"$f":"0.01*Input!$F$14*(C680*$C$665)+10*(B680*$B$665)","v":0},"",""]
["Operating 132kV/EHV",{"$f":"Yard!$M$42","v":-9.3781680597968993E-3},null,{"$f":"0.01*Input!$F$14*(C681*$C$665)+10*(B681*$B$665)","v":0},"",""]
["Operating EHV",{"$f":"Yard!$N$42","v":-1.0801634720368625E-2},null,{"$f":"0.01*Input!$F$14*(C682*$C$665)+10*(B682*$B$665)","v":0},"",""]
["Operating EHV/HV",{"$f":"Yard!$O$42","v":-1.8455965758530504E-2},null,{"$f":"0.01*Input!$F$14*(C683*$C$665)+10*(B683*$B$665)","v":0},"",""]
["Operating 132kV/HV",{"$f":"Yard!$P$42","v":0},null,{"$f":"0.01*Input!$F$14*(C684*$C$665)+10*(B684*$B$665)","v":0},"",""]
["Operating HV",{"$f":"Yard!$Q$42","v":-9.4199797480589986E-2},null,{"$f":"0.01*Input!$F$14*(C685*$C$665)+10*(B685*$B$665)","v":0},"",""]
["Operating HV/LV",{"$f":"Yard!$R$42","v":0},null,{"$f":"0.01*Input!$F$14*(C686*$C$665)+10*(B686*$B$665)","v":0},"",""]
["Operating LV circuits",{"$f":"Yard!$S$42","v":0},null,{"$f":"0.01*Input!$F$14*(C687*$C$665)+10*(B687*$B$665)","v":0},"",""]
["Operating LV customer",null,{"$f":"Otex!$B$140","v":0},{"$f":"0.01*Input!$F$14*(C688*$C$665)+10*(B688*$B$665)","v":0},"",""]
["Operating HV customer",null,{"$f":"Otex!$C$140","v":0},{"$f":"0.01*Input!$F$14*(C689*$C$665)+10*(B689*$B$665)","v":0},"",""]
["Scaler",{"$f":"Scaler!$B$426","v":0},{"$f":"Scaler!$E$426","v":0},{"$f":"0.01*Input!$F$14*(C690*$C$665)+10*(B690*$B$665)","v":0},"",""]
["Rounding",{"$f":"Adjust!$B$92","v":-2.7441985257903312E-4},{"$f":"Adjust!$E$92","v":0},{"$f":"0.01*Input!$F$14*(C691*$C$665)+10*(B691*$B$665)","v":0},"",""]
[]
[]
["Total",{"$f":"SUM($B$669:$B$691)","v":-0.53800000000000003},{"$f":"SUM($C$669:$C$691)","v":0},{"$f":"SUM($D$669:$D$691)","v":0},{"$f":"SUM($E$669:$E$691)","v":0},{"$f":"SUM($F$669:$F$691)","v":0}]
[]
["LV Generation Intermittent"]
[]
[null,"Rate 1 units (MWh)","MPANs","Reactive power units (MVArh)","MWh/year","MWh/MPAN/year"]
["LV Generation Intermittent",{"$f":"Loads!B$318","v":44.835818766750009},{"$f":"Loads!E$318","v":20.8120802},{"$f":"Loads!G$318","v":16.962},{"$f":"Multi!B$135","v":44.835818766750009},{"$f":"IF(C699,E699/C699,\"\")","v":2.1543170281820272}]
[]
[]
[null,"Unit rate 1 p/kWh","Fixed charge p/MPAN/day","Reactive power charge p/kVArh","Revenue (£/year)","Average p/kWh","Average £/MPAN/year"]
["Assets 132kV",{"$f":"Yard!$C$43","v":-0.12061131267457495},null,{"$f":"Reactive!$C$85","v":3.220430793488159E-2},{"$f":"0.01*Input!$F$14*(C703*$C$699)+10*(B703*$B$699+D703*$D$699)","v":-48.614574851055991},{"$f":"IF($E$699<>0,0.1*E703/$E$699,\"\")","v":-0.1084279850089596},{"$f":"IF($C$699<>0,E703/$C$699,\"\")","v":-2.3358825443626721}]
["Assets 132kV/EHV",{"$f":"Yard!$D$43","v":-1.8809286578454112E-2},null,{"$f":"Reactive!$D$85","v":5.022249103965374E-3},{"$f":"0.01*Input!$F$14*(C704*$C$699)+10*(B704*$B$699+D704*$D$699)","v":-7.5814237486197129},-1.690930144057513E-2,-0.36427996028093879]
["Assets EHV",{"$f":"Yard!$E$43","v":-2.1664256993022324E-2},null,{"$f":"Reactive!$E$85","v":5.7845519455222314E-3},{"$f":"0.01*Input!$F$14*(C705*$C$699)+10*(B705*$B$699+D705*$D$699)","v":-8.732171301554974},-1.9475882322975896E-2,-0.41957224927256304]
["Assets EHV/HV",{"$f":"Yard!$F$43","v":-3.7016136501381323E-2},null,{"$f":"Reactive!$F$85","v":9.8836421892404009E-3},{"$f":"0.01*Input!$F$14*(C706*$C$699)+10*(B706*$B$699+D706*$D$699)","v":-14.920024488073169},-3.3277020245112095E-2,-0.71689251361203044]
["Assets 132kV/HV",{"$f":"Yard!$G$43","v":0},null,{"$f":"Reactive!$G$85","v":0},{"$f":"0.01*Input!$F$14*(C707*$C$699)+10*(B707*$B$699+D707*$D$699)","v":0},0,0]
["Assets HV",{"$f":"Yard!$H$43","v":-0.11584338213185263},null,{"$f":"Reactive!$H$85","v":3.0931227491554941E-2},{"$f":"0.01*Input!$F$14*(C708*$C$699)+10*(B708*$B$699+D708*$D$699)","v":-46.69277405879356},-0.10414167811165446,-2.2435419049938869]
["Assets HV/LV",{"$f":"Yard!$I$43","v":-4.2502766514309918E-2},null,{"$f":"Reactive!$I$85","v":1.1348621871020806E-2},{"$f":"0.01*Input!$F$14*(C709*$C$699)+10*(B709*$B$699+D709*$D$699)","v":-17.131510123448358},-3.8209428520915044E-2,-0.82315222499711282]
["Assets LV circuits",{"$f":"Yard!$J$43","v":0},null,{"$f":"Reactive!$J$85","v":4.5917047583157915E-3},{"$f":"0.01*Input!$F$14*(C710*$C$699)+10*(B710*$B$699+D710*$D$699)","v":0.77884496110552459},1.7371043565799933E-3,3.7422734951094633E-2]
["Assets LV customer",null,{"$f":"SM!$B$128","v":0},null,{"$f":"0.01*Input!$F$14*(C711*$C$699)+10*(B711*$B$699+D711*$D$699)","v":0},0,0]
["Assets HV customer",null,{"$f":"SM!$C$128","v":0},null,{"$f":"0.01*Input!$F$14*(C712*$C$699)+10*(B712*$B$699+D712*$D$699)","v":0},0,0]
["Transmission exit",{"$f":"Yard!$K$43","v":-3.933839706843318E-2},null,{"$f":"Reactive!$K$85","v":1.0503706698513715E-2},{"$f":"0.01*Input!$F$14*(C713*$C$699)+10*(B713*$B$699+D713*$D$699)","v":-15.856053685145303},-3.5364701975519768E-2,-0.76186779662444815]
["Operating 132kV",{"$f":"Yard!$L$43","v":-6.1623550807753752E-2},null,{"$f":"Reactive!$L$85","v":1.6454043673401361E-2},{"$f":"0.01*Input!$F$14*(C714*$C$699)+10*(B714*$B$699+D714*$D$699)","v":-24.838488669918245},-5.5398762313532968E-2,-1.1934649699225282]
["Operating 132kV/EHV",{"$f":"Yard!$M$43","v":-9.610168411418896E-3},null,{"$f":"Reactive!$M$85","v":2.5660016126550843E-3},{"$f":"0.01*Input!$F$14*(C715*$C$699)+10*(B715*$B$699+D715*$D$699)","v":-3.8735524985846794},-8.6394151041070868E-3,-0.18612039072310893]
["Operating EHV",{"$f":"Yard!$N$43","v":-1.1068849280529982E-2},null,{"$f":"Reactive!$N$85","v":2.9554825564063634E-3},{"$f":"0.01*Input!$F$14*(C716*$C$699)+10*(B716*$B$699+D716*$D$699)","v":-4.4615002517654876},-9.9507500353135329E-3,-0.21437070244258849]
["Operating EHV/HV",{"$f":"Yard!$O$43","v":-1.8912535796324789E-2},null,{"$f":"Reactive!$O$85","v":5.0498175760482055E-3},{"$f":"0.01*Input!$F$14*(C717*$C$699)+10*(B717*$B$699+D717*$D$699)","v":-7.6230402165876061},-1.7002121130529707E-2,-0.366279590667136]
["Operating 132kV/HV",{"$f":"Yard!$P$43","v":0},null,{"$f":"Reactive!$P$85","v":0},{"$f":"0.01*Input!$F$14*(C718*$C$699)+10*(B718*$B$699+D718*$D$699)","v":0},0,0]
["Operating HV",{"$f":"Yard!$Q$43","v":-9.6530144516265862E-2},null,{"$f":"Reactive!$Q$85","v":2.5774418916972477E-2},{"$f":"0.01*Input!$F$14*(C719*$C$699)+10*(B719*$B$699+D719*$D$699)","v":-38.908223713897961},-8.6779331311670135E-2,-1.8695019113898073]
["Operating HV/LV",{"$f":"Yard!$R$43","v":-6.0531558112161009E-2},null,{"$f":"Reactive!$R$85","v":1.616247177809834E-2},{"$f":"0.01*Input!$F$14*(C720*$C$699)+10*(B720*$B$699+D720*$D$699)","v":-24.398341228857433},-5.4417075231268243E-2,-1.1723163179458358]
["Operating LV circuits",{"$f":"Yard!$S$43","v":0},null,{"$f":"Reactive!$S$85","v":2.2481584636698748E-2},{"$f":"0.01*Input!$F$14*(C721*$C$699)+10*(B721*$B$699+D721*$D$699)","v":3.8133263860768416},8.5050892143064497E-3,0.18322658520587681]
["Operating LV customer",null,{"$f":"Otex!$B$141","v":0},null,{"$f":"0.01*Input!$F$14*(C722*$C$699)+10*(B722*$B$699+D722*$D$699)","v":0},0,0]
["Operating HV customer",null,{"$f":"Otex!$C$141","v":0},null,{"$f":"0.01*Input!$F$14*(C723*$C$699)+10*(B723*$B$699+D723*$D$699)","v":0},0,0]
["Scaler",{"$f":"Scaler!$B$427","v":0},{"$f":"Scaler!$E$427","v":0},{"$f":"Scaler!$G$427","v":0},{"$f":"0.01*Input!$F$14*(C724*$C$699)+10*(B724*$B$699+D724*$D$699)","v":0},0,0]
["Rounding",{"$f":"Adjust!$B$93","v":6.2345386482753895E-5},{"$f":"Adjust!$E$93","v":0},{"$f":"Adjust!$G$93","v":2.861672567045781E-4},{"$f":"0.01*Input!$F$14*(C725*$C$699)+10*(B725*$B$699+D725*$D$699)","v":7.6492754575067934E-2},1.706063515266828E-4,3.6754016820994152E-3]
[]
[]
["Total",{"$f":"SUM($B$703:$B$725)","v":-0.65400000000000003},{"$f":"SUM($C$703:$C$725)","v":0},{"$f":"SUM($D$703:$D$725)","v":0.20200000000000001},{"$f":"SUM($E$703:$E$725)","v":-258.96301473454508},{"$f":"SUM($F$703:$F$725)","v":-0.5775806528297206},{"$f":"SUM($G$703:$G$725)","v":-12.442918355395587}]
[]
["LV Generation Non-Intermittent"]
[]
[null,"Rate 1 units (MWh)","Rate 2 units (MWh)","Rate 3 units (MWh)","MPANs","Reactive power units (MVArh)","MWh/year","MWh/MPAN/year"]
["LV Generation Non-Intermittent",{"$f":"Loads!B$319","v":222.19834486112995},{"$f":"Loads!C$319","v":843.16218718148991},{"$f":"Loads!D$319","v":1386.5857589786399},{"$f":"Loads!E$319","v":59.314428569999997},{"$f":"Loads!G$319","v":85.26939999999999},{"$f":"Multi!B$136","v":2451.9462910212596},{"$f":"IF(E733,G733/E733,\"\")","v":41.338108621034628}]
[]
[]
[null,"Unit rate 1 p/kWh","Unit rate 2 p/kWh","Unit rate 3 p/kWh","Fixed charge p/MPAN/day","Reactive power charge p/kVArh","Average unit rate (p/kWh)","Revenue (£/year)","Average p/kWh","Average £/MPAN/year"]
["Assets 132kV",{"$f":"Yard!$C$76","v":-0.96845528726891983},{"$f":"Yard!$C$108","v":-9.7727735406542129E-2},{"$f":"Yard!$C$131","v":-5.8114676245743374E-3},null,{"$f":"Reactive!$C$86","v":3.220430793488159E-2},{"$f":"IF(G$733<>0,(($B737*B$733+$C737*C$733+$D737*D$733+$F737*F$733))/G$733,0)","v":-0.1235351485381249},{"$f":"0.01*Input!$F$14*(E737*$E$733)+10*(B737*$B$733+C737*$C$733+D737*$D$733+F737*$F$733)","v":-3029.0154926881578},{"$f":"IF($G$733<>0,0.1*H737/$G$733,\"\")","v":-0.12353514853812493},{"$f":"IF($E$733<>0,H737/$E$733,\"\")","v":-51.067093887846553}]
["Assets 132kV/EHV",{"$f":"Yard!$D$76","v":-0.15103021957657681},{"$f":"Yard!$D$108","v":-1.5240601740938357E-2},{"$f":"Yard!$D$131","v":-9.0629608092367055E-4},null,{"$f":"Reactive!$D$86","v":5.022249103965374E-3},-1.9265257626661317E-2,{"$f":"0.01*Input!$F$14*(E738*$E$733)+10*(B738*$B$733+C738*$C$733+D738*$D$733+F738*$F$733)","v":-472.37376983261254},-1.9265257626661317E-2,-7.9638931238314141]
["Assets EHV",{"$f":"Yard!$E$76","v":-0.16004723621684555},{"$f":"Yard!$E$108","v":-1.8339342585678847E-2},{"$f":"Yard!$E$131","v":-2.7122957977719106E-3},null,{"$f":"Reactive!$E$86","v":5.7845519455222314E-3},-2.2142759344065451E-2,{"$f":"0.01*Input!$F$14*(E739*$E$733)+10*(B739*$B$733+C739*$C$733+D739*$D$733+F739*$F$733)","v":-542.92856646657629},-2.2142759344065455E-2,-9.153397909344072]
["Assets EHV/HV",{"$f":"Yard!$F$76","v":-0.2734610443542882},{"$f":"Yard!$F$108","v":-3.1335097654894416E-2},{"$f":"Yard!$F$131","v":-4.6343020909872272E-3},null,{"$f":"Reactive!$F$86","v":9.8836421892404009E-3},-3.7833718583617011E-2,{"$f":"0.01*Input!$F$14*(E740*$E$733)+10*(B740*$B$733+C740*$C$733+D740*$D$733+F740*$F$733)","v":-927.66245956641842},-3.7833718583617018E-2,-15.639743683472165]
["Assets 132kV/HV",{"$f":"Yard!$G$76","v":0},{"$f":"Yard!$G$108","v":0},{"$f":"Yard!$G$131","v":0},null,{"$f":"Reactive!$G$86","v":0},0,{"$f":"0.01*Input!$F$14*(E741*$E$733)+10*(B741*$B$733+C741*$C$733+D741*$D$733+F741*$F$733)","v":0},0,0]
["Assets HV",{"$f":"Yard!$H$76","v":-0.85580655501762481},{"$f":"Yard!$H$108","v":-9.8064358813875513E-2},{"$f":"Yard!$H$131","v":-1.4503221534766153E-2},null,{"$f":"Reactive!$H$86","v":3.0931227491554941E-2},-0.11840203580369248,{"$f":"0.01*Input!$F$14*(E742*$E$733)+10*(B742*$B$733+C742*$C$733+D742*$D$733+F742*$F$733)","v":-2903.1543253823015},-0.11840203580369248,-48.945162170046707]
["Assets HV/LV",{"$f":"Yard!$I$76","v":-0.31399416626086663},{"$f":"Yard!$I$108","v":-3.5979669009470451E-2},{"$f":"Yard!$I$131","v":-5.3212106488384611E-3},null,{"$f":"Reactive!$I$86","v":1.1348621871020806E-2},-4.3441532783076248E-2,{"$f":"0.01*Input!$F$14*(E743*$E$733)+10*(B743*$B$733+C743*$C$733+D743*$D$733+F743*$F$733)","v":-1065.1630518374227},-4.3441532783076255E-2,-17.957908008510429]
["Assets LV circuits",{"$f":"Yard!$J$76","v":0},{"$f":"Yard!$J$108","v":0},{"$f":"Yard!$J$131","v":0},null,{"$f":"Reactive!$J$86","v":4.5917047583157915E-3},1.5968209057126438E-4,{"$f":"0.01*Input!$F$14*(E744*$E$733)+10*(B744*$B$733+C744*$C$733+D744*$D$733+F744*$F$733)","v":3.9153190971873251},1.5968209057126438E-4,6.6009556048688162E-2]
["Assets LV customer",null,null,null,{"$f":"SM!$B$129","v":0},null,0,{"$f":"0.01*Input!$F$14*(E745*$E$733)+10*(B745*$B$733+C745*$C$733+D745*$D$733+F745*$F$733)","v":0},0,0]
["Assets HV customer",null,null,null,{"$f":"SM!$C$129","v":0},null,0,{"$f":"0.01*Input!$F$14*(E746*$E$733)+10*(B746*$B$733+C746*$C$733+D746*$D$733+F746*$F$733)","v":0},0,0]
["Transmission exit",{"$f":"Yard!$K$76","v":-0.39923709145519387},{"$f":"Yard!$K$108","v":-1.0806990281964145E-2},{"$f":"Yard!$K$131","v":-4.5548722282729223E-4},null,{"$f":"Reactive!$K$86","v":1.0503706698513715E-2},-3.9787899994939396E-2,{"$f":"0.01*Input!$F$14*(E747*$E$733)+10*(B747*$B$733+C747*$C$733+D747*$D$733+F747*$F$733)","v":-975.57793820116444},-3.9787899994939396E-2,-16.447565317936679]
["Operating 132kV",{"$f":"Yard!$L$76","v":-0.49480975106437591},{"$f":"Yard!$L$108","v":-4.9931718133279887E-2},{"$f":"Yard!$L$131","v":-2.9692344979018346E-3},null,{"$f":"Reactive!$L$86","v":1.6454043673401361E-2},-6.3117416879646573E-2,{"$f":"0.01*Input!$F$14*(E748*$E$733)+10*(B748*$B$733+C748*$C$733+D748*$D$733+F748*$F$733)","v":-1547.6051621689205},-6.3117416879646573E-2,-26.091546348499545]
["Operating 132kV/EHV",{"$f":"Yard!$M$76","v":-7.7165385262781577E-2},{"$f":"Yard!$M$108","v":-7.7868317233018205E-3},{"$f":"Yard!$M$131","v":-4.6305094730505331E-4},null,{"$f":"Reactive!$M$86","v":2.5660016126550843E-3},-9.8431362353565647E-3,{"$f":"0.01*Input!$F$14*(E749*$E$733)+10*(B749*$B$733+C749*$C$733+D749*$D$733+F749*$F$733)","v":-241.34841384299492},-9.8431362353565647E-3,-4.0689663486881154]
["Operating EHV",{"$f":"Yard!$N$76","v":-8.1772420629067699E-2},{"$f":"Yard!$N$108","v":-9.3700614357679277E-3},{"$f":"Yard!$N$131","v":-1.385784585154324E-3},null,{"$f":"Reactive!$N$86","v":2.9554825564063634E-3},-1.1313328950697367E-2,{"$f":"0.01*Input!$F$14*(E750*$E$733)+10*(B750*$B$733+C750*$C$733+D750*$D$733+F750*$F$733)","v":-277.39674959765853},-1.1313328950697369E-2,-4.6767162102942361]
["Operating EHV/HV",{"$f":"Yard!$O$76","v":-0.13971857354853437},{"$f":"Yard!$O$108","v":-1.6009940855318833E-2},{"$f":"Yard!$O$131","v":-2.3677890906715253E-3},null,{"$f":"Reactive!$O$86","v":5.0498175760482055E-3},-1.9330260385062976E-2,{"$f":"0.01*Input!$F$14*(E751*$E$733)+10*(B751*$B$733+C751*$C$733+D751*$D$733+F751*$F$733)","v":-473.96760255630346},-1.9330260385062976E-2,-7.9907640347061593]
["Operating 132kV/HV",{"$f":"Yard!$P$76","v":0},{"$f":"Yard!$P$108","v":0},{"$f":"Yard!$P$131","v":0},null,{"$f":"Reactive!$P$86","v":0},0,{"$f":"0.01*Input!$F$14*(E752*$E$733)+10*(B752*$B$733+C752*$C$733+D752*$D$733+F752*$F$733)","v":0},0,0]
["Operating HV",{"$f":"Yard!$Q$76","v":-0.71312774984237925},{"$f":"Yard!$Q$108","v":-8.1715213713494536E-2},{"$f":"Yard!$Q$131","v":-1.2085265855833884E-2},null,{"$f":"Reactive!$Q$86","v":2.5774418916972477E-2},-9.8662223226024637E-2,{"$f":"0.01*Input!$F$14*(E753*$E$733)+10*(B753*$B$733+C753*$C$733+D753*$D$733+F753*$F$733)","v":-2419.1447230296267},-9.8662223226024637E-2,-40.785097005101719]
["Operating HV/LV",{"$f":"Yard!$R$76","v":-0.44718397602424359},{"$f":"Yard!$R$108","v":-5.124149800389622E-2},{"$f":"Yard!$R$131","v":-7.578357787810578E-3},null,{"$f":"Reactive!$R$86","v":1.616247177809834E-2},-6.1868529552183235E-2,{"$f":"0.01*Input!$F$14*(E754*$E$733)+10*(B754*$B$733+C754*$C$733+D754*$D$733+F754*$F$733)","v":-1516.9831156641487},-6.1868529552183235E-2,-25.575279948518414]
["Operating LV circuits",{"$f":"Yard!$S$76","v":0},{"$f":"Yard!$S$108","v":0},{"$f":"Yard!$S$131","v":0},null,{"$f":"Reactive!$S$86","v":2.2481584636698748E-2},7.8182431647883877E-4,{"$f":"0.01*Input!$F$14*(E755*$E$733)+10*(B755*$B$733+C755*$C$733+D755*$D$733+F755*$F$733)","v":19.1699123302052},7.8182431647883877E-4,0.32319138517168389]
["Operating LV customer",null,null,null,{"$f":"Otex!$B$142","v":0},null,0,{"$f":"0.01*Input!$F$14*(E756*$E$733)+10*(B756*$B$733+C756*$C$733+D756*$D$733+F756*$F$733)","v":0},0,0]
["Operating HV customer",null,null,null,{"$f":"Otex!$C$142","v":0},null,0,{"$f":"0.01*Input!$F$14*(E757*$E$733)+10*(B757*$B$733+C757*$C$733+D757*$D$733+F757*$F$733)","v":0},0,0]
["Scaler",{"$f":"Scaler!$B$428","v":0},{"$f":"Scaler!$C$428","v":0},{"$f":"Scaler!$D$428","v":0},{"$f":"Scaler!$E$428","v":0},{"$f":"Scaler!$G$428","v":0},0,{"$f":"0.01*Input!$F$14*(E758*$E$733)+10*(B758*$B$733+C758*$C$733+D758*$D$733+F758*$F$733)","v":0},0,0]
["Rounding",{"$f":"Adjust!$B$94","v":-1.9054347830138596E-4},{"$f":"Adjust!$C$94","v":-4.5094064157691349E-4},{"$f":"Adjust!$D$94","v":1.9376376536624218E-4},{"$f":"Adjust!$E$94","v":0},{"$f":"Adjust!$G$94","v":2.861672567045781E-4},-5.2808316265352977E-5,{"$f":"0.01*Input!$F$14*(E759*$E$733)+10*(B759*$B$733+C759*$C$733+D759*$D$733+F759*$F$733)","v":-1.2948315520190989},-5.2808316265352977E-5,-2.1829959138711112E-2]
[]
[]
["Total",{"$f":"SUM($B$737:$B$759)","v":-5.0759999999999996},{"$f":"SUM($C$737:$C$759)","v":-0.52400000000000002},{"$f":"SUM($D$737:$D$759)","v":-6.0999999999999999E-2},{"$f":"SUM($E$737:$E$759)","v":0},{"$f":"SUM($F$737:$F$759)","v":0.20200000000000001},{"$f":"SUM(G$737:G$759)","v":-0.66765454981236316},{"$f":"SUM($H$737:$H$759)","v":-16370.530970958935},{"$f":"SUM($I$737:$I$759)","v":-0.66765454981236338},{"$f":"SUM($J$737:$J$759)","v":-275.9957630147145}]
[]
["LV Sub Generation Intermittent"]
[]
[null,"Rate 1 units (MWh)","MPANs","Reactive power units (MVArh)","MWh/year","MWh/MPAN/year"]
["LV Sub Generation Intermittent",{"$f":"Loads!B$320","v":0},{"$f":"Loads!E$320","v":0},{"$f":"Loads!G$320","v":0},{"$f":"Multi!B$137","v":0},{"$f":"IF(C767,E767/C767,\"\")","v":""}]
[]
[]
[null,"Unit rate 1 p/kWh","Fixed charge p/MPAN/day","Reactive power charge p/kVArh","Revenue (£/year)","Average p/kWh","Average £/MPAN/year"]
["Assets 132kV",{"$f":"Yard!$C$45","v":-0.11769961896098259},null,{"$f":"Reactive!$C$87","v":3.1426859461058998E-2},{"$f":"0.01*Input!$F$14*(C771*$C$767)+10*(B771*$B$767+D771*$D$767)","v":0},{"$f":"IF($E$767<>0,0.1*E771/$E$767,\"\")","v":""},{"$f":"IF($C$767<>0,E771/$C$767,\"\")","v":""}]
["Assets 132kV/EHV",{"$f":"Yard!$D$45","v":-1.8355209093737487E-2},null,{"$f":"Reactive!$D$87","v":4.9010063215112424E-3},{"$f":"0.01*Input!$F$14*(C772*$C$767)+10*(B772*$B$767+D772*$D$767)","v":0},"",""]
["Assets EHV",{"$f":"Yard!$E$45","v":-2.1141257288455395E-2},null,{"$f":"Reactive!$E$87","v":5.6449063089543785E-3},{"$f":"0.01*Input!$F$14*(C773*$C$767)+10*(B773*$B$767+D773*$D$767)","v":0},"",""]
["Assets EHV/HV",{"$f":"Yard!$F$45","v":-3.6122525035238412E-2},null,{"$f":"Reactive!$F$87","v":9.6450398708371986E-3},{"$f":"0.01*Input!$F$14*(C774*$C$767)+10*(B774*$B$767+D774*$D$767)","v":0},"",""]
["Assets 132kV/HV",{"$f":"Yard!$G$45","v":0},null,{"$f":"Reactive!$G$87","v":0},{"$f":"0.01*Input!$F$14*(C775*$C$767)+10*(B775*$B$767+D775*$D$767)","v":0},"",""]
["Assets HV",{"$f":"Yard!$H$45","v":-0.11304679166256001},null,{"$f":"Reactive!$H$87","v":3.0184512621749534E-2},{"$f":"0.01*Input!$F$14*(C776*$C$767)+10*(B776*$B$767+D776*$D$767)","v":0},"",""]
["Assets HV/LV",{"$f":"Yard!$I$45","v":0},null,{"$f":"Reactive!$I$87","v":1.1074653283605263E-2},{"$f":"0.01*Input!$F$14*(C777*$C$767)+10*(B777*$B$767+D777*$D$767)","v":0},"",""]
["Assets LV circuits",{"$f":"Yard!$J$45","v":0},null,{"$f":"Reactive!$J$87","v":0},{"$f":"0.01*Input!$F$14*(C778*$C$767)+10*(B778*$B$767+D778*$D$767)","v":0},"",""]
["Assets LV customer",null,{"$f":"SM!$B$130","v":0},null,{"$f":"0.01*Input!$F$14*(C779*$C$767)+10*(B779*$B$767+D779*$D$767)","v":0},"",""]
["Assets HV customer",null,{"$f":"SM!$C$130","v":0},null,{"$f":"0.01*Input!$F$14*(C780*$C$767)+10*(B780*$B$767+D780*$D$767)","v":0},"",""]
["Transmission exit",{"$f":"Yard!$K$45","v":-3.8388723601600068E-2},null,{"$f":"Reactive!$K$87","v":1.0250135320462317E-2},{"$f":"0.01*Input!$F$14*(C781*$C$767)+10*(B781*$B$767+D781*$D$767)","v":0},"",""]
["Operating 132kV",{"$f":"Yard!$L$45","v":-6.0135888485561E-2},null,{"$f":"Reactive!$L$87","v":1.6056824420375884E-2},{"$f":"0.01*Input!$F$14*(C782*$C$767)+10*(B782*$B$767+D782*$D$767)","v":0},"",""]
["Operating 132kV/EHV",{"$f":"Yard!$M$45","v":-9.3781680597968993E-3},null,{"$f":"Reactive!$M$87","v":2.5040554270199574E-3},{"$f":"0.01*Input!$F$14*(C783*$C$767)+10*(B783*$B$767+D783*$D$767)","v":0},"",""]
["Operating EHV",{"$f":"Yard!$N$45","v":-1.0801634720368625E-2},null,{"$f":"Reactive!$N$87","v":2.8841338595943246E-3},{"$f":"0.01*Input!$F$14*(C784*$C$767)+10*(B784*$B$767+D784*$D$767)","v":0},"",""]
["Operating EHV/HV",{"$f":"Yard!$O$45","v":-1.8455965758530504E-2},null,{"$f":"Reactive!$O$87","v":4.9279092594490858E-3},{"$f":"0.01*Input!$F$14*(C785*$C$767)+10*(B785*$B$767+D785*$D$767)","v":0},"",""]
["Operating 132kV/HV",{"$f":"Yard!$P$45","v":0},null,{"$f":"Reactive!$P$87","v":0},{"$f":"0.01*Input!$F$14*(C786*$C$767)+10*(B786*$B$767+D786*$D$767)","v":0},"",""]
["Operating HV",{"$f":"Yard!$Q$45","v":-9.4199797480589986E-2},null,{"$f":"Reactive!$Q$87","v":2.5152195247667659E-2},{"$f":"0.01*Input!$F$14*(C787*$C$767)+10*(B787*$B$767+D787*$D$767)","v":0},"",""]
["Operating HV/LV",{"$f":"Yard!$R$45","v":0},null,{"$f":"Reactive!$R$87","v":1.5772291400911194E-2},{"$f":"0.01*Input!$F$14*(C788*$C$767)+10*(B788*$B$767+D788*$D$767)","v":0},"",""]
["Operating LV circuits",{"$f":"Yard!$S$45","v":0},null,{"$f":"Reactive!$S$87","v":0},{"$f":"0.01*Input!$F$14*(C789*$C$767)+10*(B789*$B$767+D789*$D$767)","v":0},"",""]
["Operating LV customer",null,{"$f":"Otex!$B$143","v":0},null,{"$f":"0.01*Input!$F$14*(C790*$C$767)+10*(B790*$B$767+D790*$D$767)","v":0},"",""]
["Operating HV customer",null,{"$f":"Otex!$C$143","v":0},null,{"$f":"0.01*Input!$F$14*(C791*$C$767)+10*(B791*$B$767+D791*$D$767)","v":0},"",""]
["Scaler",{"$f":"Scaler!$B$429","v":0},{"$f":"Scaler!$E$429","v":0},{"$f":"Scaler!$G$429","v":0},{"$f":"0.01*Input!$F$14*(C792*$C$767)+10*(B792*$B$767+D792*$D$767)","v":0},"",""]
["Rounding",{"$f":"Adjust!$B$95","v":-2.7441985257903312E-4},{"$f":"Adjust!$E$95","v":0},{"$f":"Adjust!$G$95","v":-4.245228031970194E-4},{"$f":"0.01*Input!$F$14*(C793*$C$767)+10*(B793*$B$767+D793*$D$767)","v":0},"",""]
[]
[]
["Total",{"$f":"SUM($B$771:$B$793)","v":-0.53800000000000003},{"$f":"SUM($C$771:$C$793)","v":0},{"$f":"SUM($D$771:$D$793)","v":0.17},{"$f":"SUM($E$771:$E$793)","v":0},{"$f":"SUM($F$771:$F$793)","v":0},{"$f":"SUM($G$771:$G$793)","v":0}]
[]
["LV Sub Generation Non-Intermittent"]
[]
[null,"Rate 1 units (MWh)","Rate 2 units (MWh)","Rate 3 units (MWh)","MPANs","Reactive power units (MVArh)","MWh/year","MWh/MPAN/year"]
["LV Sub Generation Non-Intermittent",{"$f":"Loads!B$321","v":0},{"$f":"Loads!C$321","v":0},{"$f":"Loads!D$321","v":0.29970595511999998},{"$f":"Loads!E$321","v":0},{"$f":"Loads!G$321","v":3.4596},{"$f":"Multi!B$138","v":0.29970595511999998},{"$f":"IF(E801,G801/E801,\"\")","v":""}]
[]
[]
[null,"Unit rate 1 p/kWh","Unit rate 2 p/kWh","Unit rate 3 p/kWh","Fixed charge p/MPAN/day","Reactive power charge p/kVArh","Average unit rate (p/kWh)","Revenue (£/year)","Average p/kWh","Average £/MPAN/year"]
["Assets 132kV",{"$f":"Yard!$C$77","v":-0.9450756795911186},{"$f":"Yard!$C$109","v":-9.5368477170172494E-2},{"$f":"Yard!$C$132","v":-5.671172213024725E-3},null,{"$f":"Reactive!$C$88","v":3.1426859461058998E-2},{"$f":"IF(G$801<>0,(($B805*B$801+$C805*C$801+$D805*D$801+$F805*F$801))/G$801,0)","v":0.3570989400723561},{"$f":"0.01*Input!$F$14*(E805*$E$801)+10*(B805*$B$801+C805*$C$801+D805*$D$801+F805*$F$801)","v":1.0702467890672511},{"$f":"IF($G$801<>0,0.1*H805/$G$801,\"\")","v":0.3570989400723561},{"$f":"IF($E$801<>0,H805/$E$801,\"\")","v":""}]
["Assets 132kV/EHV",{"$f":"Yard!$D$77","v":-0.14738417899255546},{"$f":"Yard!$D$109","v":-1.4872676350720718E-2},{"$f":"Yard!$D$132","v":-8.8441706689951509E-4},null,{"$f":"Reactive!$D$88","v":4.9010063215112424E-3},5.5689438674843862E-2,{"$f":"0.01*Input!$F$14*(E806*$E$801)+10*(B806*$B$801+C806*$C$801+D806*$D$801+F806*$F$801)","v":0.16690456408140747},5.5689438674843862E-2,""]
["Assets EHV",{"$f":"Yard!$E$77","v":-0.15618351463686597},{"$f":"Yard!$E$109","v":-1.7896610081289198E-2},{"$f":"Yard!$E$132","v":-2.6468179047894878E-3},null,{"$f":"Reactive!$E$88","v":5.6449063089543785E-3},6.2514109106618268E-2,{"$f":"0.01*Input!$F$14*(E807*$E$801)+10*(B807*$B$801+C807*$C$801+D807*$D$801+F807*$F$801)","v":0.18735850778274915},6.2514109106618268E-2,""]
["Assets EHV/HV",{"$f":"Yard!$F$77","v":-0.26685938497340467},{"$f":"Yard!$F$109","v":-3.0578632901851463E-2},{"$f":"Yard!$F$132","v":-4.5224247888835424E-3},null,{"$f":"Reactive!$F$88","v":9.6450398708371986E-3},0.1068133006683837,{"$f":"0.01*Input!$F$14*(E808*$E$801)+10*(B808*$B$801+C808*$C$801+D808*$D$801+F808*$F$801)","v":0.32012582296337666},0.1068133006683837,""]
["Assets 132kV/HV",{"$f":"Yard!$G$77","v":0},{"$f":"Yard!$G$109","v":0},{"$f":"Yard!$G$132","v":0},null,{"$f":"Reactive!$G$88","v":0},0,{"$f":"0.01*Input!$F$14*(E809*$E$801)+10*(B809*$B$801+C809*$C$801+D809*$D$801+F809*$F$801)","v":0},0,""]
["Assets HV",{"$f":"Yard!$H$77","v":-0.83514641534217604},{"$f":"Yard!$H$109","v":-9.5696974107133861E-2},{"$f":"Yard!$H$132","v":-1.4153097338012281E-2},null,{"$f":"Reactive!$H$88","v":3.0184512621749534E-2},0.33427621506718558,{"$f":"0.01*Input!$F$14*(E810*$E$801)+10*(B810*$B$801+C810*$C$801+D810*$D$801+F810*$F$801)","v":1.0018457231060938},0.33427621506718558,""]
["Assets HV/LV",{"$f":"Yard!$I$77","v":0},{"$f":"Yard!$I$109","v":0},{"$f":"Yard!$I$132","v":0},null,{"$f":"Reactive!$I$88","v":1.1074653283605263E-2},0.12783820222931569,{"$f":"0.01*Input!$F$14*(E811*$E$801)+10*(B811*$B$801+C811*$C$801+D811*$D$801+F811*$F$801)","v":0.38313870499960767},0.12783820222931569,""]
["Assets LV circuits",{"$f":"Yard!$J$77","v":0},{"$f":"Yard!$J$109","v":0},{"$f":"Yard!$J$132","v":0},null,{"$f":"Reactive!$J$88","v":0},0,{"$f":"0.01*Input!$F$14*(E812*$E$801)+10*(B812*$B$801+C812*$C$801+D812*$D$801+F812*$F$801)","v":0},0,""]
["Assets LV customer",null,null,null,{"$f":"SM!$B$131","v":0},null,0,{"$f":"0.01*Input!$F$14*(E813*$E$801)+10*(B813*$B$801+C813*$C$801+D813*$D$801+F813*$F$801)","v":0},0,""]
["Assets HV customer",null,null,null,{"$f":"SM!$C$131","v":0},null,0,{"$f":"0.01*Input!$F$14*(E814*$E$801)+10*(B814*$B$801+C814*$C$801+D814*$D$801+F814*$F$801)","v":0},0,""]
["Transmission exit",{"$f":"Yard!$K$77","v":-0.38959905582117804},{"$f":"Yard!$K$109","v":-1.0546097294655818E-2},{"$f":"Yard!$K$132","v":-4.4449124530314209E-4},null,{"$f":"Reactive!$K$88","v":1.0250135320462317E-2},0.11787604109271119,{"$f":"0.01*Input!$F$14*(E815*$E$801)+10*(B815*$B$801+C815*$C$801+D815*$D$801+F815*$F$801)","v":0.35328151481455372},0.11787604109271119,""]
["Operating 132kV",{"$f":"Yard!$L$77","v":-0.48286448316495734},{"$f":"Yard!$L$109","v":-4.8726309896079067E-2},{"$f":"Yard!$L$132","v":-2.8975538136442225E-3},null,{"$f":"Reactive!$L$88","v":1.6056824420375884E-2},0.1824514151198911,{"$f":"0.01*Input!$F$14*(E816*$E$801)+10*(B816*$B$801+C816*$C$801+D816*$D$801+F816*$F$801)","v":0.54681775631502572},0.18245141511989113,""]
["Operating 132kV/EHV",{"$f":"Yard!$M$77","v":-7.530252545142381E-2},{"$f":"Yard!$M$109","v":-7.5988487847634288E-3},{"$f":"Yard!$M$132","v":-4.5187237290400279E-4},null,{"$f":"Reactive!$M$88","v":2.5040554270199574E-3},2.8453226132227914E-2,{"$f":"0.01*Input!$F$14*(E817*$E$801)+10*(B817*$B$801+C817*$C$801+D817*$D$801+F817*$F$801)","v":8.5276013142047108E-2},2.8453226132227921E-2,""]
["Operating EHV",{"$f":"Yard!$N$77","v":-7.9798341765227626E-2},{"$f":"Yard!$N$109","v":-9.1438575385256182E-3},{"$f":"Yard!$N$132","v":-1.3523301754848603E-3},null,{"$f":"Reactive!$N$88","v":2.8841338595943246E-3},3.1940133087907524E-2,{"$f":"0.01*Input!$F$14*(E818*$E$801)+10*(B818*$B$801+C818*$C$801+D818*$D$801+F818*$F$801)","v":9.5726480937712383E-2},3.1940133087907524E-2,""]
["Operating EHV/HV",{"$f":"Yard!$O$77","v":-0.13634560891319369},{"$f":"Yard!$O$109","v":-1.5623442747390984E-2},{"$f":"Yard!$O$132","v":-2.3106279798475143E-3},null,{"$f":"Reactive!$O$88","v":4.9279092594490858E-3},5.4573776826736767E-2,{"$f":"0.01*Input!$F$14*(E819*$E$801)+10*(B819*$B$801+C819*$C$801+D819*$D$801+F819*$F$801)","v":0.16356085908362863},5.4573776826736767E-2,""]
["Operating 132kV/HV",{"$f":"Yard!$P$77","v":0},{"$f":"Yard!$P$109","v":0},{"$f":"Yard!$P$132","v":0},null,{"$f":"Reactive!$P$88","v":0},0,{"$f":"0.01*Input!$F$14*(E820*$E$801)+10*(B820*$B$801+C820*$C$801+D820*$D$801+F820*$F$801)","v":0},0,""]
["Operating HV",{"$f":"Yard!$Q$77","v":-0.69591203814702007},{"$f":"Yard!$Q$109","v":-7.974251588939904E-2},{"$f":"Yard!$Q$132","v":-1.1793513848172156E-2},null,{"$f":"Reactive!$Q$88","v":2.5152195247667659E-2},0.2785461780808397,{"$f":"0.01*Input!$F$14*(E821*$E$801)+10*(B821*$B$801+C821*$C$801+D821*$D$801+F821*$F$801)","v":0.83481948346743662},0.2785461780808397,""]
["Operating HV/LV",{"$f":"Yard!$R$77","v":0},{"$f":"Yard!$R$109","v":0},{"$f":"Yard!$R$132","v":0},null,{"$f":"Reactive!$R$88","v":1.5772291400911194E-2},0.18206451489675815,{"$f":"0.01*Input!$F$14*(E822*$E$801)+10*(B822*$B$801+C822*$C$801+D822*$D$801+F822*$F$801)","v":0.54565819330592369},0.18206451489675818,""]
["Operating LV circuits",{"$f":"Yard!$S$77","v":0},{"$f":"Yard!$S$109","v":0},{"$f":"Yard!$S$132","v":0},null,{"$f":"Reactive!$S$88","v":0},0,{"$f":"0.01*Input!$F$14*(E823*$E$801)+10*(B823*$B$801+C823*$C$801+D823*$D$801+F823*$F$801)","v":0},0,""]
["Operating LV customer",null,null,null,{"$f":"Otex!$B$144","v":0},null,0,{"$f":"0.01*Input!$F$14*(E824*$E$801)+10*(B824*$B$801+C824*$C$801+D824*$D$801+F824*$F$801)","v":0},0,""]
["Operating HV customer",null,null,null,{"$f":"Otex!$C$144","v":0},null,0,{"$f":"0.01*Input!$F$14*(E825*$E$801)+10*(B825*$B$801+C825*$C$801+D825*$D$801+F825*$F$801)","v":0},0,""]
["Scaler",{"$f":"Scaler!$B$430","v":0},{"$f":"Scaler!$C$430","v":0},{"$f":"Scaler!$D$430","v":0},{"$f":"Scaler!$E$430","v":0},{"$f":"Scaler!$G$430","v":0},0,{"$f":"0.01*Input!$F$14*(E826*$E$801)+10*(B826*$B$801+C826*$C$801+D826*$D$801+F826*$F$801)","v":0},0,""]
["Rounding",{"$f":"Adjust!$B$96","v":4.7122679912092735E-4},{"$f":"Adjust!$C$96","v":-2.0555723801835013E-4},{"$f":"Adjust!$D$96","v":1.2831874696545009E-4},{"$f":"Adjust!$E$96","v":0},{"$f":"Adjust!$G$96","v":-4.245228031970194E-4},-4.7720813446922566E-3,{"$f":"0.01*Input!$F$14*(E827*$E$801)+10*(B827*$B$801+C827*$C$801+D827*$D$801+F827*$F$801)","v":-1.4302211973213266E-2},-4.7720813446922566E-3,""]
[]
[]
["Total",{"$f":"SUM($B$805:$B$827)","v":-4.21},{"$f":"SUM($C$805:$C$827)","v":-0.42599999999999999},{"$f":"SUM($D$805:$D$827)","v":-4.7E-2},{"$f":"SUM($E$805:$E$827)","v":0},{"$f":"SUM($F$805:$F$827)","v":0.17},{"$f":"SUM(G$805:G$827)","v":1.915363409711083},{"$f":"SUM($H$805:$H$827)","v":5.7404582010936007},{"$f":"SUM($I$805:$I$827)","v":1.915363409711083},{"$f":"SUM($J$805:$J$827)","v":0}]
[]
["HV Generation Intermittent"]
[]
[null,"Rate 1 units (MWh)","MPANs","Reactive power units (MVArh)","MWh/year","MWh/MPAN/year"]
["HV Generation Intermittent",{"$f":"Loads!B$322","v":948.82102410941991},{"$f":"Loads!E$322","v":4.1624160400000001},{"$f":"Loads!G$322","v":376.0514},{"$f":"Multi!B$139","v":948.82102410941991},{"$f":"IF(C835,E835/C835,\"\")","v":227.94958865030222}]
[]
[]
[null,"Unit rate 1 p/kWh","Fixed charge p/MPAN/day","Reactive power charge p/kVArh","Revenue (£/year)","Average p/kWh","Average £/MPAN/year"]
["Assets 132kV",{"$f":"Yard!$C$47","v":-0.11691570142270775},null,{"$f":"Reactive!$C$89","v":3.1217546410414465E-2},{"$f":"0.01*Input!$F$14*(C839*$C$835)+10*(B839*$B$835+D839*$D$835)","v":-991.92673526163389},{"$f":"IF($E$835<>0,0.1*E839/$E$835,\"\")","v":-0.10454308136697053},{"$f":"IF($C$835<>0,E839/$C$835,\"\")","v":-238.30552393836007}]
["Assets 132kV/EHV",{"$f":"Yard!$D$47","v":-1.823295746323686E-2},null,{"$f":"Reactive!$D$89","v":4.8683640339274381E-3},{"$f":"0.01*Input!$F$14*(C840*$C$835)+10*(B840*$B$835+D840*$D$835)","v":-154.69058262143824},-1.6303452251875801E-2,-37.163652343949316]
["Assets EHV",{"$f":"Yard!$E$47","v":-2.1000449675687378E-2},null,{"$f":"Reactive!$E$89","v":5.6073094068014948E-3},{"$f":"0.01*Input!$F$14*(C841*$C$835)+10*(B841*$B$835+D841*$D$835)","v":-178.17031615383161},-1.8778074223330516E-2,-42.804542948530347]
["Assets EHV/HV",{"$f":"Yard!$F$47","v":-2.6637276623324626E-2},null,{"$f":"Reactive!$F$89","v":7.1123930243485534E-3},{"$f":"0.01*Input!$F$14*(C842*$C$835)+10*(B842*$B$835+D842*$D$835)","v":-225.99382731072274},-2.3818383190111595E-2,-54.293906505012103]
["Assets 132kV/HV",{"$f":"Yard!$G$47","v":0},null,{"$f":"Reactive!$G$89","v":0},{"$f":"0.01*Input!$F$14*(C843*$C$835)+10*(B843*$B$835+D843*$D$835)","v":0},0,0]
["Assets HV",{"$f":"Yard!$H$47","v":0},null,{"$f":"Reactive!$H$89","v":2.3703038738584779E-2},{"$f":"0.01*Input!$F$14*(C844*$C$835)+10*(B844*$B$835+D844*$D$835)","v":89.135609018990408},9.3943543359670655E-3,21.414392065188757]
["Assets HV/LV",{"$f":"Yard!$I$47","v":0},null,{"$f":"Reactive!$I$89","v":0},{"$f":"0.01*Input!$F$14*(C845*$C$835)+10*(B845*$B$835+D845*$D$835)","v":0},0,0]
["Assets LV circuits",{"$f":"Yard!$J$47","v":0},null,{"$f":"Reactive!$J$89","v":0},{"$f":"0.01*Input!$F$14*(C846*$C$835)+10*(B846*$B$835+D846*$D$835)","v":0},0,0]
["Assets LV customer",null,{"$f":"SM!$B$132","v":0},null,{"$f":"0.01*Input!$F$14*(C847*$C$835)+10*(B847*$B$835+D847*$D$835)","v":0},0,0]
["Assets HV customer",null,{"$f":"SM!$C$132","v":0},null,{"$f":"0.01*Input!$F$14*(C848*$C$835)+10*(B848*$B$835+D848*$D$835)","v":0},0,0]
["Transmission exit",{"$f":"Yard!$K$47","v":-3.813304228360654E-2},null,{"$f":"Reactive!$K$89","v":1.0181866103294634E-2},{"$f":"0.01*Input!$F$14*(C849*$C$835)+10*(B849*$B$835+D849*$D$835)","v":-323.52527229182874},-3.4097607880842991E-2,-77.725356903974628]
["Operating 132kV",{"$f":"Yard!$L$47","v":-5.9735364014201417E-2},null,{"$f":"Reactive!$L$89","v":1.5949880775330563E-2},{"$f":"0.01*Input!$F$14*(C850*$C$835)+10*(B850*$B$835+D850*$D$835)","v":-506.80194264107433},-5.3413860966747398E-2,-121.75667635594503]
["Operating 132kV/EHV",{"$f":"Yard!$M$47","v":-9.3157064266679006E-3},null,{"$f":"Reactive!$M$89","v":2.4873776078105001E-3},{"$f":"0.01*Input!$F$14*(C851*$C$835)+10*(B851*$B$835+D851*$D$835)","v":-79.035562803079543},-8.3298705229749425E-3,-18.987905592224159]
["Operating EHV",{"$f":"Yard!$N$47","v":-1.0729692338786722E-2},null,{"$f":"Reactive!$N$89","v":2.8649245950680071E-3},{"$f":"0.01*Input!$F$14*(C852*$C$835)+10*(B852*$B$835+D852*$D$835)","v":-91.03198768396858},-9.594221183011075E-3,-21.869987720873905]
["Operating EHV/HV",{"$f":"Yard!$O$47","v":-1.8333043056047427E-2},null,{"$f":"Reactive!$O$89","v":4.895087789595476E-3},{"$f":"0.01*Input!$F$14*(C853*$C$835)+10*(B853*$B$835+D853*$D$835)","v":-155.53972071080725},-1.6392946273170915E-2,-37.367653597358142]
["Operating 132kV/HV",{"$f":"Yard!$P$47","v":0},null,{"$f":"Reactive!$P$89","v":0},{"$f":"0.01*Input!$F$14*(C854*$C$835)+10*(B854*$B$835+D854*$D$835)","v":0},0,0]
["Operating HV",{"$f":"Yard!$Q$47","v":0},null,{"$f":"Reactive!$Q$89","v":2.498467349054714E-2},{"$f":"0.01*Input!$F$14*(C855*$C$835)+10*(B855*$B$835+D855*$D$835)","v":93.955214446631388},9.9023116119100977E-3,22.572278586220175]
["Operating HV/LV",{"$f":"Yard!$R$47","v":0},null,{"$f":"Reactive!$R$89","v":0},{"$f":"0.01*Input!$F$14*(C856*$C$835)+10*(B856*$B$835+D856*$D$835)","v":0},0,0]
["Operating LV circuits",{"$f":"Yard!$S$47","v":0},null,{"$f":"Reactive!$S$89","v":0},{"$f":"0.01*Input!$F$14*(C857*$C$835)+10*(B857*$B$835+D857*$D$835)","v":0},0,0]
["Operating LV customer",null,{"$f":"Otex!$B$145","v":0},null,{"$f":"0.01*Input!$F$14*(C858*$C$835)+10*(B858*$B$835+D858*$D$835)","v":0},0,0]
["Operating HV customer",null,{"$f":"Otex!$C$145","v":38.694816549832751},null,{"$f":"0.01*Input!$F$14*(C859*$C$835)+10*(B859*$B$835+D859*$D$835)","v":587.88332651236669},6.1959348662637859E-2,141.23608040688953]
["Scaler",{"$f":"Scaler!$B$431","v":0},{"$f":"Scaler!$E$431","v":0},{"$f":"Scaler!$G$431","v":0},{"$f":"0.01*Input!$F$14*(C860*$C$835)+10*(B860*$B$835+D860*$D$835)","v":0},0,0]
["Rounding",{"$f":"Adjust!$B$97","v":3.323330426663329E-5},{"$f":"Adjust!$E$97","v":-4.8165498327534806E-3},{"$f":"Adjust!$G$97","v":1.2753802427695193E-4},{"$f":"0.01*Input!$F$14*(C861*$C$835)+10*(B861*$B$835+D861*$D$835)","v":0.72175613608709688},7.6068733485806764E-5,0.1733983650723912]
[]
[]
["Total",{"$f":"SUM($B$839:$B$861)","v":-0.31900000000000001},{"$f":"SUM($C$839:$C$861)","v":38.69},{"$f":"SUM($D$839:$D$861)","v":0.13400000000000001},{"$f":"SUM($E$839:$E$861)","v":-1935.0200413643092},{"$f":"SUM($F$839:$F$861)","v":-0.20393941451503494},{"$f":"SUM($G$839:$G$861)","v":-464.87905648285692}]
[]
["HV Generation Non-Intermittent"]
[]
[null,"Rate 1 units (MWh)","Rate 2 units (MWh)","Rate 3 units (MWh)","MPANs","Reactive power units (MVArh)","MWh/year","MWh/MPAN/year"]
["HV Generation Non-Intermittent",{"$f":"Loads!B$323","v":37817.607297492985},{"$f":"Loads!C$323","v":127944.62305430156},{"$f":"Loads!D$323","v":251566.30566327646},{"$f":"Loads!E$323","v":84.288924809999997},{"$f":"Loads!G$323","v":4526.9914000000008},{"$f":"Multi!B$140","v":417328.53601507097},{"$f":"IF(E869,G869/E869,\"\")","v":4951.1669173120035}]
[]
[]
[null,"Unit rate 1 p/kWh","Unit rate 2 p/kWh","Unit rate 3 p/kWh","Fixed charge p/MPAN/day","Reactive power charge p/kVArh","Average unit rate (p/kWh)","Revenue (£/year)","Average p/kWh","Average £/MPAN/year"]
["Assets 132kV",{"$f":"Yard!$C$78","v":-0.93878116983171067},{"$f":"Yard!$C$110","v":-9.4733292260380672E-2},{"$f":"Yard!$C$133","v":-5.6334003714536753E-3},null,{"$f":"Reactive!$C$90","v":3.1217546410414465E-2},{"$f":"IF(G$869<>0,(($B873*B$869+$C873*C$869+$D873*D$869+$F873*F$869))/G$869,0)","v":-0.11717129533121093},{"$f":"0.01*Input!$F$14*(E873*$E$869)+10*(B873*$B$869+C873*$C$869+D873*$D$869+F873*$F$869)","v":-488989.25143563777},{"$f":"IF($G$869<>0,0.1*H873/$G$869,\"\")","v":-0.11717129533121093},{"$f":"IF($E$869<>0,H873/$E$869,\"\")","v":-5801.3464110248597}]
["Assets 132kV/EHV",{"$f":"Yard!$D$78","v":-0.14640255268147279},{"$f":"Yard!$D$110","v":-1.4773619514892896E-2},{"$f":"Yard!$D$133","v":-8.7852656312378103E-4},null,{"$f":"Reactive!$D$90","v":4.8683640339274381E-3},-1.8272817232325968E-2,{"$f":"0.01*Input!$F$14*(E874*$E$869)+10*(B874*$B$869+C874*$C$869+D874*$D$869+F874*$F$869)","v":-76257.680644375578},-1.8272817232325968E-2,-904.71768166781033]
["Assets EHV",{"$f":"Yard!$E$78","v":-0.15514328190379456},{"$f":"Yard!$E$110","v":-1.7777412868568907E-2},{"$f":"Yard!$E$133","v":-2.6291892412942204E-3},null,{"$f":"Reactive!$E$90","v":5.6073094068014948E-3},-2.1033077116909618E-2,{"$f":"0.01*Input!$F$14*(E875*$E$869)+10*(B875*$B$869+C875*$C$869+D875*$D$869+F875*$F$869)","v":-87777.032810919802},-2.1033077116909618E-2,-1041.3827559051504]
["Assets EHV/HV",{"$f":"Yard!$F$78","v":-0.19678600125911555},{"$f":"Yard!$F$110","v":-2.2549129734843222E-2},{"$f":"Yard!$F$133","v":-3.3349019757659441E-3},null,{"$f":"Reactive!$F$90","v":7.1123930243485534E-3},-2.6678661745584854E-2,{"$f":"0.01*Input!$F$14*(E876*$E$869)+10*(B876*$B$869+C876*$C$869+D876*$D$869+F876*$F$869)","v":-111337.66849126204},-2.6678661745584854E-2,-1320.9050743289704]
["Assets 132kV/HV",{"$f":"Yard!$G$78","v":0},{"$f":"Yard!$G$110","v":0},{"$f":"Yard!$G$133","v":0},null,{"$f":"Reactive!$G$90","v":0},0,{"$f":"0.01*Input!$F$14*(E877*$E$869)+10*(B877*$B$869+C877*$C$869+D877*$D$869+F877*$F$869)","v":0},0,0]
["Assets HV",{"$f":"Yard!$H$78","v":0},{"$f":"Yard!$H$110","v":0},{"$f":"Yard!$H$133","v":0},null,{"$f":"Reactive!$H$90","v":2.3703038738584779E-2},2.5711985465466734E-4,{"$f":"0.01*Input!$F$14*(E878*$E$869)+10*(B878*$B$869+C878*$C$869+D878*$D$869+F878*$F$869)","v":1073.0345252344016},2.5711985465466739E-4,12.730433181502599]
["Assets HV/LV",{"$f":"Yard!$I$78","v":0},{"$f":"Yard!$I$110","v":0},{"$f":"Yard!$I$133","v":0},null,{"$f":"Reactive!$I$90","v":0},0,{"$f":"0.01*Input!$F$14*(E879*$E$869)+10*(B879*$B$869+C879*$C$869+D879*$D$869+F879*$F$869)","v":0},0,0]
["Assets LV circuits",{"$f":"Yard!$J$78","v":0},{"$f":"Yard!$J$110","v":0},{"$f":"Yard!$J$133","v":0},null,{"$f":"Reactive!$J$90","v":0},0,{"$f":"0.01*Input!$F$14*(E880*$E$869)+10*(B880*$B$869+C880*$C$869+D880*$D$869+F880*$F$869)","v":0},0,0]
["Assets LV customer",null,null,null,{"$f":"SM!$B$133","v":0},null,0,{"$f":"0.01*Input!$F$14*(E881*$E$869)+10*(B881*$B$869+C881*$C$869+D881*$D$869+F881*$F$869)","v":0},0,0]
["Assets HV customer",null,null,null,{"$f":"SM!$C$133","v":0},null,0,{"$f":"0.01*Input!$F$14*(E882*$E$869)+10*(B882*$B$869+C882*$C$869+D882*$D$869+F882*$F$869)","v":0},0,0]
["Transmission exit",{"$f":"Yard!$K$78","v":-0.3870042000735584},{"$f":"Yard!$K$110","v":-1.0475856874995885E-2},{"$f":"Yard!$K$133","v":-4.41530789815871E-4},null,{"$f":"Reactive!$K$90","v":1.0181866103294634E-2},-3.8437063572068116E-2,{"$f":"0.01*Input!$F$14*(E883*$E$869)+10*(B883*$B$869+C883*$C$869+D883*$D$869+F883*$F$869)","v":-160408.83469249401},-3.8437063572068116E-2,-1903.0831755664201]
["Operating 132kV",{"$f":"Yard!$L$78","v":-0.47964844949972935},{"$f":"Yard!$L$110","v":-4.8401776909140402E-2},{"$f":"Yard!$L$133","v":-2.8782551678825587E-3},null,{"$f":"Reactive!$L$90","v":1.5949880775330563E-2},-5.986595378938523E-2,{"$f":"0.01*Input!$F$14*(E884*$E$869)+10*(B884*$B$869+C884*$C$869+D884*$D$869+F884*$F$869)","v":-249837.70852070028},-5.986595378938523E-2,-2964.0632987533336]
["Operating 132kV/EHV",{"$f":"Yard!$M$78","v":-7.4800986271442868E-2},{"$f":"Yard!$M$110","v":-7.5482379936184793E-3},{"$f":"Yard!$M$133","v":-4.488627567191046E-4},null,{"$f":"Reactive!$M$90","v":2.4873776078105001E-3},-9.3360718505338652E-3,{"$f":"0.01*Input!$F$14*(E885*$E$869)+10*(B885*$B$869+C885*$C$869+D885*$D$869+F885*$F$869)","v":-38962.091975148127},-9.3360718505338652E-3,-462.24450084011136]
["Operating EHV",{"$f":"Yard!$N$78","v":-7.9266858994193765E-2},{"$f":"Yard!$N$110","v":-9.0829564892680754E-3},{"$f":"Yard!$N$133","v":-1.3433232190353894E-3},null,{"$f":"Reactive!$N$90","v":2.8649245950680071E-3},-1.0746362572592325E-2,{"$f":"0.01*Input!$F$14*(E886*$E$869)+10*(B886*$B$869+C886*$C$869+D886*$D$869+F886*$F$869)","v":-44847.637599071066},-1.0746362572592325E-2,-532.07034850859031]
["Operating EHV/HV",{"$f":"Yard!$O$78","v":-0.13543750304983279},{"$f":"Yard!$O$110","v":-1.5519385564487335E-2},{"$f":"Yard!$O$133","v":-2.295238450010281E-3},null,{"$f":"Reactive!$O$90","v":4.895087789595476E-3},-1.8361526269215403E-2,{"$f":"0.01*Input!$F$14*(E887*$E$869)+10*(B887*$B$869+C887*$C$869+D887*$D$869+F887*$F$869)","v":-76627.888769339319},-1.8361526269215403E-2,-909.10981415494609]
["Operating 132kV/HV",{"$f":"Yard!$P$78","v":0},{"$f":"Yard!$P$110","v":0},{"$f":"Yard!$P$133","v":0},null,{"$f":"Reactive!$P$90","v":0},0,{"$f":"0.01*Input!$F$14*(E888*$E$869)+10*(B888*$B$869+C888*$C$869+D888*$D$869+F888*$F$869)","v":0},0,0]
["Operating HV",{"$f":"Yard!$Q$78","v":0},{"$f":"Yard!$Q$110","v":0},{"$f":"Yard!$Q$133","v":0},null,{"$f":"Reactive!$Q$90","v":2.498467349054714E-2},2.7102244937171111E-4,{"$f":"0.01*Input!$F$14*(E889*$E$869)+10*(B889*$B$869+C889*$C$869+D889*$D$869+F889*$F$869)","v":1131.054020235149},2.7102244937171111E-4,13.418773851780836]
["Operating HV/LV",{"$f":"Yard!$R$78","v":0},{"$f":"Yard!$R$110","v":0},{"$f":"Yard!$R$133","v":0},null,{"$f":"Reactive!$R$90","v":0},0,{"$f":"0.01*Input!$F$14*(E890*$E$869)+10*(B890*$B$869+C890*$C$869+D890*$D$869+F890*$F$869)","v":0},0,0]
["Operating LV circuits",{"$f":"Yard!$S$78","v":0},{"$f":"Yard!$S$110","v":0},{"$f":"Yard!$S$133","v":0},null,{"$f":"Reactive!$S$90","v":0},0,{"$f":"0.01*Input!$F$14*(E891*$E$869)+10*(B891*$B$869+C891*$C$869+D891*$D$869+F891*$F$869)","v":0},0,0]
["Operating LV customer",null,null,null,{"$f":"Otex!$B$146","v":0},null,0,{"$f":"0.01*Input!$F$14*(E892*$E$869)+10*(B892*$B$869+C892*$C$869+D892*$D$869+F892*$F$869)","v":0},0,0]
["Operating HV customer",null,null,null,{"$f":"Otex!$C$146","v":38.694816549832751},null,0,{"$f":"0.01*Input!$F$14*(E893*$E$869)+10*(B893*$B$869+C893*$C$869+D893*$D$869+F893*$F$869)","v":11904.637361875426},2.8525816795440789E-3,141.23608040688953]
["Scaler",{"$f":"Scaler!$B$432","v":0},{"$f":"Scaler!$C$432","v":0},{"$f":"Scaler!$D$432","v":0},{"$f":"Scaler!$E$432","v":0},{"$f":"Scaler!$G$432","v":0},0,{"$f":"0.01*Input!$F$14*(E894*$E$869)+10*(B894*$B$869+C894*$C$869+D894*$D$869+F894*$F$869)","v":0},0,0]
["Rounding",{"$f":"Adjust!$B$98","v":2.7100356485121324E-4},{"$f":"Adjust!$C$98","v":-1.3833178980410255E-4},{"$f":"Adjust!$D$98","v":-1.1677146489917287E-4},{"$f":"Adjust!$E$98","v":-4.8165498327534806E-3},{"$f":"Adjust!$G$98","v":1.2753802427695193E-4},-8.6858438078001461E-5,{"$f":"0.01*Input!$F$14*(E895*$E$869)+10*(B895*$B$869+C895*$C$869+D895*$D$869+F895*$F$869)","v":-363.96688163092296},-8.7213514107211467E-5,-4.3180866579014907]
[]
[]
["Total",{"$f":"SUM($B$873:$B$895)","v":-2.593},{"$f":"SUM($C$873:$C$895)","v":-0.24099999999999999},{"$f":"SUM($D$873:$D$895)","v":-0.02},{"$f":"SUM($E$873:$E$895)","v":38.69},{"$f":"SUM($F$873:$F$895)","v":0.13400000000000001},{"$f":"SUM(G$873:G$895)","v":-0.31946154561387785},{"$f":"SUM($H$873:$H$895)","v":-1321301.0359132339},{"$f":"SUM($I$873:$I$895)","v":-0.31660931901036304},{"$f":"SUM($J$873:$J$895)","v":-15675.855859967922}]
[]
["HV Sub Generation Intermittent"]
[]
[null,"Rate 1 units (MWh)","MPANs","Reactive power units (MVArh)","MWh/year","MWh/MPAN/year"]
["HV Sub Generation Intermittent",{"$f":"Loads!B$324","v":0},{"$f":"Loads!E$324","v":0},{"$f":"Loads!G$324","v":0},{"$f":"Multi!B$141","v":0},{"$f":"IF(C903,E903/C903,\"\")","v":""}]
[]
[]
[null,"Unit rate 1 p/kWh","Fixed charge p/MPAN/day","Reactive power charge p/kVArh","Revenue (£/year)","Average p/kWh","Average £/MPAN/year"]
["Assets 132kV",{"$f":"Yard!$C$49","v":-0.11501190168689737},null,{"$f":"Reactive!$C$91","v":3.0709214715992004E-2},{"$f":"0.01*Input!$F$14*(C907*$C$903)+10*(B907*$B$903+D907*$D$903)","v":0},{"$f":"IF($E$903<>0,0.1*E907/$E$903,\"\")","v":""},{"$f":"IF($C$903<>0,E907/$C$903,\"\")","v":""}]
["Assets 132kV/EHV",{"$f":"Yard!$D$49","v":-1.7936060646306751E-2},null,{"$f":"Reactive!$D$91","v":4.7890899069381963E-3},{"$f":"0.01*Input!$F$14*(C908*$C$903)+10*(B908*$B$903+D908*$D$903)","v":0},"",""]
["Assets EHV",{"$f":"Yard!$E$49","v":-2.0658488330393621E-2},null,{"$f":"Reactive!$E$91","v":5.5160026444302061E-3},{"$f":"0.01*Input!$F$14*(C909*$C$903)+10*(B909*$B$903+D909*$D$903)","v":0},"",""]
["Assets EHV/HV",{"$f":"Yard!$F$49","v":0},null,{"$f":"Reactive!$F$91","v":0},{"$f":"0.01*Input!$F$14*(C910*$C$903)+10*(B910*$B$903+D910*$D$903)","v":0},"",""]
["Assets 132kV/HV",{"$f":"Yard!$G$49","v":0},null,{"$f":"Reactive!$G$91","v":0},{"$f":"0.01*Input!$F$14*(C911*$C$903)+10*(B911*$B$903+D911*$D$903)","v":0},"",""]
["Assets HV",{"$f":"Yard!$H$49","v":0},null,{"$f":"Reactive!$H$91","v":0},{"$f":"0.01*Input!$F$14*(C912*$C$903)+10*(B912*$B$903+D912*$D$903)","v":0},"",""]
["Assets HV/LV",{"$f":"Yard!$I$49","v":0},null,{"$f":"Reactive!$I$91","v":0},{"$f":"0.01*Input!$F$14*(C913*$C$903)+10*(B913*$B$903+D913*$D$903)","v":0},"",""]
["Assets LV circuits",{"$f":"Yard!$J$49","v":0},null,{"$f":"Reactive!$J$91","v":0},{"$f":"0.01*Input!$F$14*(C914*$C$903)+10*(B914*$B$903+D914*$D$903)","v":0},"",""]
["Assets LV customer",null,{"$f":"SM!$B$134","v":0},null,{"$f":"0.01*Input!$F$14*(C915*$C$903)+10*(B915*$B$903+D915*$D$903)","v":0},"",""]
["Assets HV customer",null,{"$f":"SM!$C$134","v":0},null,{"$f":"0.01*Input!$F$14*(C916*$C$903)+10*(B916*$B$903+D916*$D$903)","v":0},"",""]
["Transmission exit",{"$f":"Yard!$K$49","v":-3.7512101939907963E-2},null,{"$f":"Reactive!$K$91","v":1.0016069433030258E-2},{"$f":"0.01*Input!$F$14*(C917*$C$903)+10*(B917*$B$903+D917*$D$903)","v":0},"",""]
["Operating 132kV",{"$f":"Yard!$L$49","v":-5.8762661726613832E-2},null,{"$f":"Reactive!$L$91","v":1.5690160494506215E-2},{"$f":"0.01*Input!$F$14*(C918*$C$903)+10*(B918*$B$903+D918*$D$903)","v":0},"",""]
["Operating 132kV/EHV",{"$f":"Yard!$M$49","v":-9.1640138890689005E-3},null,{"$f":"Reactive!$M$91","v":2.4468743325875312E-3},{"$f":"0.01*Input!$F$14*(C919*$C$903)+10*(B919*$B$903+D919*$D$903)","v":0},"",""]
["Operating EHV",{"$f":"Yard!$N$49","v":-1.0554975126373531E-2},null,{"$f":"Reactive!$N$91","v":2.81827352407552E-3},{"$f":"0.01*Input!$F$14*(C920*$C$903)+10*(B920*$B$903+D920*$D$903)","v":0},"",""]
["Operating EHV/HV",{"$f":"Yard!$O$49","v":0},null,{"$f":"Reactive!$O$91","v":0},{"$f":"0.01*Input!$F$14*(C921*$C$903)+10*(B921*$B$903+D921*$D$903)","v":0},"",""]
["Operating 132kV/HV",{"$f":"Yard!$P$49","v":0},null,{"$f":"Reactive!$P$91","v":0},{"$f":"0.01*Input!$F$14*(C922*$C$903)+10*(B922*$B$903+D922*$D$903)","v":0},"",""]
["Operating HV",{"$f":"Yard!$Q$49","v":0},null,{"$f":"Reactive!$Q$91","v":0},{"$f":"0.01*Input!$F$14*(C923*$C$903)+10*(B923*$B$903+D923*$D$903)","v":0},"",""]
["Operating HV/LV",{"$f":"Yard!$R$49","v":0},null,{"$f":"Reactive!$R$91","v":0},{"$f":"0.01*Input!$F$14*(C924*$C$903)+10*(B924*$B$903+D924*$D$903)","v":0},"",""]
["Operating LV circuits",{"$f":"Yard!$S$49","v":0},null,{"$f":"Reactive!$S$91","v":0},{"$f":"0.01*Input!$F$14*(C925*$C$903)+10*(B925*$B$903+D925*$D$903)","v":0},"",""]
["Operating LV customer",null,{"$f":"Otex!$B$147","v":0},null,{"$f":"0.01*Input!$F$14*(C926*$C$903)+10*(B926*$B$903+D926*$D$903)","v":0},"",""]
["Operating HV customer",null,{"$f":"Otex!$C$147","v":38.694816549832751},null,{"$f":"0.01*Input!$F$14*(C927*$C$903)+10*(B927*$B$903+D927*$D$903)","v":0},"",""]
["Scaler",{"$f":"Scaler!$B$433","v":0},{"$f":"Scaler!$E$433","v":0},{"$f":"Scaler!$G$433","v":0},{"$f":"0.01*Input!$F$14*(C928*$C$903)+10*(B928*$B$903+D928*$D$903)","v":0},"",""]
["Rounding",{"$f":"Adjust!$B$99","v":-3.997966544380116E-4},{"$f":"Adjust!$E$99","v":-4.8165498327534806E-3},{"$f":"Adjust!$G$99","v":1.4314948440063979E-5},{"$f":"0.01*Input!$F$14*(C929*$C$903)+10*(B929*$B$903+D929*$D$903)","v":0},"",""]
[]
[]
["Total",{"$f":"SUM($B$907:$B$929)","v":-0.27},{"$f":"SUM($C$907:$C$929)","v":38.69},{"$f":"SUM($D$907:$D$929)","v":7.1999999999999995E-2},{"$f":"SUM($E$907:$E$929)","v":0},{"$f":"SUM($F$907:$F$929)","v":0},{"$f":"SUM($G$907:$G$929)","v":0}]
[]
["HV Sub Generation Non-Intermittent"]
[]
[null,"Rate 1 units (MWh)","Rate 2 units (MWh)","Rate 3 units (MWh)","MPANs","Reactive power units (MVArh)","MWh/year","MWh/MPAN/year"]
["HV Sub Generation Non-Intermittent",{"$f":"Loads!B$325","v":0},{"$f":"Loads!C$325","v":0},{"$f":"Loads!D$325","v":0},{"$f":"Loads!E$325","v":0},{"$f":"Loads!G$325","v":0},{"$f":"Multi!B$142","v":0},{"$f":"IF(E937,G937/E937,\"\")","v":""}]
[]
[]
[null,"Unit rate 1 p/kWh","Unit rate 2 p/kWh","Unit rate 3 p/kWh","Fixed charge p/MPAN/day","Reactive power charge p/kVArh","Average unit rate (p/kWh)","Revenue (£/year)","Average p/kWh","Average £/MPAN/year"]
["Assets 132kV",{"$f":"Yard!$C$79","v":-0.92349450327314819},{"$f":"Yard!$C$111","v":-9.3190700336600527E-2},{"$f":"Yard!$C$134","v":-5.5416687562096978E-3},null,{"$f":"Reactive!$C$92","v":3.0709214715992004E-2},{"$f":"IF(G$937<>0,(($B941*B$937+$C941*C$937+$D941*D$937+$F941*F$937))/G$937,0)","v":0},{"$f":"0.01*Input!$F$14*(E941*$E$937)+10*(B941*$B$937+C941*$C$937+D941*$D$937+F941*$F$937)","v":0},{"$f":"IF($G$937<>0,0.1*H941/$G$937,\"\")","v":""},{"$f":"IF($E$937<>0,H941/$E$937,\"\")","v":""}]
["Assets 132kV/EHV",{"$f":"Yard!$D$79","v":-0.14401860306884343},{"$f":"Yard!$D$111","v":-1.4533052913596745E-2},{"$f":"Yard!$D$134","v":-8.6422105395414061E-4},null,{"$f":"Reactive!$D$92","v":4.7890899069381963E-3},0,{"$f":"0.01*Input!$F$14*(E942*$E$937)+10*(B942*$B$937+C942*$C$937+D942*$D$937+F942*$F$937)","v":0},"",""]
["Assets EHV",{"$f":"Yard!$E$79","v":-0.15261700240919254},{"$f":"Yard!$E$111","v":-1.7487933923391066E-2},{"$f":"Yard!$E$134","v":-2.5863767728057127E-3},null,{"$f":"Reactive!$E$92","v":5.5160026444302061E-3},0,{"$f":"0.01*Input!$F$14*(E943*$E$937)+10*(B943*$B$937+C943*$C$937+D943*$D$937+F943*$F$937)","v":0},"",""]
["Assets EHV/HV",{"$f":"Yard!$F$79","v":0},{"$f":"Yard!$F$111","v":0},{"$f":"Yard!$F$134","v":0},null,{"$f":"Reactive!$F$92","v":0},0,{"$f":"0.01*Input!$F$14*(E944*$E$937)+10*(B944*$B$937+C944*$C$937+D944*$D$937+F944*$F$937)","v":0},"",""]
["Assets 132kV/HV",{"$f":"Yard!$G$79","v":0},{"$f":"Yard!$G$111","v":0},{"$f":"Yard!$G$134","v":0},null,{"$f":"Reactive!$G$92","v":0},0,{"$f":"0.01*Input!$F$14*(E945*$E$937)+10*(B945*$B$937+C945*$C$937+D945*$D$937+F945*$F$937)","v":0},"",""]
["Assets HV",{"$f":"Yard!$H$79","v":0},{"$f":"Yard!$H$111","v":0},{"$f":"Yard!$H$134","v":0},null,{"$f":"Reactive!$H$92","v":0},0,{"$f":"0.01*Input!$F$14*(E946*$E$937)+10*(B946*$B$937+C946*$C$937+D946*$D$937+F946*$F$937)","v":0},"",""]
["Assets HV/LV",{"$f":"Yard!$I$79","v":0},{"$f":"Yard!$I$111","v":0},{"$f":"Yard!$I$134","v":0},null,{"$f":"Reactive!$I$92","v":0},0,{"$f":"0.01*Input!$F$14*(E947*$E$937)+10*(B947*$B$937+C947*$C$937+D947*$D$937+F947*$F$937)","v":0},"",""]
["Assets LV circuits",{"$f":"Yard!$J$79","v":0},{"$f":"Yard!$J$111","v":0},{"$f":"Yard!$J$134","v":0},null,{"$f":"Reactive!$J$92","v":0},0,{"$f":"0.01*Input!$F$14*(E948*$E$937)+10*(B948*$B$937+C948*$C$937+D948*$D$937+F948*$F$937)","v":0},"",""]
["Assets LV customer",null,null,null,{"$f":"SM!$B$135","v":0},null,0,{"$f":"0.01*Input!$F$14*(E949*$E$937)+10*(B949*$B$937+C949*$C$937+D949*$D$937+F949*$F$937)","v":0},"",""]
["Assets HV customer",null,null,null,{"$f":"SM!$C$135","v":0},null,0,{"$f":"0.01*Input!$F$14*(E950*$E$937)+10*(B950*$B$937+C950*$C$937+D950*$D$937+F950*$F$937)","v":0},"",""]
["Transmission exit",{"$f":"Yard!$K$79","v":-0.38070240754362494},{"$f":"Yard!$K$111","v":-1.0305272998678899E-2},{"$f":"Yard!$K$134","v":-4.3434111220392663E-4},null,{"$f":"Reactive!$K$92","v":1.0016069433030258E-2},0,{"$f":"0.01*Input!$F$14*(E951*$E$937)+10*(B951*$B$937+C951*$C$937+D951*$D$937+F951*$F$937)","v":0},"",""]
["Operating 132kV",{"$f":"Yard!$L$79","v":-0.47183808202703259},{"$f":"Yard!$L$111","v":-4.7613625369432165E-2},{"$f":"Yard!$L$134","v":-2.8313870281756587E-3},null,{"$f":"Reactive!$L$92","v":1.5690160494506215E-2},0,{"$f":"0.01*Input!$F$14*(E952*$E$937)+10*(B952*$B$937+C952*$C$937+D952*$D$937+F952*$F$937)","v":0},"",""]
["Operating 132kV/EHV",{"$f":"Yard!$M$79","v":-7.3582962548632017E-2},{"$f":"Yard!$M$111","v":-7.4253260722664527E-3},{"$f":"Yard!$M$134","v":-4.4155368884149466E-4},null,{"$f":"Reactive!$M$92","v":2.4468743325875312E-3},0,{"$f":"0.01*Input!$F$14*(E953*$E$937)+10*(B953*$B$937+C953*$C$937+D953*$D$937+F953*$F$937)","v":0},"",""]
["Operating EHV",{"$f":"Yard!$N$79","v":-7.797611512168294E-2},{"$f":"Yard!$N$111","v":-8.9350539410711811E-3},{"$f":"Yard!$N$134","v":-1.3214491819438169E-3},null,{"$f":"Reactive!$N$92","v":2.81827352407552E-3},0,{"$f":"0.01*Input!$F$14*(E954*$E$937)+10*(B954*$B$937+C954*$C$937+D954*$D$937+F954*$F$937)","v":0},"",""]
["Operating EHV/HV",{"$f":"Yard!$O$79","v":0},{"$f":"Yard!$O$111","v":0},{"$f":"Yard!$O$134","v":0},null,{"$f":"Reactive!$O$92","v":0},0,{"$f":"0.01*Input!$F$14*(E955*$E$937)+10*(B955*$B$937+C955*$C$937+D955*$D$937+F955*$F$937)","v":0},"",""]
["Operating 132kV/HV",{"$f":"Yard!$P$79","v":0},{"$f":"Yard!$P$111","v":0},{"$f":"Yard!$P$134","v":0},null,{"$f":"Reactive!$P$92","v":0},0,{"$f":"0.01*Input!$F$14*(E956*$E$937)+10*(B956*$B$937+C956*$C$937+D956*$D$937+F956*$F$937)","v":0},"",""]
["Operating HV",{"$f":"Yard!$Q$79","v":0},{"$f":"Yard!$Q$111","v":0},{"$f":"Yard!$Q$134","v":0},null,{"$f":"Reactive!$Q$92","v":0},0,{"$f":"0.01*Input!$F$14*(E957*$E$937)+10*(B957*$B$937+C957*$C$937+D957*$D$937+F957*$F$937)","v":0},"",""]
["Operating HV/LV",{"$f":"Yard!$R$79","v":0},{"$f":"Yard!$R$111","v":0},{"$f":"Yard!$R$134","v":0},null,{"$f":"Reactive!$R$92","v":0},0,{"$f":"0.01*Input!$F$14*(E958*$E$937)+10*(B958*$B$937+C958*$C$937+D958*$D$937+F958*$F$937)","v":0},"",""]
["Operating LV circuits",{"$f":"Yard!$S$79","v":0},{"$f":"Yard!$S$111","v":0},{"$f":"Yard!$S$134","v":0},null,{"$f":"Reactive!$S$92","v":0},0,{"$f":"0.01*Input!$F$14*(E959*$E$937)+10*(B959*$B$937+C959*$C$937+D959*$D$937+F959*$F$937)","v":0},"",""]
["Operating LV customer",null,null,null,{"$f":"Otex!$B$148","v":0},null,0,{"$f":"0.01*Input!$F$14*(E960*$E$937)+10*(B960*$B$937+C960*$C$937+D960*$D$937+F960*$F$937)","v":0},"",""]
["Operating HV customer",null,null,null,{"$f":"Otex!$C$148","v":38.694816549832751},null,0,{"$f":"0.01*Input!$F$14*(E961*$E$937)+10*(B961*$B$937+C961*$C$937+D961*$D$937+F961*$F$937)","v":0},"",""]
["Scaler",{"$f":"Scaler!$B$434","v":0},{"$f":"Scaler!$C$434","v":0},{"$f":"Scaler!$D$434","v":0},{"$f":"Scaler!$E$434","v":0},{"$f":"Scaler!$G$434","v":0},0,{"$f":"0.01*Input!$F$14*(E962*$E$937)+10*(B962*$B$937+C962*$C$937+D962*$D$937+F962*$F$937)","v":0},"",""]
["Rounding",{"$f":"Adjust!$B$100","v":2.2967599215650836E-4},{"$f":"Adjust!$C$100","v":4.9096555503702621E-4},{"$f":"Adjust!$D$100","v":2.0997594134448266E-5},{"$f":"Adjust!$E$100","v":-4.8165498327534806E-3},{"$f":"Adjust!$G$100","v":1.4314948440063979E-5},0,{"$f":"0.01*Input!$F$14*(E963*$E$937)+10*(B963*$B$937+C963*$C$937+D963*$D$937+F963*$F$937)","v":0},"",""]
[]
[]
["Total",{"$f":"SUM($B$941:$B$963)","v":-2.2240000000000002},{"$f":"SUM($C$941:$C$963)","v":-0.19900000000000001},{"$f":"SUM($D$941:$D$963)","v":-1.4E-2},{"$f":"SUM($E$941:$E$963)","v":38.69},{"$f":"SUM($F$941:$F$963)","v":7.1999999999999995E-2},{"$f":"SUM(G$941:G$963)","v":0},{"$f":"SUM($H$941:$H$963)","v":0},{"$f":"SUM($I$941:$I$963)","v":0},{"$f":"SUM($J$941:$J$963)","v":0}]

{"sheet":"M-Rev","index":22,"n_rows":41,"n_cols":25,"rows_kept":41,"cut":false,"hidden":true,"merged":[]}
[{"$f":"\"r6140: Revenue matrix\"&\" for \"&Input!B7&\" in \"&Input!C7&\" (\"&Input!D7&\")\"","v":"r6140: Revenue matrix for WPD Mid West in April 2017 (0)"}]
["This sheet is for information only.  It can be deleted without affecting any calculations elsewhere in the model."]
[]
["3901. Revenue matrix by tariff"]
[]
[null,"Revenue matrix by tariff, charging element and network level"]
[null,"Assets\n132kV","Assets\n132kV/EHV","Assets\nEHV","Assets\nEHV/HV","Assets\n132kV/HV","Assets\nHV","Assets\nHV/LV","Assets\nLV circuits","Assets\nLV customer","Assets\nHV customer","Transmission\nexit","Operating\n132kV","Operating\n132kV/EHV","Operating\nEHV","Operating\nEHV/HV","Operating\n132kV/HV","Operating\nHV","Operating\nHV/LV","Operating\nLV circuits","Operating\nLV customer","Operating\nHV customer","Scaler","Rounding","Total net revenue by tariff (£/year)"]
["Domestic Unrestricted",{"$f":"'M-ATW'!$D$41","v":18606878.925292075},{"$f":"'M-ATW'!$D$42","v":2901735.4199660718},{"$f":"'M-ATW'!$D$43","v":3342175.7705531847},{"$f":"'M-ATW'!$D$44","v":5710532.0793716703},{"$f":"'M-ATW'!$D$45","v":0},{"$f":"'M-ATW'!$D$46","v":17871323.492179394},{"$f":"'M-ATW'!$D$47","v":6556962.3029932771},{"$f":"'M-ATW'!$D$48","v":2695397.5120442463},{"$f":"'M-ATW'!$D$49","v":0},{"$f":"'M-ATW'!$D$50","v":0},{"$f":"'M-ATW'!$D$51","v":6068790.5233428441},{"$f":"'M-ATW'!$D$52","v":9506752.9189421423},{"$f":"'M-ATW'!$D$53","v":1482574.3631976275},{"$f":"'M-ATW'!$D$54","v":1707607.1376557006},{"$f":"'M-ATW'!$D$55","v":2917663.8238068814},{"$f":"'M-ATW'!$D$56","v":0},{"$f":"'M-ATW'!$D$57","v":14891842.828220304},{"$f":"'M-ATW'!$D$58","v":9338289.6510808617},{"$f":"'M-ATW'!$D$59","v":13197017.335843796},{"$f":"'M-ATW'!$D$60","v":16127592.512064448},{"$f":"'M-ATW'!$D$61","v":0},{"$f":"'M-ATW'!$D$62","v":75555672.874376908},{"$f":"'M-ATW'!$D$63","v":22379.613923665027},{"$f":"SUM($B8:$X8)","v":208501189.08485508}]
["Domestic Two Rate",{"$f":"'M-ATW'!$F$75","v":3117406.1963556129},{"$f":"'M-ATW'!$F$76","v":486158.26516132365},{"$f":"'M-ATW'!$F$77","v":563761.09624398779},{"$f":"'M-ATW'!$F$78","v":963257.48441117245},{"$f":"'M-ATW'!$F$79","v":0},{"$f":"'M-ATW'!$F$80","v":3014550.2854909357},{"$f":"'M-ATW'!$F$81","v":1106034.0657529663},{"$f":"'M-ATW'!$F$82","v":439598.72121509584},{"$f":"'M-ATW'!$F$83","v":0},{"$f":"'M-ATW'!$F$84","v":0},{"$f":"'M-ATW'!$F$85","v":1050021.7343119467},{"$f":"'M-ATW'!$F$86","v":1592766.3406487626},{"$f":"'M-ATW'!$F$87","v":248391.28179137717},{"$f":"'M-ATW'!$F$88","v":288040.64716186264},{"$f":"'M-ATW'!$F$89","v":492154.05433584994},{"$f":"'M-ATW'!$F$90","v":0},{"$f":"'M-ATW'!$F$91","v":2511968.913155356},{"$f":"'M-ATW'!$F$92","v":1575190.7655849776},{"$f":"'M-ATW'!$F$93","v":2152332.6035462893},{"$f":"'M-ATW'!$F$94","v":2630287.0032720077},{"$f":"'M-ATW'!$F$95","v":0},{"$f":"'M-ATW'!$F$96","v":13072637.515417084},{"$f":"'M-ATW'!$F$97","v":7165.3414617544722},35311722.315318361]
["Domestic Off Peak (related MPAN)",{"$f":"'M-ATW'!$C$109","v":9772.6113536761368},{"$f":"'M-ATW'!$C$110","v":1524.0348810986579},{"$f":"'M-ATW'!$C$111","v":2281.9812770075146},{"$f":"'M-ATW'!$C$112","v":3899.0550412374168},{"$f":"'M-ATW'!$C$113","v":0},{"$f":"'M-ATW'!$C$114","v":12202.238423189772},{"$f":"'M-ATW'!$C$115","v":4476.9833296344368},{"$f":"'M-ATW'!$C$116","v":0},null,null,{"$f":"'M-ATW'!$C$117","v":1270.390089956795},{"$f":"'M-ATW'!$C$118","v":4993.0889476559214},{"$f":"'M-ATW'!$C$119","v":778.6702494613495},{"$f":"'M-ATW'!$C$120","v":1165.9253684224191},{"$f":"'M-ATW'!$C$121","v":1992.1316757758198},{"$f":"'M-ATW'!$C$122","v":0},{"$f":"'M-ATW'!$C$123","v":10167.89925100578},{"$f":"'M-ATW'!$C$124","v":6376.0267580159161},{"$f":"'M-ATW'!$C$125","v":0},null,null,{"$f":"'M-ATW'!$C$126","v":15816.195614337135},{"$f":"'M-ATW'!$C$127","v":-140.47322281306052},76576.759037662006]
["Small Non Domestic Unrestricted",{"$f":"'M-ATW'!$D$139","v":3406703.9009265415},{"$f":"'M-ATW'!$D$140","v":531274.12793652946},{"$f":"'M-ATW'!$D$141","v":611913.65198002849},{"$f":"'M-ATW'!$D$142","v":1045532.2458576296},{"$f":"'M-ATW'!$D$143","v":0},{"$f":"'M-ATW'!$D$144","v":3272032.2252847678},{"$f":"'M-ATW'!$D$145","v":1200503.8107423941},{"$f":"'M-ATW'!$D$146","v":185945.90664635864},{"$f":"'M-ATW'!$D$147","v":0},{"$f":"'M-ATW'!$D$148","v":0},{"$f":"'M-ATW'!$D$149","v":1111125.2151845538},{"$f":"'M-ATW'!$D$150","v":1740576.2881641691},{"$f":"'M-ATW'!$D$151","v":271442.18473167496},{"$f":"'M-ATW'!$D$152","v":312643.077888484},{"$f":"'M-ATW'!$D$153","v":534190.43408964027},{"$f":"'M-ATW'!$D$154","v":0},{"$f":"'M-ATW'!$D$155","v":2726523.8441425883},{"$f":"'M-ATW'!$D$156","v":1709732.6160958912},{"$f":"'M-ATW'!$D$157","v":910415.3812474485},{"$f":"'M-ATW'!$D$158","v":2746929.6904657972},{"$f":"'M-ATW'!$D$159","v":0},{"$f":"'M-ATW'!$D$160","v":13833368.108199753},{"$f":"'M-ATW'!$D$161","v":-4329.8075766028796},36146522.902007647]
["Small Non Domestic Two Rate",{"$f":"'M-ATW'!$F$173","v":1184812.6404612539},{"$f":"'M-ATW'!$F$174","v":184771.06336069631},{"$f":"'M-ATW'!$F$175","v":212036.41888314678},{"$f":"'M-ATW'!$F$176","v":362291.17052897689},{"$f":"'M-ATW'!$F$177","v":0},{"$f":"'M-ATW'!$F$178","v":1133803.7536418289},{"$f":"'M-ATW'!$F$179","v":415990.92953999998},{"$f":"'M-ATW'!$F$180","v":44956.885952577672},{"$f":"'M-ATW'!$F$181","v":0},{"$f":"'M-ATW'!$F$182","v":0},{"$f":"'M-ATW'!$F$183","v":378168.81088430056},{"$f":"'M-ATW'!$F$184","v":605352.51899736677},{"$f":"'M-ATW'!$F$185","v":94404.486265166022},{"$f":"'M-ATW'!$F$186","v":108335.0868371253},{"$f":"'M-ATW'!$F$187","v":185104.26475939737},{"$f":"'M-ATW'!$F$188","v":0},{"$f":"'M-ATW'!$F$189","v":944777.66600045387},{"$f":"'M-ATW'!$F$190","v":592445.64979327947},{"$f":"'M-ATW'!$F$191","v":220114.76994788463},{"$f":"'M-ATW'!$F$192","v":664136.18369608081},{"$f":"'M-ATW'!$F$193","v":0},{"$f":"'M-ATW'!$F$194","v":4708153.7674705721},{"$f":"'M-ATW'!$F$195","v":-390.07802650140854},12039265.988993606]
["Small Non Domestic Off Peak (related MPAN)",{"$f":"'M-ATW'!$C$207","v":2412.6918622552544},{"$f":"'M-ATW'!$C$208","v":376.25834307190655},{"$f":"'M-ATW'!$C$209","v":509.06574665151004},{"$f":"'M-ATW'!$C$210","v":869.80352810156876},{"$f":"'M-ATW'!$C$211","v":0},{"$f":"'M-ATW'!$C$212","v":2722.0826377097337},{"$f":"'M-ATW'!$C$213","v":998.72811596219435},{"$f":"'M-ATW'!$C$214","v":0},null,null,{"$f":"'M-ATW'!$C$215","v":587.92351852923002},{"$f":"'M-ATW'!$C$216","v":1232.7089081460795},{"$f":"'M-ATW'!$C$217","v":192.24046739042416},{"$f":"'M-ATW'!$C$218","v":260.09532777334044},{"$f":"'M-ATW'!$C$219","v":444.40592443721522},{"$f":"'M-ATW'!$C$220","v":0},{"$f":"'M-ATW'!$C$221","v":2268.261039756786},{"$f":"'M-ATW'!$C$222","v":1422.3678585548232},{"$f":"'M-ATW'!$C$223","v":0},null,null,{"$f":"'M-ATW'!$C$224","v":7319.5732939351783},{"$f":"'M-ATW'!$C$225","v":29.729590890343193},21645.936163165588]
["LV Medium Non-Domestic",{"$f":"'M-ATW'!$F$237","v":3121473.9241083963},{"$f":"'M-ATW'!$F$238","v":486792.62569789845},{"$f":"'M-ATW'!$F$239","v":551365.63378434721},{"$f":"'M-ATW'!$F$240","v":942078.26139181899},{"$f":"'M-ATW'!$F$241","v":0},{"$f":"'M-ATW'!$F$242","v":2948269.1157801221},{"$f":"'M-ATW'!$F$243","v":1081715.6020766594},{"$f":"'M-ATW'!$F$244","v":360152.82197371271},{"$f":"'M-ATW'!$F$245","v":0},{"$f":"'M-ATW'!$F$246","v":0},{"$f":"'M-ATW'!$F$247","v":1010905.3086469527},{"$f":"'M-ATW'!$F$248","v":1594844.6517315889},{"$f":"'M-ATW'!$F$249","v":248715.39358395437},{"$f":"'M-ATW'!$F$250","v":281707.47331830917},{"$f":"'M-ATW'!$F$251","v":481333.0219064682},{"$f":"'M-ATW'!$F$252","v":0},{"$f":"'M-ATW'!$F$253","v":2456738.0421884712},{"$f":"'M-ATW'!$F$254","v":1540556.9142396713},{"$f":"'M-ATW'!$F$255","v":1763355.1318133476},{"$f":"'M-ATW'!$F$256","v":433682.12961746997},{"$f":"'M-ATW'!$F$257","v":0},{"$f":"'M-ATW'!$F$258","v":12585642.973392392},{"$f":"'M-ATW'!$F$259","v":1758.8731420415768},31891087.898393624]
["LV Sub Medium Non-Domestic",{"$f":"'M-ATW'!$F$271","v":221.49391494619306},{"$f":"'M-ATW'!$F$272","v":34.541888561046363},{"$f":"'M-ATW'!$F$273","v":39.165403623223774},{"$f":"'M-ATW'!$F$274","v":66.919069835438407},{"$f":"'M-ATW'!$F$275","v":0},{"$f":"'M-ATW'!$F$276","v":209.42572919692847},{"$f":"'M-ATW'!$F$277","v":64.221513359037004},{"$f":"'M-ATW'!$F$278","v":0},{"$f":"'M-ATW'!$F$279","v":0},{"$f":"'M-ATW'!$F$280","v":0},{"$f":"'M-ATW'!$F$281","v":71.696788475890841},{"$f":"'M-ATW'!$F$282","v":113.16717494089838},{"$f":"'M-ATW'!$F$283","v":17.64837623880798},{"$f":"'M-ATW'!$F$284","v":20.01065394747739},{"$f":"'M-ATW'!$F$285","v":34.190745532620852},{"$f":"'M-ATW'!$F$286","v":0},{"$f":"'M-ATW'!$F$287","v":174.51058086161694},{"$f":"'M-ATW'!$F$288","v":91.462946691591114},{"$f":"'M-ATW'!$F$289","v":0},{"$f":"'M-ATW'!$F$290","v":54.450135750296333},{"$f":"'M-ATW'!$F$291","v":0},{"$f":"'M-ATW'!$F$292","v":892.61592987789084},{"$f":"'M-ATW'!$F$293","v":0.20329159515197395},2105.7241434341095]
["HV Medium Non-Domestic",{"$f":"'M-ATW'!$F$305","v":80691.559317217325},{"$f":"'M-ATW'!$F$306","v":12583.816807922147},{"$f":"'M-ATW'!$F$307","v":15523.405786566091},{"$f":"'M-ATW'!$F$308","v":25879.090511685754},{"$f":"'M-ATW'!$F$309","v":0},{"$f":"'M-ATW'!$F$310","v":64362.438538867325},{"$f":"'M-ATW'!$F$311","v":0},{"$f":"'M-ATW'!$F$312","v":0},{"$f":"'M-ATW'!$F$313","v":0},{"$f":"'M-ATW'!$F$314","v":0},{"$f":"'M-ATW'!$F$315","v":25585.789077551257},{"$f":"'M-ATW'!$F$316","v":41227.479372170274},{"$f":"'M-ATW'!$F$317","v":6429.4091260804598},{"$f":"'M-ATW'!$F$318","v":7931.323886498818},{"$f":"'M-ATW'!$F$319","v":17811.22324594712},{"$f":"'M-ATW'!$F$320","v":0},{"$f":"'M-ATW'!$F$321","v":67842.546674461541},{"$f":"'M-ATW'!$F$322","v":0},{"$f":"'M-ATW'!$F$323","v":0},{"$f":"'M-ATW'!$F$324","v":0},{"$f":"'M-ATW'!$F$325","v":81643.61055613916},{"$f":"'M-ATW'!$F$326","v":318539.83134541271},{"$f":"'M-ATW'!$F$327","v":-36.063600015405186},766015.46064650454]
["LV HH Metered",{"$f":"'M-ATW'!$I$339","v":3415041.5504544922},{"$f":"'M-ATW'!$I$340","v":532574.3810876169},{"$f":"'M-ATW'!$I$341","v":603879.48645074444},{"$f":"'M-ATW'!$I$342","v":1031804.8529448489},{"$f":"'M-ATW'!$I$343","v":0},{"$f":"'M-ATW'!$I$344","v":3867074.8155983649},{"$f":"'M-ATW'!$I$345","v":2355153.4806596274},{"$f":"'M-ATW'!$I$346","v":936584.01422412053},{"$f":"'M-ATW'!$I$347","v":0},{"$f":"'M-ATW'!$I$348","v":0},{"$f":"'M-ATW'!$I$349","v":1098577.624091639},{"$f":"'M-ATW'!$I$350","v":1744836.2166726098},{"$f":"'M-ATW'!$I$351","v":272106.51890018844},{"$f":"'M-ATW'!$I$352","v":308538.20748526097},{"$f":"'M-ATW'!$I$353","v":527176.74129532371},{"$f":"'M-ATW'!$I$354","v":0},{"$f":"'M-ATW'!$I$355","v":3222361.8124343557},{"$f":"'M-ATW'!$I$356","v":3354160.7163291052},{"$f":"'M-ATW'!$I$357","v":4585637.3380769799},{"$f":"'M-ATW'!$I$358","v":252302.91801438626},{"$f":"'M-ATW'!$I$359","v":0},{"$f":"'M-ATW'!$I$360","v":13677152.189338956},{"$f":"'M-ATW'!$I$361","v":1234.1889378135902},41786197.052996427]
["LV Sub HH Metered",{"$f":"'M-ATW'!$I$373","v":38610.754218360787},{"$f":"'M-ATW'!$I$374","v":6021.331871769743},{"$f":"'M-ATW'!$I$375","v":6845.7578491239274},{"$f":"'M-ATW'!$I$376","v":11696.847350001},{"$f":"'M-ATW'!$I$377","v":0},{"$f":"'M-ATW'!$I$378","v":107296.39742737474},{"$f":"'M-ATW'!$I$379","v":39366.890397689567},{"$f":"'M-ATW'!$I$380","v":0},{"$f":"'M-ATW'!$I$381","v":0},{"$f":"'M-ATW'!$I$382","v":0},{"$f":"'M-ATW'!$I$383","v":12566.488275842066},{"$f":"'M-ATW'!$I$384","v":19727.268707543182},{"$f":"'M-ATW'!$I$385","v":3076.4597640314787},{"$f":"'M-ATW'!$I$386","v":3497.6810821328208},{"$f":"'M-ATW'!$I$387","v":5976.2326682252642},{"$f":"'M-ATW'!$I$388","v":0},{"$f":"'M-ATW'!$I$389","v":89408.100481307483},{"$f":"'M-ATW'!$I$390","v":56065.50841815264},{"$f":"'M-ATW'!$I$391","v":0},{"$f":"'M-ATW'!$I$392","v":1001.6195022030912},{"$f":"'M-ATW'!$I$393","v":0},{"$f":"'M-ATW'!$I$394","v":156451.18639326899},{"$f":"'M-ATW'!$I$395","v":122.63489978757872},557731.15930681443]
["HV HH Metered",{"$f":"'M-ATW'!$I$407","v":11466174.076645922},{"$f":"'M-ATW'!$I$408","v":1788145.3189053829},{"$f":"'M-ATW'!$I$409","v":2537297.9241857342},{"$f":"'M-ATW'!$I$410","v":5735567.6515643038},{"$f":"'M-ATW'!$I$411","v":0},{"$f":"'M-ATW'!$I$412","v":14264609.503669783},{"$f":"'M-ATW'!$I$413","v":0},{"$f":"'M-ATW'!$I$414","v":0},{"$f":"'M-ATW'!$I$415","v":0},{"$f":"'M-ATW'!$I$416","v":0},{"$f":"'M-ATW'!$I$417","v":3675862.1515588737},{"$f":"'M-ATW'!$I$418","v":5858375.5131593766},{"$f":"'M-ATW'!$I$419","v":913611.34762312809},{"$f":"'M-ATW'!$I$420","v":1296373.483367519},{"$f":"'M-ATW'!$I$421","v":3947490.9614043459},{"$f":"'M-ATW'!$I$422","v":0},{"$f":"'M-ATW'!$I$423","v":15035903.828617051},{"$f":"'M-ATW'!$I$424","v":0},{"$f":"'M-ATW'!$I$425","v":0},{"$f":"'M-ATW'!$I$426","v":0},{"$f":"'M-ATW'!$I$427","v":1111498.3350068491},{"$f":"'M-ATW'!$I$428","v":45764017.918598957},{"$f":"'M-ATW'!$I$429","v":-27955.051449046565},113366972.96285819]
["HV Sub HH Metered",{"$f":"'M-ATW'!$I$441","v":0},{"$f":"'M-ATW'!$I$442","v":0},{"$f":"'M-ATW'!$I$443","v":0},{"$f":"'M-ATW'!$I$444","v":0},{"$f":"'M-ATW'!$I$445","v":0},{"$f":"'M-ATW'!$I$446","v":0},{"$f":"'M-ATW'!$I$447","v":0},{"$f":"'M-ATW'!$I$448","v":0},{"$f":"'M-ATW'!$I$449","v":0},{"$f":"'M-ATW'!$I$450","v":0},{"$f":"'M-ATW'!$I$451","v":0},{"$f":"'M-ATW'!$I$452","v":0},{"$f":"'M-ATW'!$I$453","v":0},{"$f":"'M-ATW'!$I$454","v":0},{"$f":"'M-ATW'!$I$455","v":0},{"$f":"'M-ATW'!$I$456","v":0},{"$f":"'M-ATW'!$I$457","v":0},{"$f":"'M-ATW'!$I$458","v":0},{"$f":"'M-ATW'!$I$459","v":0},{"$f":"'M-ATW'!$I$460","v":0},{"$f":"'M-ATW'!$I$461","v":0},{"$f":"'M-ATW'!$I$462","v":0},{"$f":"'M-ATW'!$I$463","v":0},0]
["NHH UMS category A",{"$f":"'M-ATW'!$C$475","v":90333.996010819712},{"$f":"'M-ATW'!$C$476","v":14087.551002192313},{"$f":"'M-ATW'!$C$477","v":16230.168332196545},{"$f":"'M-ATW'!$C$478","v":27731.305376338732},{"$f":"'M-ATW'!$C$479","v":0},{"$f":"'M-ATW'!$C$480","v":86786.156237737741},{"$f":"'M-ATW'!$C$481","v":31841.713072988277},{"$f":"'M-ATW'!$C$482","v":12883.303989845163},{"$f":"'M-ATW'!$C$483","v":0},null,{"$f":"'M-ATW'!$C$484","v":29456.286285273782},{"$f":"'M-ATW'!$C$485","v":46154.058598631302},{"$f":"'M-ATW'!$C$486","v":7197.7072107882168},{"$f":"'M-ATW'!$C$487","v":8292.4278051435631},{"$f":"'M-ATW'!$C$488","v":14168.666835050404},{"$f":"'M-ATW'!$C$489","v":0},{"$f":"'M-ATW'!$C$490","v":72317.296417544392},{"$f":"'M-ATW'!$C$491","v":45348.307024189024},{"$f":"'M-ATW'!$C$492","v":63078.334582265197},{"$f":"'M-ATW'!$C$493","v":465077.88770364359},null,{"$f":"'M-ATW'!$C$494","v":366727.03104575601},{"$f":"'M-ATW'!$C$495","v":9.2206756359394646},1397721.4182060398]
["NHH UMS category B",{"$f":"'M-ATW'!$C$507","v":47356.444486020839},{"$f":"'M-ATW'!$C$508","v":7385.21881506716},{"$f":"'M-ATW'!$C$509","v":9334.4353293209042},{"$f":"'M-ATW'!$C$510","v":15949.069124537549},{"$f":"'M-ATW'!$C$511","v":0},{"$f":"'M-ATW'!$C$512","v":49913.207694492623},{"$f":"'M-ATW'!$C$513","v":18313.082487566258},{"$f":"'M-ATW'!$C$514","v":7409.5576496658678},{"$f":"'M-ATW'!$C$515","v":0},null,{"$f":"'M-ATW'!$C$516","v":14443.064632917802},{"$f":"'M-ATW'!$C$517","v":24195.6761612632},{"$f":"'M-ATW'!$C$518","v":3773.3061417265098},{"$f":"'M-ATW'!$C$519","v":4769.2130781307369},{"$f":"'M-ATW'!$C$520","v":8148.8066893371924},{"$f":"'M-ATW'!$C$521","v":0},{"$f":"'M-ATW'!$C$522","v":41591.751409120487},{"$f":"'M-ATW'!$C$523","v":26081.112071509429},{"$f":"'M-ATW'!$C$524","v":36278.15946131559},{"$f":"'M-ATW'!$C$525","v":246373.22606269264},null,{"$f":"'M-ATW'!$C$526","v":179814.32420691443},{"$f":"'M-ATW'!$C$527","v":-37.13393202191169},741092.52156957728]
["NHH UMS category C",{"$f":"'M-ATW'!$C$539","v":2062.7041215934914},{"$f":"'M-ATW'!$C$540","v":321.6778931367117},{"$f":"'M-ATW'!$C$541","v":392.78647951938132},{"$f":"'M-ATW'!$C$542","v":671.12562163887446},{"$f":"'M-ATW'!$C$543","v":0},{"$f":"'M-ATW'!$C$544","v":2100.3127066782909},{"$f":"'M-ATW'!$C$545","v":770.60164280579988},{"$f":"'M-ATW'!$C$546","v":311.7889793361386},{"$f":"'M-ATW'!$C$547","v":0},null,{"$f":"'M-ATW'!$C$548","v":640.79514597716638},{"$f":"'M-ATW'!$C$549","v":1053.890795313223},{"$f":"'M-ATW'!$C$550","v":164.35385331495559},{"$f":"'M-ATW'!$C$551","v":200.68513508819274},{"$f":"'M-ATW'!$C$552","v":342.89605946861275},{"$f":"'M-ATW'!$C$553","v":0},{"$f":"'M-ATW'!$C$554","v":1750.1516735262683},{"$f":"'M-ATW'!$C$555","v":1097.4748692445992},{"$f":"'M-ATW'!$C$556","v":1526.5594581273472},{"$f":"'M-ATW'!$C$557","v":5617.9115970022749},null,{"$f":"'M-ATW'!$C$558","v":7977.8183548623756},{"$f":"'M-ATW'!$C$559","v":-1.4251888401443309},27002.109197793558]
["NHH UMS category D",{"$f":"'M-ATW'!$C$571","v":8288.1231640617734},{"$f":"'M-ATW'!$C$572","v":1292.5295341986973},{"$f":"'M-ATW'!$C$573","v":1382.4262364598906},{"$f":"'M-ATW'!$C$574","v":2362.0509250961991},{"$f":"'M-ATW'!$C$575","v":0},{"$f":"'M-ATW'!$C$576","v":7392.1266180927341},{"$f":"'M-ATW'!$C$577","v":2712.1603833648901},{"$f":"'M-ATW'!$C$578","v":1097.3526018531411},{"$f":"'M-ATW'!$C$579","v":0},null,{"$f":"'M-ATW'!$C$580","v":2829.2901629852081},{"$f":"'M-ATW'!$C$581","v":4234.6241623249252},{"$f":"'M-ATW'!$C$582","v":660.38796573023365},{"$f":"'M-ATW'!$C$583","v":706.31859923713478},{"$f":"'M-ATW'!$C$584","v":1206.8350966870059},{"$f":"'M-ATW'!$C$585","v":0},{"$f":"'M-ATW'!$C$586","v":6159.7221834808979},{"$f":"'M-ATW'!$C$587","v":3862.6025390577615},{"$f":"'M-ATW'!$C$588","v":5372.7812856835035},{"$f":"'M-ATW'!$C$589","v":39942.948442828543},null,{"$f":"'M-ATW'!$C$590","v":35224.303952981645},{"$f":"'M-ATW'!$C$591","v":-11.925002693012461},124714.65885143117]
["LV UMS (Pseudo HH Metered)",{"$f":"'M-ATW'!$F$603","v":348421.83893260144},{"$f":"'M-ATW'!$F$604","v":54336.248178955298},{"$f":"'M-ATW'!$F$605","v":68151.53088164379},{"$f":"'M-ATW'!$F$606","v":116445.55226175311},{"$f":"'M-ATW'!$F$607","v":0},{"$f":"'M-ATW'!$F$608","v":364420.70629682008},{"$f":"'M-ATW'!$F$609","v":133705.42112698543},{"$f":"'M-ATW'!$F$610","v":54097.830148796056},{"$f":"'M-ATW'!$F$611","v":0},null,{"$f":"'M-ATW'!$F$612","v":106879.64713093231},{"$f":"'M-ATW'!$F$613","v":178018.05168911227},{"$f":"'M-ATW'!$F$614","v":27761.844856070584},{"$f":"'M-ATW'!$F$615","v":34820.442898607849},{"$f":"'M-ATW'!$F$616","v":59495.152212631161},{"$f":"'M-ATW'!$F$617","v":0},{"$f":"'M-ATW'!$F$618","v":303665.02424379042},{"$f":"'M-ATW'!$F$619","v":190420.48630256037},{"$f":"'M-ATW'!$F$620","v":264870.02348077972},{"$f":"'M-ATW'!$F$621","v":1790335.4804034859},null,{"$f":"'M-ATW'!$F$622","v":1330638.0611577679},{"$f":"'M-ATW'!$F$623","v":-746.66113253342121},5425736.6810707608]
["LV Generation NHH",{"$f":"'M-ATW'!$D$635","v":-515.1531683644281},{"$f":"'M-ATW'!$D$636","v":-80.337933156478641},{"$f":"'M-ATW'!$D$637","v":-92.532038518881805},{"$f":"'M-ATW'!$D$638","v":-158.10274821191393},{"$f":"'M-ATW'!$D$639","v":0},{"$f":"'M-ATW'!$D$640","v":-494.78845736710969},{"$f":"'M-ATW'!$D$641","v":-181.53715724143566},{"$f":"'M-ATW'!$D$642","v":0},{"$f":"'M-ATW'!$D$643","v":0},{"$f":"'M-ATW'!$D$644","v":0},{"$f":"'M-ATW'!$D$645","v":-168.02155153438801},{"$f":"'M-ATW'!$D$646","v":-263.20555460775336},{"$f":"'M-ATW'!$D$647","v":-41.046802293047293},{"$f":"'M-ATW'!$D$648","v":-47.277097401290142},{"$f":"'M-ATW'!$D$649","v":-80.778929614752343},{"$f":"'M-ATW'!$D$650","v":0},{"$f":"'M-ATW'!$D$651","v":-412.29805635564719},{"$f":"'M-ATW'!$D$652","v":-258.54145233997332},{"$f":"'M-ATW'!$D$653","v":0},{"$f":"'M-ATW'!$D$654","v":0},{"$f":"'M-ATW'!$D$655","v":0},{"$f":"'M-ATW'!$D$656","v":0},{"$f":"'M-ATW'!$D$657","v":0.26628864794923884},-2793.3546583591497]
["LV Sub Generation NHH",{"$f":"'M-ATW'!$D$669","v":0},{"$f":"'M-ATW'!$D$670","v":0},{"$f":"'M-ATW'!$D$671","v":0},{"$f":"'M-ATW'!$D$672","v":0},{"$f":"'M-ATW'!$D$673","v":0},{"$f":"'M-ATW'!$D$674","v":0},{"$f":"'M-ATW'!$D$675","v":0},{"$f":"'M-ATW'!$D$676","v":0},{"$f":"'M-ATW'!$D$677","v":0},{"$f":"'M-ATW'!$D$678","v":0},{"$f":"'M-ATW'!$D$679","v":0},{"$f":"'M-ATW'!$D$680","v":0},{"$f":"'M-ATW'!$D$681","v":0},{"$f":"'M-ATW'!$D$682","v":0},{"$f":"'M-ATW'!$D$683","v":0},{"$f":"'M-ATW'!$D$684","v":0},{"$f":"'M-ATW'!$D$685","v":0},{"$f":"'M-ATW'!$D$686","v":0},{"$f":"'M-ATW'!$D$687","v":0},{"$f":"'M-ATW'!$D$688","v":0},{"$f":"'M-ATW'!$D$689","v":0},{"$f":"'M-ATW'!$D$690","v":0},{"$f":"'M-ATW'!$D$691","v":0},0]
["LV Generation Intermittent",{"$f":"'M-ATW'!$E$703","v":-48.614574851055991},{"$f":"'M-ATW'!$E$704","v":-7.5814237486197129},{"$f":"'M-ATW'!$E$705","v":-8.732171301554974},{"$f":"'M-ATW'!$E$706","v":-14.920024488073169},{"$f":"'M-ATW'!$E$707","v":0},{"$f":"'M-ATW'!$E$708","v":-46.69277405879356},{"$f":"'M-ATW'!$E$709","v":-17.131510123448358},{"$f":"'M-ATW'!$E$710","v":0.77884496110552459},{"$f":"'M-ATW'!$E$711","v":0},{"$f":"'M-ATW'!$E$712","v":0},{"$f":"'M-ATW'!$E$713","v":-15.856053685145303},{"$f":"'M-ATW'!$E$714","v":-24.838488669918245},{"$f":"'M-ATW'!$E$715","v":-3.8735524985846794},{"$f":"'M-ATW'!$E$716","v":-4.4615002517654876},{"$f":"'M-ATW'!$E$717","v":-7.6230402165876061},{"$f":"'M-ATW'!$E$718","v":0},{"$f":"'M-ATW'!$E$719","v":-38.908223713897961},{"$f":"'M-ATW'!$E$720","v":-24.398341228857433},{"$f":"'M-ATW'!$E$721","v":3.8133263860768416},{"$f":"'M-ATW'!$E$722","v":0},{"$f":"'M-ATW'!$E$723","v":0},{"$f":"'M-ATW'!$E$724","v":0},{"$f":"'M-ATW'!$E$725","v":7.6492754575067934E-2},-258.96301473454508]
["LV Generation Non-Intermittent",{"$f":"'M-ATW'!$H$737","v":-3029.0154926881578},{"$f":"'M-ATW'!$H$738","v":-472.37376983261254},{"$f":"'M-ATW'!$H$739","v":-542.92856646657629},{"$f":"'M-ATW'!$H$740","v":-927.66245956641842},{"$f":"'M-ATW'!$H$741","v":0},{"$f":"'M-ATW'!$H$742","v":-2903.1543253823015},{"$f":"'M-ATW'!$H$743","v":-1065.1630518374227},{"$f":"'M-ATW'!$H$744","v":3.9153190971873251},{"$f":"'M-ATW'!$H$745","v":0},{"$f":"'M-ATW'!$H$746","v":0},{"$f":"'M-ATW'!$H$747","v":-975.57793820116444},{"$f":"'M-ATW'!$H$748","v":-1547.6051621689205},{"$f":"'M-ATW'!$H$749","v":-241.34841384299492},{"$f":"'M-ATW'!$H$750","v":-277.39674959765853},{"$f":"'M-ATW'!$H$751","v":-473.96760255630346},{"$f":"'M-ATW'!$H$752","v":0},{"$f":"'M-ATW'!$H$753","v":-2419.1447230296267},{"$f":"'M-ATW'!$H$754","v":-1516.9831156641487},{"$f":"'M-ATW'!$H$755","v":19.1699123302052},{"$f":"'M-ATW'!$H$756","v":0},{"$f":"'M-ATW'!$H$757","v":0},{"$f":"'M-ATW'!$H$758","v":0},{"$f":"'M-ATW'!$H$759","v":-1.2948315520190989},-16370.530970958935]
["LV Sub Generation Intermittent",{"$f":"'M-ATW'!$E$771","v":0},{"$f":"'M-ATW'!$E$772","v":0},{"$f":"'M-ATW'!$E$773","v":0},{"$f":"'M-ATW'!$E$774","v":0},{"$f":"'M-ATW'!$E$775","v":0},{"$f":"'M-ATW'!$E$776","v":0},{"$f":"'M-ATW'!$E$777","v":0},{"$f":"'M-ATW'!$E$778","v":0},{"$f":"'M-ATW'!$E$779","v":0},{"$f":"'M-ATW'!$E$780","v":0},{"$f":"'M-ATW'!$E$781","v":0},{"$f":"'M-ATW'!$E$782","v":0},{"$f":"'M-ATW'!$E$783","v":0},{"$f":"'M-ATW'!$E$784","v":0},{"$f":"'M-ATW'!$E$785","v":0},{"$f":"'M-ATW'!$E$786","v":0},{"$f":"'M-ATW'!$E$787","v":0},{"$f":"'M-ATW'!$E$788","v":0},{"$f":"'M-ATW'!$E$789","v":0},{"$f":"'M-ATW'!$E$790","v":0},{"$f":"'M-ATW'!$E$791","v":0},{"$f":"'M-ATW'!$E$792","v":0},{"$f":"'M-ATW'!$E$793","v":0},0]
["LV Sub Generation Non-Intermittent",{"$f":"'M-ATW'!$H$805","v":1.0702467890672511},{"$f":"'M-ATW'!$H$806","v":0.16690456408140747},{"$f":"'M-ATW'!$H$807","v":0.18735850778274915},{"$f":"'M-ATW'!$H$808","v":0.32012582296337666},{"$f":"'M-ATW'!$H$809","v":0},{"$f":"'M-ATW'!$H$810","v":1.0018457231060938},{"$f":"'M-ATW'!$H$811","v":0.38313870499960767},{"$f":"'M-ATW'!$H$812","v":0},{"$f":"'M-ATW'!$H$813","v":0},{"$f":"'M-ATW'!$H$814","v":0},{"$f":"'M-ATW'!$H$815","v":0.35328151481455372},{"$f":"'M-ATW'!$H$816","v":0.54681775631502572},{"$f":"'M-ATW'!$H$817","v":8.5276013142047108E-2},{"$f":"'M-ATW'!$H$818","v":9.5726480937712383E-2},{"$f":"'M-ATW'!$H$819","v":0.16356085908362863},{"$f":"'M-ATW'!$H$820","v":0},{"$f":"'M-ATW'!$H$821","v":0.83481948346743662},{"$f":"'M-ATW'!$H$822","v":0.54565819330592369},{"$f":"'M-ATW'!$H$823","v":0},{"$f":"'M-ATW'!$H$824","v":0},{"$f":"'M-ATW'!$H$825","v":0},{"$f":"'M-ATW'!$H$826","v":0},{"$f":"'M-ATW'!$H$827","v":-1.4302211973213266E-2},5.7404582010936007]
["HV Generation Intermittent",{"$f":"'M-ATW'!$E$839","v":-991.92673526163389},{"$f":"'M-ATW'!$E$840","v":-154.69058262143824},{"$f":"'M-ATW'!$E$841","v":-178.17031615383161},{"$f":"'M-ATW'!$E$842","v":-225.99382731072274},{"$f":"'M-ATW'!$E$843","v":0},{"$f":"'M-ATW'!$E$844","v":89.135609018990408},{"$f":"'M-ATW'!$E$845","v":0},{"$f":"'M-ATW'!$E$846","v":0},{"$f":"'M-ATW'!$E$847","v":0},{"$f":"'M-ATW'!$E$848","v":0},{"$f":"'M-ATW'!$E$849","v":-323.52527229182874},{"$f":"'M-ATW'!$E$850","v":-506.80194264107433},{"$f":"'M-ATW'!$E$851","v":-79.035562803079543},{"$f":"'M-ATW'!$E$852","v":-91.03198768396858},{"$f":"'M-ATW'!$E$853","v":-155.53972071080725},{"$f":"'M-ATW'!$E$854","v":0},{"$f":"'M-ATW'!$E$855","v":93.955214446631388},{"$f":"'M-ATW'!$E$856","v":0},{"$f":"'M-ATW'!$E$857","v":0},{"$f":"'M-ATW'!$E$858","v":0},{"$f":"'M-ATW'!$E$859","v":587.88332651236669},{"$f":"'M-ATW'!$E$860","v":0},{"$f":"'M-ATW'!$E$861","v":0.72175613608709688},-1935.0200413643092]
["HV Generation Non-Intermittent",{"$f":"'M-ATW'!$H$873","v":-488989.25143563777},{"$f":"'M-ATW'!$H$874","v":-76257.680644375578},{"$f":"'M-ATW'!$H$875","v":-87777.032810919802},{"$f":"'M-ATW'!$H$876","v":-111337.66849126204},{"$f":"'M-ATW'!$H$877","v":0},{"$f":"'M-ATW'!$H$878","v":1073.0345252344016},{"$f":"'M-ATW'!$H$879","v":0},{"$f":"'M-ATW'!$H$880","v":0},{"$f":"'M-ATW'!$H$881","v":0},{"$f":"'M-ATW'!$H$882","v":0},{"$f":"'M-ATW'!$H$883","v":-160408.83469249401},{"$f":"'M-ATW'!$H$884","v":-249837.70852070028},{"$f":"'M-ATW'!$H$885","v":-38962.091975148127},{"$f":"'M-ATW'!$H$886","v":-44847.637599071066},{"$f":"'M-ATW'!$H$887","v":-76627.888769339319},{"$f":"'M-ATW'!$H$888","v":0},{"$f":"'M-ATW'!$H$889","v":1131.054020235149},{"$f":"'M-ATW'!$H$890","v":0},{"$f":"'M-ATW'!$H$891","v":0},{"$f":"'M-ATW'!$H$892","v":0},{"$f":"'M-ATW'!$H$893","v":11904.637361875426},{"$f":"'M-ATW'!$H$894","v":0},{"$f":"'M-ATW'!$H$895","v":-363.96688163092296},-1321301.0359132339]
["HV Sub Generation Intermittent",{"$f":"'M-ATW'!$E$907","v":0},{"$f":"'M-ATW'!$E$908","v":0},{"$f":"'M-ATW'!$E$909","v":0},{"$f":"'M-ATW'!$E$910","v":0},{"$f":"'M-ATW'!$E$911","v":0},{"$f":"'M-ATW'!$E$912","v":0},{"$f":"'M-ATW'!$E$913","v":0},{"$f":"'M-ATW'!$E$914","v":0},{"$f":"'M-ATW'!$E$915","v":0},{"$f":"'M-ATW'!$E$916","v":0},{"$f":"'M-ATW'!$E$917","v":0},{"$f":"'M-ATW'!$E$918","v":0},{"$f":"'M-ATW'!$E$919","v":0},{"$f":"'M-ATW'!$E$920","v":0},{"$f":"'M-ATW'!$E$921","v":0},{"$f":"'M-ATW'!$E$922","v":0},{"$f":"'M-ATW'!$E$923","v":0},{"$f":"'M-ATW'!$E$924","v":0},{"$f":"'M-ATW'!$E$925","v":0},{"$f":"'M-ATW'!$E$926","v":0},{"$f":"'M-ATW'!$E$927","v":0},{"$f":"'M-ATW'!$E$928","v":0},{"$f":"'M-ATW'!$E$929","v":0},0]
["HV Sub Generation Non-Intermittent",{"$f":"'M-ATW'!$H$941","v":0},{"$f":"'M-ATW'!$H$942","v":0},{"$f":"'M-ATW'!$H$943","v":0},{"$f":"'M-ATW'!$H$944","v":0},{"$f":"'M-ATW'!$H$945","v":0},{"$f":"'M-ATW'!$H$946","v":0},{"$f":"'M-ATW'!$H$947","v":0},{"$f":"'M-ATW'!$H$948","v":0},{"$f":"'M-ATW'!$H$949","v":0},{"$f":"'M-ATW'!$H$950","v":0},{"$f":"'M-ATW'!$H$951","v":0},{"$f":"'M-ATW'!$H$952","v":0},{"$f":"'M-ATW'!$H$953","v":0},{"$f":"'M-ATW'!$H$954","v":0},{"$f":"'M-ATW'!$H$955","v":0},{"$f":"'M-ATW'!$H$956","v":0},{"$f":"'M-ATW'!$H$957","v":0},{"$f":"'M-ATW'!$H$958","v":0},{"$f":"'M-ATW'!$H$959","v":0},{"$f":"'M-ATW'!$H$960","v":0},{"$f":"'M-ATW'!$H$961","v":0},{"$f":"'M-ATW'!$H$962","v":0},{"$f":"'M-ATW'!$H$963","v":0},0]
[]
["3902. Revenues by charging element and network level"]
[]
[null,"Total net revenue by charging element and network level (£/year)"]
[null,"Assets\n132kV","Assets\n132kV/EHV","Assets\nEHV","Assets\nEHV/HV","Assets\n132kV/HV","Assets\nHV","Assets\nHV/LV","Assets\nLV circuits","Assets\nLV customer","Assets\nHV customer","Transmission\nexit","Operating\n132kV","Operating\n132kV/EHV","Operating\nEHV","Operating\nEHV/HV","Operating\n132kV/HV","Operating\nHV","Operating\nHV/LV","Operating\nLV circuits","Operating\nLV customer","Operating\nHV customer","Scaler","Rounding","Total net revenue (£/year)"]
["Revenues by charging element and network level",{"$f":"SUM(B$8:B$35)","v":44453090.540465847},6932441.9138823217,8454521.4968584366,15883970.537455631,0,47066786.820378534,12947346.545254786,4738440.3895896655,0,0,14425891.276902862,22712274.849982079,3541970.2930733776,4319641.528341718,9117388.2082494218,0,42383817.691764504,18439342.284660727,23200021.401982635,25403333.960977789,1205634.4662513761,181616046.28808975,-1313.0246857404313,{"$f":"SUM($B$8:$X$35)","v":486840647.46947551}]

{"sheet":"LAFs","index":23,"n_rows":268,"n_cols":10,"rows_kept":268,"cut":false,"hidden":true,"merged":[]}
[{"$f":"\"r6140: Loss adjustment factors and network use matrices\"&\" for \"&Input!B7&\" in \"&Input!C7&\" (\"&Input!D7&\")\"","v":"r6140: Loss adjustment factors and network use matrices for WPD Mid West in April 2017 (0)"}]
["This sheet calculates matrices of loss adjustment factors and of network use factors."]
["These matrices map out the extent to which each type of user uses each level of the network, and are used throughout the workbook."]
[]
["2001. Loss adjustment factors to transmission"]
["Data sources:"]
["x1 = Network level for each tariff (to get loss factors applicable to capacity) (in Loss adjustment factors to transmission)"]
["x2 = 1032. Loss adjustment factors to transmission"]
["Kind:","Fixed data",null,null,null,null,null,null,"Sum-product calculation"]
["Formula:","",null,null,null,null,null,null,"=SUMPRODUCT(x1, x2)"]
[]
[null,"Network level for each tariff (to get loss factors applicable to capacity)"]
[null,"132kV","132kV/EHV","EHV","EHV/HV","HV","HV/LV","LV circuits","Loss adjustment factor"]
["Domestic Unrestricted",0,0,0,0,0,0,1,{"$f":"SUMPRODUCT($B14:$H14,Input!$B$105:$H$105)","v":1.077}]
["Domestic Two Rate",0,0,0,0,0,0,1,{"$f":"SUMPRODUCT($B15:$H15,Input!$B$105:$H$105)","v":1.077}]
["Domestic Off Peak (related MPAN)",0,0,0,0,0,0,1,{"$f":"SUMPRODUCT($B16:$H16,Input!$B$105:$H$105)","v":1.077}]
["Small Non Domestic Unrestricted",0,0,0,0,0,0,1,{"$f":"SUMPRODUCT($B17:$H17,Input!$B$105:$H$105)","v":1.077}]
["Small Non Domestic Two Rate",0,0,0,0,0,0,1,{"$f":"SUMPRODUCT($B18:$H18,Input!$B$105:$H$105)","v":1.077}]
["Small Non Domestic Off Peak (related MPAN)",0,0,0,0,0,0,1,{"$f":"SUMPRODUCT($B19:$H19,Input!$B$105:$H$105)","v":1.077}]
["LV Medium Non-Domestic",0,0,0,0,0,0,1,{"$f":"SUMPRODUCT($B20:$H20,Input!$B$105:$H$105)","v":1.077}]
["LV Sub Medium Non-Domestic",0,0,0,0,0,1,0,{"$f":"SUMPRODUCT($B21:$H21,Input!$B$105:$H$105)","v":1.0509999999999999}]
["HV Medium Non-Domestic",0,0,0,0,1,0,0,{"$f":"SUMPRODUCT($B22:$H22,Input!$B$105:$H$105)","v":1.044}]
["LV HH Metered",0,0,0,0,0,0,1,{"$f":"SUMPRODUCT($B23:$H23,Input!$B$105:$H$105)","v":1.077}]
["LV Sub HH Metered",0,0,0,0,0,1,0,{"$f":"SUMPRODUCT($B24:$H24,Input!$B$105:$H$105)","v":1.0509999999999999}]
["HV HH Metered",0,0,0,0,1,0,0,{"$f":"SUMPRODUCT($B25:$H25,Input!$B$105:$H$105)","v":1.044}]
["HV Sub HH Metered",0,0,0,1,0,0,0,{"$f":"SUMPRODUCT($B26:$H26,Input!$B$105:$H$105)","v":1.0269999999999999}]
["NHH UMS category A",0,0,0,0,0,0,1,{"$f":"SUMPRODUCT($B27:$H27,Input!$B$105:$H$105)","v":1.077}]
["NHH UMS category B",0,0,0,0,0,0,1,{"$f":"SUMPRODUCT($B28:$H28,Input!$B$105:$H$105)","v":1.077}]
["NHH UMS category C",0,0,0,0,0,0,1,{"$f":"SUMPRODUCT($B29:$H29,Input!$B$105:$H$105)","v":1.077}]
["NHH UMS category D",0,0,0,0,0,0,1,{"$f":"SUMPRODUCT($B30:$H30,Input!$B$105:$H$105)","v":1.077}]
["LV UMS (Pseudo HH Metered)",0,0,0,0,0,0,1,{"$f":"SUMPRODUCT($B31:$H31,Input!$B$105:$H$105)","v":1.077}]
["LV Generation NHH",0,0,0,0,0,0,1,{"$f":"SUMPRODUCT($B32:$H32,Input!$B$105:$H$105)","v":1.077}]
["LV Sub Generation NHH",0,0,0,0,0,1,0,{"$f":"SUMPRODUCT($B33:$H33,Input!$B$105:$H$105)","v":1.0509999999999999}]
["LV Generation Intermittent",0,0,0,0,0,0,1,{"$f":"SUMPRODUCT($B34:$H34,Input!$B$105:$H$105)","v":1.077}]
["LV Generation Non-Intermittent",0,0,0,0,0,0,1,{"$f":"SUMPRODUCT($B35:$H35,Input!$B$105:$H$105)","v":1.077}]
["LV Sub Generation Intermittent",0,0,0,0,0,1,0,{"$f":"SUMPRODUCT($B36:$H36,Input!$B$105:$H$105)","v":1.0509999999999999}]
["LV Sub Generation Non-Intermittent",0,0,0,0,0,1,0,{"$f":"SUMPRODUCT($B37:$H37,Input!$B$105:$H$105)","v":1.0509999999999999}]
["HV Generation Intermittent",0,0,0,0,1,0,0,{"$f":"SUMPRODUCT($B38:$H38,Input!$B$105:$H$105)","v":1.044}]
["HV Generation Non-Intermittent",0,0,0,0,1,0,0,{"$f":"SUMPRODUCT($B39:$H39,Input!$B$105:$H$105)","v":1.044}]
["HV Sub Generation Intermittent",0,0,0,1,0,0,0,{"$f":"SUMPRODUCT($B40:$H40,Input!$B$105:$H$105)","v":1.0269999999999999}]
["HV Sub Generation Non-Intermittent",0,0,0,1,0,0,0,{"$f":"SUMPRODUCT($B41:$H41,Input!$B$105:$H$105)","v":1.0269999999999999}]
[]
["2002. Mapping of DRM network levels to core network levels"]
[]
[null,"132kV","132kV/EHV","EHV","EHV/HV","HV","HV/LV","LV circuits"]
["132kV",1,0,0,0,0,0,0]
["132kV/EHV",0,1,0,0,0,0,0]
["EHV",0,0,1,0,0,0,0]
["EHV/HV",0,0,0,1,0,0,0]
["132kV/HV",0,0,0,1,0,0,0]
["HV",0,0,0,0,1,0,0]
["HV/LV",0,0,0,0,0,1,0]
["LV circuits",0,0,0,0,0,0,1]
[]
["2003. Loss adjustment factor to transmission for each DRM network level"]
["Data sources:"]
["x1 = 2002. Mapping of DRM network levels to core network levels"]
["x2 = 1032. Loss adjustment factors to transmission"]
["Sum-product calculation =SUMPRODUCT(x1, x2)"]
[]
[null,"Loss adjustment factor to transmission for each DRM network level"]
["132kV",{"$f":"SUMPRODUCT($B46:$H46,Input!$B$105:$H$105)","v":1.002}]
["132kV/EHV",{"$f":"SUMPRODUCT($B47:$H47,Input!$B$105:$H$105)","v":1.0029999999999999}]
["EHV",{"$f":"SUMPRODUCT($B48:$H48,Input!$B$105:$H$105)","v":1.006}]
["EHV/HV",{"$f":"SUMPRODUCT($B49:$H49,Input!$B$105:$H$105)","v":1.0269999999999999}]
["132kV/HV",{"$f":"SUMPRODUCT($B50:$H50,Input!$B$105:$H$105)","v":1.0269999999999999}]
["HV",{"$f":"SUMPRODUCT($B51:$H51,Input!$B$105:$H$105)","v":1.044}]
["HV/LV",{"$f":"SUMPRODUCT($B52:$H52,Input!$B$105:$H$105)","v":1.0509999999999999}]
["LV circuits",{"$f":"SUMPRODUCT($B53:$H53,Input!$B$105:$H$105)","v":1.077}]
[]
["2004. Loss adjustment factor to transmission for each network level"]
["Data sources:"]
["x1 = 2003. Loss adjustment factor to transmission for each DRM network level"]
["x2 = 1 for GSP level"]
["Combine tables = x1 or x2"]
[]
[null,"GSPs","132kV","132kV/EHV","EHV","EHV/HV","132kV/HV","HV","HV/LV","LV circuits"]
["Loss adjustment factor to transmission for each network level",1,{"$f":"$B$62","v":1.002},{"$f":"$B$63","v":1.0029999999999999},{"$f":"$B$64","v":1.006},{"$f":"$B$65","v":1.0269999999999999},{"$f":"$B$66","v":1.0269999999999999},{"$f":"$B$67","v":1.044},{"$f":"$B$68","v":1.0509999999999999},{"$f":"$B$69","v":1.077}]
[]
["2005. Network use factors"]
["These network use factors indicate to what extent each network level is used by each tariff."]
["This table reflects the policy that generators receive credits only in respect of network levels above the voltage of connection. Generators do not receive credits at the voltage of connection."]
["The factors in this table are before any adjustment for a 132kV/HV network level or for generation-dominated areas."]
[]
[null,"GSPs","132kV","132kV/EHV","EHV","EHV/HV","HV","HV/LV","LV circuits"]
["Domestic Unrestricted",1,1,1,1,1,1,1,1]
["Domestic Two Rate",1,1,1,1,1,1,1,1]
["Domestic Off Peak (related MPAN)",1,1,1,1,1,1,1,1]
["Small Non Domestic Unrestricted",1,1,1,1,1,1,1,1]
["Small Non Domestic Two Rate",1,1,1,1,1,1,1,1]
["Small Non Domestic Off Peak (related MPAN)",1,1,1,1,1,1,1,1]
["LV Medium Non-Domestic",1,1,1,1,1,1,1,1]
["LV Sub Medium Non-Domestic",1,1,1,1,1,1,1,0]
["HV Medium Non-Domestic",1,1,1,1,1,1,0,0]
["LV HH Metered",1,1,1,1,1,1,1,1]
["LV Sub HH Metered",1,1,1,1,1,1,1,0]
["HV HH Metered",1,1,1,1,1,1,0,0]
["HV Sub HH Metered",1,1,1,1,1,0,0,0]
["NHH UMS category A",1,1,1,1,1,1,1,1]
["NHH UMS category B",1,1,1,1,1,1,1,1]
["NHH UMS category C",1,1,1,1,1,1,1,1]
["NHH UMS category D",1,1,1,1,1,1,1,1]
["LV UMS (Pseudo HH Metered)",1,1,1,1,1,1,1,1]
["LV Generation NHH",1,1,1,1,1,1,1,0]
["LV Sub Generation NHH",1,1,1,1,1,1,0,0]
["LV Generation Intermittent",1,1,1,1,1,1,1,0]
["LV Generation Non-Intermittent",1,1,1,1,1,1,1,0]
["LV Sub Generation Intermittent",1,1,1,1,1,1,0,0]
["LV Sub Generation Non-Intermittent",1,1,1,1,1,1,0,0]
["HV Generation Intermittent",1,1,1,1,1,0,0,0]
["HV Generation Non-Intermittent",1,1,1,1,1,0,0,0]
["HV Sub Generation Intermittent",1,1,1,1,0,0,0,0]
["HV Sub Generation Non-Intermittent",1,1,1,1,0,0,0,0]
[]
["2006. Proportion going through 132kV/EHV"]
["Data sources:"]
["x1 = 1018. Proportion of relevant load going through 132kV/HV direct transformation"]
["Calculation =1-x1"]
[]
[null,"132kV/EHV"]
["132kV/EHV",{"$f":"1-Input!$B$36","v":1}]
[]
["2007. Proportion going through EHV"]
["Data sources:"]
["x1 = 1018. Proportion of relevant load going through 132kV/HV direct transformation"]
["Calculation =1-x1"]
[]
[null,"EHV"]
["EHV",{"$f":"1-Input!$B$36","v":1}]
[]
["2008. Proportion going through EHV/HV"]
["Data sources:"]
["x1 = 1018. Proportion of relevant load going through 132kV/HV direct transformation"]
["Calculation =1-x1"]
[]
[null,"EHV/HV"]
["EHV/HV",{"$f":"1-Input!$B$36","v":1}]
[]
["2009. Rerouteing matrix for all network levels"]
["Data sources:"]
["x1 = 1018. Proportion of relevant load going through 132kV/HV direct transformation"]
["x2 = 2006. Proportion going through 132kV/EHV"]
["x3 = 2007. Proportion going through EHV"]
["x4 = 2008. Proportion going through EHV/HV"]
["x5 = Rerouteing matrix: default elements"]
["x6 = Map GSP to GSP"]
["Combine tables = x1 or x2 or x3 or x4 or x5 or x6"]
[]
[null,"GSPs","132kV","132kV/EHV","EHV","EHV/HV","HV","HV/LV","LV circuits"]
["GSPs",1]
["132kV",null,1,0,0,0,0,0,0]
["132kV/EHV",null,0,{"$f":"$B$121","v":1},0,0,0,0,0]
["EHV",null,0,0,{"$f":"$B$129","v":1},0,0,0,0]
["EHV/HV",null,0,0,0,{"$f":"$B$137","v":1},0,0,0]
["132kV/HV",null,0,0,0,{"$f":"Input!$B$36","v":0},0,0,0]
["HV",null,0,0,0,0,1,0,0]
["HV/LV",null,0,0,0,0,0,1,0]
["LV circuits",null,0,0,0,0,0,0,1]
[]
["2010. Network use factors: interim step in calculations before adjustments"]
["Data sources:"]
["x1 = 2005. Network use factors"]
["x2 = 2009. Rerouteing matrix for all network levels"]
["Sum-product calculation =SUMPRODUCT(x1, x2)"]
[]
[null,"GSPs","132kV","132kV/EHV","EHV","EHV/HV","132kV/HV","HV","HV/LV","LV circuits"]
["Domestic Unrestricted",{"$f":"SUMPRODUCT($B86:$I86,$B$150:$I$150)","v":1},{"$f":"SUMPRODUCT($B86:$I86,$B$151:$I$151)","v":1},{"$f":"SUMPRODUCT($B86:$I86,$B$152:$I$152)","v":1},{"$f":"SUMPRODUCT($B86:$I86,$B$153:$I$153)","v":1},{"$f":"SUMPRODUCT($B86:$I86,$B$154:$I$154)","v":1},{"$f":"SUMPRODUCT($B86:$I86,$B$155:$I$155)","v":0},{"$f":"SUMPRODUCT($B86:$I86,$B$156:$I$156)","v":1},{"$f":"SUMPRODUCT($B86:$I86,$B$157:$I$157)","v":1},{"$f":"SUMPRODUCT($B86:$I86,$B$158:$I$158)","v":1}]
["Domestic Two Rate",1,1,1,1,1,0,1,1,1]
["Domestic Off Peak (related MPAN)",1,1,1,1,1,0,1,1,1]
["Small Non Domestic Unrestricted",1,1,1,1,1,0,1,1,1]
["Small Non Domestic Two Rate",1,1,1,1,1,0,1,1,1]
["Small Non Domestic Off Peak (related MPAN)",1,1,1,1,1,0,1,1,1]
["LV Medium Non-Domestic",1,1,1,1,1,0,1,1,1]
["LV Sub Medium Non-Domestic",1,1,1,1,1,0,1,1,0]
["HV Medium Non-Domestic",1,1,1,1,1,0,1,0,0]
["LV HH Metered",1,1,1,1,1,0,1,1,1]
["LV Sub HH Metered",1,1,1,1,1,0,1,1,0]
["HV HH Metered",1,1,1,1,1,0,1,0,0]
["HV Sub HH Metered",1,1,1,1,1,0,0,0,0]
["NHH UMS category A",1,1,1,1,1,0,1,1,1]
["NHH UMS category B",1,1,1,1,1,0,1,1,1]
["NHH UMS category C",1,1,1,1,1,0,1,1,1]
["NHH UMS category D",1,1,1,1,1,0,1,1,1]
["LV UMS (Pseudo HH Metered)",1,1,1,1,1,0,1,1,1]
["LV Generation NHH",1,1,1,1,1,0,1,1,0]
["LV Sub Generation NHH",1,1,1,1,1,0,1,0,0]
["LV Generation Intermittent",1,1,1,1,1,0,1,1,0]
["LV Generation Non-Intermittent",1,1,1,1,1,0,1,1,0]
["LV Sub Generation Intermittent",1,1,1,1,1,0,1,0,0]
["LV Sub Generation Non-Intermittent",1,1,1,1,1,0,1,0,0]
["HV Generation Intermittent",1,1,1,1,1,0,0,0,0]
["HV Generation Non-Intermittent",1,1,1,1,1,0,0,0,0]
["HV Sub Generation Intermittent",1,1,1,1,0,0,0,0,0]
["HV Sub Generation Non-Intermittent",1,1,1,1,0,0,0,0,0]
[]
["2011. Network use factors for all tariffs"]
["Data sources:"]
["x1 = Network use factors including 132kV/HV for generation dominated tariffs"]
["x2 = Network use factors including 132kV/HV for HV Sub tariffs"]
["x3 = 2010. Network use factors: interim step in calculations before adjustments"]
["Combine tables = x1 or x2 or x3"]
[]
[null,"GSPs","132kV","132kV/EHV","EHV","EHV/HV","132kV/HV","HV","HV/LV","LV circuits"]
["Domestic Unrestricted",{"$f":"B167","v":1},1,1,1,1,0,1,1,1]
["Domestic Two Rate",{"$f":"B168","v":1},1,1,1,1,0,1,1,1]
["Domestic Off Peak (related MPAN)",{"$f":"B169","v":1},1,1,1,1,0,1,1,1]
["Small Non Domestic Unrestricted",{"$f":"B170","v":1},1,1,1,1,0,1,1,1]
["Small Non Domestic Two Rate",{"$f":"B171","v":1},1,1,1,1,0,1,1,1]
["Small Non Domestic Off Peak (related MPAN)",{"$f":"B172","v":1},1,1,1,1,0,1,1,1]
["LV Medium Non-Domestic",{"$f":"B173","v":1},1,1,1,1,0,1,1,1]
["LV Sub Medium Non-Domestic",{"$f":"B174","v":1},1,1,1,1,0,1,1,0]
["HV Medium Non-Domestic",{"$f":"B175","v":1},1,1,1,1,0,1,0,0]
["LV HH Metered",{"$f":"B176","v":1},1,1,1,1,0,1,1,1]
["LV Sub HH Metered",{"$f":"B177","v":1},1,1,1,1,0,1,1,0]
["HV HH Metered",{"$f":"B178","v":1},1,1,1,1,0,1,0,0]
["HV Sub HH Metered",1,1,1,1,1,0,0,0,0]
["NHH UMS category A",{"$f":"B180","v":1},1,1,1,1,0,1,1,1]
["NHH UMS category B",{"$f":"B181","v":1},1,1,1,1,0,1,1,1]
["NHH UMS category C",{"$f":"B182","v":1},1,1,1,1,0,1,1,1]
["NHH UMS category D",{"$f":"B183","v":1},1,1,1,1,0,1,1,1]
["LV UMS (Pseudo HH Metered)",{"$f":"B184","v":1},1,1,1,1,0,1,1,1]
["LV Generation NHH",{"$f":"B185","v":1},1,1,1,1,0,1,1,0]
["LV Sub Generation NHH",{"$f":"B186","v":1},1,1,1,1,0,1,0,0]
["LV Generation Intermittent",{"$f":"B187","v":1},1,1,1,1,0,1,1,0]
["LV Generation Non-Intermittent",{"$f":"B188","v":1},1,1,1,1,0,1,1,0]
["LV Sub Generation Intermittent",{"$f":"B189","v":1},1,1,1,1,0,1,0,0]
["LV Sub Generation Non-Intermittent",{"$f":"B190","v":1},1,1,1,1,0,1,0,0]
["HV Generation Intermittent",{"$f":"B191","v":1},1,1,1,1,0,0,0,0]
["HV Generation Non-Intermittent",{"$f":"B192","v":1},1,1,1,1,0,0,0,0]
["HV Sub Generation Intermittent",1,1,1,1,0,0,0,0,0]
["HV Sub Generation Non-Intermittent",1,1,1,1,0,0,0,0,0]
[]
["2012. Loss adjustment factors between end user meter reading and each network level, scaled by network use"]
["Data sources:"]
["x1 = 2004. Loss adjustment factor to transmission for each network level"]
["x2 = 2011. Network use factors for all tariffs"]
["x3 = 2001. Loss adjustment factor to transmission (in Loss adjustment factors to transmission)"]
["Calculation =IF(x1=\"\",x2,x2*x3/x1)"]
[]
[null,"GSPs","132kV","132kV/EHV","EHV","EHV/HV","132kV/HV","HV","HV/LV","LV circuits"]
["Domestic Unrestricted",{"$f":"IF(B$78=\"\",B204,B204*$I14/B$78)","v":1.077},1.0748502994011975,1.0737786640079761,1.070576540755467,1.0486854917234665,0,1.0316091954022988,1.0247383444338725,1]
["Domestic Two Rate",{"$f":"IF(B$78=\"\",B205,B205*$I15/B$78)","v":1.077},1.0748502994011975,1.0737786640079761,1.070576540755467,1.0486854917234665,0,1.0316091954022988,1.0247383444338725,1]
["Domestic Off Peak (related MPAN)",{"$f":"IF(B$78=\"\",B206,B206*$I16/B$78)","v":1.077},1.0748502994011975,1.0737786640079761,1.070576540755467,1.0486854917234665,0,1.0316091954022988,1.0247383444338725,1]
["Small Non Domestic Unrestricted",{"$f":"IF(B$78=\"\",B207,B207*$I17/B$78)","v":1.077},1.0748502994011975,1.0737786640079761,1.070576540755467,1.0486854917234665,0,1.0316091954022988,1.0247383444338725,1]
["Small Non Domestic Two Rate",{"$f":"IF(B$78=\"\",B208,B208*$I18/B$78)","v":1.077},1.0748502994011975,1.0737786640079761,1.070576540755467,1.0486854917234665,0,1.0316091954022988,1.0247383444338725,1]
["Small Non Domestic Off Peak (related MPAN)",{"$f":"IF(B$78=\"\",B209,B209*$I19/B$78)","v":1.077},1.0748502994011975,1.0737786640079761,1.070576540755467,1.0486854917234665,0,1.0316091954022988,1.0247383444338725,1]
["LV Medium Non-Domestic",{"$f":"IF(B$78=\"\",B210,B210*$I20/B$78)","v":1.077},1.0748502994011975,1.0737786640079761,1.070576540755467,1.0486854917234665,0,1.0316091954022988,1.0247383444338725,1]
["LV Sub Medium Non-Domestic",{"$f":"IF(B$78=\"\",B211,B211*$I21/B$78)","v":1.0509999999999999},1.0489021956087823,1.0478564307078764,1.044731610337972,1.0233690360272638,0,1.0067049808429118,1,0]
["HV Medium Non-Domestic",{"$f":"IF(B$78=\"\",B212,B212*$I22/B$78)","v":1.044},1.0419161676646707,1.0408773678963112,1.0377733598409542,1.0165530671859786,0,1,0,0]
["LV HH Metered",{"$f":"IF(B$78=\"\",B213,B213*$I23/B$78)","v":1.077},1.0748502994011975,1.0737786640079761,1.070576540755467,1.0486854917234665,0,1.0316091954022988,1.0247383444338725,1]
["LV Sub HH Metered",{"$f":"IF(B$78=\"\",B214,B214*$I24/B$78)","v":1.0509999999999999},1.0489021956087823,1.0478564307078764,1.044731610337972,1.0233690360272638,0,1.0067049808429118,1,0]
["HV HH Metered",{"$f":"IF(B$78=\"\",B215,B215*$I25/B$78)","v":1.044},1.0419161676646707,1.0408773678963112,1.0377733598409542,1.0165530671859786,0,1,0,0]
["HV Sub HH Metered",{"$f":"IF(B$78=\"\",B216,B216*$I26/B$78)","v":1.0269999999999999},1.0249500998003991,1.0239282153539382,1.0208747514910537,1,0,0,0,0]
["NHH UMS category A",{"$f":"IF(B$78=\"\",B217,B217*$I27/B$78)","v":1.077},1.0748502994011975,1.0737786640079761,1.070576540755467,1.0486854917234665,0,1.0316091954022988,1.0247383444338725,1]
["NHH UMS category B",{"$f":"IF(B$78=\"\",B218,B218*$I28/B$78)","v":1.077},1.0748502994011975,1.0737786640079761,1.070576540755467,1.0486854917234665,0,1.0316091954022988,1.0247383444338725,1]
["NHH UMS category C",{"$f":"IF(B$78=\"\",B219,B219*$I29/B$78)","v":1.077},1.0748502994011975,1.0737786640079761,1.070576540755467,1.0486854917234665,0,1.0316091954022988,1.0247383444338725,1]
["NHH UMS category D",{"$f":"IF(B$78=\"\",B220,B220*$I30/B$78)","v":1.077},1.0748502994011975,1.0737786640079761,1.070576540755467,1.0486854917234665,0,1.0316091954022988,1.0247383444338725,1]
["LV UMS (Pseudo HH Metered)",{"$f":"IF(B$78=\"\",B221,B221*$I31/B$78)","v":1.077},1.0748502994011975,1.0737786640079761,1.070576540755467,1.0486854917234665,0,1.0316091954022988,1.0247383444338725,1]
["LV Generation NHH",{"$f":"IF(B$78=\"\",B222,B222*$I32/B$78)","v":1.077},1.0748502994011975,1.0737786640079761,1.070576540755467,1.0486854917234665,0,1.0316091954022988,1.0247383444338725,0]
["LV Sub Generation NHH",{"$f":"IF(B$78=\"\",B223,B223*$I33/B$78)","v":1.0509999999999999},1.0489021956087823,1.0478564307078764,1.044731610337972,1.0233690360272638,0,1.0067049808429118,0,0]
["LV Generation Intermittent",{"$f":"IF(B$78=\"\",B224,B224*$I34/B$78)","v":1.077},1.0748502994011975,1.0737786640079761,1.070576540755467,1.0486854917234665,0,1.0316091954022988,1.0247383444338725,0]
["LV Generation Non-Intermittent",{"$f":"IF(B$78=\"\",B225,B225*$I35/B$78)","v":1.077},1.0748502994011975,1.0737786640079761,1.070576540755467,1.0486854917234665,0,1.0316091954022988,1.0247383444338725,0]
["LV Sub Generation Intermittent",{"$f":"IF(B$78=\"\",B226,B226*$I36/B$78)","v":1.0509999999999999},1.0489021956087823,1.0478564307078764,1.044731610337972,1.0233690360272638,0,1.0067049808429118,0,0]
["LV Sub Generation Non-Intermittent",{"$f":"IF(B$78=\"\",B227,B227*$I37/B$78)","v":1.0509999999999999},1.0489021956087823,1.0478564307078764,1.044731610337972,1.0233690360272638,0,1.0067049808429118,0,0]
["HV Generation Intermittent",{"$f":"IF(B$78=\"\",B228,B228*$I38/B$78)","v":1.044},1.0419161676646707,1.0408773678963112,1.0377733598409542,1.0165530671859786,0,0,0,0]
["HV Generation Non-Intermittent",{"$f":"IF(B$78=\"\",B229,B229*$I39/B$78)","v":1.044},1.0419161676646707,1.0408773678963112,1.0377733598409542,1.0165530671859786,0,0,0,0]
["HV Sub Generation Intermittent",{"$f":"IF(B$78=\"\",B230,B230*$I40/B$78)","v":1.0269999999999999},1.0249500998003991,1.0239282153539382,1.0208747514910537,0,0,0,0,0]
["HV Sub Generation Non-Intermittent",{"$f":"IF(B$78=\"\",B231,B231*$I41/B$78)","v":1.0269999999999999},1.0249500998003991,1.0239282153539382,1.0208747514910537,0,0,0,0,0]

{"sheet":"DRM","index":24,"n_rows":137,"n_cols":9,"rows_kept":137,"cut":false,"hidden":true,"merged":[]}
[{"$f":"\"r6140: Network model\"&\" for \"&Input!B7&\" in \"&Input!C7&\" (\"&Input!D7&\")\"","v":"r6140: Network model for WPD Mid West in April 2017 (0)"}]
["This sheet collects data from a network model and calculates aggregated annuitised unit costs from these data."]
[]
["2101. Annuity rate"]
["Data sources:"]
["x1 = 1010. Rate of return (in Financial and general assumptions)"]
["x2 = 1010. Annualisation period (years) (in Financial and general assumptions)"]
["x3 = 1010. Days in the charging year (in Financial and general assumptions)"]
["Calculation =PMT(x1,x2,-1)*IF(OR(x3>366,x3<365),x3/365.25,1)"]
[]
[null,"Annuity rate"]
["Annuity rate",{"$f":"PMT(Input!B14,Input!C14,-1)*IF(OR(Input!F14>366,Input!F14<365),Input!F14/365.25,1)","v":6.3140920184093619E-2}]
[]
["2102. Loss adjustment factor to transmission for each core level"]
["Data sources:"]
["x1 = 1032. Loss adjustment factors to transmission"]
["x2 = 1 for GSP level"]
["Combine tables = x1 or x2"]
[]
[null,"GSPs","132kV","132kV/EHV","EHV","EHV/HV","HV","HV/LV","LV circuits"]
["Loss adjustment factor to transmission for each core level",1,{"$f":"Input!$B105","v":1.002},{"$f":"Input!$C105","v":1.0029999999999999},{"$f":"Input!$D105","v":1.006},{"$f":"Input!$E105","v":1.0269999999999999},{"$f":"Input!$F105","v":1.044},{"$f":"Input!$G105","v":1.0509999999999999},{"$f":"Input!$H105","v":1.077}]
[]
["2103. Loss adjustment factors"]
["Data sources:"]
["x1 = 2102. Loss adjustment factor to transmission for each core level"]
["x2 = Loss adjustment factor to transmission for network level exit (in Loss adjustment factors)"]
["Kind:","Copy cells","Special copy"]
["Formula:","=x1","= x2"]
[]
[null,"Loss adjustment factor to transmission for network level exit","Loss adjustment factor to transmission for network level entry"]
["GSPs",{"$f":"$B$21","v":1}]
["132kV",{"$f":"$C$21","v":1.002},{"$f":"B31","v":1}]
["132kV/EHV",{"$f":"$D$21","v":1.0029999999999999},1.002]
["EHV",{"$f":"$E$21","v":1.006},1.0029999999999999]
["EHV/HV",{"$f":"$F$21","v":1.0269999999999999},1.006]
["HV",{"$f":"$G$21","v":1.044},1.0269999999999999]
["HV/LV",{"$f":"$H$21","v":1.0509999999999999},1.044]
["LV circuits",{"$f":"$I$21","v":1.077},1.0509999999999999]
[]
["2104. Diversity calculations"]
["Data sources:"]
["x1 = 1017. Diversity allowance between top and bottom of network level"]
["x2 = Coincidence to system peak at level exit (in Diversity calculations)"]
["Kind:","Special calculation","Special calculation","Special calculation"]
["Formula:","=previous/(1+x1)","=previous/(1+x1)","=1/x2-1"]
[]
[null,"Coincidence to GSP peak at level exit","Coincidence to system peak at level exit","Diversity allowance between level exit and GSP Group"]
["GSPs",null,{"$f":"1/(1+Input!B24)","v":0.946530126659337},{"$f":"1/C48-1","v":5.649040831841079E-2}]
["132kV",{"$f":"1/(1+Input!B25)","v":0.97506877605304432},{"$f":"C48/(1+Input!B25)","v":0.92293197209905276},8.3503476129090037E-2]
["132kV/EHV",{"$f":"B49/(1+Input!B26)","v":0.97506877605304432},{"$f":"C49/(1+Input!B26)","v":0.92293197209905276},8.3503476129090037E-2]
["EHV",{"$f":"B50/(1+Input!B27)","v":0.94977475777960851},{"$f":"C50/(1+Input!B27)","v":0.89899042177897392},0.11235890369236912]
["EHV/HV",{"$f":"B51/(1+Input!B28)","v":0.94977475777960851},{"$f":"C51/(1+Input!B28)","v":0.89899042177897392},0.11235890369236912]
["HV",{"$f":"B52/(1+Input!B29)","v":0.70878713267134963},{"$f":"C52/(1+Input!B29)","v":0.67088837446192084},0.49056093094777475]
["HV/LV",{"$f":"B53/(1+Input!B30)","v":0.70878713267134963},{"$f":"C53/(1+Input!B30)","v":0.67088837446192084},0.49056093094777475]
["LV circuits",{"$f":"B54/(1+Input!B31)","v":0.70878713267134963},{"$f":"C54/(1+Input!B31)","v":0.67088837446192084}]
[]
["2105. Network model total maximum demand at substation (MW)"]
["Data sources:"]
["x1 = 1019. Network model GSP peak demand (MW)"]
["x2 = 2104. Coincidence to GSP peak at level exit (in Diversity calculations)"]
["Calculation =x1/x2"]
[]
[null,"Network model total maximum demand at substation (MW)"]
["132kV",{"$f":"Input!B$41/B$49","v":512.78434124814976}]
["132kV/EHV",{"$f":"Input!B$41/B$50","v":512.78434124814976}]
["EHV",{"$f":"Input!B$41/B$51","v":526.44060700128966}]
["EHV/HV",{"$f":"Input!B$41/B$52","v":526.44060700128966}]
["HV",{"$f":"Input!B$41/B$53","v":705.43041338172816}]
["HV/LV",{"$f":"Input!B$41/B$54","v":705.43041338172816}]
["LV circuits",{"$f":"Input!B$41/B$55","v":705.43041338172816}]
[]
["2106. Network model contribution to system maximum load measured at network level exit (MW)"]
["Data sources:"]
["x1 = 2105. Network model total maximum demand at substation (MW)"]
["x2 = 2104. Coincidence to system peak at level exit (in Diversity calculations)"]
["x3 = 2103. Loss adjustment factor to transmission for network level exit (in Loss adjustment factors)"]
["Calculation =x1*x2/x3"]
[]
[null,"Network model contribution to system maximum load measured at network level exit (MW)"]
["132kV",{"$f":"B64*C$49/B$32","v":472.32042248469912}]
["132kV/EHV",{"$f":"B65*C$50/B$33","v":471.84951478531264}]
["EHV",{"$f":"B66*C$51/B$34","v":470.44240887641001}]
["EHV/HV",{"$f":"B67*C$52/B$35","v":460.82284647484761}]
["HV",{"$f":"B68*C$53/B$36","v":453.31902617784334}]
["HV/LV",{"$f":"B69*C$54/B$37","v":450.29977481414699}]
["LV circuits",{"$f":"B70*C$55/B$38","v":439.42902816125206}]
[]
["2107. Rerouteing matrix for DRM network levels"]
["Data sources:"]
["x1 = 1018. Proportion of relevant load going through 132kV/HV direct transformation"]
["x2 = 2006. Proportion going through 132kV/EHV"]
["x3 = 2007. Proportion going through EHV"]
["x4 = 2008. Proportion going through EHV/HV"]
["x5 = Rerouteing matrix: default elements"]
["Combine tables = x1 or x2 or x3 or x4 or x5"]
[]
[null,"132kV","132kV/EHV","EHV","EHV/HV","132kV/HV","HV","HV/LV","LV circuits"]
["132kV",1,0,0,0,0,0,0,0]
["132kV/EHV",0,{"$f":"LAFs!$B$121","v":1},0,0,0,0,0,0]
["EHV",0,0,{"$f":"LAFs!$B$129","v":1},0,0,0,0,0]
["EHV/HV",0,0,0,{"$f":"LAFs!$B$137","v":1},{"$f":"Input!$B$36","v":0},0,0,0]
["HV",0,0,0,0,0,1,0,0]
["HV/LV",0,0,0,0,0,0,1,0]
["LV circuits",0,0,0,0,0,0,0,1]
[]
["2108. GSP simultaneous maximum load assumed through each network level (MW)"]
["Data sources:"]
["x1 = 2106. Network model contribution to system maximum load measured at network level exit (MW)"]
["x2 = 2107. Rerouteing matrix for DRM network levels"]
["Sum-product calculation =SUMPRODUCT(x1, x2)"]
[]
[null,"GSP simultaneous maximum load assumed through each network level (MW)"]
["132kV",{"$f":"SUMPRODUCT(B$80:B$86,$B$98:$B$104)","v":472.32042248469912}]
["132kV/EHV",{"$f":"SUMPRODUCT(B$80:B$86,$C$98:$C$104)","v":471.84951478531264}]
["EHV",{"$f":"SUMPRODUCT(B$80:B$86,$D$98:$D$104)","v":470.44240887641001}]
["EHV/HV",{"$f":"SUMPRODUCT(B$80:B$86,$E$98:$E$104)","v":460.82284647484761}]
["132kV/HV",{"$f":"SUMPRODUCT(B$80:B$86,$F$98:$F$104)","v":0}]
["HV",{"$f":"SUMPRODUCT(B$80:B$86,$G$98:$G$104)","v":453.31902617784334}]
["HV/LV",{"$f":"SUMPRODUCT(B$80:B$86,$H$98:$H$104)","v":450.29977481414699}]
["LV circuits",{"$f":"SUMPRODUCT(B$80:B$86,$I$98:$I$104)","v":439.42902816125206}]
[]
["2109. Network model annuity by simultaneous maximum load for each network level (£/kW/year)"]
["Data sources:"]
["x1 = 2108. GSP simultaneous maximum load assumed through each network level (MW)"]
["x2 = 1020. Gross asset cost by network level (£)"]
["x3 = 2101. Annuity rate"]
["Calculation =IF(x1,0.001*x2*x3/x1,0)"]
[]
[null,"Model £/kW SML"]
["Assets 132kV",{"$f":"IF(B113,0.001*Input!B46*B$12/B113,0)","v":9.8297883865119324}]
["Assets 132kV/EHV",{"$f":"IF(B114,0.001*Input!B47*B$12/B114,0)","v":1.5344815086215395}]
["Assets EHV",{"$f":"IF(B115,0.001*Input!B48*B$12/B115,0)","v":1.7726793371070457}]
["Assets EHV/HV",{"$f":"IF(B116,0.001*Input!B49*B$12/B116,0)","v":3.0920743951476983}]
["Assets 132kV/HV",{"$f":"IF(B117,0.001*Input!B50*B$12/B117,0)","v":0}]
["Assets HV",{"$f":"IF(B118,0.001*Input!B51*B$12/B118,0)","v":16.043280726604685}]
["Assets HV/LV",{"$f":"IF(B119,0.001*Input!B52*B$12/B119,0)","v":10.127780887045329}]
["Assets LV circuits",{"$f":"IF(B120,0.001*Input!B53*B$12/B120,0)","v":14.435985070685131}]

{"sheet":"SM","index":25,"n_rows":135,"n_cols":4,"rows_kept":135,"cut":false,"hidden":true,"merged":[]}
[{"$f":"\"r6140: Service models\"&\" for \"&Input!B7&\" in \"&Input!C7&\" (\"&Input!D7&\")\"","v":"r6140: Service models for WPD Mid West in April 2017 (0)"}]
["This sheet collects and processes data from the service models."]
[]
["2201. Asset £/customer from LV service models"]
["Data sources:"]
["x1 = 1025. Matrix of applicability of LV service models to tariffs with fixed charges"]
["x2 = 1022. LV service model asset cost (£)"]
["Sum-product calculation =SUMPRODUCT(x1, x2)"]
[]
[null,"Assets\nLV customer"]
["Domestic Unrestricted",{"$f":"SUMPRODUCT(Input!$B68:$I68,Input!$B$58:$I$58)","v":248.84142702901565}]
["Domestic Two Rate",{"$f":"SUMPRODUCT(Input!$B69:$I69,Input!$B$58:$I$58)","v":248.84142702901565}]
["Small Non Domestic Unrestricted",{"$f":"SUMPRODUCT(Input!$B70:$I70,Input!$B$58:$I$58)","v":614.37973984590587}]
["Small Non Domestic Two Rate",{"$f":"SUMPRODUCT(Input!$B71:$I71,Input!$B$58:$I$58)","v":614.37973984590587}]
["LV Medium Non-Domestic",{"$f":"SUMPRODUCT(Input!$B72:$I72,Input!$B$58:$I$58)","v":725.73350957316006}]
["LV Sub Medium Non-Domestic",{"$f":"SUMPRODUCT(Input!$B73:$I73,Input!$B$58:$I$58)","v":540.65800203235187}]
["LV HH Metered",{"$f":"SUMPRODUCT(Input!$B74:$I74,Input!$B$58:$I$58)","v":1240.5910266666863}]
["LV Sub HH Metered",{"$f":"SUMPRODUCT(Input!$B75:$I75,Input!$B$58:$I$58)","v":911.15687623249823}]
["LV Generation NHH",{"$f":"SUMPRODUCT(Input!$B76:$I76,Input!$B$58:$I$58)","v":0}]
["LV Sub Generation NHH",{"$f":"SUMPRODUCT(Input!$B77:$I77,Input!$B$58:$I$58)","v":0}]
["LV Generation Intermittent",{"$f":"SUMPRODUCT(Input!$B78:$I78,Input!$B$58:$I$58)","v":0}]
["LV Generation Non-Intermittent",{"$f":"SUMPRODUCT(Input!$B79:$I79,Input!$B$58:$I$58)","v":0}]
["LV Sub Generation Intermittent",{"$f":"SUMPRODUCT(Input!$B80:$I80,Input!$B$58:$I$58)","v":0}]
["LV Sub Generation Non-Intermittent",{"$f":"SUMPRODUCT(Input!$B81:$I81,Input!$B$58:$I$58)","v":0}]
[]
["2202. Asset £/(MWh/year) from LV service models"]
["Data sources:"]
["x1 = 1026. Matrix of applicability of LV service models to unmetered tariffs"]
["x2 = 1022. LV service model asset cost (£)"]
["Sum-product calculation =SUMPRODUCT(x1, x2)"]
[]
[null,"Assets\nLV customer"]
["Asset £/(MWh/year) from LV service models",{"$f":"SUMPRODUCT(Input!$B88:$I88,Input!$B$58:$I$58)","v":233.2040302383696}]
[]
["2203. Service model asset p/kWh charge for unmetered tariffs"]
["Data sources:"]
["x1 = 1010. Annuity proportion for customer-contributed assets (in Financial and general assumptions)"]
["x2 = 2202. Asset £/(MWh/year) from LV service models"]
["x3 = 2101. Annuity rate"]
["Calculation =0.1*x1*x2*x3"]
[]
[null,"Assets\nLV customer"]
["Service model asset p/kWh charge for unmetered tariffs",{"$f":"0.1*Input!$D14*B33*DRM!$B12","v":0}]
[]
["2204. Asset £/customer from HV service models"]
["Data sources:"]
["x1 = 1028. Matrix of applicability of HV service models to tariffs with fixed charges"]
["x2 = 1023. HV service model asset cost (£)"]
["Sum-product calculation =SUMPRODUCT(x1, x2)"]
[]
[null,"Assets\nHV customer"]
["HV Medium Non-Domestic",{"$f":"SUMPRODUCT(Input!$B93:$F93,Input!$B$63:$F$63)","v":8908.4978280000014}]
["HV HH Metered",{"$f":"SUMPRODUCT(Input!$B94:$F94,Input!$B$63:$F$63)","v":8908.4978280000014}]
["HV Sub HH Metered",{"$f":"SUMPRODUCT(Input!$B95:$F95,Input!$B$63:$F$63)","v":8908.4978280000014}]
["HV Generation Intermittent",{"$f":"SUMPRODUCT(Input!$B96:$F96,Input!$B$63:$F$63)","v":4378.0032000000001}]
["HV Generation Non-Intermittent",{"$f":"SUMPRODUCT(Input!$B97:$F97,Input!$B$63:$F$63)","v":4378.0032000000001}]
["HV Sub Generation Intermittent",{"$f":"SUMPRODUCT(Input!$B98:$F98,Input!$B$63:$F$63)","v":4378.0032000000001}]
["HV Sub Generation Non-Intermittent",{"$f":"SUMPRODUCT(Input!$B99:$F99,Input!$B$63:$F$63)","v":4378.0032000000001}]
[]
["2205. Service model assets by tariff (£)"]
["Data sources:"]
["x1 = 2201. Asset £/customer from LV service models"]
["x2 = 2204. Asset £/customer from HV service models"]
["Combine tables = x1 or x2"]
[]
[null,"Assets\nLV customer","Assets\nHV customer"]
["Domestic Unrestricted",{"$f":"$B$11","v":248.84142702901565}]
["Domestic Two Rate",{"$f":"$B$12","v":248.84142702901565}]
["Domestic Off Peak (related MPAN)"]
["Small Non Domestic Unrestricted",{"$f":"$B$13","v":614.37973984590587}]
["Small Non Domestic Two Rate",{"$f":"$B$14","v":614.37973984590587}]
["Small Non Domestic Off Peak (related MPAN)"]
["LV Medium Non-Domestic",{"$f":"$B$15","v":725.73350957316006}]
["LV Sub Medium Non-Domestic",{"$f":"$B$16","v":540.65800203235187}]
["HV Medium Non-Domestic",null,{"$f":"$B$52","v":8908.4978280000014}]
["LV HH Metered",{"$f":"$B$17","v":1240.5910266666863}]
["LV Sub HH Metered",{"$f":"$B$18","v":911.15687623249823}]
["HV HH Metered",null,{"$f":"$B$53","v":8908.4978280000014}]
["HV Sub HH Metered",null,{"$f":"$B$54","v":8908.4978280000014}]
["NHH UMS category A"]
["NHH UMS category B"]
["NHH UMS category C"]
["NHH UMS category D"]
["LV UMS (Pseudo HH Metered)"]
["LV Generation NHH",{"$f":"$B$19","v":0}]
["LV Sub Generation NHH",{"$f":"$B$20","v":0}]
["LV Generation Intermittent",{"$f":"$B$21","v":0}]
["LV Generation Non-Intermittent",{"$f":"$B$22","v":0}]
["LV Sub Generation Intermittent",{"$f":"$B$23","v":0}]
["LV Sub Generation Non-Intermittent",{"$f":"$B$24","v":0}]
["HV Generation Intermittent",null,{"$f":"$B$55","v":4378.0032000000001}]
["HV Generation Non-Intermittent",null,{"$f":"$B$56","v":4378.0032000000001}]
["HV Sub Generation Intermittent",null,{"$f":"$B$57","v":4378.0032000000001}]
["HV Sub Generation Non-Intermittent",null,{"$f":"$B$58","v":4378.0032000000001}]
[]
["2206. Replacement annuities for service models"]
["Data sources:"]
["x1 = 1010. Days in the charging year (in Financial and general assumptions)"]
["x2 = 2205. Service model assets by tariff (£)"]
["x3 = 2101. Annuity rate"]
["x4 = 1010. Annuity proportion for customer-contributed assets (in Financial and general assumptions)"]
["x5 = Service model p/MPAN/day charge (in Replacement annuities for service models)"]
["Kind:","Calculation",null,"Cell summation"]
["Formula:","=100/x1*x2*x3*x4",null,"=SUM(x5)"]
[]
[null,"Service model p/MPAN/day charge"]
[null,"Assets\nLV customer","Assets\nHV customer","Service model p/MPAN/day"]
["Domestic Unrestricted",{"$f":"100/Input!$F$14*B67*DRM!$B$12*Input!$D$14","v":0},{"$f":"100/Input!$F$14*C67*DRM!$B$12*Input!$D$14","v":0},{"$f":"SUM($B108:$C108)","v":0}]
["Domestic Two Rate",{"$f":"100/Input!$F$14*B68*DRM!$B$12*Input!$D$14","v":0},{"$f":"100/Input!$F$14*C68*DRM!$B$12*Input!$D$14","v":0},0]
["Domestic Off Peak (related MPAN)",{"$f":"100/Input!$F$14*B69*DRM!$B$12*Input!$D$14","v":0},{"$f":"100/Input!$F$14*C69*DRM!$B$12*Input!$D$14","v":0},0]
["Small Non Domestic Unrestricted",{"$f":"100/Input!$F$14*B70*DRM!$B$12*Input!$D$14","v":0},{"$f":"100/Input!$F$14*C70*DRM!$B$12*Input!$D$14","v":0},0]
["Small Non Domestic Two Rate",{"$f":"100/Input!$F$14*B71*DRM!$B$12*Input!$D$14","v":0},{"$f":"100/Input!$F$14*C71*DRM!$B$12*Input!$D$14","v":0},0]
["Small Non Domestic Off Peak (related MPAN)",{"$f":"100/Input!$F$14*B72*DRM!$B$12*Input!$D$14","v":0},{"$f":"100/Input!$F$14*C72*DRM!$B$12*Input!$D$14","v":0},0]
["LV Medium Non-Domestic",{"$f":"100/Input!$F$14*B73*DRM!$B$12*Input!$D$14","v":0},{"$f":"100/Input!$F$14*C73*DRM!$B$12*Input!$D$14","v":0},0]
["LV Sub Medium Non-Domestic",{"$f":"100/Input!$F$14*B74*DRM!$B$12*Input!$D$14","v":0},{"$f":"100/Input!$F$14*C74*DRM!$B$12*Input!$D$14","v":0},0]
["HV Medium Non-Domestic",{"$f":"100/Input!$F$14*B75*DRM!$B$12*Input!$D$14","v":0},{"$f":"100/Input!$F$14*C75*DRM!$B$12*Input!$D$14","v":0},0]
["LV HH Metered",{"$f":"100/Input!$F$14*B76*DRM!$B$12*Input!$D$14","v":0},{"$f":"100/Input!$F$14*C76*DRM!$B$12*Input!$D$14","v":0},0]
["LV Sub HH Metered",{"$f":"100/Input!$F$14*B77*DRM!$B$12*Input!$D$14","v":0},{"$f":"100/Input!$F$14*C77*DRM!$B$12*Input!$D$14","v":0},0]
["HV HH Metered",{"$f":"100/Input!$F$14*B78*DRM!$B$12*Input!$D$14","v":0},{"$f":"100/Input!$F$14*C78*DRM!$B$12*Input!$D$14","v":0},0]
["HV Sub HH Metered",{"$f":"100/Input!$F$14*B79*DRM!$B$12*Input!$D$14","v":0},{"$f":"100/Input!$F$14*C79*DRM!$B$12*Input!$D$14","v":0},0]
["NHH UMS category A",{"$f":"100/Input!$F$14*B80*DRM!$B$12*Input!$D$14","v":0},{"$f":"100/Input!$F$14*C80*DRM!$B$12*Input!$D$14","v":0},0]
["NHH UMS category B",{"$f":"100/Input!$F$14*B81*DRM!$B$12*Input!$D$14","v":0},{"$f":"100/Input!$F$14*C81*DRM!$B$12*Input!$D$14","v":0},0]
["NHH UMS category C",{"$f":"100/Input!$F$14*B82*DRM!$B$12*Input!$D$14","v":0},{"$f":"100/Input!$F$14*C82*DRM!$B$12*Input!$D$14","v":0},0]
["NHH UMS category D",{"$f":"100/Input!$F$14*B83*DRM!$B$12*Input!$D$14","v":0},{"$f":"100/Input!$F$14*C83*DRM!$B$12*Input!$D$14","v":0},0]
["LV UMS (Pseudo HH Metered)",{"$f":"100/Input!$F$14*B84*DRM!$B$12*Input!$D$14","v":0},{"$f":"100/Input!$F$14*C84*DRM!$B$12*Input!$D$14","v":0},0]
["LV Generation NHH",{"$f":"100/Input!$F$14*B85*DRM!$B$12*Input!$D$14","v":0},{"$f":"100/Input!$F$14*C85*DRM!$B$12*Input!$D$14","v":0},0]
["LV Sub Generation NHH",{"$f":"100/Input!$F$14*B86*DRM!$B$12*Input!$D$14","v":0},{"$f":"100/Input!$F$14*C86*DRM!$B$12*Input!$D$14","v":0},0]
["LV Generation Intermittent",{"$f":"100/Input!$F$14*B87*DRM!$B$12*Input!$D$14","v":0},{"$f":"100/Input!$F$14*C87*DRM!$B$12*Input!$D$14","v":0},0]
["LV Generation Non-Intermittent",{"$f":"100/Input!$F$14*B88*DRM!$B$12*Input!$D$14","v":0},{"$f":"100/Input!$F$14*C88*DRM!$B$12*Input!$D$14","v":0},0]
["LV Sub Generation Intermittent",{"$f":"100/Input!$F$14*B89*DRM!$B$12*Input!$D$14","v":0},{"$f":"100/Input!$F$14*C89*DRM!$B$12*Input!$D$14","v":0},0]
["LV Sub Generation Non-Intermittent",{"$f":"100/Input!$F$14*B90*DRM!$B$12*Input!$D$14","v":0},{"$f":"100/Input!$F$14*C90*DRM!$B$12*Input!$D$14","v":0},0]
["HV Generation Intermittent",{"$f":"100/Input!$F$14*B91*DRM!$B$12*Input!$D$14","v":0},{"$f":"100/Input!$F$14*C91*DRM!$B$12*Input!$D$14","v":0},0]
["HV Generation Non-Intermittent",{"$f":"100/Input!$F$14*B92*DRM!$B$12*Input!$D$14","v":0},{"$f":"100/Input!$F$14*C92*DRM!$B$12*Input!$D$14","v":0},0]
["HV Sub Generation Intermittent",{"$f":"100/Input!$F$14*B93*DRM!$B$12*Input!$D$14","v":0},{"$f":"100/Input!$F$14*C93*DRM!$B$12*Input!$D$14","v":0},0]
["HV Sub Generation Non-Intermittent",{"$f":"100/Input!$F$14*B94*DRM!$B$12*Input!$D$14","v":0},{"$f":"100/Input!$F$14*C94*DRM!$B$12*Input!$D$14","v":0},0]

{"sheet":"Loads","index":26,"n_rows":325,"n_cols":9,"rows_kept":325,"cut":false,"hidden":true,"merged":[]}
[{"$f":"\"r6140: Load characteristics\"&\" for \"&Input!B7&\" in \"&Input!C7&\" (\"&Input!D7&\")\"","v":"r6140: Load characteristics for WPD Mid West in April 2017 (0)"}]
["This sheet compiles information about the assumed characteristics of network users."]
[]
["A load factor represents the average load of a user or user group, relative to the maximum load level of that user or"]
["user group. Load factors are numbers between 0 and 1."]
[]
["A coincidence factor represents the expectation value of the load of a user or user group at the time of system maximum load,"]
["relative to the maximum load level of that user or user group.  Coincidence factors are numbers between 0 and 1."]
["A load coefficient is the expectation value of the load of a user or user group at the time of system maximum load, relative to the average load level of that user or user group."]
["For demand users, the load coefficient is a demand coefficient and can be calculated as the ratio of the coincidence factor to the load factor."]
[]
["2301. Demand coefficient (load at time of system maximum load divided by average load)"]
["Data sources:"]
["x1 = 1041. Coincidence factor to system maximum load for each type of demand user (in Load profile data for demand users)"]
["x2 = 1041. Load factor for each type of demand user (in Load profile data for demand users)"]
["Calculation =x1/x2"]
[]
[null,"Demand coefficient"]
["Domestic Unrestricted",{"$f":"Input!B117/Input!C117","v":2.2293958733864092}]
["Domestic Two Rate",{"$f":"Input!B118/Input!C118","v":1.568050291418098}]
["Domestic Off Peak (related MPAN)",{"$f":"Input!B119/Input!C119","v":0}]
["Small Non Domestic Unrestricted",{"$f":"Input!B120/Input!C120","v":1.7593227227741666}]
["Small Non Domestic Two Rate",{"$f":"Input!B121/Input!C121","v":1.4366814334386415}]
["Small Non Domestic Off Peak (related MPAN)",{"$f":"Input!B122/Input!C122","v":0}]
["LV Medium Non-Domestic",{"$f":"Input!B123/Input!C123","v":1.6354462212035286}]
["LV Sub Medium Non-Domestic",{"$f":"Input!B124/Input!C124","v":1.6354462212035286}]
["HV Medium Non-Domestic",{"$f":"Input!B125/Input!C125","v":1.447383804795336}]
["LV HH Metered",{"$f":"Input!B126/Input!C126","v":1.4673672256115338}]
["LV Sub HH Metered",{"$f":"Input!B127/Input!C127","v":1.4673672256115338}]
["HV HH Metered",{"$f":"Input!B128/Input!C128","v":1.2000793008200183}]
["HV Sub HH Metered",{"$f":"Input!B129/Input!C129","v":1.2000793008200183}]
["NHH UMS category A",{"$f":"Input!B130/Input!C130","v":1}]
["NHH UMS category B",{"$f":"Input!B131/Input!C131","v":2.1111167503955843}]
["NHH UMS category C",{"$f":"Input!B132/Input!C132","v":3.8759689922480618}]
["NHH UMS category D",{"$f":"Input!B133/Input!C133","v":0.11597347799879444}]
["LV UMS (Pseudo HH Metered)",{"$f":"Input!B134/Input!C134","v":2.0377177644656816}]
[]
["2302. Load coefficient"]
["Data sources:"]
["x1 = 2301. Demand coefficient (load at time of system maximum load divided by average load)"]
["x2 = Negative of generation coefficient; set to -1"]
["Combine tables = x1 or x2"]
[]
[null,"Load coefficient"]
["Domestic Unrestricted",{"$f":"B$19","v":2.2293958733864092}]
["Domestic Two Rate",{"$f":"B$20","v":1.568050291418098}]
["Domestic Off Peak (related MPAN)",{"$f":"B$21","v":0}]
["Small Non Domestic Unrestricted",{"$f":"B$22","v":1.7593227227741666}]
["Small Non Domestic Two Rate",{"$f":"B$23","v":1.4366814334386415}]
["Small Non Domestic Off Peak (related MPAN)",{"$f":"B$24","v":0}]
["LV Medium Non-Domestic",{"$f":"B$25","v":1.6354462212035286}]
["LV Sub Medium Non-Domestic",{"$f":"B$26","v":1.6354462212035286}]
["HV Medium Non-Domestic",{"$f":"B$27","v":1.447383804795336}]
["LV HH Metered",{"$f":"B$28","v":1.4673672256115338}]
["LV Sub HH Metered",{"$f":"B$29","v":1.4673672256115338}]
["HV HH Metered",{"$f":"B$30","v":1.2000793008200183}]
["HV Sub HH Metered",{"$f":"B$31","v":1.2000793008200183}]
["NHH UMS category A",{"$f":"B$32","v":1}]
["NHH UMS category B",{"$f":"B$33","v":2.1111167503955843}]
["NHH UMS category C",{"$f":"B$34","v":3.8759689922480618}]
["NHH UMS category D",{"$f":"B$35","v":0.11597347799879444}]
["LV UMS (Pseudo HH Metered)",{"$f":"B$36","v":2.0377177644656816}]
["LV Generation NHH",-1]
["LV Sub Generation NHH",-1]
["LV Generation Intermittent",-1]
["LV Generation Non-Intermittent",-1]
["LV Sub Generation Intermittent",-1]
["LV Sub Generation Non-Intermittent",-1]
["HV Generation Intermittent",-1]
["HV Generation Non-Intermittent",-1]
["HV Sub Generation Intermittent",-1]
["HV Sub Generation Non-Intermittent",-1]
[]
["2303. Discount map"]
[]
[null,"No discount","LDNO LV: LV user","LDNO HV: LV user","LDNO HV: LV sub user","LDNO HV: HV user"]
["> Domestic Unrestricted"]
["Domestic Unrestricted",1,0,0,0,0]
["LDNO LV: Domestic Unrestricted",0,1,0,0,0]
["LDNO HV: Domestic Unrestricted",0,0,1,0,0]
["> Domestic Two Rate"]
["Domestic Two Rate",1,0,0,0,0]
["LDNO LV: Domestic Two Rate",0,1,0,0,0]
["LDNO HV: Domestic Two Rate",0,0,1,0,0]
["> Domestic Off Peak (related MPAN)"]
["Domestic Off Peak (related MPAN)",1,0,0,0,0]
["LDNO LV: Domestic Off Peak (related MPAN)",0,1,0,0,0]
["LDNO HV: Domestic Off Peak (related MPAN)",0,0,1,0,0]
["> Small Non Domestic Unrestricted"]
["Small Non Domestic Unrestricted",1,0,0,0,0]
["LDNO LV: Small Non Domestic Unrestricted",0,1,0,0,0]
["LDNO HV: Small Non Domestic Unrestricted",0,0,1,0,0]
["> Small Non Domestic Two Rate"]
["Small Non Domestic Two Rate",1,0,0,0,0]
["LDNO LV: Small Non Domestic Two Rate",0,1,0,0,0]
["LDNO HV: Small Non Domestic Two Rate",0,0,1,0,0]
["> Small Non Domestic Off Peak (related MPAN)"]
["Small Non Domestic Off Peak (related MPAN)",1,0,0,0,0]
["LDNO LV: Small Non Domestic Off Peak (related MPAN)",0,1,0,0,0]
["LDNO HV: Small Non Domestic Off Peak (related MPAN)",0,0,1,0,0]
["> LV Medium Non-Domestic"]
["LV Medium Non-Domestic",1,0,0,0,0]
["LDNO LV: LV Medium Non-Domestic",0,1,0,0,0]
["LDNO HV: LV Medium Non-Domestic",0,0,1,0,0]
["> LV Sub Medium Non-Domestic"]
["LV Sub Medium Non-Domestic",1,0,0,0,0]
["> HV Medium Non-Domestic"]
["HV Medium Non-Domestic",1,0,0,0,0]
["> LV HH Metered"]
["LV HH Metered",1,0,0,0,0]
["LDNO LV: LV HH Metered",0,1,0,0,0]
["LDNO HV: LV HH Metered",0,0,1,0,0]
["> LV Sub HH Metered"]
["LV Sub HH Metered",1,0,0,0,0]
["LDNO HV: LV Sub HH Metered",0,0,0,1,0]
["> HV HH Metered"]
["HV HH Metered",1,0,0,0,0]
["LDNO HV: HV HH Metered",0,0,0,0,1]
["> HV Sub HH Metered"]
["HV Sub HH Metered",1,0,0,0,0]
["> NHH UMS category A"]
["NHH UMS category A",1,0,0,0,0]
["LDNO LV: NHH UMS category A",0,1,0,0,0]
["LDNO HV: NHH UMS category A",0,0,1,0,0]
["> NHH UMS category B"]
["NHH UMS category B",1,0,0,0,0]
["LDNO LV: NHH UMS category B",0,1,0,0,0]
["LDNO HV: NHH UMS category B",0,0,1,0,0]
["> NHH UMS category C"]
["NHH UMS category C",1,0,0,0,0]
["LDNO LV: NHH UMS category C",0,1,0,0,0]
["LDNO HV: NHH UMS category C",0,0,1,0,0]
["> NHH UMS category D"]
["NHH UMS category D",1,0,0,0,0]
["LDNO LV: NHH UMS category D",0,1,0,0,0]
["LDNO HV: NHH UMS category D",0,0,1,0,0]
["> LV UMS (Pseudo HH Metered)"]
["LV UMS (Pseudo HH Metered)",1,0,0,0,0]
["LDNO LV: LV UMS (Pseudo HH Metered)",0,1,0,0,0]
["LDNO HV: LV UMS (Pseudo HH Metered)",0,0,1,0,0]
["> LV Generation NHH"]
["LV Generation NHH",1,0,0,0,0]
["LDNO LV: LV Generation NHH",1,0,0,0,0]
["LDNO HV: LV Generation NHH",1,0,0,0,0]
["> LV Sub Generation NHH"]
["LV Sub Generation NHH",1,0,0,0,0]
["LDNO HV: LV Sub Generation NHH",1,0,0,0,0]
["> LV Generation Intermittent"]
["LV Generation Intermittent",1,0,0,0,0]
["LDNO LV: LV Generation Intermittent",1,0,0,0,0]
["LDNO HV: LV Generation Intermittent",1,0,0,0,0]
["> LV Generation Non-Intermittent"]
["LV Generation Non-Intermittent",1,0,0,0,0]
["LDNO LV: LV Generation Non-Intermittent",1,0,0,0,0]
["LDNO HV: LV Generation Non-Intermittent",1,0,0,0,0]
["> LV Sub Generation Intermittent"]
["LV Sub Generation Intermittent",1,0,0,0,0]
["LDNO HV: LV Sub Generation Intermittent",1,0,0,0,0]
["> LV Sub Generation Non-Intermittent"]
["LV Sub Generation Non-Intermittent",1,0,0,0,0]
["LDNO HV: LV Sub Generation Non-Intermittent",1,0,0,0,0]
["> HV Generation Intermittent"]
["HV Generation Intermittent",1,0,0,0,0]
["LDNO HV: HV Generation Intermittent",1,0,0,0,0]
["> HV Generation Non-Intermittent"]
["HV Generation Non-Intermittent",1,0,0,0,0]
["LDNO HV: HV Generation Non-Intermittent",1,0,0,0,0]
["> HV Sub Generation Intermittent"]
["HV Sub Generation Intermittent",1,0,0,0,0]
["> HV Sub Generation Non-Intermittent"]
["HV Sub Generation Non-Intermittent",1,0,0,0,0]
[]
["2304. LDNO discounts and volumes adjusted for discount"]
["Data sources:"]
["x1 = 2303. Discount map"]
["x2 = 1037. Embedded network (LDNO) discounts"]
["x3 = 100 per cent discount for generators on LDNO networks"]
["x4 = Discount for each tariff (except for fixed charges) (in LDNO discounts and volumes adjusted for discount)"]
["x5 = 1053. Rate 1 units (MWh) by tariff (in Volume forecasts for the charging year)"]
["x6 = 1053. Rate 2 units (MWh) by tariff (in Volume forecasts for the charging year)"]
["x7 = 1053. Rate 3 units (MWh) by tariff (in Volume forecasts for the charging year)"]
["x8 = 1053. MPANs by tariff (in Volume forecasts for the charging year)"]
["x9 = Discount for each tariff  for fixed charges only (in LDNO discounts and volumes adjusted for discount)"]
["x10 = 1053. Import capacity (kVA) by tariff (in Volume forecasts for the charging year)"]
["x11 = 1053. Reactive power units (MVArh) by tariff (in Volume forecasts for the charging year)"]
["Kind:","Sum-product calculation","Combine tables","Calculation","Calculation","Calculation","Calculation","Calculation","Calculation"]
["Formula:","=SUMPRODUCT(x1, x2)","= x3 or x4","=x5*(1-x4)","=x6*(1-x4)","=x7*(1-x4)","=x8*(1-x9)","=x10*(1-x4)","=x11*(1-x4)"]
[]
[null,"Discount for each tariff (except for fixed charges)","Discount for each tariff  for fixed charges only","Rate 1 units (MWh)","Rate 2 units (MWh)","Rate 3 units (MWh)","MPANs","Import capacity (kVA)","Reactive power units (MVArh)"]
["> Domestic Unrestricted"]
["Domestic Unrestricted",{"$f":"SUMPRODUCT($B78:$F78,Input!$B$111:$F$111)","v":0},{"$f":"B191","v":0},{"$f":"Input!B143*(1-B191)","v":6905007.2310872134},{"$f":"Input!C143*(1-B191)","v":0},{"$f":"Input!D143*(1-B191)","v":0},{"$f":"Input!E143*(1-C191)","v":2000771.41123502},{"$f":"Input!F143*(1-B191)","v":0},{"$f":"Input!G143*(1-B191)","v":0}]
["LDNO LV: Domestic Unrestricted",{"$f":"SUMPRODUCT($B79:$F79,Input!$B$111:$F$111)","v":0.30883183558962979},{"$f":"B192","v":0.30883183558962979},{"$f":"Input!B144*(1-B192)","v":4571.2530327947879},{"$f":"Input!C144*(1-B192)","v":0},{"$f":"Input!D144*(1-B192)","v":0},{"$f":"Input!E144*(1-C192)","v":3060.3337065638739},{"$f":"Input!F144*(1-B192)","v":0},{"$f":"Input!G144*(1-B192)","v":0}]
["LDNO HV: Domestic Unrestricted",{"$f":"SUMPRODUCT($B80:$F80,Input!$B$111:$F$111)","v":0.5007791580188965},{"$f":"B193","v":0.5007791580188965},{"$f":"Input!B145*(1-B193)","v":10297.235587744923},{"$f":"Input!C145*(1-B193)","v":0},{"$f":"Input!D145*(1-B193)","v":0},{"$f":"Input!E145*(1-C193)","v":5155.9502596580442},{"$f":"Input!F145*(1-B193)","v":0},{"$f":"Input!G145*(1-B193)","v":0}]
["> Domestic Two Rate"]
["Domestic Two Rate",{"$f":"SUMPRODUCT($B82:$F82,Input!$B$111:$F$111)","v":0},{"$f":"B195","v":0},{"$f":"Input!B147*(1-B195)","v":990183.65443460888},{"$f":"Input!C147*(1-B195)","v":740509.28799821471},{"$f":"Input!D147*(1-B195)","v":0},{"$f":"Input!E147*(1-C195)","v":327392.75241817994},{"$f":"Input!F147*(1-B195)","v":0},{"$f":"Input!G147*(1-B195)","v":0}]
["LDNO LV: Domestic Two Rate",{"$f":"SUMPRODUCT($B83:$F83,Input!$B$111:$F$111)","v":0.30883183558962979},{"$f":"B196","v":0.30883183558962979},{"$f":"Input!B148*(1-B196)","v":177.98394110396848},{"$f":"Input!C148*(1-B196)","v":104.18575400882943},{"$f":"Input!D148*(1-B196)","v":0},{"$f":"Input!E148*(1-C196)","v":120.11180469945167},{"$f":"Input!F148*(1-B196)","v":0},{"$f":"Input!G148*(1-B196)","v":0}]
["LDNO HV: Domestic Two Rate",{"$f":"SUMPRODUCT($B84:$F84,Input!$B$111:$F$111)","v":0.5007791580188965},{"$f":"B197","v":0.5007791580188965},{"$f":"Input!B149*(1-B197)","v":185.52381353863868},{"$f":"Input!C149*(1-B197)","v":171.89309716025346},{"$f":"Input!D149*(1-B197)","v":0},{"$f":"Input!E149*(1-C197)","v":137.66517066089483},{"$f":"Input!F149*(1-B197)","v":0},{"$f":"Input!G149*(1-B197)","v":0}]
["> Domestic Off Peak (related MPAN)"]
["Domestic Off Peak (related MPAN)",{"$f":"SUMPRODUCT($B86:$F86,Input!$B$111:$F$111)","v":0},{"$f":"B199","v":0},{"$f":"Input!B151*(1-B199)","v":36292.302861451186},{"$f":"Input!C151*(1-B199)","v":0},{"$f":"Input!D151*(1-B199)","v":0},{"$f":"Input!E151*(1-C199)","v":0},{"$f":"Input!F151*(1-B199)","v":0},{"$f":"Input!G151*(1-B199)","v":0}]
["LDNO LV: Domestic Off Peak (related MPAN)",{"$f":"SUMPRODUCT($B87:$F87,Input!$B$111:$F$111)","v":0.30883183558962979},{"$f":"B200","v":0.30883183558962979},{"$f":"Input!B152*(1-B200)","v":0},{"$f":"Input!C152*(1-B200)","v":0},{"$f":"Input!D152*(1-B200)","v":0},{"$f":"Input!E152*(1-C200)","v":0},{"$f":"Input!F152*(1-B200)","v":0},{"$f":"Input!G152*(1-B200)","v":0}]
["LDNO HV: Domestic Off Peak (related MPAN)",{"$f":"SUMPRODUCT($B88:$F88,Input!$B$111:$F$111)","v":0.5007791580188965},{"$f":"B201","v":0.5007791580188965},{"$f":"Input!B153*(1-B201)","v":0},{"$f":"Input!C153*(1-B201)","v":0},{"$f":"Input!D153*(1-B201)","v":0},{"$f":"Input!E153*(1-C201)","v":0},{"$f":"Input!F153*(1-B201)","v":0},{"$f":"Input!G153*(1-B201)","v":0}]
["> Small Non Domestic Unrestricted"]
["Small Non Domestic Unrestricted",{"$f":"SUMPRODUCT($B90:$F90,Input!$B$111:$F$111)","v":0},{"$f":"B203","v":0},{"$f":"Input!B155*(1-B203)","v":1601953.0791385549},{"$f":"Input!C155*(1-B203)","v":0},{"$f":"Input!D155*(1-B203)","v":0},{"$f":"Input!E155*(1-C203)","v":138318.12561321002},{"$f":"Input!F155*(1-B203)","v":0},{"$f":"Input!G155*(1-B203)","v":0}]
["LDNO LV: Small Non Domestic Unrestricted",{"$f":"SUMPRODUCT($B91:$F91,Input!$B$111:$F$111)","v":0.30883183558962979},{"$f":"B204","v":0.30883183558962979},{"$f":"Input!B156*(1-B204)","v":436.23145256697785},{"$f":"Input!C156*(1-B204)","v":0},{"$f":"Input!D156*(1-B204)","v":0},{"$f":"Input!E156*(1-C204)","v":74.800165800856135},{"$f":"Input!F156*(1-B204)","v":0},{"$f":"Input!G156*(1-B204)","v":0}]
["LDNO HV: Small Non Domestic Unrestricted",{"$f":"SUMPRODUCT($B92:$F92,Input!$B$111:$F$111)","v":0.5007791580188965},{"$f":"B205","v":0.5007791580188965},{"$f":"Input!B157*(1-B205)","v":3075.6509756656651},{"$f":"Input!C157*(1-B205)","v":0},{"$f":"Input!D157*(1-B205)","v":0},{"$f":"Input!E157*(1-C205)","v":200.0041158658284},{"$f":"Input!F157*(1-B205)","v":0},{"$f":"Input!G157*(1-B205)","v":0}]
["> Small Non Domestic Two Rate"]
["Small Non Domestic Two Rate",{"$f":"SUMPRODUCT($B94:$F94,Input!$B$111:$F$111)","v":0},{"$f":"B207","v":0},{"$f":"Input!B159*(1-B207)","v":453929.15375021711},{"$f":"Input!C159*(1-B207)","v":206228.16734278615},{"$f":"Input!D159*(1-B207)","v":0},{"$f":"Input!E159*(1-C207)","v":33481.434021749999},{"$f":"Input!F159*(1-B207)","v":0},{"$f":"Input!G159*(1-B207)","v":0}]
["LDNO LV: Small Non Domestic Two Rate",{"$f":"SUMPRODUCT($B95:$F95,Input!$B$111:$F$111)","v":0.30883183558962979},{"$f":"B208","v":0.30883183558962979},{"$f":"Input!B160*(1-B208)","v":213.66372099738371},{"$f":"Input!C160*(1-B208)","v":62.891089512537249},{"$f":"Input!D160*(1-B208)","v":0},{"$f":"Input!E160*(1-C208)","v":6.4730912712279345},{"$f":"Input!F160*(1-B208)","v":0},{"$f":"Input!G160*(1-B208)","v":0}]
["LDNO HV: Small Non Domestic Two Rate",{"$f":"SUMPRODUCT($B96:$F96,Input!$B$111:$F$111)","v":0.5007791580188965},{"$f":"B209","v":0.5007791580188965},{"$f":"Input!B161*(1-B209)","v":676.84294703356989},{"$f":"Input!C161*(1-B209)","v":174.4510144541708},{"$f":"Input!D161*(1-B209)","v":0},{"$f":"Input!E161*(1-C209)","v":20.260157191603394},{"$f":"Input!F161*(1-B209)","v":0},{"$f":"Input!G161*(1-B209)","v":0}]
["> Small Non Domestic Off Peak (related MPAN)"]
["Small Non Domestic Off Peak (related MPAN)",{"$f":"SUMPRODUCT($B98:$F98,Input!$B$111:$F$111)","v":0},{"$f":"B211","v":0},{"$f":"Input!B163*(1-B211)","v":6149.4136827174971},{"$f":"Input!C163*(1-B211)","v":0},{"$f":"Input!D163*(1-B211)","v":0},{"$f":"Input!E163*(1-C211)","v":0},{"$f":"Input!F163*(1-B211)","v":0},{"$f":"Input!G163*(1-B211)","v":0}]
["LDNO LV: Small Non Domestic Off Peak (related MPAN)",{"$f":"SUMPRODUCT($B99:$F99,Input!$B$111:$F$111)","v":0.30883183558962979},{"$f":"B212","v":0.30883183558962979},{"$f":"Input!B164*(1-B212)","v":0},{"$f":"Input!C164*(1-B212)","v":0},{"$f":"Input!D164*(1-B212)","v":0},{"$f":"Input!E164*(1-C212)","v":0},{"$f":"Input!F164*(1-B212)","v":0},{"$f":"Input!G164*(1-B212)","v":0}]
["LDNO HV: Small Non Domestic Off Peak (related MPAN)",{"$f":"SUMPRODUCT($B100:$F100,Input!$B$111:$F$111)","v":0.5007791580188965},{"$f":"B213","v":0.5007791580188965},{"$f":"Input!B165*(1-B213)","v":0},{"$f":"Input!C165*(1-B213)","v":0},{"$f":"Input!D165*(1-B213)","v":0},{"$f":"Input!E165*(1-C213)","v":0},{"$f":"Input!F165*(1-B213)","v":0},{"$f":"Input!G165*(1-B213)","v":0}]
["> LV Medium Non-Domestic"]
["LV Medium Non-Domestic",{"$f":"SUMPRODUCT($B102:$F102,Input!$B$111:$F$111)","v":0},{"$f":"B215","v":0},{"$f":"Input!B167*(1-B215)","v":1255621.2037035793},{"$f":"Input!C167*(1-B215)","v":303177.08288675867},{"$f":"Input!D167*(1-B215)","v":0},{"$f":"Input!E167*(1-C215)","v":18486.330237650003},{"$f":"Input!F167*(1-B215)","v":0},{"$f":"Input!G167*(1-B215)","v":0}]
["LDNO LV: LV Medium Non-Domestic",{"$f":"SUMPRODUCT($B103:$F103,Input!$B$111:$F$111)","v":0.30883183558962979},{"$f":"B216","v":0.30883183558962979},{"$f":"Input!B168*(1-B216)","v":202.84691835459398},{"$f":"Input!C168*(1-B216)","v":68.642744391894425},{"$f":"Input!D168*(1-B216)","v":0},{"$f":"Input!E168*(1-C216)","v":5.0346265442883942},{"$f":"Input!F168*(1-B216)","v":0},{"$f":"Input!G168*(1-B216)","v":0}]
["LDNO HV: LV Medium Non-Domestic",{"$f":"SUMPRODUCT($B104:$F104,Input!$B$111:$F$111)","v":0.5007791580188965},{"$f":"B217","v":0.5007791580188965},{"$f":"Input!B169*(1-B217)","v":3144.0850940437076},{"$f":"Input!C169*(1-B217)","v":735.89851488346358},{"$f":"Input!D169*(1-B217)","v":0},{"$f":"Input!E169*(1-C217)","v":32.208455022548982},{"$f":"Input!F169*(1-B217)","v":0},{"$f":"Input!G169*(1-B217)","v":0}]
["> LV Sub Medium Non-Domestic"]
["LV Sub Medium Non-Domestic",{"$f":"SUMPRODUCT($B106:$F106,Input!$B$111:$F$111)","v":0},{"$f":"B219","v":0},{"$f":"Input!B171*(1-B219)","v":89.950748079622556},{"$f":"Input!C171*(1-B219)","v":23.623336513735023},{"$f":"Input!D171*(1-B219)","v":0},{"$f":"Input!E171*(1-C219)","v":3.1218120300000005},{"$f":"Input!F171*(1-B219)","v":0},{"$f":"Input!G171*(1-B219)","v":0}]
["> HV Medium Non-Domestic"]
["HV Medium Non-Domestic",{"$f":"SUMPRODUCT($B108:$F108,Input!$B$111:$F$111)","v":0},{"$f":"B221","v":0},{"$f":"Input!B173*(1-B221)","v":35787.536293291574},{"$f":"Input!C173*(1-B221)","v":9819.4231999734202},{"$f":"Input!D173*(1-B221)","v":0},{"$f":"Input!E173*(1-C221)","v":284.08489473000003},{"$f":"Input!F173*(1-B221)","v":0},{"$f":"Input!G173*(1-B221)","v":0}]
["> LV HH Metered"]
["LV HH Metered",{"$f":"SUMPRODUCT($B110:$F110,Input!$B$111:$F$111)","v":0},{"$f":"B223","v":0},{"$f":"Input!B175*(1-B223)","v":200938.41283116271},{"$f":"Input!C175*(1-B223)","v":800271.28152647964},{"$f":"Input!D175*(1-B223)","v":824473.00922996621},{"$f":"Input!E175*(1-C223)","v":6262.3549321800001},{"$f":"Input!F175*(1-B223)","v":983000},{"$f":"Input!G175*(1-B223)","v":164557.5686}]
["LDNO LV: LV HH Metered",{"$f":"SUMPRODUCT($B111:$F111,Input!$B$111:$F$111)","v":0.30883183558962979},{"$f":"B224","v":0.30883183558962979},{"$f":"Input!B176*(1-B224)","v":4.9882642779160173},{"$f":"Input!C176*(1-B224)","v":36.216503638592606},{"$f":"Input!D176*(1-B224)","v":0.93455262705566033},{"$f":"Input!E176*(1-C224)","v":0.7192323634697706},{"$f":"Input!F176*(1-B224)","v":0},{"$f":"Input!G176*(1-B224)","v":0.55984621317239991}]
["LDNO HV: LV HH Metered",{"$f":"SUMPRODUCT($B112:$F112,Input!$B$111:$F$111)","v":0.5007791580188965},{"$f":"B225","v":0.5007791580188965},{"$f":"Input!B177*(1-B225)","v":2059.5157410894344},{"$f":"Input!C177*(1-B225)","v":6996.2662424130185},{"$f":"Input!D177*(1-B225)","v":7661.7894702993854},{"$f":"Input!E177*(1-C225)","v":41.039805593247905},{"$f":"Input!F177*(1-B225)","v":9485.1959976409671},{"$f":"Input!G177*(1-B225)","v":536.74747236115979}]
["> LV Sub HH Metered"]
["LV Sub HH Metered",{"$f":"SUMPRODUCT($B114:$F114,Input!$B$111:$F$111)","v":0},{"$f":"B227","v":0},{"$f":"Input!B179*(1-B227)","v":2208.5155755544174},{"$f":"Input!C179*(1-B227)","v":8163.9604774163272},{"$f":"Input!D179*(1-B227)","v":10135.022396421165},{"$f":"Input!E179*(1-C227)","v":33.299328320000001},{"$f":"Input!F179*(1-B227)","v":17000},{"$f":"Input!G179*(1-B227)","v":603.10400000000004}]
["LDNO HV: LV Sub HH Metered",{"$f":"SUMPRODUCT($B115:$F115,Input!$B$111:$F$111)","v":0.2542804505721758},{"$f":"B228","v":0.2542804505721758},{"$f":"Input!B180*(1-B228)","v":133.98985890248792},{"$f":"Input!C180*(1-B228)","v":459.88699875294571},{"$f":"Input!D180*(1-B228)","v":859.18149320080261},{"$f":"Input!E180*(1-C228)","v":0.77599875346998703},{"$f":"Input!F180*(1-B228)","v":0},{"$f":"Input!G180*(1-B228)","v":503.49880312433532}]
["> HV HH Metered"]
["HV HH Metered",{"$f":"SUMPRODUCT($B117:$F117,Input!$B$111:$F$111)","v":0},{"$f":"B230","v":0},{"$f":"Input!B182*(1-B230)","v":761286.01814600849},{"$f":"Input!C182*(1-B230)","v":3038893.4283311474},{"$f":"Input!D182*(1-B230)","v":3866242.3727491917},{"$f":"Input!E182*(1-C230)","v":3859.6002730900004},{"$f":"Input!F182*(1-B230)","v":2873000},{"$f":"Input!G182*(1-B230)","v":1033930.8586}]
["LDNO HV: HV HH Metered",{"$f":"SUMPRODUCT($B118:$F118,Input!$B$111:$F$111)","v":0.15228597408951491},{"$f":"B231","v":0.15228597408951491},{"$f":"Input!B183*(1-B231)","v":1347.7462770332952},{"$f":"Input!C183*(1-B231)","v":4273.5406391692832},{"$f":"Input!D183*(1-B231)","v":4525.286668361945},{"$f":"Input!E183*(1-C231)","v":7.9392115322612513},{"$f":"Input!F183*(1-B231)","v":5086.2841554629103},{"$f":"Input!G183*(1-B231)","v":705.5086417215598}]
["> HV Sub HH Metered"]
["HV Sub HH Metered",{"$f":"SUMPRODUCT($B120:$F120,Input!$B$111:$F$111)","v":0},{"$f":"B233","v":0},{"$f":"Input!B185*(1-B233)","v":0},{"$f":"Input!C185*(1-B233)","v":0},{"$f":"Input!D185*(1-B233)","v":0},{"$f":"Input!E185*(1-C233)","v":0},{"$f":"Input!F185*(1-B233)","v":0},{"$f":"Input!G185*(1-B233)","v":0}]
["> NHH UMS category A"]
["NHH UMS category A",{"$f":"SUMPRODUCT($B122:$F122,Input!$B$111:$F$111)","v":0},{"$f":"B235","v":0},{"$f":"Input!B187*(1-B235)","v":61702.110627965667},{"$f":"Input!C187*(1-B235)","v":0},{"$f":"Input!D187*(1-B235)","v":0},{"$f":"Input!E187*(1-C235)","v":0},{"$f":"Input!F187*(1-B235)","v":0},{"$f":"Input!G187*(1-B235)","v":0}]
["LDNO LV: NHH UMS category A",{"$f":"SUMPRODUCT($B123:$F123,Input!$B$111:$F$111)","v":0.30883183558962979},{"$f":"B236","v":0.30883183558962979},{"$f":"Input!B188*(1-B236)","v":27.104972300940236},{"$f":"Input!C188*(1-B236)","v":0},{"$f":"Input!D188*(1-B236)","v":0},{"$f":"Input!E188*(1-C236)","v":0},{"$f":"Input!F188*(1-B236)","v":0},{"$f":"Input!G188*(1-B236)","v":0}]
["LDNO HV: NHH UMS category A",{"$f":"SUMPRODUCT($B124:$F124,Input!$B$111:$F$111)","v":0.5007791580188965},{"$f":"B237","v":0.5007791580188965},{"$f":"Input!B189*(1-B237)","v":89.511432287114317},{"$f":"Input!C189*(1-B237)","v":0},{"$f":"Input!D189*(1-B237)","v":0},{"$f":"Input!E189*(1-C237)","v":0},{"$f":"Input!F189*(1-B237)","v":0},{"$f":"Input!G189*(1-B237)","v":0}]
["> NHH UMS category B"]
["NHH UMS category B",{"$f":"SUMPRODUCT($B126:$F126,Input!$B$111:$F$111)","v":0},{"$f":"B239","v":0},{"$f":"Input!B191*(1-B239)","v":32686.456295199947},{"$f":"Input!C191*(1-B239)","v":0},{"$f":"Input!D191*(1-B239)","v":0},{"$f":"Input!E191*(1-C239)","v":0},{"$f":"Input!F191*(1-B239)","v":0},{"$f":"Input!G191*(1-B239)","v":0}]
["LDNO LV: NHH UMS category B",{"$f":"SUMPRODUCT($B127:$F127,Input!$B$111:$F$111)","v":0.30883183558962979},{"$f":"B240","v":0.30883183558962979},{"$f":"Input!B192*(1-B240)","v":14.358755048741171},{"$f":"Input!C192*(1-B240)","v":0},{"$f":"Input!D192*(1-B240)","v":0},{"$f":"Input!E192*(1-C240)","v":0},{"$f":"Input!F192*(1-B240)","v":0},{"$f":"Input!G192*(1-B240)","v":0}]
["LDNO HV: NHH UMS category B",{"$f":"SUMPRODUCT($B128:$F128,Input!$B$111:$F$111)","v":0.5007791580188965},{"$f":"B241","v":0.5007791580188965},{"$f":"Input!B193*(1-B241)","v":47.418337713190432},{"$f":"Input!C193*(1-B241)","v":0},{"$f":"Input!D193*(1-B241)","v":0},{"$f":"Input!E193*(1-C241)","v":0},{"$f":"Input!F193*(1-B241)","v":0},{"$f":"Input!G193*(1-B241)","v":0}]
["> NHH UMS category C"]
["NHH UMS category C",{"$f":"SUMPRODUCT($B130:$F130,Input!$B$111:$F$111)","v":0},{"$f":"B243","v":0},{"$f":"Input!B195*(1-B243)","v":745.33107683943331},{"$f":"Input!C195*(1-B243)","v":0},{"$f":"Input!D195*(1-B243)","v":0},{"$f":"Input!E195*(1-C243)","v":0},{"$f":"Input!F195*(1-B243)","v":0},{"$f":"Input!G195*(1-B243)","v":0}]
["LDNO LV: NHH UMS category C",{"$f":"SUMPRODUCT($B131:$F131,Input!$B$111:$F$111)","v":0.30883183558962979},{"$f":"B244","v":0.30883183558962979},{"$f":"Input!B196*(1-B244)","v":0.32741470246572785},{"$f":"Input!C196*(1-B244)","v":0},{"$f":"Input!D196*(1-B244)","v":0},{"$f":"Input!E196*(1-C244)","v":0},{"$f":"Input!F196*(1-B244)","v":0},{"$f":"Input!G196*(1-B244)","v":0}]
["LDNO HV: NHH UMS category C",{"$f":"SUMPRODUCT($B132:$F132,Input!$B$111:$F$111)","v":0.5007791580188965},{"$f":"B245","v":0.5007791580188965},{"$f":"Input!B197*(1-B245)","v":1.0812539723034524},{"$f":"Input!C197*(1-B245)","v":0},{"$f":"Input!D197*(1-B245)","v":0},{"$f":"Input!E197*(1-C245)","v":0},{"$f":"Input!F197*(1-B245)","v":0},{"$f":"Input!G197*(1-B245)","v":0}]
["> NHH UMS category D"]
["NHH UMS category D",{"$f":"SUMPRODUCT($B134:$F134,Input!$B$111:$F$111)","v":0},{"$f":"B247","v":0},{"$f":"Input!B199*(1-B247)","v":5299.2504885482813},{"$f":"Input!C199*(1-B247)","v":0},{"$f":"Input!D199*(1-B247)","v":0},{"$f":"Input!E199*(1-C247)","v":0},{"$f":"Input!F199*(1-B247)","v":0},{"$f":"Input!G199*(1-B247)","v":0}]
["LDNO LV: NHH UMS category D",{"$f":"SUMPRODUCT($B135:$F135,Input!$B$111:$F$111)","v":0.30883183558962979},{"$f":"B248","v":0.30883183558962979},{"$f":"Input!B200*(1-B248)","v":2.3278950467983521},{"$f":"Input!C200*(1-B248)","v":0},{"$f":"Input!D200*(1-B248)","v":0},{"$f":"Input!E200*(1-C248)","v":0},{"$f":"Input!F200*(1-B248)","v":0},{"$f":"Input!G200*(1-B248)","v":0}]
["LDNO HV: NHH UMS category D",{"$f":"SUMPRODUCT($B136:$F136,Input!$B$111:$F$111)","v":0.5007791580188965},{"$f":"B249","v":0.5007791580188965},{"$f":"Input!B201*(1-B249)","v":7.6876381772126505},{"$f":"Input!C201*(1-B249)","v":0},{"$f":"Input!D201*(1-B249)","v":0},{"$f":"Input!E201*(1-C249)","v":0},{"$f":"Input!F201*(1-B249)","v":0},{"$f":"Input!G201*(1-B249)","v":0}]
["> LV UMS (Pseudo HH Metered)"]
["LV UMS (Pseudo HH Metered)",{"$f":"SUMPRODUCT($B138:$F138,Input!$B$111:$F$111)","v":0},{"$f":"B251","v":0},{"$f":"Input!B203*(1-B251)","v":11501.823274863002},{"$f":"Input!C203*(1-B251)","v":26516.195302025844},{"$f":"Input!D203*(1-B251)","v":199955.58387974752},{"$f":"Input!E203*(1-C251)","v":0},{"$f":"Input!F203*(1-B251)","v":0},{"$f":"Input!G203*(1-B251)","v":0}]
["LDNO LV: LV UMS (Pseudo HH Metered)",{"$f":"SUMPRODUCT($B139:$F139,Input!$B$111:$F$111)","v":0.30883183558962979},{"$f":"B252","v":0.30883183558962979},{"$f":"Input!B204*(1-B252)","v":0},{"$f":"Input!C204*(1-B252)","v":0},{"$f":"Input!D204*(1-B252)","v":0},{"$f":"Input!E204*(1-C252)","v":0},{"$f":"Input!F204*(1-B252)","v":0},{"$f":"Input!G204*(1-B252)","v":0}]
["LDNO HV: LV UMS (Pseudo HH Metered)",{"$f":"SUMPRODUCT($B140:$F140,Input!$B$111:$F$111)","v":0.5007791580188965},{"$f":"B253","v":0.5007791580188965},{"$f":"Input!B205*(1-B253)","v":0},{"$f":"Input!C205*(1-B253)","v":0},{"$f":"Input!D205*(1-B253)","v":0},{"$f":"Input!E205*(1-C253)","v":0},{"$f":"Input!F205*(1-B253)","v":0},{"$f":"Input!G205*(1-B253)","v":0}]
["> LV Generation NHH"]
["LV Generation NHH",{"$f":"SUMPRODUCT($B142:$F142,Input!$B$111:$F$111)","v":0},{"$f":"B255","v":0},{"$f":"Input!B207*(1-B255)","v":427.11844929038995},{"$f":"Input!C207*(1-B255)","v":0},{"$f":"Input!D207*(1-B255)","v":0},{"$f":"Input!E207*(1-C255)","v":99.897984960000016},{"$f":"Input!F207*(1-B255)","v":0},{"$f":"Input!G207*(1-B255)","v":0}]
["LDNO LV: LV Generation NHH",{"$f":"SUMPRODUCT($B143:$F143,Input!$B$111:$F$111)","v":0},1,{"$f":"Input!B208*(1-B256)","v":0},{"$f":"Input!C208*(1-B256)","v":0},{"$f":"Input!D208*(1-B256)","v":0},{"$f":"Input!E208*(1-C256)","v":0},{"$f":"Input!F208*(1-B256)","v":0},{"$f":"Input!G208*(1-B256)","v":0}]
["LDNO HV: LV Generation NHH",{"$f":"SUMPRODUCT($B144:$F144,Input!$B$111:$F$111)","v":0},1,{"$f":"Input!B209*(1-B257)","v":0},{"$f":"Input!C209*(1-B257)","v":0},{"$f":"Input!D209*(1-B257)","v":0},{"$f":"Input!E209*(1-C257)","v":0},{"$f":"Input!F209*(1-B257)","v":0},{"$f":"Input!G209*(1-B257)","v":0}]
["> LV Sub Generation NHH"]
["LV Sub Generation NHH",{"$f":"SUMPRODUCT($B146:$F146,Input!$B$111:$F$111)","v":0},{"$f":"B259","v":0},{"$f":"Input!B211*(1-B259)","v":0},{"$f":"Input!C211*(1-B259)","v":0},{"$f":"Input!D211*(1-B259)","v":0},{"$f":"Input!E211*(1-C259)","v":0},{"$f":"Input!F211*(1-B259)","v":0},{"$f":"Input!G211*(1-B259)","v":0}]
["LDNO HV: LV Sub Generation NHH",{"$f":"SUMPRODUCT($B147:$F147,Input!$B$111:$F$111)","v":0},1,{"$f":"Input!B212*(1-B260)","v":0},{"$f":"Input!C212*(1-B260)","v":0},{"$f":"Input!D212*(1-B260)","v":0},{"$f":"Input!E212*(1-C260)","v":0},{"$f":"Input!F212*(1-B260)","v":0},{"$f":"Input!G212*(1-B260)","v":0}]
["> LV Generation Intermittent"]
["LV Generation Intermittent",{"$f":"SUMPRODUCT($B149:$F149,Input!$B$111:$F$111)","v":0},{"$f":"B262","v":0},{"$f":"Input!B214*(1-B262)","v":44.835818766750009},{"$f":"Input!C214*(1-B262)","v":0},{"$f":"Input!D214*(1-B262)","v":0},{"$f":"Input!E214*(1-C262)","v":20.8120802},{"$f":"Input!F214*(1-B262)","v":0},{"$f":"Input!G214*(1-B262)","v":16.962}]
["LDNO LV: LV Generation Intermittent",{"$f":"SUMPRODUCT($B150:$F150,Input!$B$111:$F$111)","v":0},1,{"$f":"Input!B215*(1-B263)","v":0},{"$f":"Input!C215*(1-B263)","v":0},{"$f":"Input!D215*(1-B263)","v":0},{"$f":"Input!E215*(1-C263)","v":0},{"$f":"Input!F215*(1-B263)","v":0},{"$f":"Input!G215*(1-B263)","v":0}]
["LDNO HV: LV Generation Intermittent",{"$f":"SUMPRODUCT($B151:$F151,Input!$B$111:$F$111)","v":0},1,{"$f":"Input!B216*(1-B264)","v":0},{"$f":"Input!C216*(1-B264)","v":0},{"$f":"Input!D216*(1-B264)","v":0},{"$f":"Input!E216*(1-C264)","v":0},{"$f":"Input!F216*(1-B264)","v":0},{"$f":"Input!G216*(1-B264)","v":0}]
["> LV Generation Non-Intermittent"]
["LV Generation Non-Intermittent",{"$f":"SUMPRODUCT($B153:$F153,Input!$B$111:$F$111)","v":0},{"$f":"B266","v":0},{"$f":"Input!B218*(1-B266)","v":222.19834486112995},{"$f":"Input!C218*(1-B266)","v":843.16218718148991},{"$f":"Input!D218*(1-B266)","v":1386.5857589786399},{"$f":"Input!E218*(1-C266)","v":59.314428569999997},{"$f":"Input!F218*(1-B266)","v":0},{"$f":"Input!G218*(1-B266)","v":85.26939999999999}]
["LDNO LV: LV Generation Non-Intermittent",{"$f":"SUMPRODUCT($B154:$F154,Input!$B$111:$F$111)","v":0},1,{"$f":"Input!B219*(1-B267)","v":0},{"$f":"Input!C219*(1-B267)","v":0},{"$f":"Input!D219*(1-B267)","v":0},{"$f":"Input!E219*(1-C267)","v":0},{"$f":"Input!F219*(1-B267)","v":0},{"$f":"Input!G219*(1-B267)","v":0}]
["LDNO HV: LV Generation Non-Intermittent",{"$f":"SUMPRODUCT($B155:$F155,Input!$B$111:$F$111)","v":0},1,{"$f":"Input!B220*(1-B268)","v":0},{"$f":"Input!C220*(1-B268)","v":0},{"$f":"Input!D220*(1-B268)","v":0},{"$f":"Input!E220*(1-C268)","v":0},{"$f":"Input!F220*(1-B268)","v":0},{"$f":"Input!G220*(1-B268)","v":0}]
["> LV Sub Generation Intermittent"]
["LV Sub Generation Intermittent",{"$f":"SUMPRODUCT($B157:$F157,Input!$B$111:$F$111)","v":0},{"$f":"B270","v":0},{"$f":"Input!B222*(1-B270)","v":0},{"$f":"Input!C222*(1-B270)","v":0},{"$f":"Input!D222*(1-B270)","v":0},{"$f":"Input!E222*(1-C270)","v":0},{"$f":"Input!F222*(1-B270)","v":0},{"$f":"Input!G222*(1-B270)","v":0}]
["LDNO HV: LV Sub Generation Intermittent",{"$f":"SUMPRODUCT($B158:$F158,Input!$B$111:$F$111)","v":0},1,{"$f":"Input!B223*(1-B271)","v":0},{"$f":"Input!C223*(1-B271)","v":0},{"$f":"Input!D223*(1-B271)","v":0},{"$f":"Input!E223*(1-C271)","v":0},{"$f":"Input!F223*(1-B271)","v":0},{"$f":"Input!G223*(1-B271)","v":0}]
["> LV Sub Generation Non-Intermittent"]
["LV Sub Generation Non-Intermittent",{"$f":"SUMPRODUCT($B160:$F160,Input!$B$111:$F$111)","v":0},{"$f":"B273","v":0},{"$f":"Input!B225*(1-B273)","v":0},{"$f":"Input!C225*(1-B273)","v":0},{"$f":"Input!D225*(1-B273)","v":0.29970595511999998},{"$f":"Input!E225*(1-C273)","v":0},{"$f":"Input!F225*(1-B273)","v":0},{"$f":"Input!G225*(1-B273)","v":3.4596}]
["LDNO HV: LV Sub Generation Non-Intermittent",{"$f":"SUMPRODUCT($B161:$F161,Input!$B$111:$F$111)","v":0},1,{"$f":"Input!B226*(1-B274)","v":0},{"$f":"Input!C226*(1-B274)","v":0},{"$f":"Input!D226*(1-B274)","v":0},{"$f":"Input!E226*(1-C274)","v":0},{"$f":"Input!F226*(1-B274)","v":0},{"$f":"Input!G226*(1-B274)","v":0}]
["> HV Generation Intermittent"]
["HV Generation Intermittent",{"$f":"SUMPRODUCT($B163:$F163,Input!$B$111:$F$111)","v":0},{"$f":"B276","v":0},{"$f":"Input!B228*(1-B276)","v":948.82102410941991},{"$f":"Input!C228*(1-B276)","v":0},{"$f":"Input!D228*(1-B276)","v":0},{"$f":"Input!E228*(1-C276)","v":4.1624160400000001},{"$f":"Input!F228*(1-B276)","v":0},{"$f":"Input!G228*(1-B276)","v":376.0514}]
["LDNO HV: HV Generation Intermittent",{"$f":"SUMPRODUCT($B164:$F164,Input!$B$111:$F$111)","v":0},1,{"$f":"Input!B229*(1-B277)","v":0},{"$f":"Input!C229*(1-B277)","v":0},{"$f":"Input!D229*(1-B277)","v":0},{"$f":"Input!E229*(1-C277)","v":0},{"$f":"Input!F229*(1-B277)","v":0},{"$f":"Input!G229*(1-B277)","v":0}]
["> HV Generation Non-Intermittent"]
["HV Generation Non-Intermittent",{"$f":"SUMPRODUCT($B166:$F166,Input!$B$111:$F$111)","v":0},{"$f":"B279","v":0},{"$f":"Input!B231*(1-B279)","v":37817.607297492985},{"$f":"Input!C231*(1-B279)","v":127944.62305430156},{"$f":"Input!D231*(1-B279)","v":251566.30566327646},{"$f":"Input!E231*(1-C279)","v":84.288924809999997},{"$f":"Input!F231*(1-B279)","v":0},{"$f":"Input!G231*(1-B279)","v":4526.9914000000008}]
["LDNO HV: HV Generation Non-Intermittent",{"$f":"SUMPRODUCT($B167:$F167,Input!$B$111:$F$111)","v":0},1,{"$f":"Input!B232*(1-B280)","v":0},{"$f":"Input!C232*(1-B280)","v":0},{"$f":"Input!D232*(1-B280)","v":0},{"$f":"Input!E232*(1-C280)","v":0},{"$f":"Input!F232*(1-B280)","v":0},{"$f":"Input!G232*(1-B280)","v":0}]
["> HV Sub Generation Intermittent"]
["HV Sub Generation Intermittent",{"$f":"SUMPRODUCT($B169:$F169,Input!$B$111:$F$111)","v":0},{"$f":"B282","v":0},{"$f":"Input!B234*(1-B282)","v":0},{"$f":"Input!C234*(1-B282)","v":0},{"$f":"Input!D234*(1-B282)","v":0},{"$f":"Input!E234*(1-C282)","v":0},{"$f":"Input!F234*(1-B282)","v":0},{"$f":"Input!G234*(1-B282)","v":0}]
["> HV Sub Generation Non-Intermittent"]
["HV Sub Generation Non-Intermittent",{"$f":"SUMPRODUCT($B171:$F171,Input!$B$111:$F$111)","v":0},{"$f":"B284","v":0},{"$f":"Input!B236*(1-B284)","v":0},{"$f":"Input!C236*(1-B284)","v":0},{"$f":"Input!D236*(1-B284)","v":0},{"$f":"Input!E236*(1-C284)","v":0},{"$f":"Input!F236*(1-B284)","v":0},{"$f":"Input!G236*(1-B284)","v":0}]
[]
["2305. Equivalent volume for each end user"]
["Data sources:"]
["x1 = 2304. Rate 1 units (MWh) (in LDNO discounts and volumes adjusted for discount)"]
["x2 = 2304. Rate 2 units (MWh) (in LDNO discounts and volumes adjusted for discount)"]
["x3 = 2304. Rate 3 units (MWh) (in LDNO discounts and volumes adjusted for discount)"]
["x4 = 2304. MPANs (in LDNO discounts and volumes adjusted for discount)"]
["x5 = 2304. Import capacity (kVA) (in LDNO discounts and volumes adjusted for discount)"]
["x6 = 2304. Reactive power units (MVArh) (in LDNO discounts and volumes adjusted for discount)"]
["Kind:","Cell summation","Cell summation","Cell summation","Cell summation","Cell summation","Cell summation"]
["Formula:","=SUM(x1)","=SUM(x2)","=SUM(x3)","=SUM(x4)","=SUM(x5)","=SUM(x6)"]
[]
[null,"Rate 1 units (MWh)","Rate 2 units (MWh)","Rate 3 units (MWh)","MPANs","Import capacity (kVA)","Reactive power units (MVArh)"]
["Domestic Unrestricted",{"$f":"SUM(D$191:D$193)","v":6919875.7197077535},0,0,2008987.6952012419,0,0]
["Domestic Two Rate",{"$f":"SUM(D$195:D$197)","v":990547.16218925139},740785.3668493838,0,327650.52939354029,0,0]
["Domestic Off Peak (related MPAN)",{"$f":"SUM(D$199:D$201)","v":36292.302861451186},0,0,0,0,0]
["Small Non Domestic Unrestricted",{"$f":"SUM(D$203:D$205)","v":1605464.9615667877},0,0,138592.9298948767,0,0]
["Small Non Domestic Two Rate",{"$f":"SUM(D$207:D$209)","v":454819.6604182481},206465.50944675284,0,33508.167270212827,0,0]
["Small Non Domestic Off Peak (related MPAN)",{"$f":"SUM(D$211:D$213)","v":6149.4136827174971},0,0,0,0,0]
["LV Medium Non-Domestic",{"$f":"SUM(D$215:D$217)","v":1258968.1357159775},303981.62414603401,0,18523.573319216841,0,0]
["LV Sub Medium Non-Domestic",{"$f":"SUM(D$219:D$219)","v":89.950748079622556},23.623336513735023,0,3.1218120300000005,0,0]
["HV Medium Non-Domestic",{"$f":"SUM(D$221:D$221)","v":35787.536293291574},9819.4231999734202,0,284.08489473000003,0,0]
["LV HH Metered",{"$f":"SUM(D$223:D$225)","v":203002.91683653009},807303.76427253115,832135.73325289262,6304.1139701367183,992485.19599764096,165094.87591857434]
["LV Sub HH Metered",{"$f":"SUM(D$227:D$228)","v":2342.5054344569053},8623.8474761692723,10994.203889621967,34.075327073469985,17000,1106.6028031243354]
["HV HH Metered",{"$f":"SUM(D$230:D$231)","v":762633.76442304184},3043166.9689703169,3870767.6594175538,3867.5394846222616,2878086.2841554629,1034636.3672417216]
["HV Sub HH Metered",{"$f":"SUM(D$233:D$233)","v":0},0,0,0,0,0]
["NHH UMS category A",{"$f":"SUM(D$235:D$237)","v":61818.727032553725},0,0,0,0,0]
["NHH UMS category B",{"$f":"SUM(D$239:D$241)","v":32748.233387961882},0,0,0,0,0]
["NHH UMS category C",{"$f":"SUM(D$243:D$245)","v":746.73974551420247},0,0,0,0,0]
["NHH UMS category D",{"$f":"SUM(D$247:D$249)","v":5309.2660217722923},0,0,0,0,0]
["LV UMS (Pseudo HH Metered)",{"$f":"SUM(D$251:D$253)","v":11501.823274863002},26516.195302025844,199955.58387974752,0,0,0]
["LV Generation NHH",{"$f":"SUM(D$255:D$257)","v":427.11844929038995},0,0,99.897984960000016,0,0]
["LV Sub Generation NHH",{"$f":"SUM(D$259:D$260)","v":0},0,0,0,0,0]
["LV Generation Intermittent",{"$f":"SUM(D$262:D$264)","v":44.835818766750009},0,0,20.8120802,0,16.962]
["LV Generation Non-Intermittent",{"$f":"SUM(D$266:D$268)","v":222.19834486112995},843.16218718148991,1386.5857589786399,59.314428569999997,0,85.26939999999999]
["LV Sub Generation Intermittent",{"$f":"SUM(D$270:D$271)","v":0},0,0,0,0,0]
["LV Sub Generation Non-Intermittent",{"$f":"SUM(D$273:D$274)","v":0},0,0.29970595511999998,0,0,3.4596]
["HV Generation Intermittent",{"$f":"SUM(D$276:D$277)","v":948.82102410941991},0,0,4.1624160400000001,0,376.0514]
["HV Generation Non-Intermittent",{"$f":"SUM(D$279:D$280)","v":37817.607297492985},127944.62305430156,251566.30566327646,84.288924809999997,0,4526.9914000000008]
["HV Sub Generation Intermittent",{"$f":"SUM(D$282:D$282)","v":0},0,0,0,0,0]
["HV Sub Generation Non-Intermittent",{"$f":"SUM(D$284:D$284)","v":0},0,0,0,0,0]

{"sheet":"Multi","index":27,"n_rows":645,"n_cols":37,"rows_kept":645,"cut":false,"hidden":true,"merged":[]}
[{"$f":"\"r6140: Load characteristics for multiple unit rates\"&\" for \"&Input!B7&\" in \"&Input!C7&\" (\"&Input!D7&\")\"","v":"r6140: Load characteristics for multiple unit rates for WPD Mid West in April 2017 (0)"}]
[]
["2401. Adjust annual hours by distribution time band to match days in year"]
["Data sources:"]
["x1 = 1068. Typical annual hours by distribution time band"]
["x2 = 1010. Days in the charging year (in Financial and general assumptions)"]
["x3 = Total hours in the year according to time band hours input data (in Adjust annual hours by distribution time band to match days in year)"]
["Kind:","Cell summation","Calculation"]
["Formula:","=SUM(x1)","=x1*24*x2/x3"]
[]
[null,null,"Annual hours by distribution time band (reconciled to days in year)"]
[null,"Hours aggregate","Red","Amber","Green"]
["Adjust annual hours by distribution time band to match days in year",{"$f":"SUM(Input!$B300:$D300)","v":8760},{"$f":"Input!B300*24*Input!$F14/$B13","v":783},{"$f":"Input!C300*24*Input!$F14/$B13","v":2740.5},{"$f":"Input!D300*24*Input!$F14/$B13","v":5236.5}]
[]
["2402. Normalisation of split of rate 1 units by time band"]
["Data sources:"]
["x1 = 1061. Average split of rate 1 units by distribution time band"]
["x2 = Total split (in Normalisation of split of rate 1 units by time band)"]
["x3 = 2401. Annual hours by distribution time band (reconciled to days in year) (in Adjust annual hours by distribution time band to match days in year)"]
["x4 = 1010. Days in the charging year (in Financial and general assumptions)"]
["Kind:","Cell summation","Calculation"]
["Formula:","=SUM(x1)","=IF(x2,x1/x2,x3/x4/24)"]
[]
[null,null,"Normalised split of rate 1 units by distribution time band"]
[null,"Total split","Red","Amber","Green"]
["Domestic Two Rate",{"$f":"SUM(Input!$B263:$D263)","v":1},{"$f":"IF($B26,Input!B263/$B26,C$13/Input!$F$14/24)","v":0.14890278426189216},{"$f":"IF($B26,Input!C263/$B26,D$13/Input!$F$14/24)","v":0.41118526043131326},{"$f":"IF($B26,Input!D263/$B26,E$13/Input!$F$14/24)","v":0.43991195530679456}]
["Domestic Off Peak (related MPAN)",{"$f":"SUM(Input!$B264:$D264)","v":1},{"$f":"IF($B27,Input!B264/$B27,C$13/Input!$F$14/24)","v":2.2966880173443485E-3},{"$f":"IF($B27,Input!C264/$B27,D$13/Input!$F$14/24)","v":0.2056778896815693},{"$f":"IF($B27,Input!D264/$B27,E$13/Input!$F$14/24)","v":0.7920254223010863}]
["Small Non Domestic Two Rate",{"$f":"SUM(Input!$B265:$D265)","v":1},{"$f":"IF($B28,Input!B265/$B28,C$13/Input!$F$14/24)","v":0.13326282626713307},{"$f":"IF($B28,Input!C265/$B28,D$13/Input!$F$14/24)","v":0.53523461585794074},{"$f":"IF($B28,Input!D265/$B28,E$13/Input!$F$14/24)","v":0.33150255787492622}]
["Small Non Domestic Off Peak (related MPAN)",{"$f":"SUM(Input!$B266:$D266)","v":1},{"$f":"IF($B29,Input!B266/$B29,C$13/Input!$F$14/24)","v":1.8394107775813375E-2},{"$f":"IF($B29,Input!C266/$B29,D$13/Input!$F$14/24)","v":0.17098236297510325},{"$f":"IF($B29,Input!D266/$B29,E$13/Input!$F$14/24)","v":0.81062352924908332}]
["LV Medium Non-Domestic",{"$f":"SUM(Input!$B267:$D267)","v":1},{"$f":"IF($B30,Input!B267/$B30,C$13/Input!$F$14/24)","v":0.13922071459848015},{"$f":"IF($B30,Input!C267/$B30,D$13/Input!$F$14/24)","v":0.53278444505652578},{"$f":"IF($B30,Input!D267/$B30,E$13/Input!$F$14/24)","v":0.3279948403449941}]
["LV Sub Medium Non-Domestic",{"$f":"SUM(Input!$B268:$D268)","v":1},{"$f":"IF($B31,Input!B268/$B31,C$13/Input!$F$14/24)","v":0.13922071459848015},{"$f":"IF($B31,Input!C268/$B31,D$13/Input!$F$14/24)","v":0.53278444505652578},{"$f":"IF($B31,Input!D268/$B31,E$13/Input!$F$14/24)","v":0.3279948403449941}]
["HV Medium Non-Domestic",{"$f":"SUM(Input!$B269:$D269)","v":1},{"$f":"IF($B32,Input!B269/$B32,C$13/Input!$F$14/24)","v":0.1327379630534701},{"$f":"IF($B32,Input!C269/$B32,D$13/Input!$F$14/24)","v":0.56664216163065484},{"$f":"IF($B32,Input!D269/$B32,E$13/Input!$F$14/24)","v":0.30061987531587503}]
[]
["2403. Split of rate 1 units between distribution time bands"]
["Data sources:"]
["x1 = 2402. Normalised split of rate 1 units by distribution time band (in Normalisation of split of rate 1 units by time band)"]
["x2 = Split of rate 1 units between distribution time bands (default)"]
["Combine tables = x1 or x2"]
[]
[null,"Red","Amber","Green"]
["Domestic Two Rate",{"$f":"C$26","v":0.14890278426189216},{"$f":"D$26","v":0.41118526043131326},{"$f":"E$26","v":0.43991195530679456}]
["Domestic Off Peak (related MPAN)",{"$f":"C$27","v":2.2966880173443485E-3},{"$f":"D$27","v":0.2056778896815693},{"$f":"E$27","v":0.7920254223010863}]
["Small Non Domestic Two Rate",{"$f":"C$28","v":0.13326282626713307},{"$f":"D$28","v":0.53523461585794074},{"$f":"E$28","v":0.33150255787492622}]
["Small Non Domestic Off Peak (related MPAN)",{"$f":"C$29","v":1.8394107775813375E-2},{"$f":"D$29","v":0.17098236297510325},{"$f":"E$29","v":0.81062352924908332}]
["LV Medium Non-Domestic",{"$f":"C$30","v":0.13922071459848015},{"$f":"D$30","v":0.53278444505652578},{"$f":"E$30","v":0.3279948403449941}]
["LV Sub Medium Non-Domestic",{"$f":"C$31","v":0.13922071459848015},{"$f":"D$31","v":0.53278444505652578},{"$f":"E$31","v":0.3279948403449941}]
["HV Medium Non-Domestic",{"$f":"C$32","v":0.1327379630534701},{"$f":"D$32","v":0.56664216163065484},{"$f":"E$32","v":0.30061987531587503}]
["LV HH Metered",1,0,0]
["LV Sub HH Metered",1,0,0]
["HV HH Metered",1,0,0]
["HV Sub HH Metered",1,0,0]
["LV Generation Non-Intermittent",1,0,0]
["LV Sub Generation Non-Intermittent",1,0,0]
["HV Generation Non-Intermittent",1,0,0]
["HV Sub Generation Non-Intermittent",1,0,0]
[]
["2404. Normalisation of split of rate 2 units by time band"]
["Data sources:"]
["x1 = 1062. Average split of rate 2 units by distribution time band"]
["x2 = Total split (in Normalisation of split of rate 2 units by time band)"]
["x3 = 2401. Annual hours by distribution time band (reconciled to days in year) (in Adjust annual hours by distribution time band to match days in year)"]
["x4 = 1010. Days in the charging year (in Financial and general assumptions)"]
["Kind:","Cell summation","Calculation"]
["Formula:","=SUM(x1)","=IF(x2,x1/x2,x3/x4/24)"]
[]
[null,null,"Normalised split of rate 2 units by distribution time band"]
[null,"Total split","Red","Amber","Green"]
["Domestic Two Rate",{"$f":"SUM(Input!$B274:$D274)","v":1},{"$f":"IF($B68,Input!B274/$B68,C$13/Input!$F$14/24)","v":0},{"$f":"IF($B68,Input!C274/$B68,D$13/Input!$F$14/24)","v":0},{"$f":"IF($B68,Input!D274/$B68,E$13/Input!$F$14/24)","v":1}]
["Small Non Domestic Two Rate",{"$f":"SUM(Input!$B275:$D275)","v":1},{"$f":"IF($B69,Input!B275/$B69,C$13/Input!$F$14/24)","v":0},{"$f":"IF($B69,Input!C275/$B69,D$13/Input!$F$14/24)","v":0},{"$f":"IF($B69,Input!D275/$B69,E$13/Input!$F$14/24)","v":1}]
["LV Medium Non-Domestic",{"$f":"SUM(Input!$B276:$D276)","v":1},{"$f":"IF($B70,Input!B276/$B70,C$13/Input!$F$14/24)","v":0},{"$f":"IF($B70,Input!C276/$B70,D$13/Input!$F$14/24)","v":0},{"$f":"IF($B70,Input!D276/$B70,E$13/Input!$F$14/24)","v":1}]
["LV Sub Medium Non-Domestic",{"$f":"SUM(Input!$B277:$D277)","v":1},{"$f":"IF($B71,Input!B277/$B71,C$13/Input!$F$14/24)","v":0},{"$f":"IF($B71,Input!C277/$B71,D$13/Input!$F$14/24)","v":0},{"$f":"IF($B71,Input!D277/$B71,E$13/Input!$F$14/24)","v":1}]
["HV Medium Non-Domestic",{"$f":"SUM(Input!$B278:$D278)","v":1},{"$f":"IF($B72,Input!B278/$B72,C$13/Input!$F$14/24)","v":0},{"$f":"IF($B72,Input!C278/$B72,D$13/Input!$F$14/24)","v":0},{"$f":"IF($B72,Input!D278/$B72,E$13/Input!$F$14/24)","v":1}]
[]
["2405. Split of rate 2 units between distribution time bands"]
["Data sources:"]
["x1 = 2404. Normalised split of rate 2 units by distribution time band (in Normalisation of split of rate 2 units by time band)"]
["x2 = Split of rate 2 units between distribution time bands (default)"]
["Combine tables = x1 or x2"]
[]
[null,"Red","Amber","Green"]
["Domestic Two Rate",{"$f":"C$68","v":0},{"$f":"D$68","v":0},{"$f":"E$68","v":1}]
["Small Non Domestic Two Rate",{"$f":"C$69","v":0},{"$f":"D$69","v":0},{"$f":"E$69","v":1}]
["LV Medium Non-Domestic",{"$f":"C$70","v":0},{"$f":"D$70","v":0},{"$f":"E$70","v":1}]
["LV Sub Medium Non-Domestic",{"$f":"C$71","v":0},{"$f":"D$71","v":0},{"$f":"E$71","v":1}]
["HV Medium Non-Domestic",{"$f":"C$72","v":0},{"$f":"D$72","v":0},{"$f":"E$72","v":1}]
["LV HH Metered",0,1,0]
["LV Sub HH Metered",0,1,0]
["HV HH Metered",0,1,0]
["HV Sub HH Metered",0,1,0]
["LV Generation Non-Intermittent",0,1,0]
["LV Sub Generation Non-Intermittent",0,1,0]
["HV Generation Non-Intermittent",0,1,0]
["HV Sub Generation Non-Intermittent",0,1,0]
[]
["2406. Split of rate 3 units between distribution time bands (default)"]
[]
[null,"Red","Amber","Green"]
["LV HH Metered",0,0,1]
["LV Sub HH Metered",0,0,1]
["HV HH Metered",0,0,1]
["HV Sub HH Metered",0,0,1]
["LV Generation Non-Intermittent",0,0,1]
["LV Sub Generation Non-Intermittent",0,0,1]
["HV Generation Non-Intermittent",0,0,1]
["HV Sub Generation Non-Intermittent",0,0,1]
[]
["2407. All units (MWh)"]
["Data sources:"]
["x1 = 2305. Rate 1 units (MWh) (in Equivalent volume for each end user)"]
["x2 = 2305. Rate 2 units (MWh) (in Equivalent volume for each end user)"]
["x3 = 2305. Rate 3 units (MWh) (in Equivalent volume for each end user)"]
["Calculation =x1+x2+x3"]
[]
[null,"All units (MWh)"]
["Domestic Unrestricted",{"$f":"Loads!B298+Loads!C298+Loads!D298","v":6919875.7197077535}]
["Domestic Two Rate",{"$f":"Loads!B299+Loads!C299+Loads!D299","v":1731332.5290386351}]
["Domestic Off Peak (related MPAN)",{"$f":"Loads!B300+Loads!C300+Loads!D300","v":36292.302861451186}]
["Small Non Domestic Unrestricted",{"$f":"Loads!B301+Loads!C301+Loads!D301","v":1605464.9615667877}]
["Small Non Domestic Two Rate",{"$f":"Loads!B302+Loads!C302+Loads!D302","v":661285.16986500099}]
["Small Non Domestic Off Peak (related MPAN)",{"$f":"Loads!B303+Loads!C303+Loads!D303","v":6149.4136827174971}]
["LV Medium Non-Domestic",{"$f":"Loads!B304+Loads!C304+Loads!D304","v":1562949.7598620115}]
["LV Sub Medium Non-Domestic",{"$f":"Loads!B305+Loads!C305+Loads!D305","v":113.57408459335758}]
["HV Medium Non-Domestic",{"$f":"Loads!B306+Loads!C306+Loads!D306","v":45606.959493264992}]
["LV HH Metered",{"$f":"Loads!B307+Loads!C307+Loads!D307","v":1842442.4143619537}]
["LV Sub HH Metered",{"$f":"Loads!B308+Loads!C308+Loads!D308","v":21960.556800248145}]
["HV HH Metered",{"$f":"Loads!B309+Loads!C309+Loads!D309","v":7676568.3928109128}]
["HV Sub HH Metered",{"$f":"Loads!B310+Loads!C310+Loads!D310","v":0}]
["NHH UMS category A",{"$f":"Loads!B311+Loads!C311+Loads!D311","v":61818.727032553725}]
["NHH UMS category B",{"$f":"Loads!B312+Loads!C312+Loads!D312","v":32748.233387961882}]
["NHH UMS category C",{"$f":"Loads!B313+Loads!C313+Loads!D313","v":746.73974551420247}]
["NHH UMS category D",{"$f":"Loads!B314+Loads!C314+Loads!D314","v":5309.2660217722923}]
["LV UMS (Pseudo HH Metered)",{"$f":"Loads!B315+Loads!C315+Loads!D315","v":237973.60245663638}]
["LV Generation NHH",{"$f":"Loads!B316+Loads!C316+Loads!D316","v":427.11844929038995}]
["LV Sub Generation NHH",{"$f":"Loads!B317+Loads!C317+Loads!D317","v":0}]
["LV Generation Intermittent",{"$f":"Loads!B318+Loads!C318+Loads!D318","v":44.835818766750009}]
["LV Generation Non-Intermittent",{"$f":"Loads!B319+Loads!C319+Loads!D319","v":2451.9462910212596}]
["LV Sub Generation Intermittent",{"$f":"Loads!B320+Loads!C320+Loads!D320","v":0}]
["LV Sub Generation Non-Intermittent",{"$f":"Loads!B321+Loads!C321+Loads!D321","v":0.29970595511999998}]
["HV Generation Intermittent",{"$f":"Loads!B322+Loads!C322+Loads!D322","v":948.82102410941991}]
["HV Generation Non-Intermittent",{"$f":"Loads!B323+Loads!C323+Loads!D323","v":417328.53601507097}]
["HV Sub Generation Intermittent",{"$f":"Loads!B324+Loads!C324+Loads!D324","v":0}]
["HV Sub Generation Non-Intermittent",{"$f":"Loads!B325+Loads!C325+Loads!D325","v":0}]
[]
["2408. Calculation of implied load coefficients for two-rate users"]
["Data sources:"]
["x1 = 2407. All units (MWh)"]
["x2 = 2305. Rate 1 units (MWh) (in Equivalent volume for each end user)"]
["x3 = 2403. Split of rate 1 units between distribution time bands"]
["x4 = 2305. Rate 2 units (MWh) (in Equivalent volume for each end user)"]
["x5 = 2405. Split of rate 2 units between distribution time bands"]
["x6 = 2401. Annual hours by distribution time band (reconciled to days in year) (in Adjust annual hours by distribution time band to match days in year)"]
["x7 = Use of distribution time bands by units in demand forecast for two-rate tariffs (in Calculation of implied load coefficients for two-rate users)"]
["x8 = 1010. Days in the charging year (in Financial and general assumptions)"]
["Kind:","Calculation",null,null,"Calculation"]
["Formula:","=IF(x1>0,(x2*x3+x4*x5)/x1,0)",null,null,"=IF(x6>0,x7*x8*24/x6,0)"]
[]
[null,"Use of distribution time bands by units in demand forecast for two-rate tariffs"]
[null,"Red","Amber","Green","First-time-band load coefficient for two-rate tariffs"]
["Domestic Two Rate",{"$f":"IF($B$116>0,(Loads!$B$299*B$41+Loads!$C$299*B$81)/$B$116,0)","v":8.5191739841332478E-2},{"$f":"IF($B$116>0,(Loads!$B$299*C$41+Loads!$C$299*C$81)/$B$116,0)","v":0.23525139510920415},{"$f":"IF($B$116>0,(Loads!$B$299*D$41+Loads!$C$299*D$81)/$B$116,0)","v":0.67955686504946344},{"$f":"IF($C$13>0,$B159*Input!$F$14*24/$C$13,0)","v":0.95310298979575037}]
["Small Non Domestic Two Rate",{"$f":"IF($B$119>0,(Loads!$B$302*B$43+Loads!$C$302*B$82)/$B$119,0)","v":9.1655697346981008E-2},{"$f":"IF($B$119>0,(Loads!$B$302*C$43+Loads!$C$302*C$82)/$B$119,0)","v":0.36812443000694617},{"$f":"IF($B$119>0,(Loads!$B$302*D$43+Loads!$C$302*D$82)/$B$119,0)","v":0.54021987264607274},{"$f":"IF($C$13>0,$B160*Input!$F$14*24/$C$13,0)","v":1.0254200622727379}]
["LV Medium Non-Domestic",{"$f":"IF($B$121>0,(Loads!$B$304*B$45+Loads!$C$304*B$83)/$B$121,0)","v":0.11214336379345247},{"$f":"IF($B$121>0,(Loads!$B$304*C$45+Loads!$C$304*C$83)/$B$121,0)","v":0.42916199660218468},{"$f":"IF($B$121>0,(Loads!$B$304*D$45+Loads!$C$304*D$83)/$B$121,0)","v":0.45869463960436291},{"$f":"IF($C$13>0,$B161*Input!$F$14*24/$C$13,0)","v":1.2546307366930314}]
["LV Sub Medium Non-Domestic",{"$f":"IF($B$122>0,(Loads!$B$305*B$46+Loads!$C$305*B$84)/$B$122,0)","v":0.11026289554655438},{"$f":"IF($B$122>0,(Loads!$B$305*C$46+Loads!$C$305*C$84)/$B$122,0)","v":0.42196562331635934},{"$f":"IF($B$122>0,(Loads!$B$305*D$46+Loads!$C$305*D$84)/$B$122,0)","v":0.46777148113708628},{"$f":"IF($C$13>0,$B162*Input!$F$14*24/$C$13,0)","v":1.2335925478771601}]
["HV Medium Non-Domestic",{"$f":"IF($B$123>0,(Loads!$B$306*B$47+Loads!$C$306*B$85)/$B$123,0)","v":0.10415876706218856},{"$f":"IF($B$123>0,(Loads!$B$306*C$47+Loads!$C$306*C$85)/$B$123,0)","v":0.4446410624602351},{"$f":"IF($B$123>0,(Loads!$B$306*D$47+Loads!$C$306*D$85)/$B$123,0)","v":0.45120017047757643},{"$f":"IF($C$13>0,$B163*Input!$F$14*24/$C$13,0)","v":1.1653011487417264}]
[]
["2409. Calculation of implied load coefficients for three-rate users"]
["Data sources:"]
["x1 = 2407. All units (MWh)"]
["x2 = 2305. Rate 1 units (MWh) (in Equivalent volume for each end user)"]
["x3 = 2403. Split of rate 1 units between distribution time bands"]
["x4 = 2305. Rate 2 units (MWh) (in Equivalent volume for each end user)"]
["x5 = 2405. Split of rate 2 units between distribution time bands"]
["x6 = 2305. Rate 3 units (MWh) (in Equivalent volume for each end user)"]
["x7 = 2406. Split of rate 3 units between distribution time bands (default)"]
["x8 = 2401. Annual hours by distribution time band (reconciled to days in year) (in Adjust annual hours by distribution time band to match days in year)"]
["x9 = Use of distribution time bands by units in demand forecast for three-rate tariffs (in Calculation of implied load coefficients for three-rate users)"]
["x10 = 1010. Days in the charging year (in Financial and general assumptions)"]
["Kind:","Calculation",null,null,"Calculation"]
["Formula:","=IF(x1>0,(x2*x3+x4*x5+x6*x7)/x1,0)",null,null,"=IF(x8>0,x9*x10*24/x8,0)"]
[]
[null,"Use of distribution time bands by units in demand forecast for three-rate tariffs"]
[null,"Red","Amber","Green","First-time-band load coefficient for three-rate tariffs"]
["LV HH Metered",{"$f":"IF($B$124>0,(Loads!$B$307*B$48+Loads!$C$307*B$86+Loads!$D$307*B$98)/$B$124,0)","v":0.11018141747829385},{"$f":"IF($B$124>0,(Loads!$B$307*C$48+Loads!$C$307*C$86+Loads!$D$307*C$98)/$B$124,0)","v":0.43817041877648272},{"$f":"IF($B$124>0,(Loads!$B$307*D$48+Loads!$C$307*D$86+Loads!$D$307*D$98)/$B$124,0)","v":0.45164816374522349},{"$f":"IF($C$13>0,$B182*Input!$F$14*24/$C$13,0)","v":1.2326809924774638}]
["LV Sub HH Metered",{"$f":"IF($B$125>0,(Loads!$B$308*B$49+Loads!$C$308*B$87+Loads!$D$308*B$99)/$B$125,0)","v":0.10666876326334476},{"$f":"IF($B$125>0,(Loads!$B$308*C$49+Loads!$C$308*C$87+Loads!$D$308*C$99)/$B$125,0)","v":0.39269712305617982},{"$f":"IF($B$125>0,(Loads!$B$308*D$49+Loads!$C$308*D$87+Loads!$D$308*D$99)/$B$125,0)","v":0.50063411368047539},{"$f":"IF($C$13>0,$B183*Input!$F$14*24/$C$13,0)","v":1.1933823322948915}]
["HV HH Metered",{"$f":"IF($B$126>0,(Loads!$B$309*B$50+Loads!$C$309*B$88+Loads!$D$309*B$100)/$B$126,0)","v":9.9345661420439699E-2},{"$f":"IF($B$126>0,(Loads!$B$309*C$50+Loads!$C$309*C$88+Loads!$D$309*C$100)/$B$126,0)","v":0.39642283026101027},{"$f":"IF($B$126>0,(Loads!$B$309*D$50+Loads!$C$309*D$88+Loads!$D$309*D$100)/$B$126,0)","v":0.50423150831855001},{"$f":"IF($C$13>0,$B184*Input!$F$14*24/$C$13,0)","v":1.1114533768110495}]
["HV Sub HH Metered",{"$f":"IF($B$127>0,(Loads!$B$310*B$51+Loads!$C$310*B$89+Loads!$D$310*B$101)/$B$127,0)","v":0},{"$f":"IF($B$127>0,(Loads!$B$310*C$51+Loads!$C$310*C$89+Loads!$D$310*C$101)/$B$127,0)","v":0},{"$f":"IF($B$127>0,(Loads!$B$310*D$51+Loads!$C$310*D$89+Loads!$D$310*D$101)/$B$127,0)","v":0},{"$f":"IF($C$13>0,$B185*Input!$F$14*24/$C$13,0)","v":0}]
[]
["2410. Calculation of adjusted time band load coefficients"]
["Data sources:"]
["x1 = 2408. First-time-band load coefficient for two-rate tariffs (in Calculation of implied load coefficients for two-rate users)"]
["x2 = 2409. First-time-band load coefficient for three-rate tariffs (in Calculation of implied load coefficients for three-rate users)"]
["x3 = First-time-band load coefficient (in Calculation of adjusted time band load coefficients)"]
["x4 = 2302. Load coefficient"]
["Kind:","Combine tables","Calculation"]
["Formula:","= x1 or x2","=IF(x3<>0,x4/x3,IF(x4<0,-1,1))"]
[]
[null,"First-time-band load coefficient","Load coefficient correction factor (kW at peak in band / band average kW)"]
["Domestic Two Rate",{"$f":"E$159","v":0.95310298979575037},{"$f":"IF($B197<>0,Loads!B$46/$B197,IF(Loads!B$46<0,-1,1))","v":1.6452055110582862}]
["Domestic Off Peak (related MPAN)",null,{"$f":"IF($B198<>0,Loads!B$47/$B198,IF(Loads!B$47<0,-1,1))","v":1}]
["Small Non Domestic Two Rate",{"$f":"E$160","v":1.0254200622727379},{"$f":"IF($B199<>0,Loads!B$49/$B199,IF(Loads!B$49<0,-1,1))","v":1.4010662423108684}]
["Small Non Domestic Off Peak (related MPAN)",null,{"$f":"IF($B200<>0,Loads!B$50/$B200,IF(Loads!B$50<0,-1,1))","v":1}]
["LV Medium Non-Domestic",{"$f":"E$161","v":1.2546307366930314},{"$f":"IF($B201<>0,Loads!B$51/$B201,IF(Loads!B$51<0,-1,1))","v":1.3035279412285519}]
["LV Sub Medium Non-Domestic",{"$f":"E$162","v":1.2335925478771601},{"$f":"IF($B202<>0,Loads!B$52/$B202,IF(Loads!B$52<0,-1,1))","v":1.3257588366741533}]
["HV Medium Non-Domestic",{"$f":"E$163","v":1.1653011487417264},{"$f":"IF($B203<>0,Loads!B$53/$B203,IF(Loads!B$53<0,-1,1))","v":1.2420684613228075}]
["LV HH Metered",{"$f":"E$182","v":1.2326809924774638},{"$f":"IF($B204<>0,Loads!B$54/$B204,IF(Loads!B$54<0,-1,1))","v":1.1903868353339282}]
["LV Sub HH Metered",{"$f":"E$183","v":1.1933823322948915},{"$f":"IF($B205<>0,Loads!B$55/$B205,IF(Loads!B$55<0,-1,1))","v":1.2295868523457736}]
["HV HH Metered",{"$f":"E$184","v":1.1114533768110495},{"$f":"IF($B206<>0,Loads!B$56/$B206,IF(Loads!B$56<0,-1,1))","v":1.0797387689470626}]
["HV Sub HH Metered",{"$f":"E$185","v":0},{"$f":"IF($B207<>0,Loads!B$57/$B207,IF(Loads!B$57<0,-1,1))","v":1}]
["LV Generation Non-Intermittent",null,{"$f":"IF($B208<>0,Loads!B$66/$B208,IF(Loads!B$66<0,-1,1))","v":-1}]
["LV Sub Generation Non-Intermittent",null,{"$f":"IF($B209<>0,Loads!B$68/$B209,IF(Loads!B$68<0,-1,1))","v":-1}]
["HV Generation Non-Intermittent",null,{"$f":"IF($B210<>0,Loads!B$70/$B210,IF(Loads!B$70<0,-1,1))","v":-1}]
["HV Sub Generation Non-Intermittent",null,{"$f":"IF($B211<>0,Loads!B$72/$B211,IF(Loads!B$72<0,-1,1))","v":-1}]
[]
["2411. Normalisation of peaking probabilities"]
["Data sources:"]
["x1 = 1069. Red, amber and green peaking probabilities (in Peaking probabilities by network level)"]
["x2 = Total probability (should be 100%) (in Normalisation of peaking probabilities)"]
["x3 = 1068. Typical annual hours by distribution time band"]
["x4 = 2401. Total hours in the year according to time band hours input data (in Adjust annual hours by distribution time band to match days in year)"]
["Kind:","Cell summation","Calculation"]
["Formula:","=SUM(x1)","=IF(x2,x1/x2,x3/x4)"]
[]
[null,null,"Normalised peaking probabilities"]
[null,"Total probability (should be 100%)","Red","Amber","Green"]
["GSPs",{"$f":"SUM(Input!$B307:$D307)","v":1},{"$f":"IF($B224,Input!B307/$B224,Input!B$300/$B$13)","v":0.90713490721324597},{"$f":"IF($B224,Input!C307/$B224,Input!C$300/$B$13)","v":8.5943651473687752E-2},{"$f":"IF($B224,Input!D307/$B224,Input!D$300/$B$13)","v":6.9214413130663024E-3}]
["132kV",{"$f":"SUM(Input!$B308:$D308)","v":1},{"$f":"IF($B225,Input!B308/$B225,Input!B$300/$B$13)","v":0.71771031215339598},{"$f":"IF($B225,Input!C308/$B225,Input!C$300/$B$13)","v":0.25348688310500261},{"$f":"IF($B225,Input!D308/$B225,Input!D$300/$B$13)","v":2.8802804741601341E-2}]
["132kV/EHV",{"$f":"SUM(Input!$B309:$D309)","v":1},{"$f":"IF($B226,Input!B309/$B226,Input!B$300/$B$13)","v":0.71771031215339598},{"$f":"IF($B226,Input!C309/$B226,Input!C$300/$B$13)","v":0.25348688310500261},{"$f":"IF($B226,Input!D309/$B226,Input!D$300/$B$13)","v":2.8802804741601341E-2}]
["EHV",{"$f":"SUM(Input!$B310:$D310)","v":1},{"$f":"IF($B227,Input!B310/$B227,Input!B$300/$B$13)","v":0.66033153174473114},{"$f":"IF($B227,Input!C310/$B227,Input!C$300/$B$13)","v":0.26482907568205305},{"$f":"IF($B227,Input!D310/$B227,Input!D$300/$B$13)","v":7.4839392573215757E-2}]
["EHV/HV",{"$f":"SUM(Input!$B311:$D311)","v":1},{"$f":"IF($B228,Input!B311/$B228,Input!B$300/$B$13)","v":0.66033153174473114},{"$f":"IF($B228,Input!C311/$B228,Input!C$300/$B$13)","v":0.26482907568205305},{"$f":"IF($B228,Input!D311/$B228,Input!D$300/$B$13)","v":7.4839392573215757E-2}]
["132kV/HV",{"$f":"SUM(Input!$B312:$D312)","v":1},{"$f":"IF($B229,Input!B312/$B229,Input!B$300/$B$13)","v":0.71771031215339598},{"$f":"IF($B229,Input!C312/$B229,Input!C$300/$B$13)","v":0.25348688310500261},{"$f":"IF($B229,Input!D312/$B229,Input!D$300/$B$13)","v":2.8802804741601341E-2}]
["HV",{"$f":"SUM(Input!$B313:$D313)","v":1},{"$f":"IF($B230,Input!B313/$B230,Input!B$300/$B$13)","v":0.66033153174473114},{"$f":"IF($B230,Input!C313/$B230,Input!C$300/$B$13)","v":0.26482907568205305},{"$f":"IF($B230,Input!D313/$B230,Input!D$300/$B$13)","v":7.4839392573215757E-2}]
["HV/LV",{"$f":"SUM(Input!$B314:$D314)","v":1},{"$f":"IF($B231,Input!B314/$B231,Input!B$300/$B$13)","v":0.66033153174473114},{"$f":"IF($B231,Input!C314/$B231,Input!C$300/$B$13)","v":0.26482907568205305},{"$f":"IF($B231,Input!D314/$B231,Input!D$300/$B$13)","v":7.4839392573215757E-2}]
["LV circuits",{"$f":"SUM(Input!$B315:$D315)","v":1},{"$f":"IF($B232,Input!B315/$B232,Input!B$300/$B$13)","v":0.66033153174473114},{"$f":"IF($B232,Input!C315/$B232,Input!C$300/$B$13)","v":0.26482907568205305},{"$f":"IF($B232,Input!D315/$B232,Input!D$300/$B$13)","v":7.4839392573215757E-2}]
[]
["2412. Peaking probabilities by network level (reshaped)"]
["Data sources:"]
["x1 = 2411. Normalised peaking probabilities (in Normalisation of peaking probabilities)"]
["Reshape table = x1"]
[]
[null,"GSPs","Red","Amber","Green","132kV","Red","Amber","Green","132kV/EHV","Red","Amber","Green","EHV","Red","Amber","Green","EHV/HV","Red","Amber","Green","132kV/HV","Red","Amber","Green","HV","Red","Amber","Green","HV/LV","Red","Amber","Green","LV circuits","Red","Amber","Green"]
["Probability of peak within timeband",null,{"$f":"C$224","v":0.90713490721324597},{"$f":"D$224","v":8.5943651473687752E-2},{"$f":"E$224","v":6.9214413130663024E-3},null,{"$f":"C$225","v":0.71771031215339598},{"$f":"D$225","v":0.25348688310500261},{"$f":"E$225","v":2.8802804741601341E-2},null,{"$f":"C$226","v":0.71771031215339598},{"$f":"D$226","v":0.25348688310500261},{"$f":"E$226","v":2.8802804741601341E-2},null,{"$f":"C$227","v":0.66033153174473114},{"$f":"D$227","v":0.26482907568205305},{"$f":"E$227","v":7.4839392573215757E-2},null,{"$f":"C$228","v":0.66033153174473114},{"$f":"D$228","v":0.26482907568205305},{"$f":"E$228","v":7.4839392573215757E-2},null,{"$f":"C$229","v":0.71771031215339598},{"$f":"D$229","v":0.25348688310500261},{"$f":"E$229","v":2.8802804741601341E-2},null,{"$f":"C$230","v":0.66033153174473114},{"$f":"D$230","v":0.26482907568205305},{"$f":"E$230","v":7.4839392573215757E-2},null,{"$f":"C$231","v":0.66033153174473114},{"$f":"D$231","v":0.26482907568205305},{"$f":"E$231","v":7.4839392573215757E-2},null,{"$f":"C$232","v":0.66033153174473114},{"$f":"D$232","v":0.26482907568205305},{"$f":"E$232","v":7.4839392573215757E-2}]
[]
["2413. Pseudo load coefficient by time band and network level"]
["Data sources:"]
["x1 = 2401. Annual hours by distribution time band (reconciled to days in year) (in Adjust annual hours by distribution time band to match days in year)"]
["x2 = 2410. Load coefficient correction factor (kW at peak in band / band average kW) (in Calculation of adjusted time band load coefficients)"]
["x3 = 2412. Peaking probabilities by network level (reshaped)"]
["x4 = 1010. Days in the charging year (in Financial and general assumptions)"]
["Calculation =IF(x1>0,x2*x3*24*x4/x1,0)"]
[]
[null,"GSPs","Red","Amber","Green","132kV","Red","Amber","Green","132kV/EHV","Red","Amber","Green","EHV","Red","Amber","Green","EHV/HV","Red","Amber","Green","132kV/HV","Red","Amber","Green","HV","Red","Amber","Green","HV/LV","Red","Amber","Green","LV circuits","Red","Amber","Green"]
["Domestic Two Rate",null,{"$f":"IF(C$13>0,$C197*C$240*24*Input!$F$14/C$13,0)","v":16.696843593762804},{"$f":"IF(D$13>0,$C197*D$240*24*Input!$F$14/D$13,0)","v":0.45196859289693742},{"$f":"IF(E$13>0,$C197*E$240*24*Input!$F$14/E$13,0)","v":1.9049329536953132E-2},null,{"$f":"IF(C$13>0,$C197*G$240*24*Input!$F$14/C$13,0)","v":13.210269754109344},{"$f":"IF(D$13>0,$C197*H$240*24*Input!$F$14/D$13,0)","v":1.3330607660982885},{"$f":"IF(E$13>0,$C197*I$240*24*Input!$F$14/E$13,0)","v":7.927165662381512E-2},null,{"$f":"IF(C$13>0,$C197*K$240*24*Input!$F$14/C$13,0)","v":13.210269754109344},{"$f":"IF(D$13>0,$C197*L$240*24*Input!$F$14/D$13,0)","v":1.3330607660982885},{"$f":"IF(E$13>0,$C197*M$240*24*Input!$F$14/E$13,0)","v":7.927165662381512E-2},null,{"$f":"IF(C$13>0,$C197*O$240*24*Input!$F$14/C$13,0)","v":12.154148426987794},{"$f":"IF(D$13>0,$C197*P$240*24*Input!$F$14/D$13,0)","v":1.3927081598442363},{"$f":"IF(E$13>0,$C197*Q$240*24*Input!$F$14/E$13,0)","v":0.20597447655609891},null,{"$f":"IF(C$13>0,$C197*S$240*24*Input!$F$14/C$13,0)","v":12.154148426987794},{"$f":"IF(D$13>0,$C197*T$240*24*Input!$F$14/D$13,0)","v":1.3927081598442363},{"$f":"IF(E$13>0,$C197*U$240*24*Input!$F$14/E$13,0)","v":0.20597447655609891},null,{"$f":"IF(C$13>0,$C197*W$240*24*Input!$F$14/C$13,0)","v":13.210269754109344},{"$f":"IF(D$13>0,$C197*X$240*24*Input!$F$14/D$13,0)","v":1.3330607660982885},{"$f":"IF(E$13>0,$C197*Y$240*24*Input!$F$14/E$13,0)","v":7.927165662381512E-2},null,{"$f":"IF(C$13>0,$C197*AA$240*24*Input!$F$14/C$13,0)","v":12.154148426987794},{"$f":"IF(D$13>0,$C197*AB$240*24*Input!$F$14/D$13,0)","v":1.3927081598442363},{"$f":"IF(E$13>0,$C197*AC$240*24*Input!$F$14/E$13,0)","v":0.20597447655609891},null,{"$f":"IF(C$13>0,$C197*AE$240*24*Input!$F$14/C$13,0)","v":12.154148426987794},{"$f":"IF(D$13>0,$C197*AF$240*24*Input!$F$14/D$13,0)","v":1.3927081598442363},{"$f":"IF(E$13>0,$C197*AG$240*24*Input!$F$14/E$13,0)","v":0.20597447655609891},null,{"$f":"IF(C$13>0,$C197*AI$240*24*Input!$F$14/C$13,0)","v":12.154148426987794},{"$f":"IF(D$13>0,$C197*AJ$240*24*Input!$F$14/D$13,0)","v":1.3927081598442363},{"$f":"IF(E$13>0,$C197*AK$240*24*Input!$F$14/E$13,0)","v":0.20597447655609891}]
["Domestic Off Peak (related MPAN)",null,{"$f":"IF(C$13>0,$C198*C$240*24*Input!$F$14/C$13,0)","v":10.148789000240146},{"$f":"IF(D$13>0,$C198*D$240*24*Input!$F$14/D$13,0)","v":0.27471862321091212},{"$f":"IF(E$13>0,$C198*E$240*24*Input!$F$14/E$13,0)","v":1.1578693001520254E-2},null,{"$f":"IF(C$13>0,$C198*G$240*24*Input!$F$14/C$13,0)","v":8.0295559827123224},{"$f":"IF(D$13>0,$C198*H$240*24*Input!$F$14/D$13,0)","v":0.81027005874833902},{"$f":"IF(E$13>0,$C198*I$240*24*Input!$F$14/E$13,0)","v":4.8183437321956984E-2},null,{"$f":"IF(C$13>0,$C198*K$240*24*Input!$F$14/C$13,0)","v":8.0295559827123224},{"$f":"IF(D$13>0,$C198*L$240*24*Input!$F$14/D$13,0)","v":0.81027005874833902},{"$f":"IF(E$13>0,$C198*M$240*24*Input!$F$14/E$13,0)","v":4.8183437321956984E-2},null,{"$f":"IF(C$13>0,$C198*O$240*24*Input!$F$14/C$13,0)","v":7.3876171367609764},{"$f":"IF(D$13>0,$C198*P$240*24*Input!$F$14/D$13,0)","v":0.8465253431763492},{"$f":"IF(E$13>0,$C198*Q$240*24*Input!$F$14/E$13,0)","v":0.12519680682543111},null,{"$f":"IF(C$13>0,$C198*S$240*24*Input!$F$14/C$13,0)","v":7.3876171367609764},{"$f":"IF(D$13>0,$C198*T$240*24*Input!$F$14/D$13,0)","v":0.8465253431763492},{"$f":"IF(E$13>0,$C198*U$240*24*Input!$F$14/E$13,0)","v":0.12519680682543111},null,{"$f":"IF(C$13>0,$C198*W$240*24*Input!$F$14/C$13,0)","v":8.0295559827123224},{"$f":"IF(D$13>0,$C198*X$240*24*Input!$F$14/D$13,0)","v":0.81027005874833902},{"$f":"IF(E$13>0,$C198*Y$240*24*Input!$F$14/E$13,0)","v":4.8183437321956984E-2},null,{"$f":"IF(C$13>0,$C198*AA$240*24*Input!$F$14/C$13,0)","v":7.3876171367609764},{"$f":"IF(D$13>0,$C198*AB$240*24*Input!$F$14/D$13,0)","v":0.8465253431763492},{"$f":"IF(E$13>0,$C198*AC$240*24*Input!$F$14/E$13,0)","v":0.12519680682543111},null,{"$f":"IF(C$13>0,$C198*AE$240*24*Input!$F$14/C$13,0)","v":7.3876171367609764},{"$f":"IF(D$13>0,$C198*AF$240*24*Input!$F$14/D$13,0)","v":0.8465253431763492},{"$f":"IF(E$13>0,$C198*AG$240*24*Input!$F$14/E$13,0)","v":0.12519680682543111},null,{"$f":"IF(C$13>0,$C198*AI$240*24*Input!$F$14/C$13,0)","v":7.3876171367609764},{"$f":"IF(D$13>0,$C198*AJ$240*24*Input!$F$14/D$13,0)","v":0.8465253431763492},{"$f":"IF(E$13>0,$C198*AK$240*24*Input!$F$14/E$13,0)","v":0.12519680682543111}]
["Small Non Domestic Two Rate",null,{"$f":"IF(C$13>0,$C199*C$240*24*Input!$F$14/C$13,0)","v":14.219125668572337},{"$f":"IF(D$13>0,$C199*D$240*24*Input!$F$14/D$13,0)","v":0.38489898911492793},{"$f":"IF(E$13>0,$C199*E$240*24*Input!$F$14/E$13,0)","v":1.6222515894511132E-2},null,{"$f":"IF(C$13>0,$C199*G$240*24*Input!$F$14/C$13,0)","v":11.249939828123507},{"$f":"IF(D$13>0,$C199*H$240*24*Input!$F$14/D$13,0)","v":1.1352420264675418},{"$f":"IF(E$13>0,$C199*I$240*24*Input!$F$14/E$13,0)","v":6.7508187470295522E-2},null,{"$f":"IF(C$13>0,$C199*K$240*24*Input!$F$14/C$13,0)","v":11.249939828123507},{"$f":"IF(D$13>0,$C199*L$240*24*Input!$F$14/D$13,0)","v":1.1352420264675418},{"$f":"IF(E$13>0,$C199*M$240*24*Input!$F$14/E$13,0)","v":6.7508187470295522E-2},null,{"$f":"IF(C$13>0,$C199*O$240*24*Input!$F$14/C$13,0)","v":10.350540981433079},{"$f":"IF(D$13>0,$C199*P$240*24*Input!$F$14/D$13,0)","v":1.1860380815850058},{"$f":"IF(E$13>0,$C199*Q$240*24*Input!$F$14/E$13,0)","v":0.17540901968822648},null,{"$f":"IF(C$13>0,$C199*S$240*24*Input!$F$14/C$13,0)","v":10.350540981433079},{"$f":"IF(D$13>0,$C199*T$240*24*Input!$F$14/D$13,0)","v":1.1860380815850058},{"$f":"IF(E$13>0,$C199*U$240*24*Input!$F$14/E$13,0)","v":0.17540901968822648},null,{"$f":"IF(C$13>0,$C199*W$240*24*Input!$F$14/C$13,0)","v":11.249939828123507},{"$f":"IF(D$13>0,$C199*X$240*24*Input!$F$14/D$13,0)","v":1.1352420264675418},{"$f":"IF(E$13>0,$C199*Y$240*24*Input!$F$14/E$13,0)","v":6.7508187470295522E-2},null,{"$f":"IF(C$13>0,$C199*AA$240*24*Input!$F$14/C$13,0)","v":10.350540981433079},{"$f":"IF(D$13>0,$C199*AB$240*24*Input!$F$14/D$13,0)","v":1.1860380815850058},{"$f":"IF(E$13>0,$C199*AC$240*24*Input!$F$14/E$13,0)","v":0.17540901968822648},null,{"$f":"IF(C$13>0,$C199*AE$240*24*Input!$F$14/C$13,0)","v":10.350540981433079},{"$f":"IF(D$13>0,$C199*AF$240*24*Input!$F$14/D$13,0)","v":1.1860380815850058},{"$f":"IF(E$13>0,$C199*AG$240*24*Input!$F$14/E$13,0)","v":0.17540901968822648},null,{"$f":"IF(C$13>0,$C199*AI$240*24*Input!$F$14/C$13,0)","v":10.350540981433079},{"$f":"IF(D$13>0,$C199*AJ$240*24*Input!$F$14/D$13,0)","v":1.1860380815850058},{"$f":"IF(E$13>0,$C199*AK$240*24*Input!$F$14/E$13,0)","v":0.17540901968822648}]
["Small Non Domestic Off Peak (related MPAN)",null,{"$f":"IF(C$13>0,$C200*C$240*24*Input!$F$14/C$13,0)","v":10.148789000240146},{"$f":"IF(D$13>0,$C200*D$240*24*Input!$F$14/D$13,0)","v":0.27471862321091212},{"$f":"IF(E$13>0,$C200*E$240*24*Input!$F$14/E$13,0)","v":1.1578693001520254E-2},null,{"$f":"IF(C$13>0,$C200*G$240*24*Input!$F$14/C$13,0)","v":8.0295559827123224},{"$f":"IF(D$13>0,$C200*H$240*24*Input!$F$14/D$13,0)","v":0.81027005874833902},{"$f":"IF(E$13>0,$C200*I$240*24*Input!$F$14/E$13,0)","v":4.8183437321956984E-2},null,{"$f":"IF(C$13>0,$C200*K$240*24*Input!$F$14/C$13,0)","v":8.0295559827123224},{"$f":"IF(D$13>0,$C200*L$240*24*Input!$F$14/D$13,0)","v":0.81027005874833902},{"$f":"IF(E$13>0,$C200*M$240*24*Input!$F$14/E$13,0)","v":4.8183437321956984E-2},null,{"$f":"IF(C$13>0,$C200*O$240*24*Input!$F$14/C$13,0)","v":7.3876171367609764},{"$f":"IF(D$13>0,$C200*P$240*24*Input!$F$14/D$13,0)","v":0.8465253431763492},{"$f":"IF(E$13>0,$C200*Q$240*24*Input!$F$14/E$13,0)","v":0.12519680682543111},null,{"$f":"IF(C$13>0,$C200*S$240*24*Input!$F$14/C$13,0)","v":7.3876171367609764},{"$f":"IF(D$13>0,$C200*T$240*24*Input!$F$14/D$13,0)","v":0.8465253431763492},{"$f":"IF(E$13>0,$C200*U$240*24*Input!$F$14/E$13,0)","v":0.12519680682543111},null,{"$f":"IF(C$13>0,$C200*W$240*24*Input!$F$14/C$13,0)","v":8.0295559827123224},{"$f":"IF(D$13>0,$C200*X$240*24*Input!$F$14/D$13,0)","v":0.81027005874833902},{"$f":"IF(E$13>0,$C200*Y$240*24*Input!$F$14/E$13,0)","v":4.8183437321956984E-2},null,{"$f":"IF(C$13>0,$C200*AA$240*24*Input!$F$14/C$13,0)","v":7.3876171367609764},{"$f":"IF(D$13>0,$C200*AB$240*24*Input!$F$14/D$13,0)","v":0.8465253431763492},{"$f":"IF(E$13>0,$C200*AC$240*24*Input!$F$14/E$13,0)","v":0.12519680682543111},null,{"$f":"IF(C$13>0,$C200*AE$240*24*Input!$F$14/C$13,0)","v":7.3876171367609764},{"$f":"IF(D$13>0,$C200*AF$240*24*Input!$F$14/D$13,0)","v":0.8465253431763492},{"$f":"IF(E$13>0,$C200*AG$240*24*Input!$F$14/E$13,0)","v":0.12519680682543111},null,{"$f":"IF(C$13>0,$C200*AI$240*24*Input!$F$14/C$13,0)","v":7.3876171367609764},{"$f":"IF(D$13>0,$C200*AJ$240*24*Input!$F$14/D$13,0)","v":0.8465253431763492},{"$f":"IF(E$13>0,$C200*AK$240*24*Input!$F$14/E$13,0)","v":0.12519680682543111}]
["LV Medium Non-Domestic",null,{"$f":"IF(C$13>0,$C201*C$240*24*Input!$F$14/C$13,0)","v":13.22923003144601},{"$f":"IF(D$13>0,$C201*D$240*24*Input!$F$14/D$13,0)","v":0.35810340133126256},{"$f":"IF(E$13>0,$C201*E$240*24*Input!$F$14/E$13,0)","v":1.5093149850389138E-2},null,{"$f":"IF(C$13>0,$C201*G$240*24*Input!$F$14/C$13,0)","v":10.466750579124396},{"$f":"IF(D$13>0,$C201*H$240*24*Input!$F$14/D$13,0)","v":1.0562096615193599},{"$f":"IF(E$13>0,$C201*I$240*24*Input!$F$14/E$13,0)","v":6.280845685360556E-2},null,{"$f":"IF(C$13>0,$C201*K$240*24*Input!$F$14/C$13,0)","v":10.466750579124396},{"$f":"IF(D$13>0,$C201*L$240*24*Input!$F$14/D$13,0)","v":1.0562096615193599},{"$f":"IF(E$13>0,$C201*M$240*24*Input!$F$14/E$13,0)","v":6.280845685360556E-2},null,{"$f":"IF(C$13>0,$C201*O$240*24*Input!$F$14/C$13,0)","v":9.6299653568668049},{"$f":"IF(D$13>0,$C201*P$240*24*Input!$F$14/D$13,0)","v":1.10346943778846},{"$f":"IF(E$13>0,$C201*Q$240*24*Input!$F$14/E$13,0)","v":0.16319753584954294},null,{"$f":"IF(C$13>0,$C201*S$240*24*Input!$F$14/C$13,0)","v":9.6299653568668049},{"$f":"IF(D$13>0,$C201*T$240*24*Input!$F$14/D$13,0)","v":1.10346943778846},{"$f":"IF(E$13>0,$C201*U$240*24*Input!$F$14/E$13,0)","v":0.16319753584954294},null,{"$f":"IF(C$13>0,$C201*W$240*24*Input!$F$14/C$13,0)","v":10.466750579124396},{"$f":"IF(D$13>0,$C201*X$240*24*Input!$F$14/D$13,0)","v":1.0562096615193599},{"$f":"IF(E$13>0,$C201*Y$240*24*Input!$F$14/E$13,0)","v":6.280845685360556E-2},null,{"$f":"IF(C$13>0,$C201*AA$240*24*Input!$F$14/C$13,0)","v":9.6299653568668049},{"$f":"IF(D$13>0,$C201*AB$240*24*Input!$F$14/D$13,0)","v":1.10346943778846},{"$f":"IF(E$13>0,$C201*AC$240*24*Input!$F$14/E$13,0)","v":0.16319753584954294},null,{"$f":"IF(C$13>0,$C201*AE$240*24*Input!$F$14/C$13,0)","v":9.6299653568668049},{"$f":"IF(D$13>0,$C201*AF$240*24*Input!$F$14/D$13,0)","v":1.10346943778846},{"$f":"IF(E$13>0,$C201*AG$240*24*Input!$F$14/E$13,0)","v":0.16319753584954294},null,{"$f":"IF(C$13>0,$C201*AI$240*24*Input!$F$14/C$13,0)","v":9.6299653568668049},{"$f":"IF(D$13>0,$C201*AJ$240*24*Input!$F$14/D$13,0)","v":1.10346943778846},{"$f":"IF(E$13>0,$C201*AK$240*24*Input!$F$14/E$13,0)","v":0.16319753584954294}]
["LV Sub Medium Non-Domestic",null,{"$f":"IF(C$13>0,$C202*C$240*24*Input!$F$14/C$13,0)","v":13.454846698609819},{"$f":"IF(D$13>0,$C202*D$240*24*Input!$F$14/D$13,0)","v":0.3642106423208239},{"$f":"IF(E$13>0,$C202*E$240*24*Input!$F$14/E$13,0)","v":1.5350554563902653E-2},null,{"$f":"IF(C$13>0,$C202*G$240*24*Input!$F$14/C$13,0)","v":10.645254798650678},{"$f":"IF(D$13>0,$C202*H$240*24*Input!$F$14/D$13,0)","v":1.0742226904780956},{"$f":"IF(E$13>0,$C202*I$240*24*Input!$F$14/E$13,0)","v":6.3879617810919678E-2},null,{"$f":"IF(C$13>0,$C202*K$240*24*Input!$F$14/C$13,0)","v":10.645254798650678},{"$f":"IF(D$13>0,$C202*L$240*24*Input!$F$14/D$13,0)","v":1.0742226904780956},{"$f":"IF(E$13>0,$C202*M$240*24*Input!$F$14/E$13,0)","v":6.3879617810919678E-2},null,{"$f":"IF(C$13>0,$C202*O$240*24*Input!$F$14/C$13,0)","v":9.7941987010262732},{"$f":"IF(D$13>0,$C202*P$240*24*Input!$F$14/D$13,0)","v":1.1222884541846652},{"$f":"IF(E$13>0,$C202*Q$240*24*Input!$F$14/E$13,0)","v":0.16598077297220223},null,{"$f":"IF(C$13>0,$C202*S$240*24*Input!$F$14/C$13,0)","v":9.7941987010262732},{"$f":"IF(D$13>0,$C202*T$240*24*Input!$F$14/D$13,0)","v":1.1222884541846652},{"$f":"IF(E$13>0,$C202*U$240*24*Input!$F$14/E$13,0)","v":0.16598077297220223},null,{"$f":"IF(C$13>0,$C202*W$240*24*Input!$F$14/C$13,0)","v":10.645254798650678},{"$f":"IF(D$13>0,$C202*X$240*24*Input!$F$14/D$13,0)","v":1.0742226904780956},{"$f":"IF(E$13>0,$C202*Y$240*24*Input!$F$14/E$13,0)","v":6.3879617810919678E-2},null,{"$f":"IF(C$13>0,$C202*AA$240*24*Input!$F$14/C$13,0)","v":9.7941987010262732},{"$f":"IF(D$13>0,$C202*AB$240*24*Input!$F$14/D$13,0)","v":1.1222884541846652},{"$f":"IF(E$13>0,$C202*AC$240*24*Input!$F$14/E$13,0)","v":0.16598077297220223},null,{"$f":"IF(C$13>0,$C202*AE$240*24*Input!$F$14/C$13,0)","v":9.7941987010262732},{"$f":"IF(D$13>0,$C202*AF$240*24*Input!$F$14/D$13,0)","v":1.1222884541846652},{"$f":"IF(E$13>0,$C202*AG$240*24*Input!$F$14/E$13,0)","v":0.16598077297220223},null,{"$f":"IF(C$13>0,$C202*AI$240*24*Input!$F$14/C$13,0)","v":9.7941987010262732},{"$f":"IF(D$13>0,$C202*AJ$240*24*Input!$F$14/D$13,0)","v":1.1222884541846652},{"$f":"IF(E$13>0,$C202*AK$240*24*Input!$F$14/E$13,0)","v":0.16598077297220223}]
["HV Medium Non-Domestic",null,{"$f":"IF(C$13>0,$C203*C$240*24*Input!$F$14/C$13,0)","v":12.605490737818112},{"$f":"IF(D$13>0,$C203*D$240*24*Input!$F$14/D$13,0)","v":0.34121933762829776},{"$f":"IF(E$13>0,$C203*E$240*24*Input!$F$14/E$13,0)","v":1.4381529400527419E-2},null,{"$f":"IF(C$13>0,$C203*G$240*24*Input!$F$14/C$13,0)","v":9.9732582445528379},{"$f":"IF(D$13>0,$C203*H$240*24*Input!$F$14/D$13,0)","v":1.0064108851254903},{"$f":"IF(E$13>0,$C203*I$240*24*Input!$F$14/E$13,0)","v":5.9847127855727052E-2},null,{"$f":"IF(C$13>0,$C203*K$240*24*Input!$F$14/C$13,0)","v":9.9732582445528379},{"$f":"IF(D$13>0,$C203*L$240*24*Input!$F$14/D$13,0)","v":1.0064108851254903},{"$f":"IF(E$13>0,$C203*M$240*24*Input!$F$14/E$13,0)","v":5.9847127855727052E-2},null,{"$f":"IF(C$13>0,$C203*O$240*24*Input!$F$14/C$13,0)","v":9.1759262498987102},{"$f":"IF(D$13>0,$C203*P$240*24*Input!$F$14/D$13,0)","v":1.0514424304698093},{"$f":"IF(E$13>0,$C203*Q$240*24*Input!$F$14/E$13,0)","v":0.15550300521619198},null,{"$f":"IF(C$13>0,$C203*S$240*24*Input!$F$14/C$13,0)","v":9.1759262498987102},{"$f":"IF(D$13>0,$C203*T$240*24*Input!$F$14/D$13,0)","v":1.0514424304698093},{"$f":"IF(E$13>0,$C203*U$240*24*Input!$F$14/E$13,0)","v":0.15550300521619198},null,{"$f":"IF(C$13>0,$C203*W$240*24*Input!$F$14/C$13,0)","v":9.9732582445528379},{"$f":"IF(D$13>0,$C203*X$240*24*Input!$F$14/D$13,0)","v":1.0064108851254903},{"$f":"IF(E$13>0,$C203*Y$240*24*Input!$F$14/E$13,0)","v":5.9847127855727052E-2},null,{"$f":"IF(C$13>0,$C203*AA$240*24*Input!$F$14/C$13,0)","v":9.1759262498987102},{"$f":"IF(D$13>0,$C203*AB$240*24*Input!$F$14/D$13,0)","v":1.0514424304698093},{"$f":"IF(E$13>0,$C203*AC$240*24*Input!$F$14/E$13,0)","v":0.15550300521619198},null,{"$f":"IF(C$13>0,$C203*AE$240*24*Input!$F$14/C$13,0)","v":9.1759262498987102},{"$f":"IF(D$13>0,$C203*AF$240*24*Input!$F$14/D$13,0)","v":1.0514424304698093},{"$f":"IF(E$13>0,$C203*AG$240*24*Input!$F$14/E$13,0)","v":0.15550300521619198},null,{"$f":"IF(C$13>0,$C203*AI$240*24*Input!$F$14/C$13,0)","v":9.1759262498987102},{"$f":"IF(D$13>0,$C203*AJ$240*24*Input!$F$14/D$13,0)","v":1.0514424304698093},{"$f":"IF(E$13>0,$C203*AK$240*24*Input!$F$14/E$13,0)","v":0.15550300521619198}]
["LV HH Metered",null,{"$f":"IF(C$13>0,$C204*C$240*24*Input!$F$14/C$13,0)","v":12.080984820467647},{"$f":"IF(D$13>0,$C204*D$240*24*Input!$F$14/D$13,0)","v":0.32702143249133153},{"$f":"IF(E$13>0,$C204*E$240*24*Input!$F$14/E$13,0)","v":1.3783123719382798E-2},null,{"$f":"IF(C$13>0,$C204*G$240*24*Input!$F$14/C$13,0)","v":9.5582777353975317},{"$f":"IF(D$13>0,$C204*H$240*24*Input!$F$14/D$13,0)","v":0.9645348109992713},{"$f":"IF(E$13>0,$C204*I$240*24*Input!$F$14/E$13,0)","v":5.7356929469195059E-2},null,{"$f":"IF(C$13>0,$C204*K$240*24*Input!$F$14/C$13,0)","v":9.5582777353975317},{"$f":"IF(D$13>0,$C204*L$240*24*Input!$F$14/D$13,0)","v":0.9645348109992713},{"$f":"IF(E$13>0,$C204*M$240*24*Input!$F$14/E$13,0)","v":5.7356929469195059E-2},null,{"$f":"IF(C$13>0,$C204*O$240*24*Input!$F$14/C$13,0)","v":8.7941221840875965},{"$f":"IF(D$13>0,$C204*P$240*24*Input!$F$14/D$13,0)","v":1.0076926242936617},{"$f":"IF(E$13>0,$C204*Q$240*24*Input!$F$14/E$13,0)","v":0.14903263067083811},null,{"$f":"IF(C$13>0,$C204*S$240*24*Input!$F$14/C$13,0)","v":8.7941221840875965},{"$f":"IF(D$13>0,$C204*T$240*24*Input!$F$14/D$13,0)","v":1.0076926242936617},{"$f":"IF(E$13>0,$C204*U$240*24*Input!$F$14/E$13,0)","v":0.14903263067083811},null,{"$f":"IF(C$13>0,$C204*W$240*24*Input!$F$14/C$13,0)","v":9.5582777353975317},{"$f":"IF(D$13>0,$C204*X$240*24*Input!$F$14/D$13,0)","v":0.9645348109992713},{"$f":"IF(E$13>0,$C204*Y$240*24*Input!$F$14/E$13,0)","v":5.7356929469195059E-2},null,{"$f":"IF(C$13>0,$C204*AA$240*24*Input!$F$14/C$13,0)","v":8.7941221840875965},{"$f":"IF(D$13>0,$C204*AB$240*24*Input!$F$14/D$13,0)","v":1.0076926242936617},{"$f":"IF(E$13>0,$C204*AC$240*24*Input!$F$14/E$13,0)","v":0.14903263067083811},null,{"$f":"IF(C$13>0,$C204*AE$240*24*Input!$F$14/C$13,0)","v":8.7941221840875965},{"$f":"IF(D$13>0,$C204*AF$240*24*Input!$F$14/D$13,0)","v":1.0076926242936617},{"$f":"IF(E$13>0,$C204*AG$240*24*Input!$F$14/E$13,0)","v":0.14903263067083811},null,{"$f":"IF(C$13>0,$C204*AI$240*24*Input!$F$14/C$13,0)","v":8.7941221840875965},{"$f":"IF(D$13>0,$C204*AJ$240*24*Input!$F$14/D$13,0)","v":1.0076926242936617},{"$f":"IF(E$13>0,$C204*AK$240*24*Input!$F$14/E$13,0)","v":0.14903263067083811}]
["LV Sub HH Metered",null,{"$f":"IF(C$13>0,$C205*C$240*24*Input!$F$14/C$13,0)","v":12.478817521926691},{"$f":"IF(D$13>0,$C205*D$240*24*Input!$F$14/D$13,0)","v":0.33779040719467002},{"$f":"IF(E$13>0,$C205*E$240*24*Input!$F$14/E$13,0)","v":1.4237008682017327E-2},null,{"$f":"IF(C$13>0,$C205*G$240*24*Input!$F$14/C$13,0)","v":9.8730364665174193},{"$f":"IF(D$13>0,$C205*H$240*24*Input!$F$14/D$13,0)","v":0.99629741108639502},{"$f":"IF(E$13>0,$C205*I$240*24*Input!$F$14/E$13,0)","v":5.9245721031904959E-2},null,{"$f":"IF(C$13>0,$C205*K$240*24*Input!$F$14/C$13,0)","v":9.8730364665174193},{"$f":"IF(D$13>0,$C205*L$240*24*Input!$F$14/D$13,0)","v":0.99629741108639502},{"$f":"IF(E$13>0,$C205*M$240*24*Input!$F$14/E$13,0)","v":5.9245721031904959E-2},null,{"$f":"IF(C$13>0,$C205*O$240*24*Input!$F$14/C$13,0)","v":9.0837169015256247},{"$f":"IF(D$13>0,$C205*P$240*24*Input!$F$14/D$13,0)","v":1.0408764321471329},{"$f":"IF(E$13>0,$C205*Q$240*24*Input!$F$14/E$13,0)","v":0.1539403476282237},null,{"$f":"IF(C$13>0,$C205*S$240*24*Input!$F$14/C$13,0)","v":9.0837169015256247},{"$f":"IF(D$13>0,$C205*T$240*24*Input!$F$14/D$13,0)","v":1.0408764321471329},{"$f":"IF(E$13>0,$C205*U$240*24*Input!$F$14/E$13,0)","v":0.1539403476282237},null,{"$f":"IF(C$13>0,$C205*W$240*24*Input!$F$14/C$13,0)","v":9.8730364665174193},{"$f":"IF(D$13>0,$C205*X$240*24*Input!$F$14/D$13,0)","v":0.99629741108639502},{"$f":"IF(E$13>0,$C205*Y$240*24*Input!$F$14/E$13,0)","v":5.9245721031904959E-2},null,{"$f":"IF(C$13>0,$C205*AA$240*24*Input!$F$14/C$13,0)","v":9.0837169015256247},{"$f":"IF(D$13>0,$C205*AB$240*24*Input!$F$14/D$13,0)","v":1.0408764321471329},{"$f":"IF(E$13>0,$C205*AC$240*24*Input!$F$14/E$13,0)","v":0.1539403476282237},null,{"$f":"IF(C$13>0,$C205*AE$240*24*Input!$F$14/C$13,0)","v":9.0837169015256247},{"$f":"IF(D$13>0,$C205*AF$240*24*Input!$F$14/D$13,0)","v":1.0408764321471329},{"$f":"IF(E$13>0,$C205*AG$240*24*Input!$F$14/E$13,0)","v":0.1539403476282237},null,{"$f":"IF(C$13>0,$C205*AI$240*24*Input!$F$14/C$13,0)","v":9.0837169015256247},{"$f":"IF(D$13>0,$C205*AJ$240*24*Input!$F$14/D$13,0)","v":1.0408764321471329},{"$f":"IF(E$13>0,$C205*AK$240*24*Input!$F$14/E$13,0)","v":0.1539403476282237}]
["HV HH Metered",null,{"$f":"IF(C$13>0,$C206*C$240*24*Input!$F$14/C$13,0)","v":10.958040941422786},{"$f":"IF(D$13>0,$C206*D$240*24*Input!$F$14/D$13,0)","v":0.2966243480325822},{"$f":"IF(E$13>0,$C206*E$240*24*Input!$F$14/E$13,0)","v":1.2501963727477448E-2},null,{"$f":"IF(C$13>0,$C206*G$240*24*Input!$F$14/C$13,0)","v":8.6698228919653246},{"$f":"IF(D$13>0,$C206*H$240*24*Input!$F$14/D$13,0)","v":0.87487999574759556},{"$f":"IF(E$13>0,$C206*I$240*24*Input!$F$14/E$13,0)","v":5.2025525297647784E-2},null,{"$f":"IF(C$13>0,$C206*K$240*24*Input!$F$14/C$13,0)","v":8.6698228919653246},{"$f":"IF(D$13>0,$C206*L$240*24*Input!$F$14/D$13,0)","v":0.87487999574759556},{"$f":"IF(E$13>0,$C206*M$240*24*Input!$F$14/E$13,0)","v":5.2025525297647784E-2},null,{"$f":"IF(C$13>0,$C206*O$240*24*Input!$F$14/C$13,0)","v":7.9766966326985198},{"$f":"IF(D$13>0,$C206*P$240*24*Input!$F$14/D$13,0)","v":0.91402623192372079},{"$f":"IF(E$13>0,$C206*Q$240*24*Input!$F$14/E$13,0)","v":0.13517984607779418},null,{"$f":"IF(C$13>0,$C206*S$240*24*Input!$F$14/C$13,0)","v":7.9766966326985198},{"$f":"IF(D$13>0,$C206*T$240*24*Input!$F$14/D$13,0)","v":0.91402623192372079},{"$f":"IF(E$13>0,$C206*U$240*24*Input!$F$14/E$13,0)","v":0.13517984607779418},null,{"$f":"IF(C$13>0,$C206*W$240*24*Input!$F$14/C$13,0)","v":8.6698228919653246},{"$f":"IF(D$13>0,$C206*X$240*24*Input!$F$14/D$13,0)","v":0.87487999574759556},{"$f":"IF(E$13>0,$C206*Y$240*24*Input!$F$14/E$13,0)","v":5.2025525297647784E-2},null,{"$f":"IF(C$13>0,$C206*AA$240*24*Input!$F$14/C$13,0)","v":7.9766966326985198},{"$f":"IF(D$13>0,$C206*AB$240*24*Input!$F$14/D$13,0)","v":0.91402623192372079},{"$f":"IF(E$13>0,$C206*AC$240*24*Input!$F$14/E$13,0)","v":0.13517984607779418},null,{"$f":"IF(C$13>0,$C206*AE$240*24*Input!$F$14/C$13,0)","v":7.9766966326985198},{"$f":"IF(D$13>0,$C206*AF$240*24*Input!$F$14/D$13,0)","v":0.91402623192372079},{"$f":"IF(E$13>0,$C206*AG$240*24*Input!$F$14/E$13,0)","v":0.13517984607779418},null,{"$f":"IF(C$13>0,$C206*AI$240*24*Input!$F$14/C$13,0)","v":7.9766966326985198},{"$f":"IF(D$13>0,$C206*AJ$240*24*Input!$F$14/D$13,0)","v":0.91402623192372079},{"$f":"IF(E$13>0,$C206*AK$240*24*Input!$F$14/E$13,0)","v":0.13517984607779418}]
["HV Sub HH Metered",null,{"$f":"IF(C$13>0,$C207*C$240*24*Input!$F$14/C$13,0)","v":10.148789000240146},{"$f":"IF(D$13>0,$C207*D$240*24*Input!$F$14/D$13,0)","v":0.27471862321091212},{"$f":"IF(E$13>0,$C207*E$240*24*Input!$F$14/E$13,0)","v":1.1578693001520254E-2},null,{"$f":"IF(C$13>0,$C207*G$240*24*Input!$F$14/C$13,0)","v":8.0295559827123224},{"$f":"IF(D$13>0,$C207*H$240*24*Input!$F$14/D$13,0)","v":0.81027005874833902},{"$f":"IF(E$13>0,$C207*I$240*24*Input!$F$14/E$13,0)","v":4.8183437321956984E-2},null,{"$f":"IF(C$13>0,$C207*K$240*24*Input!$F$14/C$13,0)","v":8.0295559827123224},{"$f":"IF(D$13>0,$C207*L$240*24*Input!$F$14/D$13,0)","v":0.81027005874833902},{"$f":"IF(E$13>0,$C207*M$240*24*Input!$F$14/E$13,0)","v":4.8183437321956984E-2},null,{"$f":"IF(C$13>0,$C207*O$240*24*Input!$F$14/C$13,0)","v":7.3876171367609764},{"$f":"IF(D$13>0,$C207*P$240*24*Input!$F$14/D$13,0)","v":0.8465253431763492},{"$f":"IF(E$13>0,$C207*Q$240*24*Input!$F$14/E$13,0)","v":0.12519680682543111},null,{"$f":"IF(C$13>0,$C207*S$240*24*Input!$F$14/C$13,0)","v":7.3876171367609764},{"$f":"IF(D$13>0,$C207*T$240*24*Input!$F$14/D$13,0)","v":0.8465253431763492},{"$f":"IF(E$13>0,$C207*U$240*24*Input!$F$14/E$13,0)","v":0.12519680682543111},null,{"$f":"IF(C$13>0,$C207*W$240*24*Input!$F$14/C$13,0)","v":8.0295559827123224},{"$f":"IF(D$13>0,$C207*X$240*24*Input!$F$14/D$13,0)","v":0.81027005874833902},{"$f":"IF(E$13>0,$C207*Y$240*24*Input!$F$14/E$13,0)","v":4.8183437321956984E-2},null,{"$f":"IF(C$13>0,$C207*AA$240*24*Input!$F$14/C$13,0)","v":7.3876171367609764},{"$f":"IF(D$13>0,$C207*AB$240*24*Input!$F$14/D$13,0)","v":0.8465253431763492},{"$f":"IF(E$13>0,$C207*AC$240*24*Input!$F$14/E$13,0)","v":0.12519680682543111},null,{"$f":"IF(C$13>0,$C207*AE$240*24*Input!$F$14/C$13,0)","v":7.3876171367609764},{"$f":"IF(D$13>0,$C207*AF$240*24*Input!$F$14/D$13,0)","v":0.8465253431763492},{"$f":"IF(E$13>0,$C207*AG$240*24*Input!$F$14/E$13,0)","v":0.12519680682543111},null,{"$f":"IF(C$13>0,$C207*AI$240*24*Input!$F$14/C$13,0)","v":7.3876171367609764},{"$f":"IF(D$13>0,$C207*AJ$240*24*Input!$F$14/D$13,0)","v":0.8465253431763492},{"$f":"IF(E$13>0,$C207*AK$240*24*Input!$F$14/E$13,0)","v":0.12519680682543111}]
["LV Generation Non-Intermittent",null,{"$f":"IF(C$13>0,$C208*C$240*24*Input!$F$14/C$13,0)","v":-10.148789000240146},{"$f":"IF(D$13>0,$C208*D$240*24*Input!$F$14/D$13,0)","v":-0.27471862321091212},{"$f":"IF(E$13>0,$C208*E$240*24*Input!$F$14/E$13,0)","v":-1.1578693001520254E-2},null,{"$f":"IF(C$13>0,$C208*G$240*24*Input!$F$14/C$13,0)","v":-8.0295559827123224},{"$f":"IF(D$13>0,$C208*H$240*24*Input!$F$14/D$13,0)","v":-0.81027005874833902},{"$f":"IF(E$13>0,$C208*I$240*24*Input!$F$14/E$13,0)","v":-4.8183437321956984E-2},null,{"$f":"IF(C$13>0,$C208*K$240*24*Input!$F$14/C$13,0)","v":-8.0295559827123224},{"$f":"IF(D$13>0,$C208*L$240*24*Input!$F$14/D$13,0)","v":-0.81027005874833902},{"$f":"IF(E$13>0,$C208*M$240*24*Input!$F$14/E$13,0)","v":-4.8183437321956984E-2},null,{"$f":"IF(C$13>0,$C208*O$240*24*Input!$F$14/C$13,0)","v":-7.3876171367609764},{"$f":"IF(D$13>0,$C208*P$240*24*Input!$F$14/D$13,0)","v":-0.8465253431763492},{"$f":"IF(E$13>0,$C208*Q$240*24*Input!$F$14/E$13,0)","v":-0.12519680682543111},null,{"$f":"IF(C$13>0,$C208*S$240*24*Input!$F$14/C$13,0)","v":-7.3876171367609764},{"$f":"IF(D$13>0,$C208*T$240*24*Input!$F$14/D$13,0)","v":-0.8465253431763492},{"$f":"IF(E$13>0,$C208*U$240*24*Input!$F$14/E$13,0)","v":-0.12519680682543111},null,{"$f":"IF(C$13>0,$C208*W$240*24*Input!$F$14/C$13,0)","v":-8.0295559827123224},{"$f":"IF(D$13>0,$C208*X$240*24*Input!$F$14/D$13,0)","v":-0.81027005874833902},{"$f":"IF(E$13>0,$C208*Y$240*24*Input!$F$14/E$13,0)","v":-4.8183437321956984E-2},null,{"$f":"IF(C$13>0,$C208*AA$240*24*Input!$F$14/C$13,0)","v":-7.3876171367609764},{"$f":"IF(D$13>0,$C208*AB$240*24*Input!$F$14/D$13,0)","v":-0.8465253431763492},{"$f":"IF(E$13>0,$C208*AC$240*24*Input!$F$14/E$13,0)","v":-0.12519680682543111},null,{"$f":"IF(C$13>0,$C208*AE$240*24*Input!$F$14/C$13,0)","v":-7.3876171367609764},{"$f":"IF(D$13>0,$C208*AF$240*24*Input!$F$14/D$13,0)","v":-0.8465253431763492},{"$f":"IF(E$13>0,$C208*AG$240*24*Input!$F$14/E$13,0)","v":-0.12519680682543111},null,{"$f":"IF(C$13>0,$C208*AI$240*24*Input!$F$14/C$13,0)","v":-7.3876171367609764},{"$f":"IF(D$13>0,$C208*AJ$240*24*Input!$F$14/D$13,0)","v":-0.8465253431763492},{"$f":"IF(E$13>0,$C208*AK$240*24*Input!$F$14/E$13,0)","v":-0.12519680682543111}]
["LV Sub Generation Non-Intermittent",null,{"$f":"IF(C$13>0,$C209*C$240*24*Input!$F$14/C$13,0)","v":-10.148789000240146},{"$f":"IF(D$13>0,$C209*D$240*24*Input!$F$14/D$13,0)","v":-0.27471862321091212},{"$f":"IF(E$13>0,$C209*E$240*24*Input!$F$14/E$13,0)","v":-1.1578693001520254E-2},null,{"$f":"IF(C$13>0,$C209*G$240*24*Input!$F$14/C$13,0)","v":-8.0295559827123224},{"$f":"IF(D$13>0,$C209*H$240*24*Input!$F$14/D$13,0)","v":-0.81027005874833902},{"$f":"IF(E$13>0,$C209*I$240*24*Input!$F$14/E$13,0)","v":-4.8183437321956984E-2},null,{"$f":"IF(C$13>0,$C209*K$240*24*Input!$F$14/C$13,0)","v":-8.0295559827123224},{"$f":"IF(D$13>0,$C209*L$240*24*Input!$F$14/D$13,0)","v":-0.81027005874833902},{"$f":"IF(E$13>0,$C209*M$240*24*Input!$F$14/E$13,0)","v":-4.8183437321956984E-2},null,{"$f":"IF(C$13>0,$C209*O$240*24*Input!$F$14/C$13,0)","v":-7.3876171367609764},{"$f":"IF(D$13>0,$C209*P$240*24*Input!$F$14/D$13,0)","v":-0.8465253431763492},{"$f":"IF(E$13>0,$C209*Q$240*24*Input!$F$14/E$13,0)","v":-0.12519680682543111},null,{"$f":"IF(C$13>0,$C209*S$240*24*Input!$F$14/C$13,0)","v":-7.3876171367609764},{"$f":"IF(D$13>0,$C209*T$240*24*Input!$F$14/D$13,0)","v":-0.8465253431763492},{"$f":"IF(E$13>0,$C209*U$240*24*Input!$F$14/E$13,0)","v":-0.12519680682543111},null,{"$f":"IF(C$13>0,$C209*W$240*24*Input!$F$14/C$13,0)","v":-8.0295559827123224},{"$f":"IF(D$13>0,$C209*X$240*24*Input!$F$14/D$13,0)","v":-0.81027005874833902},{"$f":"IF(E$13>0,$C209*Y$240*24*Input!$F$14/E$13,0)","v":-4.8183437321956984E-2},null,{"$f":"IF(C$13>0,$C209*AA$240*24*Input!$F$14/C$13,0)","v":-7.3876171367609764},{"$f":"IF(D$13>0,$C209*AB$240*24*Input!$F$14/D$13,0)","v":-0.8465253431763492},{"$f":"IF(E$13>0,$C209*AC$240*24*Input!$F$14/E$13,0)","v":-0.12519680682543111},null,{"$f":"IF(C$13>0,$C209*AE$240*24*Input!$F$14/C$13,0)","v":-7.3876171367609764},{"$f":"IF(D$13>0,$C209*AF$240*24*Input!$F$14/D$13,0)","v":-0.8465253431763492},{"$f":"IF(E$13>0,$C209*AG$240*24*Input!$F$14/E$13,0)","v":-0.12519680682543111},null,{"$f":"IF(C$13>0,$C209*AI$240*24*Input!$F$14/C$13,0)","v":-7.3876171367609764},{"$f":"IF(D$13>0,$C209*AJ$240*24*Input!$F$14/D$13,0)","v":-0.8465253431763492},{"$f":"IF(E$13>0,$C209*AK$240*24*Input!$F$14/E$13,0)","v":-0.12519680682543111}]
["HV Generation Non-Intermittent",null,{"$f":"IF(C$13>0,$C210*C$240*24*Input!$F$14/C$13,0)","v":-10.148789000240146},{"$f":"IF(D$13>0,$C210*D$240*24*Input!$F$14/D$13,0)","v":-0.27471862321091212},{"$f":"IF(E$13>0,$C210*E$240*24*Input!$F$14/E$13,0)","v":-1.1578693001520254E-2},null,{"$f":"IF(C$13>0,$C210*G$240*24*Input!$F$14/C$13,0)","v":-8.0295559827123224},{"$f":"IF(D$13>0,$C210*H$240*24*Input!$F$14/D$13,0)","v":-0.81027005874833902},{"$f":"IF(E$13>0,$C210*I$240*24*Input!$F$14/E$13,0)","v":-4.8183437321956984E-2},null,{"$f":"IF(C$13>0,$C210*K$240*24*Input!$F$14/C$13,0)","v":-8.0295559827123224},{"$f":"IF(D$13>0,$C210*L$240*24*Input!$F$14/D$13,0)","v":-0.81027005874833902},{"$f":"IF(E$13>0,$C210*M$240*24*Input!$F$14/E$13,0)","v":-4.8183437321956984E-2},null,{"$f":"IF(C$13>0,$C210*O$240*24*Input!$F$14/C$13,0)","v":-7.3876171367609764},{"$f":"IF(D$13>0,$C210*P$240*24*Input!$F$14/D$13,0)","v":-0.8465253431763492},{"$f":"IF(E$13>0,$C210*Q$240*24*Input!$F$14/E$13,0)","v":-0.12519680682543111},null,{"$f":"IF(C$13>0,$C210*S$240*24*Input!$F$14/C$13,0)","v":-7.3876171367609764},{"$f":"IF(D$13>0,$C210*T$240*24*Input!$F$14/D$13,0)","v":-0.8465253431763492},{"$f":"IF(E$13>0,$C210*U$240*24*Input!$F$14/E$13,0)","v":-0.12519680682543111},null,{"$f":"IF(C$13>0,$C210*W$240*24*Input!$F$14/C$13,0)","v":-8.0295559827123224},{"$f":"IF(D$13>0,$C210*X$240*24*Input!$F$14/D$13,0)","v":-0.81027005874833902},{"$f":"IF(E$13>0,$C210*Y$240*24*Input!$F$14/E$13,0)","v":-4.8183437321956984E-2},null,{"$f":"IF(C$13>0,$C210*AA$240*24*Input!$F$14/C$13,0)","v":-7.3876171367609764},{"$f":"IF(D$13>0,$C210*AB$240*24*Input!$F$14/D$13,0)","v":-0.8465253431763492},{"$f":"IF(E$13>0,$C210*AC$240*24*Input!$F$14/E$13,0)","v":-0.12519680682543111},null,{"$f":"IF(C$13>0,$C210*AE$240*24*Input!$F$14/C$13,0)","v":-7.3876171367609764},{"$f":"IF(D$13>0,$C210*AF$240*24*Input!$F$14/D$13,0)","v":-0.8465253431763492},{"$f":"IF(E$13>0,$C210*AG$240*24*Input!$F$14/E$13,0)","v":-0.12519680682543111},null,{"$f":"IF(C$13>0,$C210*AI$240*24*Input!$F$14/C$13,0)","v":-7.3876171367609764},{"$f":"IF(D$13>0,$C210*AJ$240*24*Input!$F$14/D$13,0)","v":-0.8465253431763492},{"$f":"IF(E$13>0,$C210*AK$240*24*Input!$F$14/E$13,0)","v":-0.12519680682543111}]
["HV Sub Generation Non-Intermittent",null,{"$f":"IF(C$13>0,$C211*C$240*24*Input!$F$14/C$13,0)","v":-10.148789000240146},{"$f":"IF(D$13>0,$C211*D$240*24*Input!$F$14/D$13,0)","v":-0.27471862321091212},{"$f":"IF(E$13>0,$C211*E$240*24*Input!$F$14/E$13,0)","v":-1.1578693001520254E-2},null,{"$f":"IF(C$13>0,$C211*G$240*24*Input!$F$14/C$13,0)","v":-8.0295559827123224},{"$f":"IF(D$13>0,$C211*H$240*24*Input!$F$14/D$13,0)","v":-0.81027005874833902},{"$f":"IF(E$13>0,$C211*I$240*24*Input!$F$14/E$13,0)","v":-4.8183437321956984E-2},null,{"$f":"IF(C$13>0,$C211*K$240*24*Input!$F$14/C$13,0)","v":-8.0295559827123224},{"$f":"IF(D$13>0,$C211*L$240*24*Input!$F$14/D$13,0)","v":-0.81027005874833902},{"$f":"IF(E$13>0,$C211*M$240*24*Input!$F$14/E$13,0)","v":-4.8183437321956984E-2},null,{"$f":"IF(C$13>0,$C211*O$240*24*Input!$F$14/C$13,0)","v":-7.3876171367609764},{"$f":"IF(D$13>0,$C211*P$240*24*Input!$F$14/D$13,0)","v":-0.8465253431763492},{"$f":"IF(E$13>0,$C211*Q$240*24*Input!$F$14/E$13,0)","v":-0.12519680682543111},null,{"$f":"IF(C$13>0,$C211*S$240*24*Input!$F$14/C$13,0)","v":-7.3876171367609764},{"$f":"IF(D$13>0,$C211*T$240*24*Input!$F$14/D$13,0)","v":-0.8465253431763492},{"$f":"IF(E$13>0,$C211*U$240*24*Input!$F$14/E$13,0)","v":-0.12519680682543111},null,{"$f":"IF(C$13>0,$C211*W$240*24*Input!$F$14/C$13,0)","v":-8.0295559827123224},{"$f":"IF(D$13>0,$C211*X$240*24*Input!$F$14/D$13,0)","v":-0.81027005874833902},{"$f":"IF(E$13>0,$C211*Y$240*24*Input!$F$14/E$13,0)","v":-4.8183437321956984E-2},null,{"$f":"IF(C$13>0,$C211*AA$240*24*Input!$F$14/C$13,0)","v":-7.3876171367609764},{"$f":"IF(D$13>0,$C211*AB$240*24*Input!$F$14/D$13,0)","v":-0.8465253431763492},{"$f":"IF(E$13>0,$C211*AC$240*24*Input!$F$14/E$13,0)","v":-0.12519680682543111},null,{"$f":"IF(C$13>0,$C211*AE$240*24*Input!$F$14/C$13,0)","v":-7.3876171367609764},{"$f":"IF(D$13>0,$C211*AF$240*24*Input!$F$14/D$13,0)","v":-0.8465253431763492},{"$f":"IF(E$13>0,$C211*AG$240*24*Input!$F$14/E$13,0)","v":-0.12519680682543111},null,{"$f":"IF(C$13>0,$C211*AI$240*24*Input!$F$14/C$13,0)","v":-7.3876171367609764},{"$f":"IF(D$13>0,$C211*AJ$240*24*Input!$F$14/D$13,0)","v":-0.8465253431763492},{"$f":"IF(E$13>0,$C211*AK$240*24*Input!$F$14/E$13,0)","v":-0.12519680682543111}]
[]
["2414. Unit rate 1 pseudo load coefficient by network level"]
["Data sources:"]
["x1 = 2413. Pseudo load coefficient by time band and network level"]
["x2 = 2403. Split of rate 1 units between distribution time bands"]
["Sum-product calculation =SUMPRODUCT(x1, x2)"]
[]
[null,"GSPs","132kV","132kV/EHV","EHV","EHV/HV","132kV/HV","HV","HV/LV","LV circuits"]
["Domestic Two Rate",{"$f":"SUMPRODUCT($C251:$E251,$B41:$D41)","v":2.6804293508776045},{"$f":"SUMPRODUCT($G251:$I251,$B41:$D41)","v":2.5500534349822246},{"$f":"SUMPRODUCT($K251:$M251,$B41:$D41)","v":2.5500534349822246},{"$f":"SUMPRODUCT($O251:$Q251,$B41:$D41)","v":2.4730582432462338},{"$f":"SUMPRODUCT($S251:$U251,$B41:$D41)","v":2.4730582432462338},{"$f":"SUMPRODUCT($W251:$Y251,$B41:$D41)","v":2.5500534349822246},{"$f":"SUMPRODUCT($AA251:$AC251,$B41:$D41)","v":2.4730582432462338},{"$f":"SUMPRODUCT($AE251:$AG251,$B41:$D41)","v":2.4730582432462338},{"$f":"SUMPRODUCT($AI251:$AK251,$B41:$D41)","v":2.4730582432462338}]
["Domestic Off Peak (related MPAN)",8.8982767979877975E-2,0.22325852805845148,0.22325852805845148,0.29023765169786409,0.29023765169786409,0.22325852805845148,0.29023765169786409,0.29023765169786409,0.29023765169786409]
["Small Non Domestic Two Rate",2.1062699417387227,2.1291987435969717,2.1291987435969717,2.0722995202705774,2.0722995202705774,2.1291987435969717,2.0722995202705774,2.0722995202705774,2.0722995202705774]
["Small Non Domestic Off Peak (related MPAN)",0.24303591899925933,0.32529703544398103,0.32529703544398103,0.38211700671417625,0.38211700671417625,0.32529703544398103,0.38211700671417625,0.38211700671417625,0.38211700671417625]
["LV Medium Non-Domestic",2.0375252557922003,2.040521423303701,2.040521423303701,1.982129960306233,1.982129960306233,2.040521423303701,1.982129960306233,1.982129960306233,1.982129960306233]
["LV Sub Medium Non-Domestic",2.0722740398394359,2.0753213052097395,2.0753213052097395,2.0159340104638628,2.0159340104638628,2.0753213052097395,2.0159340104638628,2.0159340104638628,2.0159340104638628]
["HV Medium Non-Domestic",1.8708998004664772,1.912096059938301,1.912096059938301,1.8605326652113592,1.8605326652113592,1.912096059938301,1.8605326652113592,1.8605326652113592,1.8605326652113592]
["LV HH Metered",12.080984820467647,9.5582777353975317,9.5582777353975317,8.7941221840875965,8.7941221840875965,9.5582777353975317,8.7941221840875965,8.7941221840875965,8.7941221840875965]
["LV Sub HH Metered",12.478817521926691,9.8730364665174193,9.8730364665174193,9.0837169015256247,9.0837169015256247,9.8730364665174193,9.0837169015256247,9.0837169015256247,9.0837169015256247]
["HV HH Metered",10.958040941422786,8.6698228919653246,8.6698228919653246,7.9766966326985198,7.9766966326985198,8.6698228919653246,7.9766966326985198,7.9766966326985198,7.9766966326985198]
["HV Sub HH Metered",10.148789000240146,8.0295559827123224,8.0295559827123224,7.3876171367609764,7.3876171367609764,8.0295559827123224,7.3876171367609764,7.3876171367609764,7.3876171367609764]
["LV Generation Non-Intermittent",-10.148789000240146,-8.0295559827123224,-8.0295559827123224,-7.3876171367609764,-7.3876171367609764,-8.0295559827123224,-7.3876171367609764,-7.3876171367609764,-7.3876171367609764]
["LV Sub Generation Non-Intermittent",-10.148789000240146,-8.0295559827123224,-8.0295559827123224,-7.3876171367609764,-7.3876171367609764,-8.0295559827123224,-7.3876171367609764,-7.3876171367609764,-7.3876171367609764]
["HV Generation Non-Intermittent",-10.148789000240146,-8.0295559827123224,-8.0295559827123224,-7.3876171367609764,-7.3876171367609764,-8.0295559827123224,-7.3876171367609764,-7.3876171367609764,-7.3876171367609764]
["HV Sub Generation Non-Intermittent",-10.148789000240146,-8.0295559827123224,-8.0295559827123224,-7.3876171367609764,-7.3876171367609764,-8.0295559827123224,-7.3876171367609764,-7.3876171367609764,-7.3876171367609764]
[]
["2415. Unit rate 2 pseudo load coefficient by network level"]
["Data sources:"]
["x1 = 2413. Pseudo load coefficient by time band and network level"]
["x2 = 2405. Split of rate 2 units between distribution time bands"]
["Sum-product calculation =SUMPRODUCT(x1, x2)"]
[]
[null,"GSPs","132kV","132kV/EHV","EHV","EHV/HV","132kV/HV","HV","HV/LV","LV circuits"]
["Domestic Two Rate",{"$f":"SUMPRODUCT($C$251:$E$251,$B81:$D81)","v":1.9049329536953132E-2},{"$f":"SUMPRODUCT($G$251:$I$251,$B81:$D81)","v":7.927165662381512E-2},{"$f":"SUMPRODUCT($K$251:$M$251,$B81:$D81)","v":7.927165662381512E-2},{"$f":"SUMPRODUCT($O$251:$Q$251,$B81:$D81)","v":0.20597447655609891},{"$f":"SUMPRODUCT($S$251:$U$251,$B81:$D81)","v":0.20597447655609891},{"$f":"SUMPRODUCT($W$251:$Y$251,$B81:$D81)","v":7.927165662381512E-2},{"$f":"SUMPRODUCT($AA$251:$AC$251,$B81:$D81)","v":0.20597447655609891},{"$f":"SUMPRODUCT($AE$251:$AG$251,$B81:$D81)","v":0.20597447655609891},{"$f":"SUMPRODUCT($AI$251:$AK$251,$B81:$D81)","v":0.20597447655609891}]
["Small Non Domestic Two Rate",{"$f":"SUMPRODUCT($C$253:$E$253,$B82:$D82)","v":1.6222515894511132E-2},{"$f":"SUMPRODUCT($G$253:$I$253,$B82:$D82)","v":6.7508187470295522E-2},{"$f":"SUMPRODUCT($K$253:$M$253,$B82:$D82)","v":6.7508187470295522E-2},{"$f":"SUMPRODUCT($O$253:$Q$253,$B82:$D82)","v":0.17540901968822648},{"$f":"SUMPRODUCT($S$253:$U$253,$B82:$D82)","v":0.17540901968822648},{"$f":"SUMPRODUCT($W$253:$Y$253,$B82:$D82)","v":6.7508187470295522E-2},{"$f":"SUMPRODUCT($AA$253:$AC$253,$B82:$D82)","v":0.17540901968822648},{"$f":"SUMPRODUCT($AE$253:$AG$253,$B82:$D82)","v":0.17540901968822648},{"$f":"SUMPRODUCT($AI$253:$AK$253,$B82:$D82)","v":0.17540901968822648}]
["LV Medium Non-Domestic",{"$f":"SUMPRODUCT($C$255:$E$255,$B83:$D83)","v":1.5093149850389138E-2},{"$f":"SUMPRODUCT($G$255:$I$255,$B83:$D83)","v":6.280845685360556E-2},{"$f":"SUMPRODUCT($K$255:$M$255,$B83:$D83)","v":6.280845685360556E-2},{"$f":"SUMPRODUCT($O$255:$Q$255,$B83:$D83)","v":0.16319753584954294},{"$f":"SUMPRODUCT($S$255:$U$255,$B83:$D83)","v":0.16319753584954294},{"$f":"SUMPRODUCT($W$255:$Y$255,$B83:$D83)","v":6.280845685360556E-2},{"$f":"SUMPRODUCT($AA$255:$AC$255,$B83:$D83)","v":0.16319753584954294},{"$f":"SUMPRODUCT($AE$255:$AG$255,$B83:$D83)","v":0.16319753584954294},{"$f":"SUMPRODUCT($AI$255:$AK$255,$B83:$D83)","v":0.16319753584954294}]
["LV Sub Medium Non-Domestic",{"$f":"SUMPRODUCT($C$256:$E$256,$B84:$D84)","v":1.5350554563902653E-2},{"$f":"SUMPRODUCT($G$256:$I$256,$B84:$D84)","v":6.3879617810919678E-2},{"$f":"SUMPRODUCT($K$256:$M$256,$B84:$D84)","v":6.3879617810919678E-2},{"$f":"SUMPRODUCT($O$256:$Q$256,$B84:$D84)","v":0.16598077297220223},{"$f":"SUMPRODUCT($S$256:$U$256,$B84:$D84)","v":0.16598077297220223},{"$f":"SUMPRODUCT($W$256:$Y$256,$B84:$D84)","v":6.3879617810919678E-2},{"$f":"SUMPRODUCT($AA$256:$AC$256,$B84:$D84)","v":0.16598077297220223},{"$f":"SUMPRODUCT($AE$256:$AG$256,$B84:$D84)","v":0.16598077297220223},{"$f":"SUMPRODUCT($AI$256:$AK$256,$B84:$D84)","v":0.16598077297220223}]
["HV Medium Non-Domestic",{"$f":"SUMPRODUCT($C$257:$E$257,$B85:$D85)","v":1.4381529400527419E-2},{"$f":"SUMPRODUCT($G$257:$I$257,$B85:$D85)","v":5.9847127855727052E-2},{"$f":"SUMPRODUCT($K$257:$M$257,$B85:$D85)","v":5.9847127855727052E-2},{"$f":"SUMPRODUCT($O$257:$Q$257,$B85:$D85)","v":0.15550300521619198},{"$f":"SUMPRODUCT($S$257:$U$257,$B85:$D85)","v":0.15550300521619198},{"$f":"SUMPRODUCT($W$257:$Y$257,$B85:$D85)","v":5.9847127855727052E-2},{"$f":"SUMPRODUCT($AA$257:$AC$257,$B85:$D85)","v":0.15550300521619198},{"$f":"SUMPRODUCT($AE$257:$AG$257,$B85:$D85)","v":0.15550300521619198},{"$f":"SUMPRODUCT($AI$257:$AK$257,$B85:$D85)","v":0.15550300521619198}]
["LV HH Metered",{"$f":"SUMPRODUCT($C$258:$E$258,$B86:$D86)","v":0.32702143249133153},{"$f":"SUMPRODUCT($G$258:$I$258,$B86:$D86)","v":0.9645348109992713},{"$f":"SUMPRODUCT($K$258:$M$258,$B86:$D86)","v":0.9645348109992713},{"$f":"SUMPRODUCT($O$258:$Q$258,$B86:$D86)","v":1.0076926242936617},{"$f":"SUMPRODUCT($S$258:$U$258,$B86:$D86)","v":1.0076926242936617},{"$f":"SUMPRODUCT($W$258:$Y$258,$B86:$D86)","v":0.9645348109992713},{"$f":"SUMPRODUCT($AA$258:$AC$258,$B86:$D86)","v":1.0076926242936617},{"$f":"SUMPRODUCT($AE$258:$AG$258,$B86:$D86)","v":1.0076926242936617},{"$f":"SUMPRODUCT($AI$258:$AK$258,$B86:$D86)","v":1.0076926242936617}]
["LV Sub HH Metered",{"$f":"SUMPRODUCT($C$259:$E$259,$B87:$D87)","v":0.33779040719467002},{"$f":"SUMPRODUCT($G$259:$I$259,$B87:$D87)","v":0.99629741108639502},{"$f":"SUMPRODUCT($K$259:$M$259,$B87:$D87)","v":0.99629741108639502},{"$f":"SUMPRODUCT($O$259:$Q$259,$B87:$D87)","v":1.0408764321471329},{"$f":"SUMPRODUCT($S$259:$U$259,$B87:$D87)","v":1.0408764321471329},{"$f":"SUMPRODUCT($W$259:$Y$259,$B87:$D87)","v":0.99629741108639502},{"$f":"SUMPRODUCT($AA$259:$AC$259,$B87:$D87)","v":1.0408764321471329},{"$f":"SUMPRODUCT($AE$259:$AG$259,$B87:$D87)","v":1.0408764321471329},{"$f":"SUMPRODUCT($AI$259:$AK$259,$B87:$D87)","v":1.0408764321471329}]
["HV HH Metered",{"$f":"SUMPRODUCT($C$260:$E$260,$B88:$D88)","v":0.2966243480325822},{"$f":"SUMPRODUCT($G$260:$I$260,$B88:$D88)","v":0.87487999574759556},{"$f":"SUMPRODUCT($K$260:$M$260,$B88:$D88)","v":0.87487999574759556},{"$f":"SUMPRODUCT($O$260:$Q$260,$B88:$D88)","v":0.91402623192372079},{"$f":"SUMPRODUCT($S$260:$U$260,$B88:$D88)","v":0.91402623192372079},{"$f":"SUMPRODUCT($W$260:$Y$260,$B88:$D88)","v":0.87487999574759556},{"$f":"SUMPRODUCT($AA$260:$AC$260,$B88:$D88)","v":0.91402623192372079},{"$f":"SUMPRODUCT($AE$260:$AG$260,$B88:$D88)","v":0.91402623192372079},{"$f":"SUMPRODUCT($AI$260:$AK$260,$B88:$D88)","v":0.91402623192372079}]
["HV Sub HH Metered",{"$f":"SUMPRODUCT($C$261:$E$261,$B89:$D89)","v":0.27471862321091212},{"$f":"SUMPRODUCT($G$261:$I$261,$B89:$D89)","v":0.81027005874833902},{"$f":"SUMPRODUCT($K$261:$M$261,$B89:$D89)","v":0.81027005874833902},{"$f":"SUMPRODUCT($O$261:$Q$261,$B89:$D89)","v":0.8465253431763492},{"$f":"SUMPRODUCT($S$261:$U$261,$B89:$D89)","v":0.8465253431763492},{"$f":"SUMPRODUCT($W$261:$Y$261,$B89:$D89)","v":0.81027005874833902},{"$f":"SUMPRODUCT($AA$261:$AC$261,$B89:$D89)","v":0.8465253431763492},{"$f":"SUMPRODUCT($AE$261:$AG$261,$B89:$D89)","v":0.8465253431763492},{"$f":"SUMPRODUCT($AI$261:$AK$261,$B89:$D89)","v":0.8465253431763492}]
["LV Generation Non-Intermittent",{"$f":"SUMPRODUCT($C$262:$E$262,$B90:$D90)","v":-0.27471862321091212},{"$f":"SUMPRODUCT($G$262:$I$262,$B90:$D90)","v":-0.81027005874833902},{"$f":"SUMPRODUCT($K$262:$M$262,$B90:$D90)","v":-0.81027005874833902},{"$f":"SUMPRODUCT($O$262:$Q$262,$B90:$D90)","v":-0.8465253431763492},{"$f":"SUMPRODUCT($S$262:$U$262,$B90:$D90)","v":-0.8465253431763492},{"$f":"SUMPRODUCT($W$262:$Y$262,$B90:$D90)","v":-0.81027005874833902},{"$f":"SUMPRODUCT($AA$262:$AC$262,$B90:$D90)","v":-0.8465253431763492},{"$f":"SUMPRODUCT($AE$262:$AG$262,$B90:$D90)","v":-0.8465253431763492},{"$f":"SUMPRODUCT($AI$262:$AK$262,$B90:$D90)","v":-0.8465253431763492}]
["LV Sub Generation Non-Intermittent",{"$f":"SUMPRODUCT($C$263:$E$263,$B91:$D91)","v":-0.27471862321091212},{"$f":"SUMPRODUCT($G$263:$I$263,$B91:$D91)","v":-0.81027005874833902},{"$f":"SUMPRODUCT($K$263:$M$263,$B91:$D91)","v":-0.81027005874833902},{"$f":"SUMPRODUCT($O$263:$Q$263,$B91:$D91)","v":-0.8465253431763492},{"$f":"SUMPRODUCT($S$263:$U$263,$B91:$D91)","v":-0.8465253431763492},{"$f":"SUMPRODUCT($W$263:$Y$263,$B91:$D91)","v":-0.81027005874833902},{"$f":"SUMPRODUCT($AA$263:$AC$263,$B91:$D91)","v":-0.8465253431763492},{"$f":"SUMPRODUCT($AE$263:$AG$263,$B91:$D91)","v":-0.8465253431763492},{"$f":"SUMPRODUCT($AI$263:$AK$263,$B91:$D91)","v":-0.8465253431763492}]
["HV Generation Non-Intermittent",{"$f":"SUMPRODUCT($C$264:$E$264,$B92:$D92)","v":-0.27471862321091212},{"$f":"SUMPRODUCT($G$264:$I$264,$B92:$D92)","v":-0.81027005874833902},{"$f":"SUMPRODUCT($K$264:$M$264,$B92:$D92)","v":-0.81027005874833902},{"$f":"SUMPRODUCT($O$264:$Q$264,$B92:$D92)","v":-0.8465253431763492},{"$f":"SUMPRODUCT($S$264:$U$264,$B92:$D92)","v":-0.8465253431763492},{"$f":"SUMPRODUCT($W$264:$Y$264,$B92:$D92)","v":-0.81027005874833902},{"$f":"SUMPRODUCT($AA$264:$AC$264,$B92:$D92)","v":-0.8465253431763492},{"$f":"SUMPRODUCT($AE$264:$AG$264,$B92:$D92)","v":-0.8465253431763492},{"$f":"SUMPRODUCT($AI$264:$AK$264,$B92:$D92)","v":-0.8465253431763492}]
["HV Sub Generation Non-Intermittent",{"$f":"SUMPRODUCT($C$265:$E$265,$B93:$D93)","v":-0.27471862321091212},{"$f":"SUMPRODUCT($G$265:$I$265,$B93:$D93)","v":-0.81027005874833902},{"$f":"SUMPRODUCT($K$265:$M$265,$B93:$D93)","v":-0.81027005874833902},{"$f":"SUMPRODUCT($O$265:$Q$265,$B93:$D93)","v":-0.8465253431763492},{"$f":"SUMPRODUCT($S$265:$U$265,$B93:$D93)","v":-0.8465253431763492},{"$f":"SUMPRODUCT($W$265:$Y$265,$B93:$D93)","v":-0.81027005874833902},{"$f":"SUMPRODUCT($AA$265:$AC$265,$B93:$D93)","v":-0.8465253431763492},{"$f":"SUMPRODUCT($AE$265:$AG$265,$B93:$D93)","v":-0.8465253431763492},{"$f":"SUMPRODUCT($AI$265:$AK$265,$B93:$D93)","v":-0.8465253431763492}]
[]
["2416. Unit rate 3 pseudo load coefficient by network level"]
["Data sources:"]
["x1 = 2413. Pseudo load coefficient by time band and network level"]
["x2 = 2406. Split of rate 3 units between distribution time bands (default)"]
["Sum-product calculation =SUMPRODUCT(x1, x2)"]
[]
[null,"GSPs","132kV","132kV/EHV","EHV","EHV/HV","132kV/HV","HV","HV/LV","LV circuits"]
["LV HH Metered",{"$f":"SUMPRODUCT($C$258:$E$258,$B98:$D98)","v":1.3783123719382798E-2},{"$f":"SUMPRODUCT($G$258:$I$258,$B98:$D98)","v":5.7356929469195059E-2},{"$f":"SUMPRODUCT($K$258:$M$258,$B98:$D98)","v":5.7356929469195059E-2},{"$f":"SUMPRODUCT($O$258:$Q$258,$B98:$D98)","v":0.14903263067083811},{"$f":"SUMPRODUCT($S$258:$U$258,$B98:$D98)","v":0.14903263067083811},{"$f":"SUMPRODUCT($W$258:$Y$258,$B98:$D98)","v":5.7356929469195059E-2},{"$f":"SUMPRODUCT($AA$258:$AC$258,$B98:$D98)","v":0.14903263067083811},{"$f":"SUMPRODUCT($AE$258:$AG$258,$B98:$D98)","v":0.14903263067083811},{"$f":"SUMPRODUCT($AI$258:$AK$258,$B98:$D98)","v":0.14903263067083811}]
["LV Sub HH Metered",{"$f":"SUMPRODUCT($C$259:$E$259,$B99:$D99)","v":1.4237008682017327E-2},{"$f":"SUMPRODUCT($G$259:$I$259,$B99:$D99)","v":5.9245721031904959E-2},{"$f":"SUMPRODUCT($K$259:$M$259,$B99:$D99)","v":5.9245721031904959E-2},{"$f":"SUMPRODUCT($O$259:$Q$259,$B99:$D99)","v":0.1539403476282237},{"$f":"SUMPRODUCT($S$259:$U$259,$B99:$D99)","v":0.1539403476282237},{"$f":"SUMPRODUCT($W$259:$Y$259,$B99:$D99)","v":5.9245721031904959E-2},{"$f":"SUMPRODUCT($AA$259:$AC$259,$B99:$D99)","v":0.1539403476282237},{"$f":"SUMPRODUCT($AE$259:$AG$259,$B99:$D99)","v":0.1539403476282237},{"$f":"SUMPRODUCT($AI$259:$AK$259,$B99:$D99)","v":0.1539403476282237}]
["HV HH Metered",{"$f":"SUMPRODUCT($C$260:$E$260,$B100:$D100)","v":1.2501963727477448E-2},{"$f":"SUMPRODUCT($G$260:$I$260,$B100:$D100)","v":5.2025525297647784E-2},{"$f":"SUMPRODUCT($K$260:$M$260,$B100:$D100)","v":5.2025525297647784E-2},{"$f":"SUMPRODUCT($O$260:$Q$260,$B100:$D100)","v":0.13517984607779418},{"$f":"SUMPRODUCT($S$260:$U$260,$B100:$D100)","v":0.13517984607779418},{"$f":"SUMPRODUCT($W$260:$Y$260,$B100:$D100)","v":5.2025525297647784E-2},{"$f":"SUMPRODUCT($AA$260:$AC$260,$B100:$D100)","v":0.13517984607779418},{"$f":"SUMPRODUCT($AE$260:$AG$260,$B100:$D100)","v":0.13517984607779418},{"$f":"SUMPRODUCT($AI$260:$AK$260,$B100:$D100)","v":0.13517984607779418}]
["HV Sub HH Metered",{"$f":"SUMPRODUCT($C$261:$E$261,$B101:$D101)","v":1.1578693001520254E-2},{"$f":"SUMPRODUCT($G$261:$I$261,$B101:$D101)","v":4.8183437321956984E-2},{"$f":"SUMPRODUCT($K$261:$M$261,$B101:$D101)","v":4.8183437321956984E-2},{"$f":"SUMPRODUCT($O$261:$Q$261,$B101:$D101)","v":0.12519680682543111},{"$f":"SUMPRODUCT($S$261:$U$261,$B101:$D101)","v":0.12519680682543111},{"$f":"SUMPRODUCT($W$261:$Y$261,$B101:$D101)","v":4.8183437321956984E-2},{"$f":"SUMPRODUCT($AA$261:$AC$261,$B101:$D101)","v":0.12519680682543111},{"$f":"SUMPRODUCT($AE$261:$AG$261,$B101:$D101)","v":0.12519680682543111},{"$f":"SUMPRODUCT($AI$261:$AK$261,$B101:$D101)","v":0.12519680682543111}]
["LV Generation Non-Intermittent",{"$f":"SUMPRODUCT($C$262:$E$262,$B102:$D102)","v":-1.1578693001520254E-2},{"$f":"SUMPRODUCT($G$262:$I$262,$B102:$D102)","v":-4.8183437321956984E-2},{"$f":"SUMPRODUCT($K$262:$M$262,$B102:$D102)","v":-4.8183437321956984E-2},{"$f":"SUMPRODUCT($O$262:$Q$262,$B102:$D102)","v":-0.12519680682543111},{"$f":"SUMPRODUCT($S$262:$U$262,$B102:$D102)","v":-0.12519680682543111},{"$f":"SUMPRODUCT($W$262:$Y$262,$B102:$D102)","v":-4.8183437321956984E-2},{"$f":"SUMPRODUCT($AA$262:$AC$262,$B102:$D102)","v":-0.12519680682543111},{"$f":"SUMPRODUCT($AE$262:$AG$262,$B102:$D102)","v":-0.12519680682543111},{"$f":"SUMPRODUCT($AI$262:$AK$262,$B102:$D102)","v":-0.12519680682543111}]
["LV Sub Generation Non-Intermittent",{"$f":"SUMPRODUCT($C$263:$E$263,$B103:$D103)","v":-1.1578693001520254E-2},{"$f":"SUMPRODUCT($G$263:$I$263,$B103:$D103)","v":-4.8183437321956984E-2},{"$f":"SUMPRODUCT($K$263:$M$263,$B103:$D103)","v":-4.8183437321956984E-2},{"$f":"SUMPRODUCT($O$263:$Q$263,$B103:$D103)","v":-0.12519680682543111},{"$f":"SUMPRODUCT($S$263:$U$263,$B103:$D103)","v":-0.12519680682543111},{"$f":"SUMPRODUCT($W$263:$Y$263,$B103:$D103)","v":-4.8183437321956984E-2},{"$f":"SUMPRODUCT($AA$263:$AC$263,$B103:$D103)","v":-0.12519680682543111},{"$f":"SUMPRODUCT($AE$263:$AG$263,$B103:$D103)","v":-0.12519680682543111},{"$f":"SUMPRODUCT($AI$263:$AK$263,$B103:$D103)","v":-0.12519680682543111}]
["HV Generation Non-Intermittent",{"$f":"SUMPRODUCT($C$264:$E$264,$B104:$D104)","v":-1.1578693001520254E-2},{"$f":"SUMPRODUCT($G$264:$I$264,$B104:$D104)","v":-4.8183437321956984E-2},{"$f":"SUMPRODUCT($K$264:$M$264,$B104:$D104)","v":-4.8183437321956984E-2},{"$f":"SUMPRODUCT($O$264:$Q$264,$B104:$D104)","v":-0.12519680682543111},{"$f":"SUMPRODUCT($S$264:$U$264,$B104:$D104)","v":-0.12519680682543111},{"$f":"SUMPRODUCT($W$264:$Y$264,$B104:$D104)","v":-4.8183437321956984E-2},{"$f":"SUMPRODUCT($AA$264:$AC$264,$B104:$D104)","v":-0.12519680682543111},{"$f":"SUMPRODUCT($AE$264:$AG$264,$B104:$D104)","v":-0.12519680682543111},{"$f":"SUMPRODUCT($AI$264:$AK$264,$B104:$D104)","v":-0.12519680682543111}]
["HV Sub Generation Non-Intermittent",{"$f":"SUMPRODUCT($C$265:$E$265,$B105:$D105)","v":-1.1578693001520254E-2},{"$f":"SUMPRODUCT($G$265:$I$265,$B105:$D105)","v":-4.8183437321956984E-2},{"$f":"SUMPRODUCT($K$265:$M$265,$B105:$D105)","v":-4.8183437321956984E-2},{"$f":"SUMPRODUCT($O$265:$Q$265,$B105:$D105)","v":-0.12519680682543111},{"$f":"SUMPRODUCT($S$265:$U$265,$B105:$D105)","v":-0.12519680682543111},{"$f":"SUMPRODUCT($W$265:$Y$265,$B105:$D105)","v":-4.8183437321956984E-2},{"$f":"SUMPRODUCT($AA$265:$AC$265,$B105:$D105)","v":-0.12519680682543111},{"$f":"SUMPRODUCT($AE$265:$AG$265,$B105:$D105)","v":-0.12519680682543111},{"$f":"SUMPRODUCT($AI$265:$AK$265,$B105:$D105)","v":-0.12519680682543111}]
[]
["2417. Adjust annual hours by special distribution time band to match days in year"]
["Data sources:"]
["x1 = 1066. Typical annual hours by special distribution time band"]
["x2 = 1010. Days in the charging year (in Financial and general assumptions)"]
["x3 = Total hours in the year according to special time band hours input data (in Adjust annual hours by special distribution time band to match days in year)"]
["Kind:","Cell summation","Calculation"]
["Formula:","=SUM(x1)","=x1*24*x2/x3"]
[]
[null,null,"Annual hours by special distribution time band (reconciled to days in year)"]
[null,"Hours aggregate","Black","Yellow","Green"]
["Adjust annual hours by special distribution time band to match days in year",{"$f":"SUM(Input!$B293:$D293)","v":8760},{"$f":"Input!B293*24*Input!$F14/$B337","v":258},{"$f":"Input!C293*24*Input!$F14/$B337","v":3265.5},{"$f":"Input!D293*24*Input!$F14/$B337","v":5236.5}]
[]
["2418. Normalisation of split of rate 1 units by special time band"]
["Data sources:"]
["x1 = 1064. Average split of rate 1 units by special distribution time band"]
["x2 = Total split (in Normalisation of split of rate 1 units by special time band)"]
["x3 = 2417. Annual hours by special distribution time band (reconciled to days in year) (in Adjust annual hours by special distribution time band to match days in year)"]
["x4 = 1010. Days in the charging year (in Financial and general assumptions)"]
["Kind:","Cell summation","Calculation"]
["Formula:","=SUM(x1)","=IF(x2,x1/x2,x3/x4/24)"]
[]
[null,null,"Normalised split of rate 1 units by special distribution time band"]
[null,"Total split","Black","Yellow","Green"]
["NHH UMS category A",{"$f":"SUM(Input!$B283:$D283)","v":1},{"$f":"IF($B350,Input!B283/$B350,C$337/Input!$F$14/24)","v":2.9680365296803651E-2},{"$f":"IF($B350,Input!C283/$B350,D$337/Input!$F$14/24)","v":0.37254566210045664},{"$f":"IF($B350,Input!D283/$B350,E$337/Input!$F$14/24)","v":0.59777397260273968}]
["NHH UMS category B",{"$f":"SUM(Input!$B284:$D284)","v":1},{"$f":"IF($B351,Input!B284/$B351,C$337/Input!$F$14/24)","v":4.9247533453833446E-2},{"$f":"IF($B351,Input!C284/$B351,D$337/Input!$F$14/24)","v":8.8278432042188382E-2},{"$f":"IF($B351,Input!D284/$B351,E$337/Input!$F$14/24)","v":0.86247403450397819}]
["NHH UMS category C",{"$f":"SUM(Input!$B285:$D285)","v":1},{"$f":"IF($B352,Input!B285/$B352,C$337/Input!$F$14/24)","v":9.6056827605747144E-2},{"$f":"IF($B352,Input!C285/$B352,D$337/Input!$F$14/24)","v":0.17696296513012377},{"$f":"IF($B352,Input!D285/$B352,E$337/Input!$F$14/24)","v":0.72698020726412915}]
["NHH UMS category D",{"$f":"SUM(Input!$B286:$D286)","v":1},{"$f":"IF($B353,Input!B286/$B353,C$337/Input!$F$14/24)","v":1.6971783970887895E-2},{"$f":"IF($B353,Input!C286/$B353,D$337/Input!$F$14/24)","v":0.60828178839872815},{"$f":"IF($B353,Input!D286/$B353,E$337/Input!$F$14/24)","v":0.37474642763038385}]
[]
["2419. Split of rate 1 units between special distribution time bands"]
["Data sources:"]
["x1 = 2418. Normalised split of rate 1 units by special distribution time band (in Normalisation of split of rate 1 units by special time band)"]
["x2 = Split of rate 1 units between special distribution time bands (default)"]
["Combine tables = x1 or x2"]
[]
[null,"Black","Yellow","Green"]
["NHH UMS category A",{"$f":"C$350","v":2.9680365296803651E-2},{"$f":"D$350","v":0.37254566210045664},{"$f":"E$350","v":0.59777397260273968}]
["NHH UMS category B",{"$f":"C$351","v":4.9247533453833446E-2},{"$f":"D$351","v":8.8278432042188382E-2},{"$f":"E$351","v":0.86247403450397819}]
["NHH UMS category C",{"$f":"C$352","v":9.6056827605747144E-2},{"$f":"D$352","v":0.17696296513012377},{"$f":"E$352","v":0.72698020726412915}]
["NHH UMS category D",{"$f":"C$353","v":1.6971783970887895E-2},{"$f":"D$353","v":0.60828178839872815},{"$f":"E$353","v":0.37474642763038385}]
["LV UMS (Pseudo HH Metered)",1,0,0]
[]
["2420. Split of rate 2 units between special distribution time bands (default)"]
[]
[null,"Black","Yellow","Green"]
["LV UMS (Pseudo HH Metered)",0,1,0]
[]
["2421. Split of rate 3 units between special distribution time bands (default)"]
[]
[null,"Black","Yellow","Green"]
["LV UMS (Pseudo HH Metered)",0,0,1]
[]
["2422. Calculation of implied special load coefficients for one-rate users"]
["Data sources:"]
["x1 = 2407. All units (MWh)"]
["x2 = 2305. Rate 1 units (MWh) (in Equivalent volume for each end user)"]
["x3 = 2419. Split of rate 1 units between special distribution time bands"]
["x4 = 2417. Annual hours by special distribution time band (reconciled to days in year) (in Adjust annual hours by special distribution time band to match days in year)"]
["x5 = Use of special distribution time bands by units in demand forecast for one-rate tariffs (in Calculation of implied special load coefficients for one-rate users)"]
["x6 = 1010. Days in the charging year (in Financial and general assumptions)"]
["Kind:","Calculation",null,null,"Calculation"]
["Formula:","=IF(x1>0,(x2*x3)/x1,0)",null,null,"=IF(x4>0,x5*x6*24/x4,0)"]
[]
[null,"Use of special distribution time bands by units in demand forecast for one-rate tariffs"]
[null,"Black","Yellow","Green","First-time-band special load coefficient for one-rate tariffs"]
["NHH UMS category A",{"$f":"IF($B$128>0,(Loads!$B$311*B$362)/$B$128,0)","v":2.9680365296803651E-2},{"$f":"IF($B$128>0,(Loads!$B$311*C$362)/$B$128,0)","v":0.37254566210045664},{"$f":"IF($B$128>0,(Loads!$B$311*D$362)/$B$128,0)","v":0.59777397260273968},{"$f":"IF($C$337>0,$B391*Input!$F$14*24/$C$337,0)","v":1.0077519379844961}]
["NHH UMS category B",{"$f":"IF($B$129>0,(Loads!$B$312*B$363)/$B$129,0)","v":4.9247533453833446E-2},{"$f":"IF($B$129>0,(Loads!$B$312*C$363)/$B$129,0)","v":8.8278432042188382E-2},{"$f":"IF($B$129>0,(Loads!$B$312*D$363)/$B$129,0)","v":0.86247403450397819},{"$f":"IF($C$337>0,$B392*Input!$F$14*24/$C$337,0)","v":1.6721255544789959}]
["NHH UMS category C",{"$f":"IF($B$130>0,(Loads!$B$313*B$364)/$B$130,0)","v":9.6056827605747144E-2},{"$f":"IF($B$130>0,(Loads!$B$313*C$364)/$B$130,0)","v":0.17696296513012377},{"$f":"IF($B$130>0,(Loads!$B$313*D$364)/$B$130,0)","v":0.72698020726412915},{"$f":"IF($C$337>0,$B393*Input!$F$14*24/$C$337,0)","v":3.2614643791718803}]
["NHH UMS category D",{"$f":"IF($B$131>0,(Loads!$B$314*B$365)/$B$131,0)","v":1.6971783970887895E-2},{"$f":"IF($B$131>0,(Loads!$B$314*C$365)/$B$131,0)","v":0.60828178839872815},{"$f":"IF($B$131>0,(Loads!$B$314*D$365)/$B$131,0)","v":0.37474642763038385},{"$f":"IF($C$337>0,$B394*Input!$F$14*24/$C$337,0)","v":0.57625126970921681}]
[]
["2423. Calculation of implied special load coefficients for three-rate users"]
["Data sources:"]
["x1 = 2407. All units (MWh)"]
["x2 = 2305. Rate 1 units (MWh) (in Equivalent volume for each end user)"]
["x3 = 2419. Split of rate 1 units between special distribution time bands"]
["x4 = 2305. Rate 2 units (MWh) (in Equivalent volume for each end user)"]
["x5 = 2420. Split of rate 2 units between special distribution time bands (default)"]
["x6 = 2305. Rate 3 units (MWh) (in Equivalent volume for each end user)"]
["x7 = 2421. Split of rate 3 units between special distribution time bands (default)"]
["x8 = 2417. Annual hours by special distribution time band (reconciled to days in year) (in Adjust annual hours by special distribution time band to match days in year)"]
["x9 = Use of special distribution time bands by units in demand forecast for three-rate tariffs (in Calculation of implied special load coefficients for three-rate users)"]
["x10 = 1010. Days in the charging year (in Financial and general assumptions)"]
["Kind:","Calculation",null,null,"Calculation"]
["Formula:","=IF(x1>0,(x2*x3+x4*x5+x6*x7)/x1,0)",null,null,"=IF(x8>0,x9*x10*24/x8,0)"]
[]
[null,"Use of special distribution time bands by units in demand forecast for three-rate tariffs"]
[null,"Black","Yellow","Green","First-time-band special load coefficient for three-rate tariffs"]
["LV UMS (Pseudo HH Metered)",{"$f":"IF($B$132>0,(Loads!$B$315*B$366+Loads!$C$315*B$371+Loads!$D$315*B$376)/$B$132,0)","v":4.8332349286340982E-2},{"$f":"IF($B$132>0,(Loads!$B$315*C$366+Loads!$C$315*C$371+Loads!$D$315*C$376)/$B$132,0)","v":0.1114249438941768},{"$f":"IF($B$132>0,(Loads!$B$315*D$366+Loads!$C$315*D$371+Loads!$D$315*D$376)/$B$132,0)","v":0.8402427068194821},{"$f":"IF($C$337>0,$B413*Input!$F$14*24/$C$337,0)","v":1.6410518594897168}]
[]
["2424. Estimated contributions to peak demand"]
["Data sources:"]
["x1 = 2422. First-time-band special load coefficient for one-rate tariffs (in Calculation of implied special load coefficients for one-rate users)"]
["x2 = 2423. First-time-band special load coefficient for three-rate tariffs (in Calculation of implied special load coefficients for three-rate users)"]
["x3 = First-time-band special load coefficient (in Estimated contributions to peak demand)"]
["x4 = 2407. All units (MWh)"]
["x5 = 1010. Days in the charging year (in Financial and general assumptions)"]
["x6 = 2302. Load coefficient"]
["Kind:","Combine tables","Calculation","Calculation"]
["Formula:","= x1 or x2","=x3*x4/24/x5*1000","=x6*x4/24/x5*1000"]
[]
[null,"First-time-band special load coefficient","Contribution to first-band peak kW","Contribution to system-peak-time kW"]
["NHH UMS category A",{"$f":"E$391","v":1.0077519379844961},{"$f":"B427*$B$128/24/Input!$F$14*1000","v":7111.6372112774634},{"$f":"Loads!B$58*B$128/24/Input!F$14*1000","v":7056.9323096522521}]
["NHH UMS category B",{"$f":"E$392","v":1.6721255544789959},{"$f":"B428*$B$129/24/Input!$F$14*1000","v":6251.04542375038},{"$f":"Loads!B$59*B$129/24/Input!F$14*1000","v":7892.1625629212631}]
["NHH UMS category C",{"$f":"E$393","v":3.2614643791718803},{"$f":"B429*$B$130/24/Input!$F$14*1000","v":278.02112791169475},{"$f":"Loads!B$60*B$130/24/Input!F$14*1000","v":330.4041208781116}]
["NHH UMS category D",{"$f":"E$394","v":0.57625126970921681},{"$f":"B430*$B$131/24/Input!$F$14*1000","v":349.25471304455317},{"$f":"Loads!B$61*B$131/24/Input!F$14*1000","v":70.289274676456145}]
["LV UMS (Pseudo HH Metered)",{"$f":"E$413","v":1.6410518594897168},{"$f":"B431*$B$132/24/Input!$F$14*1000","v":44580.710367686042},{"$f":"Loads!B$62*B$132/24/Input!F$14*1000","v":55356.511095865513}]
[]
["2425. Mapping of tariffs to tariff groups for coincidence adjustment factor"]
[]
[null,"Unmetered"]
["NHH UMS category A",1]
["NHH UMS category B",1]
["NHH UMS category C",1]
["NHH UMS category D",1]
["LV UMS (Pseudo HH Metered)",1]
[]
["2426. Group contribution to first-band peak kW"]
["Data sources:"]
["x1 = 2425. Mapping of tariffs to tariff groups for coincidence adjustment factor"]
["x2 = 2424. Contribution to first-band peak kW (in Estimated contributions to peak demand)"]
["Sum-product calculation =SUMPRODUCT(x1, x2)"]
[]
[null,"Unmetered"]
["Black",{"$f":"SUMPRODUCT(B$436:B$440,$C$427:$C$431)","v":58570.668843670137}]
[]
["2427. Group contribution to system-peak-time kW"]
["Data sources:"]
["x1 = 2425. Mapping of tariffs to tariff groups for coincidence adjustment factor"]
["x2 = 2424. Contribution to system-peak-time kW (in Estimated contributions to peak demand)"]
["Sum-product calculation =SUMPRODUCT(x1, x2)"]
[]
[null,"Unmetered"]
["Group contribution to system-peak-time kW",{"$f":"SUMPRODUCT(B$436:B$440,$D$427:$D$431)","v":70706.299363993588}]
[]
["2428. Load coefficient correction factor for each group"]
["Data sources:"]
["x1 = 2426. Group contribution to first-band peak kW"]
["x2 = 2427. Group contribution to system-peak-time kW"]
["Calculation =IF(x1,x2/x1,0)"]
[]
[null,"Unmetered"]
["Load coefficient correction factor for each group",{"$f":"IF(B$449,B458/B$449,0)","v":1.2071963793467073}]
[]
["2429. Load coefficient correction factor (based on group)"]
["Data sources:"]
["x1 = 2425. Mapping of tariffs to tariff groups for coincidence adjustment factor"]
["x2 = 2428. Load coefficient correction factor for each group"]
["Sum-product calculation =SUMPRODUCT(x1, x2)"]
[]
[null,"Load coefficient correction factor (based on group)"]
["NHH UMS category A",{"$f":"$B436*$B$467","v":1.2071963793467073}]
["NHH UMS category B",{"$f":"$B437*$B$467","v":1.2071963793467073}]
["NHH UMS category C",{"$f":"$B438*$B$467","v":1.2071963793467073}]
["NHH UMS category D",{"$f":"$B439*$B$467","v":1.2071963793467073}]
["LV UMS (Pseudo HH Metered)",{"$f":"$B440*$B$467","v":1.2071963793467073}]
[]
["2430. Calculation of special peaking probabilities"]
["Data sources:"]
["x1 = 2411. Normalised peaking probabilities (in Normalisation of peaking probabilities)"]
["x2 = Amber peaking probabilities (in Calculation of special peaking probabilities)"]
["x3 = 1010. Days in the charging year (in Financial and general assumptions)"]
["x4 = 2401. Annual hours by distribution time band (reconciled to days in year) (in Adjust annual hours by distribution time band to match days in year)"]
["x5 = 1069. Black peaking probabilities (in Peaking probabilities by network level)"]
["x6 = Red peaking probabilities (in Calculation of special peaking probabilities)"]
["x7 = Amber peaking rates (in Calculation of special peaking probabilities)"]
["x8 = 2417. Annual hours by special distribution time band (reconciled to days in year) (in Adjust annual hours by special distribution time band to match days in year)"]
["x9 = Yellow peaking probabilities (in Calculation of special peaking probabilities)"]
["x10 = Green peaking probabilities (in Calculation of special peaking probabilities)"]
["Kind:","Copy cells","Copy cells","Copy cells","Calculation","Calculation","Calculation"]
["Formula:","=x1","=x1","=x1","=x2*24*x3/x4","=IF(x5,x2+x6-x5,x7*x8/x3/24)","=1-x9-x10"]
[]
[null,"Red peaking probabilities","Amber peaking probabilities","Green peaking probabilities","Amber peaking rates","Yellow peaking probabilities","Black peaking probabilities"]
["GSPs",{"$f":"$C224","v":0.90713490721324597},{"$f":"$D224","v":8.5943651473687752E-2},{"$f":"$E224","v":6.9214413130663024E-3},{"$f":"C498*24*Input!$F$14/$D$13","v":0.27471862321091212},{"$f":"IF(Input!$E307,$C498+$B498-Input!$E307,$E498*$D$337/Input!$F$14/24)","v":0.51684648145942758},{"$f":"1-$F498-$D498","v":0.4762320772275061}]
["132kV",0.71771031215339598,0.25348688310500261,2.8802804741601341E-2,{"$f":"C499*24*Input!$F$14/$D$13","v":0.81027005874833902},{"$f":"IF(Input!$E308,$C499+$B499-Input!$E308,$E499*$D$337/Input!$F$14/24)","v":0.46843297460198985},0.5027642206564088]
["132kV/EHV",0.71771031215339598,0.25348688310500261,2.8802804741601341E-2,{"$f":"C500*24*Input!$F$14/$D$13","v":0.81027005874833902},{"$f":"IF(Input!$E309,$C500+$B500-Input!$E309,$E500*$D$337/Input!$F$14/24)","v":0.46843297460198985},0.5027642206564088]
["EHV",0.66033153174473114,0.26482907568205305,7.4839392573215757E-2,{"$f":"C501*24*Input!$F$14/$D$13","v":0.8465253431763492},{"$f":"IF(Input!$E310,$C501+$B501-Input!$E310,$E501*$D$337/Input!$F$14/24)","v":0.39370171872250359},0.5314588887042806]
["EHV/HV",0.66033153174473114,0.26482907568205305,7.4839392573215757E-2,{"$f":"C502*24*Input!$F$14/$D$13","v":0.8465253431763492},{"$f":"IF(Input!$E311,$C502+$B502-Input!$E311,$E502*$D$337/Input!$F$14/24)","v":0.39370171872250359},0.5314588887042806]
["132kV/HV",0.71771031215339598,0.25348688310500261,2.8802804741601341E-2,{"$f":"C503*24*Input!$F$14/$D$13","v":0.81027005874833902},{"$f":"IF(Input!$E312,$C503+$B503-Input!$E312,$E503*$D$337/Input!$F$14/24)","v":0.46843297460198985},0.5027642206564088]
["HV",0.66033153174473114,0.26482907568205305,7.4839392573215757E-2,{"$f":"C504*24*Input!$F$14/$D$13","v":0.8465253431763492},{"$f":"IF(Input!$E313,$C504+$B504-Input!$E313,$E504*$D$337/Input!$F$14/24)","v":0.39370171872250359},0.5314588887042806]
["HV/LV",0.66033153174473114,0.26482907568205305,7.4839392573215757E-2,{"$f":"C505*24*Input!$F$14/$D$13","v":0.8465253431763492},{"$f":"IF(Input!$E314,$C505+$B505-Input!$E314,$E505*$D$337/Input!$F$14/24)","v":0.39370171872250359},0.5314588887042806]
["LV circuits",0.66033153174473114,0.26482907568205305,7.4839392573215757E-2,{"$f":"C506*24*Input!$F$14/$D$13","v":0.8465253431763492},{"$f":"IF(Input!$E315,$C506+$B506-Input!$E315,$E506*$D$337/Input!$F$14/24)","v":0.39370171872250359},0.5314588887042806]
[]
["2431. Special peaking probabilities by network level"]
["Data sources:"]
["x1 = 2430. Green peaking probabilities (in Calculation of special peaking probabilities)"]
["x2 = 2430. Yellow peaking probabilities (in Calculation of special peaking probabilities)"]
["x3 = 2430. Black peaking probabilities (in Calculation of special peaking probabilities)"]
["Combine tables = x1 or x2 or x3"]
[]
[null,"Black","Yellow","Green"]
["GSPs",{"$f":"$G$498","v":0.4762320772275061},{"$f":"$F$498","v":0.51684648145942758},{"$f":"$D$498","v":6.9214413130663024E-3}]
["132kV",{"$f":"$G$499","v":0.5027642206564088},{"$f":"$F$499","v":0.46843297460198985},{"$f":"$D$499","v":2.8802804741601341E-2}]
["132kV/EHV",{"$f":"$G$500","v":0.5027642206564088},{"$f":"$F$500","v":0.46843297460198985},{"$f":"$D$500","v":2.8802804741601341E-2}]
["EHV",{"$f":"$G$501","v":0.5314588887042806},{"$f":"$F$501","v":0.39370171872250359},{"$f":"$D$501","v":7.4839392573215757E-2}]
["EHV/HV",{"$f":"$G$502","v":0.5314588887042806},{"$f":"$F$502","v":0.39370171872250359},{"$f":"$D$502","v":7.4839392573215757E-2}]
["132kV/HV",{"$f":"$G$503","v":0.5027642206564088},{"$f":"$F$503","v":0.46843297460198985},{"$f":"$D$503","v":2.8802804741601341E-2}]
["HV",{"$f":"$G$504","v":0.5314588887042806},{"$f":"$F$504","v":0.39370171872250359},{"$f":"$D$504","v":7.4839392573215757E-2}]
["HV/LV",{"$f":"$G$505","v":0.5314588887042806},{"$f":"$F$505","v":0.39370171872250359},{"$f":"$D$505","v":7.4839392573215757E-2}]
["LV circuits",{"$f":"$G$506","v":0.5314588887042806},{"$f":"$F$506","v":0.39370171872250359},{"$f":"$D$506","v":7.4839392573215757E-2}]
[]
["2432. Special peaking probabilities by network level (reshaped)"]
["Data sources:"]
["x1 = 2431. Special peaking probabilities by network level"]
["Reshape table = x1"]
[]
[null,"GSPs","Black","Yellow","Green","132kV","Black","Yellow","Green","132kV/EHV","Black","Yellow","Green","EHV","Black","Yellow","Green","EHV/HV","Black","Yellow","Green","132kV/HV","Black","Yellow","Green","HV","Black","Yellow","Green","HV/LV","Black","Yellow","Green","LV circuits","Black","Yellow","Green"]
["Probability of peak within timeband",null,{"$f":"B$516","v":0.4762320772275061},{"$f":"C$516","v":0.51684648145942758},{"$f":"D$516","v":6.9214413130663024E-3},null,{"$f":"B$517","v":0.5027642206564088},{"$f":"C$517","v":0.46843297460198985},{"$f":"D$517","v":2.8802804741601341E-2},null,{"$f":"B$518","v":0.5027642206564088},{"$f":"C$518","v":0.46843297460198985},{"$f":"D$518","v":2.8802804741601341E-2},null,{"$f":"B$519","v":0.5314588887042806},{"$f":"C$519","v":0.39370171872250359},{"$f":"D$519","v":7.4839392573215757E-2},null,{"$f":"B$520","v":0.5314588887042806},{"$f":"C$520","v":0.39370171872250359},{"$f":"D$520","v":7.4839392573215757E-2},null,{"$f":"B$521","v":0.5027642206564088},{"$f":"C$521","v":0.46843297460198985},{"$f":"D$521","v":2.8802804741601341E-2},null,{"$f":"B$522","v":0.5314588887042806},{"$f":"C$522","v":0.39370171872250359},{"$f":"D$522","v":7.4839392573215757E-2},null,{"$f":"B$523","v":0.5314588887042806},{"$f":"C$523","v":0.39370171872250359},{"$f":"D$523","v":7.4839392573215757E-2},null,{"$f":"B$524","v":0.5314588887042806},{"$f":"C$524","v":0.39370171872250359},{"$f":"D$524","v":7.4839392573215757E-2}]
[]
["2433. Pseudo load coefficient by time band and network level"]
["Data sources:"]
["x1 = 2417. Annual hours by special distribution time band (reconciled to days in year) (in Adjust annual hours by special distribution time band to match days in year)"]
["x2 = 2429. Load coefficient correction factor (based on group)"]
["x3 = 2432. Special peaking probabilities by network level (reshaped)"]
["x4 = 1010. Days in the charging year (in Financial and general assumptions)"]
["Calculation =IF(x1>0,x2*x3*24*x4/x1,0)"]
[]
[null,"GSPs","Black","Yellow","Green","132kV","Black","Yellow","Green","132kV/EHV","Black","Yellow","Green","EHV","Black","Yellow","Green","EHV/HV","Black","Yellow","Green","132kV/HV","Black","Yellow","Green","HV","Black","Yellow","Green","HV/LV","Black","Yellow","Green","LV circuits","Black","Yellow","Green"]
["NHH UMS category A",null,{"$f":"IF(C$337>0,$B476*C$532*24*Input!$F$14/C$337,0)","v":19.520051940986004},{"$f":"IF(D$337>0,$B476*D$532*24*Input!$F$14/D$337,0)","v":1.6737627810749156},{"$f":"IF(E$337>0,$B476*E$532*24*Input!$F$14/E$337,0)","v":1.3977756269002307E-2},null,{"$f":"IF(C$337>0,$B476*G$532*24*Input!$F$14/C$337,0)","v":20.60756545089696},{"$f":"IF(D$337>0,$B476*H$532*24*Input!$F$14/D$337,0)","v":1.516979812077079},{"$f":"IF(E$337>0,$B476*I$532*24*Input!$F$14/E$337,0)","v":5.8166871079545469E-2},null,{"$f":"IF(C$337>0,$B476*K$532*24*Input!$F$14/C$337,0)","v":20.60756545089696},{"$f":"IF(D$337>0,$B476*L$532*24*Input!$F$14/D$337,0)","v":1.516979812077079},{"$f":"IF(E$337>0,$B476*M$532*24*Input!$F$14/E$337,0)","v":5.8166871079545469E-2},null,{"$f":"IF(C$337>0,$B476*O$532*24*Input!$F$14/C$337,0)","v":21.783717662198399},{"$f":"IF(D$337>0,$B476*P$532*24*Input!$F$14/D$337,0)","v":1.2749690813067485},{"$f":"IF(E$337>0,$B476*Q$532*24*Input!$F$14/E$337,0)","v":0.15113713190542957},null,{"$f":"IF(C$337>0,$B476*S$532*24*Input!$F$14/C$337,0)","v":21.783717662198399},{"$f":"IF(D$337>0,$B476*T$532*24*Input!$F$14/D$337,0)","v":1.2749690813067485},{"$f":"IF(E$337>0,$B476*U$532*24*Input!$F$14/E$337,0)","v":0.15113713190542957},null,{"$f":"IF(C$337>0,$B476*W$532*24*Input!$F$14/C$337,0)","v":20.60756545089696},{"$f":"IF(D$337>0,$B476*X$532*24*Input!$F$14/D$337,0)","v":1.516979812077079},{"$f":"IF(E$337>0,$B476*Y$532*24*Input!$F$14/E$337,0)","v":5.8166871079545469E-2},null,{"$f":"IF(C$337>0,$B476*AA$532*24*Input!$F$14/C$337,0)","v":21.783717662198399},{"$f":"IF(D$337>0,$B476*AB$532*24*Input!$F$14/D$337,0)","v":1.2749690813067485},{"$f":"IF(E$337>0,$B476*AC$532*24*Input!$F$14/E$337,0)","v":0.15113713190542957},null,{"$f":"IF(C$337>0,$B476*AE$532*24*Input!$F$14/C$337,0)","v":21.783717662198399},{"$f":"IF(D$337>0,$B476*AF$532*24*Input!$F$14/D$337,0)","v":1.2749690813067485},{"$f":"IF(E$337>0,$B476*AG$532*24*Input!$F$14/E$337,0)","v":0.15113713190542957},null,{"$f":"IF(C$337>0,$B476*AI$532*24*Input!$F$14/C$337,0)","v":21.783717662198399},{"$f":"IF(D$337>0,$B476*AJ$532*24*Input!$F$14/D$337,0)","v":1.2749690813067485},{"$f":"IF(E$337>0,$B476*AK$532*24*Input!$F$14/E$337,0)","v":0.15113713190542957}]
["NHH UMS category B",null,{"$f":"IF(C$337>0,$B477*C$532*24*Input!$F$14/C$337,0)","v":19.520051940986004},{"$f":"IF(D$337>0,$B477*D$532*24*Input!$F$14/D$337,0)","v":1.6737627810749156},{"$f":"IF(E$337>0,$B477*E$532*24*Input!$F$14/E$337,0)","v":1.3977756269002307E-2},null,{"$f":"IF(C$337>0,$B477*G$532*24*Input!$F$14/C$337,0)","v":20.60756545089696},{"$f":"IF(D$337>0,$B477*H$532*24*Input!$F$14/D$337,0)","v":1.516979812077079},{"$f":"IF(E$337>0,$B477*I$532*24*Input!$F$14/E$337,0)","v":5.8166871079545469E-2},null,{"$f":"IF(C$337>0,$B477*K$532*24*Input!$F$14/C$337,0)","v":20.60756545089696},{"$f":"IF(D$337>0,$B477*L$532*24*Input!$F$14/D$337,0)","v":1.516979812077079},{"$f":"IF(E$337>0,$B477*M$532*24*Input!$F$14/E$337,0)","v":5.8166871079545469E-2},null,{"$f":"IF(C$337>0,$B477*O$532*24*Input!$F$14/C$337,0)","v":21.783717662198399},{"$f":"IF(D$337>0,$B477*P$532*24*Input!$F$14/D$337,0)","v":1.2749690813067485},{"$f":"IF(E$337>0,$B477*Q$532*24*Input!$F$14/E$337,0)","v":0.15113713190542957},null,{"$f":"IF(C$337>0,$B477*S$532*24*Input!$F$14/C$337,0)","v":21.783717662198399},{"$f":"IF(D$337>0,$B477*T$532*24*Input!$F$14/D$337,0)","v":1.2749690813067485},{"$f":"IF(E$337>0,$B477*U$532*24*Input!$F$14/E$337,0)","v":0.15113713190542957},null,{"$f":"IF(C$337>0,$B477*W$532*24*Input!$F$14/C$337,0)","v":20.60756545089696},{"$f":"IF(D$337>0,$B477*X$532*24*Input!$F$14/D$337,0)","v":1.516979812077079},{"$f":"IF(E$337>0,$B477*Y$532*24*Input!$F$14/E$337,0)","v":5.8166871079545469E-2},null,{"$f":"IF(C$337>0,$B477*AA$532*24*Input!$F$14/C$337,0)","v":21.783717662198399},{"$f":"IF(D$337>0,$B477*AB$532*24*Input!$F$14/D$337,0)","v":1.2749690813067485},{"$f":"IF(E$337>0,$B477*AC$532*24*Input!$F$14/E$337,0)","v":0.15113713190542957},null,{"$f":"IF(C$337>0,$B477*AE$532*24*Input!$F$14/C$337,0)","v":21.783717662198399},{"$f":"IF(D$337>0,$B477*AF$532*24*Input!$F$14/D$337,0)","v":1.2749690813067485},{"$f":"IF(E$337>0,$B477*AG$532*24*Input!$F$14/E$337,0)","v":0.15113713190542957},null,{"$f":"IF(C$337>0,$B477*AI$532*24*Input!$F$14/C$337,0)","v":21.783717662198399},{"$f":"IF(D$337>0,$B477*AJ$532*24*Input!$F$14/D$337,0)","v":1.2749690813067485},{"$f":"IF(E$337>0,$B477*AK$532*24*Input!$F$14/E$337,0)","v":0.15113713190542957}]
["NHH UMS category C",null,{"$f":"IF(C$337>0,$B478*C$532*24*Input!$F$14/C$337,0)","v":19.520051940986004},{"$f":"IF(D$337>0,$B478*D$532*24*Input!$F$14/D$337,0)","v":1.6737627810749156},{"$f":"IF(E$337>0,$B478*E$532*24*Input!$F$14/E$337,0)","v":1.3977756269002307E-2},null,{"$f":"IF(C$337>0,$B478*G$532*24*Input!$F$14/C$337,0)","v":20.60756545089696},{"$f":"IF(D$337>0,$B478*H$532*24*Input!$F$14/D$337,0)","v":1.516979812077079},{"$f":"IF(E$337>0,$B478*I$532*24*Input!$F$14/E$337,0)","v":5.8166871079545469E-2},null,{"$f":"IF(C$337>0,$B478*K$532*24*Input!$F$14/C$337,0)","v":20.60756545089696},{"$f":"IF(D$337>0,$B478*L$532*24*Input!$F$14/D$337,0)","v":1.516979812077079},{"$f":"IF(E$337>0,$B478*M$532*24*Input!$F$14/E$337,0)","v":5.8166871079545469E-2},null,{"$f":"IF(C$337>0,$B478*O$532*24*Input!$F$14/C$337,0)","v":21.783717662198399},{"$f":"IF(D$337>0,$B478*P$532*24*Input!$F$14/D$337,0)","v":1.2749690813067485},{"$f":"IF(E$337>0,$B478*Q$532*24*Input!$F$14/E$337,0)","v":0.15113713190542957},null,{"$f":"IF(C$337>0,$B478*S$532*24*Input!$F$14/C$337,0)","v":21.783717662198399},{"$f":"IF(D$337>0,$B478*T$532*24*Input!$F$14/D$337,0)","v":1.2749690813067485},{"$f":"IF(E$337>0,$B478*U$532*24*Input!$F$14/E$337,0)","v":0.15113713190542957},null,{"$f":"IF(C$337>0,$B478*W$532*24*Input!$F$14/C$337,0)","v":20.60756545089696},{"$f":"IF(D$337>0,$B478*X$532*24*Input!$F$14/D$337,0)","v":1.516979812077079},{"$f":"IF(E$337>0,$B478*Y$532*24*Input!$F$14/E$337,0)","v":5.8166871079545469E-2},null,{"$f":"IF(C$337>0,$B478*AA$532*24*Input!$F$14/C$337,0)","v":21.783717662198399},{"$f":"IF(D$337>0,$B478*AB$532*24*Input!$F$14/D$337,0)","v":1.2749690813067485},{"$f":"IF(E$337>0,$B478*AC$532*24*Input!$F$14/E$337,0)","v":0.15113713190542957},null,{"$f":"IF(C$337>0,$B478*AE$532*24*Input!$F$14/C$337,0)","v":21.783717662198399},{"$f":"IF(D$337>0,$B478*AF$532*24*Input!$F$14/D$337,0)","v":1.2749690813067485},{"$f":"IF(E$337>0,$B478*AG$532*24*Input!$F$14/E$337,0)","v":0.15113713190542957},null,{"$f":"IF(C$337>0,$B478*AI$532*24*Input!$F$14/C$337,0)","v":21.783717662198399},{"$f":"IF(D$337>0,$B478*AJ$532*24*Input!$F$14/D$337,0)","v":1.2749690813067485},{"$f":"IF(E$337>0,$B478*AK$532*24*Input!$F$14/E$337,0)","v":0.15113713190542957}]
["NHH UMS category D",null,{"$f":"IF(C$337>0,$B479*C$532*24*Input!$F$14/C$337,0)","v":19.520051940986004},{"$f":"IF(D$337>0,$B479*D$532*24*Input!$F$14/D$337,0)","v":1.6737627810749156},{"$f":"IF(E$337>0,$B479*E$532*24*Input!$F$14/E$337,0)","v":1.3977756269002307E-2},null,{"$f":"IF(C$337>0,$B479*G$532*24*Input!$F$14/C$337,0)","v":20.60756545089696},{"$f":"IF(D$337>0,$B479*H$532*24*Input!$F$14/D$337,0)","v":1.516979812077079},{"$f":"IF(E$337>0,$B479*I$532*24*Input!$F$14/E$337,0)","v":5.8166871079545469E-2},null,{"$f":"IF(C$337>0,$B479*K$532*24*Input!$F$14/C$337,0)","v":20.60756545089696},{"$f":"IF(D$337>0,$B479*L$532*24*Input!$F$14/D$337,0)","v":1.516979812077079},{"$f":"IF(E$337>0,$B479*M$532*24*Input!$F$14/E$337,0)","v":5.8166871079545469E-2},null,{"$f":"IF(C$337>0,$B479*O$532*24*Input!$F$14/C$337,0)","v":21.783717662198399},{"$f":"IF(D$337>0,$B479*P$532*24*Input!$F$14/D$337,0)","v":1.2749690813067485},{"$f":"IF(E$337>0,$B479*Q$532*24*Input!$F$14/E$337,0)","v":0.15113713190542957},null,{"$f":"IF(C$337>0,$B479*S$532*24*Input!$F$14/C$337,0)","v":21.783717662198399},{"$f":"IF(D$337>0,$B479*T$532*24*Input!$F$14/D$337,0)","v":1.2749690813067485},{"$f":"IF(E$337>0,$B479*U$532*24*Input!$F$14/E$337,0)","v":0.15113713190542957},null,{"$f":"IF(C$337>0,$B479*W$532*24*Input!$F$14/C$337,0)","v":20.60756545089696},{"$f":"IF(D$337>0,$B479*X$532*24*Input!$F$14/D$337,0)","v":1.516979812077079},{"$f":"IF(E$337>0,$B479*Y$532*24*Input!$F$14/E$337,0)","v":5.8166871079545469E-2},null,{"$f":"IF(C$337>0,$B479*AA$532*24*Input!$F$14/C$337,0)","v":21.783717662198399},{"$f":"IF(D$337>0,$B479*AB$532*24*Input!$F$14/D$337,0)","v":1.2749690813067485},{"$f":"IF(E$337>0,$B479*AC$532*24*Input!$F$14/E$337,0)","v":0.15113713190542957},null,{"$f":"IF(C$337>0,$B479*AE$532*24*Input!$F$14/C$337,0)","v":21.783717662198399},{"$f":"IF(D$337>0,$B479*AF$532*24*Input!$F$14/D$337,0)","v":1.2749690813067485},{"$f":"IF(E$337>0,$B479*AG$532*24*Input!$F$14/E$337,0)","v":0.15113713190542957},null,{"$f":"IF(C$337>0,$B479*AI$532*24*Input!$F$14/C$337,0)","v":21.783717662198399},{"$f":"IF(D$337>0,$B479*AJ$532*24*Input!$F$14/D$337,0)","v":1.2749690813067485},{"$f":"IF(E$337>0,$B479*AK$532*24*Input!$F$14/E$337,0)","v":0.15113713190542957}]
["LV UMS (Pseudo HH Metered)",null,{"$f":"IF(C$337>0,$B480*C$532*24*Input!$F$14/C$337,0)","v":19.520051940986004},{"$f":"IF(D$337>0,$B480*D$532*24*Input!$F$14/D$337,0)","v":1.6737627810749156},{"$f":"IF(E$337>0,$B480*E$532*24*Input!$F$14/E$337,0)","v":1.3977756269002307E-2},null,{"$f":"IF(C$337>0,$B480*G$532*24*Input!$F$14/C$337,0)","v":20.60756545089696},{"$f":"IF(D$337>0,$B480*H$532*24*Input!$F$14/D$337,0)","v":1.516979812077079},{"$f":"IF(E$337>0,$B480*I$532*24*Input!$F$14/E$337,0)","v":5.8166871079545469E-2},null,{"$f":"IF(C$337>0,$B480*K$532*24*Input!$F$14/C$337,0)","v":20.60756545089696},{"$f":"IF(D$337>0,$B480*L$532*24*Input!$F$14/D$337,0)","v":1.516979812077079},{"$f":"IF(E$337>0,$B480*M$532*24*Input!$F$14/E$337,0)","v":5.8166871079545469E-2},null,{"$f":"IF(C$337>0,$B480*O$532*24*Input!$F$14/C$337,0)","v":21.783717662198399},{"$f":"IF(D$337>0,$B480*P$532*24*Input!$F$14/D$337,0)","v":1.2749690813067485},{"$f":"IF(E$337>0,$B480*Q$532*24*Input!$F$14/E$337,0)","v":0.15113713190542957},null,{"$f":"IF(C$337>0,$B480*S$532*24*Input!$F$14/C$337,0)","v":21.783717662198399},{"$f":"IF(D$337>0,$B480*T$532*24*Input!$F$14/D$337,0)","v":1.2749690813067485},{"$f":"IF(E$337>0,$B480*U$532*24*Input!$F$14/E$337,0)","v":0.15113713190542957},null,{"$f":"IF(C$337>0,$B480*W$532*24*Input!$F$14/C$337,0)","v":20.60756545089696},{"$f":"IF(D$337>0,$B480*X$532*24*Input!$F$14/D$337,0)","v":1.516979812077079},{"$f":"IF(E$337>0,$B480*Y$532*24*Input!$F$14/E$337,0)","v":5.8166871079545469E-2},null,{"$f":"IF(C$337>0,$B480*AA$532*24*Input!$F$14/C$337,0)","v":21.783717662198399},{"$f":"IF(D$337>0,$B480*AB$532*24*Input!$F$14/D$337,0)","v":1.2749690813067485},{"$f":"IF(E$337>0,$B480*AC$532*24*Input!$F$14/E$337,0)","v":0.15113713190542957},null,{"$f":"IF(C$337>0,$B480*AE$532*24*Input!$F$14/C$337,0)","v":21.783717662198399},{"$f":"IF(D$337>0,$B480*AF$532*24*Input!$F$14/D$337,0)","v":1.2749690813067485},{"$f":"IF(E$337>0,$B480*AG$532*24*Input!$F$14/E$337,0)","v":0.15113713190542957},null,{"$f":"IF(C$337>0,$B480*AI$532*24*Input!$F$14/C$337,0)","v":21.783717662198399},{"$f":"IF(D$337>0,$B480*AJ$532*24*Input!$F$14/D$337,0)","v":1.2749690813067485},{"$f":"IF(E$337>0,$B480*AK$532*24*Input!$F$14/E$337,0)","v":0.15113713190542957}]
[]
["2434. Unit rate 1 pseudo load coefficient by network level (special)"]
["Data sources:"]
["x1 = 2433. Pseudo load coefficient by time band and network level"]
["x2 = 2419. Split of rate 1 units between special distribution time bands"]
["Sum-product calculation =SUMPRODUCT(x1, x2)"]
[]
[null,"GSPs","132kV","132kV/EHV","EHV","EHV/HV","132kV/HV","HV","HV/LV","LV circuits"]
["NHH UMS category A",{"$f":"SUMPRODUCT($C543:$E543,$B362:$D362)","v":1.2112708745886962},{"$f":"SUMPRODUCT($G543:$I543,$B362:$D362)","v":1.2115549605427851},{"$f":"SUMPRODUCT($K543:$M543,$B362:$D362)","v":1.2115549605427851},{"$f":"SUMPRODUCT($O543:$Q543,$B362:$D362)","v":1.2118787420364086},{"$f":"SUMPRODUCT($S543:$U543,$B362:$D362)","v":1.2118787420364086},{"$f":"SUMPRODUCT($W543:$Y543,$B362:$D362)","v":1.2115549605427851},{"$f":"SUMPRODUCT($AA543:$AC543,$B362:$D362)","v":1.2118787420364086},{"$f":"SUMPRODUCT($AE543:$AG543,$B362:$D362)","v":1.2118787420364086},{"$f":"SUMPRODUCT($AI543:$AK543,$B362:$D362)","v":1.2118787420364086}]
["NHH UMS category B",{"$f":"SUMPRODUCT($C544:$E544,$B363:$D363)","v":1.1211270167507805},{"$f":"SUMPRODUCT($G544:$I544,$B363:$D363)","v":1.1989557841693768},{"$f":"SUMPRODUCT($K544:$M544,$B363:$D363)","v":1.1989557841693768},{"$f":"SUMPRODUCT($O544:$Q544,$B363:$D363)","v":1.3156984876358429},{"$f":"SUMPRODUCT($S544:$U544,$B363:$D363)","v":1.3156984876358429},{"$f":"SUMPRODUCT($W544:$Y544,$B363:$D363)","v":1.1989557841693768},{"$f":"SUMPRODUCT($AA544:$AC544,$B363:$D363)","v":1.3156984876358429},{"$f":"SUMPRODUCT($AE544:$AG544,$B363:$D363)","v":1.3156984876358429},{"$f":"SUMPRODUCT($AI544:$AK544,$B363:$D363)","v":1.3156984876358429}]
["NHH UMS category C",{"$f":"SUMPRODUCT($C545:$E545,$B364:$D364)","v":2.1813898409635084},{"$f":"SUMPRODUCT($G545:$I545,$B364:$D364)","v":2.2902327714719717},{"$f":"SUMPRODUCT($K545:$M545,$B364:$D364)","v":2.2902327714719717},{"$f":"SUMPRODUCT($O545:$Q545,$B364:$D364)","v":2.4279708246452483},{"$f":"SUMPRODUCT($S545:$U545,$B364:$D364)","v":2.4279708246452483},{"$f":"SUMPRODUCT($W545:$Y545,$B364:$D364)","v":2.2902327714719717},{"$f":"SUMPRODUCT($AA545:$AC545,$B364:$D364)","v":2.4279708246452483},{"$f":"SUMPRODUCT($AE545:$AG545,$B364:$D364)","v":2.4279708246452483},{"$f":"SUMPRODUCT($AI545:$AK545,$B364:$D364)","v":2.4279708246452483}]
["NHH UMS category D",{"$f":"SUMPRODUCT($C546:$E546,$B365:$D365)","v":1.3546476366985007},{"$f":"SUMPRODUCT($G546:$I546,$B365:$D365)","v":1.2942961691970649},{"$f":"SUMPRODUCT($K546:$M546,$B365:$D365)","v":1.2942961691970649},{"$f":"SUMPRODUCT($O546:$Q546,$B365:$D365)","v":1.2018871234398605},{"$f":"SUMPRODUCT($S546:$U546,$B365:$D365)","v":1.2018871234398605},{"$f":"SUMPRODUCT($W546:$Y546,$B365:$D365)","v":1.2942961691970649},{"$f":"SUMPRODUCT($AA546:$AC546,$B365:$D365)","v":1.2018871234398605},{"$f":"SUMPRODUCT($AE546:$AG546,$B365:$D365)","v":1.2018871234398605},{"$f":"SUMPRODUCT($AI546:$AK546,$B365:$D365)","v":1.2018871234398605}]
["LV UMS (Pseudo HH Metered)",{"$f":"SUMPRODUCT($C547:$E547,$B366:$D366)","v":19.520051940986004},{"$f":"SUMPRODUCT($G547:$I547,$B366:$D366)","v":20.60756545089696},{"$f":"SUMPRODUCT($K547:$M547,$B366:$D366)","v":20.60756545089696},{"$f":"SUMPRODUCT($O547:$Q547,$B366:$D366)","v":21.783717662198399},{"$f":"SUMPRODUCT($S547:$U547,$B366:$D366)","v":21.783717662198399},{"$f":"SUMPRODUCT($W547:$Y547,$B366:$D366)","v":20.60756545089696},{"$f":"SUMPRODUCT($AA547:$AC547,$B366:$D366)","v":21.783717662198399},{"$f":"SUMPRODUCT($AE547:$AG547,$B366:$D366)","v":21.783717662198399},{"$f":"SUMPRODUCT($AI547:$AK547,$B366:$D366)","v":21.783717662198399}]
[]
["2435. Unit rate 2 pseudo load coefficient by network level (special)"]
["Data sources:"]
["x1 = 2433. Pseudo load coefficient by time band and network level"]
["x2 = 2420. Split of rate 2 units between special distribution time bands (default)"]
["Sum-product calculation =SUMPRODUCT(x1, x2)"]
[]
[null,"GSPs","132kV","132kV/EHV","EHV","EHV/HV","132kV/HV","HV","HV/LV","LV circuits"]
["LV UMS (Pseudo HH Metered)",{"$f":"SUMPRODUCT($C$547:$E$547,$B371:$D371)","v":1.6737627810749156},{"$f":"SUMPRODUCT($G$547:$I$547,$B371:$D371)","v":1.516979812077079},{"$f":"SUMPRODUCT($K$547:$M$547,$B371:$D371)","v":1.516979812077079},{"$f":"SUMPRODUCT($O$547:$Q$547,$B371:$D371)","v":1.2749690813067485},{"$f":"SUMPRODUCT($S$547:$U$547,$B371:$D371)","v":1.2749690813067485},{"$f":"SUMPRODUCT($W$547:$Y$547,$B371:$D371)","v":1.516979812077079},{"$f":"SUMPRODUCT($AA$547:$AC$547,$B371:$D371)","v":1.2749690813067485},{"$f":"SUMPRODUCT($AE$547:$AG$547,$B371:$D371)","v":1.2749690813067485},{"$f":"SUMPRODUCT($AI$547:$AK$547,$B371:$D371)","v":1.2749690813067485}]
[]
["2436. Unit rate 3 pseudo load coefficient by network level (special)"]
["Data sources:"]
["x1 = 2433. Pseudo load coefficient by time band and network level"]
["x2 = 2421. Split of rate 3 units between special distribution time bands (default)"]
["Sum-product calculation =SUMPRODUCT(x1, x2)"]
[]
[null,"GSPs","132kV","132kV/EHV","EHV","EHV/HV","132kV/HV","HV","HV/LV","LV circuits"]
["LV UMS (Pseudo HH Metered)",{"$f":"SUMPRODUCT($C$547:$E$547,$B376:$D376)","v":1.3977756269002307E-2},{"$f":"SUMPRODUCT($G$547:$I$547,$B376:$D376)","v":5.8166871079545469E-2},{"$f":"SUMPRODUCT($K$547:$M$547,$B376:$D376)","v":5.8166871079545469E-2},{"$f":"SUMPRODUCT($O$547:$Q$547,$B376:$D376)","v":0.15113713190542957},{"$f":"SUMPRODUCT($S$547:$U$547,$B376:$D376)","v":0.15113713190542957},{"$f":"SUMPRODUCT($W$547:$Y$547,$B376:$D376)","v":5.8166871079545469E-2},{"$f":"SUMPRODUCT($AA$547:$AC$547,$B376:$D376)","v":0.15113713190542957},{"$f":"SUMPRODUCT($AE$547:$AG$547,$B376:$D376)","v":0.15113713190542957},{"$f":"SUMPRODUCT($AI$547:$AK$547,$B376:$D376)","v":0.15113713190542957}]
[]
["2437. Unit rate 1 pseudo load coefficient by network level (combined)"]
["Data sources:"]
["x1 = 2414. Unit rate 1 pseudo load coefficient by network level"]
["x2 = 2434. Unit rate 1 pseudo load coefficient by network level (special)"]
["Combine tables = x1 or x2"]
[]
[null,"GSPs","132kV","132kV/EHV","EHV","EHV/HV","132kV/HV","HV","HV/LV","LV circuits"]
["Domestic Two Rate",{"$f":"$B$274","v":2.6804293508776045},{"$f":"$C$274","v":2.5500534349822246},{"$f":"$D$274","v":2.5500534349822246},{"$f":"$E$274","v":2.4730582432462338},{"$f":"$F$274","v":2.4730582432462338},{"$f":"$G$274","v":2.5500534349822246},{"$f":"$H$274","v":2.4730582432462338},{"$f":"$I$274","v":2.4730582432462338},{"$f":"$J$274","v":2.4730582432462338}]
["Domestic Off Peak (related MPAN)",{"$f":"$B$275","v":8.8982767979877975E-2},{"$f":"$C$275","v":0.22325852805845148},{"$f":"$D$275","v":0.22325852805845148},{"$f":"$E$275","v":0.29023765169786409},{"$f":"$F$275","v":0.29023765169786409},{"$f":"$G$275","v":0.22325852805845148},{"$f":"$H$275","v":0.29023765169786409},{"$f":"$I$275","v":0.29023765169786409},{"$f":"$J$275","v":0.29023765169786409}]
["Small Non Domestic Two Rate",{"$f":"$B$276","v":2.1062699417387227},{"$f":"$C$276","v":2.1291987435969717},{"$f":"$D$276","v":2.1291987435969717},{"$f":"$E$276","v":2.0722995202705774},{"$f":"$F$276","v":2.0722995202705774},{"$f":"$G$276","v":2.1291987435969717},{"$f":"$H$276","v":2.0722995202705774},{"$f":"$I$276","v":2.0722995202705774},{"$f":"$J$276","v":2.0722995202705774}]
["Small Non Domestic Off Peak (related MPAN)",{"$f":"$B$277","v":0.24303591899925933},{"$f":"$C$277","v":0.32529703544398103},{"$f":"$D$277","v":0.32529703544398103},{"$f":"$E$277","v":0.38211700671417625},{"$f":"$F$277","v":0.38211700671417625},{"$f":"$G$277","v":0.32529703544398103},{"$f":"$H$277","v":0.38211700671417625},{"$f":"$I$277","v":0.38211700671417625},{"$f":"$J$277","v":0.38211700671417625}]
["LV Medium Non-Domestic",{"$f":"$B$278","v":2.0375252557922003},{"$f":"$C$278","v":2.040521423303701},{"$f":"$D$278","v":2.040521423303701},{"$f":"$E$278","v":1.982129960306233},{"$f":"$F$278","v":1.982129960306233},{"$f":"$G$278","v":2.040521423303701},{"$f":"$H$278","v":1.982129960306233},{"$f":"$I$278","v":1.982129960306233},{"$f":"$J$278","v":1.982129960306233}]
["LV Sub Medium Non-Domestic",{"$f":"$B$279","v":2.0722740398394359},{"$f":"$C$279","v":2.0753213052097395},{"$f":"$D$279","v":2.0753213052097395},{"$f":"$E$279","v":2.0159340104638628},{"$f":"$F$279","v":2.0159340104638628},{"$f":"$G$279","v":2.0753213052097395},{"$f":"$H$279","v":2.0159340104638628},{"$f":"$I$279","v":2.0159340104638628},{"$f":"$J$279","v":2.0159340104638628}]
["HV Medium Non-Domestic",{"$f":"$B$280","v":1.8708998004664772},{"$f":"$C$280","v":1.912096059938301},{"$f":"$D$280","v":1.912096059938301},{"$f":"$E$280","v":1.8605326652113592},{"$f":"$F$280","v":1.8605326652113592},{"$f":"$G$280","v":1.912096059938301},{"$f":"$H$280","v":1.8605326652113592},{"$f":"$I$280","v":1.8605326652113592},{"$f":"$J$280","v":1.8605326652113592}]
["LV HH Metered",{"$f":"$B$281","v":12.080984820467647},{"$f":"$C$281","v":9.5582777353975317},{"$f":"$D$281","v":9.5582777353975317},{"$f":"$E$281","v":8.7941221840875965},{"$f":"$F$281","v":8.7941221840875965},{"$f":"$G$281","v":9.5582777353975317},{"$f":"$H$281","v":8.7941221840875965},{"$f":"$I$281","v":8.7941221840875965},{"$f":"$J$281","v":8.7941221840875965}]
["LV Sub HH Metered",{"$f":"$B$282","v":12.478817521926691},{"$f":"$C$282","v":9.8730364665174193},{"$f":"$D$282","v":9.8730364665174193},{"$f":"$E$282","v":9.0837169015256247},{"$f":"$F$282","v":9.0837169015256247},{"$f":"$G$282","v":9.8730364665174193},{"$f":"$H$282","v":9.0837169015256247},{"$f":"$I$282","v":9.0837169015256247},{"$f":"$J$282","v":9.0837169015256247}]
["HV HH Metered",{"$f":"$B$283","v":10.958040941422786},{"$f":"$C$283","v":8.6698228919653246},{"$f":"$D$283","v":8.6698228919653246},{"$f":"$E$283","v":7.9766966326985198},{"$f":"$F$283","v":7.9766966326985198},{"$f":"$G$283","v":8.6698228919653246},{"$f":"$H$283","v":7.9766966326985198},{"$f":"$I$283","v":7.9766966326985198},{"$f":"$J$283","v":7.9766966326985198}]
["HV Sub HH Metered",{"$f":"$B$284","v":10.148789000240146},{"$f":"$C$284","v":8.0295559827123224},{"$f":"$D$284","v":8.0295559827123224},{"$f":"$E$284","v":7.3876171367609764},{"$f":"$F$284","v":7.3876171367609764},{"$f":"$G$284","v":8.0295559827123224},{"$f":"$H$284","v":7.3876171367609764},{"$f":"$I$284","v":7.3876171367609764},{"$f":"$J$284","v":7.3876171367609764}]
["LV Generation Non-Intermittent",{"$f":"$B$285","v":-10.148789000240146},{"$f":"$C$285","v":-8.0295559827123224},{"$f":"$D$285","v":-8.0295559827123224},{"$f":"$E$285","v":-7.3876171367609764},{"$f":"$F$285","v":-7.3876171367609764},{"$f":"$G$285","v":-8.0295559827123224},{"$f":"$H$285","v":-7.3876171367609764},{"$f":"$I$285","v":-7.3876171367609764},{"$f":"$J$285","v":-7.3876171367609764}]
["LV Sub Generation Non-Intermittent",{"$f":"$B$286","v":-10.148789000240146},{"$f":"$C$286","v":-8.0295559827123224},{"$f":"$D$286","v":-8.0295559827123224},{"$f":"$E$286","v":-7.3876171367609764},{"$f":"$F$286","v":-7.3876171367609764},{"$f":"$G$286","v":-8.0295559827123224},{"$f":"$H$286","v":-7.3876171367609764},{"$f":"$I$286","v":-7.3876171367609764},{"$f":"$J$286","v":-7.3876171367609764}]
["HV Generation Non-Intermittent",{"$f":"$B$287","v":-10.148789000240146},{"$f":"$C$287","v":-8.0295559827123224},{"$f":"$D$287","v":-8.0295559827123224},{"$f":"$E$287","v":-7.3876171367609764},{"$f":"$F$287","v":-7.3876171367609764},{"$f":"$G$287","v":-8.0295559827123224},{"$f":"$H$287","v":-7.3876171367609764},{"$f":"$I$287","v":-7.3876171367609764},{"$f":"$J$287","v":-7.3876171367609764}]
["HV Sub Generation Non-Intermittent",{"$f":"$B$288","v":-10.148789000240146},{"$f":"$C$288","v":-8.0295559827123224},{"$f":"$D$288","v":-8.0295559827123224},{"$f":"$E$288","v":-7.3876171367609764},{"$f":"$F$288","v":-7.3876171367609764},{"$f":"$G$288","v":-8.0295559827123224},{"$f":"$H$288","v":-7.3876171367609764},{"$f":"$I$288","v":-7.3876171367609764},{"$f":"$J$288","v":-7.3876171367609764}]
["NHH UMS category A",{"$f":"$B$556","v":1.2112708745886962},{"$f":"$C$556","v":1.2115549605427851},{"$f":"$D$556","v":1.2115549605427851},{"$f":"$E$556","v":1.2118787420364086},{"$f":"$F$556","v":1.2118787420364086},{"$f":"$G$556","v":1.2115549605427851},{"$f":"$H$556","v":1.2118787420364086},{"$f":"$I$556","v":1.2118787420364086},{"$f":"$J$556","v":1.2118787420364086}]
["NHH UMS category B",{"$f":"$B$557","v":1.1211270167507805},{"$f":"$C$557","v":1.1989557841693768},{"$f":"$D$557","v":1.1989557841693768},{"$f":"$E$557","v":1.3156984876358429},{"$f":"$F$557","v":1.3156984876358429},{"$f":"$G$557","v":1.1989557841693768},{"$f":"$H$557","v":1.3156984876358429},{"$f":"$I$557","v":1.3156984876358429},{"$f":"$J$557","v":1.3156984876358429}]
["NHH UMS category C",{"$f":"$B$558","v":2.1813898409635084},{"$f":"$C$558","v":2.2902327714719717},{"$f":"$D$558","v":2.2902327714719717},{"$f":"$E$558","v":2.4279708246452483},{"$f":"$F$558","v":2.4279708246452483},{"$f":"$G$558","v":2.2902327714719717},{"$f":"$H$558","v":2.4279708246452483},{"$f":"$I$558","v":2.4279708246452483},{"$f":"$J$558","v":2.4279708246452483}]
["NHH UMS category D",{"$f":"$B$559","v":1.3546476366985007},{"$f":"$C$559","v":1.2942961691970649},{"$f":"$D$559","v":1.2942961691970649},{"$f":"$E$559","v":1.2018871234398605},{"$f":"$F$559","v":1.2018871234398605},{"$f":"$G$559","v":1.2942961691970649},{"$f":"$H$559","v":1.2018871234398605},{"$f":"$I$559","v":1.2018871234398605},{"$f":"$J$559","v":1.2018871234398605}]
["LV UMS (Pseudo HH Metered)",{"$f":"$B$560","v":19.520051940986004},{"$f":"$C$560","v":20.60756545089696},{"$f":"$D$560","v":20.60756545089696},{"$f":"$E$560","v":21.783717662198399},{"$f":"$F$560","v":21.783717662198399},{"$f":"$G$560","v":20.60756545089696},{"$f":"$H$560","v":21.783717662198399},{"$f":"$I$560","v":21.783717662198399},{"$f":"$J$560","v":21.783717662198399}]
[]
["2438. Unit rate 2 pseudo load coefficient by network level (combined)"]
["Data sources:"]
["x1 = 2415. Unit rate 2 pseudo load coefficient by network level"]
["x2 = 2435. Unit rate 2 pseudo load coefficient by network level (special)"]
["Combine tables = x1 or x2"]
[]
[null,"GSPs","132kV","132kV/EHV","EHV","EHV/HV","132kV/HV","HV","HV/LV","LV circuits"]
["Domestic Two Rate",{"$f":"$B$297","v":1.9049329536953132E-2},{"$f":"$C$297","v":7.927165662381512E-2},{"$f":"$D$297","v":7.927165662381512E-2},{"$f":"$E$297","v":0.20597447655609891},{"$f":"$F$297","v":0.20597447655609891},{"$f":"$G$297","v":7.927165662381512E-2},{"$f":"$H$297","v":0.20597447655609891},{"$f":"$I$297","v":0.20597447655609891},{"$f":"$J$297","v":0.20597447655609891}]
["Small Non Domestic Two Rate",{"$f":"$B$298","v":1.6222515894511132E-2},{"$f":"$C$298","v":6.7508187470295522E-2},{"$f":"$D$298","v":6.7508187470295522E-2},{"$f":"$E$298","v":0.17540901968822648},{"$f":"$F$298","v":0.17540901968822648},{"$f":"$G$298","v":6.7508187470295522E-2},{"$f":"$H$298","v":0.17540901968822648},{"$f":"$I$298","v":0.17540901968822648},{"$f":"$J$298","v":0.17540901968822648}]
["LV Medium Non-Domestic",{"$f":"$B$299","v":1.5093149850389138E-2},{"$f":"$C$299","v":6.280845685360556E-2},{"$f":"$D$299","v":6.280845685360556E-2},{"$f":"$E$299","v":0.16319753584954294},{"$f":"$F$299","v":0.16319753584954294},{"$f":"$G$299","v":6.280845685360556E-2},{"$f":"$H$299","v":0.16319753584954294},{"$f":"$I$299","v":0.16319753584954294},{"$f":"$J$299","v":0.16319753584954294}]
["LV Sub Medium Non-Domestic",{"$f":"$B$300","v":1.5350554563902653E-2},{"$f":"$C$300","v":6.3879617810919678E-2},{"$f":"$D$300","v":6.3879617810919678E-2},{"$f":"$E$300","v":0.16598077297220223},{"$f":"$F$300","v":0.16598077297220223},{"$f":"$G$300","v":6.3879617810919678E-2},{"$f":"$H$300","v":0.16598077297220223},{"$f":"$I$300","v":0.16598077297220223},{"$f":"$J$300","v":0.16598077297220223}]
["HV Medium Non-Domestic",{"$f":"$B$301","v":1.4381529400527419E-2},{"$f":"$C$301","v":5.9847127855727052E-2},{"$f":"$D$301","v":5.9847127855727052E-2},{"$f":"$E$301","v":0.15550300521619198},{"$f":"$F$301","v":0.15550300521619198},{"$f":"$G$301","v":5.9847127855727052E-2},{"$f":"$H$301","v":0.15550300521619198},{"$f":"$I$301","v":0.15550300521619198},{"$f":"$J$301","v":0.15550300521619198}]
["LV HH Metered",{"$f":"$B$302","v":0.32702143249133153},{"$f":"$C$302","v":0.9645348109992713},{"$f":"$D$302","v":0.9645348109992713},{"$f":"$E$302","v":1.0076926242936617},{"$f":"$F$302","v":1.0076926242936617},{"$f":"$G$302","v":0.9645348109992713},{"$f":"$H$302","v":1.0076926242936617},{"$f":"$I$302","v":1.0076926242936617},{"$f":"$J$302","v":1.0076926242936617}]
["LV Sub HH Metered",{"$f":"$B$303","v":0.33779040719467002},{"$f":"$C$303","v":0.99629741108639502},{"$f":"$D$303","v":0.99629741108639502},{"$f":"$E$303","v":1.0408764321471329},{"$f":"$F$303","v":1.0408764321471329},{"$f":"$G$303","v":0.99629741108639502},{"$f":"$H$303","v":1.0408764321471329},{"$f":"$I$303","v":1.0408764321471329},{"$f":"$J$303","v":1.0408764321471329}]
["HV HH Metered",{"$f":"$B$304","v":0.2966243480325822},{"$f":"$C$304","v":0.87487999574759556},{"$f":"$D$304","v":0.87487999574759556},{"$f":"$E$304","v":0.91402623192372079},{"$f":"$F$304","v":0.91402623192372079},{"$f":"$G$304","v":0.87487999574759556},{"$f":"$H$304","v":0.91402623192372079},{"$f":"$I$304","v":0.91402623192372079},{"$f":"$J$304","v":0.91402623192372079}]
["HV Sub HH Metered",{"$f":"$B$305","v":0.27471862321091212},{"$f":"$C$305","v":0.81027005874833902},{"$f":"$D$305","v":0.81027005874833902},{"$f":"$E$305","v":0.8465253431763492},{"$f":"$F$305","v":0.8465253431763492},{"$f":"$G$305","v":0.81027005874833902},{"$f":"$H$305","v":0.8465253431763492},{"$f":"$I$305","v":0.8465253431763492},{"$f":"$J$305","v":0.8465253431763492}]
["LV Generation Non-Intermittent",{"$f":"$B$306","v":-0.27471862321091212},{"$f":"$C$306","v":-0.81027005874833902},{"$f":"$D$306","v":-0.81027005874833902},{"$f":"$E$306","v":-0.8465253431763492},{"$f":"$F$306","v":-0.8465253431763492},{"$f":"$G$306","v":-0.81027005874833902},{"$f":"$H$306","v":-0.8465253431763492},{"$f":"$I$306","v":-0.8465253431763492},{"$f":"$J$306","v":-0.8465253431763492}]
["LV Sub Generation Non-Intermittent",{"$f":"$B$307","v":-0.27471862321091212},{"$f":"$C$307","v":-0.81027005874833902},{"$f":"$D$307","v":-0.81027005874833902},{"$f":"$E$307","v":-0.8465253431763492},{"$f":"$F$307","v":-0.8465253431763492},{"$f":"$G$307","v":-0.81027005874833902},{"$f":"$H$307","v":-0.8465253431763492},{"$f":"$I$307","v":-0.8465253431763492},{"$f":"$J$307","v":-0.8465253431763492}]
["HV Generation Non-Intermittent",{"$f":"$B$308","v":-0.27471862321091212},{"$f":"$C$308","v":-0.81027005874833902},{"$f":"$D$308","v":-0.81027005874833902},{"$f":"$E$308","v":-0.8465253431763492},{"$f":"$F$308","v":-0.8465253431763492},{"$f":"$G$308","v":-0.81027005874833902},{"$f":"$H$308","v":-0.8465253431763492},{"$f":"$I$308","v":-0.8465253431763492},{"$f":"$J$308","v":-0.8465253431763492}]
["HV Sub Generation Non-Intermittent",{"$f":"$B$309","v":-0.27471862321091212},{"$f":"$C$309","v":-0.81027005874833902},{"$f":"$D$309","v":-0.81027005874833902},{"$f":"$E$309","v":-0.8465253431763492},{"$f":"$F$309","v":-0.8465253431763492},{"$f":"$G$309","v":-0.81027005874833902},{"$f":"$H$309","v":-0.8465253431763492},{"$f":"$I$309","v":-0.8465253431763492},{"$f":"$J$309","v":-0.8465253431763492}]
["LV UMS (Pseudo HH Metered)",{"$f":"$B$569","v":1.6737627810749156},{"$f":"$C$569","v":1.516979812077079},{"$f":"$D$569","v":1.516979812077079},{"$f":"$E$569","v":1.2749690813067485},{"$f":"$F$569","v":1.2749690813067485},{"$f":"$G$569","v":1.516979812077079},{"$f":"$H$569","v":1.2749690813067485},{"$f":"$I$569","v":1.2749690813067485},{"$f":"$J$569","v":1.2749690813067485}]
[]
["2439. Unit rate 3 pseudo load coefficient by network level (combined)"]
["Data sources:"]
["x1 = 2416. Unit rate 3 pseudo load coefficient by network level"]
["x2 = 2436. Unit rate 3 pseudo load coefficient by network level (special)"]
["Combine tables = x1 or x2"]
[]
[null,"GSPs","132kV","132kV/EHV","EHV","EHV/HV","132kV/HV","HV","HV/LV","LV circuits"]
["LV HH Metered",{"$f":"$B$318","v":1.3783123719382798E-2},{"$f":"$C$318","v":5.7356929469195059E-2},{"$f":"$D$318","v":5.7356929469195059E-2},{"$f":"$E$318","v":0.14903263067083811},{"$f":"$F$318","v":0.14903263067083811},{"$f":"$G$318","v":5.7356929469195059E-2},{"$f":"$H$318","v":0.14903263067083811},{"$f":"$I$318","v":0.14903263067083811},{"$f":"$J$318","v":0.14903263067083811}]
["LV Sub HH Metered",{"$f":"$B$319","v":1.4237008682017327E-2},{"$f":"$C$319","v":5.9245721031904959E-2},{"$f":"$D$319","v":5.9245721031904959E-2},{"$f":"$E$319","v":0.1539403476282237},{"$f":"$F$319","v":0.1539403476282237},{"$f":"$G$319","v":5.9245721031904959E-2},{"$f":"$H$319","v":0.1539403476282237},{"$f":"$I$319","v":0.1539403476282237},{"$f":"$J$319","v":0.1539403476282237}]
["HV HH Metered",{"$f":"$B$320","v":1.2501963727477448E-2},{"$f":"$C$320","v":5.2025525297647784E-2},{"$f":"$D$320","v":5.2025525297647784E-2},{"$f":"$E$320","v":0.13517984607779418},{"$f":"$F$320","v":0.13517984607779418},{"$f":"$G$320","v":5.2025525297647784E-2},{"$f":"$H$320","v":0.13517984607779418},{"$f":"$I$320","v":0.13517984607779418},{"$f":"$J$320","v":0.13517984607779418}]
["HV Sub HH Metered",{"$f":"$B$321","v":1.1578693001520254E-2},{"$f":"$C$321","v":4.8183437321956984E-2},{"$f":"$D$321","v":4.8183437321956984E-2},{"$f":"$E$321","v":0.12519680682543111},{"$f":"$F$321","v":0.12519680682543111},{"$f":"$G$321","v":4.8183437321956984E-2},{"$f":"$H$321","v":0.12519680682543111},{"$f":"$I$321","v":0.12519680682543111},{"$f":"$J$321","v":0.12519680682543111}]
["LV Generation Non-Intermittent",{"$f":"$B$322","v":-1.1578693001520254E-2},{"$f":"$C$322","v":-4.8183437321956984E-2},{"$f":"$D$322","v":-4.8183437321956984E-2},{"$f":"$E$322","v":-0.12519680682543111},{"$f":"$F$322","v":-0.12519680682543111},{"$f":"$G$322","v":-4.8183437321956984E-2},{"$f":"$H$322","v":-0.12519680682543111},{"$f":"$I$322","v":-0.12519680682543111},{"$f":"$J$322","v":-0.12519680682543111}]
["LV Sub Generation Non-Intermittent",{"$f":"$B$323","v":-1.1578693001520254E-2},{"$f":"$C$323","v":-4.8183437321956984E-2},{"$f":"$D$323","v":-4.8183437321956984E-2},{"$f":"$E$323","v":-0.12519680682543111},{"$f":"$F$323","v":-0.12519680682543111},{"$f":"$G$323","v":-4.8183437321956984E-2},{"$f":"$H$323","v":-0.12519680682543111},{"$f":"$I$323","v":-0.12519680682543111},{"$f":"$J$323","v":-0.12519680682543111}]
["HV Generation Non-Intermittent",{"$f":"$B$324","v":-1.1578693001520254E-2},{"$f":"$C$324","v":-4.8183437321956984E-2},{"$f":"$D$324","v":-4.8183437321956984E-2},{"$f":"$E$324","v":-0.12519680682543111},{"$f":"$F$324","v":-0.12519680682543111},{"$f":"$G$324","v":-4.8183437321956984E-2},{"$f":"$H$324","v":-0.12519680682543111},{"$f":"$I$324","v":-0.12519680682543111},{"$f":"$J$324","v":-0.12519680682543111}]
["HV Sub Generation Non-Intermittent",{"$f":"$B$325","v":-1.1578693001520254E-2},{"$f":"$C$325","v":-4.8183437321956984E-2},{"$f":"$D$325","v":-4.8183437321956984E-2},{"$f":"$E$325","v":-0.12519680682543111},{"$f":"$F$325","v":-0.12519680682543111},{"$f":"$G$325","v":-4.8183437321956984E-2},{"$f":"$H$325","v":-0.12519680682543111},{"$f":"$I$325","v":-0.12519680682543111},{"$f":"$J$325","v":-0.12519680682543111}]
["LV UMS (Pseudo HH Metered)",{"$f":"$B$578","v":1.3977756269002307E-2},{"$f":"$C$578","v":5.8166871079545469E-2},{"$f":"$D$578","v":5.8166871079545469E-2},{"$f":"$E$578","v":0.15113713190542957},{"$f":"$F$578","v":0.15113713190542957},{"$f":"$G$578","v":5.8166871079545469E-2},{"$f":"$H$578","v":0.15113713190542957},{"$f":"$I$578","v":0.15113713190542957},{"$f":"$J$578","v":0.15113713190542957}]

{"sheet":"SMD","index":28,"n_rows":141,"n_cols":10,"rows_kept":141,"cut":false,"hidden":true,"merged":[]}
[{"$f":"\"r6140: Forecast simultaneous maximum load\"&\" for \"&Input!B7&\" in \"&Input!C7&\" (\"&Input!D7&\")\"","v":"r6140: Forecast simultaneous maximum load for WPD Mid West in April 2017 (0)"}]
[]
["2501. Contributions of users on one-rate multi tariffs to system simultaneous maximum load by network level (kW)"]
["Data sources:"]
["x1 = 2305. Rate 1 units (MWh) (in Equivalent volume for each end user)"]
["x2 = 2437. Unit rate 1 pseudo load coefficient by network level (combined)"]
["x3 = 2012. Loss adjustment factors between end user meter reading and each network level, scaled by network use"]
["x4 = 1010. Days in the charging year (in Financial and general assumptions)"]
["Calculation =(x1*x2)*x3/(24*x4)*1000"]
[]
[null,"GSPs","132kV","132kV/EHV","EHV","EHV/HV","132kV/HV","HV","HV/LV","LV circuits"]
["Domestic Off Peak (related MPAN)",{"$f":"(Loads!$B$300*Multi!B$588)*LAFs!B$243/(24*Input!$F$14)*1000","v":397.03796363916922},{"$f":"(Loads!$B$300*Multi!C$588)*LAFs!C$243/(24*Input!$F$14)*1000","v":994.18328954932019},{"$f":"(Loads!$B$300*Multi!D$588)*LAFs!D$243/(24*Input!$F$14)*1000","v":993.19207988875269},{"$f":"(Loads!$B$300*Multi!E$588)*LAFs!E$243/(24*Input!$F$14)*1000","v":1287.3062991367819},{"$f":"(Loads!$B$300*Multi!F$588)*LAFs!F$243/(24*Input!$F$14)*1000","v":1260.9835802644625},{"$f":"(Loads!$B$300*Multi!G$588)*LAFs!G$243/(24*Input!$F$14)*1000","v":0},{"$f":"(Loads!$B$300*Multi!H$588)*LAFs!H$243/(24*Input!$F$14)*1000","v":1240.4503227314203},{"$f":"(Loads!$B$300*Multi!I$588)*LAFs!I$243/(24*Input!$F$14)*1000","v":1232.1885222945791},{"$f":"(Loads!$B$300*Multi!J$588)*LAFs!J$243/(24*Input!$F$14)*1000","v":1202.4420955725191}]
["Small Non Domestic Off Peak (related MPAN)",{"$f":"(Loads!$B$303*Multi!B$590)*LAFs!B$246/(24*Input!$F$14)*1000","v":183.74510193192674},{"$f":"(Loads!$B$303*Multi!C$590)*LAFs!C$246/(24*Input!$F$14)*1000","v":245.4469788551969},{"$f":"(Loads!$B$303*Multi!D$590)*LAFs!D$246/(24*Input!$F$14)*1000","v":245.20226601486272},{"$f":"(Loads!$B$303*Multi!E$590)*LAFs!E$246/(24*Input!$F$14)*1000","v":287.17305831650776},{"$f":"(Loads!$B$303*Multi!F$590)*LAFs!F$246/(24*Input!$F$14)*1000","v":281.30097046388209},{"$f":"(Loads!$B$303*Multi!G$590)*LAFs!G$246/(24*Input!$F$14)*1000","v":0},{"$f":"(Loads!$B$303*Multi!H$590)*LAFs!H$246/(24*Input!$F$14)*1000","v":276.7203991057537},{"$f":"(Loads!$B$303*Multi!I$590)*LAFs!I$246/(24*Input!$F$14)*1000","v":274.87735172826535},{"$f":"(Loads!$B$303*Multi!J$590)*LAFs!J$246/(24*Input!$F$14)*1000","v":268.24150108301473}]
["NHH UMS category A",{"$f":"(Loads!$B$311*Multi!B$602)*LAFs!B$254/(24*Input!$F$14)*1000","v":9206.0415265638894},{"$f":"(Loads!$B$311*Multi!C$602)*LAFs!C$254/(24*Input!$F$14)*1000","v":9189.8210275587062},{"$f":"(Loads!$B$311*Multi!D$602)*LAFs!D$254/(24*Input!$F$14)*1000","v":9180.6586935332252},{"$f":"(Loads!$B$311*Multi!E$602)*LAFs!E$254/(24*Input!$F$14)*1000","v":9155.7271484213525},{"$f":"(Loads!$B$311*Multi!F$602)*LAFs!F$254/(24*Input!$F$14)*1000","v":8968.5116955325066},{"$f":"(Loads!$B$311*Multi!G$602)*LAFs!G$254/(24*Input!$F$14)*1000","v":0},{"$f":"(Loads!$B$311*Multi!H$602)*LAFs!H$254/(24*Input!$F$14)*1000","v":8822.4727119845611},{"$f":"(Loads!$B$311*Multi!I$602)*LAFs!I$254/(24*Input!$F$14)*1000","v":8763.7121896402314},{"$f":"(Loads!$B$311*Multi!J$602)*LAFs!J$254/(24*Input!$F$14)*1000","v":8552.146250057458}]
["NHH UMS category B",{"$f":"(Loads!$B$312*Multi!B$603)*LAFs!B$255/(24*Input!$F$14)*1000","v":4513.9245149162116},{"$f":"(Loads!$B$312*Multi!C$603)*LAFs!C$255/(24*Input!$F$14)*1000","v":4817.646385043402},{"$f":"(Loads!$B$312*Multi!D$603)*LAFs!D$255/(24*Input!$F$14)*1000","v":4812.8431483683853},{"$f":"(Loads!$B$312*Multi!E$603)*LAFs!E$255/(24*Input!$F$14)*1000","v":5265.7212920157317},{"$f":"(Loads!$B$312*Multi!F$603)*LAFs!F$255/(24*Input!$F$14)*1000","v":5158.0483152559182},{"$f":"(Loads!$B$312*Multi!G$603)*LAFs!G$255/(24*Input!$F$14)*1000","v":0},{"$f":"(Loads!$B$312*Multi!H$603)*LAFs!H$255/(24*Input!$F$14)*1000","v":5074.0571070573051},{"$f":"(Loads!$B$312*Multi!I$603)*LAFs!I$255/(24*Input!$F$14)*1000","v":5040.2622452595879},{"$f":"(Loads!$B$312*Multi!J$603)*LAFs!J$255/(24*Input!$F$14)*1000","v":4918.5846051697563}]
["NHH UMS category C",{"$f":"(Loads!$B$313*Multi!B$604)*LAFs!B$256/(24*Input!$F$14)*1000","v":200.26919438366443},{"$f":"(Loads!$B$313*Multi!C$604)*LAFs!C$256/(24*Input!$F$14)*1000","v":209.8421695856502},{"$f":"(Loads!$B$313*Multi!D$604)*LAFs!D$256/(24*Input!$F$14)*1000","v":209.63295505964257},{"$f":"(Loads!$B$313*Multi!E$604)*LAFs!E$256/(24*Input!$F$14)*1000","v":221.57785184115468},{"$f":"(Loads!$B$313*Multi!F$604)*LAFs!F$256/(24*Input!$F$14)*1000","v":217.04704863895003},{"$f":"(Loads!$B$313*Multi!G$604)*LAFs!G$256/(24*Input!$F$14)*1000","v":0},{"$f":"(Loads!$B$313*Multi!H$604)*LAFs!H$256/(24*Input!$F$14)*1000","v":213.51275761705142},{"$f":"(Loads!$B$313*Multi!I$604)*LAFs!I$256/(24*Input!$F$14)*1000","v":212.09069357964003},{"$f":"(Loads!$B$313*Multi!J$604)*LAFs!J$256/(24*Input!$F$14)*1000","v":206.97058398533116}]
["NHH UMS category D",{"$f":"(Loads!$B$314*Multi!B$605)*LAFs!B$257/(24*Input!$F$14)*1000","v":884.24462197606078},{"$f":"(Loads!$B$314*Multi!C$605)*LAFs!C$257/(24*Input!$F$14)*1000","v":843.16394597409919},{"$f":"(Loads!$B$314*Multi!D$605)*LAFs!D$257/(24*Input!$F$14)*1000","v":842.32330395418501},{"$f":"(Loads!$B$314*Multi!E$605)*LAFs!E$257/(24*Input!$F$14)*1000","v":779.85127232089508},{"$f":"(Loads!$B$314*Multi!F$605)*LAFs!F$257/(24*Input!$F$14)*1000","v":763.90494640196755},{"$f":"(Loads!$B$314*Multi!G$605)*LAFs!G$257/(24*Input!$F$14)*1000","v":0},{"$f":"(Loads!$B$314*Multi!H$605)*LAFs!H$257/(24*Input!$F$14)*1000","v":751.46588118277839},{"$f":"(Loads!$B$314*Multi!I$605)*LAFs!I$257/(24*Input!$F$14)*1000","v":746.46087531381602},{"$f":"(Loads!$B$314*Multi!J$605)*LAFs!J$257/(24*Input!$F$14)*1000","v":728.4404642106042}]
[]
["2502. Contributions of users on two-rate multi tariffs to system simultaneous maximum load by network level (kW)"]
["Data sources:"]
["x1 = 2305. Rate 1 units (MWh) (in Equivalent volume for each end user)"]
["x2 = 2437. Unit rate 1 pseudo load coefficient by network level (combined)"]
["x3 = 2305. Rate 2 units (MWh) (in Equivalent volume for each end user)"]
["x4 = 2438. Unit rate 2 pseudo load coefficient by network level (combined)"]
["x5 = 2012. Loss adjustment factors between end user meter reading and each network level, scaled by network use"]
["x6 = 1010. Days in the charging year (in Financial and general assumptions)"]
["Calculation =(x1*x2+x3*x4)*x5/(24*x6)*1000"]
[]
[null,"GSPs","132kV","132kV/EHV","EHV","EHV/HV","132kV/HV","HV","HV/LV","LV circuits"]
["Domestic Two Rate",{"$f":"(Loads!$B$299*Multi!B$587+Loads!$C$299*Multi!B$615)*LAFs!B$242/(24*Input!$F$14)*1000","v":328165.72993123898},{"$f":"(Loads!$B$299*Multi!C$587+Loads!$C$299*Multi!C$615)*LAFs!C$242/(24*Input!$F$14)*1000","v":317138.68842112628},{"$f":"(Loads!$B$299*Multi!D$587+Loads!$C$299*Multi!D$615)*LAFs!D$242/(24*Input!$F$14)*1000","v":316822.49830305937},{"$f":"(Loads!$B$299*Multi!E$587+Loads!$C$299*Multi!E$615)*LAFs!E$242/(24*Input!$F$14)*1000","v":318027.67959377653},{"$f":"(Loads!$B$299*Multi!F$587+Loads!$C$299*Multi!F$615)*LAFs!F$242/(24*Input!$F$14)*1000","v":311524.67932944431},{"$f":"(Loads!$B$299*Multi!G$587+Loads!$C$299*Multi!G$615)*LAFs!G$242/(24*Input!$F$14)*1000","v":0},{"$f":"(Loads!$B$299*Multi!H$587+Loads!$C$299*Multi!H$615)*LAFs!H$242/(24*Input!$F$14)*1000","v":306451.95945530583},{"$f":"(Loads!$B$299*Multi!I$587+Loads!$C$299*Multi!I$615)*LAFs!I$242/(24*Input!$F$14)*1000","v":304410.89026768727},{"$f":"(Loads!$B$299*Multi!J$587+Loads!$C$299*Multi!J$615)*LAFs!J$242/(24*Input!$F$14)*1000","v":297062.06654720457}]
["Small Non Domestic Two Rate",{"$f":"(Loads!$B$302*Multi!B$589+Loads!$C$302*Multi!B$616)*LAFs!B$245/(24*Input!$F$14)*1000","v":118189.97626977328},{"$f":"(Loads!$B$302*Multi!C$589+Loads!$C$302*Multi!C$616)*LAFs!C$245/(24*Input!$F$14)*1000","v":120532.87353438952},{"$f":"(Loads!$B$302*Multi!D$589+Loads!$C$302*Multi!D$616)*LAFs!D$245/(24*Input!$F$14)*1000","v":120412.70117792455},{"$f":"(Loads!$B$302*Multi!E$589+Loads!$C$302*Multi!E$616)*LAFs!E$245/(24*Input!$F$14)*1000","v":119613.52199726275},{"$f":"(Loads!$B$302*Multi!F$589+Loads!$C$302*Multi!F$616)*LAFs!F$245/(24*Input!$F$14)*1000","v":117167.67588047356},{"$f":"(Loads!$B$302*Multi!G$589+Loads!$C$302*Multi!G$616)*LAFs!G$245/(24*Input!$F$14)*1000","v":0},{"$f":"(Loads!$B$302*Multi!H$589+Loads!$C$302*Multi!H$616)*LAFs!H$245/(24*Input!$F$14)*1000","v":115259.77311230492},{"$f":"(Loads!$B$302*Multi!I$589+Loads!$C$302*Multi!I$616)*LAFs!I$245/(24*Input!$F$14)*1000","v":114492.10573667585},{"$f":"(Loads!$B$302*Multi!J$589+Loads!$C$302*Multi!J$616)*LAFs!J$245/(24*Input!$F$14)*1000","v":111728.13661025658}]
["LV Medium Non-Domestic",{"$f":"(Loads!$B$304*Multi!B$591+Loads!$C$304*Multi!B$617)*LAFs!B$247/(24*Input!$F$14)*1000","v":315940.58262125001},{"$f":"(Loads!$B$304*Multi!C$591+Loads!$C$304*Multi!C$617)*LAFs!C$247/(24*Input!$F$14)*1000","v":317552.50483230804},{"$f":"(Loads!$B$304*Multi!D$591+Loads!$C$304*Multi!D$617)*LAFs!D$247/(24*Input!$F$14)*1000","v":317235.90213556599},{"$f":"(Loads!$B$304*Multi!E$591+Loads!$C$304*Multi!E$617)*LAFs!E$247/(24*Input!$F$14)*1000","v":311035.1783555834},{"$f":"(Loads!$B$304*Multi!F$591+Loads!$C$304*Multi!F$617)*LAFs!F$247/(24*Input!$F$14)*1000","v":304675.16010293766},{"$f":"(Loads!$B$304*Multi!G$591+Loads!$C$304*Multi!G$617)*LAFs!G$247/(24*Input!$F$14)*1000","v":0},{"$f":"(Loads!$B$304*Multi!H$591+Loads!$C$304*Multi!H$617)*LAFs!H$247/(24*Input!$F$14)*1000","v":299713.97454570589},{"$f":"(Loads!$B$304*Multi!I$591+Loads!$C$304*Multi!I$617)*LAFs!I$247/(24*Input!$F$14)*1000","v":297717.78251733299},{"$f":"(Loads!$B$304*Multi!J$591+Loads!$C$304*Multi!J$617)*LAFs!J$247/(24*Input!$F$14)*1000","v":290530.53799973719}]
["LV Sub Medium Non-Domestic",{"$f":"(Loads!$B$305*Multi!B$592+Loads!$C$305*Multi!B$618)*LAFs!B$248/(24*Input!$F$14)*1000","v":22.40756372470134},{"$f":"(Loads!$B$305*Multi!C$592+Loads!$C$305*Multi!C$618)*LAFs!C$248/(24*Input!$F$14)*1000","v":22.532928099461294},{"$f":"(Loads!$B$305*Multi!D$592+Loads!$C$305*Multi!D$618)*LAFs!D$248/(24*Input!$F$14)*1000","v":22.510462567956353},{"$f":"(Loads!$B$305*Multi!E$592+Loads!$C$305*Multi!E$618)*LAFs!E$248/(24*Input!$F$14)*1000","v":22.093902040478692},{"$f":"(Loads!$B$305*Multi!F$592+Loads!$C$305*Multi!F$618)*LAFs!F$248/(24*Input!$F$14)*1000","v":21.642127996807758},{"$f":"(Loads!$B$305*Multi!G$592+Loads!$C$305*Multi!G$618)*LAFs!G$248/(24*Input!$F$14)*1000","v":0},{"$f":"(Loads!$B$305*Multi!H$592+Loads!$C$305*Multi!H$618)*LAFs!H$248/(24*Input!$F$14)*1000","v":21.289717866591538},{"$f":"(Loads!$B$305*Multi!I$592+Loads!$C$305*Multi!I$618)*LAFs!I$248/(24*Input!$F$14)*1000","v":21.147921458345923},{"$f":"(Loads!$B$305*Multi!J$592+Loads!$C$305*Multi!J$618)*LAFs!J$248/(24*Input!$F$14)*1000","v":0}]
["HV Medium Non-Domestic",{"$f":"(Loads!$B$306*Multi!B$593+Loads!$C$306*Multi!B$619)*LAFs!B$249/(24*Input!$F$14)*1000","v":7996.3860500499723},{"$f":"(Loads!$B$306*Multi!C$593+Loads!$C$306*Multi!C$619)*LAFs!C$249/(24*Input!$F$14)*1000","v":8208.8806131309248},{"$f":"(Loads!$B$306*Multi!D$593+Loads!$C$306*Multi!D$619)*LAFs!D$249/(24*Input!$F$14)*1000","v":8200.6962855006859},{"$f":"(Loads!$B$306*Multi!E$593+Loads!$C$306*Multi!E$619)*LAFs!E$249/(24*Input!$F$14)*1000","v":8068.9046795155882},{"$f":"(Loads!$B$306*Multi!F$593+Loads!$C$306*Multi!F$619)*LAFs!F$249/(24*Input!$F$14)*1000","v":7903.9124708789514},{"$f":"(Loads!$B$306*Multi!G$593+Loads!$C$306*Multi!G$619)*LAFs!G$249/(24*Input!$F$14)*1000","v":0},{"$f":"(Loads!$B$306*Multi!H$593+Loads!$C$306*Multi!H$619)*LAFs!H$249/(24*Input!$F$14)*1000","v":7775.2089153186616},{"$f":"(Loads!$B$306*Multi!I$593+Loads!$C$306*Multi!I$619)*LAFs!I$249/(24*Input!$F$14)*1000","v":0},{"$f":"(Loads!$B$306*Multi!J$593+Loads!$C$306*Multi!J$619)*LAFs!J$249/(24*Input!$F$14)*1000","v":0}]
[]
["2503. Contributions of users on three-rate multi tariffs to system simultaneous maximum load by network level (kW)"]
["Data sources:"]
["x1 = 2305. Rate 1 units (MWh) (in Equivalent volume for each end user)"]
["x2 = 2437. Unit rate 1 pseudo load coefficient by network level (combined)"]
["x3 = 2305. Rate 2 units (MWh) (in Equivalent volume for each end user)"]
["x4 = 2438. Unit rate 2 pseudo load coefficient by network level (combined)"]
["x5 = 2305. Rate 3 units (MWh) (in Equivalent volume for each end user)"]
["x6 = 2439. Unit rate 3 pseudo load coefficient by network level (combined)"]
["x7 = 2012. Loss adjustment factors between end user meter reading and each network level, scaled by network use"]
["x8 = 1010. Days in the charging year (in Financial and general assumptions)"]
["Calculation =(x1*x2+x3*x4+x5*x6)*x7/(24*x8)*1000"]
[]
[null,"GSPs","132kV","132kV/EHV","EHV","EHV/HV","132kV/HV","HV","HV/LV","LV circuits"]
["LV HH Metered",{"$f":"(Loads!$B$307*Multi!B$594+Loads!$C$307*Multi!B$620+Loads!$D$307*Multi!B$637)*LAFs!B$250/(24*Input!$F$14)*1000","v":335388.40033851389},{"$f":"(Loads!$B$307*Multi!C$594+Loads!$C$307*Multi!C$620+Loads!$D$307*Multi!C$637)*LAFs!C$250/(24*Input!$F$14)*1000","v":339480.86512435076},{"$f":"(Loads!$B$307*Multi!D$594+Loads!$C$307*Multi!D$620+Loads!$D$307*Multi!D$637)*LAFs!D$250/(24*Input!$F$14)*1000","v":339142.39965563256},{"$f":"(Loads!$B$307*Multi!E$594+Loads!$C$307*Multi!E$620+Loads!$D$307*Multi!E$637)*LAFs!E$250/(24*Input!$F$14)*1000","v":332753.99491378746},{"$f":"(Loads!$B$307*Multi!F$594+Loads!$C$307*Multi!F$620+Loads!$D$307*Multi!F$637)*LAFs!F$250/(24*Input!$F$14)*1000","v":325949.87233035074},{"$f":"(Loads!$B$307*Multi!G$594+Loads!$C$307*Multi!G$620+Loads!$D$307*Multi!G$637)*LAFs!G$250/(24*Input!$F$14)*1000","v":0},{"$f":"(Loads!$B$307*Multi!H$594+Loads!$C$307*Multi!H$620+Loads!$D$307*Multi!H$637)*LAFs!H$250/(24*Input!$F$14)*1000","v":320642.2594667339},{"$f":"(Loads!$B$307*Multi!I$594+Loads!$C$307*Multi!I$620+Loads!$D$307*Multi!I$637)*LAFs!I$250/(24*Input!$F$14)*1000","v":318506.67829045688},{"$f":"(Loads!$B$307*Multi!J$594+Loads!$C$307*Multi!J$620+Loads!$D$307*Multi!J$637)*LAFs!J$250/(24*Input!$F$14)*1000","v":310817.56627973088}]
["LV Sub HH Metered",{"$f":"(Loads!$B$308*Multi!B$595+Loads!$C$308*Multi!B$621+Loads!$D$308*Multi!B$638)*LAFs!B$251/(24*Input!$F$14)*1000","v":3875.4155744589116},{"$f":"(Loads!$B$308*Multi!C$595+Loads!$C$308*Multi!C$621+Loads!$D$308*Multi!C$638)*LAFs!C$251/(24*Input!$F$14)*1000","v":3876.0190631940236},{"$f":"(Loads!$B$308*Multi!D$595+Loads!$C$308*Multi!D$621+Loads!$D$308*Multi!D$638)*LAFs!D$251/(24*Input!$F$14)*1000","v":3872.1546374081872},{"$f":"(Loads!$B$308*Multi!E$595+Loads!$C$308*Multi!E$621+Loads!$D$308*Multi!E$638)*LAFs!E$251/(24*Input!$F$14)*1000","v":3810.1060535980964},{"$f":"(Loads!$B$308*Multi!F$595+Loads!$C$308*Multi!F$621+Loads!$D$308*Multi!F$638)*LAFs!F$251/(24*Input!$F$14)*1000","v":3732.1973611681456},{"$f":"(Loads!$B$308*Multi!G$595+Loads!$C$308*Multi!G$621+Loads!$D$308*Multi!G$638)*LAFs!G$251/(24*Input!$F$14)*1000","v":0},{"$f":"(Loads!$B$308*Multi!H$595+Loads!$C$308*Multi!H$621+Loads!$D$308*Multi!H$638)*LAFs!H$251/(24*Input!$F$14)*1000","v":3671.4240324901202},{"$f":"(Loads!$B$308*Multi!I$595+Loads!$C$308*Multi!I$621+Loads!$D$308*Multi!I$638)*LAFs!I$251/(24*Input!$F$14)*1000","v":3646.9711607228219},{"$f":"(Loads!$B$308*Multi!J$595+Loads!$C$308*Multi!J$621+Loads!$D$308*Multi!J$638)*LAFs!J$251/(24*Input!$F$14)*1000","v":0}]
["HV HH Metered",{"$f":"(Loads!$B$309*Multi!B$596+Loads!$C$309*Multi!B$622+Loads!$D$309*Multi!B$639)*LAFs!B$252/(24*Input!$F$14)*1000","v":1109314.5502887603},{"$f":"(Loads!$B$309*Multi!C$596+Loads!$C$309*Multi!C$622+Loads!$D$309*Multi!C$639)*LAFs!C$252/(24*Input!$F$14)*1000","v":1127039.8020856699},{"$f":"(Loads!$B$309*Multi!D$596+Loads!$C$309*Multi!D$622+Loads!$D$309*Multi!D$639)*LAFs!D$252/(24*Input!$F$14)*1000","v":1125916.1332899714},{"$f":"(Loads!$B$309*Multi!E$596+Loads!$C$309*Multi!E$622+Loads!$D$309*Multi!E$639)*LAFs!E$252/(24*Input!$F$14)*1000","v":1112180.571842148},{"$f":"(Loads!$B$309*Multi!F$596+Loads!$C$309*Multi!F$622+Loads!$D$309*Multi!F$639)*LAFs!F$252/(24*Input!$F$14)*1000","v":1089438.8074714711},{"$f":"(Loads!$B$309*Multi!G$596+Loads!$C$309*Multi!G$622+Loads!$D$309*Multi!G$639)*LAFs!G$252/(24*Input!$F$14)*1000","v":0},{"$f":"(Loads!$B$309*Multi!H$596+Loads!$C$309*Multi!H$622+Loads!$D$309*Multi!H$639)*LAFs!H$252/(24*Input!$F$14)*1000","v":1071698.9035183918},{"$f":"(Loads!$B$309*Multi!I$596+Loads!$C$309*Multi!I$622+Loads!$D$309*Multi!I$639)*LAFs!I$252/(24*Input!$F$14)*1000","v":0},{"$f":"(Loads!$B$309*Multi!J$596+Loads!$C$309*Multi!J$622+Loads!$D$309*Multi!J$639)*LAFs!J$252/(24*Input!$F$14)*1000","v":0}]
["HV Sub HH Metered",{"$f":"(Loads!$B$310*Multi!B$597+Loads!$C$310*Multi!B$623+Loads!$D$310*Multi!B$640)*LAFs!B$253/(24*Input!$F$14)*1000","v":0},{"$f":"(Loads!$B$310*Multi!C$597+Loads!$C$310*Multi!C$623+Loads!$D$310*Multi!C$640)*LAFs!C$253/(24*Input!$F$14)*1000","v":0},{"$f":"(Loads!$B$310*Multi!D$597+Loads!$C$310*Multi!D$623+Loads!$D$310*Multi!D$640)*LAFs!D$253/(24*Input!$F$14)*1000","v":0},{"$f":"(Loads!$B$310*Multi!E$597+Loads!$C$310*Multi!E$623+Loads!$D$310*Multi!E$640)*LAFs!E$253/(24*Input!$F$14)*1000","v":0},{"$f":"(Loads!$B$310*Multi!F$597+Loads!$C$310*Multi!F$623+Loads!$D$310*Multi!F$640)*LAFs!F$253/(24*Input!$F$14)*1000","v":0},{"$f":"(Loads!$B$310*Multi!G$597+Loads!$C$310*Multi!G$623+Loads!$D$310*Multi!G$640)*LAFs!G$253/(24*Input!$F$14)*1000","v":0},{"$f":"(Loads!$B$310*Multi!H$597+Loads!$C$310*Multi!H$623+Loads!$D$310*Multi!H$640)*LAFs!H$253/(24*Input!$F$14)*1000","v":0},{"$f":"(Loads!$B$310*Multi!I$597+Loads!$C$310*Multi!I$623+Loads!$D$310*Multi!I$640)*LAFs!I$253/(24*Input!$F$14)*1000","v":0},{"$f":"(Loads!$B$310*Multi!J$597+Loads!$C$310*Multi!J$623+Loads!$D$310*Multi!J$640)*LAFs!J$253/(24*Input!$F$14)*1000","v":0}]
["LV Generation Non-Intermittent",{"$f":"(Loads!$B$319*Multi!B$598+Loads!$C$319*Multi!B$624+Loads!$D$319*Multi!B$641)*LAFs!B$262/(24*Input!$F$14)*1000","v":-307.69881691703529},{"$f":"(Loads!$B$319*Multi!C$598+Loads!$C$319*Multi!C$624+Loads!$D$319*Multi!C$641)*LAFs!C$262/(24*Input!$F$14)*1000","v":-310.94015381168981},{"$f":"(Loads!$B$319*Multi!D$598+Loads!$C$319*Multi!D$624+Loads!$D$319*Multi!D$641)*LAFs!D$262/(24*Input!$F$14)*1000","v":-310.63014368824855},{"$f":"(Loads!$B$319*Multi!E$598+Loads!$C$319*Multi!E$624+Loads!$D$319*Multi!E$641)*LAFs!E$262/(24*Input!$F$14)*1000","v":-309.05816282447466},{"$f":"(Loads!$B$319*Multi!F$598+Loads!$C$319*Multi!F$624+Loads!$D$319*Multi!F$641)*LAFs!F$262/(24*Input!$F$14)*1000","v":-302.73857040060528},{"$f":"(Loads!$B$319*Multi!G$598+Loads!$C$319*Multi!G$624+Loads!$D$319*Multi!G$641)*LAFs!G$262/(24*Input!$F$14)*1000","v":0},{"$f":"(Loads!$B$319*Multi!H$598+Loads!$C$319*Multi!H$624+Loads!$D$319*Multi!H$641)*LAFs!H$262/(24*Input!$F$14)*1000","v":-297.80891935002069},{"$f":"(Loads!$B$319*Multi!I$598+Loads!$C$319*Multi!I$624+Loads!$D$319*Multi!I$641)*LAFs!I$262/(24*Input!$F$14)*1000","v":-295.82541560553909},{"$f":"(Loads!$B$319*Multi!J$598+Loads!$C$319*Multi!J$624+Loads!$D$319*Multi!J$641)*LAFs!J$262/(24*Input!$F$14)*1000","v":0}]
["LV Sub Generation Non-Intermittent",{"$f":"(Loads!$B$321*Multi!B$599+Loads!$C$321*Multi!B$625+Loads!$D$321*Multi!B$642)*LAFs!B$264/(24*Input!$F$14)*1000","v":-4.1634516102283589E-4},{"$f":"(Loads!$B$321*Multi!C$599+Loads!$C$321*Multi!C$625+Loads!$D$321*Multi!C$642)*LAFs!C$264/(24*Input!$F$14)*1000","v":-1.7291156410720113E-3},{"$f":"(Loads!$B$321*Multi!D$599+Loads!$C$321*Multi!D$625+Loads!$D$321*Multi!D$642)*LAFs!D$264/(24*Input!$F$14)*1000","v":-1.7273916972623685E-3},{"$f":"(Loads!$B$321*Multi!E$599+Loads!$C$321*Multi!E$625+Loads!$D$321*Multi!E$642)*LAFs!E$264/(24*Input!$F$14)*1000","v":-4.4749609902839859E-3},{"$f":"(Loads!$B$321*Multi!F$599+Loads!$C$321*Multi!F$625+Loads!$D$321*Multi!F$642)*LAFs!F$264/(24*Input!$F$14)*1000","v":-4.3834574062567577E-3},{"$f":"(Loads!$B$321*Multi!G$599+Loads!$C$321*Multi!G$625+Loads!$D$321*Multi!G$642)*LAFs!G$264/(24*Input!$F$14)*1000","v":0},{"$f":"(Loads!$B$321*Multi!H$599+Loads!$C$321*Multi!H$625+Loads!$D$321*Multi!H$642)*LAFs!H$264/(24*Input!$F$14)*1000","v":-4.3120792684154113E-3},{"$f":"(Loads!$B$321*Multi!I$599+Loads!$C$321*Multi!I$625+Loads!$D$321*Multi!I$642)*LAFs!I$264/(24*Input!$F$14)*1000","v":0},{"$f":"(Loads!$B$321*Multi!J$599+Loads!$C$321*Multi!J$625+Loads!$D$321*Multi!J$642)*LAFs!J$264/(24*Input!$F$14)*1000","v":0}]
["HV Generation Non-Intermittent",{"$f":"(Loads!$B$323*Multi!B$600+Loads!$C$323*Multi!B$626+Loads!$D$323*Multi!B$643)*LAFs!B$266/(24*Input!$F$14)*1000","v":-50277.001658136112},{"$f":"(Loads!$B$323*Multi!C$600+Loads!$C$323*Multi!C$626+Loads!$D$323*Multi!C$643)*LAFs!C$266/(24*Input!$F$14)*1000","v":-49889.422619701567},{"$f":"(Loads!$B$323*Multi!D$600+Loads!$C$323*Multi!D$626+Loads!$D$323*Multi!D$643)*LAFs!D$266/(24*Input!$F$14)*1000","v":-49839.682417687916},{"$f":"(Loads!$B$323*Multi!E$600+Loads!$C$323*Multi!E$626+Loads!$D$323*Multi!E$643)*LAFs!E$266/(24*Input!$F$14)*1000","v":-49659.785265619779},{"$f":"(Loads!$B$323*Multi!F$600+Loads!$C$323*Multi!F$626+Loads!$D$323*Multi!F$643)*LAFs!F$266/(24*Input!$F$14)*1000","v":-48644.346618513635},{"$f":"(Loads!$B$323*Multi!G$600+Loads!$C$323*Multi!G$626+Loads!$D$323*Multi!G$643)*LAFs!G$266/(24*Input!$F$14)*1000","v":0},{"$f":"(Loads!$B$323*Multi!H$600+Loads!$C$323*Multi!H$626+Loads!$D$323*Multi!H$643)*LAFs!H$266/(24*Input!$F$14)*1000","v":0},{"$f":"(Loads!$B$323*Multi!I$600+Loads!$C$323*Multi!I$626+Loads!$D$323*Multi!I$643)*LAFs!I$266/(24*Input!$F$14)*1000","v":0},{"$f":"(Loads!$B$323*Multi!J$600+Loads!$C$323*Multi!J$626+Loads!$D$323*Multi!J$643)*LAFs!J$266/(24*Input!$F$14)*1000","v":0}]
["HV Sub Generation Non-Intermittent",{"$f":"(Loads!$B$325*Multi!B$601+Loads!$C$325*Multi!B$627+Loads!$D$325*Multi!B$644)*LAFs!B$268/(24*Input!$F$14)*1000","v":0},{"$f":"(Loads!$B$325*Multi!C$601+Loads!$C$325*Multi!C$627+Loads!$D$325*Multi!C$644)*LAFs!C$268/(24*Input!$F$14)*1000","v":0},{"$f":"(Loads!$B$325*Multi!D$601+Loads!$C$325*Multi!D$627+Loads!$D$325*Multi!D$644)*LAFs!D$268/(24*Input!$F$14)*1000","v":0},{"$f":"(Loads!$B$325*Multi!E$601+Loads!$C$325*Multi!E$627+Loads!$D$325*Multi!E$644)*LAFs!E$268/(24*Input!$F$14)*1000","v":0},{"$f":"(Loads!$B$325*Multi!F$601+Loads!$C$325*Multi!F$627+Loads!$D$325*Multi!F$644)*LAFs!F$268/(24*Input!$F$14)*1000","v":0},{"$f":"(Loads!$B$325*Multi!G$601+Loads!$C$325*Multi!G$627+Loads!$D$325*Multi!G$644)*LAFs!G$268/(24*Input!$F$14)*1000","v":0},{"$f":"(Loads!$B$325*Multi!H$601+Loads!$C$325*Multi!H$627+Loads!$D$325*Multi!H$644)*LAFs!H$268/(24*Input!$F$14)*1000","v":0},{"$f":"(Loads!$B$325*Multi!I$601+Loads!$C$325*Multi!I$627+Loads!$D$325*Multi!I$644)*LAFs!I$268/(24*Input!$F$14)*1000","v":0},{"$f":"(Loads!$B$325*Multi!J$601+Loads!$C$325*Multi!J$627+Loads!$D$325*Multi!J$644)*LAFs!J$268/(24*Input!$F$14)*1000","v":0}]
["LV UMS (Pseudo HH Metered)",{"$f":"(Loads!$B$315*Multi!B$606+Loads!$C$315*Multi!B$628+Loads!$D$315*Multi!B$645)*LAFs!B$258/(24*Input!$F$14)*1000","v":33403.344206488197},{"$f":"(Loads!$B$315*Multi!C$606+Loads!$C$315*Multi!C$628+Loads!$D$315*Multi!C$645)*LAFs!C$258/(24*Input!$F$14)*1000","v":35445.507597161784},{"$f":"(Loads!$B$315*Multi!D$606+Loads!$C$315*Multi!D$628+Loads!$D$315*Multi!D$645)*LAFs!D$258/(24*Input!$F$14)*1000","v":35410.16810803202},{"$f":"(Loads!$B$315*Multi!E$606+Loads!$C$315*Multi!E$628+Loads!$D$315*Multi!E$645)*LAFs!E$258/(24*Input!$F$14)*1000","v":38445.492907287357},{"$f":"(Loads!$B$315*Multi!F$606+Loads!$C$315*Multi!F$628+Loads!$D$315*Multi!F$645)*LAFs!F$258/(24*Input!$F$14)*1000","v":37659.363062055592},{"$f":"(Loads!$B$315*Multi!G$606+Loads!$C$315*Multi!G$628+Loads!$D$315*Multi!G$645)*LAFs!G$258/(24*Input!$F$14)*1000","v":0},{"$f":"(Loads!$B$315*Multi!H$606+Loads!$C$315*Multi!H$628+Loads!$D$315*Multi!H$645)*LAFs!H$258/(24*Input!$F$14)*1000","v":37046.135885757751},{"$f":"(Loads!$B$315*Multi!I$606+Loads!$C$315*Multi!I$628+Loads!$D$315*Multi!I$645)*LAFs!I$258/(24*Input!$F$14)*1000","v":36799.39663628077},{"$f":"(Loads!$B$315*Multi!J$606+Loads!$C$315*Multi!J$628+Loads!$D$315*Multi!J$645)*LAFs!J$258/(24*Input!$F$14)*1000","v":35911.017515999156}]
[]
["2504. Estimated contributions of users on each tariff to system simultaneous maximum load by network level (kW)"]
["Data sources:"]
["x1 = 2407. All units (MWh)"]
["x2 = 2302. Load coefficient"]
["x3 = 2012. Loss adjustment factors between end user meter reading and each network level, scaled by network use"]
["x4 = 1010. Days in the charging year (in Financial and general assumptions)"]
["Calculation =x1*x2*x3/(24*x4)*1000"]
[]
[null,"GSPs","132kV","132kV/EHV","EHV","EHV/HV","132kV/HV","HV","HV/LV","LV circuits"]
["Domestic Unrestricted",{"$f":"Multi!$B115*Loads!$B45*LAFs!B241/(24*Input!$F$14)*1000","v":1896693.189115382},{"$f":"Multi!$B115*Loads!$B45*LAFs!C241/(24*Input!$F$14)*1000","v":1892907.3743666483},{"$f":"Multi!$B115*Loads!$B45*LAFs!D241/(24*Input!$F$14)*1000","v":1891020.1287291944},{"$f":"Multi!$B115*Loads!$B45*LAFs!E241/(24*Input!$F$14)*1000","v":1885380.9036932224},{"$f":"Multi!$B115*Loads!$B45*LAFs!F241/(24*Input!$F$14)*1000","v":1846828.811212641},{"$f":"Multi!$B115*Loads!$B45*LAFs!G241/(24*Input!$F$14)*1000","v":0},{"$f":"Multi!$B115*Loads!$B45*LAFs!H241/(24*Input!$F$14)*1000","v":1816755.9282714387},{"$f":"Multi!$B115*Loads!$B45*LAFs!I241/(24*Input!$F$14)*1000","v":1804655.7460660152},{"$f":"Multi!$B115*Loads!$B45*LAFs!J241/(24*Input!$F$14)*1000","v":1761089.3120848485}]
["Domestic Two Rate",{"$f":"Multi!$B116*Loads!$B46*LAFs!B242/(24*Input!$F$14)*1000","v":333773.66956696525},{"$f":"Multi!$B116*Loads!$B46*LAFs!C242/(24*Input!$F$14)*1000","v":333107.45465764997},{"$f":"Multi!$B116*Loads!$B46*LAFs!D242/(24*Input!$F$14)*1000","v":332775.34353635623},{"$f":"Multi!$B116*Loads!$B46*LAFs!E242/(24*Input!$F$14)*1000","v":331782.97173654591},{"$f":"Multi!$B116*Loads!$B46*LAFs!F242/(24*Input!$F$14)*1000","v":324998.70454426995},{"$f":"Multi!$B116*Loads!$B46*LAFs!G242/(24*Input!$F$14)*1000","v":0},{"$f":"Multi!$B116*Loads!$B46*LAFs!H242/(24*Input!$F$14)*1000","v":319706.58004498587},{"$f":"Multi!$B116*Loads!$B46*LAFs!I242/(24*Input!$F$14)*1000","v":317577.23079635133},{"$f":"Multi!$B116*Loads!$B46*LAFs!J242/(24*Input!$F$14)*1000","v":309910.55670098908}]
["Domestic Off Peak (related MPAN)",{"$f":"Multi!$B117*Loads!$B47*LAFs!B243/(24*Input!$F$14)*1000","v":0},{"$f":"Multi!$B117*Loads!$B47*LAFs!C243/(24*Input!$F$14)*1000","v":0},{"$f":"Multi!$B117*Loads!$B47*LAFs!D243/(24*Input!$F$14)*1000","v":0},{"$f":"Multi!$B117*Loads!$B47*LAFs!E243/(24*Input!$F$14)*1000","v":0},{"$f":"Multi!$B117*Loads!$B47*LAFs!F243/(24*Input!$F$14)*1000","v":0},{"$f":"Multi!$B117*Loads!$B47*LAFs!G243/(24*Input!$F$14)*1000","v":0},{"$f":"Multi!$B117*Loads!$B47*LAFs!H243/(24*Input!$F$14)*1000","v":0},{"$f":"Multi!$B117*Loads!$B47*LAFs!I243/(24*Input!$F$14)*1000","v":0},{"$f":"Multi!$B117*Loads!$B47*LAFs!J243/(24*Input!$F$14)*1000","v":0}]
["Small Non Domestic Unrestricted",{"$f":"Multi!$B118*Loads!$B48*LAFs!B244/(24*Input!$F$14)*1000","v":347262.54264153808},{"$f":"Multi!$B118*Loads!$B48*LAFs!C244/(24*Input!$F$14)*1000","v":346569.40383387031},{"$f":"Multi!$B118*Loads!$B48*LAFs!D244/(24*Input!$F$14)*1000","v":346223.8710284527},{"$f":"Multi!$B118*Loads!$B48*LAFs!E244/(24*Input!$F$14)*1000","v":345191.39427588275},{"$f":"Multi!$B118*Loads!$B48*LAFs!F244/(24*Input!$F$14)*1000","v":338132.95291289006},{"$f":"Multi!$B118*Loads!$B48*LAFs!G244/(24*Input!$F$14)*1000","v":0},{"$f":"Multi!$B118*Loads!$B48*LAFs!H244/(24*Input!$F$14)*1000","v":332626.95655319735},{"$f":"Multi!$B118*Loads!$B48*LAFs!I244/(24*Input!$F$14)*1000","v":330411.55341725791},{"$f":"Multi!$B118*Loads!$B48*LAFs!J244/(24*Input!$F$14)*1000","v":322435.04423541139}]
["Small Non Domestic Two Rate",{"$f":"Multi!$B119*Loads!$B49*LAFs!B245/(24*Input!$F$14)*1000","v":116804.84559775962},{"$f":"Multi!$B119*Loads!$B49*LAFs!C245/(24*Input!$F$14)*1000","v":116571.70219337287},{"$f":"Multi!$B119*Loads!$B49*LAFs!D245/(24*Input!$F$14)*1000","v":116455.4791602788},{"$f":"Multi!$B119*Loads!$B49*LAFs!E245/(24*Input!$F$14)*1000","v":116108.19641924414},{"$f":"Multi!$B119*Loads!$B49*LAFs!F245/(24*Input!$F$14)*1000","v":113734.02687220997},{"$f":"Multi!$B119*Loads!$B49*LAFs!G245/(24*Input!$F$14)*1000","v":0},{"$f":"Multi!$B119*Loads!$B49*LAFs!H245/(24*Input!$F$14)*1000","v":111882.03601317972},{"$f":"Multi!$B119*Loads!$B49*LAFs!I245/(24*Input!$F$14)*1000","v":111136.86545933363},{"$f":"Multi!$B119*Loads!$B49*LAFs!J245/(24*Input!$F$14)*1000","v":108453.89563394581}]
["Small Non Domestic Off Peak (related MPAN)",{"$f":"Multi!$B120*Loads!$B50*LAFs!B246/(24*Input!$F$14)*1000","v":0},{"$f":"Multi!$B120*Loads!$B50*LAFs!C246/(24*Input!$F$14)*1000","v":0},{"$f":"Multi!$B120*Loads!$B50*LAFs!D246/(24*Input!$F$14)*1000","v":0},{"$f":"Multi!$B120*Loads!$B50*LAFs!E246/(24*Input!$F$14)*1000","v":0},{"$f":"Multi!$B120*Loads!$B50*LAFs!F246/(24*Input!$F$14)*1000","v":0},{"$f":"Multi!$B120*Loads!$B50*LAFs!G246/(24*Input!$F$14)*1000","v":0},{"$f":"Multi!$B120*Loads!$B50*LAFs!H246/(24*Input!$F$14)*1000","v":0},{"$f":"Multi!$B120*Loads!$B50*LAFs!I246/(24*Input!$F$14)*1000","v":0},{"$f":"Multi!$B120*Loads!$B50*LAFs!J246/(24*Input!$F$14)*1000","v":0}]
["LV Medium Non-Domestic",{"$f":"Multi!$B121*Loads!$B51*LAFs!B247/(24*Input!$F$14)*1000","v":314262.73289463244},{"$f":"Multi!$B121*Loads!$B51*LAFs!C247/(24*Input!$F$14)*1000","v":313635.46197069105},{"$f":"Multi!$B121*Loads!$B51*LAFs!D247/(24*Input!$F$14)*1000","v":313322.76460082998},{"$f":"Multi!$B121*Loads!$B51*LAFs!E247/(24*Input!$F$14)*1000","v":312388.40247975389},{"$f":"Multi!$B121*Loads!$B51*LAFs!F247/(24*Input!$F$14)*1000","v":306000.71362671128},{"$f":"Multi!$B121*Loads!$B51*LAFs!G247/(24*Input!$F$14)*1000","v":0},{"$f":"Multi!$B121*Loads!$B51*LAFs!H247/(24*Input!$F$14)*1000","v":301017.94338566327},{"$f":"Multi!$B121*Loads!$B51*LAFs!I247/(24*Input!$F$14)*1000","v":299013.06650298042},{"$f":"Multi!$B121*Loads!$B51*LAFs!J247/(24*Input!$F$14)*1000","v":291794.55236270424}]
["LV Sub Medium Non-Domestic",{"$f":"Multi!$B122*Loads!$B52*LAFs!B248/(24*Input!$F$14)*1000","v":22.285076159369204},{"$f":"Multi!$B122*Loads!$B52*LAFs!C248/(24*Input!$F$14)*1000","v":22.240594969430344},{"$f":"Multi!$B122*Loads!$B52*LAFs!D248/(24*Input!$F$14)*1000","v":22.218420896679167},{"$f":"Multi!$B122*Loads!$B52*LAFs!E248/(24*Input!$F$14)*1000","v":22.152163180287477},{"$f":"Multi!$B122*Loads!$B52*LAFs!F248/(24*Input!$F$14)*1000","v":21.69919781827576},{"$f":"Multi!$B122*Loads!$B52*LAFs!G248/(24*Input!$F$14)*1000","v":0},{"$f":"Multi!$B122*Loads!$B52*LAFs!H248/(24*Input!$F$14)*1000","v":21.345858390200384},{"$f":"Multi!$B122*Loads!$B52*LAFs!I248/(24*Input!$F$14)*1000","v":21.203688067905997},{"$f":"Multi!$B122*Loads!$B52*LAFs!J248/(24*Input!$F$14)*1000","v":0}]
["HV Medium Non-Domestic",{"$f":"Multi!$B123*Loads!$B53*LAFs!B249/(24*Input!$F$14)*1000","v":7867.0375156387026},{"$f":"Multi!$B123*Loads!$B53*LAFs!C249/(24*Input!$F$14)*1000","v":7851.3348459468089},{"$f":"Multi!$B123*Loads!$B53*LAFs!D249/(24*Input!$F$14)*1000","v":7843.5069946547392},{"$f":"Multi!$B123*Loads!$B53*LAFs!E249/(24*Input!$F$14)*1000","v":7820.1168147502012},{"$f":"Multi!$B123*Loads!$B53*LAFs!F249/(24*Input!$F$14)*1000","v":7660.2117971165553},{"$f":"Multi!$B123*Loads!$B53*LAFs!G249/(24*Input!$F$14)*1000","v":0},{"$f":"Multi!$B123*Loads!$B53*LAFs!H249/(24*Input!$F$14)*1000","v":7535.4765475466502},{"$f":"Multi!$B123*Loads!$B53*LAFs!I249/(24*Input!$F$14)*1000","v":0},{"$f":"Multi!$B123*Loads!$B53*LAFs!J249/(24*Input!$F$14)*1000","v":0}]
["LV HH Metered",{"$f":"Multi!$B124*Loads!$B54*LAFs!B250/(24*Input!$F$14)*1000","v":332387.23335416516},{"$f":"Multi!$B124*Loads!$B54*LAFs!C250/(24*Input!$F$14)*1000","v":331723.78578259994},{"$f":"Multi!$B124*Loads!$B54*LAFs!D250/(24*Input!$F$14)*1000","v":331393.0541915904},{"$f":"Multi!$B124*Loads!$B54*LAFs!E250/(24*Input!$F$14)*1000","v":330404.80452700314},{"$f":"Multi!$B124*Loads!$B54*LAFs!F250/(24*Input!$F$14)*1000","v":323648.7179690022},{"$f":"Multi!$B124*Loads!$B54*LAFs!G250/(24*Input!$F$14)*1000","v":0},{"$f":"Multi!$B124*Loads!$B54*LAFs!H250/(24*Input!$F$14)*1000","v":318378.5760097368},{"$f":"Multi!$B124*Loads!$B54*LAFs!I250/(24*Input!$F$14)*1000","v":316258.07169758814},{"$f":"Multi!$B124*Loads!$B54*LAFs!J250/(24*Input!$F$14)*1000","v":308623.24359718215}]
["LV Sub HH Metered",{"$f":"Multi!$B125*Loads!$B55*LAFs!B251/(24*Input!$F$14)*1000","v":3866.1684442251953},{"$f":"Multi!$B125*Loads!$B55*LAFs!C251/(24*Input!$F$14)*1000","v":3858.4515411429097},{"$f":"Multi!$B125*Loads!$B55*LAFs!D251/(24*Input!$F$14)*1000","v":3854.6046303341936},{"$f":"Multi!$B125*Loads!$B55*LAFs!E251/(24*Input!$F$14)*1000","v":3843.1097855121229},{"$f":"Multi!$B125*Loads!$B55*LAFs!F251/(24*Input!$F$14)*1000","v":3764.5262358570558},{"$f":"Multi!$B125*Loads!$B55*LAFs!G251/(24*Input!$F$14)*1000","v":0},{"$f":"Multi!$B125*Loads!$B55*LAFs!H251/(24*Input!$F$14)*1000","v":3703.2264791429079},{"$f":"Multi!$B125*Loads!$B55*LAFs!I251/(24*Input!$F$14)*1000","v":3678.5617927927651},{"$f":"Multi!$B125*Loads!$B55*LAFs!J251/(24*Input!$F$14)*1000","v":0}]
["HV HH Metered",{"$f":"Multi!$B126*Loads!$B56*LAFs!B252/(24*Input!$F$14)*1000","v":1097926.9892741325},{"$f":"Multi!$B126*Loads!$B56*LAFs!C252/(24*Input!$F$14)*1000","v":1095735.5182376571},{"$f":"Multi!$B126*Loads!$B56*LAFs!D252/(24*Input!$F$14)*1000","v":1094643.0600938511},{"$f":"Multi!$B126*Loads!$B56*LAFs!E252/(24*Input!$F$14)*1000","v":1091378.7169722987},{"$f":"Multi!$B126*Loads!$B56*LAFs!F252/(24*Input!$F$14)*1000","v":1069062.3069855233},{"$f":"Multi!$B126*Loads!$B56*LAFs!G252/(24*Input!$F$14)*1000","v":0},{"$f":"Multi!$B126*Loads!$B56*LAFs!H252/(24*Input!$F$14)*1000","v":1051654.2042855674},{"$f":"Multi!$B126*Loads!$B56*LAFs!I252/(24*Input!$F$14)*1000","v":0},{"$f":"Multi!$B126*Loads!$B56*LAFs!J252/(24*Input!$F$14)*1000","v":0}]
["HV Sub HH Metered",{"$f":"Multi!$B127*Loads!$B57*LAFs!B253/(24*Input!$F$14)*1000","v":0},{"$f":"Multi!$B127*Loads!$B57*LAFs!C253/(24*Input!$F$14)*1000","v":0},{"$f":"Multi!$B127*Loads!$B57*LAFs!D253/(24*Input!$F$14)*1000","v":0},{"$f":"Multi!$B127*Loads!$B57*LAFs!E253/(24*Input!$F$14)*1000","v":0},{"$f":"Multi!$B127*Loads!$B57*LAFs!F253/(24*Input!$F$14)*1000","v":0},{"$f":"Multi!$B127*Loads!$B57*LAFs!G253/(24*Input!$F$14)*1000","v":0},{"$f":"Multi!$B127*Loads!$B57*LAFs!H253/(24*Input!$F$14)*1000","v":0},{"$f":"Multi!$B127*Loads!$B57*LAFs!I253/(24*Input!$F$14)*1000","v":0},{"$f":"Multi!$B127*Loads!$B57*LAFs!J253/(24*Input!$F$14)*1000","v":0}]
["NHH UMS category A",{"$f":"Multi!$B128*Loads!$B58*LAFs!B254/(24*Input!$F$14)*1000","v":7600.3160974954744},{"$f":"Multi!$B128*Loads!$B58*LAFs!C254/(24*Input!$F$14)*1000","v":7585.145805883707},{"$f":"Multi!$B128*Loads!$B58*LAFs!D254/(24*Input!$F$14)*1000","v":7577.5833474531155},{"$f":"Multi!$B128*Loads!$B58*LAFs!E254/(24*Input!$F$14)*1000","v":7554.9861804129951},{"$f":"Multi!$B128*Loads!$B58*LAFs!F254/(24*Input!$F$14)*1000","v":7400.5025292068894},{"$f":"Multi!$B128*Loads!$B58*LAFs!G254/(24*Input!$F$14)*1000","v":0},{"$f":"Multi!$B128*Loads!$B58*LAFs!H254/(24*Input!$F$14)*1000","v":7279.9962619688458},{"$f":"Multi!$B128*Loads!$B58*LAFs!I254/(24*Input!$F$14)*1000","v":7231.509131774952},{"$f":"Multi!$B128*Loads!$B58*LAFs!J254/(24*Input!$F$14)*1000","v":7056.9323096522521}]
["NHH UMS category B",{"$f":"Multi!$B129*Loads!$B59*LAFs!B255/(24*Input!$F$14)*1000","v":8499.8590802661984},{"$f":"Multi!$B129*Loads!$B59*LAFs!C255/(24*Input!$F$14)*1000","v":8482.8932936788424},{"$f":"Multi!$B129*Loads!$B59*LAFs!D255/(24*Input!$F$14)*1000","v":8474.4357729473577},{"$f":"Multi!$B129*Loads!$B59*LAFs!E255/(24*Input!$F$14)*1000","v":8449.1640956920455},{"$f":"Multi!$B129*Loads!$B59*LAFs!F255/(24*Input!$F$14)*1000","v":8276.3963780586182},{"$f":"Multi!$B129*Loads!$B59*LAFs!G255/(24*Input!$F$14)*1000","v":0},{"$f":"Multi!$B129*Loads!$B59*LAFs!H255/(24*Input!$F$14)*1000","v":8141.6274715193476},{"$f":"Multi!$B129*Loads!$B59*LAFs!I255/(24*Input!$F$14)*1000","v":8087.4015987309203},{"$f":"Multi!$B129*Loads!$B59*LAFs!J255/(24*Input!$F$14)*1000","v":7892.1625629212622}]
["NHH UMS category C",{"$f":"Multi!$B130*Loads!$B60*LAFs!B256/(24*Input!$F$14)*1000","v":355.84523818572615},{"$f":"Multi!$B130*Loads!$B60*LAFs!C256/(24*Input!$F$14)*1000","v":355.13496824922771},{"$f":"Multi!$B130*Loads!$B60*LAFs!D256/(24*Input!$F$14)*1000","v":354.78089549922845},{"$f":"Multi!$B130*Loads!$B60*LAFs!E256/(24*Input!$F$14)*1000","v":353.72290078103993},{"$f":"Multi!$B130*Loads!$B60*LAFs!F256/(24*Input!$F$14)*1000","v":346.49000797052213},{"$f":"Multi!$B130*Loads!$B60*LAFs!G256/(24*Input!$F$14)*1000","v":0},{"$f":"Multi!$B130*Loads!$B60*LAFs!H256/(24*Input!$F$14)*1000","v":340.84792929667259},{"$f":"Multi!$B130*Loads!$B60*LAFs!I256/(24*Input!$F$14)*1000","v":338.57777182276516},{"$f":"Multi!$B130*Loads!$B60*LAFs!J256/(24*Input!$F$14)*1000","v":330.4041208781116}]
["NHH UMS category D",{"$f":"Multi!$B131*Loads!$B61*LAFs!B257/(24*Input!$F$14)*1000","v":75.701548826543274},{"$f":"Multi!$B131*Loads!$B61*LAFs!C257/(24*Input!$F$14)*1000","v":75.550447930681884},{"$f":"Multi!$B131*Loads!$B61*LAFs!D257/(24*Input!$F$14)*1000","v":75.475123456174742},{"$f":"Multi!$B131*Loads!$B61*LAFs!E257/(24*Input!$F$14)*1000","v":75.25004853533126},{"$f":"Multi!$B131*Loads!$B61*LAFs!F257/(24*Input!$F$14)*1000","v":73.711342576965208},{"$f":"Multi!$B131*Loads!$B61*LAFs!G257/(24*Input!$F$14)*1000","v":0},{"$f":"Multi!$B131*Loads!$B61*LAFs!H257/(24*Input!$F$14)*1000","v":72.511062094390098},{"$f":"Multi!$B131*Loads!$B61*LAFs!I257/(24*Input!$F$14)*1000","v":72.028114963409379},{"$f":"Multi!$B131*Loads!$B61*LAFs!J257/(24*Input!$F$14)*1000","v":70.289274676456145}]
["LV UMS (Pseudo HH Metered)",{"$f":"Multi!$B132*Loads!$B62*LAFs!B258/(24*Input!$F$14)*1000","v":59618.962450247163},{"$f":"Multi!$B132*Loads!$B62*LAFs!C258/(24*Input!$F$14)*1000","v":59499.962525196759},{"$f":"Multi!$B132*Loads!$B62*LAFs!D258/(24*Input!$F$14)*1000","v":59440.640528661177},{"$f":"Multi!$B132*Loads!$B62*LAFs!E258/(24*Input!$F$14)*1000","v":59263.382157303335},{"$f":"Multi!$B132*Loads!$B62*LAFs!F258/(24*Input!$F$14)*1000","v":58051.570058663259},{"$f":"Multi!$B132*Loads!$B62*LAFs!G258/(24*Input!$F$14)*1000","v":0},{"$f":"Multi!$B132*Loads!$B62*LAFs!H258/(24*Input!$F$14)*1000","v":57106.285871884247},{"$f":"Multi!$B132*Loads!$B62*LAFs!I258/(24*Input!$F$14)*1000","v":56725.939534012519},{"$f":"Multi!$B132*Loads!$B62*LAFs!J258/(24*Input!$F$14)*1000","v":55356.511095865513}]
["LV Generation NHH",{"$f":"Multi!$B133*Loads!$B63*LAFs!B259/(24*Input!$F$14)*1000","v":-52.51216551207191},{"$f":"Multi!$B133*Loads!$B63*LAFs!C259/(24*Input!$F$14)*1000","v":-52.407350810451007},{"$f":"Multi!$B133*Loads!$B63*LAFs!D259/(24*Input!$F$14)*1000","v":-52.355100211437602},{"$f":"Multi!$B133*Loads!$B63*LAFs!E259/(24*Input!$F$14)*1000","v":-52.198971681980026},{"$f":"Multi!$B133*Loads!$B63*LAFs!F259/(24*Input!$F$14)*1000","v":-51.131611988385515},{"$f":"Multi!$B133*Loads!$B63*LAFs!G259/(24*Input!$F$14)*1000","v":0},{"$f":"Multi!$B133*Loads!$B63*LAFs!H259/(24*Input!$F$14)*1000","v":-50.299009111179991},{"$f":"Multi!$B133*Loads!$B63*LAFs!I259/(24*Input!$F$14)*1000","v":-49.964001438698304},{"$f":"Multi!$B133*Loads!$B63*LAFs!J259/(24*Input!$F$14)*1000","v":0}]
["LV Sub Generation NHH",{"$f":"Multi!$B134*Loads!$B64*LAFs!B260/(24*Input!$F$14)*1000","v":0},{"$f":"Multi!$B134*Loads!$B64*LAFs!C260/(24*Input!$F$14)*1000","v":0},{"$f":"Multi!$B134*Loads!$B64*LAFs!D260/(24*Input!$F$14)*1000","v":0},{"$f":"Multi!$B134*Loads!$B64*LAFs!E260/(24*Input!$F$14)*1000","v":0},{"$f":"Multi!$B134*Loads!$B64*LAFs!F260/(24*Input!$F$14)*1000","v":0},{"$f":"Multi!$B134*Loads!$B64*LAFs!G260/(24*Input!$F$14)*1000","v":0},{"$f":"Multi!$B134*Loads!$B64*LAFs!H260/(24*Input!$F$14)*1000","v":0},{"$f":"Multi!$B134*Loads!$B64*LAFs!I260/(24*Input!$F$14)*1000","v":0},{"$f":"Multi!$B134*Loads!$B64*LAFs!J260/(24*Input!$F$14)*1000","v":0}]
["LV Generation Intermittent",{"$f":"Multi!$B135*Loads!$B65*LAFs!B261/(24*Input!$F$14)*1000","v":-5.512348951117553},{"$f":"Multi!$B135*Loads!$B65*LAFs!C261/(24*Input!$F$14)*1000","v":-5.5013462586003508},{"$f":"Multi!$B135*Loads!$B65*LAFs!D261/(24*Input!$F$14)*1000","v":-5.4958613670165022},{"$f":"Multi!$B135*Loads!$B65*LAFs!E261/(24*Input!$F$14)*1000","v":-5.4794721184071085},{"$f":"Multi!$B135*Loads!$B65*LAFs!F261/(24*Input!$F$14)*1000","v":-5.3674283847298474},{"$f":"Multi!$B135*Loads!$B65*LAFs!G261/(24*Input!$F$14)*1000","v":0},{"$f":"Multi!$B135*Loads!$B65*LAFs!H261/(24*Input!$F$14)*1000","v":-5.280027730955509},{"$f":"Multi!$B135*Loads!$B65*LAFs!I261/(24*Input!$F$14)*1000","v":-5.24486103817084},{"$f":"Multi!$B135*Loads!$B65*LAFs!J261/(24*Input!$F$14)*1000","v":0}]
["LV Generation Non-Intermittent",{"$f":"Multi!$B136*Loads!$B66*LAFs!B262/(24*Input!$F$14)*1000","v":-301.45504057418907},{"$f":"Multi!$B136*Loads!$B66*LAFs!C262/(24*Input!$F$14)*1000","v":-300.85333390637635},{"$f":"Multi!$B136*Loads!$B66*LAFs!D262/(24*Input!$F$14)*1000","v":-300.55338043289044},{"$f":"Multi!$B136*Loads!$B66*LAFs!E262/(24*Input!$F$14)*1000","v":-299.65709798627142},{"$f":"Multi!$B136*Loads!$B66*LAFs!F262/(24*Input!$F$14)*1000","v":-293.52973765743826},{"$f":"Multi!$B136*Loads!$B66*LAFs!G262/(24*Input!$F$14)*1000","v":0},{"$f":"Multi!$B136*Loads!$B66*LAFs!H262/(24*Input!$F$14)*1000","v":-288.75003886416579},{"$f":"Multi!$B136*Loads!$B66*LAFs!I262/(24*Input!$F$14)*1000","v":-286.82687019428079},{"$f":"Multi!$B136*Loads!$B66*LAFs!J262/(24*Input!$F$14)*1000","v":0}]
["LV Sub Generation Intermittent",{"$f":"Multi!$B137*Loads!$B67*LAFs!B263/(24*Input!$F$14)*1000","v":0},{"$f":"Multi!$B137*Loads!$B67*LAFs!C263/(24*Input!$F$14)*1000","v":0},{"$f":"Multi!$B137*Loads!$B67*LAFs!D263/(24*Input!$F$14)*1000","v":0},{"$f":"Multi!$B137*Loads!$B67*LAFs!E263/(24*Input!$F$14)*1000","v":0},{"$f":"Multi!$B137*Loads!$B67*LAFs!F263/(24*Input!$F$14)*1000","v":0},{"$f":"Multi!$B137*Loads!$B67*LAFs!G263/(24*Input!$F$14)*1000","v":0},{"$f":"Multi!$B137*Loads!$B67*LAFs!H263/(24*Input!$F$14)*1000","v":0},{"$f":"Multi!$B137*Loads!$B67*LAFs!I263/(24*Input!$F$14)*1000","v":0},{"$f":"Multi!$B137*Loads!$B67*LAFs!J263/(24*Input!$F$14)*1000","v":0}]
["LV Sub Generation Non-Intermittent",{"$f":"Multi!$B138*Loads!$B68*LAFs!B264/(24*Input!$F$14)*1000","v":-3.5957872012684924E-2},{"$f":"Multi!$B138*Loads!$B68*LAFs!C264/(24*Input!$F$14)*1000","v":-3.5886099813058805E-2},{"$f":"Multi!$B138*Loads!$B68*LAFs!D264/(24*Input!$F$14)*1000","v":-3.5850321049536317E-2},{"$f":"Multi!$B138*Loads!$B68*LAFs!E264/(24*Input!$F$14)*1000","v":-3.5743411543424378E-2},{"$f":"Multi!$B138*Loads!$B68*LAFs!F264/(24*Input!$F$14)*1000","v":-3.5012533605340727E-2},{"$f":"Multi!$B138*Loads!$B68*LAFs!G264/(24*Input!$F$14)*1000","v":0},{"$f":"Multi!$B138*Loads!$B68*LAFs!H264/(24*Input!$F$14)*1000","v":-3.4442406142418509E-2},{"$f":"Multi!$B138*Loads!$B68*LAFs!I264/(24*Input!$F$14)*1000","v":0},{"$f":"Multi!$B138*Loads!$B68*LAFs!J264/(24*Input!$F$14)*1000","v":0}]
["HV Generation Intermittent",{"$f":"Multi!$B139*Loads!$B69*LAFs!B265/(24*Input!$F$14)*1000","v":-113.0786699966021},{"$f":"Multi!$B139*Loads!$B69*LAFs!C265/(24*Input!$F$14)*1000","v":-112.85296406846518},{"$f":"Multi!$B139*Loads!$B69*LAFs!D265/(24*Input!$F$14)*1000","v":-112.74044865065017},{"$f":"Multi!$B139*Loads!$B69*LAFs!E265/(24*Input!$F$14)*1000","v":-112.40424452942554},{"$f":"Multi!$B139*Loads!$B69*LAFs!F265/(24*Input!$F$14)*1000","v":-110.10581304440322},{"$f":"Multi!$B139*Loads!$B69*LAFs!G265/(24*Input!$F$14)*1000","v":0},{"$f":"Multi!$B139*Loads!$B69*LAFs!H265/(24*Input!$F$14)*1000","v":0},{"$f":"Multi!$B139*Loads!$B69*LAFs!I265/(24*Input!$F$14)*1000","v":0},{"$f":"Multi!$B139*Loads!$B69*LAFs!J265/(24*Input!$F$14)*1000","v":0}]
["HV Generation Non-Intermittent",{"$f":"Multi!$B140*Loads!$B70*LAFs!B266/(24*Input!$F$14)*1000","v":-49736.414566179694},{"$f":"Multi!$B140*Loads!$B70*LAFs!C266/(24*Input!$F$14)*1000","v":-49637.140285608475},{"$f":"Multi!$B140*Loads!$B70*LAFs!D266/(24*Input!$F$14)*1000","v":-49587.65161134566},{"$f":"Multi!$B140*Loads!$B70*LAFs!E266/(24*Input!$F$14)*1000","v":-49439.775910715398},{"$f":"Multi!$B140*Loads!$B70*LAFs!F266/(24*Input!$F$14)*1000","v":-48428.835994332709},{"$f":"Multi!$B140*Loads!$B70*LAFs!G266/(24*Input!$F$14)*1000","v":0},{"$f":"Multi!$B140*Loads!$B70*LAFs!H266/(24*Input!$F$14)*1000","v":0},{"$f":"Multi!$B140*Loads!$B70*LAFs!I266/(24*Input!$F$14)*1000","v":0},{"$f":"Multi!$B140*Loads!$B70*LAFs!J266/(24*Input!$F$14)*1000","v":0}]
["HV Sub Generation Intermittent",{"$f":"Multi!$B141*Loads!$B71*LAFs!B267/(24*Input!$F$14)*1000","v":0},{"$f":"Multi!$B141*Loads!$B71*LAFs!C267/(24*Input!$F$14)*1000","v":0},{"$f":"Multi!$B141*Loads!$B71*LAFs!D267/(24*Input!$F$14)*1000","v":0},{"$f":"Multi!$B141*Loads!$B71*LAFs!E267/(24*Input!$F$14)*1000","v":0},{"$f":"Multi!$B141*Loads!$B71*LAFs!F267/(24*Input!$F$14)*1000","v":0},{"$f":"Multi!$B141*Loads!$B71*LAFs!G267/(24*Input!$F$14)*1000","v":0},{"$f":"Multi!$B141*Loads!$B71*LAFs!H267/(24*Input!$F$14)*1000","v":0},{"$f":"Multi!$B141*Loads!$B71*LAFs!I267/(24*Input!$F$14)*1000","v":0},{"$f":"Multi!$B141*Loads!$B71*LAFs!J267/(24*Input!$F$14)*1000","v":0}]
["HV Sub Generation Non-Intermittent",{"$f":"Multi!$B142*Loads!$B72*LAFs!B268/(24*Input!$F$14)*1000","v":0},{"$f":"Multi!$B142*Loads!$B72*LAFs!C268/(24*Input!$F$14)*1000","v":0},{"$f":"Multi!$B142*Loads!$B72*LAFs!D268/(24*Input!$F$14)*1000","v":0},{"$f":"Multi!$B142*Loads!$B72*LAFs!E268/(24*Input!$F$14)*1000","v":0},{"$f":"Multi!$B142*Loads!$B72*LAFs!F268/(24*Input!$F$14)*1000","v":0},{"$f":"Multi!$B142*Loads!$B72*LAFs!G268/(24*Input!$F$14)*1000","v":0},{"$f":"Multi!$B142*Loads!$B72*LAFs!H268/(24*Input!$F$14)*1000","v":0},{"$f":"Multi!$B142*Loads!$B72*LAFs!I268/(24*Input!$F$14)*1000","v":0},{"$f":"Multi!$B142*Loads!$B72*LAFs!J268/(24*Input!$F$14)*1000","v":0}]
[]
["2505. Contributions of users on each tariff to system simultaneous maximum load by network level (kW)"]
["Data sources:"]
["x1 = 2501. Contributions of users on one-rate multi tariffs to system simultaneous maximum load by network level (kW)"]
["x2 = 2502. Contributions of users on two-rate multi tariffs to system simultaneous maximum load by network level (kW)"]
["x3 = 2503. Contributions of users on three-rate multi tariffs to system simultaneous maximum load by network level (kW)"]
["x4 = 2504. Estimated contributions of users on each tariff to system simultaneous maximum load by network level (kW)"]
["Combine tables = x1 or x2 or x3 or x4"]
[]
[null,"GSPs","132kV","132kV/EHV","EHV","EHV/HV","132kV/HV","HV","HV/LV","LV circuits"]
["Domestic Unrestricted",{"$f":"B68","v":1896693.189115382},1892907.3743666483,1891020.1287291944,1885380.9036932224,1846828.811212641,0,1816755.9282714387,1804655.7460660152,1761089.3120848485]
["Domestic Two Rate",{"$f":"B$30","v":328165.72993123898},317138.68842112628,316822.49830305937,318027.67959377653,311524.67932944431,0,306451.95945530583,304410.89026768727,297062.06654720457]
["Domestic Off Peak (related MPAN)",{"$f":"B$12","v":397.03796363916922},994.18328954932019,993.19207988875269,1287.3062991367819,1260.9835802644625,0,1240.4503227314203,1232.1885222945791,1202.4420955725191]
["Small Non Domestic Unrestricted",{"$f":"B71","v":347262.54264153808},346569.40383387031,346223.8710284527,345191.39427588275,338132.95291289006,0,332626.95655319735,330411.55341725791,322435.04423541139]
["Small Non Domestic Two Rate",{"$f":"B$31","v":118189.97626977328},120532.87353438952,120412.70117792455,119613.52199726275,117167.67588047356,0,115259.77311230492,114492.10573667585,111728.13661025658]
["Small Non Domestic Off Peak (related MPAN)",{"$f":"B$13","v":183.74510193192674},245.4469788551969,245.20226601486272,287.17305831650776,281.30097046388209,0,276.7203991057537,274.87735172826535,268.24150108301473]
["LV Medium Non-Domestic",{"$f":"B$32","v":315940.58262125001},317552.50483230804,317235.90213556599,311035.1783555834,304675.16010293766,0,299713.97454570589,297717.78251733299,290530.53799973719]
["LV Sub Medium Non-Domestic",{"$f":"B$33","v":22.40756372470134},22.532928099461294,22.510462567956353,22.093902040478692,21.642127996807758,0,21.289717866591538,21.147921458345923,0]
["HV Medium Non-Domestic",{"$f":"B$34","v":7996.3860500499723},8208.8806131309248,8200.6962855006859,8068.9046795155882,7903.9124708789514,0,7775.2089153186616,0,0]
["LV HH Metered",{"$f":"B$49","v":335388.40033851389},339480.86512435076,339142.39965563256,332753.99491378746,325949.87233035074,0,320642.2594667339,318506.67829045688,310817.56627973088]
["LV Sub HH Metered",{"$f":"B$50","v":3875.4155744589116},3876.0190631940236,3872.1546374081872,3810.1060535980964,3732.1973611681456,0,3671.4240324901202,3646.9711607228219,0]
["HV HH Metered",{"$f":"B$51","v":1109314.5502887603},1127039.8020856699,1125916.1332899714,1112180.571842148,1089438.8074714711,0,1071698.9035183918,0,0]
["HV Sub HH Metered",{"$f":"B$52","v":0},0,0,0,0,0,0,0,0]
["NHH UMS category A",{"$f":"B$14","v":9206.0415265638894},9189.8210275587062,9180.6586935332252,9155.7271484213525,8968.5116955325066,0,8822.4727119845611,8763.7121896402314,8552.146250057458]
["NHH UMS category B",{"$f":"B$15","v":4513.9245149162116},4817.646385043402,4812.8431483683853,5265.7212920157317,5158.0483152559182,0,5074.0571070573051,5040.2622452595879,4918.5846051697563]
["NHH UMS category C",{"$f":"B$16","v":200.26919438366443},209.8421695856502,209.63295505964257,221.57785184115468,217.04704863895003,0,213.51275761705142,212.09069357964003,206.97058398533116]
["NHH UMS category D",{"$f":"B$17","v":884.24462197606078},843.16394597409919,842.32330395418501,779.85127232089508,763.90494640196755,0,751.46588118277839,746.46087531381602,728.4404642106042]
["LV UMS (Pseudo HH Metered)",{"$f":"B$57","v":33403.344206488197},35445.507597161784,35410.16810803202,38445.492907287357,37659.363062055592,0,37046.135885757751,36799.39663628077,35911.017515999156]
["LV Generation NHH",{"$f":"B86","v":-52.51216551207191},-52.407350810451007,-52.355100211437602,-52.198971681980026,-51.131611988385515,0,-50.299009111179991,-49.964001438698304,0]
["LV Sub Generation NHH",{"$f":"B87","v":0},0,0,0,0,0,0,0,0]
["LV Generation Intermittent",{"$f":"B88","v":-5.512348951117553},-5.5013462586003508,-5.4958613670165022,-5.4794721184071085,-5.3674283847298474,0,-5.280027730955509,-5.24486103817084,0]
["LV Generation Non-Intermittent",{"$f":"B$53","v":-307.69881691703529},-310.94015381168981,-310.63014368824855,-309.05816282447466,-302.73857040060528,0,-297.80891935002069,-295.82541560553909,0]
["LV Sub Generation Intermittent",{"$f":"B90","v":0},0,0,0,0,0,0,0,0]
["LV Sub Generation Non-Intermittent",{"$f":"B$54","v":-4.1634516102283589E-4},-1.7291156410720113E-3,-1.7273916972623685E-3,-4.4749609902839859E-3,-4.3834574062567577E-3,0,-4.3120792684154113E-3,0,0]
["HV Generation Intermittent",{"$f":"B92","v":-113.0786699966021},-112.85296406846518,-112.74044865065017,-112.40424452942554,-110.10581304440322,0,0,0,0]
["HV Generation Non-Intermittent",{"$f":"B$55","v":-50277.001658136112},-49889.422619701567,-49839.682417687916,-49659.785265619779,-48644.346618513635,0,0,0,0]
["HV Sub Generation Intermittent",{"$f":"B94","v":0},0,0,0,0,0,0,0,0]
["HV Sub Generation Non-Intermittent",{"$f":"B$56","v":0},0,0,0,0,0,0,0,0]
[]
["2506. Forecast system simultaneous maximum load (kW) from forecast units"]
["Data sources:"]
["x1 = 2505. Contributions of users on each tariff to system simultaneous maximum load by network level (kW)"]
["Cell summation =SUM(x1)"]
[]
[null,"GSPs","132kV","132kV/EHV","EHV","EHV/HV","132kV/HV","HV","HV/LV","LV circuits"]
["Forecast system simultaneous maximum load (kW) from forecast units",{"$f":"SUM(B$106:B$133)","v":4460881.9834487308},4474703.4300327478,4470242.1105611296,4441388.2685444234,4350571.1763930758,0,4327689.1003859201,3226580.8296136218,3145450.5067732674]

{"sheet":"AMD","index":29,"n_rows":224,"n_cols":11,"rows_kept":224,"cut":false,"hidden":true,"merged":[]}
[{"$f":"\"r6140: Forecast aggregate maximum load\"&\" for \"&Input!B7&\" in \"&Input!C7&\" (\"&Input!D7&\")\"","v":"r6140: Forecast aggregate maximum load for WPD Mid West in April 2017 (0)"}]
[]
["2601. Pre-processing of data for standing charge factors"]
["Data sources:"]
["x1 = Standing charges factors (in Pre-processing of data for standing charge factors)"]
["x2 = 1018. Proportion of relevant load going through 132kV/HV direct transformation"]
["x3 = Standing charges factors for 132kV/HV (in Pre-processing of data for standing charge factors)"]
["Kind:","Fixed data",null,null,null,null,null,null,null,"Fixed data","Calculation"]
["Formula:","",null,null,null,null,null,null,null,"","=x1+0.2*x2*x3"]
[]
[null,"Standing charges factors"]
[null,"GSPs","132kV","132kV/EHV","EHV","EHV/HV","HV","HV/LV","LV circuits","Standing charges factors for 132kV/HV","Adjusted standing charges factors for 132kV"]
["Domestic Unrestricted",0,0,0,0,0,0,0,1,0,{"$f":"$C13+0.2*Input!$B$36*$J13","v":0}]
["Domestic Two Rate",0,0,0,0,0,0,0,1,0,{"$f":"$C14+0.2*Input!$B$36*$J14","v":0}]
["Domestic Off Peak (related MPAN)",0,0,0,0,0,0,0,1,0,{"$f":"$C15+0.2*Input!$B$36*$J15","v":0}]
["Small Non Domestic Unrestricted",0,0,0,0,0,0,0,1,0,{"$f":"$C16+0.2*Input!$B$36*$J16","v":0}]
["Small Non Domestic Two Rate",0,0,0,0,0,0,0,1,0,{"$f":"$C17+0.2*Input!$B$36*$J17","v":0}]
["Small Non Domestic Off Peak (related MPAN)",0,0,0,0,0,0,0,1,0,{"$f":"$C18+0.2*Input!$B$36*$J18","v":0}]
["LV Medium Non-Domestic",0,0,0,0,0,0,0,1,0,{"$f":"$C19+0.2*Input!$B$36*$J19","v":0}]
["LV Sub Medium Non-Domestic",0,0,0,0,0,0,1,0,0,{"$f":"$C20+0.2*Input!$B$36*$J20","v":0}]
["HV Medium Non-Domestic",0,0,0,0.2,1,1,0,0,1,{"$f":"$C21+0.2*Input!$B$36*$J21","v":0}]
["LV HH Metered",0,0,0,0,0,0.2,1,1,0,{"$f":"$C22+0.2*Input!$B$36*$J22","v":0}]
["LV Sub HH Metered",0,0,0,0,0,1,1,0,0,{"$f":"$C23+0.2*Input!$B$36*$J23","v":0}]
["HV HH Metered",0,0,0,0.2,1,1,0,0,1,{"$f":"$C24+0.2*Input!$B$36*$J24","v":0}]
["HV Sub HH Metered",0,0,0,1,1,0,0,0,0,{"$f":"$C25+0.2*Input!$B$36*$J25","v":0}]
["NHH UMS category A",0,0,0,0,0,0,0,0,0,{"$f":"$C26+0.2*Input!$B$36*$J26","v":0}]
["NHH UMS category B",0,0,0,0,0,0,0,0,0,{"$f":"$C27+0.2*Input!$B$36*$J27","v":0}]
["NHH UMS category C",0,0,0,0,0,0,0,0,0,{"$f":"$C28+0.2*Input!$B$36*$J28","v":0}]
["NHH UMS category D",0,0,0,0,0,0,0,0,0,{"$f":"$C29+0.2*Input!$B$36*$J29","v":0}]
["LV UMS (Pseudo HH Metered)",0,0,0,0,0,0,0,0,0,{"$f":"$C30+0.2*Input!$B$36*$J30","v":0}]
[]
["2602. Standing charges factors adapted to use 132kV/HV"]
["Data sources:"]
["x1 = 2601. Standing charges factors for 132kV/HV (in Pre-processing of data for standing charge factors)"]
["x2 = 2601. Adjusted standing charges factors for 132kV (in Pre-processing of data for standing charge factors)"]
["x3 = 2601. Standing charges factors (in Pre-processing of data for standing charge factors)"]
["Combine tables = x1 or x2 or x3"]
[]
[null,"GSPs","132kV","132kV/EHV","EHV","EHV/HV","132kV/HV","HV","HV/LV","LV circuits"]
["Domestic Unrestricted",{"$f":"$B13","v":0},{"$f":"$K13","v":0},{"$f":"$D13","v":0},{"$f":"$E13","v":0},{"$f":"$F13","v":0},0,{"$f":"$G13","v":0},{"$f":"$H13","v":0},{"$f":"$I13","v":1}]
["Domestic Two Rate",0,0,0,0,0,0,0,0,1]
["Domestic Off Peak (related MPAN)",0,0,0,0,0,0,0,0,1]
["Small Non Domestic Unrestricted",0,0,0,0,0,0,0,0,1]
["Small Non Domestic Two Rate",0,0,0,0,0,0,0,0,1]
["Small Non Domestic Off Peak (related MPAN)",0,0,0,0,0,0,0,0,1]
["LV Medium Non-Domestic",0,0,0,0,0,0,0,0,1]
["LV Sub Medium Non-Domestic",0,0,0,0,0,0,0,1,0]
["HV Medium Non-Domestic",0,0,0,0.2,1,1,1,0,0]
["LV HH Metered",0,0,0,0,0,0,0.2,1,1]
["LV Sub HH Metered",0,0,0,0,0,0,1,1,0]
["HV HH Metered",0,0,0,0.2,1,1,1,0,0]
["HV Sub HH Metered",0,0,0,1,1,0,0,0,0]
["NHH UMS category A",0,0,0,0,0,0,0,0,0]
["NHH UMS category B",0,0,0,0,0,0,0,0,0]
["NHH UMS category C",0,0,0,0,0,0,0,0,0]
["NHH UMS category D",0,0,0,0,0,0,0,0,0]
["LV UMS (Pseudo HH Metered)",0,0,0,0,0,0,0,0,0]
[]
["2603. Capacity-based contributions to chargeable aggregate maximum load by network level (kW)"]
["Data sources:"]
["x1 = 2305. Import capacity (kVA) (in Equivalent volume for each end user)"]
["x2 = 1010. Power factor for all flows in the network model (in Financial and general assumptions)"]
["x3 = 2602. Standing charges factors adapted to use 132kV/HV"]
["x4 = 2012. Loss adjustment factors between end user meter reading and each network level, scaled by network use"]
["Calculation =x1*x2*x3*x4"]
[]
[null,"GSPs","132kV","132kV/EHV","EHV","EHV/HV","132kV/HV","HV","HV/LV","LV circuits"]
["LV HH Metered",{"$f":"Loads!$F$307*Input!$E$14*B$49*LAFs!B$250","v":0},{"$f":"Loads!$F$307*Input!$E$14*C$49*LAFs!C$250","v":0},{"$f":"Loads!$F$307*Input!$E$14*D$49*LAFs!D$250","v":0},{"$f":"Loads!$F$307*Input!$E$14*E$49*LAFs!E$250","v":0},{"$f":"Loads!$F$307*Input!$E$14*F$49*LAFs!F$250","v":0},{"$f":"Loads!$F$307*Input!$E$14*G$49*LAFs!G$250","v":0},{"$f":"Loads!$F$307*Input!$E$14*H$49*LAFs!H$250","v":194532.80235344567},{"$f":"Loads!$F$307*Input!$E$14*I$49*LAFs!I$250","v":966185.75479066244},{"$f":"Loads!$F$307*Input!$E$14*J$49*LAFs!J$250","v":942860.93619775889}]
["LV Sub HH Metered",{"$f":"Loads!$F$308*Input!$E$14*B$50*LAFs!B$251","v":0},{"$f":"Loads!$F$308*Input!$E$14*C$50*LAFs!C$251","v":0},{"$f":"Loads!$F$308*Input!$E$14*D$50*LAFs!D$251","v":0},{"$f":"Loads!$F$308*Input!$E$14*E$50*LAFs!E$251","v":0},{"$f":"Loads!$F$308*Input!$E$14*F$50*LAFs!F$251","v":0},{"$f":"Loads!$F$308*Input!$E$14*G$50*LAFs!G$251","v":0},{"$f":"Loads!$F$308*Input!$E$14*H$50*LAFs!H$251","v":16258.285440613026},{"$f":"Loads!$F$308*Input!$E$14*I$50*LAFs!I$251","v":16150},{"$f":"Loads!$F$308*Input!$E$14*J$50*LAFs!J$251","v":0}]
["HV HH Metered",{"$f":"Loads!$F$309*Input!$E$14*B$51*LAFs!B$252","v":0},{"$f":"Loads!$F$309*Input!$E$14*C$51*LAFs!C$252","v":0},{"$f":"Loads!$F$309*Input!$E$14*D$51*LAFs!D$252","v":0},{"$f":"Loads!$F$309*Input!$E$14*E$51*LAFs!E$252","v":567492.24187383463},{"$f":"Loads!$F$309*Input!$E$14*F$51*LAFs!F$252","v":2779441.0677949251},{"$f":"Loads!$F$309*Input!$E$14*G$51*LAFs!G$252","v":0},{"$f":"Loads!$F$309*Input!$E$14*H$51*LAFs!H$252","v":2734181.9699476897},{"$f":"Loads!$F$309*Input!$E$14*I$51*LAFs!I$252","v":0},{"$f":"Loads!$F$309*Input!$E$14*J$51*LAFs!J$252","v":0}]
["HV Sub HH Metered",{"$f":"Loads!$F$310*Input!$E$14*B$52*LAFs!B$253","v":0},{"$f":"Loads!$F$310*Input!$E$14*C$52*LAFs!C$253","v":0},{"$f":"Loads!$F$310*Input!$E$14*D$52*LAFs!D$253","v":0},{"$f":"Loads!$F$310*Input!$E$14*E$52*LAFs!E$253","v":0},{"$f":"Loads!$F$310*Input!$E$14*F$52*LAFs!F$253","v":0},{"$f":"Loads!$F$310*Input!$E$14*G$52*LAFs!G$253","v":0},{"$f":"Loads!$F$310*Input!$E$14*H$52*LAFs!H$253","v":0},{"$f":"Loads!$F$310*Input!$E$14*I$52*LAFs!I$253","v":0},{"$f":"Loads!$F$310*Input!$E$14*J$52*LAFs!J$253","v":0}]
[]
["2604. Unit-based contributions to chargeable aggregate maximum load (kW)"]
["Data sources:"]
["x1 = 2407. All units (MWh)"]
["x2 = 1041. Load factor for each type of demand user (in Load profile data for demand users)"]
["x3 = 2602. Standing charges factors adapted to use 132kV/HV"]
["x4 = 2012. Loss adjustment factors between end user meter reading and each network level, scaled by network use"]
["x5 = 1010. Days in the charging year (in Financial and general assumptions)"]
["Calculation =x1/x2*x3*x4/(24*x5)*1000"]
[]
[null,"GSPs","132kV","132kV/EHV","EHV","EHV/HV","132kV/HV","HV","HV/LV","LV circuits"]
["Domestic Unrestricted",{"$f":"Multi!$B$115/Input!$C117*B40*LAFs!B$241/(24*Input!$F$14)*1000","v":0},{"$f":"Multi!$B$115/Input!$C117*C40*LAFs!C$241/(24*Input!$F$14)*1000","v":0},{"$f":"Multi!$B$115/Input!$C117*D40*LAFs!D$241/(24*Input!$F$14)*1000","v":0},{"$f":"Multi!$B$115/Input!$C117*E40*LAFs!E$241/(24*Input!$F$14)*1000","v":0},{"$f":"Multi!$B$115/Input!$C117*F40*LAFs!F$241/(24*Input!$F$14)*1000","v":0},{"$f":"Multi!$B$115/Input!$C117*G40*LAFs!G$241/(24*Input!$F$14)*1000","v":0},{"$f":"Multi!$B$115/Input!$C117*H40*LAFs!H$241/(24*Input!$F$14)*1000","v":0},{"$f":"Multi!$B$115/Input!$C117*I40*LAFs!I$241/(24*Input!$F$14)*1000","v":0},{"$f":"Multi!$B$115/Input!$C117*J40*LAFs!J$241/(24*Input!$F$14)*1000","v":1919964.2929098322}]
["Domestic Two Rate",{"$f":"Multi!$B$116/Input!$C118*B41*LAFs!B$242/(24*Input!$F$14)*1000","v":0},{"$f":"Multi!$B$116/Input!$C118*C41*LAFs!C$242/(24*Input!$F$14)*1000","v":0},{"$f":"Multi!$B$116/Input!$C118*D41*LAFs!D$242/(24*Input!$F$14)*1000","v":0},{"$f":"Multi!$B$116/Input!$C118*E41*LAFs!E$242/(24*Input!$F$14)*1000","v":0},{"$f":"Multi!$B$116/Input!$C118*F41*LAFs!F$242/(24*Input!$F$14)*1000","v":0},{"$f":"Multi!$B$116/Input!$C118*G41*LAFs!G$242/(24*Input!$F$14)*1000","v":0},{"$f":"Multi!$B$116/Input!$C118*H41*LAFs!H$242/(24*Input!$F$14)*1000","v":0},{"$f":"Multi!$B$116/Input!$C118*I41*LAFs!I$242/(24*Input!$F$14)*1000","v":0},{"$f":"Multi!$B$116/Input!$C118*J41*LAFs!J$242/(24*Input!$F$14)*1000","v":773226.42525350337}]
["Domestic Off Peak (related MPAN)",{"$f":"Multi!$B$117/Input!$C119*B42*LAFs!B$243/(24*Input!$F$14)*1000","v":0},{"$f":"Multi!$B$117/Input!$C119*C42*LAFs!C$243/(24*Input!$F$14)*1000","v":0},{"$f":"Multi!$B$117/Input!$C119*D42*LAFs!D$243/(24*Input!$F$14)*1000","v":0},{"$f":"Multi!$B$117/Input!$C119*E42*LAFs!E$243/(24*Input!$F$14)*1000","v":0},{"$f":"Multi!$B$117/Input!$C119*F42*LAFs!F$243/(24*Input!$F$14)*1000","v":0},{"$f":"Multi!$B$117/Input!$C119*G42*LAFs!G$243/(24*Input!$F$14)*1000","v":0},{"$f":"Multi!$B$117/Input!$C119*H42*LAFs!H$243/(24*Input!$F$14)*1000","v":0},{"$f":"Multi!$B$117/Input!$C119*I42*LAFs!I$243/(24*Input!$F$14)*1000","v":0},{"$f":"Multi!$B$117/Input!$C119*J42*LAFs!J$243/(24*Input!$F$14)*1000","v":26573.120408750925}]
["Small Non Domestic Unrestricted",{"$f":"Multi!$B$118/Input!$C120*B43*LAFs!B$244/(24*Input!$F$14)*1000","v":0},{"$f":"Multi!$B$118/Input!$C120*C43*LAFs!C$244/(24*Input!$F$14)*1000","v":0},{"$f":"Multi!$B$118/Input!$C120*D43*LAFs!D$244/(24*Input!$F$14)*1000","v":0},{"$f":"Multi!$B$118/Input!$C120*E43*LAFs!E$244/(24*Input!$F$14)*1000","v":0},{"$f":"Multi!$B$118/Input!$C120*F43*LAFs!F$244/(24*Input!$F$14)*1000","v":0},{"$f":"Multi!$B$118/Input!$C120*G43*LAFs!G$244/(24*Input!$F$14)*1000","v":0},{"$f":"Multi!$B$118/Input!$C120*H43*LAFs!H$244/(24*Input!$F$14)*1000","v":0},{"$f":"Multi!$B$118/Input!$C120*I43*LAFs!I$244/(24*Input!$F$14)*1000","v":0},{"$f":"Multi!$B$118/Input!$C120*J43*LAFs!J$244/(24*Input!$F$14)*1000","v":519988.84986713156}]
["Small Non Domestic Two Rate",{"$f":"Multi!$B$119/Input!$C121*B44*LAFs!B$245/(24*Input!$F$14)*1000","v":0},{"$f":"Multi!$B$119/Input!$C121*C44*LAFs!C$245/(24*Input!$F$14)*1000","v":0},{"$f":"Multi!$B$119/Input!$C121*D44*LAFs!D$245/(24*Input!$F$14)*1000","v":0},{"$f":"Multi!$B$119/Input!$C121*E44*LAFs!E$245/(24*Input!$F$14)*1000","v":0},{"$f":"Multi!$B$119/Input!$C121*F44*LAFs!F$245/(24*Input!$F$14)*1000","v":0},{"$f":"Multi!$B$119/Input!$C121*G44*LAFs!G$245/(24*Input!$F$14)*1000","v":0},{"$f":"Multi!$B$119/Input!$C121*H44*LAFs!H$245/(24*Input!$F$14)*1000","v":0},{"$f":"Multi!$B$119/Input!$C121*I44*LAFs!I$245/(24*Input!$F$14)*1000","v":0},{"$f":"Multi!$B$119/Input!$C121*J44*LAFs!J$245/(24*Input!$F$14)*1000","v":175277.48277334648}]
["Small Non Domestic Off Peak (related MPAN)",{"$f":"Multi!$B$120/Input!$C122*B45*LAFs!B$246/(24*Input!$F$14)*1000","v":0},{"$f":"Multi!$B$120/Input!$C122*C45*LAFs!C$246/(24*Input!$F$14)*1000","v":0},{"$f":"Multi!$B$120/Input!$C122*D45*LAFs!D$246/(24*Input!$F$14)*1000","v":0},{"$f":"Multi!$B$120/Input!$C122*E45*LAFs!E$246/(24*Input!$F$14)*1000","v":0},{"$f":"Multi!$B$120/Input!$C122*F45*LAFs!F$246/(24*Input!$F$14)*1000","v":0},{"$f":"Multi!$B$120/Input!$C122*G45*LAFs!G$246/(24*Input!$F$14)*1000","v":0},{"$f":"Multi!$B$120/Input!$C122*H45*LAFs!H$246/(24*Input!$F$14)*1000","v":0},{"$f":"Multi!$B$120/Input!$C122*I45*LAFs!I$246/(24*Input!$F$14)*1000","v":0},{"$f":"Multi!$B$120/Input!$C122*J45*LAFs!J$246/(24*Input!$F$14)*1000","v":3756.5880363630713}]
["LV Medium Non-Domestic",{"$f":"Multi!$B$121/Input!$C123*B46*LAFs!B$247/(24*Input!$F$14)*1000","v":0},{"$f":"Multi!$B$121/Input!$C123*C46*LAFs!C$247/(24*Input!$F$14)*1000","v":0},{"$f":"Multi!$B$121/Input!$C123*D46*LAFs!D$247/(24*Input!$F$14)*1000","v":0},{"$f":"Multi!$B$121/Input!$C123*E46*LAFs!E$247/(24*Input!$F$14)*1000","v":0},{"$f":"Multi!$B$121/Input!$C123*F46*LAFs!F$247/(24*Input!$F$14)*1000","v":0},{"$f":"Multi!$B$121/Input!$C123*G46*LAFs!G$247/(24*Input!$F$14)*1000","v":0},{"$f":"Multi!$B$121/Input!$C123*H46*LAFs!H$247/(24*Input!$F$14)*1000","v":0},{"$f":"Multi!$B$121/Input!$C123*I46*LAFs!I$247/(24*Input!$F$14)*1000","v":0},{"$f":"Multi!$B$121/Input!$C123*J46*LAFs!J$247/(24*Input!$F$14)*1000","v":362566.54154161213}]
["LV Sub Medium Non-Domestic",{"$f":"Multi!$B$122/Input!$C124*B47*LAFs!B$248/(24*Input!$F$14)*1000","v":0},{"$f":"Multi!$B$122/Input!$C124*C47*LAFs!C$248/(24*Input!$F$14)*1000","v":0},{"$f":"Multi!$B$122/Input!$C124*D47*LAFs!D$248/(24*Input!$F$14)*1000","v":0},{"$f":"Multi!$B$122/Input!$C124*E47*LAFs!E$248/(24*Input!$F$14)*1000","v":0},{"$f":"Multi!$B$122/Input!$C124*F47*LAFs!F$248/(24*Input!$F$14)*1000","v":0},{"$f":"Multi!$B$122/Input!$C124*G47*LAFs!G$248/(24*Input!$F$14)*1000","v":0},{"$f":"Multi!$B$122/Input!$C124*H47*LAFs!H$248/(24*Input!$F$14)*1000","v":0},{"$f":"Multi!$B$122/Input!$C124*I47*LAFs!I$248/(24*Input!$F$14)*1000","v":26.346440632489465},{"$f":"Multi!$B$122/Input!$C124*J47*LAFs!J$248/(24*Input!$F$14)*1000","v":0}]
["HV Medium Non-Domestic",{"$f":"Multi!$B$123/Input!$C125*B48*LAFs!B$249/(24*Input!$F$14)*1000","v":0},{"$f":"Multi!$B$123/Input!$C125*C48*LAFs!C$249/(24*Input!$F$14)*1000","v":0},{"$f":"Multi!$B$123/Input!$C125*D48*LAFs!D$249/(24*Input!$F$14)*1000","v":0},{"$f":"Multi!$B$123/Input!$C125*E48*LAFs!E$249/(24*Input!$F$14)*1000","v":2560.5457008474064},{"$f":"Multi!$B$123/Input!$C125*F48*LAFs!F$249/(24*Input!$F$14)*1000","v":12540.939508532087},{"$f":"Multi!$B$123/Input!$C125*G48*LAFs!G$249/(24*Input!$F$14)*1000","v":0},{"$f":"Multi!$B$123/Input!$C125*H48*LAFs!H$249/(24*Input!$F$14)*1000","v":12336.728807722655},{"$f":"Multi!$B$123/Input!$C125*I48*LAFs!I$249/(24*Input!$F$14)*1000","v":0},{"$f":"Multi!$B$123/Input!$C125*J48*LAFs!J$249/(24*Input!$F$14)*1000","v":0}]
["LV HH Metered",{"$f":"Multi!$B$124/Input!$C126*B49*LAFs!B$250/(24*Input!$F$14)*1000","v":0},{"$f":"Multi!$B$124/Input!$C126*C49*LAFs!C$250/(24*Input!$F$14)*1000","v":0},{"$f":"Multi!$B$124/Input!$C126*D49*LAFs!D$250/(24*Input!$F$14)*1000","v":0},{"$f":"Multi!$B$124/Input!$C126*E49*LAFs!E$250/(24*Input!$F$14)*1000","v":0},{"$f":"Multi!$B$124/Input!$C126*F49*LAFs!F$250/(24*Input!$F$14)*1000","v":0},{"$f":"Multi!$B$124/Input!$C126*G49*LAFs!G$250/(24*Input!$F$14)*1000","v":0},{"$f":"Multi!$B$124/Input!$C126*H49*LAFs!H$250/(24*Input!$F$14)*1000","v":83569.26025852398},{"$f":"Multi!$B$124/Input!$C126*I49*LAFs!I$250/(24*Input!$F$14)*1000","v":415063.30975213618},{"$f":"Multi!$B$124/Input!$C126*J49*LAFs!J$250/(24*Input!$F$14)*1000","v":405043.21128086833}]
["LV Sub HH Metered",{"$f":"Multi!$B$125/Input!$C127*B50*LAFs!B$251/(24*Input!$F$14)*1000","v":0},{"$f":"Multi!$B$125/Input!$C127*C50*LAFs!C$251/(24*Input!$F$14)*1000","v":0},{"$f":"Multi!$B$125/Input!$C127*D50*LAFs!D$251/(24*Input!$F$14)*1000","v":0},{"$f":"Multi!$B$125/Input!$C127*E50*LAFs!E$251/(24*Input!$F$14)*1000","v":0},{"$f":"Multi!$B$125/Input!$C127*F50*LAFs!F$251/(24*Input!$F$14)*1000","v":0},{"$f":"Multi!$B$125/Input!$C127*G50*LAFs!G$251/(24*Input!$F$14)*1000","v":0},{"$f":"Multi!$B$125/Input!$C127*H50*LAFs!H$251/(24*Input!$F$14)*1000","v":4860.1872228721604},{"$f":"Multi!$B$125/Input!$C127*I50*LAFs!I$251/(24*Input!$F$14)*1000","v":4827.8168036903289},{"$f":"Multi!$B$125/Input!$C127*J50*LAFs!J$251/(24*Input!$F$14)*1000","v":0}]
["HV HH Metered",{"$f":"Multi!$B$126/Input!$C128*B51*LAFs!B$252/(24*Input!$F$14)*1000","v":0},{"$f":"Multi!$B$126/Input!$C128*C51*LAFs!C$252/(24*Input!$F$14)*1000","v":0},{"$f":"Multi!$B$126/Input!$C128*D51*LAFs!D$252/(24*Input!$F$14)*1000","v":0},{"$f":"Multi!$B$126/Input!$C128*E51*LAFs!E$252/(24*Input!$F$14)*1000","v":282523.0529115519},{"$f":"Multi!$B$126/Input!$C128*F51*LAFs!F$252/(24*Input!$F$14)*1000","v":1383730.2396739107},{"$f":"Multi!$B$126/Input!$C128*G51*LAFs!G$252/(24*Input!$F$14)*1000","v":0},{"$f":"Multi!$B$126/Input!$C128*H51*LAFs!H$252/(24*Input!$F$14)*1000","v":1361198.2338554661},{"$f":"Multi!$B$126/Input!$C128*I51*LAFs!I$252/(24*Input!$F$14)*1000","v":0},{"$f":"Multi!$B$126/Input!$C128*J51*LAFs!J$252/(24*Input!$F$14)*1000","v":0}]
["HV Sub HH Metered",{"$f":"Multi!$B$127/Input!$C129*B52*LAFs!B$253/(24*Input!$F$14)*1000","v":0},{"$f":"Multi!$B$127/Input!$C129*C52*LAFs!C$253/(24*Input!$F$14)*1000","v":0},{"$f":"Multi!$B$127/Input!$C129*D52*LAFs!D$253/(24*Input!$F$14)*1000","v":0},{"$f":"Multi!$B$127/Input!$C129*E52*LAFs!E$253/(24*Input!$F$14)*1000","v":0},{"$f":"Multi!$B$127/Input!$C129*F52*LAFs!F$253/(24*Input!$F$14)*1000","v":0},{"$f":"Multi!$B$127/Input!$C129*G52*LAFs!G$253/(24*Input!$F$14)*1000","v":0},{"$f":"Multi!$B$127/Input!$C129*H52*LAFs!H$253/(24*Input!$F$14)*1000","v":0},{"$f":"Multi!$B$127/Input!$C129*I52*LAFs!I$253/(24*Input!$F$14)*1000","v":0},{"$f":"Multi!$B$127/Input!$C129*J52*LAFs!J$253/(24*Input!$F$14)*1000","v":0}]
["NHH UMS category A",{"$f":"Multi!$B$128/Input!$C130*B53*LAFs!B$254/(24*Input!$F$14)*1000","v":0},{"$f":"Multi!$B$128/Input!$C130*C53*LAFs!C$254/(24*Input!$F$14)*1000","v":0},{"$f":"Multi!$B$128/Input!$C130*D53*LAFs!D$254/(24*Input!$F$14)*1000","v":0},{"$f":"Multi!$B$128/Input!$C130*E53*LAFs!E$254/(24*Input!$F$14)*1000","v":0},{"$f":"Multi!$B$128/Input!$C130*F53*LAFs!F$254/(24*Input!$F$14)*1000","v":0},{"$f":"Multi!$B$128/Input!$C130*G53*LAFs!G$254/(24*Input!$F$14)*1000","v":0},{"$f":"Multi!$B$128/Input!$C130*H53*LAFs!H$254/(24*Input!$F$14)*1000","v":0},{"$f":"Multi!$B$128/Input!$C130*I53*LAFs!I$254/(24*Input!$F$14)*1000","v":0},{"$f":"Multi!$B$128/Input!$C130*J53*LAFs!J$254/(24*Input!$F$14)*1000","v":0}]
["NHH UMS category B",{"$f":"Multi!$B$129/Input!$C131*B54*LAFs!B$255/(24*Input!$F$14)*1000","v":0},{"$f":"Multi!$B$129/Input!$C131*C54*LAFs!C$255/(24*Input!$F$14)*1000","v":0},{"$f":"Multi!$B$129/Input!$C131*D54*LAFs!D$255/(24*Input!$F$14)*1000","v":0},{"$f":"Multi!$B$129/Input!$C131*E54*LAFs!E$255/(24*Input!$F$14)*1000","v":0},{"$f":"Multi!$B$129/Input!$C131*F54*LAFs!F$255/(24*Input!$F$14)*1000","v":0},{"$f":"Multi!$B$129/Input!$C131*G54*LAFs!G$255/(24*Input!$F$14)*1000","v":0},{"$f":"Multi!$B$129/Input!$C131*H54*LAFs!H$255/(24*Input!$F$14)*1000","v":0},{"$f":"Multi!$B$129/Input!$C131*I54*LAFs!I$255/(24*Input!$F$14)*1000","v":0},{"$f":"Multi!$B$129/Input!$C131*J54*LAFs!J$255/(24*Input!$F$14)*1000","v":0}]
["NHH UMS category C",{"$f":"Multi!$B$130/Input!$C132*B55*LAFs!B$256/(24*Input!$F$14)*1000","v":0},{"$f":"Multi!$B$130/Input!$C132*C55*LAFs!C$256/(24*Input!$F$14)*1000","v":0},{"$f":"Multi!$B$130/Input!$C132*D55*LAFs!D$256/(24*Input!$F$14)*1000","v":0},{"$f":"Multi!$B$130/Input!$C132*E55*LAFs!E$256/(24*Input!$F$14)*1000","v":0},{"$f":"Multi!$B$130/Input!$C132*F55*LAFs!F$256/(24*Input!$F$14)*1000","v":0},{"$f":"Multi!$B$130/Input!$C132*G55*LAFs!G$256/(24*Input!$F$14)*1000","v":0},{"$f":"Multi!$B$130/Input!$C132*H55*LAFs!H$256/(24*Input!$F$14)*1000","v":0},{"$f":"Multi!$B$130/Input!$C132*I55*LAFs!I$256/(24*Input!$F$14)*1000","v":0},{"$f":"Multi!$B$130/Input!$C132*J55*LAFs!J$256/(24*Input!$F$14)*1000","v":0}]
["NHH UMS category D",{"$f":"Multi!$B$131/Input!$C133*B56*LAFs!B$257/(24*Input!$F$14)*1000","v":0},{"$f":"Multi!$B$131/Input!$C133*C56*LAFs!C$257/(24*Input!$F$14)*1000","v":0},{"$f":"Multi!$B$131/Input!$C133*D56*LAFs!D$257/(24*Input!$F$14)*1000","v":0},{"$f":"Multi!$B$131/Input!$C133*E56*LAFs!E$257/(24*Input!$F$14)*1000","v":0},{"$f":"Multi!$B$131/Input!$C133*F56*LAFs!F$257/(24*Input!$F$14)*1000","v":0},{"$f":"Multi!$B$131/Input!$C133*G56*LAFs!G$257/(24*Input!$F$14)*1000","v":0},{"$f":"Multi!$B$131/Input!$C133*H56*LAFs!H$257/(24*Input!$F$14)*1000","v":0},{"$f":"Multi!$B$131/Input!$C133*I56*LAFs!I$257/(24*Input!$F$14)*1000","v":0},{"$f":"Multi!$B$131/Input!$C133*J56*LAFs!J$257/(24*Input!$F$14)*1000","v":0}]
["LV UMS (Pseudo HH Metered)",{"$f":"Multi!$B$132/Input!$C134*B57*LAFs!B$258/(24*Input!$F$14)*1000","v":0},{"$f":"Multi!$B$132/Input!$C134*C57*LAFs!C$258/(24*Input!$F$14)*1000","v":0},{"$f":"Multi!$B$132/Input!$C134*D57*LAFs!D$258/(24*Input!$F$14)*1000","v":0},{"$f":"Multi!$B$132/Input!$C134*E57*LAFs!E$258/(24*Input!$F$14)*1000","v":0},{"$f":"Multi!$B$132/Input!$C134*F57*LAFs!F$258/(24*Input!$F$14)*1000","v":0},{"$f":"Multi!$B$132/Input!$C134*G57*LAFs!G$258/(24*Input!$F$14)*1000","v":0},{"$f":"Multi!$B$132/Input!$C134*H57*LAFs!H$258/(24*Input!$F$14)*1000","v":0},{"$f":"Multi!$B$132/Input!$C134*I57*LAFs!I$258/(24*Input!$F$14)*1000","v":0},{"$f":"Multi!$B$132/Input!$C134*J57*LAFs!J$258/(24*Input!$F$14)*1000","v":0}]
[]
["2605. Contributions to aggregate maximum load by network level (kW)"]
["Data sources:"]
["x1 = 2603. Capacity-based contributions to chargeable aggregate maximum load by network level (kW)"]
["x2 = 2604. Unit-based contributions to chargeable aggregate maximum load (kW)"]
["Combine tables = x1 or x2"]
[]
[null,"GSPs","132kV","132kV/EHV","EHV","EHV/HV","132kV/HV","HV","HV/LV","LV circuits"]
["Domestic Unrestricted",{"$f":"B$83","v":0},0,0,0,0,0,0,0,1919964.2929098322]
["Domestic Two Rate",{"$f":"B$84","v":0},0,0,0,0,0,0,0,773226.42525350337]
["Small Non Domestic Unrestricted",{"$f":"B$86","v":0},0,0,0,0,0,0,0,519988.84986713156]
["Small Non Domestic Two Rate",{"$f":"B$87","v":0},0,0,0,0,0,0,0,175277.48277334648]
["LV Medium Non-Domestic",{"$f":"B$89","v":0},0,0,0,0,0,0,0,362566.54154161213]
["LV Sub Medium Non-Domestic",{"$f":"B$90","v":0},0,0,0,0,0,0,26.346440632489465,0]
["HV Medium Non-Domestic",{"$f":"B$91","v":0},0,0,2560.5457008474064,12540.939508532087,0,12336.728807722655,0,0]
["LV HH Metered",{"$f":"B$68","v":0},0,0,0,0,0,194532.80235344567,966185.75479066244,942860.93619775889]
["LV Sub HH Metered",{"$f":"B$69","v":0},0,0,0,0,0,16258.285440613026,16150,0]
["HV HH Metered",{"$f":"B$70","v":0},0,0,567492.24187383463,2779441.0677949251,0,2734181.9699476897,0,0]
["HV Sub HH Metered",{"$f":"B$71","v":0},0,0,0,0,0,0,0,0]
["NHH UMS category A",{"$f":"B$96","v":0},0,0,0,0,0,0,0,0]
["NHH UMS category B",{"$f":"B$97","v":0},0,0,0,0,0,0,0,0]
["NHH UMS category C",{"$f":"B$98","v":0},0,0,0,0,0,0,0,0]
["NHH UMS category D",{"$f":"B$99","v":0},0,0,0,0,0,0,0,0]
["LV UMS (Pseudo HH Metered)",{"$f":"B$100","v":0},0,0,0,0,0,0,0,0]
[]
["2606. Forecast chargeable aggregate maximum load (kW)"]
["Data sources:"]
["x1 = 2605. Contributions to aggregate maximum load by network level (kW)"]
["Cell summation =SUM(x1)"]
[]
[null,"GSPs","132kV","132kV/EHV","EHV","EHV/HV","132kV/HV","HV","HV/LV","LV circuits"]
["Forecast chargeable aggregate maximum load (kW)",{"$f":"SUM(B$109:B$124)","v":0},0,0,570052.78757468204,2791982.0073034572,0,2957309.7865494709,982362.10123129492,4693884.5285431845]
[]
["2607. Forecast simultaneous load subject to standing charge factors (kW)"]
["Data sources:"]
["x1 = 2505. Contributions of users on each tariff to system simultaneous maximum load by network level (kW)"]
["x2 = 2602. Standing charges factors adapted to use 132kV/HV"]
["Calculation =x1*x2"]
[]
[null,"GSPs","132kV","132kV/EHV","EHV","EHV/HV","132kV/HV","HV","HV/LV","LV circuits"]
["Domestic Unrestricted",{"$f":"SMD!B$106*B40","v":0},{"$f":"SMD!C$106*C40","v":0},{"$f":"SMD!D$106*D40","v":0},{"$f":"SMD!E$106*E40","v":0},{"$f":"SMD!F$106*F40","v":0},{"$f":"SMD!G$106*G40","v":0},{"$f":"SMD!H$106*H40","v":0},{"$f":"SMD!I$106*I40","v":0},{"$f":"SMD!J$106*J40","v":1761089.3120848485}]
["Domestic Two Rate",{"$f":"SMD!B$107*B41","v":0},{"$f":"SMD!C$107*C41","v":0},{"$f":"SMD!D$107*D41","v":0},{"$f":"SMD!E$107*E41","v":0},{"$f":"SMD!F$107*F41","v":0},{"$f":"SMD!G$107*G41","v":0},{"$f":"SMD!H$107*H41","v":0},{"$f":"SMD!I$107*I41","v":0},{"$f":"SMD!J$107*J41","v":297062.06654720457}]
["Domestic Off Peak (related MPAN)",{"$f":"SMD!B$108*B42","v":0},{"$f":"SMD!C$108*C42","v":0},{"$f":"SMD!D$108*D42","v":0},{"$f":"SMD!E$108*E42","v":0},{"$f":"SMD!F$108*F42","v":0},{"$f":"SMD!G$108*G42","v":0},{"$f":"SMD!H$108*H42","v":0},{"$f":"SMD!I$108*I42","v":0},{"$f":"SMD!J$108*J42","v":1202.4420955725191}]
["Small Non Domestic Unrestricted",{"$f":"SMD!B$109*B43","v":0},{"$f":"SMD!C$109*C43","v":0},{"$f":"SMD!D$109*D43","v":0},{"$f":"SMD!E$109*E43","v":0},{"$f":"SMD!F$109*F43","v":0},{"$f":"SMD!G$109*G43","v":0},{"$f":"SMD!H$109*H43","v":0},{"$f":"SMD!I$109*I43","v":0},{"$f":"SMD!J$109*J43","v":322435.04423541139}]
["Small Non Domestic Two Rate",{"$f":"SMD!B$110*B44","v":0},{"$f":"SMD!C$110*C44","v":0},{"$f":"SMD!D$110*D44","v":0},{"$f":"SMD!E$110*E44","v":0},{"$f":"SMD!F$110*F44","v":0},{"$f":"SMD!G$110*G44","v":0},{"$f":"SMD!H$110*H44","v":0},{"$f":"SMD!I$110*I44","v":0},{"$f":"SMD!J$110*J44","v":111728.13661025658}]
["Small Non Domestic Off Peak (related MPAN)",{"$f":"SMD!B$111*B45","v":0},{"$f":"SMD!C$111*C45","v":0},{"$f":"SMD!D$111*D45","v":0},{"$f":"SMD!E$111*E45","v":0},{"$f":"SMD!F$111*F45","v":0},{"$f":"SMD!G$111*G45","v":0},{"$f":"SMD!H$111*H45","v":0},{"$f":"SMD!I$111*I45","v":0},{"$f":"SMD!J$111*J45","v":268.24150108301473}]
["LV Medium Non-Domestic",{"$f":"SMD!B$112*B46","v":0},{"$f":"SMD!C$112*C46","v":0},{"$f":"SMD!D$112*D46","v":0},{"$f":"SMD!E$112*E46","v":0},{"$f":"SMD!F$112*F46","v":0},{"$f":"SMD!G$112*G46","v":0},{"$f":"SMD!H$112*H46","v":0},{"$f":"SMD!I$112*I46","v":0},{"$f":"SMD!J$112*J46","v":290530.53799973719}]
["LV Sub Medium Non-Domestic",{"$f":"SMD!B$113*B47","v":0},{"$f":"SMD!C$113*C47","v":0},{"$f":"SMD!D$113*D47","v":0},{"$f":"SMD!E$113*E47","v":0},{"$f":"SMD!F$113*F47","v":0},{"$f":"SMD!G$113*G47","v":0},{"$f":"SMD!H$113*H47","v":0},{"$f":"SMD!I$113*I47","v":21.147921458345923},{"$f":"SMD!J$113*J47","v":0}]
["HV Medium Non-Domestic",{"$f":"SMD!B$114*B48","v":0},{"$f":"SMD!C$114*C48","v":0},{"$f":"SMD!D$114*D48","v":0},{"$f":"SMD!E$114*E48","v":1613.7809359031178},{"$f":"SMD!F$114*F48","v":7903.9124708789514},{"$f":"SMD!G$114*G48","v":0},{"$f":"SMD!H$114*H48","v":7775.2089153186616},{"$f":"SMD!I$114*I48","v":0},{"$f":"SMD!J$114*J48","v":0}]
["LV HH Metered",{"$f":"SMD!B$115*B49","v":0},{"$f":"SMD!C$115*C49","v":0},{"$f":"SMD!D$115*D49","v":0},{"$f":"SMD!E$115*E49","v":0},{"$f":"SMD!F$115*F49","v":0},{"$f":"SMD!G$115*G49","v":0},{"$f":"SMD!H$115*H49","v":64128.451893346784},{"$f":"SMD!I$115*I49","v":318506.67829045688},{"$f":"SMD!J$115*J49","v":310817.56627973088}]
["LV Sub HH Metered",{"$f":"SMD!B$116*B50","v":0},{"$f":"SMD!C$116*C50","v":0},{"$f":"SMD!D$116*D50","v":0},{"$f":"SMD!E$116*E50","v":0},{"$f":"SMD!F$116*F50","v":0},{"$f":"SMD!G$116*G50","v":0},{"$f":"SMD!H$116*H50","v":3671.4240324901202},{"$f":"SMD!I$116*I50","v":3646.9711607228219},{"$f":"SMD!J$116*J50","v":0}]
["HV HH Metered",{"$f":"SMD!B$117*B51","v":0},{"$f":"SMD!C$117*C51","v":0},{"$f":"SMD!D$117*D51","v":0},{"$f":"SMD!E$117*E51","v":222436.11436842961},{"$f":"SMD!F$117*F51","v":1089438.8074714711},{"$f":"SMD!G$117*G51","v":0},{"$f":"SMD!H$117*H51","v":1071698.9035183918},{"$f":"SMD!I$117*I51","v":0},{"$f":"SMD!J$117*J51","v":0}]
["HV Sub HH Metered",{"$f":"SMD!B$118*B52","v":0},{"$f":"SMD!C$118*C52","v":0},{"$f":"SMD!D$118*D52","v":0},{"$f":"SMD!E$118*E52","v":0},{"$f":"SMD!F$118*F52","v":0},{"$f":"SMD!G$118*G52","v":0},{"$f":"SMD!H$118*H52","v":0},{"$f":"SMD!I$118*I52","v":0},{"$f":"SMD!J$118*J52","v":0}]
["NHH UMS category A",{"$f":"SMD!B$119*B53","v":0},{"$f":"SMD!C$119*C53","v":0},{"$f":"SMD!D$119*D53","v":0},{"$f":"SMD!E$119*E53","v":0},{"$f":"SMD!F$119*F53","v":0},{"$f":"SMD!G$119*G53","v":0},{"$f":"SMD!H$119*H53","v":0},{"$f":"SMD!I$119*I53","v":0},{"$f":"SMD!J$119*J53","v":0}]
["NHH UMS category B",{"$f":"SMD!B$120*B54","v":0},{"$f":"SMD!C$120*C54","v":0},{"$f":"SMD!D$120*D54","v":0},{"$f":"SMD!E$120*E54","v":0},{"$f":"SMD!F$120*F54","v":0},{"$f":"SMD!G$120*G54","v":0},{"$f":"SMD!H$120*H54","v":0},{"$f":"SMD!I$120*I54","v":0},{"$f":"SMD!J$120*J54","v":0}]
["NHH UMS category C",{"$f":"SMD!B$121*B55","v":0},{"$f":"SMD!C$121*C55","v":0},{"$f":"SMD!D$121*D55","v":0},{"$f":"SMD!E$121*E55","v":0},{"$f":"SMD!F$121*F55","v":0},{"$f":"SMD!G$121*G55","v":0},{"$f":"SMD!H$121*H55","v":0},{"$f":"SMD!I$121*I55","v":0},{"$f":"SMD!J$121*J55","v":0}]
["NHH UMS category D",{"$f":"SMD!B$122*B56","v":0},{"$f":"SMD!C$122*C56","v":0},{"$f":"SMD!D$122*D56","v":0},{"$f":"SMD!E$122*E56","v":0},{"$f":"SMD!F$122*F56","v":0},{"$f":"SMD!G$122*G56","v":0},{"$f":"SMD!H$122*H56","v":0},{"$f":"SMD!I$122*I56","v":0},{"$f":"SMD!J$122*J56","v":0}]
["LV UMS (Pseudo HH Metered)",{"$f":"SMD!B$123*B57","v":0},{"$f":"SMD!C$123*C57","v":0},{"$f":"SMD!D$123*D57","v":0},{"$f":"SMD!E$123*E57","v":0},{"$f":"SMD!F$123*F57","v":0},{"$f":"SMD!G$123*G57","v":0},{"$f":"SMD!H$123*H57","v":0},{"$f":"SMD!I$123*I57","v":0},{"$f":"SMD!J$123*J57","v":0}]
[]
["2608. Forecast simultaneous load replaced by standing charge (kW)"]
["Data sources:"]
["x1 = 2607. Forecast simultaneous load subject to standing charge factors (kW)"]
["Cell summation =SUM(x1)"]
[]
[null,"GSPs","132kV","132kV/EHV","EHV","EHV/HV","132kV/HV","HV","HV/LV","LV circuits"]
["Forecast simultaneous load replaced by standing charge (kW)",{"$f":"SUM(B$141:B$158)","v":0},0,0,224049.89530433272,1097342.7199423502,0,1147273.9883595472,322174.79737263807,3095133.3473538444]
[]
["2609. Calculated LV diversity allowance"]
["Data sources:"]
["x1 = 2606. Forecast chargeable aggregate maximum load (kW)"]
["x2 = 2608. Forecast simultaneous load replaced by standing charge (kW)"]
["Calculation =x1/x2-1"]
[]
[null,"LV circuits"]
["Calculated LV diversity allowance",{"$f":"$J132/$J166-1","v":0.51653709283839988}]
[]
["2610. Network level mapping for diversity allowances"]
[]
[null,"GSPs","132kV","132kV/EHV","EHV","EHV/HV","132kV/HV","HV","HV/LV","LV circuits"]
["GSPs",1,0,0,0,0,0,0,0,0]
["132kV",0,1,0,0,0,0,0,0,0]
["132kV/EHV",0,0,1,0,0,1,0,0,0]
["EHV",0,0,0,1,0,0,0,0,0]
["EHV/HV",0,0,0,0,1,0,0,0,0]
["HV",0,0,0,0,0,0,1,0,0]
["HV/LV",0,0,0,0,0,0,0,1,0]
["LV circuits",0,0,0,0,0,0,0,0,1]
[]
["2611. Diversity allowances including 132kV/HV"]
["Data sources:"]
["x1 = 2104. Diversity allowance between level exit and GSP Group (in Diversity calculations)"]
["x2 = 2610. Network level mapping for diversity allowances"]
["Sum-product calculation =SUMPRODUCT(x1, x2)"]
[]
[null,"Diversity allowances including 132kV/HV"]
["GSPs",{"$f":"SUMPRODUCT(DRM!D$48:D$55,$B$180:$B$187)","v":5.649040831841079E-2}]
["132kV",{"$f":"SUMPRODUCT(DRM!D$48:D$55,$C$180:$C$187)","v":8.3503476129090037E-2}]
["132kV/EHV",{"$f":"SUMPRODUCT(DRM!D$48:D$55,$D$180:$D$187)","v":8.3503476129090037E-2}]
["EHV",{"$f":"SUMPRODUCT(DRM!D$48:D$55,$E$180:$E$187)","v":0.11235890369236912}]
["EHV/HV",{"$f":"SUMPRODUCT(DRM!D$48:D$55,$F$180:$F$187)","v":0.11235890369236912}]
["132kV/HV",{"$f":"SUMPRODUCT(DRM!D$48:D$55,$G$180:$G$187)","v":8.3503476129090037E-2}]
["HV",{"$f":"SUMPRODUCT(DRM!D$48:D$55,$H$180:$H$187)","v":0.49056093094777475}]
["HV/LV",{"$f":"SUMPRODUCT(DRM!D$48:D$55,$I$180:$I$187)","v":0.49056093094777475}]
["LV circuits",{"$f":"SUMPRODUCT(DRM!D$48:D$55,$J$180:$J$187)","v":0}]
[]
["2612. Diversity allowances (including calculated LV value)"]
["Data sources:"]
["x1 = 2609. Calculated LV diversity allowance"]
["x2 = 2611. Diversity allowances including 132kV/HV"]
["Combine tables = x1 or x2"]
[]
[null,"GSPs","132kV","132kV/EHV","EHV","EHV/HV","132kV/HV","HV","HV/LV","LV circuits"]
["Diversity allowances (including calculated LV value)",{"$f":"$B$196","v":5.649040831841079E-2},{"$f":"$B$197","v":8.3503476129090037E-2},{"$f":"$B$198","v":8.3503476129090037E-2},{"$f":"$B$199","v":0.11235890369236912},{"$f":"$B$200","v":0.11235890369236912},{"$f":"$B$201","v":8.3503476129090037E-2},{"$f":"$B$202","v":0.49056093094777475},{"$f":"$B$203","v":0.49056093094777475},{"$f":"$B175","v":0.51653709283839988}]
[]
["2613. Forecast simultaneous maximum load (kW) adjusted for standing charges"]
["Data sources:"]
["x1 = 2506. Forecast system simultaneous maximum load (kW) from forecast units"]
["x2 = 2608. Forecast simultaneous load replaced by standing charge (kW)"]
["x3 = 2606. Forecast chargeable aggregate maximum load (kW)"]
["x4 = 2612. Diversity allowances (including calculated LV value)"]
["Calculation =x1-x2+x3/(1+x4)"]
[]
[null,"GSPs","132kV","132kV/EHV","EHV","EHV/HV","132kV/HV","HV","HV/LV","LV circuits"]
["Forecast simultaneous maximum load (kW) adjusted for standing charges",{"$f":"SMD!B141-B166+B132/(1+B213)","v":4460881.9834487308},{"$f":"SMD!C141-C166+C132/(1+C213)","v":4474703.4300327478},{"$f":"SMD!D141-D166+D132/(1+D213)","v":4470242.1105611296},{"$f":"SMD!E141-E166+E132/(1+E213)","v":4729810.369178134},{"$f":"SMD!F141-F166+F132/(1+F213)","v":5763193.5387957674},{"$f":"SMD!G141-G166+G132/(1+G213)","v":0},{"$f":"SMD!H141-H166+H132/(1+H213)","v":5164439.867504878},{"$f":"SMD!I141-I166+I132/(1+I213)","v":3563461.3454690441},{"$f":"SMD!J141-J166+J132/(1+J213)","v":3145450.5067732674}]

{"sheet":"Otex","index":30,"n_rows":161,"n_cols":13,"rows_kept":161,"cut":false,"hidden":true,"merged":[]}
[{"$f":"\"r6140: Other expenditure\"&\" for \"&Input!B7&\" in \"&Input!C7&\" (\"&Input!D7&\")\"","v":"r6140: Other expenditure for WPD Mid West in April 2017 (0)"}]
[]
["2701. Operating expenditure coded by network level (£/year)"]
["Data sources:"]
["x1 = 1055. Transmission exit charges (£/year)"]
["x2 = Zero for levels other than transmission exit"]
["Combine tables = x1 or x2"]
[]
[null,"Transmission\nexit","Operating\n132kV","Operating\n132kV/EHV","Operating\nEHV","Operating\nEHV/HV","Operating\n132kV/HV","Operating\nHV","Operating\nHV/LV","Operating\nLV circuits","Operating\nLV customer","Operating\nHV customer"]
["Operating expenditure coded by network level (£/year)",{"$f":"Input!$B242","v":14273346.085842669},0,0,0,0,0,0,0,0,0,0]
[]
["2702. Network model assets (£) scaled by load forecast"]
["Data sources:"]
["x1 = 2108. GSP simultaneous maximum load assumed through each network level (MW)"]
["x2 = 2613. Forecast simultaneous maximum load (kW) adjusted for standing charges"]
["x3 = 1020. Gross asset cost by network level (£)"]
["Calculation =IF(x1,x2*x3/x1/1000,0)"]
[]
[null,"Assets\n132kV","Assets\n132kV/EHV","Assets\nEHV","Assets\nEHV/HV","Assets\n132kV/HV","Assets\nHV","Assets\nHV/LV","Assets\nLV circuits"]
["Network model assets (£) scaled by load forecast",{"$f":"IF(DRM!$B$113,AMD!$C224*Input!$B$46/DRM!$B$113/1000,0)","v":696622533.87149346},{"$f":"IF(DRM!$B$114,AMD!$D224*Input!$B$47/DRM!$B$114/1000,0)","v":108638009.0394282},{"$f":"IF(DRM!$B$115,AMD!$E224*Input!$B$48/DRM!$B$115/1000,0)","v":132789276.51721051},{"$f":"IF(DRM!$B$116,AMD!$F224*Input!$B$49/DRM!$B$116/1000,0)","v":282229386.64236152},{"$f":"IF(DRM!$B$117,AMD!$G224*Input!$B$50/DRM!$B$117/1000,0)","v":0},{"$f":"IF(DRM!$B$118,AMD!$H224*Input!$B$51/DRM!$B$118/1000,0)","v":1312216520.5777676},{"$f":"IF(DRM!$B$119,AMD!$I224*Input!$B$52/DRM!$B$119/1000,0)","v":571577918.10987818},{"$f":"IF(DRM!$B$120,AMD!$J224*Input!$B$53/DRM!$B$120/1000,0)","v":719148159.76655519}]
[]
["2703. Annual consumption by tariff for unmetered users (MWh)"]
["Data sources:"]
["x1 = 2407. All units (MWh)"]
["Copy cells = x1"]
[]
[null,"Annual consumption by tariff for unmetered users (MWh)"]
["NHH UMS category A",{"$f":"Multi!B$128","v":61818.727032553725}]
["NHH UMS category B",{"$f":"Multi!B$129","v":32748.233387961882}]
["NHH UMS category C",{"$f":"Multi!B$130","v":746.73974551420247}]
["NHH UMS category D",{"$f":"Multi!B$131","v":5309.2660217722923}]
["LV UMS (Pseudo HH Metered)",{"$f":"Multi!B$132","v":237973.60245663638}]
[]
["2704. Total unmetered units"]
["Data sources:"]
["x1 = 2703. Annual consumption by tariff for unmetered users (MWh)"]
["Cell summation =SUM(x1)"]
[]
[null,"Total unmetered units"]
["Total unmetered units",{"$f":"SUM(B$28:B$32)","v":338596.56864443846}]
[]
["2705. Service model asset data"]
["Data sources:"]
["x1 = 2205. Service model assets by tariff (£)"]
["x2 = 2305. MPANs (in Equivalent volume for each end user)"]
["x3 = 2202. Asset £/(MWh/year) from LV service models"]
["x4 = 2704. Total unmetered units"]
["x5 = Service model assets (£) scaled by annual MWh (in Service model asset data)"]
["x6 = Service model assets (£) scaled by user count (in Service model asset data)"]
["x7 = Service model assets (£) scaled by annual MWh (in Service model asset data)"]
["Kind:","Sum-product calculation",null,"Calculation","Copy cells",null,"Calculation"]
["Formula:","=SUMPRODUCT(x1, x2)",null,"=x3*x4","= x5",null,"=x6+x7"]
[]
[null,"Service model assets (£) scaled by user count",null,null,"Service model assets (£) scaled by annual MWh",null,"Service model assets (£)"]
[null,"Assets\nLV customer","Assets\nHV customer","Service model assets (£) scaled by annual MWh","Assets\nLV customer","Assets\nHV customer","Assets\nLV customer","Assets\nHV customer"]
["Service model asset data",{"$f":"SUMPRODUCT(SM!B$67:B$94,Loads!$E$298:$E$325)","v":708484558.4606483},{"$f":"SUMPRODUCT(SM!C$67:C$94,Loads!$E$298:$E$325)","v":37371977.01941707},{"$f":"SM!B33*$B40","v":78962084.432765812},{"$f":"$D56","v":78962084.432765812},null,{"$f":"B56+E56","v":787446642.89341414},{"$f":"C56+F56","v":37371977.01941707}]
[]
["2706. Data for allocation of operating expenditure"]
["Data sources:"]
["x1 = 2702. Network model assets (£) scaled by load forecast"]
["x2 = 2705. Service model assets (£) (in Service model asset data)"]
["x3 = Model assets (£) scaled by demand forecast (in Data for allocation of operating expenditure)"]
["Kind:","Combine tables",null,null,null,null,null,null,null,null,null,null,"Cell summation"]
["Formula:","= x1 or x2",null,null,null,null,null,null,null,null,null,null,"=SUM(x3)"]
[]
[null,"Model assets (£) scaled by demand forecast"]
[null,"GSPs","Assets\n132kV","Assets\n132kV/EHV","Assets\nEHV","Assets\nEHV/HV","Assets\n132kV/HV","Assets\nHV","Assets\nHV/LV","Assets\nLV circuits","Assets\nLV customer","Assets\nHV customer","Denominator for allocation of operating expenditure"]
["Data for allocation of operating expenditure",null,{"$f":"$B20","v":696622533.87149346},{"$f":"$C20","v":108638009.0394282},{"$f":"$D20","v":132789276.51721051},{"$f":"$E20","v":282229386.64236152},{"$f":"$F20","v":0},{"$f":"$G20","v":1312216520.5777676},{"$f":"$H20","v":571577918.10987818},{"$f":"$I20","v":719148159.76655519},{"$f":"$G56","v":787446642.89341414},{"$f":"$H56","v":37371977.01941707},{"$f":"SUM($B68:$L68)","v":4648040424.4375257}]
[]
["2707. Amount of expenditure to be allocated according to asset values (£/year)"]
["Data sources:"]
["x1 = 1059. Direct cost (£/year) (in Other expenditure)"]
["x2 = 1059. Network rates (£/year) (in Other expenditure)"]
["x3 = 1059. Indirect cost (£/year) (in Other expenditure)"]
["x4 = 1059. Indirect cost proportion (in Other expenditure)"]
["Calculation =x1+x2+x3*x4"]
[]
[null,"Amount of expenditure to be allocated according to asset values (£/year)"]
["Other expenditure",{"$f":"Input!B247+Input!E247+Input!C247*Input!D247","v":149947585.9497616}]
[]
["2708. Total operating expenditure by network level  (£/year)"]
["Data sources:"]
["x1 = 2701. Operating expenditure coded by network level (£/year)"]
["x2 = 2707. Amount of expenditure to be allocated according to asset values (£/year)"]
["x3 = 2706. Denominator for allocation of operating expenditure (in Data for allocation of operating expenditure)"]
["x4 = 2706. Model assets (£) scaled by demand forecast (in Data for allocation of operating expenditure)"]
["Calculation =x1+x2/x3*x4"]
[]
[null,"Transmission\nexit","Operating\n132kV","Operating\n132kV/EHV","Operating\nEHV","Operating\nEHV/HV","Operating\n132kV/HV","Operating\nHV","Operating\nHV/LV","Operating\nLV circuits","Operating\nLV customer","Operating\nHV customer"]
["Total operating expenditure by network level  (£/year)",{"$f":"B10+$B79/$M68*B68","v":14273346.085842669},22473312.995094519,3504704.2861771034,4283833.5374806104,9104829.422008574,0,42332613.647146352,18439325.215881359,23199998.418743923,25403333.960977796,1205634.4662513763]
[]
["2709. Operating expenditure percentage by network level"]
["Data sources:"]
["x1 = 2706. Model assets (£) scaled by demand forecast (in Data for allocation of operating expenditure)"]
["x2 = 2708. Total operating expenditure by network level  (£/year)"]
["Calculation =IF(x1=\"\",\"\",IF(x1>0,x2/x1,0))"]
[]
[null,"Transmission\nexit","Operating\n132kV","Operating\n132kV/EHV","Operating\nEHV","Operating\nEHV/HV","Operating\n132kV/HV","Operating\nHV","Operating\nHV/LV","Operating\nLV circuits","Operating\nLV customer","Operating\nHV customer"]
["Operating expenditure percentage by network level",{"$f":"IF(B68=\"\",\"\",IF(B68>0,B90/B68,0))","v":""},3.226038765958178E-2,3.226038765958178E-2,3.226038765958178E-2,3.226038765958178E-2,0,3.226038765958178E-2,3.226038765958178E-2,3.226038765958178E-2,3.226038765958178E-2,3.226038765958178E-2]
[]
["2710. Unit operating expenditure based on simultaneous maximum load (£/kW/year)"]
["Data sources:"]
["x1 = 2613. Forecast simultaneous maximum load (kW) adjusted for standing charges"]
["x2 = 2708. Total operating expenditure by network level  (£/year)"]
["Calculation =IF(x1>0,x2/x1,0)"]
[]
[null,"Transmission\nexit","Operating\n132kV","Operating\n132kV/EHV","Operating\nEHV","Operating\nEHV/HV","Operating\n132kV/HV","Operating\nHV","Operating\nHV/LV","Operating\nLV circuits"]
["Unit operating expenditure based on simultaneous maximum load (£/kW/year)",{"$f":"IF(AMD!B224>0,$B90/AMD!B224,0)","v":3.199669065176181},{"$f":"IF(AMD!C224>0,$C90/AMD!C224,0)","v":5.0223022254974445},{"$f":"IF(AMD!D224>0,$D90/AMD!D224,0)","v":0.78400771132666314},{"$f":"IF(AMD!E224>0,$E90/AMD!E224,0)","v":0.90570936319059703},{"$f":"IF(AMD!F224>0,$F90/AMD!F224,0)","v":1.5798236447757834},{"$f":"IF(AMD!G224>0,$G90/AMD!G224,0)","v":0},{"$f":"IF(AMD!H224>0,$H90/AMD!H224,0)","v":8.1969419207505894},{"$f":"IF(AMD!I224>0,$I90/AMD!I224,0)","v":5.1745545772025947},{"$f":"IF(AMD!J224>0,$J90/AMD!J224,0)","v":7.3757315108872712}]
[]
["2711. Operating expenditure for customer assets p/MPAN/day"]
["Data sources:"]
["x1 = 1010. Days in the charging year (in Financial and general assumptions)"]
["x2 = 2709. Operating expenditure percentage by network level"]
["x3 = 2205. Service model assets by tariff (£)"]
["x4 = Operating expenditure p/MPAN/day by level (in Operating expenditure for customer assets p/MPAN/day)"]
["Kind:","Calculation",null,"Cell summation"]
["Formula:","=100/x1*x2*x3",null,"=SUM(x4)"]
[]
[null,"Operating expenditure p/MPAN/day by level"]
[null,"Operating\nLV customer","Operating\nHV customer","Operating expenditure for customer assets p/MPAN/day total"]
["Domestic Unrestricted",{"$f":"100/Input!$F$14*$K$99*SM!$B67","v":2.1993755895122127},{"$f":"100/Input!$F$14*$L$99*SM!$C67","v":0},{"$f":"SUM($B121:$C121)","v":2.1993755895122127}]
["Domestic Two Rate",{"$f":"100/Input!$F$14*$K$99*SM!$B68","v":2.1993755895122127},{"$f":"100/Input!$F$14*$L$99*SM!$C68","v":0},2.1993755895122127]
["Domestic Off Peak (related MPAN)",{"$f":"100/Input!$F$14*$K$99*SM!$B69","v":0},{"$f":"100/Input!$F$14*$L$99*SM!$C69","v":0},0]
["Small Non Domestic Unrestricted",{"$f":"100/Input!$F$14*$K$99*SM!$B70","v":5.4301722130471024},{"$f":"100/Input!$F$14*$L$99*SM!$C70","v":0},5.4301722130471024]
["Small Non Domestic Two Rate",{"$f":"100/Input!$F$14*$K$99*SM!$B71","v":5.4301722130471024},{"$f":"100/Input!$F$14*$L$99*SM!$C71","v":0},5.4301722130471024]
["Small Non Domestic Off Peak (related MPAN)",{"$f":"100/Input!$F$14*$K$99*SM!$B72","v":0},{"$f":"100/Input!$F$14*$L$99*SM!$C72","v":0},0]
["LV Medium Non-Domestic",{"$f":"100/Input!$F$14*$K$99*SM!$B73","v":6.4143683168161498},{"$f":"100/Input!$F$14*$L$99*SM!$C73","v":0},6.4143683168161498]
["LV Sub Medium Non-Domestic",{"$f":"100/Input!$F$14*$K$99*SM!$B74","v":4.7785854073475686},{"$f":"100/Input!$F$14*$L$99*SM!$C74","v":0},4.7785854073475686]
["HV Medium Non-Domestic",{"$f":"100/Input!$F$14*$K$99*SM!$B75","v":0},{"$f":"100/Input!$F$14*$L$99*SM!$C75","v":78.737422848170496},78.737422848170496]
["LV HH Metered",{"$f":"100/Input!$F$14*$K$99*SM!$B76","v":10.964917108839961},{"$f":"100/Input!$F$14*$L$99*SM!$C76","v":0},10.964917108839961]
["LV Sub HH Metered",{"$f":"100/Input!$F$14*$K$99*SM!$B77","v":8.0532257660147852},{"$f":"100/Input!$F$14*$L$99*SM!$C77","v":0},8.0532257660147852]
["HV HH Metered",{"$f":"100/Input!$F$14*$K$99*SM!$B78","v":0},{"$f":"100/Input!$F$14*$L$99*SM!$C78","v":78.737422848170496},78.737422848170496]
["HV Sub HH Metered",{"$f":"100/Input!$F$14*$K$99*SM!$B79","v":0},{"$f":"100/Input!$F$14*$L$99*SM!$C79","v":78.737422848170496},78.737422848170496]
["NHH UMS category A",{"$f":"100/Input!$F$14*$K$99*SM!$B80","v":0},{"$f":"100/Input!$F$14*$L$99*SM!$C80","v":0},0]
["NHH UMS category B",{"$f":"100/Input!$F$14*$K$99*SM!$B81","v":0},{"$f":"100/Input!$F$14*$L$99*SM!$C81","v":0},0]
["NHH UMS category C",{"$f":"100/Input!$F$14*$K$99*SM!$B82","v":0},{"$f":"100/Input!$F$14*$L$99*SM!$C82","v":0},0]
["NHH UMS category D",{"$f":"100/Input!$F$14*$K$99*SM!$B83","v":0},{"$f":"100/Input!$F$14*$L$99*SM!$C83","v":0},0]
["LV UMS (Pseudo HH Metered)",{"$f":"100/Input!$F$14*$K$99*SM!$B84","v":0},{"$f":"100/Input!$F$14*$L$99*SM!$C84","v":0},0]
["LV Generation NHH",{"$f":"100/Input!$F$14*$K$99*SM!$B85","v":0},{"$f":"100/Input!$F$14*$L$99*SM!$C85","v":0},0]
["LV Sub Generation NHH",{"$f":"100/Input!$F$14*$K$99*SM!$B86","v":0},{"$f":"100/Input!$F$14*$L$99*SM!$C86","v":0},0]
["LV Generation Intermittent",{"$f":"100/Input!$F$14*$K$99*SM!$B87","v":0},{"$f":"100/Input!$F$14*$L$99*SM!$C87","v":0},0]
["LV Generation Non-Intermittent",{"$f":"100/Input!$F$14*$K$99*SM!$B88","v":0},{"$f":"100/Input!$F$14*$L$99*SM!$C88","v":0},0]
["LV Sub Generation Intermittent",{"$f":"100/Input!$F$14*$K$99*SM!$B89","v":0},{"$f":"100/Input!$F$14*$L$99*SM!$C89","v":0},0]
["LV Sub Generation Non-Intermittent",{"$f":"100/Input!$F$14*$K$99*SM!$B90","v":0},{"$f":"100/Input!$F$14*$L$99*SM!$C90","v":0},0]
["HV Generation Intermittent",{"$f":"100/Input!$F$14*$K$99*SM!$B91","v":0},{"$f":"100/Input!$F$14*$L$99*SM!$C91","v":38.694816549832751},38.694816549832751]
["HV Generation Non-Intermittent",{"$f":"100/Input!$F$14*$K$99*SM!$B92","v":0},{"$f":"100/Input!$F$14*$L$99*SM!$C92","v":38.694816549832751},38.694816549832751]
["HV Sub Generation Intermittent",{"$f":"100/Input!$F$14*$K$99*SM!$B93","v":0},{"$f":"100/Input!$F$14*$L$99*SM!$C93","v":38.694816549832751},38.694816549832751]
["HV Sub Generation Non-Intermittent",{"$f":"100/Input!$F$14*$K$99*SM!$B94","v":0},{"$f":"100/Input!$F$14*$L$99*SM!$C94","v":38.694816549832751},38.694816549832751]
[]
["2712. Operating expenditure for unmetered customer assets (p/kWh)"]
["Data sources:"]
["x1 = 2709. Operating expenditure percentage by network level"]
["x2 = 2202. Asset £/(MWh/year) from LV service models"]
["Calculation =0.1*x1*x2"]
[]
[null,"Operating\nLV customer"]
["NHH UMS category A",{"$f":"0.1*$K$99*SM!$B$33","v":0.7523252419266635}]
["NHH UMS category B",{"$f":"0.1*$K$99*SM!$B$33","v":0.7523252419266635}]
["NHH UMS category C",{"$f":"0.1*$K$99*SM!$B$33","v":0.7523252419266635}]
["NHH UMS category D",{"$f":"0.1*$K$99*SM!$B$33","v":0.7523252419266635}]
["LV UMS (Pseudo HH Metered)",{"$f":"0.1*$K$99*SM!$B$33","v":0.7523252419266635}]

{"sheet":"Contrib","index":31,"n_rows":123,"n_cols":19,"rows_kept":123,"cut":false,"hidden":true,"merged":[]}
[{"$f":"\"r6140: Customer contributions\"&\" for \"&Input!B7&\" in \"&Input!C7&\" (\"&Input!D7&\")\"","v":"r6140: Customer contributions for WPD Mid West in April 2017 (0)"}]
["This sheet calculates factors used to take account of the costs deemed to be covered by connection charges."]
[]
["2801. Network level of supply (for customer contributions) by tariff"]
[]
[null,"LV network","LV substation","HV network","HV substation"]
["Domestic Unrestricted",1,0,0,0]
["Domestic Two Rate",1,0,0,0]
["Domestic Off Peak (related MPAN)",1,0,0,0]
["Small Non Domestic Unrestricted",1,0,0,0]
["Small Non Domestic Two Rate",1,0,0,0]
["Small Non Domestic Off Peak (related MPAN)",1,0,0,0]
["LV Medium Non-Domestic",1,0,0,0]
["LV Sub Medium Non-Domestic",0,1,0,0]
["HV Medium Non-Domestic",0,0,1,0]
["LV HH Metered",1,0,0,0]
["LV Sub HH Metered",0,1,0,0]
["HV HH Metered",0,0,1,0]
["HV Sub HH Metered",0,0,0,1]
["NHH UMS category A",1,0,0,0]
["NHH UMS category B",1,0,0,0]
["NHH UMS category C",1,0,0,0]
["NHH UMS category D",1,0,0,0]
["LV UMS (Pseudo HH Metered)",1,0,0,0]
["LV Generation NHH",1,0,0,0]
["LV Sub Generation NHH",0,1,0,0]
["LV Generation Intermittent",1,0,0,0]
["LV Generation Non-Intermittent",1,0,0,0]
["LV Sub Generation Intermittent",0,1,0,0]
["LV Sub Generation Non-Intermittent",0,1,0,0]
["HV Generation Intermittent",0,0,1,0]
["HV Generation Non-Intermittent",0,0,1,0]
["HV Sub Generation Intermittent",0,0,0,1]
["HV Sub Generation Non-Intermittent",0,0,0,1]
[]
["2802. Contribution proportion of asset annuities, by customer type and network level of assets"]
["Data sources:"]
["x1 = 1060. Customer contributions under current connection charging policy"]
["x2 = 1010. Annuity proportion for customer-contributed assets (in Financial and general assumptions)"]
["Calculation =x1*(1-x2)"]
[]
[null,"LV network","LV substation","HV network","HV substation"]
["Assets 132kV",{"$f":"Input!$B$255*(1-Input!$D$14)","v":0},{"$f":"Input!$B$256*(1-Input!$D$14)","v":0},{"$f":"Input!$B$257*(1-Input!$D$14)","v":0},{"$f":"Input!$B$258*(1-Input!$D$14)","v":0}]
["Assets 132kV/EHV",{"$f":"Input!$C$255*(1-Input!$D$14)","v":0},{"$f":"Input!$C$256*(1-Input!$D$14)","v":0},{"$f":"Input!$C$257*(1-Input!$D$14)","v":0},{"$f":"Input!$C$258*(1-Input!$D$14)","v":0}]
["Assets EHV",{"$f":"Input!$D$255*(1-Input!$D$14)","v":0},{"$f":"Input!$D$256*(1-Input!$D$14)","v":0},{"$f":"Input!$D$257*(1-Input!$D$14)","v":0},{"$f":"Input!$D$258*(1-Input!$D$14)","v":0}]
["Assets EHV/HV",{"$f":"Input!$E$255*(1-Input!$D$14)","v":0},{"$f":"Input!$E$256*(1-Input!$D$14)","v":0},{"$f":"Input!$E$257*(1-Input!$D$14)","v":0.25764106948138837},{"$f":"Input!$E$258*(1-Input!$D$14)","v":0.25764106948138837}]
["Assets 132kV/HV",{"$f":"Input!$F$255*(1-Input!$D$14)","v":0},{"$f":"Input!$F$256*(1-Input!$D$14)","v":0},{"$f":"Input!$F$257*(1-Input!$D$14)","v":0.25764106948138837},{"$f":"Input!$F$258*(1-Input!$D$14)","v":0}]
["Assets HV",{"$f":"Input!$G$255*(1-Input!$D$14)","v":0.38684969697494365},{"$f":"Input!$G$256*(1-Input!$D$14)","v":0.38684969697494365},{"$f":"Input!$G$257*(1-Input!$D$14)","v":0.51528213896277675},{"$f":"Input!$G$258*(1-Input!$D$14)","v":0}]
["Assets HV/LV",{"$f":"Input!$H$255*(1-Input!$D$14)","v":0.64124825573068889},{"$f":"Input!$H$256*(1-Input!$D$14)","v":0.64124825573068889},{"$f":"Input!$H$257*(1-Input!$D$14)","v":0},{"$f":"Input!$H$258*(1-Input!$D$14)","v":0}]
["Assets LV circuits",{"$f":"Input!$I$255*(1-Input!$D$14)","v":0.89564681448643413},{"$f":"Input!$I$256*(1-Input!$D$14)","v":0},{"$f":"Input!$I$257*(1-Input!$D$14)","v":0},{"$f":"Input!$I$258*(1-Input!$D$14)","v":0}]
[]
["2803. Proportion of assets annuities deemed to be covered by customer contributions"]
["Data sources:"]
["x1 = 2801. Network level of supply (for customer contributions) by tariff"]
["x2 = 2802. Contribution proportion of asset annuities, by customer type and network level of assets"]
["Sum-product calculation =SUMPRODUCT(x1, x2)"]
[]
[null,"Assets\n132kV","Assets\n132kV/EHV","Assets\nEHV","Assets\nEHV/HV","Assets\n132kV/HV","Assets\nHV","Assets\nHV/LV","Assets\nLV circuits"]
["Domestic Unrestricted",{"$f":"SUMPRODUCT($B7:$E7,$B$43:$E$43)","v":0},{"$f":"SUMPRODUCT($B7:$E7,$B$44:$E$44)","v":0},{"$f":"SUMPRODUCT($B7:$E7,$B$45:$E$45)","v":0},{"$f":"SUMPRODUCT($B7:$E7,$B$46:$E$46)","v":0},{"$f":"SUMPRODUCT($B7:$E7,$B$47:$E$47)","v":0},{"$f":"SUMPRODUCT($B7:$E7,$B$48:$E$48)","v":0.38684969697494365},{"$f":"SUMPRODUCT($B7:$E7,$B$49:$E$49)","v":0.64124825573068889},{"$f":"SUMPRODUCT($B7:$E7,$B$50:$E$50)","v":0.89564681448643413}]
["Domestic Two Rate",0,0,0,0,0,0.38684969697494365,0.64124825573068889,0.89564681448643413]
["Domestic Off Peak (related MPAN)",0,0,0,0,0,0.38684969697494365,0.64124825573068889,0.89564681448643413]
["Small Non Domestic Unrestricted",0,0,0,0,0,0.38684969697494365,0.64124825573068889,0.89564681448643413]
["Small Non Domestic Two Rate",0,0,0,0,0,0.38684969697494365,0.64124825573068889,0.89564681448643413]
["Small Non Domestic Off Peak (related MPAN)",0,0,0,0,0,0.38684969697494365,0.64124825573068889,0.89564681448643413]
["LV Medium Non-Domestic",0,0,0,0,0,0.38684969697494365,0.64124825573068889,0.89564681448643413]
["LV Sub Medium Non-Domestic",0,0,0,0,0,0.38684969697494365,0.64124825573068889,0]
["HV Medium Non-Domestic",0,0,0,0.25764106948138837,0.25764106948138837,0.51528213896277675,0,0]
["LV HH Metered",0,0,0,0,0,0.38684969697494365,0.64124825573068889,0.89564681448643413]
["LV Sub HH Metered",0,0,0,0,0,0.38684969697494365,0.64124825573068889,0]
["HV HH Metered",0,0,0,0.25764106948138837,0.25764106948138837,0.51528213896277675,0,0]
["HV Sub HH Metered",0,0,0,0.25764106948138837,0,0,0,0]
["NHH UMS category A",0,0,0,0,0,0.38684969697494365,0.64124825573068889,0.89564681448643413]
["NHH UMS category B",0,0,0,0,0,0.38684969697494365,0.64124825573068889,0.89564681448643413]
["NHH UMS category C",0,0,0,0,0,0.38684969697494365,0.64124825573068889,0.89564681448643413]
["NHH UMS category D",0,0,0,0,0,0.38684969697494365,0.64124825573068889,0.89564681448643413]
["LV UMS (Pseudo HH Metered)",0,0,0,0,0,0.38684969697494365,0.64124825573068889,0.89564681448643413]
["LV Generation NHH",0,0,0,0,0,0.38684969697494365,0.64124825573068889,0.89564681448643413]
["LV Sub Generation NHH",0,0,0,0,0,0.38684969697494365,0.64124825573068889,0]
["LV Generation Intermittent",0,0,0,0,0,0.38684969697494365,0.64124825573068889,0.89564681448643413]
["LV Generation Non-Intermittent",0,0,0,0,0,0.38684969697494365,0.64124825573068889,0.89564681448643413]
["LV Sub Generation Intermittent",0,0,0,0,0,0.38684969697494365,0.64124825573068889,0]
["LV Sub Generation Non-Intermittent",0,0,0,0,0,0.38684969697494365,0.64124825573068889,0]
["HV Generation Intermittent",0,0,0,0.25764106948138837,0.25764106948138837,0.51528213896277675,0,0]
["HV Generation Non-Intermittent",0,0,0,0.25764106948138837,0.25764106948138837,0.51528213896277675,0,0]
["HV Sub Generation Intermittent",0,0,0,0.25764106948138837,0,0,0,0]
["HV Sub Generation Non-Intermittent",0,0,0,0.25764106948138837,0,0,0,0]
[]
["2804. Proportion of annual charge covered by contributions (for all charging levels)"]
["Data sources:"]
["x1 = Zero for operating expenditure"]
["x2 = Zero for GSPs level"]
["x3 = 2803. Proportion of assets annuities deemed to be covered by customer contributions"]
["Combine tables = x1 or x2 or x3"]
[]
[null,"GSPs","Assets\n132kV","Assets\n132kV/EHV","Assets\nEHV","Assets\nEHV/HV","Assets\n132kV/HV","Assets\nHV","Assets\nHV/LV","Assets\nLV circuits","Transmission\nexit","Operating\n132kV","Operating\n132kV/EHV","Operating\nEHV","Operating\nEHV/HV","Operating\n132kV/HV","Operating\nHV","Operating\nHV/LV","Operating\nLV circuits"]
["Domestic Unrestricted",0,{"$f":"$B59","v":0},{"$f":"$C59","v":0},{"$f":"$D59","v":0},{"$f":"$E59","v":0},{"$f":"$F59","v":0},{"$f":"$G59","v":0.38684969697494365},{"$f":"$H59","v":0.64124825573068889},{"$f":"$I59","v":0.89564681448643413},0,0,0,0,0,0,0,0,0]
["Domestic Two Rate",0,0,0,0,0,0,0.38684969697494365,0.64124825573068889,0.89564681448643413,0,0,0,0,0,0,0,0,0]
["Domestic Off Peak (related MPAN)",0,0,0,0,0,0,0.38684969697494365,0.64124825573068889,0.89564681448643413,0,0,0,0,0,0,0,0,0]
["Small Non Domestic Unrestricted",0,0,0,0,0,0,0.38684969697494365,0.64124825573068889,0.89564681448643413,0,0,0,0,0,0,0,0,0]
["Small Non Domestic Two Rate",0,0,0,0,0,0,0.38684969697494365,0.64124825573068889,0.89564681448643413,0,0,0,0,0,0,0,0,0]
["Small Non Domestic Off Peak (related MPAN)",0,0,0,0,0,0,0.38684969697494365,0.64124825573068889,0.89564681448643413,0,0,0,0,0,0,0,0,0]
["LV Medium Non-Domestic",0,0,0,0,0,0,0.38684969697494365,0.64124825573068889,0.89564681448643413,0,0,0,0,0,0,0,0,0]
["LV Sub Medium Non-Domestic",0,0,0,0,0,0,0.38684969697494365,0.64124825573068889,0,0,0,0,0,0,0,0,0,0]
["HV Medium Non-Domestic",0,0,0,0,0.25764106948138837,0.25764106948138837,0.51528213896277675,0,0,0,0,0,0,0,0,0,0,0]
["LV HH Metered",0,0,0,0,0,0,0.38684969697494365,0.64124825573068889,0.89564681448643413,0,0,0,0,0,0,0,0,0]
["LV Sub HH Metered",0,0,0,0,0,0,0.38684969697494365,0.64124825573068889,0,0,0,0,0,0,0,0,0,0]
["HV HH Metered",0,0,0,0,0.25764106948138837,0.25764106948138837,0.51528213896277675,0,0,0,0,0,0,0,0,0,0,0]
["HV Sub HH Metered",0,0,0,0,0.25764106948138837,0,0,0,0,0,0,0,0,0,0,0,0,0]
["NHH UMS category A",0,0,0,0,0,0,0.38684969697494365,0.64124825573068889,0.89564681448643413,0,0,0,0,0,0,0,0,0]
["NHH UMS category B",0,0,0,0,0,0,0.38684969697494365,0.64124825573068889,0.89564681448643413,0,0,0,0,0,0,0,0,0]
["NHH UMS category C",0,0,0,0,0,0,0.38684969697494365,0.64124825573068889,0.89564681448643413,0,0,0,0,0,0,0,0,0]
["NHH UMS category D",0,0,0,0,0,0,0.38684969697494365,0.64124825573068889,0.89564681448643413,0,0,0,0,0,0,0,0,0]
["LV UMS (Pseudo HH Metered)",0,0,0,0,0,0,0.38684969697494365,0.64124825573068889,0.89564681448643413,0,0,0,0,0,0,0,0,0]
["LV Generation NHH",0,0,0,0,0,0,0.38684969697494365,0.64124825573068889,0.89564681448643413,0,0,0,0,0,0,0,0,0]
["LV Sub Generation NHH",0,0,0,0,0,0,0.38684969697494365,0.64124825573068889,0,0,0,0,0,0,0,0,0,0]
["LV Generation Intermittent",0,0,0,0,0,0,0.38684969697494365,0.64124825573068889,0.89564681448643413,0,0,0,0,0,0,0,0,0]
["LV Generation Non-Intermittent",0,0,0,0,0,0,0.38684969697494365,0.64124825573068889,0.89564681448643413,0,0,0,0,0,0,0,0,0]
["LV Sub Generation Intermittent",0,0,0,0,0,0,0.38684969697494365,0.64124825573068889,0,0,0,0,0,0,0,0,0,0]
["LV Sub Generation Non-Intermittent",0,0,0,0,0,0,0.38684969697494365,0.64124825573068889,0,0,0,0,0,0,0,0,0,0]
["HV Generation Intermittent",0,0,0,0,0.25764106948138837,0.25764106948138837,0.51528213896277675,0,0,0,0,0,0,0,0,0,0,0]
["HV Generation Non-Intermittent",0,0,0,0,0.25764106948138837,0.25764106948138837,0.51528213896277675,0,0,0,0,0,0,0,0,0,0,0]
["HV Sub Generation Intermittent",0,0,0,0,0.25764106948138837,0,0,0,0,0,0,0,0,0,0,0,0,0]
["HV Sub Generation Non-Intermittent",0,0,0,0,0.25764106948138837,0,0,0,0,0,0,0,0,0,0,0,0,0]

{"sheet":"Yard","index":32,"n_rows":135,"n_cols":20,"rows_kept":135,"cut":false,"hidden":true,"merged":[]}
[{"$f":"\"r6140: Yardsticks\"&\" for \"&Input!B7&\" in \"&Input!C7&\" (\"&Input!D7&\")\"","v":"r6140: Yardsticks for WPD Mid West in April 2017 (0)"}]
["This sheet calculates average p/kWh and p/kW/day charges that would apply if no costs were recovered through capacity or fixed charges."]
[]
["2901. Unit cost at each level, £/kW/year (relative to system simultaneous maximum load)"]
["Data sources:"]
["x1 = 2109. Network model annuity by simultaneous maximum load for each network level (£/kW/year)"]
["x2 = 2710. Unit operating expenditure based on simultaneous maximum load (£/kW/year)"]
["Combine tables = x1 or x2"]
[]
[null,"GSPs","Assets\n132kV","Assets\n132kV/EHV","Assets\nEHV","Assets\nEHV/HV","Assets\n132kV/HV","Assets\nHV","Assets\nHV/LV","Assets\nLV circuits","Transmission\nexit","Operating\n132kV","Operating\n132kV/EHV","Operating\nEHV","Operating\nEHV/HV","Operating\n132kV/HV","Operating\nHV","Operating\nHV/LV","Operating\nLV circuits"]
["Unit cost at each level, £/kW/year (relative to system simultaneous maximum load)",null,{"$f":"DRM!$B$130","v":9.8297883865119324},{"$f":"DRM!$B$131","v":1.5344815086215395},{"$f":"DRM!$B$132","v":1.7726793371070457},{"$f":"DRM!$B$133","v":3.0920743951476983},{"$f":"DRM!$B$134","v":0},{"$f":"DRM!$B$135","v":16.043280726604685},{"$f":"DRM!$B$136","v":10.127780887045329},{"$f":"DRM!$B$137","v":14.435985070685131},{"$f":"Otex!$B108","v":3.199669065176181},{"$f":"Otex!$C108","v":5.0223022254974445},{"$f":"Otex!$D108","v":0.78400771132666314},{"$f":"Otex!$E108","v":0.90570936319059703},{"$f":"Otex!$F108","v":1.5798236447757834},{"$f":"Otex!$G108","v":0},{"$f":"Otex!$H108","v":8.1969419207505894},{"$f":"Otex!$I108","v":5.1745545772025947},{"$f":"Otex!$J108","v":7.3757315108872712}]
[]
["2902. Pay-as-you-go yardstick unit costs by charging level (p/kWh)"]
["Data sources:"]
["x1 = 2901. Unit cost at each level, £/kW/year (relative to system simultaneous maximum load)"]
["x2 = 2302. Load coefficient"]
["x3 = 2012. Loss adjustment factors between end user meter reading and each network level, scaled by network use"]
["x4 = 2804. Proportion of annual charge covered by contributions (for all charging levels)"]
["x5 = 1010. Days in the charging year (in Financial and general assumptions)"]
["Calculation =x1*x2*x3*(1-x4)/(24*x5)*100"]
[]
[null,"GSPs","Assets\n132kV","Assets\n132kV/EHV","Assets\nEHV","Assets\nEHV/HV","Assets\n132kV/HV","Assets\nHV","Assets\nHV/LV","Assets\nLV circuits","Transmission\nexit","Operating\n132kV","Operating\n132kV/EHV","Operating\nEHV","Operating\nEHV/HV","Operating\n132kV/HV","Operating\nHV","Operating\nHV/LV","Operating\nLV circuits"]
["Domestic Unrestricted",{"$f":"B$11*Loads!$B45*LAFs!B241*(1-Contrib!B96)/(24*Input!$F$14)*100","v":0},{"$f":"C$11*Loads!$B45*LAFs!C241*(1-Contrib!C96)/(24*Input!$F$14)*100","v":0.26889036276041528},{"$f":"D$11*Loads!$B45*LAFs!D241*(1-Contrib!D96)/(24*Input!$F$14)*100","v":4.1933345879347973E-2},{"$f":"E$11*Loads!$B45*LAFs!E241*(1-Contrib!E96)/(24*Input!$F$14)*100","v":4.8298205140226626E-2},{"$f":"F$11*Loads!$B45*LAFs!F241*(1-Contrib!F96)/(24*Input!$F$14)*100","v":8.2523621964887578E-2},{"$f":"G$11*Loads!$B45*LAFs!G241*(1-Contrib!G96)/(24*Input!$F$14)*100","v":0},{"$f":"H$11*Loads!$B45*LAFs!H241*(1-Contrib!H96)/(24*Input!$F$14)*100","v":0.25826075808387716},{"$f":"I$11*Loads!$B45*LAFs!I241*(1-Contrib!I96)/(24*Input!$F$14)*100","v":9.4755492274508607E-2},{"$f":"J$11*Loads!$B45*LAFs!J241*(1-Contrib!J96)/(24*Input!$F$14)*100","v":3.8338509265555439E-2},{"$f":"K$11*Loads!$B45*LAFs!B241*(1-Contrib!K96)/(24*Input!$F$14)*100","v":8.7700860090000957E-2},{"$f":"L$11*Loads!$B45*LAFs!C241*(1-Contrib!L96)/(24*Input!$F$14)*100","v":0.13738328987422394},{"$f":"M$11*Loads!$B45*LAFs!D241*(1-Contrib!M96)/(24*Input!$F$14)*100","v":2.1424869798965709E-2},{"$f":"N$11*Loads!$B45*LAFs!E241*(1-Contrib!N96)/(24*Input!$F$14)*100","v":2.4676846909149661E-2},{"$f":"O$11*Loads!$B45*LAFs!F241*(1-Contrib!O96)/(24*Input!$F$14)*100","v":4.2163529259599229E-2},{"$f":"P$11*Loads!$B45*LAFs!G241*(1-Contrib!P96)/(24*Input!$F$14)*100","v":0},{"$f":"Q$11*Loads!$B45*LAFs!H241*(1-Contrib!Q96)/(24*Input!$F$14)*100","v":0.21520390584195678},{"$f":"R$11*Loads!$B45*LAFs!I241*(1-Contrib!R96)/(24*Input!$F$14)*100","v":0.13494880586490135},{"$f":"S$11*Loads!$B45*LAFs!J241*(1-Contrib!S96)/(24*Input!$F$14)*100","v":0.18771033554312999}]
["Domestic Two Rate",{"$f":"B$11*Loads!$B46*LAFs!B242*(1-Contrib!B97)/(24*Input!$F$14)*100","v":0},{"$f":"C$11*Loads!$B46*LAFs!C242*(1-Contrib!C97)/(24*Input!$F$14)*100","v":0.18912460398768657},{"$f":"D$11*Loads!$B46*LAFs!D242*(1-Contrib!D97)/(24*Input!$F$14)*100","v":2.9493907300711494E-2},{"$f":"E$11*Loads!$B46*LAFs!E242*(1-Contrib!E97)/(24*Input!$F$14)*100","v":3.3970644491265224E-2},{"$f":"F$11*Loads!$B46*LAFs!F242*(1-Contrib!F97)/(24*Input!$F$14)*100","v":5.8043163628163086E-2},{"$f":"G$11*Loads!$B46*LAFs!G242*(1-Contrib!G97)/(24*Input!$F$14)*100","v":0},{"$f":"H$11*Loads!$B46*LAFs!H242*(1-Contrib!H97)/(24*Input!$F$14)*100","v":0.18164824911070962},{"$f":"I$11*Loads!$B46*LAFs!I242*(1-Contrib!I97)/(24*Input!$F$14)*100","v":6.6646475418839057E-2},{"$f":"J$11*Loads!$B46*LAFs!J242*(1-Contrib!J97)/(24*Input!$F$14)*100","v":2.6965471383542813E-2},{"$f":"K$11*Loads!$B46*LAFs!B242*(1-Contrib!K97)/(24*Input!$F$14)*100","v":6.1684584987077511E-2},{"$f":"L$11*Loads!$B46*LAFs!C242*(1-Contrib!L97)/(24*Input!$F$14)*100","v":9.6628826802316242E-2},{"$f":"M$11*Loads!$B46*LAFs!D242*(1-Contrib!M97)/(24*Input!$F$14)*100","v":1.5069227378102401E-2},{"$f":"N$11*Loads!$B46*LAFs!E242*(1-Contrib!N97)/(24*Input!$F$14)*100","v":1.7356512339998041E-2},{"$f":"O$11*Loads!$B46*LAFs!F242*(1-Contrib!O97)/(24*Input!$F$14)*100","v":2.9655807266882293E-2},{"$f":"P$11*Loads!$B46*LAFs!G242*(1-Contrib!P97)/(24*Input!$F$14)*100","v":0},{"$f":"Q$11*Loads!$B46*LAFs!H242*(1-Contrib!Q97)/(24*Input!$F$14)*100","v":0.1513641212393618},{"$f":"R$11*Loads!$B46*LAFs!I242*(1-Contrib!R97)/(24*Input!$F$14)*100","v":9.4916527337765594E-2},{"$f":"S$11*Loads!$B46*LAFs!J242*(1-Contrib!S97)/(24*Input!$F$14)*100","v":0.13202646056014192}]
["Domestic Off Peak (related MPAN)",{"$f":"B$11*Loads!$B47*LAFs!B243*(1-Contrib!B98)/(24*Input!$F$14)*100","v":0},{"$f":"C$11*Loads!$B47*LAFs!C243*(1-Contrib!C98)/(24*Input!$F$14)*100","v":0},{"$f":"D$11*Loads!$B47*LAFs!D243*(1-Contrib!D98)/(24*Input!$F$14)*100","v":0},{"$f":"E$11*Loads!$B47*LAFs!E243*(1-Contrib!E98)/(24*Input!$F$14)*100","v":0},{"$f":"F$11*Loads!$B47*LAFs!F243*(1-Contrib!F98)/(24*Input!$F$14)*100","v":0},{"$f":"G$11*Loads!$B47*LAFs!G243*(1-Contrib!G98)/(24*Input!$F$14)*100","v":0},{"$f":"H$11*Loads!$B47*LAFs!H243*(1-Contrib!H98)/(24*Input!$F$14)*100","v":0},{"$f":"I$11*Loads!$B47*LAFs!I243*(1-Contrib!I98)/(24*Input!$F$14)*100","v":0},{"$f":"J$11*Loads!$B47*LAFs!J243*(1-Contrib!J98)/(24*Input!$F$14)*100","v":0},{"$f":"K$11*Loads!$B47*LAFs!B243*(1-Contrib!K98)/(24*Input!$F$14)*100","v":0},{"$f":"L$11*Loads!$B47*LAFs!C243*(1-Contrib!L98)/(24*Input!$F$14)*100","v":0},{"$f":"M$11*Loads!$B47*LAFs!D243*(1-Contrib!M98)/(24*Input!$F$14)*100","v":0},{"$f":"N$11*Loads!$B47*LAFs!E243*(1-Contrib!N98)/(24*Input!$F$14)*100","v":0},{"$f":"O$11*Loads!$B47*LAFs!F243*(1-Contrib!O98)/(24*Input!$F$14)*100","v":0},{"$f":"P$11*Loads!$B47*LAFs!G243*(1-Contrib!P98)/(24*Input!$F$14)*100","v":0},{"$f":"Q$11*Loads!$B47*LAFs!H243*(1-Contrib!Q98)/(24*Input!$F$14)*100","v":0},{"$f":"R$11*Loads!$B47*LAFs!I243*(1-Contrib!R98)/(24*Input!$F$14)*100","v":0},{"$f":"S$11*Loads!$B47*LAFs!J243*(1-Contrib!S98)/(24*Input!$F$14)*100","v":0}]
["Small Non Domestic Unrestricted",{"$f":"B$11*Loads!$B48*LAFs!B244*(1-Contrib!B99)/(24*Input!$F$14)*100","v":0},{"$f":"C$11*Loads!$B48*LAFs!C244*(1-Contrib!C99)/(24*Input!$F$14)*100","v":0.2121942230119995},{"$f":"D$11*Loads!$B48*LAFs!D244*(1-Contrib!D99)/(24*Input!$F$14)*100","v":3.309160527664548E-2},{"$f":"E$11*Loads!$B48*LAFs!E244*(1-Contrib!E99)/(24*Input!$F$14)*100","v":3.8114419599843304E-2},{"$f":"F$11*Loads!$B48*LAFs!F244*(1-Contrib!F99)/(24*Input!$F$14)*100","v":6.5123330056190407E-2},{"$f":"G$11*Loads!$B48*LAFs!G244*(1-Contrib!G99)/(24*Input!$F$14)*100","v":0},{"$f":"H$11*Loads!$B48*LAFs!H244*(1-Contrib!H99)/(24*Input!$F$14)*100","v":0.20380589446757919},{"$f":"I$11*Loads!$B48*LAFs!I244*(1-Contrib!I99)/(24*Input!$F$14)*100","v":7.4776082909390404E-2},{"$f":"J$11*Loads!$B48*LAFs!J244*(1-Contrib!J99)/(24*Input!$F$14)*100","v":3.0254748074743966E-2},{"$f":"K$11*Loads!$B48*LAFs!B244*(1-Contrib!K99)/(24*Input!$F$14)*100","v":6.920893584000716E-2},{"$f":"L$11*Loads!$B48*LAFs!C244*(1-Contrib!L99)/(24*Input!$F$14)*100","v":0.1084157131941095},{"$f":"M$11*Loads!$B48*LAFs!D244*(1-Contrib!M99)/(24*Input!$F$14)*100","v":1.6907387655895778E-2},{"$f":"N$11*Loads!$B48*LAFs!E244*(1-Contrib!N99)/(24*Input!$F$14)*100","v":1.9473678054198879E-2},{"$f":"O$11*Loads!$B48*LAFs!F244*(1-Contrib!O99)/(24*Input!$F$14)*100","v":3.3273253971754013E-2},{"$f":"P$11*Loads!$B48*LAFs!G244*(1-Contrib!P99)/(24*Input!$F$14)*100","v":0},{"$f":"Q$11*Loads!$B48*LAFs!H244*(1-Contrib!Q99)/(24*Input!$F$14)*100","v":0.16982767668014062},{"$f":"R$11*Loads!$B48*LAFs!I244*(1-Contrib!R99)/(24*Input!$F$14)*100","v":0.10649454563164978},{"$f":"S$11*Loads!$B48*LAFs!J244*(1-Contrib!S99)/(24*Input!$F$14)*100","v":0.14813118771901157}]
["Small Non Domestic Two Rate",{"$f":"B$11*Loads!$B49*LAFs!B245*(1-Contrib!B100)/(24*Input!$F$14)*100","v":0},{"$f":"C$11*Loads!$B49*LAFs!C245*(1-Contrib!C100)/(24*Input!$F$14)*100","v":0.17328003358222452},{"$f":"D$11*Loads!$B49*LAFs!D245*(1-Contrib!D100)/(24*Input!$F$14)*100","v":2.7022952803491655E-2},{"$f":"E$11*Loads!$B49*LAFs!E245*(1-Contrib!E100)/(24*Input!$F$14)*100","v":3.1124635791118425E-2},{"$f":"F$11*Loads!$B49*LAFs!F245*(1-Contrib!F100)/(24*Input!$F$14)*100","v":5.3180396049164948E-2},{"$f":"G$11*Loads!$B49*LAFs!G245*(1-Contrib!G100)/(24*Input!$F$14)*100","v":0},{"$f":"H$11*Loads!$B49*LAFs!H245*(1-Contrib!H100)/(24*Input!$F$14)*100","v":0.16643003629557035},{"$f":"I$11*Loads!$B49*LAFs!I245*(1-Contrib!I100)/(24*Input!$F$14)*100","v":6.1062935520886666E-2},{"$f":"J$11*Loads!$B49*LAFs!J245*(1-Contrib!J100)/(24*Input!$F$14)*100","v":2.4706345384892563E-2},{"$f":"K$11*Loads!$B49*LAFs!B245*(1-Contrib!K100)/(24*Input!$F$14)*100","v":5.6516744689455035E-2},{"$f":"L$11*Loads!$B49*LAFs!C245*(1-Contrib!L100)/(24*Input!$F$14)*100","v":8.853341130806261E-2},{"$f":"M$11*Loads!$B49*LAFs!D245*(1-Contrib!M100)/(24*Input!$F$14)*100","v":1.380675052890405E-2},{"$f":"N$11*Loads!$B49*LAFs!E245*(1-Contrib!N100)/(24*Input!$F$14)*100","v":1.5902410250868089E-2},{"$f":"O$11*Loads!$B49*LAFs!F245*(1-Contrib!O100)/(24*Input!$F$14)*100","v":2.7171289037823513E-2},{"$f":"P$11*Loads!$B49*LAFs!G245*(1-Contrib!P100)/(24*Input!$F$14)*100","v":0},{"$f":"Q$11*Loads!$B49*LAFs!H245*(1-Contrib!Q100)/(24*Input!$F$14)*100","v":0.13868306639366806},{"$f":"R$11*Loads!$B49*LAFs!I245*(1-Contrib!R100)/(24*Input!$F$14)*100","v":8.69645656768539E-2},{"$f":"S$11*Loads!$B49*LAFs!J245*(1-Contrib!S100)/(24*Input!$F$14)*100","v":0.12096548538493244}]
["Small Non Domestic Off Peak (related MPAN)",{"$f":"B$11*Loads!$B50*LAFs!B246*(1-Contrib!B101)/(24*Input!$F$14)*100","v":0},{"$f":"C$11*Loads!$B50*LAFs!C246*(1-Contrib!C101)/(24*Input!$F$14)*100","v":0},{"$f":"D$11*Loads!$B50*LAFs!D246*(1-Contrib!D101)/(24*Input!$F$14)*100","v":0},{"$f":"E$11*Loads!$B50*LAFs!E246*(1-Contrib!E101)/(24*Input!$F$14)*100","v":0},{"$f":"F$11*Loads!$B50*LAFs!F246*(1-Contrib!F101)/(24*Input!$F$14)*100","v":0},{"$f":"G$11*Loads!$B50*LAFs!G246*(1-Contrib!G101)/(24*Input!$F$14)*100","v":0},{"$f":"H$11*Loads!$B50*LAFs!H246*(1-Contrib!H101)/(24*Input!$F$14)*100","v":0},{"$f":"I$11*Loads!$B50*LAFs!I246*(1-Contrib!I101)/(24*Input!$F$14)*100","v":0},{"$f":"J$11*Loads!$B50*LAFs!J246*(1-Contrib!J101)/(24*Input!$F$14)*100","v":0},{"$f":"K$11*Loads!$B50*LAFs!B246*(1-Contrib!K101)/(24*Input!$F$14)*100","v":0},{"$f":"L$11*Loads!$B50*LAFs!C246*(1-Contrib!L101)/(24*Input!$F$14)*100","v":0},{"$f":"M$11*Loads!$B50*LAFs!D246*(1-Contrib!M101)/(24*Input!$F$14)*100","v":0},{"$f":"N$11*Loads!$B50*LAFs!E246*(1-Contrib!N101)/(24*Input!$F$14)*100","v":0},{"$f":"O$11*Loads!$B50*LAFs!F246*(1-Contrib!O101)/(24*Input!$F$14)*100","v":0},{"$f":"P$11*Loads!$B50*LAFs!G246*(1-Contrib!P101)/(24*Input!$F$14)*100","v":0},{"$f":"Q$11*Loads!$B50*LAFs!H246*(1-Contrib!Q101)/(24*Input!$F$14)*100","v":0},{"$f":"R$11*Loads!$B50*LAFs!I246*(1-Contrib!R101)/(24*Input!$F$14)*100","v":0},{"$f":"S$11*Loads!$B50*LAFs!J246*(1-Contrib!S101)/(24*Input!$F$14)*100","v":0}]
["LV Medium Non-Domestic",{"$f":"B$11*Loads!$B51*LAFs!B247*(1-Contrib!B102)/(24*Input!$F$14)*100","v":0},{"$f":"C$11*Loads!$B51*LAFs!C247*(1-Contrib!C102)/(24*Input!$F$14)*100","v":0.19725331554803083},{"$f":"D$11*Loads!$B51*LAFs!D247*(1-Contrib!D102)/(24*Input!$F$14)*100","v":3.0761576658267023E-2},{"$f":"E$11*Loads!$B51*LAFs!E247*(1-Contrib!E102)/(24*Input!$F$14)*100","v":3.5430727234420471E-2},{"$f":"F$11*Loads!$B51*LAFs!F247*(1-Contrib!F102)/(24*Input!$F$14)*100","v":6.0537900564738095E-2},{"$f":"G$11*Loads!$B51*LAFs!G247*(1-Contrib!G102)/(24*Input!$F$14)*100","v":0},{"$f":"H$11*Loads!$B51*LAFs!H247*(1-Contrib!H102)/(24*Input!$F$14)*100","v":0.18945562155897475},{"$f":"I$11*Loads!$B51*LAFs!I247*(1-Contrib!I102)/(24*Input!$F$14)*100","v":6.9510988886524017E-2},{"$f":"J$11*Loads!$B51*LAFs!J247*(1-Contrib!J102)/(24*Input!$F$14)*100","v":2.8124466746091245E-2},{"$f":"K$11*Loads!$B51*LAFs!B247*(1-Contrib!K102)/(24*Input!$F$14)*100","v":6.4335832833773018E-2},{"$f":"L$11*Loads!$B51*LAFs!C247*(1-Contrib!L102)/(24*Input!$F$14)*100","v":0.10078200330568453},{"$f":"M$11*Loads!$B51*LAFs!D247*(1-Contrib!M102)/(24*Input!$F$14)*100","v":1.571691361358455E-2},{"$f":"N$11*Loads!$B51*LAFs!E247*(1-Contrib!N102)/(24*Input!$F$14)*100","v":1.8102507728914152E-2},{"$f":"O$11*Loads!$B51*LAFs!F247*(1-Contrib!O102)/(24*Input!$F$14)*100","v":3.0930435201475842E-2},{"$f":"P$11*Loads!$B51*LAFs!G247*(1-Contrib!P102)/(24*Input!$F$14)*100","v":0},{"$f":"Q$11*Loads!$B51*LAFs!H247*(1-Contrib!Q102)/(24*Input!$F$14)*100","v":0.1578698600813575},{"$f":"R$11*Loads!$B51*LAFs!I247*(1-Contrib!R102)/(24*Input!$F$14)*100","v":9.8996107978095521E-2},{"$f":"S$11*Loads!$B51*LAFs!J247*(1-Contrib!S102)/(24*Input!$F$14)*100","v":0.13770105283210482}]
["LV Sub Medium Non-Domestic",{"$f":"B$11*Loads!$B52*LAFs!B248*(1-Contrib!B103)/(24*Input!$F$14)*100","v":0},{"$f":"C$11*Loads!$B52*LAFs!C248*(1-Contrib!C103)/(24*Input!$F$14)*100","v":0.19249139706683413},{"$f":"D$11*Loads!$B52*LAFs!D248*(1-Contrib!D103)/(24*Input!$F$14)*100","v":3.0018957351753618E-2},{"$f":"E$11*Loads!$B52*LAFs!E248*(1-Contrib!E103)/(24*Input!$F$14)*100","v":3.4575389343895931E-2},{"$f":"F$11*Loads!$B52*LAFs!F248*(1-Contrib!F103)/(24*Input!$F$14)*100","v":5.9076447069210523E-2},{"$f":"G$11*Loads!$B52*LAFs!G248*(1-Contrib!G103)/(24*Input!$F$14)*100","v":0},{"$f":"H$11*Loads!$B52*LAFs!H248*(1-Contrib!H103)/(24*Input!$F$14)*100","v":0.18488194824371629},{"$f":"I$11*Loads!$B52*LAFs!I248*(1-Contrib!I103)/(24*Input!$F$14)*100","v":6.7832914874407374E-2},{"$f":"J$11*Loads!$B52*LAFs!J248*(1-Contrib!J103)/(24*Input!$F$14)*100","v":0},{"$f":"K$11*Loads!$B52*LAFs!B248*(1-Contrib!K103)/(24*Input!$F$14)*100","v":6.2782692951063535E-2},{"$f":"L$11*Loads!$B52*LAFs!C248*(1-Contrib!L103)/(24*Input!$F$14)*100","v":9.8349011582427509E-2},{"$f":"M$11*Loads!$B52*LAFs!D248*(1-Contrib!M103)/(24*Input!$F$14)*100","v":1.5337489515206465E-2},{"$f":"N$11*Loads!$B52*LAFs!E248*(1-Contrib!N103)/(24*Input!$F$14)*100","v":1.7665492686247702E-2},{"$f":"O$11*Loads!$B52*LAFs!F248*(1-Contrib!O103)/(24*Input!$F$14)*100","v":3.0183739458450428E-2},{"$f":"P$11*Loads!$B52*LAFs!G248*(1-Contrib!P103)/(24*Input!$F$14)*100","v":0},{"$f":"Q$11*Loads!$B52*LAFs!H248*(1-Contrib!Q103)/(24*Input!$F$14)*100","v":0.15405870282776854},{"$f":"R$11*Loads!$B52*LAFs!I248*(1-Contrib!R103)/(24*Input!$F$14)*100","v":9.6606229791066284E-2},{"$f":"S$11*Loads!$B52*LAFs!J248*(1-Contrib!S103)/(24*Input!$F$14)*100","v":0}]
["HV Medium Non-Domestic",{"$f":"B$11*Loads!$B53*LAFs!B249*(1-Contrib!B104)/(24*Input!$F$14)*100","v":0},{"$f":"C$11*Loads!$B53*LAFs!C249*(1-Contrib!C104)/(24*Input!$F$14)*100","v":0.16922189276551422},{"$f":"D$11*Loads!$B53*LAFs!D249*(1-Contrib!D104)/(24*Input!$F$14)*100","v":2.6390087345811289E-2},{"$f":"E$11*Loads!$B53*LAFs!E249*(1-Contrib!E104)/(24*Input!$F$14)*100","v":3.0395710754009379E-2},{"$f":"F$11*Loads!$B53*LAFs!F249*(1-Contrib!F104)/(24*Input!$F$14)*100","v":3.855436278845345E-2},{"$f":"G$11*Loads!$B53*LAFs!G249*(1-Contrib!G104)/(24*Input!$F$14)*100","v":0},{"$f":"H$11*Loads!$B53*LAFs!H249*(1-Contrib!H104)/(24*Input!$F$14)*100","v":0.12848777501294892},{"$f":"I$11*Loads!$B53*LAFs!I249*(1-Contrib!I104)/(24*Input!$F$14)*100","v":0},{"$f":"J$11*Loads!$B53*LAFs!J249*(1-Contrib!J104)/(24*Input!$F$14)*100","v":0},{"$f":"K$11*Loads!$B53*LAFs!B249*(1-Contrib!K104)/(24*Input!$F$14)*100","v":5.5193147828867861E-2},{"$f":"L$11*Loads!$B53*LAFs!C249*(1-Contrib!L104)/(24*Input!$F$14)*100","v":8.6459998447709241E-2},{"$f":"M$11*Loads!$B53*LAFs!D249*(1-Contrib!M104)/(24*Input!$F$14)*100","v":1.3483402612186949E-2},{"$f":"N$11*Loads!$B53*LAFs!E249*(1-Contrib!N104)/(24*Input!$F$14)*100","v":1.5529982921596495E-2},{"$f":"O$11*Loads!$B53*LAFs!F249*(1-Contrib!O104)/(24*Input!$F$14)*100","v":2.6534949611938637E-2},{"$f":"P$11*Loads!$B53*LAFs!G249*(1-Contrib!P104)/(24*Input!$F$14)*100","v":0},{"$f":"Q$11*Loads!$B53*LAFs!H249*(1-Contrib!Q104)/(24*Input!$F$14)*100","v":0.13543517106098607},{"$f":"R$11*Loads!$B53*LAFs!I249*(1-Contrib!R104)/(24*Input!$F$14)*100","v":0},{"$f":"S$11*Loads!$B53*LAFs!J249*(1-Contrib!S104)/(24*Input!$F$14)*100","v":0}]
["LV HH Metered",{"$f":"B$11*Loads!$B54*LAFs!B250*(1-Contrib!B105)/(24*Input!$F$14)*100","v":0},{"$f":"C$11*Loads!$B54*LAFs!C250*(1-Contrib!C105)/(24*Input!$F$14)*100","v":0.17698108725665626},{"$f":"D$11*Loads!$B54*LAFs!D250*(1-Contrib!D105)/(24*Input!$F$14)*100","v":2.7600130662358464E-2},{"$f":"E$11*Loads!$B54*LAFs!E250*(1-Contrib!E105)/(24*Input!$F$14)*100","v":3.1789420678786436E-2},{"$f":"F$11*Loads!$B54*LAFs!F250*(1-Contrib!F105)/(24*Input!$F$14)*100","v":5.431626552088975E-2},{"$f":"G$11*Loads!$B54*LAFs!G250*(1-Contrib!G105)/(24*Input!$F$14)*100","v":0},{"$f":"H$11*Loads!$B54*LAFs!H250*(1-Contrib!H105)/(24*Input!$F$14)*100","v":0.1699847822442733},{"$f":"I$11*Loads!$B54*LAFs!I250*(1-Contrib!I105)/(24*Input!$F$14)*100","v":6.2367166580917746E-2},{"$f":"J$11*Loads!$B54*LAFs!J250*(1-Contrib!J105)/(24*Input!$F$14)*100","v":2.5234043287981584E-2},{"$f":"K$11*Loads!$B54*LAFs!B250*(1-Contrib!K105)/(24*Input!$F$14)*100","v":5.7723874566311693E-2},{"$f":"L$11*Loads!$B54*LAFs!C250*(1-Contrib!L105)/(24*Input!$F$14)*100","v":9.0424378781105014E-2},{"$f":"M$11*Loads!$B54*LAFs!D250*(1-Contrib!M105)/(24*Input!$F$14)*100","v":1.4101646159523347E-2},{"$f":"N$11*Loads!$B54*LAFs!E250*(1-Contrib!N105)/(24*Input!$F$14)*100","v":1.6242066659483499E-2},{"$f":"O$11*Loads!$B54*LAFs!F250*(1-Contrib!O105)/(24*Input!$F$14)*100","v":2.7751635180731923E-2},{"$f":"P$11*Loads!$B54*LAFs!G250*(1-Contrib!P105)/(24*Input!$F$14)*100","v":0},{"$f":"Q$11*Loads!$B54*LAFs!H250*(1-Contrib!Q105)/(24*Input!$F$14)*100","v":0.14164517034671342},{"$f":"R$11*Loads!$B54*LAFs!I250*(1-Contrib!R105)/(24*Input!$F$14)*100","v":8.8822024488985019E-2},{"$f":"S$11*Loads!$B54*LAFs!J250*(1-Contrib!S105)/(24*Input!$F$14)*100","v":0.12354916305920345}]
["LV Sub HH Metered",{"$f":"B$11*Loads!$B55*LAFs!B251*(1-Contrib!B106)/(24*Input!$F$14)*100","v":0},{"$f":"C$11*Loads!$B55*LAFs!C251*(1-Contrib!C106)/(24*Input!$F$14)*100","v":0.1727085633303117},{"$f":"D$11*Loads!$B55*LAFs!D251*(1-Contrib!D106)/(24*Input!$F$14)*100","v":2.6933832243397172E-2},{"$f":"E$11*Loads!$B55*LAFs!E251*(1-Contrib!E106)/(24*Input!$F$14)*100","v":3.1021988053300413E-2},{"$f":"F$11*Loads!$B55*LAFs!F251*(1-Contrib!F106)/(24*Input!$F$14)*100","v":5.3005009343040956E-2},{"$f":"G$11*Loads!$B55*LAFs!G251*(1-Contrib!G106)/(24*Input!$F$14)*100","v":0},{"$f":"H$11*Loads!$B55*LAFs!H251*(1-Contrib!H106)/(24*Input!$F$14)*100","v":0.16588115704617576},{"$f":"I$11*Loads!$B55*LAFs!I251*(1-Contrib!I106)/(24*Input!$F$14)*100","v":6.0861552531610533E-2},{"$f":"J$11*Loads!$B55*LAFs!J251*(1-Contrib!J106)/(24*Input!$F$14)*100","v":0},{"$f":"K$11*Loads!$B55*LAFs!B251*(1-Contrib!K106)/(24*Input!$F$14)*100","v":5.6330354846047898E-2},{"$f":"L$11*Loads!$B55*LAFs!C251*(1-Contrib!L106)/(24*Input!$F$14)*100","v":8.8241431846742213E-2},{"$f":"M$11*Loads!$B55*LAFs!D251*(1-Contrib!M106)/(24*Input!$F$14)*100","v":1.3761216447222877E-2},{"$f":"N$11*Loads!$B55*LAFs!E251*(1-Contrib!N106)/(24*Input!$F$14)*100","v":1.5849964771696527E-2},{"$f":"O$11*Loads!$B55*LAFs!F251*(1-Contrib!O106)/(24*Input!$F$14)*100","v":2.7081679271076364E-2},{"$f":"P$11*Loads!$B55*LAFs!G251*(1-Contrib!P106)/(24*Input!$F$14)*100","v":0},{"$f":"Q$11*Loads!$B55*LAFs!H251*(1-Contrib!Q106)/(24*Input!$F$14)*100","v":0.13822569548226166},{"$f":"R$11*Loads!$B55*LAFs!I251*(1-Contrib!R106)/(24*Input!$F$14)*100","v":8.6677760202342857E-2},{"$f":"S$11*Loads!$B55*LAFs!J251*(1-Contrib!S106)/(24*Input!$F$14)*100","v":0}]
["HV HH Metered",{"$f":"B$11*Loads!$B56*LAFs!B252*(1-Contrib!B107)/(24*Input!$F$14)*100","v":0},{"$f":"C$11*Loads!$B56*LAFs!C252*(1-Contrib!C107)/(24*Input!$F$14)*100","v":0.14030811321824516},{"$f":"D$11*Loads!$B56*LAFs!D252*(1-Contrib!D107)/(24*Input!$F$14)*100","v":2.1880994844362428E-2},{"$f":"E$11*Loads!$B56*LAFs!E252*(1-Contrib!E107)/(24*Input!$F$14)*100","v":2.5202204963704889E-2},{"$f":"F$11*Loads!$B56*LAFs!F252*(1-Contrib!F107)/(24*Input!$F$14)*100","v":3.1966844305868838E-2},{"$f":"G$11*Loads!$B56*LAFs!G252*(1-Contrib!G107)/(24*Input!$F$14)*100","v":0},{"$f":"H$11*Loads!$B56*LAFs!H252*(1-Contrib!H107)/(24*Input!$F$14)*100","v":0.10653395366909139},{"$f":"I$11*Loads!$B56*LAFs!I252*(1-Contrib!I107)/(24*Input!$F$14)*100","v":0},{"$f":"J$11*Loads!$B56*LAFs!J252*(1-Contrib!J107)/(24*Input!$F$14)*100","v":0},{"$f":"K$11*Loads!$B56*LAFs!B252*(1-Contrib!K107)/(24*Input!$F$14)*100","v":4.5762674721850735E-2},{"$f":"L$11*Loads!$B56*LAFs!C252*(1-Contrib!L107)/(24*Input!$F$14)*100","v":7.1687173880392113E-2},{"$f":"M$11*Loads!$B56*LAFs!D252*(1-Contrib!M107)/(24*Input!$F$14)*100","v":1.1179586455160167E-2},{"$f":"N$11*Loads!$B56*LAFs!E252*(1-Contrib!N107)/(24*Input!$F$14)*100","v":1.2876481679945076E-2},{"$f":"O$11*Loads!$B56*LAFs!F252*(1-Contrib!O107)/(24*Input!$F$14)*100","v":2.200110549260469E-2},{"$f":"P$11*Loads!$B56*LAFs!G252*(1-Contrib!P107)/(24*Input!$F$14)*100","v":0},{"$f":"Q$11*Loads!$B56*LAFs!H252*(1-Contrib!Q107)/(24*Input!$F$14)*100","v":0.11229429599448248},{"$f":"R$11*Loads!$B56*LAFs!I252*(1-Contrib!R107)/(24*Input!$F$14)*100","v":0},{"$f":"S$11*Loads!$B56*LAFs!J252*(1-Contrib!S107)/(24*Input!$F$14)*100","v":0}]
["HV Sub HH Metered",{"$f":"B$11*Loads!$B57*LAFs!B253*(1-Contrib!B108)/(24*Input!$F$14)*100","v":0},{"$f":"C$11*Loads!$B57*LAFs!C253*(1-Contrib!C108)/(24*Input!$F$14)*100","v":0.13802340256239248},{"$f":"D$11*Loads!$B57*LAFs!D253*(1-Contrib!D108)/(24*Input!$F$14)*100","v":2.1524695119885258E-2},{"$f":"E$11*Loads!$B57*LAFs!E253*(1-Contrib!E108)/(24*Input!$F$14)*100","v":2.4791824231537279E-2},{"$f":"F$11*Loads!$B57*LAFs!F253*(1-Contrib!F108)/(24*Input!$F$14)*100","v":3.1446311400505071E-2},{"$f":"G$11*Loads!$B57*LAFs!G253*(1-Contrib!G108)/(24*Input!$F$14)*100","v":0},{"$f":"H$11*Loads!$B57*LAFs!H253*(1-Contrib!H108)/(24*Input!$F$14)*100","v":0},{"$f":"I$11*Loads!$B57*LAFs!I253*(1-Contrib!I108)/(24*Input!$F$14)*100","v":0},{"$f":"J$11*Loads!$B57*LAFs!J253*(1-Contrib!J108)/(24*Input!$F$14)*100","v":0},{"$f":"K$11*Loads!$B57*LAFs!B253*(1-Contrib!K108)/(24*Input!$F$14)*100","v":4.5017497068334002E-2},{"$f":"L$11*Loads!$B57*LAFs!C253*(1-Contrib!L108)/(24*Input!$F$14)*100","v":7.0519853999197982E-2},{"$f":"M$11*Loads!$B57*LAFs!D253*(1-Contrib!M108)/(24*Input!$F$14)*100","v":1.0997543380698745E-2},{"$f":"N$11*Loads!$B57*LAFs!E253*(1-Contrib!N108)/(24*Input!$F$14)*100","v":1.266680716983103E-2},{"$f":"O$11*Loads!$B57*LAFs!F253*(1-Contrib!O108)/(24*Input!$F$14)*100","v":2.164284994339561E-2},{"$f":"P$11*Loads!$B57*LAFs!G253*(1-Contrib!P108)/(24*Input!$F$14)*100","v":0},{"$f":"Q$11*Loads!$B57*LAFs!H253*(1-Contrib!Q108)/(24*Input!$F$14)*100","v":0},{"$f":"R$11*Loads!$B57*LAFs!I253*(1-Contrib!R108)/(24*Input!$F$14)*100","v":0},{"$f":"S$11*Loads!$B57*LAFs!J253*(1-Contrib!S108)/(24*Input!$F$14)*100","v":0}]
["NHH UMS category A",{"$f":"B$11*Loads!$B58*LAFs!B254*(1-Contrib!B109)/(24*Input!$F$14)*100","v":0},{"$f":"C$11*Loads!$B58*LAFs!C254*(1-Contrib!C109)/(24*Input!$F$14)*100","v":0.12061131267457495},{"$f":"D$11*Loads!$B58*LAFs!D254*(1-Contrib!D109)/(24*Input!$F$14)*100","v":1.8809286578454112E-2},{"$f":"E$11*Loads!$B58*LAFs!E254*(1-Contrib!E109)/(24*Input!$F$14)*100","v":2.1664256993022324E-2},{"$f":"F$11*Loads!$B58*LAFs!F254*(1-Contrib!F109)/(24*Input!$F$14)*100","v":3.7016136501381323E-2},{"$f":"G$11*Loads!$B58*LAFs!G254*(1-Contrib!G109)/(24*Input!$F$14)*100","v":0},{"$f":"H$11*Loads!$B58*LAFs!H254*(1-Contrib!H109)/(24*Input!$F$14)*100","v":0.11584338213185263},{"$f":"I$11*Loads!$B58*LAFs!I254*(1-Contrib!I109)/(24*Input!$F$14)*100","v":4.2502766514309918E-2},{"$f":"J$11*Loads!$B58*LAFs!J254*(1-Contrib!J109)/(24*Input!$F$14)*100","v":1.7196815389866126E-2},{"$f":"K$11*Loads!$B58*LAFs!B254*(1-Contrib!K109)/(24*Input!$F$14)*100","v":3.933839706843318E-2},{"$f":"L$11*Loads!$B58*LAFs!C254*(1-Contrib!L109)/(24*Input!$F$14)*100","v":6.1623550807753752E-2},{"$f":"M$11*Loads!$B58*LAFs!D254*(1-Contrib!M109)/(24*Input!$F$14)*100","v":9.610168411418896E-3},{"$f":"N$11*Loads!$B58*LAFs!E254*(1-Contrib!N109)/(24*Input!$F$14)*100","v":1.1068849280529982E-2},{"$f":"O$11*Loads!$B58*LAFs!F254*(1-Contrib!O109)/(24*Input!$F$14)*100","v":1.8912535796324789E-2},{"$f":"P$11*Loads!$B58*LAFs!G254*(1-Contrib!P109)/(24*Input!$F$14)*100","v":0},{"$f":"Q$11*Loads!$B58*LAFs!H254*(1-Contrib!Q109)/(24*Input!$F$14)*100","v":9.6530144516265862E-2},{"$f":"R$11*Loads!$B58*LAFs!I254*(1-Contrib!R109)/(24*Input!$F$14)*100","v":6.0531558112161009E-2},{"$f":"S$11*Loads!$B58*LAFs!J254*(1-Contrib!S109)/(24*Input!$F$14)*100","v":8.4197848297799902E-2}]
["NHH UMS category B",{"$f":"B$11*Loads!$B59*LAFs!B255*(1-Contrib!B110)/(24*Input!$F$14)*100","v":0},{"$f":"C$11*Loads!$B59*LAFs!C255*(1-Contrib!C110)/(24*Input!$F$14)*100","v":0.25462456247449439},{"$f":"D$11*Loads!$B59*LAFs!D255*(1-Contrib!D110)/(24*Input!$F$14)*100","v":3.9708599958765328E-2},{"$f":"E$11*Loads!$B59*LAFs!E255*(1-Contrib!E110)/(24*Input!$F$14)*100","v":4.5735775822844098E-2},{"$f":"F$11*Loads!$B59*LAFs!F255*(1-Contrib!F110)/(24*Input!$F$14)*100","v":7.8145385802995515E-2},{"$f":"G$11*Loads!$B59*LAFs!G255*(1-Contrib!G110)/(24*Input!$F$14)*100","v":0},{"$f":"H$11*Loads!$B59*LAFs!H255*(1-Contrib!H110)/(24*Input!$F$14)*100","v":0.24455890444103062},{"$f":"I$11*Loads!$B59*LAFs!I255*(1-Contrib!I110)/(24*Input!$F$14)*100","v":8.9728302326512216E-2},{"$f":"J$11*Loads!$B59*LAFs!J255*(1-Contrib!J110)/(24*Input!$F$14)*100","v":3.6304485023006955E-2},{"$f":"K$11*Loads!$B59*LAFs!B255*(1-Contrib!K110)/(24*Input!$F$14)*100","v":8.3047948984881839E-2},{"$f":"L$11*Loads!$B59*LAFs!C255*(1-Contrib!L110)/(24*Input!$F$14)*100","v":0.1300945103291023},{"$f":"M$11*Loads!$B59*LAFs!D255*(1-Contrib!M110)/(24*Input!$F$14)*100","v":2.0288187507468958E-2},{"$f":"N$11*Loads!$B59*LAFs!E255*(1-Contrib!N110)/(24*Input!$F$14)*100","v":2.3367633123730955E-2},{"$f":"O$11*Loads!$B59*LAFs!F255*(1-Contrib!O110)/(24*Input!$F$14)*100","v":3.9926571112077348E-2},{"$f":"P$11*Loads!$B59*LAFs!G255*(1-Contrib!P110)/(24*Input!$F$14)*100","v":0},{"$f":"Q$11*Loads!$B59*LAFs!H255*(1-Contrib!Q110)/(24*Input!$F$14)*100","v":0.20378640500639533},{"$f":"R$11*Loads!$B59*LAFs!I255*(1-Contrib!R110)/(24*Input!$F$14)*100","v":0.1277891862581268},{"$f":"S$11*Loads!$B59*LAFs!J255*(1-Contrib!S110)/(24*Input!$F$14)*100","v":0.1777514878887517}]
["NHH UMS category C",{"$f":"B$11*Loads!$B60*LAFs!B256*(1-Contrib!B111)/(24*Input!$F$14)*100","v":0},{"$f":"C$11*Loads!$B60*LAFs!C256*(1-Contrib!C111)/(24*Input!$F$14)*100","v":0.46748570804098805},{"$f":"D$11*Loads!$B60*LAFs!D256*(1-Contrib!D111)/(24*Input!$F$14)*100","v":7.2904211544395789E-2},{"$f":"E$11*Loads!$B60*LAFs!E256*(1-Contrib!E111)/(24*Input!$F$14)*100","v":8.396998834504775E-2},{"$f":"F$11*Loads!$B60*LAFs!F256*(1-Contrib!F111)/(24*Input!$F$14)*100","v":0.1434733972921757},{"$f":"G$11*Loads!$B60*LAFs!G256*(1-Contrib!G111)/(24*Input!$F$14)*100","v":0},{"$f":"H$11*Loads!$B60*LAFs!H256*(1-Contrib!H111)/(24*Input!$F$14)*100","v":0.44900535710020389},{"$f":"I$11*Loads!$B60*LAFs!I256*(1-Contrib!I111)/(24*Input!$F$14)*100","v":0.16473940509422449},{"$f":"J$11*Loads!$B60*LAFs!J256*(1-Contrib!J111)/(24*Input!$F$14)*100","v":6.6654323216535374E-2},{"$f":"K$11*Loads!$B60*LAFs!B256*(1-Contrib!K111)/(24*Input!$F$14)*100","v":0.15247440724198907},{"$f":"L$11*Loads!$B60*LAFs!C256*(1-Contrib!L111)/(24*Input!$F$14)*100","v":0.23885097212307652},{"$f":"M$11*Loads!$B60*LAFs!D256*(1-Contrib!M111)/(24*Input!$F$14)*100","v":3.7248714772941463E-2},{"$f":"N$11*Loads!$B60*LAFs!E256*(1-Contrib!N111)/(24*Input!$F$14)*100","v":4.2902516591201471E-2},{"$f":"O$11*Loads!$B60*LAFs!F256*(1-Contrib!O111)/(24*Input!$F$14)*100","v":7.3304402311336378E-2},{"$f":"P$11*Loads!$B60*LAFs!G256*(1-Contrib!P111)/(24*Input!$F$14)*100","v":0},{"$f":"Q$11*Loads!$B60*LAFs!H256*(1-Contrib!Q111)/(24*Input!$F$14)*100","v":0.37414784696227071},{"$f":"R$11*Loads!$B60*LAFs!I256*(1-Contrib!R111)/(24*Input!$F$14)*100","v":0.23461844229519768},{"$f":"S$11*Loads!$B60*LAFs!J256*(1-Contrib!S111)/(24*Input!$F$14)*100","v":0.3263482492162787}]
["NHH UMS category D",{"$f":"B$11*Loads!$B61*LAFs!B257*(1-Contrib!B112)/(24*Input!$F$14)*100","v":0},{"$f":"C$11*Loads!$B61*LAFs!C257*(1-Contrib!C112)/(24*Input!$F$14)*100","v":1.3987713416870532E-2},{"$f":"D$11*Loads!$B61*LAFs!D257*(1-Contrib!D112)/(24*Input!$F$14)*100","v":2.1813783831793679E-3},{"$f":"E$11*Loads!$B61*LAFs!E257*(1-Contrib!E112)/(24*Input!$F$14)*100","v":2.5124792317405028E-3},{"$f":"F$11*Loads!$B61*LAFs!F257*(1-Contrib!F112)/(24*Input!$F$14)*100","v":4.2928900921433196E-3},{"$f":"G$11*Loads!$B61*LAFs!G257*(1-Contrib!G112)/(24*Input!$F$14)*100","v":0},{"$f":"H$11*Loads!$B61*LAFs!H257*(1-Contrib!H112)/(24*Input!$F$14)*100","v":1.3434759928974348E-2},{"$f":"I$11*Loads!$B61*LAFs!I257*(1-Contrib!I112)/(24*Input!$F$14)*100","v":4.9291936572352186E-3},{"$f":"J$11*Loads!$B61*LAFs!J257*(1-Contrib!J112)/(24*Input!$F$14)*100","v":1.994374491265969E-3},{"$f":"K$11*Loads!$B61*LAFs!B257*(1-Contrib!K112)/(24*Input!$F$14)*100","v":4.5622107269237752E-3},{"$f":"L$11*Loads!$B61*LAFs!C257*(1-Contrib!L112)/(24*Input!$F$14)*100","v":7.1466975138106204E-3},{"$f":"M$11*Loads!$B61*LAFs!D257*(1-Contrib!M112)/(24*Input!$F$14)*100","v":1.1145246548263986E-3},{"$f":"N$11*Loads!$B61*LAFs!E257*(1-Contrib!N112)/(24*Input!$F$14)*100","v":1.2836929485075155E-3},{"$f":"O$11*Loads!$B61*LAFs!F257*(1-Contrib!O112)/(24*Input!$F$14)*100","v":2.1933525540764852E-3},{"$f":"P$11*Loads!$B61*LAFs!G257*(1-Contrib!P112)/(24*Input!$F$14)*100","v":0},{"$f":"Q$11*Loads!$B61*LAFs!H257*(1-Contrib!Q112)/(24*Input!$F$14)*100","v":1.1194936591277606E-2},{"$f":"R$11*Loads!$B61*LAFs!I257*(1-Contrib!R112)/(24*Input!$F$14)*100","v":7.0200553229534512E-3},{"$f":"S$11*Loads!$B61*LAFs!J257*(1-Contrib!S112)/(24*Input!$F$14)*100","v":9.7647173071107284E-3}]
["LV UMS (Pseudo HH Metered)",{"$f":"B$11*Loads!$B62*LAFs!B258*(1-Contrib!B113)/(24*Input!$F$14)*100","v":0},{"$f":"C$11*Loads!$B62*LAFs!C258*(1-Contrib!C113)/(24*Input!$F$14)*100","v":0.24577181443250617},{"$f":"D$11*Loads!$B62*LAFs!D258*(1-Contrib!D113)/(24*Input!$F$14)*100","v":3.832801739784187E-2},{"$f":"E$11*Loads!$B62*LAFs!E258*(1-Contrib!E113)/(24*Input!$F$14)*100","v":4.4145641328631455E-2},{"$f":"F$11*Loads!$B62*LAFs!F258*(1-Contrib!F113)/(24*Input!$F$14)*100","v":7.5428438920751267E-2},{"$f":"G$11*Loads!$B62*LAFs!G258*(1-Contrib!G113)/(24*Input!$F$14)*100","v":0},{"$f":"H$11*Loads!$B62*LAFs!H258*(1-Contrib!H113)/(24*Input!$F$14)*100","v":0.23605611766586249},{"$f":"I$11*Loads!$B62*LAFs!I258*(1-Contrib!I113)/(24*Input!$F$14)*100","v":8.6608642365146454E-2},{"$f":"J$11*Loads!$B62*LAFs!J258*(1-Contrib!J113)/(24*Input!$F$14)*100","v":3.5042256212167035E-2},{"$f":"K$11*Loads!$B62*LAFs!B258*(1-Contrib!K113)/(24*Input!$F$14)*100","v":8.016055053195098E-2},{"$f":"L$11*Loads!$B62*LAFs!C258*(1-Contrib!L113)/(24*Input!$F$14)*100","v":0.12557140419041335},{"$f":"M$11*Loads!$B62*LAFs!D258*(1-Contrib!M113)/(24*Input!$F$14)*100","v":1.9582810891455225E-2},{"$f":"N$11*Loads!$B62*LAFs!E258*(1-Contrib!N113)/(24*Input!$F$14)*100","v":2.2555190811129121E-2},{"$f":"O$11*Loads!$B62*LAFs!F258*(1-Contrib!O113)/(24*Input!$F$14)*100","v":3.853841016326412E-2},{"$f":"P$11*Loads!$B62*LAFs!G258*(1-Contrib!P113)/(24*Input!$F$14)*100","v":0},{"$f":"Q$11*Loads!$B62*LAFs!H258*(1-Contrib!Q113)/(24*Input!$F$14)*100","v":0.19670119028723446},{"$f":"R$11*Loads!$B62*LAFs!I258*(1-Contrib!R113)/(24*Input!$F$14)*100","v":0.1233462312759372},{"$f":"S$11*Loads!$B62*LAFs!J258*(1-Contrib!S113)/(24*Input!$F$14)*100","v":0.17157145120621342}]
["LV Generation NHH",{"$f":"B$11*Loads!$B63*LAFs!B259*(1-Contrib!B114)/(24*Input!$F$14)*100","v":0},{"$f":"C$11*Loads!$B63*LAFs!C259*(1-Contrib!C114)/(24*Input!$F$14)*100","v":-0.12061131267457495},{"$f":"D$11*Loads!$B63*LAFs!D259*(1-Contrib!D114)/(24*Input!$F$14)*100","v":-1.8809286578454112E-2},{"$f":"E$11*Loads!$B63*LAFs!E259*(1-Contrib!E114)/(24*Input!$F$14)*100","v":-2.1664256993022324E-2},{"$f":"F$11*Loads!$B63*LAFs!F259*(1-Contrib!F114)/(24*Input!$F$14)*100","v":-3.7016136501381323E-2},{"$f":"G$11*Loads!$B63*LAFs!G259*(1-Contrib!G114)/(24*Input!$F$14)*100","v":0},{"$f":"H$11*Loads!$B63*LAFs!H259*(1-Contrib!H114)/(24*Input!$F$14)*100","v":-0.11584338213185263},{"$f":"I$11*Loads!$B63*LAFs!I259*(1-Contrib!I114)/(24*Input!$F$14)*100","v":-4.2502766514309918E-2},{"$f":"J$11*Loads!$B63*LAFs!J259*(1-Contrib!J114)/(24*Input!$F$14)*100","v":0},{"$f":"K$11*Loads!$B63*LAFs!B259*(1-Contrib!K114)/(24*Input!$F$14)*100","v":-3.933839706843318E-2},{"$f":"L$11*Loads!$B63*LAFs!C259*(1-Contrib!L114)/(24*Input!$F$14)*100","v":-6.1623550807753752E-2},{"$f":"M$11*Loads!$B63*LAFs!D259*(1-Contrib!M114)/(24*Input!$F$14)*100","v":-9.610168411418896E-3},{"$f":"N$11*Loads!$B63*LAFs!E259*(1-Contrib!N114)/(24*Input!$F$14)*100","v":-1.1068849280529982E-2},{"$f":"O$11*Loads!$B63*LAFs!F259*(1-Contrib!O114)/(24*Input!$F$14)*100","v":-1.8912535796324789E-2},{"$f":"P$11*Loads!$B63*LAFs!G259*(1-Contrib!P114)/(24*Input!$F$14)*100","v":0},{"$f":"Q$11*Loads!$B63*LAFs!H259*(1-Contrib!Q114)/(24*Input!$F$14)*100","v":-9.6530144516265862E-2},{"$f":"R$11*Loads!$B63*LAFs!I259*(1-Contrib!R114)/(24*Input!$F$14)*100","v":-6.0531558112161009E-2},{"$f":"S$11*Loads!$B63*LAFs!J259*(1-Contrib!S114)/(24*Input!$F$14)*100","v":0}]
["LV Sub Generation NHH",{"$f":"B$11*Loads!$B64*LAFs!B260*(1-Contrib!B115)/(24*Input!$F$14)*100","v":0},{"$f":"C$11*Loads!$B64*LAFs!C260*(1-Contrib!C115)/(24*Input!$F$14)*100","v":-0.11769961896098259},{"$f":"D$11*Loads!$B64*LAFs!D260*(1-Contrib!D115)/(24*Input!$F$14)*100","v":-1.8355209093737487E-2},{"$f":"E$11*Loads!$B64*LAFs!E260*(1-Contrib!E115)/(24*Input!$F$14)*100","v":-2.1141257288455395E-2},{"$f":"F$11*Loads!$B64*LAFs!F260*(1-Contrib!F115)/(24*Input!$F$14)*100","v":-3.6122525035238412E-2},{"$f":"G$11*Loads!$B64*LAFs!G260*(1-Contrib!G115)/(24*Input!$F$14)*100","v":0},{"$f":"H$11*Loads!$B64*LAFs!H260*(1-Contrib!H115)/(24*Input!$F$14)*100","v":-0.11304679166256001},{"$f":"I$11*Loads!$B64*LAFs!I260*(1-Contrib!I115)/(24*Input!$F$14)*100","v":0},{"$f":"J$11*Loads!$B64*LAFs!J260*(1-Contrib!J115)/(24*Input!$F$14)*100","v":0},{"$f":"K$11*Loads!$B64*LAFs!B260*(1-Contrib!K115)/(24*Input!$F$14)*100","v":-3.8388723601600068E-2},{"$f":"L$11*Loads!$B64*LAFs!C260*(1-Contrib!L115)/(24*Input!$F$14)*100","v":-6.0135888485561E-2},{"$f":"M$11*Loads!$B64*LAFs!D260*(1-Contrib!M115)/(24*Input!$F$14)*100","v":-9.3781680597968993E-3},{"$f":"N$11*Loads!$B64*LAFs!E260*(1-Contrib!N115)/(24*Input!$F$14)*100","v":-1.0801634720368625E-2},{"$f":"O$11*Loads!$B64*LAFs!F260*(1-Contrib!O115)/(24*Input!$F$14)*100","v":-1.8455965758530504E-2},{"$f":"P$11*Loads!$B64*LAFs!G260*(1-Contrib!P115)/(24*Input!$F$14)*100","v":0},{"$f":"Q$11*Loads!$B64*LAFs!H260*(1-Contrib!Q115)/(24*Input!$F$14)*100","v":-9.4199797480589986E-2},{"$f":"R$11*Loads!$B64*LAFs!I260*(1-Contrib!R115)/(24*Input!$F$14)*100","v":0},{"$f":"S$11*Loads!$B64*LAFs!J260*(1-Contrib!S115)/(24*Input!$F$14)*100","v":0}]
["LV Generation Intermittent",{"$f":"B$11*Loads!$B65*LAFs!B261*(1-Contrib!B116)/(24*Input!$F$14)*100","v":0},{"$f":"C$11*Loads!$B65*LAFs!C261*(1-Contrib!C116)/(24*Input!$F$14)*100","v":-0.12061131267457495},{"$f":"D$11*Loads!$B65*LAFs!D261*(1-Contrib!D116)/(24*Input!$F$14)*100","v":-1.8809286578454112E-2},{"$f":"E$11*Loads!$B65*LAFs!E261*(1-Contrib!E116)/(24*Input!$F$14)*100","v":-2.1664256993022324E-2},{"$f":"F$11*Loads!$B65*LAFs!F261*(1-Contrib!F116)/(24*Input!$F$14)*100","v":-3.7016136501381323E-2},{"$f":"G$11*Loads!$B65*LAFs!G261*(1-Contrib!G116)/(24*Input!$F$14)*100","v":0},{"$f":"H$11*Loads!$B65*LAFs!H261*(1-Contrib!H116)/(24*Input!$F$14)*100","v":-0.11584338213185263},{"$f":"I$11*Loads!$B65*LAFs!I261*(1-Contrib!I116)/(24*Input!$F$14)*100","v":-4.2502766514309918E-2},{"$f":"J$11*Loads!$B65*LAFs!J261*(1-Contrib!J116)/(24*Input!$F$14)*100","v":0},{"$f":"K$11*Loads!$B65*LAFs!B261*(1-Contrib!K116)/(24*Input!$F$14)*100","v":-3.933839706843318E-2},{"$f":"L$11*Loads!$B65*LAFs!C261*(1-Contrib!L116)/(24*Input!$F$14)*100","v":-6.1623550807753752E-2},{"$f":"M$11*Loads!$B65*LAFs!D261*(1-Contrib!M116)/(24*Input!$F$14)*100","v":-9.610168411418896E-3},{"$f":"N$11*Loads!$B65*LAFs!E261*(1-Contrib!N116)/(24*Input!$F$14)*100","v":-1.1068849280529982E-2},{"$f":"O$11*Loads!$B65*LAFs!F261*(1-Contrib!O116)/(24*Input!$F$14)*100","v":-1.8912535796324789E-2},{"$f":"P$11*Loads!$B65*LAFs!G261*(1-Contrib!P116)/(24*Input!$F$14)*100","v":0},{"$f":"Q$11*Loads!$B65*LAFs!H261*(1-Contrib!Q116)/(24*Input!$F$14)*100","v":-9.6530144516265862E-2},{"$f":"R$11*Loads!$B65*LAFs!I261*(1-Contrib!R116)/(24*Input!$F$14)*100","v":-6.0531558112161009E-2},{"$f":"S$11*Loads!$B65*LAFs!J261*(1-Contrib!S116)/(24*Input!$F$14)*100","v":0}]
["LV Generation Non-Intermittent",{"$f":"B$11*Loads!$B66*LAFs!B262*(1-Contrib!B117)/(24*Input!$F$14)*100","v":0},{"$f":"C$11*Loads!$B66*LAFs!C262*(1-Contrib!C117)/(24*Input!$F$14)*100","v":-0.12061131267457495},{"$f":"D$11*Loads!$B66*LAFs!D262*(1-Contrib!D117)/(24*Input!$F$14)*100","v":-1.8809286578454112E-2},{"$f":"E$11*Loads!$B66*LAFs!E262*(1-Contrib!E117)/(24*Input!$F$14)*100","v":-2.1664256993022324E-2},{"$f":"F$11*Loads!$B66*LAFs!F262*(1-Contrib!F117)/(24*Input!$F$14)*100","v":-3.7016136501381323E-2},{"$f":"G$11*Loads!$B66*LAFs!G262*(1-Contrib!G117)/(24*Input!$F$14)*100","v":0},{"$f":"H$11*Loads!$B66*LAFs!H262*(1-Contrib!H117)/(24*Input!$F$14)*100","v":-0.11584338213185263},{"$f":"I$11*Loads!$B66*LAFs!I262*(1-Contrib!I117)/(24*Input!$F$14)*100","v":-4.2502766514309918E-2},{"$f":"J$11*Loads!$B66*LAFs!J262*(1-Contrib!J117)/(24*Input!$F$14)*100","v":0},{"$f":"K$11*Loads!$B66*LAFs!B262*(1-Contrib!K117)/(24*Input!$F$14)*100","v":-3.933839706843318E-2},{"$f":"L$11*Loads!$B66*LAFs!C262*(1-Contrib!L117)/(24*Input!$F$14)*100","v":-6.1623550807753752E-2},{"$f":"M$11*Loads!$B66*LAFs!D262*(1-Contrib!M117)/(24*Input!$F$14)*100","v":-9.610168411418896E-3},{"$f":"N$11*Loads!$B66*LAFs!E262*(1-Contrib!N117)/(24*Input!$F$14)*100","v":-1.1068849280529982E-2},{"$f":"O$11*Loads!$B66*LAFs!F262*(1-Contrib!O117)/(24*Input!$F$14)*100","v":-1.8912535796324789E-2},{"$f":"P$11*Loads!$B66*LAFs!G262*(1-Contrib!P117)/(24*Input!$F$14)*100","v":0},{"$f":"Q$11*Loads!$B66*LAFs!H262*(1-Contrib!Q117)/(24*Input!$F$14)*100","v":-9.6530144516265862E-2},{"$f":"R$11*Loads!$B66*LAFs!I262*(1-Contrib!R117)/(24*Input!$F$14)*100","v":-6.0531558112161009E-2},{"$f":"S$11*Loads!$B66*LAFs!J262*(1-Contrib!S117)/(24*Input!$F$14)*100","v":0}]
["LV Sub Generation Intermittent",{"$f":"B$11*Loads!$B67*LAFs!B263*(1-Contrib!B118)/(24*Input!$F$14)*100","v":0},{"$f":"C$11*Loads!$B67*LAFs!C263*(1-Contrib!C118)/(24*Input!$F$14)*100","v":-0.11769961896098259},{"$f":"D$11*Loads!$B67*LAFs!D263*(1-Contrib!D118)/(24*Input!$F$14)*100","v":-1.8355209093737487E-2},{"$f":"E$11*Loads!$B67*LAFs!E263*(1-Contrib!E118)/(24*Input!$F$14)*100","v":-2.1141257288455395E-2},{"$f":"F$11*Loads!$B67*LAFs!F263*(1-Contrib!F118)/(24*Input!$F$14)*100","v":-3.6122525035238412E-2},{"$f":"G$11*Loads!$B67*LAFs!G263*(1-Contrib!G118)/(24*Input!$F$14)*100","v":0},{"$f":"H$11*Loads!$B67*LAFs!H263*(1-Contrib!H118)/(24*Input!$F$14)*100","v":-0.11304679166256001},{"$f":"I$11*Loads!$B67*LAFs!I263*(1-Contrib!I118)/(24*Input!$F$14)*100","v":0},{"$f":"J$11*Loads!$B67*LAFs!J263*(1-Contrib!J118)/(24*Input!$F$14)*100","v":0},{"$f":"K$11*Loads!$B67*LAFs!B263*(1-Contrib!K118)/(24*Input!$F$14)*100","v":-3.8388723601600068E-2},{"$f":"L$11*Loads!$B67*LAFs!C263*(1-Contrib!L118)/(24*Input!$F$14)*100","v":-6.0135888485561E-2},{"$f":"M$11*Loads!$B67*LAFs!D263*(1-Contrib!M118)/(24*Input!$F$14)*100","v":-9.3781680597968993E-3},{"$f":"N$11*Loads!$B67*LAFs!E263*(1-Contrib!N118)/(24*Input!$F$14)*100","v":-1.0801634720368625E-2},{"$f":"O$11*Loads!$B67*LAFs!F263*(1-Contrib!O118)/(24*Input!$F$14)*100","v":-1.8455965758530504E-2},{"$f":"P$11*Loads!$B67*LAFs!G263*(1-Contrib!P118)/(24*Input!$F$14)*100","v":0},{"$f":"Q$11*Loads!$B67*LAFs!H263*(1-Contrib!Q118)/(24*Input!$F$14)*100","v":-9.4199797480589986E-2},{"$f":"R$11*Loads!$B67*LAFs!I263*(1-Contrib!R118)/(24*Input!$F$14)*100","v":0},{"$f":"S$11*Loads!$B67*LAFs!J263*(1-Contrib!S118)/(24*Input!$F$14)*100","v":0}]
["LV Sub Generation Non-Intermittent",{"$f":"B$11*Loads!$B68*LAFs!B264*(1-Contrib!B119)/(24*Input!$F$14)*100","v":0},{"$f":"C$11*Loads!$B68*LAFs!C264*(1-Contrib!C119)/(24*Input!$F$14)*100","v":-0.11769961896098259},{"$f":"D$11*Loads!$B68*LAFs!D264*(1-Contrib!D119)/(24*Input!$F$14)*100","v":-1.8355209093737487E-2},{"$f":"E$11*Loads!$B68*LAFs!E264*(1-Contrib!E119)/(24*Input!$F$14)*100","v":-2.1141257288455395E-2},{"$f":"F$11*Loads!$B68*LAFs!F264*(1-Contrib!F119)/(24*Input!$F$14)*100","v":-3.6122525035238412E-2},{"$f":"G$11*Loads!$B68*LAFs!G264*(1-Contrib!G119)/(24*Input!$F$14)*100","v":0},{"$f":"H$11*Loads!$B68*LAFs!H264*(1-Contrib!H119)/(24*Input!$F$14)*100","v":-0.11304679166256001},{"$f":"I$11*Loads!$B68*LAFs!I264*(1-Contrib!I119)/(24*Input!$F$14)*100","v":0},{"$f":"J$11*Loads!$B68*LAFs!J264*(1-Contrib!J119)/(24*Input!$F$14)*100","v":0},{"$f":"K$11*Loads!$B68*LAFs!B264*(1-Contrib!K119)/(24*Input!$F$14)*100","v":-3.8388723601600068E-2},{"$f":"L$11*Loads!$B68*LAFs!C264*(1-Contrib!L119)/(24*Input!$F$14)*100","v":-6.0135888485561E-2},{"$f":"M$11*Loads!$B68*LAFs!D264*(1-Contrib!M119)/(24*Input!$F$14)*100","v":-9.3781680597968993E-3},{"$f":"N$11*Loads!$B68*LAFs!E264*(1-Contrib!N119)/(24*Input!$F$14)*100","v":-1.0801634720368625E-2},{"$f":"O$11*Loads!$B68*LAFs!F264*(1-Contrib!O119)/(24*Input!$F$14)*100","v":-1.8455965758530504E-2},{"$f":"P$11*Loads!$B68*LAFs!G264*(1-Contrib!P119)/(24*Input!$F$14)*100","v":0},{"$f":"Q$11*Loads!$B68*LAFs!H264*(1-Contrib!Q119)/(24*Input!$F$14)*100","v":-9.4199797480589986E-2},{"$f":"R$11*Loads!$B68*LAFs!I264*(1-Contrib!R119)/(24*Input!$F$14)*100","v":0},{"$f":"S$11*Loads!$B68*LAFs!J264*(1-Contrib!S119)/(24*Input!$F$14)*100","v":0}]
["HV Generation Intermittent",{"$f":"B$11*Loads!$B69*LAFs!B265*(1-Contrib!B120)/(24*Input!$F$14)*100","v":0},{"$f":"C$11*Loads!$B69*LAFs!C265*(1-Contrib!C120)/(24*Input!$F$14)*100","v":-0.11691570142270775},{"$f":"D$11*Loads!$B69*LAFs!D265*(1-Contrib!D120)/(24*Input!$F$14)*100","v":-1.823295746323686E-2},{"$f":"E$11*Loads!$B69*LAFs!E265*(1-Contrib!E120)/(24*Input!$F$14)*100","v":-2.1000449675687378E-2},{"$f":"F$11*Loads!$B69*LAFs!F265*(1-Contrib!F120)/(24*Input!$F$14)*100","v":-2.6637276623324626E-2},{"$f":"G$11*Loads!$B69*LAFs!G265*(1-Contrib!G120)/(24*Input!$F$14)*100","v":0},{"$f":"H$11*Loads!$B69*LAFs!H265*(1-Contrib!H120)/(24*Input!$F$14)*100","v":0},{"$f":"I$11*Loads!$B69*LAFs!I265*(1-Contrib!I120)/(24*Input!$F$14)*100","v":0},{"$f":"J$11*Loads!$B69*LAFs!J265*(1-Contrib!J120)/(24*Input!$F$14)*100","v":0},{"$f":"K$11*Loads!$B69*LAFs!B265*(1-Contrib!K120)/(24*Input!$F$14)*100","v":-3.813304228360654E-2},{"$f":"L$11*Loads!$B69*LAFs!C265*(1-Contrib!L120)/(24*Input!$F$14)*100","v":-5.9735364014201417E-2},{"$f":"M$11*Loads!$B69*LAFs!D265*(1-Contrib!M120)/(24*Input!$F$14)*100","v":-9.3157064266679006E-3},{"$f":"N$11*Loads!$B69*LAFs!E265*(1-Contrib!N120)/(24*Input!$F$14)*100","v":-1.0729692338786722E-2},{"$f":"O$11*Loads!$B69*LAFs!F265*(1-Contrib!O120)/(24*Input!$F$14)*100","v":-1.8333043056047427E-2},{"$f":"P$11*Loads!$B69*LAFs!G265*(1-Contrib!P120)/(24*Input!$F$14)*100","v":0},{"$f":"Q$11*Loads!$B69*LAFs!H265*(1-Contrib!Q120)/(24*Input!$F$14)*100","v":0},{"$f":"R$11*Loads!$B69*LAFs!I265*(1-Contrib!R120)/(24*Input!$F$14)*100","v":0},{"$f":"S$11*Loads!$B69*LAFs!J265*(1-Contrib!S120)/(24*Input!$F$14)*100","v":0}]
["HV Generation Non-Intermittent",{"$f":"B$11*Loads!$B70*LAFs!B266*(1-Contrib!B121)/(24*Input!$F$14)*100","v":0},{"$f":"C$11*Loads!$B70*LAFs!C266*(1-Contrib!C121)/(24*Input!$F$14)*100","v":-0.11691570142270775},{"$f":"D$11*Loads!$B70*LAFs!D266*(1-Contrib!D121)/(24*Input!$F$14)*100","v":-1.823295746323686E-2},{"$f":"E$11*Loads!$B70*LAFs!E266*(1-Contrib!E121)/(24*Input!$F$14)*100","v":-2.1000449675687378E-2},{"$f":"F$11*Loads!$B70*LAFs!F266*(1-Contrib!F121)/(24*Input!$F$14)*100","v":-2.6637276623324626E-2},{"$f":"G$11*Loads!$B70*LAFs!G266*(1-Contrib!G121)/(24*Input!$F$14)*100","v":0},{"$f":"H$11*Loads!$B70*LAFs!H266*(1-Contrib!H121)/(24*Input!$F$14)*100","v":0},{"$f":"I$11*Loads!$B70*LAFs!I266*(1-Contrib!I121)/(24*Input!$F$14)*100","v":0},{"$f":"J$11*Loads!$B70*LAFs!J266*(1-Contrib!J121)/(24*Input!$F$14)*100","v":0},{"$f":"K$11*Loads!$B70*LAFs!B266*(1-Contrib!K121)/(24*Input!$F$14)*100","v":-3.813304228360654E-2},{"$f":"L$11*Loads!$B70*LAFs!C266*(1-Contrib!L121)/(24*Input!$F$14)*100","v":-5.9735364014201417E-2},{"$f":"M$11*Loads!$B70*LAFs!D266*(1-Contrib!M121)/(24*Input!$F$14)*100","v":-9.3157064266679006E-3},{"$f":"N$11*Loads!$B70*LAFs!E266*(1-Contrib!N121)/(24*Input!$F$14)*100","v":-1.0729692338786722E-2},{"$f":"O$11*Loads!$B70*LAFs!F266*(1-Contrib!O121)/(24*Input!$F$14)*100","v":-1.8333043056047427E-2},{"$f":"P$11*Loads!$B70*LAFs!G266*(1-Contrib!P121)/(24*Input!$F$14)*100","v":0},{"$f":"Q$11*Loads!$B70*LAFs!H266*(1-Contrib!Q121)/(24*Input!$F$14)*100","v":0},{"$f":"R$11*Loads!$B70*LAFs!I266*(1-Contrib!R121)/(24*Input!$F$14)*100","v":0},{"$f":"S$11*Loads!$B70*LAFs!J266*(1-Contrib!S121)/(24*Input!$F$14)*100","v":0}]
["HV Sub Generation Intermittent",{"$f":"B$11*Loads!$B71*LAFs!B267*(1-Contrib!B122)/(24*Input!$F$14)*100","v":0},{"$f":"C$11*Loads!$B71*LAFs!C267*(1-Contrib!C122)/(24*Input!$F$14)*100","v":-0.11501190168689737},{"$f":"D$11*Loads!$B71*LAFs!D267*(1-Contrib!D122)/(24*Input!$F$14)*100","v":-1.7936060646306751E-2},{"$f":"E$11*Loads!$B71*LAFs!E267*(1-Contrib!E122)/(24*Input!$F$14)*100","v":-2.0658488330393621E-2},{"$f":"F$11*Loads!$B71*LAFs!F267*(1-Contrib!F122)/(24*Input!$F$14)*100","v":0},{"$f":"G$11*Loads!$B71*LAFs!G267*(1-Contrib!G122)/(24*Input!$F$14)*100","v":0},{"$f":"H$11*Loads!$B71*LAFs!H267*(1-Contrib!H122)/(24*Input!$F$14)*100","v":0},{"$f":"I$11*Loads!$B71*LAFs!I267*(1-Contrib!I122)/(24*Input!$F$14)*100","v":0},{"$f":"J$11*Loads!$B71*LAFs!J267*(1-Contrib!J122)/(24*Input!$F$14)*100","v":0},{"$f":"K$11*Loads!$B71*LAFs!B267*(1-Contrib!K122)/(24*Input!$F$14)*100","v":-3.7512101939907963E-2},{"$f":"L$11*Loads!$B71*LAFs!C267*(1-Contrib!L122)/(24*Input!$F$14)*100","v":-5.8762661726613832E-2},{"$f":"M$11*Loads!$B71*LAFs!D267*(1-Contrib!M122)/(24*Input!$F$14)*100","v":-9.1640138890689005E-3},{"$f":"N$11*Loads!$B71*LAFs!E267*(1-Contrib!N122)/(24*Input!$F$14)*100","v":-1.0554975126373531E-2},{"$f":"O$11*Loads!$B71*LAFs!F267*(1-Contrib!O122)/(24*Input!$F$14)*100","v":0},{"$f":"P$11*Loads!$B71*LAFs!G267*(1-Contrib!P122)/(24*Input!$F$14)*100","v":0},{"$f":"Q$11*Loads!$B71*LAFs!H267*(1-Contrib!Q122)/(24*Input!$F$14)*100","v":0},{"$f":"R$11*Loads!$B71*LAFs!I267*(1-Contrib!R122)/(24*Input!$F$14)*100","v":0},{"$f":"S$11*Loads!$B71*LAFs!J267*(1-Contrib!S122)/(24*Input!$F$14)*100","v":0}]
["HV Sub Generation Non-Intermittent",{"$f":"B$11*Loads!$B72*LAFs!B268*(1-Contrib!B123)/(24*Input!$F$14)*100","v":0},{"$f":"C$11*Loads!$B72*LAFs!C268*(1-Contrib!C123)/(24*Input!$F$14)*100","v":-0.11501190168689737},{"$f":"D$11*Loads!$B72*LAFs!D268*(1-Contrib!D123)/(24*Input!$F$14)*100","v":-1.7936060646306751E-2},{"$f":"E$11*Loads!$B72*LAFs!E268*(1-Contrib!E123)/(24*Input!$F$14)*100","v":-2.0658488330393621E-2},{"$f":"F$11*Loads!$B72*LAFs!F268*(1-Contrib!F123)/(24*Input!$F$14)*100","v":0},{"$f":"G$11*Loads!$B72*LAFs!G268*(1-Contrib!G123)/(24*Input!$F$14)*100","v":0},{"$f":"H$11*Loads!$B72*LAFs!H268*(1-Contrib!H123)/(24*Input!$F$14)*100","v":0},{"$f":"I$11*Loads!$B72*LAFs!I268*(1-Contrib!I123)/(24*Input!$F$14)*100","v":0},{"$f":"J$11*Loads!$B72*LAFs!J268*(1-Contrib!J123)/(24*Input!$F$14)*100","v":0},{"$f":"K$11*Loads!$B72*LAFs!B268*(1-Contrib!K123)/(24*Input!$F$14)*100","v":-3.7512101939907963E-2},{"$f":"L$11*Loads!$B72*LAFs!C268*(1-Contrib!L123)/(24*Input!$F$14)*100","v":-5.8762661726613832E-2},{"$f":"M$11*Loads!$B72*LAFs!D268*(1-Contrib!M123)/(24*Input!$F$14)*100","v":-9.1640138890689005E-3},{"$f":"N$11*Loads!$B72*LAFs!E268*(1-Contrib!N123)/(24*Input!$F$14)*100","v":-1.0554975126373531E-2},{"$f":"O$11*Loads!$B72*LAFs!F268*(1-Contrib!O123)/(24*Input!$F$14)*100","v":0},{"$f":"P$11*Loads!$B72*LAFs!G268*(1-Contrib!P123)/(24*Input!$F$14)*100","v":0},{"$f":"Q$11*Loads!$B72*LAFs!H268*(1-Contrib!Q123)/(24*Input!$F$14)*100","v":0},{"$f":"R$11*Loads!$B72*LAFs!I268*(1-Contrib!R123)/(24*Input!$F$14)*100","v":0},{"$f":"S$11*Loads!$B72*LAFs!J268*(1-Contrib!S123)/(24*Input!$F$14)*100","v":0}]
[]
["2903. Pay-as-you-go unit rate 1 p/kWh"]
["Data sources:"]
["x1 = 2437. Unit rate 1 pseudo load coefficient by network level (combined)"]
["x2 = 2901. Unit cost at each level, £/kW/year (relative to system simultaneous maximum load)"]
["x3 = 2012. Loss adjustment factors between end user meter reading and each network level, scaled by network use"]
["x4 = 2804. Proportion of annual charge covered by contributions (for all charging levels)"]
["x5 = 1010. Days in the charging year (in Financial and general assumptions)"]
["x6 = Contributions to pay-as-you-go unit rate 1 (p/kWh) (in Pay-as-you-go unit rate 1 p/kWh)"]
["Kind:","Calculation",null,null,null,null,null,null,null,null,null,null,null,null,null,null,null,null,null,"Cell summation"]
["Formula:","=x1*x2*x3*(1-x4)*100/(24*x5)",null,null,null,null,null,null,null,null,null,null,null,null,null,null,null,null,null,"=SUM(x6)"]
[]
[null,"Contributions to pay-as-you-go unit rate 1 (p/kWh)"]
[null,"GSPs","Assets\n132kV","Assets\n132kV/EHV","Assets\nEHV","Assets\nEHV/HV","Assets\n132kV/HV","Assets\nHV","Assets\nHV/LV","Assets\nLV circuits","Transmission\nexit","Operating\n132kV","Operating\n132kV/EHV","Operating\nEHV","Operating\nEHV/HV","Operating\n132kV/HV","Operating\nHV","Operating\nHV/LV","Operating\nLV circuits","Pay-as-you-go unit rate 1 (p/kWh)"]
["Domestic Two Rate",{"$f":"Multi!B587*B$11*LAFs!B$242*(1-Contrib!B$97)*100/(24*Input!$F$14)","v":0},{"$f":"Multi!C587*C$11*LAFs!C$242*(1-Contrib!C$97)*100/(24*Input!$F$14)","v":0.30756529218351497},{"$f":"Multi!D587*D$11*LAFs!D$242*(1-Contrib!D$97)*100/(24*Input!$F$14)","v":4.7964685848951964E-2},{"$f":"Multi!E587*E$11*LAFs!E$242*(1-Contrib!E$97)*100/(24*Input!$F$14)","v":5.3576969340398718E-2},{"$f":"Multi!F587*F$11*LAFs!F$242*(1-Contrib!F$97)*100/(24*Input!$F$14)","v":9.1543061507868909E-2},{"$f":"Multi!G587*G$11*LAFs!G$242*(1-Contrib!G$97)*100/(24*Input!$F$14)","v":0},{"$f":"Multi!H587*H$11*LAFs!H$242*(1-Contrib!H$97)*100/(24*Input!$F$14)","v":0.28648743110670166},{"$f":"Multi!I587*I$11*LAFs!I$242*(1-Contrib!I$97)*100/(24*Input!$F$14)","v":0.10511181708898412},{"$f":"Multi!J587*J$11*LAFs!J$242*(1-Contrib!J$97)*100/(24*Input!$F$14)","v":4.2528726057492125E-2},{"$f":"Multi!B587*K$11*LAFs!B$242*(1-Contrib!K$97)*100/(24*Input!$F$14)","v":0.10544379411870582},{"$f":"Multi!C587*L$11*LAFs!C$242*(1-Contrib!L$97)*100/(24*Input!$F$14)","v":0.15714334741311406},{"$f":"Multi!D587*M$11*LAFs!D$242*(1-Contrib!M$97)*100/(24*Input!$F$14)","v":2.4506442968296425E-2},{"$f":"Multi!E587*N$11*LAFs!E$242*(1-Contrib!N$97)*100/(24*Input!$F$14)","v":2.7373908956464812E-2},{"$f":"Multi!F587*O$11*LAFs!F$242*(1-Contrib!O$97)*100/(24*Input!$F$14)","v":4.6771802551790496E-2},{"$f":"Multi!G587*P$11*LAFs!G$242*(1-Contrib!P$97)*100/(24*Input!$F$14)","v":0},{"$f":"Multi!H587*Q$11*LAFs!H$242*(1-Contrib!Q$97)*100/(24*Input!$F$14)","v":0.2387246696177015},{"$f":"Multi!I587*R$11*LAFs!I$242*(1-Contrib!R$97)*100/(24*Input!$F$14)","v":0.1496980687658182},{"$f":"Multi!J587*S$11*LAFs!J$242*(1-Contrib!S$97)*100/(24*Input!$F$14)","v":0.20822618279646993},{"$f":"SUM($B65:$S65)","v":1.8926662003222738}]
["Domestic Off Peak (related MPAN)",{"$f":"Multi!B588*B$11*LAFs!B$243*(1-Contrib!B$98)*100/(24*Input!$F$14)","v":0},{"$f":"Multi!C588*C$11*LAFs!C$243*(1-Contrib!C$98)*100/(24*Input!$F$14)","v":2.6927504134923251E-2},{"$f":"Multi!D588*D$11*LAFs!D$243*(1-Contrib!D$98)*100/(24*Input!$F$14)","v":4.1993336353352527E-3},{"$f":"Multi!E588*E$11*LAFs!E$243*(1-Contrib!E$98)*100/(24*Input!$F$14)","v":6.2877830754338284E-3},{"$f":"Multi!F588*F$11*LAFs!F$243*(1-Contrib!F$98)*100/(24*Input!$F$14)","v":1.0743476533088507E-2},{"$f":"Multi!G588*G$11*LAFs!G$243*(1-Contrib!G$98)*100/(24*Input!$F$14)","v":0},{"$f":"Multi!H588*H$11*LAFs!H$243*(1-Contrib!H$98)*100/(24*Input!$F$14)","v":3.3622111194687228E-2},{"$f":"Multi!I588*I$11*LAFs!I$243*(1-Contrib!I$98)*100/(24*Input!$F$14)","v":1.2335903143775924E-2},{"$f":"Multi!J588*J$11*LAFs!J$243*(1-Contrib!J$98)*100/(24*Input!$F$14)","v":4.9911633154364338E-3},{"$f":"Multi!B588*K$11*LAFs!B$243*(1-Contrib!K$98)*100/(24*Input!$F$14)","v":3.5004394590407019E-3},{"$f":"Multi!C588*L$11*LAFs!C$243*(1-Contrib!L$98)*100/(24*Input!$F$14)","v":1.3757983247074302E-2},{"$f":"Multi!D588*M$11*LAFs!D$243*(1-Contrib!M$98)*100/(24*Input!$F$14)","v":2.1455520539272097E-3},{"$f":"Multi!E588*N$11*LAFs!E$243*(1-Contrib!N$98)*100/(24*Input!$F$14)","v":3.2125968221786141E-3},{"$f":"Multi!F588*O$11*LAFs!F$243*(1-Contrib!O$98)*100/(24*Input!$F$14)","v":5.4891299771771002E-3},{"$f":"Multi!G588*P$11*LAFs!G$243*(1-Contrib!P$98)*100/(24*Input!$F$14)","v":0},{"$f":"Multi!H588*Q$11*LAFs!H$243*(1-Contrib!Q$98)*100/(24*Input!$F$14)","v":2.801668246245646E-2},{"$f":"Multi!I588*R$11*LAFs!I$243*(1-Contrib!R$98)*100/(24*Input!$F$14)","v":1.7568537280086404E-2},{"$f":"Multi!J588*S$11*LAFs!J$243*(1-Contrib!S$98)*100/(24*Input!$F$14)","v":2.4437385767966443E-2},0.19723558210258765]
["Small Non Domestic Two Rate",{"$f":"Multi!B589*B$11*LAFs!B$245*(1-Contrib!B$100)*100/(24*Input!$F$14)","v":0},{"$f":"Multi!C589*C$11*LAFs!C$245*(1-Contrib!C$100)*100/(24*Input!$F$14)","v":0.25680545541028649},{"$f":"Multi!D589*D$11*LAFs!D$245*(1-Contrib!D$100)*100/(24*Input!$F$14)","v":4.0048709350799877E-2},{"$f":"Multi!E589*E$11*LAFs!E$245*(1-Contrib!E$100)*100/(24*Input!$F$14)","v":4.4894829373658664E-2},{"$f":"Multi!F589*F$11*LAFs!F$245*(1-Contrib!F$100)*100/(24*Input!$F$14)","v":7.6708521914082742E-2},{"$f":"Multi!G589*G$11*LAFs!G$245*(1-Contrib!G$100)*100/(24*Input!$F$14)","v":0},{"$f":"Multi!H589*H$11*LAFs!H$245*(1-Contrib!H$100)*100/(24*Input!$F$14)","v":0.24006218521835945},{"$f":"Multi!I589*I$11*LAFs!I$245*(1-Contrib!I$100)*100/(24*Input!$F$14)","v":8.8078462657776802E-2},{"$f":"Multi!J589*J$11*LAFs!J$245*(1-Contrib!J$100)*100/(24*Input!$F$14)","v":3.5636952282601261E-2},{"$f":"Multi!B589*K$11*LAFs!B$245*(1-Contrib!K$100)*100/(24*Input!$F$14)","v":8.2857283301423501E-2},{"$f":"Multi!C589*L$11*LAFs!C$245*(1-Contrib!L$100)*100/(24*Input!$F$14)","v":0.13120878695585345},{"$f":"Multi!D589*M$11*LAFs!D$245*(1-Contrib!M$100)*100/(24*Input!$F$14)","v":2.0461958507348416E-2},{"$f":"Multi!E589*N$11*LAFs!E$245*(1-Contrib!N$100)*100/(24*Input!$F$14)","v":2.2937971053989606E-2},{"$f":"Multi!F589*O$11*LAFs!F$245*(1-Contrib!O$100)*100/(24*Input!$F$14)","v":3.9192438857823982E-2},{"$f":"Multi!G589*P$11*LAFs!G$245*(1-Contrib!P$100)*100/(24*Input!$F$14)","v":0},{"$f":"Multi!H589*Q$11*LAFs!H$245*(1-Contrib!Q$100)*100/(24*Input!$F$14)","v":0.20003937217270726},{"$f":"Multi!I589*R$11*LAFs!I$245*(1-Contrib!R$100)*100/(24*Input!$F$14)","v":0.12543951883706181},{"$f":"Multi!J589*S$11*LAFs!J$245*(1-Contrib!S$100)*100/(24*Input!$F$14)","v":0.17448316063534558},1.578855606529119]
["Small Non Domestic Off Peak (related MPAN)",{"$f":"Multi!B590*B$11*LAFs!B$246*(1-Contrib!B$101)*100/(24*Input!$F$14)","v":0},{"$f":"Multi!C590*C$11*LAFs!C$246*(1-Contrib!C$101)*100/(24*Input!$F$14)","v":3.9234502454046284E-2},{"$f":"Multi!D590*D$11*LAFs!D$246*(1-Contrib!D$101)*100/(24*Input!$F$14)","v":6.1186051627873843E-3},{"$f":"Multi!E590*E$11*LAFs!E$246*(1-Contrib!E$101)*100/(24*Input!$F$14)","v":8.2782810348603509E-3},{"$f":"Multi!F590*F$11*LAFs!F$246*(1-Contrib!F$101)*100/(24*Input!$F$14)","v":1.4144495280031193E-2},{"$f":"Multi!G590*G$11*LAFs!G$246*(1-Contrib!G$101)*100/(24*Input!$F$14)","v":0},{"$f":"Multi!H590*H$11*LAFs!H$246*(1-Contrib!H$101)*100/(24*Input!$F$14)","v":4.4265726427870015E-2},{"$f":"Multi!I590*I$11*LAFs!I$246*(1-Contrib!I$101)*100/(24*Input!$F$14)","v":1.624102991751963E-2},{"$f":"Multi!J590*J$11*LAFs!J$246*(1-Contrib!J$101)*100/(24*Input!$F$14)","v":6.5711956217919254E-3},{"$f":"Multi!B590*K$11*LAFs!B$246*(1-Contrib!K$101)*100/(24*Input!$F$14)","v":9.5606434834844267E-3},{"$f":"Multi!C590*L$11*LAFs!C$246*(1-Contrib!L$101)*100/(24*Input!$F$14)","v":2.0045958391293837E-2},{"$f":"Multi!D590*M$11*LAFs!D$246*(1-Contrib!M$101)*100/(24*Input!$F$14)","v":3.1261592943519594E-3},{"$f":"Multi!E590*N$11*LAFs!E$246*(1-Contrib!N$101)*100/(24*Input!$F$14)","v":4.2295955548464796E-3},{"$f":"Multi!F590*O$11*LAFs!F$246*(1-Contrib!O$101)*100/(24*Input!$F$14)","v":7.2268015678663379E-3},{"$f":"Multi!G590*P$11*LAFs!G$246*(1-Contrib!P$101)*100/(24*Input!$F$14)","v":0},{"$f":"Multi!H590*Q$11*LAFs!H$246*(1-Contrib!Q$101)*100/(24*Input!$F$14)","v":3.6885809880242364E-2},{"$f":"Multi!I590*R$11*LAFs!I$246*(1-Contrib!R$101)*100/(24*Input!$F$14)","v":2.3130137797564176E-2},{"$f":"Multi!J590*S$11*LAFs!J$246*(1-Contrib!S$101)*100/(24*Input!$F$14)","v":3.2173429763329597E-2},0.27123237163188596]
["LV Medium Non-Domestic",{"$f":"Multi!B591*B$11*LAFs!B$247*(1-Contrib!B$102)*100/(24*Input!$F$14)","v":0},{"$f":"Multi!C591*C$11*LAFs!C$247*(1-Contrib!C$102)*100/(24*Input!$F$14)","v":0.24610996740525137},{"$f":"Multi!D591*D$11*LAFs!D$247*(1-Contrib!D$102)*100/(24*Input!$F$14)","v":3.8380752220394394E-2},{"$f":"Multi!E591*E$11*LAFs!E$247*(1-Contrib!E$102)*100/(24*Input!$F$14)","v":4.2941372853643363E-2},{"$f":"Multi!F591*F$11*LAFs!F$247*(1-Contrib!F$102)*100/(24*Input!$F$14)","v":7.3370793174173068E-2},{"$f":"Multi!G591*G$11*LAFs!G$247*(1-Contrib!G$102)*100/(24*Input!$F$14)","v":0},{"$f":"Multi!H591*H$11*LAFs!H$247*(1-Contrib!H$102)*100/(24*Input!$F$14)","v":0.22961663842674881},{"$f":"Multi!I591*I$11*LAFs!I$247*(1-Contrib!I$102)*100/(24*Input!$F$14)","v":8.424600690391422E-2},{"$f":"Multi!J591*J$11*LAFs!J$247*(1-Contrib!J$102)*100/(24*Input!$F$14)","v":3.4086323006108962E-2},{"$f":"Multi!B591*K$11*LAFs!B$247*(1-Contrib!K$102)*100/(24*Input!$F$14)","v":8.0152977549314455E-2},{"$f":"Multi!C591*L$11*LAFs!C$247*(1-Contrib!L$102)*100/(24*Input!$F$14)","v":0.12574417560326562},{"$f":"Multi!D591*M$11*LAFs!D$247*(1-Contrib!M$102)*100/(24*Input!$F$14)","v":1.9609754525056752E-2},{"$f":"Multi!E591*N$11*LAFs!E$247*(1-Contrib!N$102)*100/(24*Input!$F$14)","v":2.1939897785052568E-2},{"$f":"Multi!F591*O$11*LAFs!F$247*(1-Contrib!O$102)*100/(24*Input!$F$14)","v":3.7487103827259463E-2},{"$f":"Multi!G591*P$11*LAFs!G$247*(1-Contrib!P$102)*100/(24*Input!$F$14)","v":0},{"$f":"Multi!H591*Q$11*LAFs!H$247*(1-Contrib!Q$102)*100/(24*Input!$F$14)","v":0.191335291518381},{"$f":"Multi!I591*R$11*LAFs!I$247*(1-Contrib!R$102)*100/(24*Input!$F$14)","v":0.11998141487813209},{"$f":"Multi!J591*S$11*LAFs!J$247*(1-Contrib!S$102)*100/(24*Input!$F$14)","v":0.16689107770438832},1.5118935473810846]
["LV Sub Medium Non-Domestic",{"$f":"Multi!B592*B$11*LAFs!B$248*(1-Contrib!B$103)*100/(24*Input!$F$14)","v":0},{"$f":"Multi!C592*C$11*LAFs!C$248*(1-Contrib!C$103)*100/(24*Input!$F$14)","v":0.24426452684479544},{"$f":"Multi!D592*D$11*LAFs!D$248*(1-Contrib!D$103)*100/(24*Input!$F$14)","v":3.8092956493812967E-2},{"$f":"Multi!E592*E$11*LAFs!E$248*(1-Contrib!E$103)*100/(24*Input!$F$14)","v":4.2619379591764255E-2},{"$f":"Multi!F592*F$11*LAFs!F$248*(1-Contrib!F$103)*100/(24*Input!$F$14)","v":7.2820626762369459E-2},{"$f":"Multi!G592*G$11*LAFs!G$248*(1-Contrib!G$103)*100/(24*Input!$F$14)","v":0},{"$f":"Multi!H592*H$11*LAFs!H$248*(1-Contrib!H$103)*100/(24*Input!$F$14)","v":0.22789487208637735},{"$f":"Multi!I592*I$11*LAFs!I$248*(1-Contrib!I$103)*100/(24*Input!$F$14)","v":8.361429336611613E-2},{"$f":"Multi!J592*J$11*LAFs!J$248*(1-Contrib!J$103)*100/(24*Input!$F$14)","v":0},{"$f":"Multi!B592*K$11*LAFs!B$248*(1-Contrib!K$103)*100/(24*Input!$F$14)","v":7.9551955342167274E-2},{"$f":"Multi!C592*L$11*LAFs!C$248*(1-Contrib!L$103)*100/(24*Input!$F$14)","v":0.1248012905818018},{"$f":"Multi!D592*M$11*LAFs!D$248*(1-Contrib!M$103)*100/(24*Input!$F$14)","v":1.9462711978333991E-2},{"$f":"Multi!E592*N$11*LAFs!E$248*(1-Contrib!N$103)*100/(24*Input!$F$14)","v":2.177538280139843E-2},{"$f":"Multi!F592*O$11*LAFs!F$248*(1-Contrib!O$103)*100/(24*Input!$F$14)","v":3.7206009068578121E-2},{"$f":"Multi!G592*P$11*LAFs!G$248*(1-Contrib!P$103)*100/(24*Input!$F$14)","v":0},{"$f":"Multi!H592*Q$11*LAFs!H$248*(1-Contrib!Q$103)*100/(24*Input!$F$14)","v":0.18990057551992942},{"$f":"Multi!I592*R$11*LAFs!I$248*(1-Contrib!R$103)*100/(24*Input!$F$14)","v":0.11908174156602928},{"$f":"Multi!J592*S$11*LAFs!J$248*(1-Contrib!S$103)*100/(24*Input!$F$14)","v":0},1.3010863220034738]
["HV Medium Non-Domestic",{"$f":"Multi!B593*B$11*LAFs!B$249*(1-Contrib!B$104)*100/(24*Input!$F$14)","v":0},{"$f":"Multi!C593*C$11*LAFs!C$249*(1-Contrib!C$104)*100/(24*Input!$F$14)","v":0.22355405203528234},{"$f":"Multi!D593*D$11*LAFs!D$249*(1-Contrib!D$104)*100/(24*Input!$F$14)","v":3.4863166126477836E-2},{"$f":"Multi!E593*E$11*LAFs!E$249*(1-Contrib!E$104)*100/(24*Input!$F$14)","v":3.9072022605743668E-2},{"$f":"Multi!F593*F$11*LAFs!F$249*(1-Contrib!F$104)*100/(24*Input!$F$14)","v":4.9559523269966398E-2},{"$f":"Multi!G593*G$11*LAFs!G$249*(1-Contrib!G$104)*100/(24*Input!$F$14)","v":0},{"$f":"Multi!H593*H$11*LAFs!H$249*(1-Contrib!H$104)*100/(24*Input!$F$14)","v":0.16516400259551225},{"$f":"Multi!I593*I$11*LAFs!I$249*(1-Contrib!I$104)*100/(24*Input!$F$14)","v":0},{"$f":"Multi!J593*J$11*LAFs!J$249*(1-Contrib!J$104)*100/(24*Input!$F$14)","v":0},{"$f":"Multi!B593*K$11*LAFs!B$249*(1-Contrib!K$104)*100/(24*Input!$F$14)","v":7.134310119957922E-2},{"$f":"Multi!C593*L$11*LAFs!C$249*(1-Contrib!L$104)*100/(24*Input!$F$14)","v":0.1142197541705347},{"$f":"Multi!D593*M$11*LAFs!D$249*(1-Contrib!M$104)*100/(24*Input!$F$14)","v":1.7812525553973602E-2},{"$f":"Multi!E593*N$11*LAFs!E$249*(1-Contrib!N$104)*100/(24*Input!$F$14)","v":1.9962943083980764E-2},{"$f":"Multi!F593*O$11*LAFs!F$249*(1-Contrib!O$104)*100/(24*Input!$F$14)","v":3.4109225458502521E-2},{"$f":"Multi!G593*P$11*LAFs!G$249*(1-Contrib!P$104)*100/(24*Input!$F$14)","v":0},{"$f":"Multi!H593*Q$11*LAFs!H$249*(1-Contrib!Q$104)*100/(24*Input!$F$14)","v":0.17409449998169879},{"$f":"Multi!I593*R$11*LAFs!I$249*(1-Contrib!R$104)*100/(24*Input!$F$14)","v":0},{"$f":"Multi!J593*S$11*LAFs!J$249*(1-Contrib!S$104)*100/(24*Input!$F$14)","v":0},0.943754816081252]
["LV HH Metered",{"$f":"Multi!B594*B$11*LAFs!B$250*(1-Contrib!B$105)*100/(24*Input!$F$14)","v":0},{"$f":"Multi!C594*C$11*LAFs!C$250*(1-Contrib!C$105)*100/(24*Input!$F$14)","v":1.1528364245744598},{"$f":"Multi!D594*D$11*LAFs!D$250*(1-Contrib!D$105)*100/(24*Input!$F$14)","v":0.17978438512154957},{"$f":"Multi!E594*E$11*LAFs!E$250*(1-Contrib!E$105)*100/(24*Input!$F$14)","v":0.19051812302411245},{"$f":"Multi!F594*F$11*LAFs!F$250*(1-Contrib!F$105)*100/(24*Input!$F$14)","v":0.32552442717601215},{"$f":"Multi!G594*G$11*LAFs!G$250*(1-Contrib!G$105)*100/(24*Input!$F$14)","v":0},{"$f":"Multi!H594*H$11*LAFs!H$250*(1-Contrib!H$105)*100/(24*Input!$F$14)","v":1.0187408566854619},{"$f":"Multi!I594*I$11*LAFs!I$250*(1-Contrib!I$105)*100/(24*Input!$F$14)","v":0.37377452188858834},{"$f":"Multi!J594*J$11*LAFs!J$250*(1-Contrib!J$105)*100/(24*Input!$F$14)","v":0.15123089571568069},{"$f":"Multi!B594*K$11*LAFs!B$250*(1-Contrib!K$105)*100/(24*Input!$F$14)","v":0.47524657784527025},{"$f":"Multi!C594*L$11*LAFs!C$250*(1-Contrib!L$105)*100/(24*Input!$F$14)","v":0.58901501366189124},{"$f":"Multi!D594*M$11*LAFs!D$250*(1-Contrib!M$105)*100/(24*Input!$F$14)","v":9.1856658760285897E-2},{"$f":"Multi!E594*N$11*LAFs!E$250*(1-Contrib!N$105)*100/(24*Input!$F$14)","v":9.7340813010230731E-2},{"$f":"Multi!F594*O$11*LAFs!F$250*(1-Contrib!O$105)*100/(24*Input!$F$14)","v":0.16631915060381061},{"$f":"Multi!G594*P$11*LAFs!G$250*(1-Contrib!P$105)*100/(24*Input!$F$14)","v":0},{"$f":"Multi!H594*Q$11*LAFs!H$250*(1-Contrib!Q$105)*100/(24*Input!$F$14)","v":0.84889788532367527},{"$f":"Multi!I594*R$11*LAFs!I$250*(1-Contrib!R$105)*100/(24*Input!$F$14)","v":0.53232191803154261},{"$f":"Multi!J594*S$11*LAFs!J$250*(1-Contrib!S$105)*100/(24*Input!$F$14)","v":0.74044616556812415},6.9338538169906965]
["LV Sub HH Metered",{"$f":"Multi!B595*B$11*LAFs!B$251*(1-Contrib!B$106)*100/(24*Input!$F$14)","v":0},{"$f":"Multi!C595*C$11*LAFs!C$251*(1-Contrib!C$106)*100/(24*Input!$F$14)","v":1.1620526300969862},{"$f":"Multi!D595*D$11*LAFs!D$251*(1-Contrib!D$106)*100/(24*Input!$F$14)","v":0.18122164873302235},{"$f":"Multi!E595*E$11*LAFs!E$251*(1-Contrib!E$106)*100/(24*Input!$F$14)","v":0.19204119615064408},{"$f":"Multi!F595*F$11*LAFs!F$251*(1-Contrib!F$106)*100/(24*Input!$F$14)","v":0.32812679118837768},{"$f":"Multi!G595*G$11*LAFs!G$251*(1-Contrib!G$106)*100/(24*Input!$F$14)","v":0},{"$f":"Multi!H595*H$11*LAFs!H$251*(1-Contrib!H$106)*100/(24*Input!$F$14)","v":1.0268850520884425},{"$f":"Multi!I595*I$11*LAFs!I$251*(1-Contrib!I$106)*100/(24*Input!$F$14)","v":0.37676261520293763},{"$f":"Multi!J595*J$11*LAFs!J$251*(1-Contrib!J$106)*100/(24*Input!$F$14)","v":0},{"$f":"Multi!B595*K$11*LAFs!B$251*(1-Contrib!K$106)*100/(24*Input!$F$14)","v":0.47904587672404769},{"$f":"Multi!C595*L$11*LAFs!C$251*(1-Contrib!L$106)*100/(24*Input!$F$14)","v":0.59372381996436863},{"$f":"Multi!D595*M$11*LAFs!D$251*(1-Contrib!M$106)*100/(24*Input!$F$14)","v":9.2590995243503685E-2},{"$f":"Multi!E595*N$11*LAFs!E$251*(1-Contrib!N$106)*100/(24*Input!$F$14)","v":9.811899187351851E-2},{"$f":"Multi!F595*O$11*LAFs!F$251*(1-Contrib!O$106)*100/(24*Input!$F$14)","v":0.16764876809474169},{"$f":"Multi!G595*P$11*LAFs!G$251*(1-Contrib!P$106)*100/(24*Input!$F$14)","v":0},{"$f":"Multi!H595*Q$11*LAFs!H$251*(1-Contrib!Q$106)*100/(24*Input!$F$14)","v":0.85568429249472644},{"$f":"Multi!I595*R$11*LAFs!I$251*(1-Contrib!R$106)*100/(24*Input!$F$14)","v":0.53657749852513692},{"$f":"Multi!J595*S$11*LAFs!J$251*(1-Contrib!S$106)*100/(24*Input!$F$14)","v":0},6.0904801763804546]
["HV HH Metered",{"$f":"Multi!B596*B$11*LAFs!B$252*(1-Contrib!B$107)*100/(24*Input!$F$14)","v":0},{"$f":"Multi!C596*C$11*LAFs!C$252*(1-Contrib!C$107)*100/(24*Input!$F$14)","v":1.0136384246247745},{"$f":"Multi!D596*D$11*LAFs!D$252*(1-Contrib!D$107)*100/(24*Input!$F$14)","v":0.15807651200300094},{"$f":"Multi!E596*E$11*LAFs!E$252*(1-Contrib!E$107)*100/(24*Input!$F$14)","v":0.16751421621321022},{"$f":"Multi!F596*F$11*LAFs!F$252*(1-Contrib!F$107)*100/(24*Input!$F$14)","v":0.2124774747455325},{"$f":"Multi!G596*G$11*LAFs!G$252*(1-Contrib!G$107)*100/(24*Input!$F$14)","v":0},{"$f":"Multi!H596*H$11*LAFs!H$252*(1-Contrib!H$107)*100/(24*Input!$F$14)","v":0.70811072978230483},{"$f":"Multi!I596*I$11*LAFs!I$252*(1-Contrib!I$107)*100/(24*Input!$F$14)","v":0},{"$f":"Multi!J596*J$11*LAFs!J$252*(1-Contrib!J$107)*100/(24*Input!$F$14)","v":0},{"$f":"Multi!B596*K$11*LAFs!B$252*(1-Contrib!K$107)*100/(24*Input!$F$14)","v":0.41786343856476671},{"$f":"Multi!C596*L$11*LAFs!C$252*(1-Contrib!L$107)*100/(24*Input!$F$14)","v":0.51789502639020513},{"$f":"Multi!D596*M$11*LAFs!D$252*(1-Contrib!M$107)*100/(24*Input!$F$14)","v":8.0765524832753871E-2},{"$f":"Multi!E596*N$11*LAFs!E$252*(1-Contrib!N$107)*100/(24*Input!$F$14)","v":8.5587500748691162E-2},{"$f":"Multi!F596*O$11*LAFs!F$252*(1-Contrib!O$107)*100/(24*Input!$F$14)","v":0.14623712281229048},{"$f":"Multi!G596*P$11*LAFs!G$252*(1-Contrib!P$107)*100/(24*Input!$F$14)","v":0},{"$f":"Multi!H596*Q$11*LAFs!H$252*(1-Contrib!Q$107)*100/(24*Input!$F$14)","v":0.74639861892324844},{"$f":"Multi!I596*R$11*LAFs!I$252*(1-Contrib!R$107)*100/(24*Input!$F$14)","v":0},{"$f":"Multi!J596*S$11*LAFs!J$252*(1-Contrib!S$107)*100/(24*Input!$F$14)","v":0},4.2545645896407782]
["HV Sub HH Metered",{"$f":"Multi!B597*B$11*LAFs!B$253*(1-Contrib!B$108)*100/(24*Input!$F$14)","v":0},{"$f":"Multi!C597*C$11*LAFs!C$253*(1-Contrib!C$108)*100/(24*Input!$F$14)","v":0.92349450327314819},{"$f":"Multi!D597*D$11*LAFs!D$253*(1-Contrib!D$108)*100/(24*Input!$F$14)","v":0.14401860306884343},{"$f":"Multi!E597*E$11*LAFs!E$253*(1-Contrib!E$108)*100/(24*Input!$F$14)","v":0.15261700240919254},{"$f":"Multi!F597*F$11*LAFs!F$253*(1-Contrib!F$108)*100/(24*Input!$F$14)","v":0.19358163150681196},{"$f":"Multi!G597*G$11*LAFs!G$253*(1-Contrib!G$108)*100/(24*Input!$F$14)","v":0},{"$f":"Multi!H597*H$11*LAFs!H$253*(1-Contrib!H$108)*100/(24*Input!$F$14)","v":0},{"$f":"Multi!I597*I$11*LAFs!I$253*(1-Contrib!I$108)*100/(24*Input!$F$14)","v":0},{"$f":"Multi!J597*J$11*LAFs!J$253*(1-Contrib!J$108)*100/(24*Input!$F$14)","v":0},{"$f":"Multi!B597*K$11*LAFs!B$253*(1-Contrib!K$108)*100/(24*Input!$F$14)","v":0.38070240754362494},{"$f":"Multi!C597*L$11*LAFs!C$253*(1-Contrib!L$108)*100/(24*Input!$F$14)","v":0.47183808202703259},{"$f":"Multi!D597*M$11*LAFs!D$253*(1-Contrib!M$108)*100/(24*Input!$F$14)","v":7.3582962548632017E-2},{"$f":"Multi!E597*N$11*LAFs!E$253*(1-Contrib!N$108)*100/(24*Input!$F$14)","v":7.797611512168294E-2},{"$f":"Multi!F597*O$11*LAFs!F$253*(1-Contrib!O$108)*100/(24*Input!$F$14)","v":0.13323210309595621},{"$f":"Multi!G597*P$11*LAFs!G$253*(1-Contrib!P$108)*100/(24*Input!$F$14)","v":0},{"$f":"Multi!H597*Q$11*LAFs!H$253*(1-Contrib!Q$108)*100/(24*Input!$F$14)","v":0},{"$f":"Multi!I597*R$11*LAFs!I$253*(1-Contrib!R$108)*100/(24*Input!$F$14)","v":0},{"$f":"Multi!J597*S$11*LAFs!J$253*(1-Contrib!S$108)*100/(24*Input!$F$14)","v":0},2.5510434105949247]
["LV Generation Non-Intermittent",{"$f":"Multi!B598*B$11*LAFs!B$262*(1-Contrib!B$117)*100/(24*Input!$F$14)","v":0},{"$f":"Multi!C598*C$11*LAFs!C$262*(1-Contrib!C$117)*100/(24*Input!$F$14)","v":-0.96845528726891983},{"$f":"Multi!D598*D$11*LAFs!D$262*(1-Contrib!D$117)*100/(24*Input!$F$14)","v":-0.15103021957657681},{"$f":"Multi!E598*E$11*LAFs!E$262*(1-Contrib!E$117)*100/(24*Input!$F$14)","v":-0.16004723621684555},{"$f":"Multi!F598*F$11*LAFs!F$262*(1-Contrib!F$117)*100/(24*Input!$F$14)","v":-0.2734610443542882},{"$f":"Multi!G598*G$11*LAFs!G$262*(1-Contrib!G$117)*100/(24*Input!$F$14)","v":0},{"$f":"Multi!H598*H$11*LAFs!H$262*(1-Contrib!H$117)*100/(24*Input!$F$14)","v":-0.85580655501762481},{"$f":"Multi!I598*I$11*LAFs!I$262*(1-Contrib!I$117)*100/(24*Input!$F$14)","v":-0.31399416626086663},{"$f":"Multi!J598*J$11*LAFs!J$262*(1-Contrib!J$117)*100/(24*Input!$F$14)","v":0},{"$f":"Multi!B598*K$11*LAFs!B$262*(1-Contrib!K$117)*100/(24*Input!$F$14)","v":-0.39923709145519387},{"$f":"Multi!C598*L$11*LAFs!C$262*(1-Contrib!L$117)*100/(24*Input!$F$14)","v":-0.49480975106437591},{"$f":"Multi!D598*M$11*LAFs!D$262*(1-Contrib!M$117)*100/(24*Input!$F$14)","v":-7.7165385262781577E-2},{"$f":"Multi!E598*N$11*LAFs!E$262*(1-Contrib!N$117)*100/(24*Input!$F$14)","v":-8.1772420629067699E-2},{"$f":"Multi!F598*O$11*LAFs!F$262*(1-Contrib!O$117)*100/(24*Input!$F$14)","v":-0.13971857354853437},{"$f":"Multi!G598*P$11*LAFs!G$262*(1-Contrib!P$117)*100/(24*Input!$F$14)","v":0},{"$f":"Multi!H598*Q$11*LAFs!H$262*(1-Contrib!Q$117)*100/(24*Input!$F$14)","v":-0.71312774984237925},{"$f":"Multi!I598*R$11*LAFs!I$262*(1-Contrib!R$117)*100/(24*Input!$F$14)","v":-0.44718397602424359},{"$f":"Multi!J598*S$11*LAFs!J$262*(1-Contrib!S$117)*100/(24*Input!$F$14)","v":0},-5.0758094565216982]
["LV Sub Generation Non-Intermittent",{"$f":"Multi!B599*B$11*LAFs!B$264*(1-Contrib!B$119)*100/(24*Input!$F$14)","v":0},{"$f":"Multi!C599*C$11*LAFs!C$264*(1-Contrib!C$119)*100/(24*Input!$F$14)","v":-0.9450756795911186},{"$f":"Multi!D599*D$11*LAFs!D$264*(1-Contrib!D$119)*100/(24*Input!$F$14)","v":-0.14738417899255546},{"$f":"Multi!E599*E$11*LAFs!E$264*(1-Contrib!E$119)*100/(24*Input!$F$14)","v":-0.15618351463686597},{"$f":"Multi!F599*F$11*LAFs!F$264*(1-Contrib!F$119)*100/(24*Input!$F$14)","v":-0.26685938497340467},{"$f":"Multi!G599*G$11*LAFs!G$264*(1-Contrib!G$119)*100/(24*Input!$F$14)","v":0},{"$f":"Multi!H599*H$11*LAFs!H$264*(1-Contrib!H$119)*100/(24*Input!$F$14)","v":-0.83514641534217604},{"$f":"Multi!I599*I$11*LAFs!I$264*(1-Contrib!I$119)*100/(24*Input!$F$14)","v":0},{"$f":"Multi!J599*J$11*LAFs!J$264*(1-Contrib!J$119)*100/(24*Input!$F$14)","v":0},{"$f":"Multi!B599*K$11*LAFs!B$264*(1-Contrib!K$119)*100/(24*Input!$F$14)","v":-0.38959905582117804},{"$f":"Multi!C599*L$11*LAFs!C$264*(1-Contrib!L$119)*100/(24*Input!$F$14)","v":-0.48286448316495734},{"$f":"Multi!D599*M$11*LAFs!D$264*(1-Contrib!M$119)*100/(24*Input!$F$14)","v":-7.530252545142381E-2},{"$f":"Multi!E599*N$11*LAFs!E$264*(1-Contrib!N$119)*100/(24*Input!$F$14)","v":-7.9798341765227626E-2},{"$f":"Multi!F599*O$11*LAFs!F$264*(1-Contrib!O$119)*100/(24*Input!$F$14)","v":-0.13634560891319369},{"$f":"Multi!G599*P$11*LAFs!G$264*(1-Contrib!P$119)*100/(24*Input!$F$14)","v":0},{"$f":"Multi!H599*Q$11*LAFs!H$264*(1-Contrib!Q$119)*100/(24*Input!$F$14)","v":-0.69591203814702007},{"$f":"Multi!I599*R$11*LAFs!I$264*(1-Contrib!R$119)*100/(24*Input!$F$14)","v":0},{"$f":"Multi!J599*S$11*LAFs!J$264*(1-Contrib!S$119)*100/(24*Input!$F$14)","v":0},-4.2104712267991209]
["HV Generation Non-Intermittent",{"$f":"Multi!B600*B$11*LAFs!B$266*(1-Contrib!B$121)*100/(24*Input!$F$14)","v":0},{"$f":"Multi!C600*C$11*LAFs!C$266*(1-Contrib!C$121)*100/(24*Input!$F$14)","v":-0.93878116983171067},{"$f":"Multi!D600*D$11*LAFs!D$266*(1-Contrib!D$121)*100/(24*Input!$F$14)","v":-0.14640255268147279},{"$f":"Multi!E600*E$11*LAFs!E$266*(1-Contrib!E$121)*100/(24*Input!$F$14)","v":-0.15514328190379456},{"$f":"Multi!F600*F$11*LAFs!F$266*(1-Contrib!F$121)*100/(24*Input!$F$14)","v":-0.19678600125911555},{"$f":"Multi!G600*G$11*LAFs!G$266*(1-Contrib!G$121)*100/(24*Input!$F$14)","v":0},{"$f":"Multi!H600*H$11*LAFs!H$266*(1-Contrib!H$121)*100/(24*Input!$F$14)","v":0},{"$f":"Multi!I600*I$11*LAFs!I$266*(1-Contrib!I$121)*100/(24*Input!$F$14)","v":0},{"$f":"Multi!J600*J$11*LAFs!J$266*(1-Contrib!J$121)*100/(24*Input!$F$14)","v":0},{"$f":"Multi!B600*K$11*LAFs!B$266*(1-Contrib!K$121)*100/(24*Input!$F$14)","v":-0.3870042000735584},{"$f":"Multi!C600*L$11*LAFs!C$266*(1-Contrib!L$121)*100/(24*Input!$F$14)","v":-0.47964844949972935},{"$f":"Multi!D600*M$11*LAFs!D$266*(1-Contrib!M$121)*100/(24*Input!$F$14)","v":-7.4800986271442868E-2},{"$f":"Multi!E600*N$11*LAFs!E$266*(1-Contrib!N$121)*100/(24*Input!$F$14)","v":-7.9266858994193765E-2},{"$f":"Multi!F600*O$11*LAFs!F$266*(1-Contrib!O$121)*100/(24*Input!$F$14)","v":-0.13543750304983279},{"$f":"Multi!G600*P$11*LAFs!G$266*(1-Contrib!P$121)*100/(24*Input!$F$14)","v":0},{"$f":"Multi!H600*Q$11*LAFs!H$266*(1-Contrib!Q$121)*100/(24*Input!$F$14)","v":0},{"$f":"Multi!I600*R$11*LAFs!I$266*(1-Contrib!R$121)*100/(24*Input!$F$14)","v":0},{"$f":"Multi!J600*S$11*LAFs!J$266*(1-Contrib!S$121)*100/(24*Input!$F$14)","v":0},-2.5932710035648512]
["HV Sub Generation Non-Intermittent",{"$f":"Multi!B601*B$11*LAFs!B$268*(1-Contrib!B$123)*100/(24*Input!$F$14)","v":0},{"$f":"Multi!C601*C$11*LAFs!C$268*(1-Contrib!C$123)*100/(24*Input!$F$14)","v":-0.92349450327314819},{"$f":"Multi!D601*D$11*LAFs!D$268*(1-Contrib!D$123)*100/(24*Input!$F$14)","v":-0.14401860306884343},{"$f":"Multi!E601*E$11*LAFs!E$268*(1-Contrib!E$123)*100/(24*Input!$F$14)","v":-0.15261700240919254},{"$f":"Multi!F601*F$11*LAFs!F$268*(1-Contrib!F$123)*100/(24*Input!$F$14)","v":0},{"$f":"Multi!G601*G$11*LAFs!G$268*(1-Contrib!G$123)*100/(24*Input!$F$14)","v":0},{"$f":"Multi!H601*H$11*LAFs!H$268*(1-Contrib!H$123)*100/(24*Input!$F$14)","v":0},{"$f":"Multi!I601*I$11*LAFs!I$268*(1-Contrib!I$123)*100/(24*Input!$F$14)","v":0},{"$f":"Multi!J601*J$11*LAFs!J$268*(1-Contrib!J$123)*100/(24*Input!$F$14)","v":0},{"$f":"Multi!B601*K$11*LAFs!B$268*(1-Contrib!K$123)*100/(24*Input!$F$14)","v":-0.38070240754362494},{"$f":"Multi!C601*L$11*LAFs!C$268*(1-Contrib!L$123)*100/(24*Input!$F$14)","v":-0.47183808202703259},{"$f":"Multi!D601*M$11*LAFs!D$268*(1-Contrib!M$123)*100/(24*Input!$F$14)","v":-7.3582962548632017E-2},{"$f":"Multi!E601*N$11*LAFs!E$268*(1-Contrib!N$123)*100/(24*Input!$F$14)","v":-7.797611512168294E-2},{"$f":"Multi!F601*O$11*LAFs!F$268*(1-Contrib!O$123)*100/(24*Input!$F$14)","v":0},{"$f":"Multi!G601*P$11*LAFs!G$268*(1-Contrib!P$123)*100/(24*Input!$F$14)","v":0},{"$f":"Multi!H601*Q$11*LAFs!H$268*(1-Contrib!Q$123)*100/(24*Input!$F$14)","v":0},{"$f":"Multi!I601*R$11*LAFs!I$268*(1-Contrib!R$123)*100/(24*Input!$F$14)","v":0},{"$f":"Multi!J601*S$11*LAFs!J$268*(1-Contrib!S$123)*100/(24*Input!$F$14)","v":0},-2.2242296759921567]
["NHH UMS category A",{"$f":"Multi!B602*B$11*LAFs!B$254*(1-Contrib!B$109)*100/(24*Input!$F$14)","v":0},{"$f":"Multi!C602*C$11*LAFs!C$254*(1-Contrib!C$109)*100/(24*Input!$F$14)","v":0.14612723416845816},{"$f":"Multi!D602*D$11*LAFs!D$254*(1-Contrib!D$109)*100/(24*Input!$F$14)","v":2.2788484458396908E-2},{"$f":"Multi!E602*E$11*LAFs!E$254*(1-Contrib!E$109)*100/(24*Input!$F$14)","v":2.6254452511857356E-2},{"$f":"Multi!F602*F$11*LAFs!F$254*(1-Contrib!F$109)*100/(24*Input!$F$14)","v":4.4859068938341989E-2},{"$f":"Multi!G602*G$11*LAFs!G$254*(1-Contrib!G$109)*100/(24*Input!$F$14)","v":0},{"$f":"Multi!H602*H$11*LAFs!H$254*(1-Contrib!H$109)*100/(24*Input!$F$14)","v":0.14038813221119253},{"$f":"Multi!I602*I$11*LAFs!I$254*(1-Contrib!I$109)*100/(24*Input!$F$14)","v":5.1508199216429094E-2},{"$f":"Multi!J602*J$11*LAFs!J$254*(1-Contrib!J$109)*100/(24*Input!$F$14)","v":2.0840455001703315E-2},{"$f":"Multi!B602*K$11*LAFs!B$254*(1-Contrib!K$109)*100/(24*Input!$F$14)","v":4.764945462199846E-2},{"$f":"Multi!C602*L$11*LAFs!C$254*(1-Contrib!L$109)*100/(24*Input!$F$14)","v":7.4660318667394407E-2},{"$f":"Multi!D602*M$11*LAFs!D$254*(1-Contrib!M$109)*100/(24*Input!$F$14)","v":1.1643247210506141E-2},{"$f":"Multi!E602*N$11*LAFs!E$254*(1-Contrib!N$109)*100/(24*Input!$F$14)","v":1.3414103141879278E-2},{"$f":"Multi!F602*O$11*LAFs!F$254*(1-Contrib!O$109)*100/(24*Input!$F$14)","v":2.2919700089568631E-2},{"$f":"Multi!G602*P$11*LAFs!G$254*(1-Contrib!P$109)*100/(24*Input!$F$14)","v":0},{"$f":"Multi!H602*Q$11*LAFs!H$254*(1-Contrib!Q$109)*100/(24*Input!$F$14)","v":0.11698283010496499},{"$f":"Multi!I602*R$11*LAFs!I$254*(1-Contrib!R$109)*100/(24*Input!$F$14)","v":7.3356908498469431E-2},{"$f":"Multi!J602*S$11*LAFs!J$254*(1-Contrib!S$109)*100/(24*Input!$F$14)","v":0.1020375824773101},0.91543017131847082]
["NHH UMS category B",{"$f":"Multi!B603*B$11*LAFs!B$255*(1-Contrib!B$110)*100/(24*Input!$F$14)","v":0},{"$f":"Multi!C603*C$11*LAFs!C$255*(1-Contrib!C$110)*100/(24*Input!$F$14)","v":0.14460763096744289},{"$f":"Multi!D603*D$11*LAFs!D$255*(1-Contrib!D$110)*100/(24*Input!$F$14)","v":2.2551502939336984E-2},{"$f":"Multi!E603*E$11*LAFs!E$255*(1-Contrib!E$110)*100/(24*Input!$F$14)","v":2.8503630161473701E-2},{"$f":"Multi!F603*F$11*LAFs!F$255*(1-Contrib!F$110)*100/(24*Input!$F$14)","v":4.870207481298934E-2},{"$f":"Multi!G603*G$11*LAFs!G$255*(1-Contrib!G$110)*100/(24*Input!$F$14)","v":0},{"$f":"Multi!H603*H$11*LAFs!H$255*(1-Contrib!H$110)*100/(24*Input!$F$14)","v":0.15241496267349955},{"$f":"Multi!I603*I$11*LAFs!I$255*(1-Contrib!I$110)*100/(24*Input!$F$14)","v":5.5920825623216902E-2},{"$f":"Multi!J603*J$11*LAFs!J$255*(1-Contrib!J$110)*100/(24*Input!$F$14)","v":2.2625824000599652E-2},{"$f":"Multi!B603*K$11*LAFs!B$255*(1-Contrib!K$110)*100/(24*Input!$F$14)","v":4.4103339749090142E-2},{"$f":"Multi!C603*L$11*LAFs!C$255*(1-Contrib!L$110)*100/(24*Input!$F$14)","v":7.3883912682011832E-2},{"$f":"Multi!D603*M$11*LAFs!D$255*(1-Contrib!M$110)*100/(24*Input!$F$14)","v":1.1522167003712518E-2},{"$f":"Multi!E603*N$11*LAFs!E$255*(1-Contrib!N$110)*100/(24*Input!$F$14)","v":1.4563268258262383E-2},{"$f":"Multi!F603*O$11*LAFs!F$255*(1-Contrib!O$110)*100/(24*Input!$F$14)","v":2.4883194744583264E-2},{"$f":"Multi!G603*P$11*LAFs!G$255*(1-Contrib!P$110)*100/(24*Input!$F$14)","v":0},{"$f":"Multi!H603*Q$11*LAFs!H$255*(1-Contrib!Q$110)*100/(24*Input!$F$14)","v":0.12700456515132033},{"$f":"Multi!I603*R$11*LAFs!I$255*(1-Contrib!R$110)*100/(24*Input!$F$14)","v":7.9641279462411368E-2},{"$f":"Multi!J603*S$11*LAFs!J$255*(1-Contrib!S$110)*100/(24*Input!$F$14)","v":0.11077898166760744},0.96170715989755828]
["NHH UMS category C",{"$f":"Multi!B604*B$11*LAFs!B$256*(1-Contrib!B$111)*100/(24*Input!$F$14)","v":0},{"$f":"Multi!C604*C$11*LAFs!C$256*(1-Contrib!C$111)*100/(24*Input!$F$14)","v":0.27622798089756428},{"$f":"Multi!D604*D$11*LAFs!D$256*(1-Contrib!D$111)*100/(24*Input!$F$14)","v":4.3077644529983521E-2},{"$f":"Multi!E604*E$11*LAFs!E$256*(1-Contrib!E$111)*100/(24*Input!$F$14)","v":5.2600183916675002E-2},{"$f":"Multi!F604*F$11*LAFs!F$256*(1-Contrib!F$111)*100/(24*Input!$F$14)","v":8.98740994664399E-2},{"$f":"Multi!G604*G$11*LAFs!G$256*(1-Contrib!G$111)*100/(24*Input!$F$14)","v":0},{"$f":"Multi!H604*H$11*LAFs!H$256*(1-Contrib!H$111)*100/(24*Input!$F$14)","v":0.28126435204436889},{"$f":"Multi!I604*I$11*LAFs!I$256*(1-Contrib!I$111)*100/(24*Input!$F$14)","v":0.1031954770634535},{"$f":"Multi!J604*J$11*LAFs!J$256*(1-Contrib!J$111)*100/(24*Input!$F$14)","v":4.1753366043405356E-2},{"$f":"Multi!B604*K$11*LAFs!B$256*(1-Contrib!K$111)*100/(24*Input!$F$14)","v":8.5812379724868798E-2},{"$f":"Multi!C604*L$11*LAFs!C$256*(1-Contrib!L$111)*100/(24*Input!$F$14)","v":0.14113227555438573},{"$f":"Multi!D604*M$11*LAFs!D$256*(1-Contrib!M$111)*100/(24*Input!$F$14)","v":2.2009522635196295E-2},{"$f":"Multi!E604*N$11*LAFs!E$256*(1-Contrib!N$111)*100/(24*Input!$F$14)","v":2.6874843115522344E-2},{"$f":"Multi!F604*O$11*LAFs!F$256*(1-Contrib!O$111)*100/(24*Input!$F$14)","v":4.5919085133535466E-2},{"$f":"Multi!G604*P$11*LAFs!G$256*(1-Contrib!P$111)*100/(24*Input!$F$14)","v":0},{"$f":"Multi!H604*Q$11*LAFs!H$256*(1-Contrib!Q$111)*100/(24*Input!$F$14)","v":0.23437237458428303},{"$f":"Multi!I604*R$11*LAFs!I$256*(1-Contrib!R$111)*100/(24*Input!$F$14)","v":0.14696885706664531},{"$f":"Multi!J604*S$11*LAFs!J$256*(1-Contrib!S$111)*100/(24*Input!$F$14)","v":0.20442991916496472},1.7955123609412924]
["NHH UMS category D",{"$f":"Multi!B605*B$11*LAFs!B$257*(1-Contrib!B$112)*100/(24*Input!$F$14)","v":0},{"$f":"Multi!C605*C$11*LAFs!C$257*(1-Contrib!C$112)*100/(24*Input!$F$14)","v":0.15610675995653173},{"$f":"Multi!D605*D$11*LAFs!D$257*(1-Contrib!D$112)*100/(24*Input!$F$14)","v":2.4344787563822929E-2},{"$f":"Multi!E605*E$11*LAFs!E$257*(1-Contrib!E$112)*100/(24*Input!$F$14)","v":2.6037991518805481E-2},{"$f":"Multi!F605*F$11*LAFs!F$257*(1-Contrib!F$112)*100/(24*Input!$F$14)","v":4.4489217820502427E-2},{"$f":"Multi!G605*G$11*LAFs!G$257*(1-Contrib!G$112)*100/(24*Input!$F$14)","v":0},{"$f":"Multi!H605*H$11*LAFs!H$257*(1-Contrib!H$112)*100/(24*Input!$F$14)","v":0.13923066931999689},{"$f":"Multi!I605*I$11*LAFs!I$257*(1-Contrib!I$112)*100/(24*Input!$F$14)","v":5.1083527784119974E-2},{"$f":"Multi!J605*J$11*LAFs!J$257*(1-Contrib!J$112)*100/(24*Input!$F$14)","v":2.0668630981252521E-2},{"$f":"Multi!B605*K$11*LAFs!B$257*(1-Contrib!K$112)*100/(24*Input!$F$14)","v":5.3289666620260238E-2},{"$f":"Multi!C605*L$11*LAFs!C$257*(1-Contrib!L$112)*100/(24*Input!$F$14)","v":7.975912574279638E-2},{"$f":"Multi!D605*M$11*LAFs!D$257*(1-Contrib!M$112)*100/(24*Input!$F$14)","v":1.2438404160238118E-2},{"$f":"Multi!E605*N$11*LAFs!E$257*(1-Contrib!N$112)*100/(24*Input!$F$14)","v":1.3303507421565547E-2},{"$f":"Multi!F605*O$11*LAFs!F$257*(1-Contrib!O$112)*100/(24*Input!$F$14)","v":2.2730733245198191E-2},{"$f":"Multi!G605*P$11*LAFs!G$257*(1-Contrib!P$112)*100/(24*Input!$F$14)","v":0},{"$f":"Multi!H605*Q$11*LAFs!H$257*(1-Contrib!Q$112)*100/(24*Input!$F$14)","v":0.1160183377178888},{"$f":"Multi!I605*R$11*LAFs!I$257*(1-Contrib!R$112)*100/(24*Input!$F$14)","v":7.2752100256757934E-2},{"$f":"Multi!J605*S$11*LAFs!J$257*(1-Contrib!S$112)*100/(24*Input!$F$14)","v":0.10119630969046846},0.93344976980020555]
["LV UMS (Pseudo HH Metered)",{"$f":"Multi!B606*B$11*LAFs!B$258*(1-Contrib!B$113)*100/(24*Input!$F$14)","v":0},{"$f":"Multi!C606*C$11*LAFs!C$258*(1-Contrib!C$113)*100/(24*Input!$F$14)","v":2.4855055200599012},{"$f":"Multi!D606*D$11*LAFs!D$258*(1-Contrib!D$113)*100/(24*Input!$F$14)","v":0.38761360425017083},{"$f":"Multi!E606*E$11*LAFs!E$258*(1-Contrib!E$113)*100/(24*Input!$F$14)","v":0.47192805769730556},{"$f":"Multi!F606*F$11*LAFs!F$258*(1-Contrib!F$113)*100/(24*Input!$F$14)","v":0.80634906649148719},{"$f":"Multi!G606*G$11*LAFs!G$258*(1-Contrib!G$113)*100/(24*Input!$F$14)","v":0},{"$f":"Multi!H606*H$11*LAFs!H$258*(1-Contrib!H$113)*100/(24*Input!$F$14)","v":2.5234995293944369},{"$f":"Multi!I606*I$11*LAFs!I$258*(1-Contrib!I$113)*100/(24*Input!$F$14)","v":0.92586826561006785},{"$f":"Multi!J606*J$11*LAFs!J$258*(1-Contrib!J$113)*100/(24*Input!$F$14)","v":0.37461057114179208},{"$f":"Multi!B606*K$11*LAFs!B$258*(1-Contrib!K$113)*100/(24*Input!$F$14)","v":0.76788755405094722},{"$f":"Multi!C606*L$11*LAFs!C$258*(1-Contrib!L$113)*100/(24*Input!$F$14)","v":1.2699113565874596},{"$f":"Multi!D606*M$11*LAFs!D$258*(1-Contrib!M$113)*100/(24*Input!$F$14)","v":0.1980421745324574},{"$f":"Multi!E606*N$11*LAFs!E$258*(1-Contrib!N$113)*100/(24*Input!$F$14)","v":0.24112068757249294},{"$f":"Multi!F606*O$11*LAFs!F$258*(1-Contrib!O$113)*100/(24*Input!$F$14)","v":0.41198534006335968},{"$f":"Multi!G606*P$11*LAFs!G$258*(1-Contrib!P$113)*100/(24*Input!$F$14)","v":0},{"$f":"Multi!H606*Q$11*LAFs!H$258*(1-Contrib!Q$113)*100/(24*Input!$F$14)","v":2.1027854140335442},{"$f":"Multi!I606*R$11*LAFs!I$258*(1-Contrib!R$113)*100/(24*Input!$F$14)","v":1.3186023715682702},{"$f":"Multi!J606*S$11*LAFs!J$258*(1-Contrib!S$113)*100/(24*Input!$F$14)","v":1.834142155083885},16.119851668137578]
[]
["2904. Pay-as-you-go unit rate 2 p/kWh"]
["Data sources:"]
["x1 = 2438. Unit rate 2 pseudo load coefficient by network level (combined)"]
["x2 = 2901. Unit cost at each level, £/kW/year (relative to system simultaneous maximum load)"]
["x3 = 2012. Loss adjustment factors between end user meter reading and each network level, scaled by network use"]
["x4 = 2804. Proportion of annual charge covered by contributions (for all charging levels)"]
["x5 = 1010. Days in the charging year (in Financial and general assumptions)"]
["x6 = Contributions to pay-as-you-go unit rate 2 (p/kWh) (in Pay-as-you-go unit rate 2 p/kWh)"]
["Kind:","Calculation",null,null,null,null,null,null,null,null,null,null,null,null,null,null,null,null,null,"Cell summation"]
["Formula:","=x1*x2*x3*(1-x4)*100/(24*x5)",null,null,null,null,null,null,null,null,null,null,null,null,null,null,null,null,null,"=SUM(x6)"]
[]
[null,"Contributions to pay-as-you-go unit rate 2 (p/kWh)"]
[null,"GSPs","Assets\n132kV","Assets\n132kV/EHV","Assets\nEHV","Assets\nEHV/HV","Assets\n132kV/HV","Assets\nHV","Assets\nHV/LV","Assets\nLV circuits","Transmission\nexit","Operating\n132kV","Operating\n132kV/EHV","Operating\nEHV","Operating\nEHV/HV","Operating\n132kV/HV","Operating\nHV","Operating\nHV/LV","Operating\nLV circuits","Pay-as-you-go unit rate 2 (p/kWh)"]
["Domestic Two Rate",{"$f":"Multi!B615*B$11*LAFs!B$242*(1-Contrib!B$97)*100/(24*Input!$F$14)","v":0},{"$f":"Multi!C615*C$11*LAFs!C$242*(1-Contrib!C$97)*100/(24*Input!$F$14)","v":9.5610585632865033E-3},{"$f":"Multi!D615*D$11*LAFs!D$242*(1-Contrib!D$97)*100/(24*Input!$F$14)","v":1.4910433069861488E-3},{"$f":"Multi!E615*E$11*LAFs!E$242*(1-Contrib!E$97)*100/(24*Input!$F$14)","v":4.462283994114578E-3},{"$f":"Multi!F615*F$11*LAFs!F$242*(1-Contrib!F$97)*100/(24*Input!$F$14)","v":7.6243793400011259E-3},{"$f":"Multi!G615*G$11*LAFs!G$242*(1-Contrib!G$97)*100/(24*Input!$F$14)","v":0},{"$f":"Multi!H615*H$11*LAFs!H$242*(1-Contrib!H$97)*100/(24*Input!$F$14)","v":2.3860779997096487E-2},{"$f":"Multi!I615*I$11*LAFs!I$242*(1-Contrib!I$97)*100/(24*Input!$F$14)","v":8.7544850849710729E-3},{"$f":"Multi!J615*J$11*LAFs!J$242*(1-Contrib!J$97)*100/(24*Input!$F$14)","v":3.5421050483595415E-3},{"$f":"Multi!B615*K$11*LAFs!B$242*(1-Contrib!K$97)*100/(24*Input!$F$14)","v":7.4937008921209471E-4},{"$f":"Multi!C615*L$11*LAFs!C$242*(1-Contrib!L$97)*100/(24*Input!$F$14)","v":4.8850009595724801E-3},{"$f":"Multi!D615*M$11*LAFs!D$242*(1-Contrib!M$97)*100/(24*Input!$F$14)","v":7.6181397040703356E-4},{"$f":"Multi!E615*N$11*LAFs!E$242*(1-Contrib!N$97)*100/(24*Input!$F$14)","v":2.2799004366355147E-3},{"$f":"Multi!F615*O$11*LAFs!F$242*(1-Contrib!O$97)*100/(24*Input!$F$14)","v":3.8954996609964817E-3},{"$f":"Multi!G615*P$11*LAFs!G$242*(1-Contrib!P$97)*100/(24*Input!$F$14)","v":0},{"$f":"Multi!H615*Q$11*LAFs!H$242*(1-Contrib!Q$97)*100/(24*Input!$F$14)","v":1.9882745988622441E-2},{"$f":"Multi!I615*R$11*LAFs!I$242*(1-Contrib!R$97)*100/(24*Input!$F$14)","v":1.2467955997277442E-2},{"$f":"Multi!J615*S$11*LAFs!J$242*(1-Contrib!S$97)*100/(24*Input!$F$14)","v":1.7342607730289158E-2},{"$f":"SUM($B99:$S99)","v":0.12156103016782811}]
["Small Non Domestic Two Rate",{"$f":"Multi!B616*B$11*LAFs!B$245*(1-Contrib!B$100)*100/(24*Input!$F$14)","v":0},{"$f":"Multi!C616*C$11*LAFs!C$245*(1-Contrib!C$100)*100/(24*Input!$F$14)","v":8.1422511070736343E-3},{"$f":"Multi!D616*D$11*LAFs!D$245*(1-Contrib!D$100)*100/(24*Input!$F$14)","v":1.2697808445207937E-3},{"$f":"Multi!E616*E$11*LAFs!E$245*(1-Contrib!E$100)*100/(24*Input!$F$14)","v":3.8001060814198506E-3},{"$f":"Multi!F616*F$11*LAFs!F$245*(1-Contrib!F$100)*100/(24*Input!$F$14)","v":6.492964216352877E-3},{"$f":"Multi!G616*G$11*LAFs!G$245*(1-Contrib!G$100)*100/(24*Input!$F$14)","v":0},{"$f":"Multi!H616*H$11*LAFs!H$245*(1-Contrib!H$100)*100/(24*Input!$F$14)","v":2.0319974097116885E-2},{"$f":"Multi!I616*I$11*LAFs!I$245*(1-Contrib!I$100)*100/(24*Input!$F$14)","v":7.4553686083126802E-3},{"$f":"Multi!J616*J$11*LAFs!J$245*(1-Contrib!J$100)*100/(24*Input!$F$14)","v":3.0164765292958239E-3},{"$f":"Multi!B616*K$11*LAFs!B$245*(1-Contrib!K$100)*100/(24*Input!$F$14)","v":6.381677717072474E-4},{"$f":"Multi!C616*L$11*LAFs!C$245*(1-Contrib!L$100)*100/(24*Input!$F$14)","v":4.1600942205151214E-3},{"$f":"Multi!D616*M$11*LAFs!D$245*(1-Contrib!M$100)*100/(24*Input!$F$14)","v":6.4876505073917896E-4},{"$f":"Multi!E616*N$11*LAFs!E$245*(1-Contrib!N$100)*100/(24*Input!$F$14)","v":1.9415760013744949E-3},{"$f":"Multi!F616*O$11*LAFs!F$245*(1-Contrib!O$100)*100/(24*Input!$F$14)","v":3.3174293638518226E-3},{"$f":"Multi!G616*P$11*LAFs!G$245*(1-Contrib!P$100)*100/(24*Input!$F$14)","v":0},{"$f":"Multi!H616*Q$11*LAFs!H$245*(1-Contrib!Q$100)*100/(24*Input!$F$14)","v":1.6932258019961021E-2},{"$f":"Multi!I616*R$11*LAFs!I$245*(1-Contrib!R$100)*100/(24*Input!$F$14)","v":1.0617781268655074E-2},{"$f":"Multi!J616*S$11*LAFs!J$245*(1-Contrib!S$100)*100/(24*Input!$F$14)","v":1.4769062029775086E-2},0.10352205521067161]
["LV Medium Non-Domestic",{"$f":"Multi!B617*B$11*LAFs!B$247*(1-Contrib!B$102)*100/(24*Input!$F$14)","v":0},{"$f":"Multi!C617*C$11*LAFs!C$247*(1-Contrib!C$102)*100/(24*Input!$F$14)","v":7.5754104281777696E-3},{"$f":"Multi!D617*D$11*LAFs!D$247*(1-Contrib!D$102)*100/(24*Input!$F$14)","v":1.1813822645099371E-3},{"$f":"Multi!E617*E$11*LAFs!E$247*(1-Contrib!E$102)*100/(24*Input!$F$14)","v":3.5355533572724719E-3},{"$f":"Multi!F617*F$11*LAFs!F$247*(1-Contrib!F$102)*100/(24*Input!$F$14)","v":6.0409422636957541E-3},{"$f":"Multi!G617*G$11*LAFs!G$247*(1-Contrib!G$102)*100/(24*Input!$F$14)","v":0},{"$f":"Multi!H617*H$11*LAFs!H$247*(1-Contrib!H$102)*100/(24*Input!$F$14)","v":1.8905354508395325E-2},{"$f":"Multi!I617*I$11*LAFs!I$247*(1-Contrib!I$102)*100/(24*Input!$F$14)","v":6.9363467619238473E-3},{"$f":"Multi!J617*J$11*LAFs!J$247*(1-Contrib!J$102)*100/(24*Input!$F$14)","v":2.8064778960856492E-3},{"$f":"Multi!B617*K$11*LAFs!B$247*(1-Contrib!K$102)*100/(24*Input!$F$14)","v":5.9374032182797078E-4},{"$f":"Multi!C617*L$11*LAFs!C$247*(1-Contrib!L$102)*100/(24*Input!$F$14)","v":3.8704801320747721E-3},{"$f":"Multi!D617*M$11*LAFs!D$247*(1-Contrib!M$102)*100/(24*Input!$F$14)","v":6.0359984802448681E-4},{"$f":"Multi!E617*N$11*LAFs!E$247*(1-Contrib!N$102)*100/(24*Input!$F$14)","v":1.8064089272724791E-3},{"$f":"Multi!F617*O$11*LAFs!F$247*(1-Contrib!O$102)*100/(24*Input!$F$14)","v":3.0864792386264789E-3},{"$f":"Multi!G617*P$11*LAFs!G$247*(1-Contrib!P$102)*100/(24*Input!$F$14)","v":0},{"$f":"Multi!H617*Q$11*LAFs!H$247*(1-Contrib!Q$102)*100/(24*Input!$F$14)","v":1.5753481720254859E-2},{"$f":"Multi!I617*R$11*LAFs!I$247*(1-Contrib!R$102)*100/(24*Input!$F$14)","v":9.8786011250380848E-3},{"$f":"Multi!J617*S$11*LAFs!J$247*(1-Contrib!S$102)*100/(24*Input!$F$14)","v":1.3740881366034576E-2},9.6315140159214468E-2]
["LV Sub Medium Non-Domestic",{"$f":"Multi!B618*B$11*LAFs!B$248*(1-Contrib!B$103)*100/(24*Input!$F$14)","v":0},{"$f":"Multi!C618*C$11*LAFs!C$248*(1-Contrib!C$103)*100/(24*Input!$F$14)","v":7.5186066757184427E-3},{"$f":"Multi!D618*D$11*LAFs!D$248*(1-Contrib!D$103)*100/(24*Input!$F$14)","v":1.1725237417474679E-3},{"$f":"Multi!E618*E$11*LAFs!E$248*(1-Contrib!E$103)*100/(24*Input!$F$14)","v":3.5090422263420306E-3},{"$f":"Multi!F618*F$11*LAFs!F$248*(1-Contrib!F$103)*100/(24*Input!$F$14)","v":5.9956446270565972E-3},{"$f":"Multi!G618*G$11*LAFs!G$248*(1-Contrib!G$103)*100/(24*Input!$F$14)","v":0},{"$f":"Multi!H618*H$11*LAFs!H$248*(1-Contrib!H$103)*100/(24*Input!$F$14)","v":1.8763593862179215E-2},{"$f":"Multi!I618*I$11*LAFs!I$248*(1-Contrib!I$103)*100/(24*Input!$F$14)","v":6.8843349893377972E-3},{"$f":"Multi!J618*J$11*LAFs!J$248*(1-Contrib!J$103)*100/(24*Input!$F$14)","v":0},{"$f":"Multi!B618*K$11*LAFs!B$248*(1-Contrib!K$103)*100/(24*Input!$F$14)","v":5.8928819628493946E-4},{"$f":"Multi!C618*L$11*LAFs!C$248*(1-Contrib!L$103)*100/(24*Input!$F$14)","v":3.8414575731777218E-3},{"$f":"Multi!D618*M$11*LAFs!D$248*(1-Contrib!M$103)*100/(24*Input!$F$14)","v":5.990737914264001E-4},{"$f":"Multi!E618*N$11*LAFs!E$248*(1-Contrib!N$103)*100/(24*Input!$F$14)","v":1.792863680250162E-3},{"$f":"Multi!F618*O$11*LAFs!F$248*(1-Contrib!O$103)*100/(24*Input!$F$14)","v":3.0633354625493893E-3},{"$f":"Multi!G618*P$11*LAFs!G$248*(1-Contrib!P$103)*100/(24*Input!$F$14)","v":0},{"$f":"Multi!H618*Q$11*LAFs!H$248*(1-Contrib!Q$103)*100/(24*Input!$F$14)","v":1.5635355199653238E-2},{"$f":"Multi!I618*R$11*LAFs!I$248*(1-Contrib!R$103)*100/(24*Input!$F$14)","v":9.8045270377960462E-3},{"$f":"Multi!J618*S$11*LAFs!J$248*(1-Contrib!S$103)*100/(24*Input!$F$14)","v":0},7.9169647063519449E-2]
["HV Medium Non-Domestic",{"$f":"Multi!B619*B$11*LAFs!B$249*(1-Contrib!B$104)*100/(24*Input!$F$14)","v":0},{"$f":"Multi!C619*C$11*LAFs!C$249*(1-Contrib!C$104)*100/(24*Input!$F$14)","v":6.9970689313867988E-3},{"$f":"Multi!D619*D$11*LAFs!D$249*(1-Contrib!D$104)*100/(24*Input!$F$14)","v":1.0911901364903693E-3},{"$f":"Multi!E619*E$11*LAFs!E$249*(1-Contrib!E$104)*100/(24*Input!$F$14)","v":3.2656330354607918E-3},{"$f":"Multi!F619*F$11*LAFs!F$249*(1-Contrib!F$104)*100/(24*Input!$F$14)","v":4.1421765657019983E-3},{"$f":"Multi!G619*G$11*LAFs!G$249*(1-Contrib!G$104)*100/(24*Input!$F$14)","v":0},{"$f":"Multi!H619*H$11*LAFs!H$249*(1-Contrib!H$104)*100/(24*Input!$F$14)","v":1.3804379378751411E-2},{"$f":"Multi!I619*I$11*LAFs!I$249*(1-Contrib!I$104)*100/(24*Input!$F$14)","v":0},{"$f":"Multi!J619*J$11*LAFs!J$249*(1-Contrib!J$104)*100/(24*Input!$F$14)","v":0},{"$f":"Multi!B619*K$11*LAFs!B$249*(1-Contrib!K$104)*100/(24*Input!$F$14)","v":5.4841146873324271E-4},{"$f":"Multi!C619*L$11*LAFs!C$249*(1-Contrib!L$104)*100/(24*Input!$F$14)","v":3.5749899676663093E-3},{"$f":"Multi!D619*M$11*LAFs!D$249*(1-Contrib!M$104)*100/(24*Input!$F$14)","v":5.5751827358321198E-4},{"$f":"Multi!E619*N$11*LAFs!E$249*(1-Contrib!N$104)*100/(24*Input!$F$14)","v":1.6684994037264871E-3},{"$f":"Multi!F619*O$11*LAFs!F$249*(1-Contrib!O$104)*100/(24*Input!$F$14)","v":2.8508432899732152E-3},{"$f":"Multi!G619*P$11*LAFs!G$249*(1-Contrib!P$104)*100/(24*Input!$F$14)","v":0},{"$f":"Multi!H619*Q$11*LAFs!H$249*(1-Contrib!Q$104)*100/(24*Input!$F$14)","v":1.4550788838576504E-2},{"$f":"Multi!I619*R$11*LAFs!I$249*(1-Contrib!R$104)*100/(24*Input!$F$14)","v":0},{"$f":"Multi!J619*S$11*LAFs!J$249*(1-Contrib!S$104)*100/(24*Input!$F$14)","v":0},5.305149929005034E-2]
["LV HH Metered",{"$f":"Multi!B620*B$11*LAFs!B$250*(1-Contrib!B$105)*100/(24*Input!$F$14)","v":0},{"$f":"Multi!C620*C$11*LAFs!C$250*(1-Contrib!C$105)*100/(24*Input!$F$14)","v":0.11633380967494517},{"$f":"Multi!D620*D$11*LAFs!D$250*(1-Contrib!D$105)*100/(24*Input!$F$14)","v":1.8142211674980369E-2},{"$f":"Multi!E620*E$11*LAFs!E$250*(1-Contrib!E$105)*100/(24*Input!$F$14)","v":2.1830911982670977E-2},{"$f":"Multi!F620*F$11*LAFs!F$250*(1-Contrib!F$105)*100/(24*Input!$F$14)","v":3.7300887732289352E-2},{"$f":"Multi!G620*G$11*LAFs!G$250*(1-Contrib!G$105)*100/(24*Input!$F$14)","v":0},{"$f":"Multi!H620*H$11*LAFs!H$250*(1-Contrib!H$105)*100/(24*Input!$F$14)","v":0.11673452174750008},{"$f":"Multi!I620*I$11*LAFs!I$250*(1-Contrib!I$105)*100/(24*Input!$F$14)","v":4.2829724328545725E-2},{"$f":"Multi!J620*J$11*LAFs!J$250*(1-Contrib!J$105)*100/(24*Input!$F$14)","v":1.7329104029707828E-2},{"$f":"Multi!B620*K$11*LAFs!B$250*(1-Contrib!K$105)*100/(24*Input!$F$14)","v":1.2864498961231817E-2},{"$f":"Multi!C620*L$11*LAFs!C$250*(1-Contrib!L$105)*100/(24*Input!$F$14)","v":5.9438059931460757E-2},{"$f":"Multi!D620*M$11*LAFs!D$250*(1-Contrib!M$105)*100/(24*Input!$F$14)","v":9.2693419723790926E-3},{"$f":"Multi!E620*N$11*LAFs!E$250*(1-Contrib!N$105)*100/(24*Input!$F$14)","v":1.1153997779408266E-2},{"$f":"Multi!F620*O$11*LAFs!F$250*(1-Contrib!O$105)*100/(24*Input!$F$14)","v":1.9058022828646343E-2},{"$f":"Multi!G620*P$11*LAFs!G$250*(1-Contrib!P$105)*100/(24*Input!$F$14)","v":0},{"$f":"Multi!H620*Q$11*LAFs!H$250*(1-Contrib!Q$105)*100/(24*Input!$F$14)","v":9.7272714651042355E-2},{"$f":"Multi!I620*R$11*LAFs!I$250*(1-Contrib!R$105)*100/(24*Input!$F$14)","v":6.0997204646627792E-2},{"$f":"Multi!J620*S$11*LAFs!J$250*(1-Contrib!S$105)*100/(24*Input!$F$14)","v":8.4845550711089596E-2},0.7254005626525255]
["LV Sub HH Metered",{"$f":"Multi!B621*B$11*LAFs!B$251*(1-Contrib!B$106)*100/(24*Input!$F$14)","v":0},{"$f":"Multi!C621*C$11*LAFs!C$251*(1-Contrib!C$106)*100/(24*Input!$F$14)","v":0.11726382565668216},{"$f":"Multi!D621*D$11*LAFs!D$251*(1-Contrib!D$106)*100/(24*Input!$F$14)","v":1.828724730004011E-2},{"$f":"Multi!E621*E$11*LAFs!E$251*(1-Contrib!E$106)*100/(24*Input!$F$14)","v":2.2005436457512021E-2},{"$f":"Multi!F621*F$11*LAFs!F$251*(1-Contrib!F$106)*100/(24*Input!$F$14)","v":3.7599084978824436E-2},{"$f":"Multi!G621*G$11*LAFs!G$251*(1-Contrib!G$106)*100/(24*Input!$F$14)","v":0},{"$f":"Multi!H621*H$11*LAFs!H$251*(1-Contrib!H$106)*100/(24*Input!$F$14)","v":0.11766774117140572},{"$f":"Multi!I621*I$11*LAFs!I$251*(1-Contrib!I$106)*100/(24*Input!$F$14)","v":4.3172121162537803E-2},{"$f":"Multi!J621*J$11*LAFs!J$251*(1-Contrib!J$106)*100/(24*Input!$F$14)","v":0},{"$f":"Multi!B621*K$11*LAFs!B$251*(1-Contrib!K$106)*100/(24*Input!$F$14)","v":1.2967342577068127E-2},{"$f":"Multi!C621*L$11*LAFs!C$251*(1-Contrib!L$106)*100/(24*Input!$F$14)","v":5.9913230011544562E-2},{"$f":"Multi!D621*M$11*LAFs!D$251*(1-Contrib!M$106)*100/(24*Input!$F$14)","v":9.3434445587087696E-3},{"$f":"Multi!E621*N$11*LAFs!E$251*(1-Contrib!N$106)*100/(24*Input!$F$14)","v":1.1243167009093889E-2},{"$f":"Multi!F621*O$11*LAFs!F$251*(1-Contrib!O$106)*100/(24*Input!$F$14)","v":1.9210379790568881E-2},{"$f":"Multi!G621*P$11*LAFs!G$251*(1-Contrib!P$106)*100/(24*Input!$F$14)","v":0},{"$f":"Multi!H621*Q$11*LAFs!H$251*(1-Contrib!Q$106)*100/(24*Input!$F$14)","v":9.8050349110578999E-2},{"$f":"Multi!I621*R$11*LAFs!I$251*(1-Contrib!R$106)*100/(24*Input!$F$14)","v":6.1484839112662712E-2},{"$f":"Multi!J621*S$11*LAFs!J$251*(1-Contrib!S$106)*100/(24*Input!$F$14)","v":0},0.62820820889722817]
["HV HH Metered",{"$f":"Multi!B622*B$11*LAFs!B$252*(1-Contrib!B$107)*100/(24*Input!$F$14)","v":0},{"$f":"Multi!C622*C$11*LAFs!C$252*(1-Contrib!C$107)*100/(24*Input!$F$14)","v":0.10228720836352571},{"$f":"Multi!D622*D$11*LAFs!D$252*(1-Contrib!D$107)*100/(24*Input!$F$14)","v":1.5951649747902755E-2},{"$f":"Multi!E622*E$11*LAFs!E$252*(1-Contrib!E$107)*100/(24*Input!$F$14)","v":1.9194961885772258E-2},{"$f":"Multi!F622*F$11*LAFs!F$252*(1-Contrib!F$107)*100/(24*Input!$F$14)","v":2.4347169580727215E-2},{"$f":"Multi!G622*G$11*LAFs!G$252*(1-Contrib!G$107)*100/(24*Input!$F$14)","v":0},{"$f":"Multi!H622*H$11*LAFs!H$252*(1-Contrib!H$107)*100/(24*Input!$F$14)","v":8.1140328124615829E-2},{"$f":"Multi!I622*I$11*LAFs!I$252*(1-Contrib!I$107)*100/(24*Input!$F$14)","v":0},{"$f":"Multi!J622*J$11*LAFs!J$252*(1-Contrib!J$107)*100/(24*Input!$F$14)","v":0},{"$f":"Multi!B622*K$11*LAFs!B$252*(1-Contrib!K$107)*100/(24*Input!$F$14)","v":1.131118880587368E-2},{"$f":"Multi!C622*L$11*LAFs!C$252*(1-Contrib!L$107)*100/(24*Input!$F$14)","v":5.2261275014725606E-2},{"$f":"Multi!D622*M$11*LAFs!D$252*(1-Contrib!M$107)*100/(24*Input!$F$14)","v":8.1501251989490615E-3},{"$f":"Multi!E622*N$11*LAFs!E$252*(1-Contrib!N$107)*100/(24*Input!$F$14)","v":9.807220258122043E-3},{"$f":"Multi!F622*O$11*LAFs!F$252*(1-Contrib!O$107)*100/(24*Input!$F$14)","v":1.6756882264214366E-2},{"$f":"Multi!G622*P$11*LAFs!G$252*(1-Contrib!P$107)*100/(24*Input!$F$14)","v":0},{"$f":"Multi!H622*Q$11*LAFs!H$252*(1-Contrib!Q$107)*100/(24*Input!$F$14)","v":8.5527624852982279E-2},{"$f":"Multi!I622*R$11*LAFs!I$252*(1-Contrib!R$107)*100/(24*Input!$F$14)","v":0},{"$f":"Multi!J622*S$11*LAFs!J$252*(1-Contrib!S$107)*100/(24*Input!$F$14)","v":0},0.42673563409741078]
["HV Sub HH Metered",{"$f":"Multi!B623*B$11*LAFs!B$253*(1-Contrib!B$108)*100/(24*Input!$F$14)","v":0},{"$f":"Multi!C623*C$11*LAFs!C$253*(1-Contrib!C$108)*100/(24*Input!$F$14)","v":9.3190700336600527E-2},{"$f":"Multi!D623*D$11*LAFs!D$253*(1-Contrib!D$108)*100/(24*Input!$F$14)","v":1.4533052913596745E-2},{"$f":"Multi!E623*E$11*LAFs!E$253*(1-Contrib!E$108)*100/(24*Input!$F$14)","v":1.7487933923391066E-2},{"$f":"Multi!F623*F$11*LAFs!F$253*(1-Contrib!F$108)*100/(24*Input!$F$14)","v":2.2181950419237536E-2},{"$f":"Multi!G623*G$11*LAFs!G$253*(1-Contrib!G$108)*100/(24*Input!$F$14)","v":0},{"$f":"Multi!H623*H$11*LAFs!H$253*(1-Contrib!H$108)*100/(24*Input!$F$14)","v":0},{"$f":"Multi!I623*I$11*LAFs!I$253*(1-Contrib!I$108)*100/(24*Input!$F$14)","v":0},{"$f":"Multi!J623*J$11*LAFs!J$253*(1-Contrib!J$108)*100/(24*Input!$F$14)","v":0},{"$f":"Multi!B623*K$11*LAFs!B$253*(1-Contrib!K$108)*100/(24*Input!$F$14)","v":1.0305272998678899E-2},{"$f":"Multi!C623*L$11*LAFs!C$253*(1-Contrib!L$108)*100/(24*Input!$F$14)","v":4.7613625369432165E-2},{"$f":"Multi!D623*M$11*LAFs!D$253*(1-Contrib!M$108)*100/(24*Input!$F$14)","v":7.4253260722664527E-3},{"$f":"Multi!E623*N$11*LAFs!E$253*(1-Contrib!N$108)*100/(24*Input!$F$14)","v":8.9350539410711811E-3},{"$f":"Multi!F623*O$11*LAFs!F$253*(1-Contrib!O$108)*100/(24*Input!$F$14)","v":1.5266675263149895E-2},{"$f":"Multi!G623*P$11*LAFs!G$253*(1-Contrib!P$108)*100/(24*Input!$F$14)","v":0},{"$f":"Multi!H623*Q$11*LAFs!H$253*(1-Contrib!Q$108)*100/(24*Input!$F$14)","v":0},{"$f":"Multi!I623*R$11*LAFs!I$253*(1-Contrib!R$108)*100/(24*Input!$F$14)","v":0},{"$f":"Multi!J623*S$11*LAFs!J$253*(1-Contrib!S$108)*100/(24*Input!$F$14)","v":0},0.23693959123742447]
["LV Generation Non-Intermittent",{"$f":"Multi!B624*B$11*LAFs!B$262*(1-Contrib!B$117)*100/(24*Input!$F$14)","v":0},{"$f":"Multi!C624*C$11*LAFs!C$262*(1-Contrib!C$117)*100/(24*Input!$F$14)","v":-9.7727735406542129E-2},{"$f":"Multi!D624*D$11*LAFs!D$262*(1-Contrib!D$117)*100/(24*Input!$F$14)","v":-1.5240601740938357E-2},{"$f":"Multi!E624*E$11*LAFs!E$262*(1-Contrib!E$117)*100/(24*Input!$F$14)","v":-1.8339342585678847E-2},{"$f":"Multi!F624*F$11*LAFs!F$262*(1-Contrib!F$117)*100/(24*Input!$F$14)","v":-3.1335097654894416E-2},{"$f":"Multi!G624*G$11*LAFs!G$262*(1-Contrib!G$117)*100/(24*Input!$F$14)","v":0},{"$f":"Multi!H624*H$11*LAFs!H$262*(1-Contrib!H$117)*100/(24*Input!$F$14)","v":-9.8064358813875513E-2},{"$f":"Multi!I624*I$11*LAFs!I$262*(1-Contrib!I$117)*100/(24*Input!$F$14)","v":-3.5979669009470451E-2},{"$f":"Multi!J624*J$11*LAFs!J$262*(1-Contrib!J$117)*100/(24*Input!$F$14)","v":0},{"$f":"Multi!B624*K$11*LAFs!B$262*(1-Contrib!K$117)*100/(24*Input!$F$14)","v":-1.0806990281964145E-2},{"$f":"Multi!C624*L$11*LAFs!C$262*(1-Contrib!L$117)*100/(24*Input!$F$14)","v":-4.9931718133279887E-2},{"$f":"Multi!D624*M$11*LAFs!D$262*(1-Contrib!M$117)*100/(24*Input!$F$14)","v":-7.7868317233018205E-3},{"$f":"Multi!E624*N$11*LAFs!E$262*(1-Contrib!N$117)*100/(24*Input!$F$14)","v":-9.3700614357679277E-3},{"$f":"Multi!F624*O$11*LAFs!F$262*(1-Contrib!O$117)*100/(24*Input!$F$14)","v":-1.6009940855318833E-2},{"$f":"Multi!G624*P$11*LAFs!G$262*(1-Contrib!P$117)*100/(24*Input!$F$14)","v":0},{"$f":"Multi!H624*Q$11*LAFs!H$262*(1-Contrib!Q$117)*100/(24*Input!$F$14)","v":-8.1715213713494536E-2},{"$f":"Multi!I624*R$11*LAFs!I$262*(1-Contrib!R$117)*100/(24*Input!$F$14)","v":-5.124149800389622E-2},{"$f":"Multi!J624*S$11*LAFs!J$262*(1-Contrib!S$117)*100/(24*Input!$F$14)","v":0},-0.52354905935842311]
["LV Sub Generation Non-Intermittent",{"$f":"Multi!B625*B$11*LAFs!B$264*(1-Contrib!B$119)*100/(24*Input!$F$14)","v":0},{"$f":"Multi!C625*C$11*LAFs!C$264*(1-Contrib!C$119)*100/(24*Input!$F$14)","v":-9.5368477170172494E-2},{"$f":"Multi!D625*D$11*LAFs!D$264*(1-Contrib!D$119)*100/(24*Input!$F$14)","v":-1.4872676350720718E-2},{"$f":"Multi!E625*E$11*LAFs!E$264*(1-Contrib!E$119)*100/(24*Input!$F$14)","v":-1.7896610081289198E-2},{"$f":"Multi!F625*F$11*LAFs!F$264*(1-Contrib!F$119)*100/(24*Input!$F$14)","v":-3.0578632901851463E-2},{"$f":"Multi!G625*G$11*LAFs!G$264*(1-Contrib!G$119)*100/(24*Input!$F$14)","v":0},{"$f":"Multi!H625*H$11*LAFs!H$264*(1-Contrib!H$119)*100/(24*Input!$F$14)","v":-9.5696974107133861E-2},{"$f":"Multi!I625*I$11*LAFs!I$264*(1-Contrib!I$119)*100/(24*Input!$F$14)","v":0},{"$f":"Multi!J625*J$11*LAFs!J$264*(1-Contrib!J$119)*100/(24*Input!$F$14)","v":0},{"$f":"Multi!B625*K$11*LAFs!B$264*(1-Contrib!K$119)*100/(24*Input!$F$14)","v":-1.0546097294655818E-2},{"$f":"Multi!C625*L$11*LAFs!C$264*(1-Contrib!L$119)*100/(24*Input!$F$14)","v":-4.8726309896079067E-2},{"$f":"Multi!D625*M$11*LAFs!D$264*(1-Contrib!M$119)*100/(24*Input!$F$14)","v":-7.5988487847634288E-3},{"$f":"Multi!E625*N$11*LAFs!E$264*(1-Contrib!N$119)*100/(24*Input!$F$14)","v":-9.1438575385256182E-3},{"$f":"Multi!F625*O$11*LAFs!F$264*(1-Contrib!O$119)*100/(24*Input!$F$14)","v":-1.5623442747390984E-2},{"$f":"Multi!G625*P$11*LAFs!G$264*(1-Contrib!P$119)*100/(24*Input!$F$14)","v":0},{"$f":"Multi!H625*Q$11*LAFs!H$264*(1-Contrib!Q$119)*100/(24*Input!$F$14)","v":-7.974251588939904E-2},{"$f":"Multi!I625*R$11*LAFs!I$264*(1-Contrib!R$119)*100/(24*Input!$F$14)","v":0},{"$f":"Multi!J625*S$11*LAFs!J$264*(1-Contrib!S$119)*100/(24*Input!$F$14)","v":0},-0.42579444276198164]
["HV Generation Non-Intermittent",{"$f":"Multi!B626*B$11*LAFs!B$266*(1-Contrib!B$121)*100/(24*Input!$F$14)","v":0},{"$f":"Multi!C626*C$11*LAFs!C$266*(1-Contrib!C$121)*100/(24*Input!$F$14)","v":-9.4733292260380672E-2},{"$f":"Multi!D626*D$11*LAFs!D$266*(1-Contrib!D$121)*100/(24*Input!$F$14)","v":-1.4773619514892896E-2},{"$f":"Multi!E626*E$11*LAFs!E$266*(1-Contrib!E$121)*100/(24*Input!$F$14)","v":-1.7777412868568907E-2},{"$f":"Multi!F626*F$11*LAFs!F$266*(1-Contrib!F$121)*100/(24*Input!$F$14)","v":-2.2549129734843222E-2},{"$f":"Multi!G626*G$11*LAFs!G$266*(1-Contrib!G$121)*100/(24*Input!$F$14)","v":0},{"$f":"Multi!H626*H$11*LAFs!H$266*(1-Contrib!H$121)*100/(24*Input!$F$14)","v":0},{"$f":"Multi!I626*I$11*LAFs!I$266*(1-Contrib!I$121)*100/(24*Input!$F$14)","v":0},{"$f":"Multi!J626*J$11*LAFs!J$266*(1-Contrib!J$121)*100/(24*Input!$F$14)","v":0},{"$f":"Multi!B626*K$11*LAFs!B$266*(1-Contrib!K$121)*100/(24*Input!$F$14)","v":-1.0475856874995885E-2},{"$f":"Multi!C626*L$11*LAFs!C$266*(1-Contrib!L$121)*100/(24*Input!$F$14)","v":-4.8401776909140402E-2},{"$f":"Multi!D626*M$11*LAFs!D$266*(1-Contrib!M$121)*100/(24*Input!$F$14)","v":-7.5482379936184793E-3},{"$f":"Multi!E626*N$11*LAFs!E$266*(1-Contrib!N$121)*100/(24*Input!$F$14)","v":-9.0829564892680754E-3},{"$f":"Multi!F626*O$11*LAFs!F$266*(1-Contrib!O$121)*100/(24*Input!$F$14)","v":-1.5519385564487335E-2},{"$f":"Multi!G626*P$11*LAFs!G$266*(1-Contrib!P$121)*100/(24*Input!$F$14)","v":0},{"$f":"Multi!H626*Q$11*LAFs!H$266*(1-Contrib!Q$121)*100/(24*Input!$F$14)","v":0},{"$f":"Multi!I626*R$11*LAFs!I$266*(1-Contrib!R$121)*100/(24*Input!$F$14)","v":0},{"$f":"Multi!J626*S$11*LAFs!J$266*(1-Contrib!S$121)*100/(24*Input!$F$14)","v":0},-0.24086166821019589]
["HV Sub Generation Non-Intermittent",{"$f":"Multi!B627*B$11*LAFs!B$268*(1-Contrib!B$123)*100/(24*Input!$F$14)","v":0},{"$f":"Multi!C627*C$11*LAFs!C$268*(1-Contrib!C$123)*100/(24*Input!$F$14)","v":-9.3190700336600527E-2},{"$f":"Multi!D627*D$11*LAFs!D$268*(1-Contrib!D$123)*100/(24*Input!$F$14)","v":-1.4533052913596745E-2},{"$f":"Multi!E627*E$11*LAFs!E$268*(1-Contrib!E$123)*100/(24*Input!$F$14)","v":-1.7487933923391066E-2},{"$f":"Multi!F627*F$11*LAFs!F$268*(1-Contrib!F$123)*100/(24*Input!$F$14)","v":0},{"$f":"Multi!G627*G$11*LAFs!G$268*(1-Contrib!G$123)*100/(24*Input!$F$14)","v":0},{"$f":"Multi!H627*H$11*LAFs!H$268*(1-Contrib!H$123)*100/(24*Input!$F$14)","v":0},{"$f":"Multi!I627*I$11*LAFs!I$268*(1-Contrib!I$123)*100/(24*Input!$F$14)","v":0},{"$f":"Multi!J627*J$11*LAFs!J$268*(1-Contrib!J$123)*100/(24*Input!$F$14)","v":0},{"$f":"Multi!B627*K$11*LAFs!B$268*(1-Contrib!K$123)*100/(24*Input!$F$14)","v":-1.0305272998678899E-2},{"$f":"Multi!C627*L$11*LAFs!C$268*(1-Contrib!L$123)*100/(24*Input!$F$14)","v":-4.7613625369432165E-2},{"$f":"Multi!D627*M$11*LAFs!D$268*(1-Contrib!M$123)*100/(24*Input!$F$14)","v":-7.4253260722664527E-3},{"$f":"Multi!E627*N$11*LAFs!E$268*(1-Contrib!N$123)*100/(24*Input!$F$14)","v":-8.9350539410711811E-3},{"$f":"Multi!F627*O$11*LAFs!F$268*(1-Contrib!O$123)*100/(24*Input!$F$14)","v":0},{"$f":"Multi!G627*P$11*LAFs!G$268*(1-Contrib!P$123)*100/(24*Input!$F$14)","v":0},{"$f":"Multi!H627*Q$11*LAFs!H$268*(1-Contrib!Q$123)*100/(24*Input!$F$14)","v":0},{"$f":"Multi!I627*R$11*LAFs!I$268*(1-Contrib!R$123)*100/(24*Input!$F$14)","v":0},{"$f":"Multi!J627*S$11*LAFs!J$268*(1-Contrib!S$123)*100/(24*Input!$F$14)","v":0},-0.19949096555503704]
["LV UMS (Pseudo HH Metered)",{"$f":"Multi!B628*B$11*LAFs!B$258*(1-Contrib!B$113)*100/(24*Input!$F$14)","v":0},{"$f":"Multi!C628*C$11*LAFs!C$258*(1-Contrib!C$113)*100/(24*Input!$F$14)","v":0.18296492643544648},{"$f":"Multi!D628*D$11*LAFs!D$258*(1-Contrib!D$113)*100/(24*Input!$F$14)","v":2.8533308019087246E-2},{"$f":"Multi!E628*E$11*LAFs!E$258*(1-Contrib!E$113)*100/(24*Input!$F$14)","v":2.7621257835586971E-2},{"$f":"Multi!F628*F$11*LAFs!F$258*(1-Contrib!F$113)*100/(24*Input!$F$14)","v":4.7194429548691352E-2},{"$f":"Multi!G628*G$11*LAFs!G$258*(1-Contrib!G$113)*100/(24*Input!$F$14)","v":0},{"$f":"Multi!H628*H$11*LAFs!H$258*(1-Contrib!H$113)*100/(24*Input!$F$14)","v":0.14769673049211474},{"$f":"Multi!I628*I$11*LAFs!I$258*(1-Contrib!I$113)*100/(24*Input!$F$14)","v":5.4189713175744954E-2},{"$f":"Multi!J628*J$11*LAFs!J$258*(1-Contrib!J$113)*100/(24*Input!$F$14)","v":2.1925407919019375E-2},{"$f":"Multi!B628*K$11*LAFs!B$258*(1-Contrib!K$113)*100/(24*Input!$F$14)","v":6.5843144880290028E-2},{"$f":"Multi!C628*L$11*LAFs!C$258*(1-Contrib!L$113)*100/(24*Input!$F$14)","v":9.3481682523868626E-2},{"$f":"Multi!D628*M$11*LAFs!D$258*(1-Contrib!M$113)*100/(24*Input!$F$14)","v":1.4578431470783318E-2},{"$f":"Multi!E628*N$11*LAFs!E$258*(1-Contrib!N$113)*100/(24*Input!$F$14)","v":1.4112440598320172E-2},{"$f":"Multi!F628*O$11*LAFs!F$258*(1-Contrib!O$113)*100/(24*Input!$F$14)","v":2.4112898389421211E-2},{"$f":"Multi!G628*P$11*LAFs!G$258*(1-Contrib!P$113)*100/(24*Input!$F$14)","v":0},{"$f":"Multi!H628*Q$11*LAFs!H$258*(1-Contrib!Q$113)*100/(24*Input!$F$14)","v":0.12307294967231114},{"$f":"Multi!I628*R$11*LAFs!I$258*(1-Contrib!R$113)*100/(24*Input!$F$14)","v":7.7175865036327979E-2},{"$f":"Multi!J628*S$11*LAFs!J$258*(1-Contrib!S$113)*100/(24*Input!$F$14)","v":0.10734965329225092},1.0298528392892645]
[]
["2905. Pay-as-you-go unit rate 3 p/kWh"]
["Data sources:"]
["x1 = 2439. Unit rate 3 pseudo load coefficient by network level (combined)"]
["x2 = 2901. Unit cost at each level, £/kW/year (relative to system simultaneous maximum load)"]
["x3 = 2012. Loss adjustment factors between end user meter reading and each network level, scaled by network use"]
["x4 = 2804. Proportion of annual charge covered by contributions (for all charging levels)"]
["x5 = 1010. Days in the charging year (in Financial and general assumptions)"]
["x6 = Contributions to pay-as-you-go unit rate 3 (p/kWh) (in Pay-as-you-go unit rate 3 p/kWh)"]
["Kind:","Calculation",null,null,null,null,null,null,null,null,null,null,null,null,null,null,null,null,null,"Cell summation"]
["Formula:","=x1*x2*x3*(1-x4)*100/(24*x5)",null,null,null,null,null,null,null,null,null,null,null,null,null,null,null,null,null,"=SUM(x6)"]
[]
[null,"Contributions to pay-as-you-go unit rate 3 (p/kWh)"]
[null,"GSPs","Assets\n132kV","Assets\n132kV/EHV","Assets\nEHV","Assets\nEHV/HV","Assets\n132kV/HV","Assets\nHV","Assets\nHV/LV","Assets\nLV circuits","Transmission\nexit","Operating\n132kV","Operating\n132kV/EHV","Operating\nEHV","Operating\nEHV/HV","Operating\n132kV/HV","Operating\nHV","Operating\nHV/LV","Operating\nLV circuits","Pay-as-you-go unit rate 3 (p/kWh)"]
["LV HH Metered",{"$f":"Multi!B637*B$11*LAFs!B$250*(1-Contrib!B$105)*100/(24*Input!$F$14)","v":0},{"$f":"Multi!C637*C$11*LAFs!C$250*(1-Contrib!C$105)*100/(24*Input!$F$14)","v":6.9178945542626271E-3},{"$f":"Multi!D637*D$11*LAFs!D$250*(1-Contrib!D$105)*100/(24*Input!$F$14)","v":1.0788429236462699E-3},{"$f":"Multi!E637*E$11*LAFs!E$250*(1-Contrib!E$105)*100/(24*Input!$F$14)","v":3.2286812111992171E-3},{"$f":"Multi!F637*F$11*LAFs!F$250*(1-Contrib!F$105)*100/(24*Input!$F$14)","v":5.5166122000716916E-3},{"$f":"Multi!G637*G$11*LAFs!G$250*(1-Contrib!G$105)*100/(24*Input!$F$14)","v":0},{"$f":"Multi!H637*H$11*LAFs!H$250*(1-Contrib!H$105)*100/(24*Input!$F$14)","v":1.7264443984917159E-2},{"$f":"Multi!I637*I$11*LAFs!I$250*(1-Contrib!I$105)*100/(24*Input!$F$14)","v":6.3342991044160147E-3},{"$f":"Multi!J637*J$11*LAFs!J$250*(1-Contrib!J$105)*100/(24*Input!$F$14)","v":2.5628866367125034E-3},{"$f":"Multi!B637*K$11*LAFs!B$250*(1-Contrib!K$105)*100/(24*Input!$F$14)","v":5.4220599371642016E-4},{"$f":"Multi!C637*L$11*LAFs!C$250*(1-Contrib!L$105)*100/(24*Input!$F$14)","v":3.5345376573216896E-3},{"$f":"Multi!D637*M$11*LAFs!D$250*(1-Contrib!M$105)*100/(24*Input!$F$14)","v":5.5120975176083998E-4},{"$f":"Multi!E637*N$11*LAFs!E$250*(1-Contrib!N$105)*100/(24*Input!$F$14)","v":1.649619726776397E-3},{"$f":"Multi!F637*O$11*LAFs!F$250*(1-Contrib!O$105)*100/(24*Input!$F$14)","v":2.8185849623826773E-3},{"$f":"Multi!G637*P$11*LAFs!G$250*(1-Contrib!P$105)*100/(24*Input!$F$14)","v":0},{"$f":"Multi!H637*Q$11*LAFs!H$250*(1-Contrib!Q$105)*100/(24*Input!$F$14)","v":1.4386141376295278E-2},{"$f":"Multi!I637*R$11*LAFs!I$250*(1-Contrib!R$105)*100/(24*Input!$F$14)","v":9.0211773440600652E-3},{"$f":"Multi!J637*S$11*LAFs!J$250*(1-Contrib!S$105)*100/(24*Input!$F$14)","v":1.2548226828645266E-2},{"$f":"SUM($B127:$S127)","v":8.795536425618411E-2}]
["LV Sub HH Metered",{"$f":"Multi!B638*B$11*LAFs!B$251*(1-Contrib!B$106)*100/(24*Input!$F$14)","v":0},{"$f":"Multi!C638*C$11*LAFs!C$251*(1-Contrib!C$106)*100/(24*Input!$F$14)","v":6.9731987905238858E-3},{"$f":"Multi!D638*D$11*LAFs!D$251*(1-Contrib!D$106)*100/(24*Input!$F$14)","v":1.0874675974498562E-3},{"$f":"Multi!E638*E$11*LAFs!E$251*(1-Contrib!E$106)*100/(24*Input!$F$14)","v":3.2544924962825419E-3},{"$f":"Multi!F638*F$11*LAFs!F$251*(1-Contrib!F$106)*100/(24*Input!$F$14)","v":5.5607140611338155E-3},{"$f":"Multi!G638*G$11*LAFs!G$251*(1-Contrib!G$106)*100/(24*Input!$F$14)","v":0},{"$f":"Multi!H638*H$11*LAFs!H$251*(1-Contrib!H$106)*100/(24*Input!$F$14)","v":1.740246240678987E-2},{"$f":"Multi!I638*I$11*LAFs!I$251*(1-Contrib!I$106)*100/(24*Input!$F$14)","v":6.3849378603947765E-3},{"$f":"Multi!J638*J$11*LAFs!J$251*(1-Contrib!J$106)*100/(24*Input!$F$14)","v":0},{"$f":"Multi!B638*K$11*LAFs!B$251*(1-Contrib!K$106)*100/(24*Input!$F$14)","v":5.4654059120754373E-4},{"$f":"Multi!C638*L$11*LAFs!C$251*(1-Contrib!L$106)*100/(24*Input!$F$14)","v":3.5627940732212925E-3},{"$f":"Multi!D638*M$11*LAFs!D$251*(1-Contrib!M$106)*100/(24*Input!$F$14)","v":5.5561632866104845E-4},{"$f":"Multi!E638*N$11*LAFs!E$251*(1-Contrib!N$106)*100/(24*Input!$F$14)","v":1.6628074038066371E-3},{"$f":"Multi!F638*O$11*LAFs!F$251*(1-Contrib!O$106)*100/(24*Input!$F$14)","v":2.8411177846827786E-3},{"$f":"Multi!G638*P$11*LAFs!G$251*(1-Contrib!P$106)*100/(24*Input!$F$14)","v":0},{"$f":"Multi!H638*Q$11*LAFs!H$251*(1-Contrib!Q$106)*100/(24*Input!$F$14)","v":1.4501149570670292E-2},{"$f":"Multi!I638*R$11*LAFs!I$251*(1-Contrib!R$106)*100/(24*Input!$F$14)","v":9.0932960095409087E-3},{"$f":"Multi!J638*S$11*LAFs!J$251*(1-Contrib!S$106)*100/(24*Input!$F$14)","v":0},7.3426594974365253E-2]
["HV HH Metered",{"$f":"Multi!B639*B$11*LAFs!B$252*(1-Contrib!B$107)*100/(24*Input!$F$14)","v":0},{"$f":"Multi!C639*C$11*LAFs!C$252*(1-Contrib!C$107)*100/(24*Input!$F$14)","v":6.082600782059318E-3},{"$f":"Multi!D639*D$11*LAFs!D$252*(1-Contrib!D$107)*100/(24*Input!$F$14)","v":9.4857918975456521E-4},{"$f":"Multi!E639*E$11*LAFs!E$252*(1-Contrib!E$107)*100/(24*Input!$F$14)","v":2.8388375547238822E-3},{"$f":"Multi!F639*F$11*LAFs!F$252*(1-Contrib!F$107)*100/(24*Input!$F$14)","v":3.600822953872648E-3},{"$f":"Multi!G639*G$11*LAFs!G$252*(1-Contrib!G$107)*100/(24*Input!$F$14)","v":0},{"$f":"Multi!H639*H$11*LAFs!H$252*(1-Contrib!H$107)*100/(24*Input!$F$14)","v":1.200024319160093E-2},{"$f":"Multi!I639*I$11*LAFs!I$252*(1-Contrib!I$107)*100/(24*Input!$F$14)","v":0},{"$f":"Multi!J639*J$11*LAFs!J$252*(1-Contrib!J$107)*100/(24*Input!$F$14)","v":0},{"$f":"Multi!B639*K$11*LAFs!B$252*(1-Contrib!K$107)*100/(24*Input!$F$14)","v":4.7673791144801279E-4},{"$f":"Multi!C639*L$11*LAFs!C$252*(1-Contrib!L$107)*100/(24*Input!$F$14)","v":3.1077636916850351E-3},{"$f":"Multi!D639*M$11*LAFs!D$252*(1-Contrib!M$107)*100/(24*Input!$F$14)","v":4.8465452036607092E-4},{"$f":"Multi!E639*N$11*LAFs!E$252*(1-Contrib!N$107)*100/(24*Input!$F$14)","v":1.4504381588192768E-3},{"$f":"Multi!F639*O$11*LAFs!F$252*(1-Contrib!O$107)*100/(24*Input!$F$14)","v":2.4782579384540647E-3},{"$f":"Multi!G639*P$11*LAFs!G$252*(1-Contrib!P$107)*100/(24*Input!$F$14)","v":0},{"$f":"Multi!H639*Q$11*LAFs!H$252*(1-Contrib!Q$107)*100/(24*Input!$F$14)","v":1.2649102136480404E-2},{"$f":"Multi!I639*R$11*LAFs!I$252*(1-Contrib!R$107)*100/(24*Input!$F$14)","v":0},{"$f":"Multi!J639*S$11*LAFs!J$252*(1-Contrib!S$107)*100/(24*Input!$F$14)","v":0},4.6118038029264202E-2]
["HV Sub HH Metered",{"$f":"Multi!B640*B$11*LAFs!B$253*(1-Contrib!B$108)*100/(24*Input!$F$14)","v":0},{"$f":"Multi!C640*C$11*LAFs!C$253*(1-Contrib!C$108)*100/(24*Input!$F$14)","v":5.5416687562096978E-3},{"$f":"Multi!D640*D$11*LAFs!D$253*(1-Contrib!D$108)*100/(24*Input!$F$14)","v":8.6422105395414061E-4},{"$f":"Multi!E640*E$11*LAFs!E$253*(1-Contrib!E$108)*100/(24*Input!$F$14)","v":2.5863767728057127E-3},{"$f":"Multi!F640*F$11*LAFs!F$253*(1-Contrib!F$108)*100/(24*Input!$F$14)","v":3.2805980163904454E-3},{"$f":"Multi!G640*G$11*LAFs!G$253*(1-Contrib!G$108)*100/(24*Input!$F$14)","v":0},{"$f":"Multi!H640*H$11*LAFs!H$253*(1-Contrib!H$108)*100/(24*Input!$F$14)","v":0},{"$f":"Multi!I640*I$11*LAFs!I$253*(1-Contrib!I$108)*100/(24*Input!$F$14)","v":0},{"$f":"Multi!J640*J$11*LAFs!J$253*(1-Contrib!J$108)*100/(24*Input!$F$14)","v":0},{"$f":"Multi!B640*K$11*LAFs!B$253*(1-Contrib!K$108)*100/(24*Input!$F$14)","v":4.3434111220392663E-4},{"$f":"Multi!C640*L$11*LAFs!C$253*(1-Contrib!L$108)*100/(24*Input!$F$14)","v":2.8313870281756587E-3},{"$f":"Multi!D640*M$11*LAFs!D$253*(1-Contrib!M$108)*100/(24*Input!$F$14)","v":4.4155368884149466E-4},{"$f":"Multi!E640*N$11*LAFs!E$253*(1-Contrib!N$108)*100/(24*Input!$F$14)","v":1.3214491819438169E-3},{"$f":"Multi!F640*O$11*LAFs!F$253*(1-Contrib!O$108)*100/(24*Input!$F$14)","v":2.2578638775484277E-3},{"$f":"Multi!G640*P$11*LAFs!G$253*(1-Contrib!P$108)*100/(24*Input!$F$14)","v":0},{"$f":"Multi!H640*Q$11*LAFs!H$253*(1-Contrib!Q$108)*100/(24*Input!$F$14)","v":0},{"$f":"Multi!I640*R$11*LAFs!I$253*(1-Contrib!R$108)*100/(24*Input!$F$14)","v":0},{"$f":"Multi!J640*S$11*LAFs!J$253*(1-Contrib!S$108)*100/(24*Input!$F$14)","v":0},1.9559459488073323E-2]
["LV Generation Non-Intermittent",{"$f":"Multi!B641*B$11*LAFs!B$262*(1-Contrib!B$117)*100/(24*Input!$F$14)","v":0},{"$f":"Multi!C641*C$11*LAFs!C$262*(1-Contrib!C$117)*100/(24*Input!$F$14)","v":-5.8114676245743374E-3},{"$f":"Multi!D641*D$11*LAFs!D$262*(1-Contrib!D$117)*100/(24*Input!$F$14)","v":-9.0629608092367055E-4},{"$f":"Multi!E641*E$11*LAFs!E$262*(1-Contrib!E$117)*100/(24*Input!$F$14)","v":-2.7122957977719106E-3},{"$f":"Multi!F641*F$11*LAFs!F$262*(1-Contrib!F$117)*100/(24*Input!$F$14)","v":-4.6343020909872272E-3},{"$f":"Multi!G641*G$11*LAFs!G$262*(1-Contrib!G$117)*100/(24*Input!$F$14)","v":0},{"$f":"Multi!H641*H$11*LAFs!H$262*(1-Contrib!H$117)*100/(24*Input!$F$14)","v":-1.4503221534766153E-2},{"$f":"Multi!I641*I$11*LAFs!I$262*(1-Contrib!I$117)*100/(24*Input!$F$14)","v":-5.3212106488384611E-3},{"$f":"Multi!J641*J$11*LAFs!J$262*(1-Contrib!J$117)*100/(24*Input!$F$14)","v":0},{"$f":"Multi!B641*K$11*LAFs!B$262*(1-Contrib!K$117)*100/(24*Input!$F$14)","v":-4.5548722282729223E-4},{"$f":"Multi!C641*L$11*LAFs!C$262*(1-Contrib!L$117)*100/(24*Input!$F$14)","v":-2.9692344979018346E-3},{"$f":"Multi!D641*M$11*LAFs!D$262*(1-Contrib!M$117)*100/(24*Input!$F$14)","v":-4.6305094730505331E-4},{"$f":"Multi!E641*N$11*LAFs!E$262*(1-Contrib!N$117)*100/(24*Input!$F$14)","v":-1.385784585154324E-3},{"$f":"Multi!F641*O$11*LAFs!F$262*(1-Contrib!O$117)*100/(24*Input!$F$14)","v":-2.3677890906715253E-3},{"$f":"Multi!G641*P$11*LAFs!G$262*(1-Contrib!P$117)*100/(24*Input!$F$14)","v":0},{"$f":"Multi!H641*Q$11*LAFs!H$262*(1-Contrib!Q$117)*100/(24*Input!$F$14)","v":-1.2085265855833884E-2},{"$f":"Multi!I641*R$11*LAFs!I$262*(1-Contrib!R$117)*100/(24*Input!$F$14)","v":-7.578357787810578E-3},{"$f":"Multi!J641*S$11*LAFs!J$262*(1-Contrib!S$117)*100/(24*Input!$F$14)","v":0},-6.1193763765366241E-2]
["LV Sub Generation Non-Intermittent",{"$f":"Multi!B642*B$11*LAFs!B$264*(1-Contrib!B$119)*100/(24*Input!$F$14)","v":0},{"$f":"Multi!C642*C$11*LAFs!C$264*(1-Contrib!C$119)*100/(24*Input!$F$14)","v":-5.671172213024725E-3},{"$f":"Multi!D642*D$11*LAFs!D$264*(1-Contrib!D$119)*100/(24*Input!$F$14)","v":-8.8441706689951509E-4},{"$f":"Multi!E642*E$11*LAFs!E$264*(1-Contrib!E$119)*100/(24*Input!$F$14)","v":-2.6468179047894878E-3},{"$f":"Multi!F642*F$11*LAFs!F$264*(1-Contrib!F$119)*100/(24*Input!$F$14)","v":-4.5224247888835424E-3},{"$f":"Multi!G642*G$11*LAFs!G$264*(1-Contrib!G$119)*100/(24*Input!$F$14)","v":0},{"$f":"Multi!H642*H$11*LAFs!H$264*(1-Contrib!H$119)*100/(24*Input!$F$14)","v":-1.4153097338012281E-2},{"$f":"Multi!I642*I$11*LAFs!I$264*(1-Contrib!I$119)*100/(24*Input!$F$14)","v":0},{"$f":"Multi!J642*J$11*LAFs!J$264*(1-Contrib!J$119)*100/(24*Input!$F$14)","v":0},{"$f":"Multi!B642*K$11*LAFs!B$264*(1-Contrib!K$119)*100/(24*Input!$F$14)","v":-4.4449124530314209E-4},{"$f":"Multi!C642*L$11*LAFs!C$264*(1-Contrib!L$119)*100/(24*Input!$F$14)","v":-2.8975538136442225E-3},{"$f":"Multi!D642*M$11*LAFs!D$264*(1-Contrib!M$119)*100/(24*Input!$F$14)","v":-4.5187237290400279E-4},{"$f":"Multi!E642*N$11*LAFs!E$264*(1-Contrib!N$119)*100/(24*Input!$F$14)","v":-1.3523301754848603E-3},{"$f":"Multi!F642*O$11*LAFs!F$264*(1-Contrib!O$119)*100/(24*Input!$F$14)","v":-2.3106279798475143E-3},{"$f":"Multi!G642*P$11*LAFs!G$264*(1-Contrib!P$119)*100/(24*Input!$F$14)","v":0},{"$f":"Multi!H642*Q$11*LAFs!H$264*(1-Contrib!Q$119)*100/(24*Input!$F$14)","v":-1.1793513848172156E-2},{"$f":"Multi!I642*R$11*LAFs!I$264*(1-Contrib!R$119)*100/(24*Input!$F$14)","v":0},{"$f":"Multi!J642*S$11*LAFs!J$264*(1-Contrib!S$119)*100/(24*Input!$F$14)","v":0},-4.712831874696545E-2]
["HV Generation Non-Intermittent",{"$f":"Multi!B643*B$11*LAFs!B$266*(1-Contrib!B$121)*100/(24*Input!$F$14)","v":0},{"$f":"Multi!C643*C$11*LAFs!C$266*(1-Contrib!C$121)*100/(24*Input!$F$14)","v":-5.6334003714536753E-3},{"$f":"Multi!D643*D$11*LAFs!D$266*(1-Contrib!D$121)*100/(24*Input!$F$14)","v":-8.7852656312378103E-4},{"$f":"Multi!E643*E$11*LAFs!E$266*(1-Contrib!E$121)*100/(24*Input!$F$14)","v":-2.6291892412942204E-3},{"$f":"Multi!F643*F$11*LAFs!F$266*(1-Contrib!F$121)*100/(24*Input!$F$14)","v":-3.3349019757659441E-3},{"$f":"Multi!G643*G$11*LAFs!G$266*(1-Contrib!G$121)*100/(24*Input!$F$14)","v":0},{"$f":"Multi!H643*H$11*LAFs!H$266*(1-Contrib!H$121)*100/(24*Input!$F$14)","v":0},{"$f":"Multi!I643*I$11*LAFs!I$266*(1-Contrib!I$121)*100/(24*Input!$F$14)","v":0},{"$f":"Multi!J643*J$11*LAFs!J$266*(1-Contrib!J$121)*100/(24*Input!$F$14)","v":0},{"$f":"Multi!B643*K$11*LAFs!B$266*(1-Contrib!K$121)*100/(24*Input!$F$14)","v":-4.41530789815871E-4},{"$f":"Multi!C643*L$11*LAFs!C$266*(1-Contrib!L$121)*100/(24*Input!$F$14)","v":-2.8782551678825587E-3},{"$f":"Multi!D643*M$11*LAFs!D$266*(1-Contrib!M$121)*100/(24*Input!$F$14)","v":-4.488627567191046E-4},{"$f":"Multi!E643*N$11*LAFs!E$266*(1-Contrib!N$121)*100/(24*Input!$F$14)","v":-1.3433232190353894E-3},{"$f":"Multi!F643*O$11*LAFs!F$266*(1-Contrib!O$121)*100/(24*Input!$F$14)","v":-2.295238450010281E-3},{"$f":"Multi!G643*P$11*LAFs!G$266*(1-Contrib!P$121)*100/(24*Input!$F$14)","v":0},{"$f":"Multi!H643*Q$11*LAFs!H$266*(1-Contrib!Q$121)*100/(24*Input!$F$14)","v":0},{"$f":"Multi!I643*R$11*LAFs!I$266*(1-Contrib!R$121)*100/(24*Input!$F$14)","v":0},{"$f":"Multi!J643*S$11*LAFs!J$266*(1-Contrib!S$121)*100/(24*Input!$F$14)","v":0},-1.9883228535100828E-2]
["HV Sub Generation Non-Intermittent",{"$f":"Multi!B644*B$11*LAFs!B$268*(1-Contrib!B$123)*100/(24*Input!$F$14)","v":0},{"$f":"Multi!C644*C$11*LAFs!C$268*(1-Contrib!C$123)*100/(24*Input!$F$14)","v":-5.5416687562096978E-3},{"$f":"Multi!D644*D$11*LAFs!D$268*(1-Contrib!D$123)*100/(24*Input!$F$14)","v":-8.6422105395414061E-4},{"$f":"Multi!E644*E$11*LAFs!E$268*(1-Contrib!E$123)*100/(24*Input!$F$14)","v":-2.5863767728057127E-3},{"$f":"Multi!F644*F$11*LAFs!F$268*(1-Contrib!F$123)*100/(24*Input!$F$14)","v":0},{"$f":"Multi!G644*G$11*LAFs!G$268*(1-Contrib!G$123)*100/(24*Input!$F$14)","v":0},{"$f":"Multi!H644*H$11*LAFs!H$268*(1-Contrib!H$123)*100/(24*Input!$F$14)","v":0},{"$f":"Multi!I644*I$11*LAFs!I$268*(1-Contrib!I$123)*100/(24*Input!$F$14)","v":0},{"$f":"Multi!J644*J$11*LAFs!J$268*(1-Contrib!J$123)*100/(24*Input!$F$14)","v":0},{"$f":"Multi!B644*K$11*LAFs!B$268*(1-Contrib!K$123)*100/(24*Input!$F$14)","v":-4.3434111220392663E-4},{"$f":"Multi!C644*L$11*LAFs!C$268*(1-Contrib!L$123)*100/(24*Input!$F$14)","v":-2.8313870281756587E-3},{"$f":"Multi!D644*M$11*LAFs!D$268*(1-Contrib!M$123)*100/(24*Input!$F$14)","v":-4.4155368884149466E-4},{"$f":"Multi!E644*N$11*LAFs!E$268*(1-Contrib!N$123)*100/(24*Input!$F$14)","v":-1.3214491819438169E-3},{"$f":"Multi!F644*O$11*LAFs!F$268*(1-Contrib!O$123)*100/(24*Input!$F$14)","v":0},{"$f":"Multi!G644*P$11*LAFs!G$268*(1-Contrib!P$123)*100/(24*Input!$F$14)","v":0},{"$f":"Multi!H644*Q$11*LAFs!H$268*(1-Contrib!Q$123)*100/(24*Input!$F$14)","v":0},{"$f":"Multi!I644*R$11*LAFs!I$268*(1-Contrib!R$123)*100/(24*Input!$F$14)","v":0},{"$f":"Multi!J644*S$11*LAFs!J$268*(1-Contrib!S$123)*100/(24*Input!$F$14)","v":0},-1.4020997594134449E-2]
["LV UMS (Pseudo HH Metered)",{"$f":"Multi!B645*B$11*LAFs!B$258*(1-Contrib!B$113)*100/(24*Input!$F$14)","v":0},{"$f":"Multi!C645*C$11*LAFs!C$258*(1-Contrib!C$113)*100/(24*Input!$F$14)","v":7.01558267507675E-3},{"$f":"Multi!D645*D$11*LAFs!D$258*(1-Contrib!D$113)*100/(24*Input!$F$14)","v":1.0940773475071653E-3},{"$f":"Multi!E645*E$11*LAFs!E$258*(1-Contrib!E$113)*100/(24*Input!$F$14)","v":3.2742736667875395E-3},{"$f":"Multi!F645*F$11*LAFs!F$258*(1-Contrib!F$113)*100/(24*Input!$F$14)","v":5.5945127050386553E-3},{"$f":"Multi!G645*G$11*LAFs!G$258*(1-Contrib!G$113)*100/(24*Input!$F$14)","v":0},{"$f":"Multi!H645*H$11*LAFs!H$258*(1-Contrib!H$113)*100/(24*Input!$F$14)","v":1.7508236525632895E-2},{"$f":"Multi!I645*I$11*LAFs!I$258*(1-Contrib!I$113)*100/(24*Input!$F$14)","v":6.4237462290189333E-3},{"$f":"Multi!J645*J$11*LAFs!J$258*(1-Contrib!J$113)*100/(24*Input!$F$14)","v":2.5990773559315186E-3},{"$f":"Multi!B645*K$11*LAFs!B$258*(1-Contrib!K$113)*100/(24*Input!$F$14)","v":5.498625262357939E-4},{"$f":"Multi!C645*L$11*LAFs!C$258*(1-Contrib!L$113)*100/(24*Input!$F$14)","v":3.5844491352984326E-3},{"$f":"Multi!D645*M$11*LAFs!D$258*(1-Contrib!M$113)*100/(24*Input!$F$14)","v":5.5899342703972317E-4},{"$f":"Multi!E645*N$11*LAFs!E$258*(1-Contrib!N$113)*100/(24*Input!$F$14)","v":1.6729141337527792E-3},{"$f":"Multi!F645*O$11*LAFs!F$258*(1-Contrib!O$113)*100/(24*Input!$F$14)","v":2.8583864173152983E-3},{"$f":"Multi!G645*P$11*LAFs!G$258*(1-Contrib!P$113)*100/(24*Input!$F$14)","v":0},{"$f":"Multi!H645*Q$11*LAFs!H$258*(1-Contrib!Q$113)*100/(24*Input!$F$14)","v":1.4589289184605052E-2},{"$f":"Multi!I645*R$11*LAFs!I$258*(1-Contrib!R$113)*100/(24*Input!$F$14)","v":9.1485660828388524E-3},{"$f":"Multi!J645*S$11*LAFs!J$258*(1-Contrib!S$113)*100/(24*Input!$F$14)","v":1.2725421304337932E-2},8.9197388716417331E-2]

{"sheet":"Standing","index":33,"n_rows":135,"n_cols":20,"rows_kept":135,"cut":false,"hidden":true,"merged":[]}
[{"$f":"\"r6140: Allocation to standing charges\"&\" for \"&Input!B7&\" in \"&Input!C7&\" (\"&Input!D7&\")\"","v":"r6140: Allocation to standing charges for WPD Mid West in April 2017 (0)"}]
["This sheet reallocates some costs from unit charges to fixed or capacity charges, for demand users only."]
[]
["3001. Costs based on aggregate maximum load (£/kW/year)"]
["Data sources:"]
["x1 = 2901. Unit cost at each level, £/kW/year (relative to system simultaneous maximum load)"]
["x2 = 2612. Diversity allowances (including calculated LV value)"]
["Calculation =x1/(1+x2)"]
[]
[null,"GSPs","Assets\n132kV","Assets\n132kV/EHV","Assets\nEHV","Assets\nEHV/HV","Assets\n132kV/HV","Assets\nHV","Assets\nHV/LV","Assets\nLV circuits","Transmission\nexit","Operating\n132kV","Operating\n132kV/EHV","Operating\nEHV","Operating\nEHV/HV","Operating\n132kV/HV","Operating\nHV","Operating\nHV/LV","Operating\nLV circuits"]
["Costs based on aggregate maximum load (£/kW/year)",{"$f":"Yard!B11/(1+AMD!B213)","v":0},{"$f":"Yard!C11/(1+AMD!C213)","v":9.0722259808798231},{"$f":"Yard!D11/(1+AMD!D213)","v":1.4162220449016072},{"$f":"Yard!E11/(1+AMD!E213)","v":1.593621744944735},{"$f":"Yard!F11/(1+AMD!F213)","v":2.7797452646657952},{"$f":"Yard!G11/(1+AMD!G213)","v":0},{"$f":"Yard!H11/(1+AMD!H213)","v":10.763250527708081},{"$f":"Yard!I11/(1+AMD!I213)","v":6.7946104562163514},{"$f":"Yard!J11/(1+AMD!J213)","v":9.5190451581149755},{"$f":"Yard!K11/(1+AMD!B213)","v":3.0285831655291728},{"$f":"Yard!L11/(1+AMD!C213)","v":4.6352432974558182},{"$f":"Yard!M11/(1+AMD!D213)","v":0.72358578315558209},{"$f":"Yard!N11/(1+AMD!E213)","v":0.8142240424238808},{"$f":"Yard!O11/(1+AMD!F213)","v":1.4202463247533774},{"$f":"Yard!P11/(1+AMD!G213)","v":0},{"$f":"Yard!Q11/(1+AMD!H213)","v":5.4992330407711378},{"$f":"Yard!R11/(1+AMD!I213)","v":3.4715485088639406},{"$f":"Yard!S11/(1+AMD!J213)","v":4.8635351853363593}]
[]
["3002. Capacity elements p/kVA/day"]
["This calculation uses aggregate maximum load and no coincidence factor."]
["Data sources:"]
["x1 = 2602. Standing charges factors adapted to use 132kV/HV"]
["x2 = 2012. Loss adjustment factors between end user meter reading and each network level, scaled by network use"]
["x3 = 3001. Costs based on aggregate maximum load (£/kW/year)"]
["x4 = 1010. Power factor for all flows in the network model (in Financial and general assumptions)"]
["x5 = 1010. Days in the charging year (in Financial and general assumptions)"]
["x6 = 2804. Proportion of annual charge covered by contributions (for all charging levels)"]
["Calculation =100*x1*x2*x3*x4/x5*(1-x6)"]
[]
[null,"GSPs","Assets\n132kV","Assets\n132kV/EHV","Assets\nEHV","Assets\nEHV/HV","Assets\n132kV/HV","Assets\nHV","Assets\nHV/LV","Assets\nLV circuits","Transmission\nexit","Operating\n132kV","Operating\n132kV/EHV","Operating\nEHV","Operating\nEHV/HV","Operating\n132kV/HV","Operating\nHV","Operating\nHV/LV","Operating\nLV circuits"]
["Domestic Unrestricted",{"$f":"100*AMD!B40*LAFs!B$241*B$11*Input!$E$14/Input!$F$14*(1-Contrib!B$96)","v":0},{"$f":"100*AMD!C40*LAFs!C$241*C$11*Input!$E$14/Input!$F$14*(1-Contrib!C$96)","v":0},{"$f":"100*AMD!D40*LAFs!D$241*D$11*Input!$E$14/Input!$F$14*(1-Contrib!D$96)","v":0},{"$f":"100*AMD!E40*LAFs!E$241*E$11*Input!$E$14/Input!$F$14*(1-Contrib!E$96)","v":0},{"$f":"100*AMD!F40*LAFs!F$241*F$11*Input!$E$14/Input!$F$14*(1-Contrib!F$96)","v":0},{"$f":"100*AMD!G40*LAFs!G$241*G$11*Input!$E$14/Input!$F$14*(1-Contrib!G$96)","v":0},{"$f":"100*AMD!H40*LAFs!H$241*H$11*Input!$E$14/Input!$F$14*(1-Contrib!H$96)","v":0},{"$f":"100*AMD!I40*LAFs!I$241*I$11*Input!$E$14/Input!$F$14*(1-Contrib!I$96)","v":0},{"$f":"100*AMD!J40*LAFs!J$241*J$11*Input!$E$14/Input!$F$14*(1-Contrib!J$96)","v":0.25854124685806679},{"$f":"100*AMD!B40*LAFs!B$241*K$11*Input!$E$14/Input!$F$14*(1-Contrib!K$96)","v":0},{"$f":"100*AMD!C40*LAFs!C$241*L$11*Input!$E$14/Input!$F$14*(1-Contrib!L$96)","v":0},{"$f":"100*AMD!D40*LAFs!D$241*M$11*Input!$E$14/Input!$F$14*(1-Contrib!M$96)","v":0},{"$f":"100*AMD!E40*LAFs!E$241*N$11*Input!$E$14/Input!$F$14*(1-Contrib!N$96)","v":0},{"$f":"100*AMD!F40*LAFs!F$241*O$11*Input!$E$14/Input!$F$14*(1-Contrib!O$96)","v":0},{"$f":"100*AMD!G40*LAFs!G$241*P$11*Input!$E$14/Input!$F$14*(1-Contrib!P$96)","v":0},{"$f":"100*AMD!H40*LAFs!H$241*Q$11*Input!$E$14/Input!$F$14*(1-Contrib!Q$96)","v":0},{"$f":"100*AMD!I40*LAFs!I$241*R$11*Input!$E$14/Input!$F$14*(1-Contrib!R$96)","v":0},{"$f":"100*AMD!J40*LAFs!J$241*S$11*Input!$E$14/Input!$F$14*(1-Contrib!S$96)","v":1.265851623580696}]
["Domestic Two Rate",{"$f":"100*AMD!B41*LAFs!B$242*B$11*Input!$E$14/Input!$F$14*(1-Contrib!B$97)","v":0},{"$f":"100*AMD!C41*LAFs!C$242*C$11*Input!$E$14/Input!$F$14*(1-Contrib!C$97)","v":0},{"$f":"100*AMD!D41*LAFs!D$242*D$11*Input!$E$14/Input!$F$14*(1-Contrib!D$97)","v":0},{"$f":"100*AMD!E41*LAFs!E$242*E$11*Input!$E$14/Input!$F$14*(1-Contrib!E$97)","v":0},{"$f":"100*AMD!F41*LAFs!F$242*F$11*Input!$E$14/Input!$F$14*(1-Contrib!F$97)","v":0},{"$f":"100*AMD!G41*LAFs!G$242*G$11*Input!$E$14/Input!$F$14*(1-Contrib!G$97)","v":0},{"$f":"100*AMD!H41*LAFs!H$242*H$11*Input!$E$14/Input!$F$14*(1-Contrib!H$97)","v":0},{"$f":"100*AMD!I41*LAFs!I$242*I$11*Input!$E$14/Input!$F$14*(1-Contrib!I$97)","v":0},{"$f":"100*AMD!J41*LAFs!J$242*J$11*Input!$E$14/Input!$F$14*(1-Contrib!J$97)","v":0.25854124685806679},{"$f":"100*AMD!B41*LAFs!B$242*K$11*Input!$E$14/Input!$F$14*(1-Contrib!K$97)","v":0},{"$f":"100*AMD!C41*LAFs!C$242*L$11*Input!$E$14/Input!$F$14*(1-Contrib!L$97)","v":0},{"$f":"100*AMD!D41*LAFs!D$242*M$11*Input!$E$14/Input!$F$14*(1-Contrib!M$97)","v":0},{"$f":"100*AMD!E41*LAFs!E$242*N$11*Input!$E$14/Input!$F$14*(1-Contrib!N$97)","v":0},{"$f":"100*AMD!F41*LAFs!F$242*O$11*Input!$E$14/Input!$F$14*(1-Contrib!O$97)","v":0},{"$f":"100*AMD!G41*LAFs!G$242*P$11*Input!$E$14/Input!$F$14*(1-Contrib!P$97)","v":0},{"$f":"100*AMD!H41*LAFs!H$242*Q$11*Input!$E$14/Input!$F$14*(1-Contrib!Q$97)","v":0},{"$f":"100*AMD!I41*LAFs!I$242*R$11*Input!$E$14/Input!$F$14*(1-Contrib!R$97)","v":0},{"$f":"100*AMD!J41*LAFs!J$242*S$11*Input!$E$14/Input!$F$14*(1-Contrib!S$97)","v":1.265851623580696}]
["Domestic Off Peak (related MPAN)",{"$f":"100*AMD!B42*LAFs!B$243*B$11*Input!$E$14/Input!$F$14*(1-Contrib!B$98)","v":0},{"$f":"100*AMD!C42*LAFs!C$243*C$11*Input!$E$14/Input!$F$14*(1-Contrib!C$98)","v":0},{"$f":"100*AMD!D42*LAFs!D$243*D$11*Input!$E$14/Input!$F$14*(1-Contrib!D$98)","v":0},{"$f":"100*AMD!E42*LAFs!E$243*E$11*Input!$E$14/Input!$F$14*(1-Contrib!E$98)","v":0},{"$f":"100*AMD!F42*LAFs!F$243*F$11*Input!$E$14/Input!$F$14*(1-Contrib!F$98)","v":0},{"$f":"100*AMD!G42*LAFs!G$243*G$11*Input!$E$14/Input!$F$14*(1-Contrib!G$98)","v":0},{"$f":"100*AMD!H42*LAFs!H$243*H$11*Input!$E$14/Input!$F$14*(1-Contrib!H$98)","v":0},{"$f":"100*AMD!I42*LAFs!I$243*I$11*Input!$E$14/Input!$F$14*(1-Contrib!I$98)","v":0},{"$f":"100*AMD!J42*LAFs!J$243*J$11*Input!$E$14/Input!$F$14*(1-Contrib!J$98)","v":0.25854124685806679},{"$f":"100*AMD!B42*LAFs!B$243*K$11*Input!$E$14/Input!$F$14*(1-Contrib!K$98)","v":0},{"$f":"100*AMD!C42*LAFs!C$243*L$11*Input!$E$14/Input!$F$14*(1-Contrib!L$98)","v":0},{"$f":"100*AMD!D42*LAFs!D$243*M$11*Input!$E$14/Input!$F$14*(1-Contrib!M$98)","v":0},{"$f":"100*AMD!E42*LAFs!E$243*N$11*Input!$E$14/Input!$F$14*(1-Contrib!N$98)","v":0},{"$f":"100*AMD!F42*LAFs!F$243*O$11*Input!$E$14/Input!$F$14*(1-Contrib!O$98)","v":0},{"$f":"100*AMD!G42*LAFs!G$243*P$11*Input!$E$14/Input!$F$14*(1-Contrib!P$98)","v":0},{"$f":"100*AMD!H42*LAFs!H$243*Q$11*Input!$E$14/Input!$F$14*(1-Contrib!Q$98)","v":0},{"$f":"100*AMD!I42*LAFs!I$243*R$11*Input!$E$14/Input!$F$14*(1-Contrib!R$98)","v":0},{"$f":"100*AMD!J42*LAFs!J$243*S$11*Input!$E$14/Input!$F$14*(1-Contrib!S$98)","v":1.265851623580696}]
["Small Non Domestic Unrestricted",{"$f":"100*AMD!B43*LAFs!B$244*B$11*Input!$E$14/Input!$F$14*(1-Contrib!B$99)","v":0},{"$f":"100*AMD!C43*LAFs!C$244*C$11*Input!$E$14/Input!$F$14*(1-Contrib!C$99)","v":0},{"$f":"100*AMD!D43*LAFs!D$244*D$11*Input!$E$14/Input!$F$14*(1-Contrib!D$99)","v":0},{"$f":"100*AMD!E43*LAFs!E$244*E$11*Input!$E$14/Input!$F$14*(1-Contrib!E$99)","v":0},{"$f":"100*AMD!F43*LAFs!F$244*F$11*Input!$E$14/Input!$F$14*(1-Contrib!F$99)","v":0},{"$f":"100*AMD!G43*LAFs!G$244*G$11*Input!$E$14/Input!$F$14*(1-Contrib!G$99)","v":0},{"$f":"100*AMD!H43*LAFs!H$244*H$11*Input!$E$14/Input!$F$14*(1-Contrib!H$99)","v":0},{"$f":"100*AMD!I43*LAFs!I$244*I$11*Input!$E$14/Input!$F$14*(1-Contrib!I$99)","v":0},{"$f":"100*AMD!J43*LAFs!J$244*J$11*Input!$E$14/Input!$F$14*(1-Contrib!J$99)","v":0.25854124685806679},{"$f":"100*AMD!B43*LAFs!B$244*K$11*Input!$E$14/Input!$F$14*(1-Contrib!K$99)","v":0},{"$f":"100*AMD!C43*LAFs!C$244*L$11*Input!$E$14/Input!$F$14*(1-Contrib!L$99)","v":0},{"$f":"100*AMD!D43*LAFs!D$244*M$11*Input!$E$14/Input!$F$14*(1-Contrib!M$99)","v":0},{"$f":"100*AMD!E43*LAFs!E$244*N$11*Input!$E$14/Input!$F$14*(1-Contrib!N$99)","v":0},{"$f":"100*AMD!F43*LAFs!F$244*O$11*Input!$E$14/Input!$F$14*(1-Contrib!O$99)","v":0},{"$f":"100*AMD!G43*LAFs!G$244*P$11*Input!$E$14/Input!$F$14*(1-Contrib!P$99)","v":0},{"$f":"100*AMD!H43*LAFs!H$244*Q$11*Input!$E$14/Input!$F$14*(1-Contrib!Q$99)","v":0},{"$f":"100*AMD!I43*LAFs!I$244*R$11*Input!$E$14/Input!$F$14*(1-Contrib!R$99)","v":0},{"$f":"100*AMD!J43*LAFs!J$244*S$11*Input!$E$14/Input!$F$14*(1-Contrib!S$99)","v":1.265851623580696}]
["Small Non Domestic Two Rate",{"$f":"100*AMD!B44*LAFs!B$245*B$11*Input!$E$14/Input!$F$14*(1-Contrib!B$100)","v":0},{"$f":"100*AMD!C44*LAFs!C$245*C$11*Input!$E$14/Input!$F$14*(1-Contrib!C$100)","v":0},{"$f":"100*AMD!D44*LAFs!D$245*D$11*Input!$E$14/Input!$F$14*(1-Contrib!D$100)","v":0},{"$f":"100*AMD!E44*LAFs!E$245*E$11*Input!$E$14/Input!$F$14*(1-Contrib!E$100)","v":0},{"$f":"100*AMD!F44*LAFs!F$245*F$11*Input!$E$14/Input!$F$14*(1-Contrib!F$100)","v":0},{"$f":"100*AMD!G44*LAFs!G$245*G$11*Input!$E$14/Input!$F$14*(1-Contrib!G$100)","v":0},{"$f":"100*AMD!H44*LAFs!H$245*H$11*Input!$E$14/Input!$F$14*(1-Contrib!H$100)","v":0},{"$f":"100*AMD!I44*LAFs!I$245*I$11*Input!$E$14/Input!$F$14*(1-Contrib!I$100)","v":0},{"$f":"100*AMD!J44*LAFs!J$245*J$11*Input!$E$14/Input!$F$14*(1-Contrib!J$100)","v":0.25854124685806679},{"$f":"100*AMD!B44*LAFs!B$245*K$11*Input!$E$14/Input!$F$14*(1-Contrib!K$100)","v":0},{"$f":"100*AMD!C44*LAFs!C$245*L$11*Input!$E$14/Input!$F$14*(1-Contrib!L$100)","v":0},{"$f":"100*AMD!D44*LAFs!D$245*M$11*Input!$E$14/Input!$F$14*(1-Contrib!M$100)","v":0},{"$f":"100*AMD!E44*LAFs!E$245*N$11*Input!$E$14/Input!$F$14*(1-Contrib!N$100)","v":0},{"$f":"100*AMD!F44*LAFs!F$245*O$11*Input!$E$14/Input!$F$14*(1-Contrib!O$100)","v":0},{"$f":"100*AMD!G44*LAFs!G$245*P$11*Input!$E$14/Input!$F$14*(1-Contrib!P$100)","v":0},{"$f":"100*AMD!H44*LAFs!H$245*Q$11*Input!$E$14/Input!$F$14*(1-Contrib!Q$100)","v":0},{"$f":"100*AMD!I44*LAFs!I$245*R$11*Input!$E$14/Input!$F$14*(1-Contrib!R$100)","v":0},{"$f":"100*AMD!J44*LAFs!J$245*S$11*Input!$E$14/Input!$F$14*(1-Contrib!S$100)","v":1.265851623580696}]
["Small Non Domestic Off Peak (related MPAN)",{"$f":"100*AMD!B45*LAFs!B$246*B$11*Input!$E$14/Input!$F$14*(1-Contrib!B$101)","v":0},{"$f":"100*AMD!C45*LAFs!C$246*C$11*Input!$E$14/Input!$F$14*(1-Contrib!C$101)","v":0},{"$f":"100*AMD!D45*LAFs!D$246*D$11*Input!$E$14/Input!$F$14*(1-Contrib!D$101)","v":0},{"$f":"100*AMD!E45*LAFs!E$246*E$11*Input!$E$14/Input!$F$14*(1-Contrib!E$101)","v":0},{"$f":"100*AMD!F45*LAFs!F$246*F$11*Input!$E$14/Input!$F$14*(1-Contrib!F$101)","v":0},{"$f":"100*AMD!G45*LAFs!G$246*G$11*Input!$E$14/Input!$F$14*(1-Contrib!G$101)","v":0},{"$f":"100*AMD!H45*LAFs!H$246*H$11*Input!$E$14/Input!$F$14*(1-Contrib!H$101)","v":0},{"$f":"100*AMD!I45*LAFs!I$246*I$11*Input!$E$14/Input!$F$14*(1-Contrib!I$101)","v":0},{"$f":"100*AMD!J45*LAFs!J$246*J$11*Input!$E$14/Input!$F$14*(1-Contrib!J$101)","v":0.25854124685806679},{"$f":"100*AMD!B45*LAFs!B$246*K$11*Input!$E$14/Input!$F$14*(1-Contrib!K$101)","v":0},{"$f":"100*AMD!C45*LAFs!C$246*L$11*Input!$E$14/Input!$F$14*(1-Contrib!L$101)","v":0},{"$f":"100*AMD!D45*LAFs!D$246*M$11*Input!$E$14/Input!$F$14*(1-Contrib!M$101)","v":0},{"$f":"100*AMD!E45*LAFs!E$246*N$11*Input!$E$14/Input!$F$14*(1-Contrib!N$101)","v":0},{"$f":"100*AMD!F45*LAFs!F$246*O$11*Input!$E$14/Input!$F$14*(1-Contrib!O$101)","v":0},{"$f":"100*AMD!G45*LAFs!G$246*P$11*Input!$E$14/Input!$F$14*(1-Contrib!P$101)","v":0},{"$f":"100*AMD!H45*LAFs!H$246*Q$11*Input!$E$14/Input!$F$14*(1-Contrib!Q$101)","v":0},{"$f":"100*AMD!I45*LAFs!I$246*R$11*Input!$E$14/Input!$F$14*(1-Contrib!R$101)","v":0},{"$f":"100*AMD!J45*LAFs!J$246*S$11*Input!$E$14/Input!$F$14*(1-Contrib!S$101)","v":1.265851623580696}]
["LV Medium Non-Domestic",{"$f":"100*AMD!B46*LAFs!B$247*B$11*Input!$E$14/Input!$F$14*(1-Contrib!B$102)","v":0},{"$f":"100*AMD!C46*LAFs!C$247*C$11*Input!$E$14/Input!$F$14*(1-Contrib!C$102)","v":0},{"$f":"100*AMD!D46*LAFs!D$247*D$11*Input!$E$14/Input!$F$14*(1-Contrib!D$102)","v":0},{"$f":"100*AMD!E46*LAFs!E$247*E$11*Input!$E$14/Input!$F$14*(1-Contrib!E$102)","v":0},{"$f":"100*AMD!F46*LAFs!F$247*F$11*Input!$E$14/Input!$F$14*(1-Contrib!F$102)","v":0},{"$f":"100*AMD!G46*LAFs!G$247*G$11*Input!$E$14/Input!$F$14*(1-Contrib!G$102)","v":0},{"$f":"100*AMD!H46*LAFs!H$247*H$11*Input!$E$14/Input!$F$14*(1-Contrib!H$102)","v":0},{"$f":"100*AMD!I46*LAFs!I$247*I$11*Input!$E$14/Input!$F$14*(1-Contrib!I$102)","v":0},{"$f":"100*AMD!J46*LAFs!J$247*J$11*Input!$E$14/Input!$F$14*(1-Contrib!J$102)","v":0.25854124685806679},{"$f":"100*AMD!B46*LAFs!B$247*K$11*Input!$E$14/Input!$F$14*(1-Contrib!K$102)","v":0},{"$f":"100*AMD!C46*LAFs!C$247*L$11*Input!$E$14/Input!$F$14*(1-Contrib!L$102)","v":0},{"$f":"100*AMD!D46*LAFs!D$247*M$11*Input!$E$14/Input!$F$14*(1-Contrib!M$102)","v":0},{"$f":"100*AMD!E46*LAFs!E$247*N$11*Input!$E$14/Input!$F$14*(1-Contrib!N$102)","v":0},{"$f":"100*AMD!F46*LAFs!F$247*O$11*Input!$E$14/Input!$F$14*(1-Contrib!O$102)","v":0},{"$f":"100*AMD!G46*LAFs!G$247*P$11*Input!$E$14/Input!$F$14*(1-Contrib!P$102)","v":0},{"$f":"100*AMD!H46*LAFs!H$247*Q$11*Input!$E$14/Input!$F$14*(1-Contrib!Q$102)","v":0},{"$f":"100*AMD!I46*LAFs!I$247*R$11*Input!$E$14/Input!$F$14*(1-Contrib!R$102)","v":0},{"$f":"100*AMD!J46*LAFs!J$247*S$11*Input!$E$14/Input!$F$14*(1-Contrib!S$102)","v":1.265851623580696}]
["LV Sub Medium Non-Domestic",{"$f":"100*AMD!B47*LAFs!B$248*B$11*Input!$E$14/Input!$F$14*(1-Contrib!B$103)","v":0},{"$f":"100*AMD!C47*LAFs!C$248*C$11*Input!$E$14/Input!$F$14*(1-Contrib!C$103)","v":0},{"$f":"100*AMD!D47*LAFs!D$248*D$11*Input!$E$14/Input!$F$14*(1-Contrib!D$103)","v":0},{"$f":"100*AMD!E47*LAFs!E$248*E$11*Input!$E$14/Input!$F$14*(1-Contrib!E$103)","v":0},{"$f":"100*AMD!F47*LAFs!F$248*F$11*Input!$E$14/Input!$F$14*(1-Contrib!F$103)","v":0},{"$f":"100*AMD!G47*LAFs!G$248*G$11*Input!$E$14/Input!$F$14*(1-Contrib!G$103)","v":0},{"$f":"100*AMD!H47*LAFs!H$248*H$11*Input!$E$14/Input!$F$14*(1-Contrib!H$103)","v":0},{"$f":"100*AMD!I47*LAFs!I$248*I$11*Input!$E$14/Input!$F$14*(1-Contrib!I$103)","v":0.63443820141320817},{"$f":"100*AMD!J47*LAFs!J$248*J$11*Input!$E$14/Input!$F$14*(1-Contrib!J$103)","v":0},{"$f":"100*AMD!B47*LAFs!B$248*K$11*Input!$E$14/Input!$F$14*(1-Contrib!K$103)","v":0},{"$f":"100*AMD!C47*LAFs!C$248*L$11*Input!$E$14/Input!$F$14*(1-Contrib!L$103)","v":0},{"$f":"100*AMD!D47*LAFs!D$248*M$11*Input!$E$14/Input!$F$14*(1-Contrib!M$103)","v":0},{"$f":"100*AMD!E47*LAFs!E$248*N$11*Input!$E$14/Input!$F$14*(1-Contrib!N$103)","v":0},{"$f":"100*AMD!F47*LAFs!F$248*O$11*Input!$E$14/Input!$F$14*(1-Contrib!O$103)","v":0},{"$f":"100*AMD!G47*LAFs!G$248*P$11*Input!$E$14/Input!$F$14*(1-Contrib!P$103)","v":0},{"$f":"100*AMD!H47*LAFs!H$248*Q$11*Input!$E$14/Input!$F$14*(1-Contrib!Q$103)","v":0},{"$f":"100*AMD!I47*LAFs!I$248*R$11*Input!$E$14/Input!$F$14*(1-Contrib!R$103)","v":0.90355372148513524},{"$f":"100*AMD!J47*LAFs!J$248*S$11*Input!$E$14/Input!$F$14*(1-Contrib!S$103)","v":0}]
["HV Medium Non-Domestic",{"$f":"100*AMD!B48*LAFs!B$249*B$11*Input!$E$14/Input!$F$14*(1-Contrib!B$104)","v":0},{"$f":"100*AMD!C48*LAFs!C$249*C$11*Input!$E$14/Input!$F$14*(1-Contrib!C$104)","v":0},{"$f":"100*AMD!D48*LAFs!D$249*D$11*Input!$E$14/Input!$F$14*(1-Contrib!D$104)","v":0},{"$f":"100*AMD!E48*LAFs!E$249*E$11*Input!$E$14/Input!$F$14*(1-Contrib!E$104)","v":8.6089166188414071E-2},{"$f":"100*AMD!F48*LAFs!F$249*F$11*Input!$E$14/Input!$F$14*(1-Contrib!F$104)","v":0.54598376926352432},{"$f":"100*AMD!G48*LAFs!G$249*G$11*Input!$E$14/Input!$F$14*(1-Contrib!G$104)","v":0},{"$f":"100*AMD!H48*LAFs!H$249*H$11*Input!$E$14/Input!$F$14*(1-Contrib!H$104)","v":1.3578856944982201},{"$f":"100*AMD!I48*LAFs!I$249*I$11*Input!$E$14/Input!$F$14*(1-Contrib!I$104)","v":0},{"$f":"100*AMD!J48*LAFs!J$249*J$11*Input!$E$14/Input!$F$14*(1-Contrib!J$104)","v":0},{"$f":"100*AMD!B48*LAFs!B$249*K$11*Input!$E$14/Input!$F$14*(1-Contrib!K$104)","v":0},{"$f":"100*AMD!C48*LAFs!C$249*L$11*Input!$E$14/Input!$F$14*(1-Contrib!L$104)","v":0},{"$f":"100*AMD!D48*LAFs!D$249*M$11*Input!$E$14/Input!$F$14*(1-Contrib!M$104)","v":0},{"$f":"100*AMD!E48*LAFs!E$249*N$11*Input!$E$14/Input!$F$14*(1-Contrib!N$104)","v":4.3985261323892529E-2},{"$f":"100*AMD!F48*LAFs!F$249*O$11*Input!$E$14/Input!$F$14*(1-Contrib!O$104)","v":0.37577204649541818},{"$f":"100*AMD!G48*LAFs!G$249*P$11*Input!$E$14/Input!$F$14*(1-Contrib!P$104)","v":0},{"$f":"100*AMD!H48*LAFs!H$249*Q$11*Input!$E$14/Input!$F$14*(1-Contrib!Q$104)","v":1.431307229789748},{"$f":"100*AMD!I48*LAFs!I$249*R$11*Input!$E$14/Input!$F$14*(1-Contrib!R$104)","v":0},{"$f":"100*AMD!J48*LAFs!J$249*S$11*Input!$E$14/Input!$F$14*(1-Contrib!S$104)","v":0}]
["LV HH Metered",{"$f":"100*AMD!B49*LAFs!B$250*B$11*Input!$E$14/Input!$F$14*(1-Contrib!B$105)","v":0},{"$f":"100*AMD!C49*LAFs!C$250*C$11*Input!$E$14/Input!$F$14*(1-Contrib!C$105)","v":0},{"$f":"100*AMD!D49*LAFs!D$250*D$11*Input!$E$14/Input!$F$14*(1-Contrib!D$105)","v":0},{"$f":"100*AMD!E49*LAFs!E$250*E$11*Input!$E$14/Input!$F$14*(1-Contrib!E$105)","v":0},{"$f":"100*AMD!F49*LAFs!F$250*F$11*Input!$E$14/Input!$F$14*(1-Contrib!F$105)","v":0},{"$f":"100*AMD!G49*LAFs!G$250*G$11*Input!$E$14/Input!$F$14*(1-Contrib!G$105)","v":0},{"$f":"100*AMD!H49*LAFs!H$250*H$11*Input!$E$14/Input!$F$14*(1-Contrib!H$105)","v":0.35439398118758036},{"$f":"100*AMD!I49*LAFs!I$250*I$11*Input!$E$14/Input!$F$14*(1-Contrib!I$105)","v":0.6501331521617747},{"$f":"100*AMD!J49*LAFs!J$250*J$11*Input!$E$14/Input!$F$14*(1-Contrib!J$105)","v":0.25854124685806679},{"$f":"100*AMD!B49*LAFs!B$250*K$11*Input!$E$14/Input!$F$14*(1-Contrib!K$105)","v":0},{"$f":"100*AMD!C49*LAFs!C$250*L$11*Input!$E$14/Input!$F$14*(1-Contrib!L$105)","v":0},{"$f":"100*AMD!D49*LAFs!D$250*M$11*Input!$E$14/Input!$F$14*(1-Contrib!M$105)","v":0},{"$f":"100*AMD!E49*LAFs!E$250*N$11*Input!$E$14/Input!$F$14*(1-Contrib!N$105)","v":0},{"$f":"100*AMD!F49*LAFs!F$250*O$11*Input!$E$14/Input!$F$14*(1-Contrib!O$105)","v":0},{"$f":"100*AMD!G49*LAFs!G$250*P$11*Input!$E$14/Input!$F$14*(1-Contrib!P$105)","v":0},{"$f":"100*AMD!H49*LAFs!H$250*Q$11*Input!$E$14/Input!$F$14*(1-Contrib!Q$105)","v":0.29530993993937898},{"$f":"100*AMD!I49*LAFs!I$250*R$11*Input!$E$14/Input!$F$14*(1-Contrib!R$105)","v":0.9259061446617417},{"$f":"100*AMD!J49*LAFs!J$250*S$11*Input!$E$14/Input!$F$14*(1-Contrib!S$105)","v":1.265851623580696}]
["LV Sub HH Metered",{"$f":"100*AMD!B50*LAFs!B$251*B$11*Input!$E$14/Input!$F$14*(1-Contrib!B$106)","v":0},{"$f":"100*AMD!C50*LAFs!C$251*C$11*Input!$E$14/Input!$F$14*(1-Contrib!C$106)","v":0},{"$f":"100*AMD!D50*LAFs!D$251*D$11*Input!$E$14/Input!$F$14*(1-Contrib!D$106)","v":0},{"$f":"100*AMD!E50*LAFs!E$251*E$11*Input!$E$14/Input!$F$14*(1-Contrib!E$106)","v":0},{"$f":"100*AMD!F50*LAFs!F$251*F$11*Input!$E$14/Input!$F$14*(1-Contrib!F$106)","v":0},{"$f":"100*AMD!G50*LAFs!G$251*G$11*Input!$E$14/Input!$F$14*(1-Contrib!G$106)","v":0},{"$f":"100*AMD!H50*LAFs!H$251*H$11*Input!$E$14/Input!$F$14*(1-Contrib!H$106)","v":1.7291925451631709},{"$f":"100*AMD!I50*LAFs!I$251*I$11*Input!$E$14/Input!$F$14*(1-Contrib!I$106)","v":0.63443820141320817},{"$f":"100*AMD!J50*LAFs!J$251*J$11*Input!$E$14/Input!$F$14*(1-Contrib!J$106)","v":0},{"$f":"100*AMD!B50*LAFs!B$251*K$11*Input!$E$14/Input!$F$14*(1-Contrib!K$106)","v":0},{"$f":"100*AMD!C50*LAFs!C$251*L$11*Input!$E$14/Input!$F$14*(1-Contrib!L$106)","v":0},{"$f":"100*AMD!D50*LAFs!D$251*M$11*Input!$E$14/Input!$F$14*(1-Contrib!M$106)","v":0},{"$f":"100*AMD!E50*LAFs!E$251*N$11*Input!$E$14/Input!$F$14*(1-Contrib!N$106)","v":0},{"$f":"100*AMD!F50*LAFs!F$251*O$11*Input!$E$14/Input!$F$14*(1-Contrib!O$106)","v":0},{"$f":"100*AMD!G50*LAFs!G$251*P$11*Input!$E$14/Input!$F$14*(1-Contrib!P$106)","v":0},{"$f":"100*AMD!H50*LAFs!H$251*Q$11*Input!$E$14/Input!$F$14*(1-Contrib!Q$106)","v":1.4409041173458095},{"$f":"100*AMD!I50*LAFs!I$251*R$11*Input!$E$14/Input!$F$14*(1-Contrib!R$106)","v":0.90355372148513524},{"$f":"100*AMD!J50*LAFs!J$251*S$11*Input!$E$14/Input!$F$14*(1-Contrib!S$106)","v":0}]
["HV HH Metered",{"$f":"100*AMD!B51*LAFs!B$252*B$11*Input!$E$14/Input!$F$14*(1-Contrib!B$107)","v":0},{"$f":"100*AMD!C51*LAFs!C$252*C$11*Input!$E$14/Input!$F$14*(1-Contrib!C$107)","v":0},{"$f":"100*AMD!D51*LAFs!D$252*D$11*Input!$E$14/Input!$F$14*(1-Contrib!D$107)","v":0},{"$f":"100*AMD!E51*LAFs!E$252*E$11*Input!$E$14/Input!$F$14*(1-Contrib!E$107)","v":8.6089166188414071E-2},{"$f":"100*AMD!F51*LAFs!F$252*F$11*Input!$E$14/Input!$F$14*(1-Contrib!F$107)","v":0.54598376926352432},{"$f":"100*AMD!G51*LAFs!G$252*G$11*Input!$E$14/Input!$F$14*(1-Contrib!G$107)","v":0},{"$f":"100*AMD!H51*LAFs!H$252*H$11*Input!$E$14/Input!$F$14*(1-Contrib!H$107)","v":1.3578856944982201},{"$f":"100*AMD!I51*LAFs!I$252*I$11*Input!$E$14/Input!$F$14*(1-Contrib!I$107)","v":0},{"$f":"100*AMD!J51*LAFs!J$252*J$11*Input!$E$14/Input!$F$14*(1-Contrib!J$107)","v":0},{"$f":"100*AMD!B51*LAFs!B$252*K$11*Input!$E$14/Input!$F$14*(1-Contrib!K$107)","v":0},{"$f":"100*AMD!C51*LAFs!C$252*L$11*Input!$E$14/Input!$F$14*(1-Contrib!L$107)","v":0},{"$f":"100*AMD!D51*LAFs!D$252*M$11*Input!$E$14/Input!$F$14*(1-Contrib!M$107)","v":0},{"$f":"100*AMD!E51*LAFs!E$252*N$11*Input!$E$14/Input!$F$14*(1-Contrib!N$107)","v":4.3985261323892529E-2},{"$f":"100*AMD!F51*LAFs!F$252*O$11*Input!$E$14/Input!$F$14*(1-Contrib!O$107)","v":0.37577204649541818},{"$f":"100*AMD!G51*LAFs!G$252*P$11*Input!$E$14/Input!$F$14*(1-Contrib!P$107)","v":0},{"$f":"100*AMD!H51*LAFs!H$252*Q$11*Input!$E$14/Input!$F$14*(1-Contrib!Q$107)","v":1.431307229789748},{"$f":"100*AMD!I51*LAFs!I$252*R$11*Input!$E$14/Input!$F$14*(1-Contrib!R$107)","v":0},{"$f":"100*AMD!J51*LAFs!J$252*S$11*Input!$E$14/Input!$F$14*(1-Contrib!S$107)","v":0}]
["HV Sub HH Metered",{"$f":"100*AMD!B52*LAFs!B$253*B$11*Input!$E$14/Input!$F$14*(1-Contrib!B$108)","v":0},{"$f":"100*AMD!C52*LAFs!C$253*C$11*Input!$E$14/Input!$F$14*(1-Contrib!C$108)","v":0},{"$f":"100*AMD!D52*LAFs!D$253*D$11*Input!$E$14/Input!$F$14*(1-Contrib!D$108)","v":0},{"$f":"100*AMD!E52*LAFs!E$253*E$11*Input!$E$14/Input!$F$14*(1-Contrib!E$108)","v":0.42343665553400983},{"$f":"100*AMD!F52*LAFs!F$253*F$11*Input!$E$14/Input!$F$14*(1-Contrib!F$108)","v":0.5370932289594248},{"$f":"100*AMD!G52*LAFs!G$253*G$11*Input!$E$14/Input!$F$14*(1-Contrib!G$108)","v":0},{"$f":"100*AMD!H52*LAFs!H$253*H$11*Input!$E$14/Input!$F$14*(1-Contrib!H$108)","v":0},{"$f":"100*AMD!I52*LAFs!I$253*I$11*Input!$E$14/Input!$F$14*(1-Contrib!I$108)","v":0},{"$f":"100*AMD!J52*LAFs!J$253*J$11*Input!$E$14/Input!$F$14*(1-Contrib!J$108)","v":0},{"$f":"100*AMD!B52*LAFs!B$253*K$11*Input!$E$14/Input!$F$14*(1-Contrib!K$108)","v":0},{"$f":"100*AMD!C52*LAFs!C$253*L$11*Input!$E$14/Input!$F$14*(1-Contrib!L$108)","v":0},{"$f":"100*AMD!D52*LAFs!D$253*M$11*Input!$E$14/Input!$F$14*(1-Contrib!M$108)","v":0},{"$f":"100*AMD!E52*LAFs!E$253*N$11*Input!$E$14/Input!$F$14*(1-Contrib!N$108)","v":0.21634513112853271},{"$f":"100*AMD!F52*LAFs!F$253*O$11*Input!$E$14/Input!$F$14*(1-Contrib!O$108)","v":0.36965315301800233},{"$f":"100*AMD!G52*LAFs!G$253*P$11*Input!$E$14/Input!$F$14*(1-Contrib!P$108)","v":0},{"$f":"100*AMD!H52*LAFs!H$253*Q$11*Input!$E$14/Input!$F$14*(1-Contrib!Q$108)","v":0},{"$f":"100*AMD!I52*LAFs!I$253*R$11*Input!$E$14/Input!$F$14*(1-Contrib!R$108)","v":0},{"$f":"100*AMD!J52*LAFs!J$253*S$11*Input!$E$14/Input!$F$14*(1-Contrib!S$108)","v":0}]
["NHH UMS category A",{"$f":"100*AMD!B53*LAFs!B$254*B$11*Input!$E$14/Input!$F$14*(1-Contrib!B$109)","v":0},{"$f":"100*AMD!C53*LAFs!C$254*C$11*Input!$E$14/Input!$F$14*(1-Contrib!C$109)","v":0},{"$f":"100*AMD!D53*LAFs!D$254*D$11*Input!$E$14/Input!$F$14*(1-Contrib!D$109)","v":0},{"$f":"100*AMD!E53*LAFs!E$254*E$11*Input!$E$14/Input!$F$14*(1-Contrib!E$109)","v":0},{"$f":"100*AMD!F53*LAFs!F$254*F$11*Input!$E$14/Input!$F$14*(1-Contrib!F$109)","v":0},{"$f":"100*AMD!G53*LAFs!G$254*G$11*Input!$E$14/Input!$F$14*(1-Contrib!G$109)","v":0},{"$f":"100*AMD!H53*LAFs!H$254*H$11*Input!$E$14/Input!$F$14*(1-Contrib!H$109)","v":0},{"$f":"100*AMD!I53*LAFs!I$254*I$11*Input!$E$14/Input!$F$14*(1-Contrib!I$109)","v":0},{"$f":"100*AMD!J53*LAFs!J$254*J$11*Input!$E$14/Input!$F$14*(1-Contrib!J$109)","v":0},{"$f":"100*AMD!B53*LAFs!B$254*K$11*Input!$E$14/Input!$F$14*(1-Contrib!K$109)","v":0},{"$f":"100*AMD!C53*LAFs!C$254*L$11*Input!$E$14/Input!$F$14*(1-Contrib!L$109)","v":0},{"$f":"100*AMD!D53*LAFs!D$254*M$11*Input!$E$14/Input!$F$14*(1-Contrib!M$109)","v":0},{"$f":"100*AMD!E53*LAFs!E$254*N$11*Input!$E$14/Input!$F$14*(1-Contrib!N$109)","v":0},{"$f":"100*AMD!F53*LAFs!F$254*O$11*Input!$E$14/Input!$F$14*(1-Contrib!O$109)","v":0},{"$f":"100*AMD!G53*LAFs!G$254*P$11*Input!$E$14/Input!$F$14*(1-Contrib!P$109)","v":0},{"$f":"100*AMD!H53*LAFs!H$254*Q$11*Input!$E$14/Input!$F$14*(1-Contrib!Q$109)","v":0},{"$f":"100*AMD!I53*LAFs!I$254*R$11*Input!$E$14/Input!$F$14*(1-Contrib!R$109)","v":0},{"$f":"100*AMD!J53*LAFs!J$254*S$11*Input!$E$14/Input!$F$14*(1-Contrib!S$109)","v":0}]
["NHH UMS category B",{"$f":"100*AMD!B54*LAFs!B$255*B$11*Input!$E$14/Input!$F$14*(1-Contrib!B$110)","v":0},{"$f":"100*AMD!C54*LAFs!C$255*C$11*Input!$E$14/Input!$F$14*(1-Contrib!C$110)","v":0},{"$f":"100*AMD!D54*LAFs!D$255*D$11*Input!$E$14/Input!$F$14*(1-Contrib!D$110)","v":0},{"$f":"100*AMD!E54*LAFs!E$255*E$11*Input!$E$14/Input!$F$14*(1-Contrib!E$110)","v":0},{"$f":"100*AMD!F54*LAFs!F$255*F$11*Input!$E$14/Input!$F$14*(1-Contrib!F$110)","v":0},{"$f":"100*AMD!G54*LAFs!G$255*G$11*Input!$E$14/Input!$F$14*(1-Contrib!G$110)","v":0},{"$f":"100*AMD!H54*LAFs!H$255*H$11*Input!$E$14/Input!$F$14*(1-Contrib!H$110)","v":0},{"$f":"100*AMD!I54*LAFs!I$255*I$11*Input!$E$14/Input!$F$14*(1-Contrib!I$110)","v":0},{"$f":"100*AMD!J54*LAFs!J$255*J$11*Input!$E$14/Input!$F$14*(1-Contrib!J$110)","v":0},{"$f":"100*AMD!B54*LAFs!B$255*K$11*Input!$E$14/Input!$F$14*(1-Contrib!K$110)","v":0},{"$f":"100*AMD!C54*LAFs!C$255*L$11*Input!$E$14/Input!$F$14*(1-Contrib!L$110)","v":0},{"$f":"100*AMD!D54*LAFs!D$255*M$11*Input!$E$14/Input!$F$14*(1-Contrib!M$110)","v":0},{"$f":"100*AMD!E54*LAFs!E$255*N$11*Input!$E$14/Input!$F$14*(1-Contrib!N$110)","v":0},{"$f":"100*AMD!F54*LAFs!F$255*O$11*Input!$E$14/Input!$F$14*(1-Contrib!O$110)","v":0},{"$f":"100*AMD!G54*LAFs!G$255*P$11*Input!$E$14/Input!$F$14*(1-Contrib!P$110)","v":0},{"$f":"100*AMD!H54*LAFs!H$255*Q$11*Input!$E$14/Input!$F$14*(1-Contrib!Q$110)","v":0},{"$f":"100*AMD!I54*LAFs!I$255*R$11*Input!$E$14/Input!$F$14*(1-Contrib!R$110)","v":0},{"$f":"100*AMD!J54*LAFs!J$255*S$11*Input!$E$14/Input!$F$14*(1-Contrib!S$110)","v":0}]
["NHH UMS category C",{"$f":"100*AMD!B55*LAFs!B$256*B$11*Input!$E$14/Input!$F$14*(1-Contrib!B$111)","v":0},{"$f":"100*AMD!C55*LAFs!C$256*C$11*Input!$E$14/Input!$F$14*(1-Contrib!C$111)","v":0},{"$f":"100*AMD!D55*LAFs!D$256*D$11*Input!$E$14/Input!$F$14*(1-Contrib!D$111)","v":0},{"$f":"100*AMD!E55*LAFs!E$256*E$11*Input!$E$14/Input!$F$14*(1-Contrib!E$111)","v":0},{"$f":"100*AMD!F55*LAFs!F$256*F$11*Input!$E$14/Input!$F$14*(1-Contrib!F$111)","v":0},{"$f":"100*AMD!G55*LAFs!G$256*G$11*Input!$E$14/Input!$F$14*(1-Contrib!G$111)","v":0},{"$f":"100*AMD!H55*LAFs!H$256*H$11*Input!$E$14/Input!$F$14*(1-Contrib!H$111)","v":0},{"$f":"100*AMD!I55*LAFs!I$256*I$11*Input!$E$14/Input!$F$14*(1-Contrib!I$111)","v":0},{"$f":"100*AMD!J55*LAFs!J$256*J$11*Input!$E$14/Input!$F$14*(1-Contrib!J$111)","v":0},{"$f":"100*AMD!B55*LAFs!B$256*K$11*Input!$E$14/Input!$F$14*(1-Contrib!K$111)","v":0},{"$f":"100*AMD!C55*LAFs!C$256*L$11*Input!$E$14/Input!$F$14*(1-Contrib!L$111)","v":0},{"$f":"100*AMD!D55*LAFs!D$256*M$11*Input!$E$14/Input!$F$14*(1-Contrib!M$111)","v":0},{"$f":"100*AMD!E55*LAFs!E$256*N$11*Input!$E$14/Input!$F$14*(1-Contrib!N$111)","v":0},{"$f":"100*AMD!F55*LAFs!F$256*O$11*Input!$E$14/Input!$F$14*(1-Contrib!O$111)","v":0},{"$f":"100*AMD!G55*LAFs!G$256*P$11*Input!$E$14/Input!$F$14*(1-Contrib!P$111)","v":0},{"$f":"100*AMD!H55*LAFs!H$256*Q$11*Input!$E$14/Input!$F$14*(1-Contrib!Q$111)","v":0},{"$f":"100*AMD!I55*LAFs!I$256*R$11*Input!$E$14/Input!$F$14*(1-Contrib!R$111)","v":0},{"$f":"100*AMD!J55*LAFs!J$256*S$11*Input!$E$14/Input!$F$14*(1-Contrib!S$111)","v":0}]
["NHH UMS category D",{"$f":"100*AMD!B56*LAFs!B$257*B$11*Input!$E$14/Input!$F$14*(1-Contrib!B$112)","v":0},{"$f":"100*AMD!C56*LAFs!C$257*C$11*Input!$E$14/Input!$F$14*(1-Contrib!C$112)","v":0},{"$f":"100*AMD!D56*LAFs!D$257*D$11*Input!$E$14/Input!$F$14*(1-Contrib!D$112)","v":0},{"$f":"100*AMD!E56*LAFs!E$257*E$11*Input!$E$14/Input!$F$14*(1-Contrib!E$112)","v":0},{"$f":"100*AMD!F56*LAFs!F$257*F$11*Input!$E$14/Input!$F$14*(1-Contrib!F$112)","v":0},{"$f":"100*AMD!G56*LAFs!G$257*G$11*Input!$E$14/Input!$F$14*(1-Contrib!G$112)","v":0},{"$f":"100*AMD!H56*LAFs!H$257*H$11*Input!$E$14/Input!$F$14*(1-Contrib!H$112)","v":0},{"$f":"100*AMD!I56*LAFs!I$257*I$11*Input!$E$14/Input!$F$14*(1-Contrib!I$112)","v":0},{"$f":"100*AMD!J56*LAFs!J$257*J$11*Input!$E$14/Input!$F$14*(1-Contrib!J$112)","v":0},{"$f":"100*AMD!B56*LAFs!B$257*K$11*Input!$E$14/Input!$F$14*(1-Contrib!K$112)","v":0},{"$f":"100*AMD!C56*LAFs!C$257*L$11*Input!$E$14/Input!$F$14*(1-Contrib!L$112)","v":0},{"$f":"100*AMD!D56*LAFs!D$257*M$11*Input!$E$14/Input!$F$14*(1-Contrib!M$112)","v":0},{"$f":"100*AMD!E56*LAFs!E$257*N$11*Input!$E$14/Input!$F$14*(1-Contrib!N$112)","v":0},{"$f":"100*AMD!F56*LAFs!F$257*O$11*Input!$E$14/Input!$F$14*(1-Contrib!O$112)","v":0},{"$f":"100*AMD!G56*LAFs!G$257*P$11*Input!$E$14/Input!$F$14*(1-Contrib!P$112)","v":0},{"$f":"100*AMD!H56*LAFs!H$257*Q$11*Input!$E$14/Input!$F$14*(1-Contrib!Q$112)","v":0},{"$f":"100*AMD!I56*LAFs!I$257*R$11*Input!$E$14/Input!$F$14*(1-Contrib!R$112)","v":0},{"$f":"100*AMD!J56*LAFs!J$257*S$11*Input!$E$14/Input!$F$14*(1-Contrib!S$112)","v":0}]
["LV UMS (Pseudo HH Metered)",{"$f":"100*AMD!B57*LAFs!B$258*B$11*Input!$E$14/Input!$F$14*(1-Contrib!B$113)","v":0},{"$f":"100*AMD!C57*LAFs!C$258*C$11*Input!$E$14/Input!$F$14*(1-Contrib!C$113)","v":0},{"$f":"100*AMD!D57*LAFs!D$258*D$11*Input!$E$14/Input!$F$14*(1-Contrib!D$113)","v":0},{"$f":"100*AMD!E57*LAFs!E$258*E$11*Input!$E$14/Input!$F$14*(1-Contrib!E$113)","v":0},{"$f":"100*AMD!F57*LAFs!F$258*F$11*Input!$E$14/Input!$F$14*(1-Contrib!F$113)","v":0},{"$f":"100*AMD!G57*LAFs!G$258*G$11*Input!$E$14/Input!$F$14*(1-Contrib!G$113)","v":0},{"$f":"100*AMD!H57*LAFs!H$258*H$11*Input!$E$14/Input!$F$14*(1-Contrib!H$113)","v":0},{"$f":"100*AMD!I57*LAFs!I$258*I$11*Input!$E$14/Input!$F$14*(1-Contrib!I$113)","v":0},{"$f":"100*AMD!J57*LAFs!J$258*J$11*Input!$E$14/Input!$F$14*(1-Contrib!J$113)","v":0},{"$f":"100*AMD!B57*LAFs!B$258*K$11*Input!$E$14/Input!$F$14*(1-Contrib!K$113)","v":0},{"$f":"100*AMD!C57*LAFs!C$258*L$11*Input!$E$14/Input!$F$14*(1-Contrib!L$113)","v":0},{"$f":"100*AMD!D57*LAFs!D$258*M$11*Input!$E$14/Input!$F$14*(1-Contrib!M$113)","v":0},{"$f":"100*AMD!E57*LAFs!E$258*N$11*Input!$E$14/Input!$F$14*(1-Contrib!N$113)","v":0},{"$f":"100*AMD!F57*LAFs!F$258*O$11*Input!$E$14/Input!$F$14*(1-Contrib!O$113)","v":0},{"$f":"100*AMD!G57*LAFs!G$258*P$11*Input!$E$14/Input!$F$14*(1-Contrib!P$113)","v":0},{"$f":"100*AMD!H57*LAFs!H$258*Q$11*Input!$E$14/Input!$F$14*(1-Contrib!Q$113)","v":0},{"$f":"100*AMD!I57*LAFs!I$258*R$11*Input!$E$14/Input!$F$14*(1-Contrib!R$113)","v":0},{"$f":"100*AMD!J57*LAFs!J$258*S$11*Input!$E$14/Input!$F$14*(1-Contrib!S$113)","v":0}]
[]
["3003. Yardstick unit rate p/kWh (taking account of standing charges)"]
["Data sources:"]
["x1 = 2602. Standing charges factors adapted to use 132kV/HV"]
["x2 = 2902. Pay-as-you-go yardstick unit costs by charging level (p/kWh)"]
["x3 = Yardstick components p/kWh (taking account of standing charges) (in Yardstick unit rate p/kWh (taking account of standing charges))"]
["Kind:","Calculation",null,null,null,null,null,null,null,null,null,null,null,null,null,null,null,null,null,"Cell summation"]
["Formula:","=(1-x1)*x2",null,null,null,null,null,null,null,null,null,null,null,null,null,null,null,null,null,"=SUM(x3)"]
[]
[null,"Yardstick components p/kWh (taking account of standing charges)"]
[null,"GSPs","Assets\n132kV","Assets\n132kV/EHV","Assets\nEHV","Assets\nEHV/HV","Assets\n132kV/HV","Assets\nHV","Assets\nHV/LV","Assets\nLV circuits","Transmission\nexit","Operating\n132kV","Operating\n132kV/EHV","Operating\nEHV","Operating\nEHV/HV","Operating\n132kV/HV","Operating\nHV","Operating\nHV/LV","Operating\nLV circuits","Yardstick total p/kWh (taking account of standing charges)"]
["Domestic Unrestricted",{"$f":"(1-AMD!B40)*Yard!B$23","v":0},{"$f":"(1-AMD!C40)*Yard!C$23","v":0.26889036276041528},{"$f":"(1-AMD!D40)*Yard!D$23","v":4.1933345879347973E-2},{"$f":"(1-AMD!E40)*Yard!E$23","v":4.8298205140226626E-2},{"$f":"(1-AMD!F40)*Yard!F$23","v":8.2523621964887578E-2},{"$f":"(1-AMD!G40)*Yard!G$23","v":0},{"$f":"(1-AMD!H40)*Yard!H$23","v":0.25826075808387716},{"$f":"(1-AMD!I40)*Yard!I$23","v":9.4755492274508607E-2},{"$f":"(1-AMD!J40)*Yard!J$23","v":0},{"$f":"(1-AMD!B40)*Yard!K$23","v":8.7700860090000957E-2},{"$f":"(1-AMD!C40)*Yard!L$23","v":0.13738328987422394},{"$f":"(1-AMD!D40)*Yard!M$23","v":2.1424869798965709E-2},{"$f":"(1-AMD!E40)*Yard!N$23","v":2.4676846909149661E-2},{"$f":"(1-AMD!F40)*Yard!O$23","v":4.2163529259599229E-2},{"$f":"(1-AMD!G40)*Yard!P$23","v":0},{"$f":"(1-AMD!H40)*Yard!Q$23","v":0.21520390584195678},{"$f":"(1-AMD!I40)*Yard!R$23","v":0.13494880586490135},{"$f":"(1-AMD!J40)*Yard!S$23","v":0},{"$f":"SUM($B54:$S54)","v":1.4581638937420609}]
["Domestic Two Rate",{"$f":"(1-AMD!B41)*Yard!B$24","v":0},{"$f":"(1-AMD!C41)*Yard!C$24","v":0.18912460398768657},{"$f":"(1-AMD!D41)*Yard!D$24","v":2.9493907300711494E-2},{"$f":"(1-AMD!E41)*Yard!E$24","v":3.3970644491265224E-2},{"$f":"(1-AMD!F41)*Yard!F$24","v":5.8043163628163086E-2},{"$f":"(1-AMD!G41)*Yard!G$24","v":0},{"$f":"(1-AMD!H41)*Yard!H$24","v":0.18164824911070962},{"$f":"(1-AMD!I41)*Yard!I$24","v":6.6646475418839057E-2},{"$f":"(1-AMD!J41)*Yard!J$24","v":0},{"$f":"(1-AMD!B41)*Yard!K$24","v":6.1684584987077511E-2},{"$f":"(1-AMD!C41)*Yard!L$24","v":9.6628826802316242E-2},{"$f":"(1-AMD!D41)*Yard!M$24","v":1.5069227378102401E-2},{"$f":"(1-AMD!E41)*Yard!N$24","v":1.7356512339998041E-2},{"$f":"(1-AMD!F41)*Yard!O$24","v":2.9655807266882293E-2},{"$f":"(1-AMD!G41)*Yard!P$24","v":0},{"$f":"(1-AMD!H41)*Yard!Q$24","v":0.1513641212393618},{"$f":"(1-AMD!I41)*Yard!R$24","v":9.4916527337765594E-2},{"$f":"(1-AMD!J41)*Yard!S$24","v":0},1.025602651288879]
["Domestic Off Peak (related MPAN)",{"$f":"(1-AMD!B42)*Yard!B$25","v":0},{"$f":"(1-AMD!C42)*Yard!C$25","v":0},{"$f":"(1-AMD!D42)*Yard!D$25","v":0},{"$f":"(1-AMD!E42)*Yard!E$25","v":0},{"$f":"(1-AMD!F42)*Yard!F$25","v":0},{"$f":"(1-AMD!G42)*Yard!G$25","v":0},{"$f":"(1-AMD!H42)*Yard!H$25","v":0},{"$f":"(1-AMD!I42)*Yard!I$25","v":0},{"$f":"(1-AMD!J42)*Yard!J$25","v":0},{"$f":"(1-AMD!B42)*Yard!K$25","v":0},{"$f":"(1-AMD!C42)*Yard!L$25","v":0},{"$f":"(1-AMD!D42)*Yard!M$25","v":0},{"$f":"(1-AMD!E42)*Yard!N$25","v":0},{"$f":"(1-AMD!F42)*Yard!O$25","v":0},{"$f":"(1-AMD!G42)*Yard!P$25","v":0},{"$f":"(1-AMD!H42)*Yard!Q$25","v":0},{"$f":"(1-AMD!I42)*Yard!R$25","v":0},{"$f":"(1-AMD!J42)*Yard!S$25","v":0},0]
["Small Non Domestic Unrestricted",{"$f":"(1-AMD!B43)*Yard!B$26","v":0},{"$f":"(1-AMD!C43)*Yard!C$26","v":0.2121942230119995},{"$f":"(1-AMD!D43)*Yard!D$26","v":3.309160527664548E-2},{"$f":"(1-AMD!E43)*Yard!E$26","v":3.8114419599843304E-2},{"$f":"(1-AMD!F43)*Yard!F$26","v":6.5123330056190407E-2},{"$f":"(1-AMD!G43)*Yard!G$26","v":0},{"$f":"(1-AMD!H43)*Yard!H$26","v":0.20380589446757919},{"$f":"(1-AMD!I43)*Yard!I$26","v":7.4776082909390404E-2},{"$f":"(1-AMD!J43)*Yard!J$26","v":0},{"$f":"(1-AMD!B43)*Yard!K$26","v":6.920893584000716E-2},{"$f":"(1-AMD!C43)*Yard!L$26","v":0.1084157131941095},{"$f":"(1-AMD!D43)*Yard!M$26","v":1.6907387655895778E-2},{"$f":"(1-AMD!E43)*Yard!N$26","v":1.9473678054198879E-2},{"$f":"(1-AMD!F43)*Yard!O$26","v":3.3273253971754013E-2},{"$f":"(1-AMD!G43)*Yard!P$26","v":0},{"$f":"(1-AMD!H43)*Yard!Q$26","v":0.16982767668014062},{"$f":"(1-AMD!I43)*Yard!R$26","v":0.10649454563164978},{"$f":"(1-AMD!J43)*Yard!S$26","v":0},1.1507067463494038]
["Small Non Domestic Two Rate",{"$f":"(1-AMD!B44)*Yard!B$27","v":0},{"$f":"(1-AMD!C44)*Yard!C$27","v":0.17328003358222452},{"$f":"(1-AMD!D44)*Yard!D$27","v":2.7022952803491655E-2},{"$f":"(1-AMD!E44)*Yard!E$27","v":3.1124635791118425E-2},{"$f":"(1-AMD!F44)*Yard!F$27","v":5.3180396049164948E-2},{"$f":"(1-AMD!G44)*Yard!G$27","v":0},{"$f":"(1-AMD!H44)*Yard!H$27","v":0.16643003629557035},{"$f":"(1-AMD!I44)*Yard!I$27","v":6.1062935520886666E-2},{"$f":"(1-AMD!J44)*Yard!J$27","v":0},{"$f":"(1-AMD!B44)*Yard!K$27","v":5.6516744689455035E-2},{"$f":"(1-AMD!C44)*Yard!L$27","v":8.853341130806261E-2},{"$f":"(1-AMD!D44)*Yard!M$27","v":1.380675052890405E-2},{"$f":"(1-AMD!E44)*Yard!N$27","v":1.5902410250868089E-2},{"$f":"(1-AMD!F44)*Yard!O$27","v":2.7171289037823513E-2},{"$f":"(1-AMD!G44)*Yard!P$27","v":0},{"$f":"(1-AMD!H44)*Yard!Q$27","v":0.13868306639366806},{"$f":"(1-AMD!I44)*Yard!R$27","v":8.69645656768539E-2},{"$f":"(1-AMD!J44)*Yard!S$27","v":0},0.93967922792809166]
["Small Non Domestic Off Peak (related MPAN)",{"$f":"(1-AMD!B45)*Yard!B$28","v":0},{"$f":"(1-AMD!C45)*Yard!C$28","v":0},{"$f":"(1-AMD!D45)*Yard!D$28","v":0},{"$f":"(1-AMD!E45)*Yard!E$28","v":0},{"$f":"(1-AMD!F45)*Yard!F$28","v":0},{"$f":"(1-AMD!G45)*Yard!G$28","v":0},{"$f":"(1-AMD!H45)*Yard!H$28","v":0},{"$f":"(1-AMD!I45)*Yard!I$28","v":0},{"$f":"(1-AMD!J45)*Yard!J$28","v":0},{"$f":"(1-AMD!B45)*Yard!K$28","v":0},{"$f":"(1-AMD!C45)*Yard!L$28","v":0},{"$f":"(1-AMD!D45)*Yard!M$28","v":0},{"$f":"(1-AMD!E45)*Yard!N$28","v":0},{"$f":"(1-AMD!F45)*Yard!O$28","v":0},{"$f":"(1-AMD!G45)*Yard!P$28","v":0},{"$f":"(1-AMD!H45)*Yard!Q$28","v":0},{"$f":"(1-AMD!I45)*Yard!R$28","v":0},{"$f":"(1-AMD!J45)*Yard!S$28","v":0},0]
["LV Medium Non-Domestic",{"$f":"(1-AMD!B46)*Yard!B$29","v":0},{"$f":"(1-AMD!C46)*Yard!C$29","v":0.19725331554803083},{"$f":"(1-AMD!D46)*Yard!D$29","v":3.0761576658267023E-2},{"$f":"(1-AMD!E46)*Yard!E$29","v":3.5430727234420471E-2},{"$f":"(1-AMD!F46)*Yard!F$29","v":6.0537900564738095E-2},{"$f":"(1-AMD!G46)*Yard!G$29","v":0},{"$f":"(1-AMD!H46)*Yard!H$29","v":0.18945562155897475},{"$f":"(1-AMD!I46)*Yard!I$29","v":6.9510988886524017E-2},{"$f":"(1-AMD!J46)*Yard!J$29","v":0},{"$f":"(1-AMD!B46)*Yard!K$29","v":6.4335832833773018E-2},{"$f":"(1-AMD!C46)*Yard!L$29","v":0.10078200330568453},{"$f":"(1-AMD!D46)*Yard!M$29","v":1.571691361358455E-2},{"$f":"(1-AMD!E46)*Yard!N$29","v":1.8102507728914152E-2},{"$f":"(1-AMD!F46)*Yard!O$29","v":3.0930435201475842E-2},{"$f":"(1-AMD!G46)*Yard!P$29","v":0},{"$f":"(1-AMD!H46)*Yard!Q$29","v":0.1578698600813575},{"$f":"(1-AMD!I46)*Yard!R$29","v":9.8996107978095521E-2},{"$f":"(1-AMD!J46)*Yard!S$29","v":0},1.0696837911938404]
["LV Sub Medium Non-Domestic",{"$f":"(1-AMD!B47)*Yard!B$30","v":0},{"$f":"(1-AMD!C47)*Yard!C$30","v":0.19249139706683413},{"$f":"(1-AMD!D47)*Yard!D$30","v":3.0018957351753618E-2},{"$f":"(1-AMD!E47)*Yard!E$30","v":3.4575389343895931E-2},{"$f":"(1-AMD!F47)*Yard!F$30","v":5.9076447069210523E-2},{"$f":"(1-AMD!G47)*Yard!G$30","v":0},{"$f":"(1-AMD!H47)*Yard!H$30","v":0.18488194824371629},{"$f":"(1-AMD!I47)*Yard!I$30","v":0},{"$f":"(1-AMD!J47)*Yard!J$30","v":0},{"$f":"(1-AMD!B47)*Yard!K$30","v":6.2782692951063535E-2},{"$f":"(1-AMD!C47)*Yard!L$30","v":9.8349011582427509E-2},{"$f":"(1-AMD!D47)*Yard!M$30","v":1.5337489515206465E-2},{"$f":"(1-AMD!E47)*Yard!N$30","v":1.7665492686247702E-2},{"$f":"(1-AMD!F47)*Yard!O$30","v":3.0183739458450428E-2},{"$f":"(1-AMD!G47)*Yard!P$30","v":0},{"$f":"(1-AMD!H47)*Yard!Q$30","v":0.15405870282776854},{"$f":"(1-AMD!I47)*Yard!R$30","v":0},{"$f":"(1-AMD!J47)*Yard!S$30","v":0},0.87942126809657462]
["HV Medium Non-Domestic",{"$f":"(1-AMD!B48)*Yard!B$31","v":0},{"$f":"(1-AMD!C48)*Yard!C$31","v":0.16922189276551422},{"$f":"(1-AMD!D48)*Yard!D$31","v":2.6390087345811289E-2},{"$f":"(1-AMD!E48)*Yard!E$31","v":2.4316568603207505E-2},{"$f":"(1-AMD!F48)*Yard!F$31","v":0},{"$f":"(1-AMD!G48)*Yard!G$31","v":0},{"$f":"(1-AMD!H48)*Yard!H$31","v":0},{"$f":"(1-AMD!I48)*Yard!I$31","v":0},{"$f":"(1-AMD!J48)*Yard!J$31","v":0},{"$f":"(1-AMD!B48)*Yard!K$31","v":5.5193147828867861E-2},{"$f":"(1-AMD!C48)*Yard!L$31","v":8.6459998447709241E-2},{"$f":"(1-AMD!D48)*Yard!M$31","v":1.3483402612186949E-2},{"$f":"(1-AMD!E48)*Yard!N$31","v":1.2423986337277197E-2},{"$f":"(1-AMD!F48)*Yard!O$31","v":0},{"$f":"(1-AMD!G48)*Yard!P$31","v":0},{"$f":"(1-AMD!H48)*Yard!Q$31","v":0},{"$f":"(1-AMD!I48)*Yard!R$31","v":0},{"$f":"(1-AMD!J48)*Yard!S$31","v":0},0.3874890839405743]
["LV HH Metered",{"$f":"(1-AMD!B49)*Yard!B$32","v":0},{"$f":"(1-AMD!C49)*Yard!C$32","v":0.17698108725665626},{"$f":"(1-AMD!D49)*Yard!D$32","v":2.7600130662358464E-2},{"$f":"(1-AMD!E49)*Yard!E$32","v":3.1789420678786436E-2},{"$f":"(1-AMD!F49)*Yard!F$32","v":5.431626552088975E-2},{"$f":"(1-AMD!G49)*Yard!G$32","v":0},{"$f":"(1-AMD!H49)*Yard!H$32","v":0.13598782579541865},{"$f":"(1-AMD!I49)*Yard!I$32","v":0},{"$f":"(1-AMD!J49)*Yard!J$32","v":0},{"$f":"(1-AMD!B49)*Yard!K$32","v":5.7723874566311693E-2},{"$f":"(1-AMD!C49)*Yard!L$32","v":9.0424378781105014E-2},{"$f":"(1-AMD!D49)*Yard!M$32","v":1.4101646159523347E-2},{"$f":"(1-AMD!E49)*Yard!N$32","v":1.6242066659483499E-2},{"$f":"(1-AMD!F49)*Yard!O$32","v":2.7751635180731923E-2},{"$f":"(1-AMD!G49)*Yard!P$32","v":0},{"$f":"(1-AMD!H49)*Yard!Q$32","v":0.11331613627737075},{"$f":"(1-AMD!I49)*Yard!R$32","v":0},{"$f":"(1-AMD!J49)*Yard!S$32","v":0},0.74623446753863565]
["LV Sub HH Metered",{"$f":"(1-AMD!B50)*Yard!B$33","v":0},{"$f":"(1-AMD!C50)*Yard!C$33","v":0.1727085633303117},{"$f":"(1-AMD!D50)*Yard!D$33","v":2.6933832243397172E-2},{"$f":"(1-AMD!E50)*Yard!E$33","v":3.1021988053300413E-2},{"$f":"(1-AMD!F50)*Yard!F$33","v":5.3005009343040956E-2},{"$f":"(1-AMD!G50)*Yard!G$33","v":0},{"$f":"(1-AMD!H50)*Yard!H$33","v":0},{"$f":"(1-AMD!I50)*Yard!I$33","v":0},{"$f":"(1-AMD!J50)*Yard!J$33","v":0},{"$f":"(1-AMD!B50)*Yard!K$33","v":5.6330354846047898E-2},{"$f":"(1-AMD!C50)*Yard!L$33","v":8.8241431846742213E-2},{"$f":"(1-AMD!D50)*Yard!M$33","v":1.3761216447222877E-2},{"$f":"(1-AMD!E50)*Yard!N$33","v":1.5849964771696527E-2},{"$f":"(1-AMD!F50)*Yard!O$33","v":2.7081679271076364E-2},{"$f":"(1-AMD!G50)*Yard!P$33","v":0},{"$f":"(1-AMD!H50)*Yard!Q$33","v":0},{"$f":"(1-AMD!I50)*Yard!R$33","v":0},{"$f":"(1-AMD!J50)*Yard!S$33","v":0},0.4849340401528362]
["HV HH Metered",{"$f":"(1-AMD!B51)*Yard!B$34","v":0},{"$f":"(1-AMD!C51)*Yard!C$34","v":0.14030811321824516},{"$f":"(1-AMD!D51)*Yard!D$34","v":2.1880994844362428E-2},{"$f":"(1-AMD!E51)*Yard!E$34","v":2.0161763970963913E-2},{"$f":"(1-AMD!F51)*Yard!F$34","v":0},{"$f":"(1-AMD!G51)*Yard!G$34","v":0},{"$f":"(1-AMD!H51)*Yard!H$34","v":0},{"$f":"(1-AMD!I51)*Yard!I$34","v":0},{"$f":"(1-AMD!J51)*Yard!J$34","v":0},{"$f":"(1-AMD!B51)*Yard!K$34","v":4.5762674721850735E-2},{"$f":"(1-AMD!C51)*Yard!L$34","v":7.1687173880392113E-2},{"$f":"(1-AMD!D51)*Yard!M$34","v":1.1179586455160167E-2},{"$f":"(1-AMD!E51)*Yard!N$34","v":1.0301185343956062E-2},{"$f":"(1-AMD!F51)*Yard!O$34","v":0},{"$f":"(1-AMD!G51)*Yard!P$34","v":0},{"$f":"(1-AMD!H51)*Yard!Q$34","v":0},{"$f":"(1-AMD!I51)*Yard!R$34","v":0},{"$f":"(1-AMD!J51)*Yard!S$34","v":0},0.32128149243493054]
["HV Sub HH Metered",{"$f":"(1-AMD!B52)*Yard!B$35","v":0},{"$f":"(1-AMD!C52)*Yard!C$35","v":0.13802340256239248},{"$f":"(1-AMD!D52)*Yard!D$35","v":2.1524695119885258E-2},{"$f":"(1-AMD!E52)*Yard!E$35","v":0},{"$f":"(1-AMD!F52)*Yard!F$35","v":0},{"$f":"(1-AMD!G52)*Yard!G$35","v":0},{"$f":"(1-AMD!H52)*Yard!H$35","v":0},{"$f":"(1-AMD!I52)*Yard!I$35","v":0},{"$f":"(1-AMD!J52)*Yard!J$35","v":0},{"$f":"(1-AMD!B52)*Yard!K$35","v":4.5017497068334002E-2},{"$f":"(1-AMD!C52)*Yard!L$35","v":7.0519853999197982E-2},{"$f":"(1-AMD!D52)*Yard!M$35","v":1.0997543380698745E-2},{"$f":"(1-AMD!E52)*Yard!N$35","v":0},{"$f":"(1-AMD!F52)*Yard!O$35","v":0},{"$f":"(1-AMD!G52)*Yard!P$35","v":0},{"$f":"(1-AMD!H52)*Yard!Q$35","v":0},{"$f":"(1-AMD!I52)*Yard!R$35","v":0},{"$f":"(1-AMD!J52)*Yard!S$35","v":0},0.28608299213050847]
["NHH UMS category A",{"$f":"(1-AMD!B53)*Yard!B$36","v":0},{"$f":"(1-AMD!C53)*Yard!C$36","v":0.12061131267457495},{"$f":"(1-AMD!D53)*Yard!D$36","v":1.8809286578454112E-2},{"$f":"(1-AMD!E53)*Yard!E$36","v":2.1664256993022324E-2},{"$f":"(1-AMD!F53)*Yard!F$36","v":3.7016136501381323E-2},{"$f":"(1-AMD!G53)*Yard!G$36","v":0},{"$f":"(1-AMD!H53)*Yard!H$36","v":0.11584338213185263},{"$f":"(1-AMD!I53)*Yard!I$36","v":4.2502766514309918E-2},{"$f":"(1-AMD!J53)*Yard!J$36","v":1.7196815389866126E-2},{"$f":"(1-AMD!B53)*Yard!K$36","v":3.933839706843318E-2},{"$f":"(1-AMD!C53)*Yard!L$36","v":6.1623550807753752E-2},{"$f":"(1-AMD!D53)*Yard!M$36","v":9.610168411418896E-3},{"$f":"(1-AMD!E53)*Yard!N$36","v":1.1068849280529982E-2},{"$f":"(1-AMD!F53)*Yard!O$36","v":1.8912535796324789E-2},{"$f":"(1-AMD!G53)*Yard!P$36","v":0},{"$f":"(1-AMD!H53)*Yard!Q$36","v":9.6530144516265862E-2},{"$f":"(1-AMD!I53)*Yard!R$36","v":6.0531558112161009E-2},{"$f":"(1-AMD!J53)*Yard!S$36","v":8.4197848297799902E-2},0.7554570090741487]
["NHH UMS category B",{"$f":"(1-AMD!B54)*Yard!B$37","v":0},{"$f":"(1-AMD!C54)*Yard!C$37","v":0.25462456247449439},{"$f":"(1-AMD!D54)*Yard!D$37","v":3.9708599958765328E-2},{"$f":"(1-AMD!E54)*Yard!E$37","v":4.5735775822844098E-2},{"$f":"(1-AMD!F54)*Yard!F$37","v":7.8145385802995515E-2},{"$f":"(1-AMD!G54)*Yard!G$37","v":0},{"$f":"(1-AMD!H54)*Yard!H$37","v":0.24455890444103062},{"$f":"(1-AMD!I54)*Yard!I$37","v":8.9728302326512216E-2},{"$f":"(1-AMD!J54)*Yard!J$37","v":3.6304485023006955E-2},{"$f":"(1-AMD!B54)*Yard!K$37","v":8.3047948984881839E-2},{"$f":"(1-AMD!C54)*Yard!L$37","v":0.1300945103291023},{"$f":"(1-AMD!D54)*Yard!M$37","v":2.0288187507468958E-2},{"$f":"(1-AMD!E54)*Yard!N$37","v":2.3367633123730955E-2},{"$f":"(1-AMD!F54)*Yard!O$37","v":3.9926571112077348E-2},{"$f":"(1-AMD!G54)*Yard!P$37","v":0},{"$f":"(1-AMD!H54)*Yard!Q$37","v":0.20378640500639533},{"$f":"(1-AMD!I54)*Yard!R$37","v":0.1277891862581268},{"$f":"(1-AMD!J54)*Yard!S$37","v":0.1777514878887517},1.5948579460601844]
["NHH UMS category C",{"$f":"(1-AMD!B55)*Yard!B$38","v":0},{"$f":"(1-AMD!C55)*Yard!C$38","v":0.46748570804098805},{"$f":"(1-AMD!D55)*Yard!D$38","v":7.2904211544395789E-2},{"$f":"(1-AMD!E55)*Yard!E$38","v":8.396998834504775E-2},{"$f":"(1-AMD!F55)*Yard!F$38","v":0.1434733972921757},{"$f":"(1-AMD!G55)*Yard!G$38","v":0},{"$f":"(1-AMD!H55)*Yard!H$38","v":0.44900535710020389},{"$f":"(1-AMD!I55)*Yard!I$38","v":0.16473940509422449},{"$f":"(1-AMD!J55)*Yard!J$38","v":6.6654323216535374E-2},{"$f":"(1-AMD!B55)*Yard!K$38","v":0.15247440724198907},{"$f":"(1-AMD!C55)*Yard!L$38","v":0.23885097212307652},{"$f":"(1-AMD!D55)*Yard!M$38","v":3.7248714772941463E-2},{"$f":"(1-AMD!E55)*Yard!N$38","v":4.2902516591201471E-2},{"$f":"(1-AMD!F55)*Yard!O$38","v":7.3304402311336378E-2},{"$f":"(1-AMD!G55)*Yard!P$38","v":0},{"$f":"(1-AMD!H55)*Yard!Q$38","v":0.37414784696227071},{"$f":"(1-AMD!I55)*Yard!R$38","v":0.23461844229519768},{"$f":"(1-AMD!J55)*Yard!S$38","v":0.3263482492162787},2.9281279421478623]
["NHH UMS category D",{"$f":"(1-AMD!B56)*Yard!B$39","v":0},{"$f":"(1-AMD!C56)*Yard!C$39","v":1.3987713416870532E-2},{"$f":"(1-AMD!D56)*Yard!D$39","v":2.1813783831793679E-3},{"$f":"(1-AMD!E56)*Yard!E$39","v":2.5124792317405028E-3},{"$f":"(1-AMD!F56)*Yard!F$39","v":4.2928900921433196E-3},{"$f":"(1-AMD!G56)*Yard!G$39","v":0},{"$f":"(1-AMD!H56)*Yard!H$39","v":1.3434759928974348E-2},{"$f":"(1-AMD!I56)*Yard!I$39","v":4.9291936572352186E-3},{"$f":"(1-AMD!J56)*Yard!J$39","v":1.994374491265969E-3},{"$f":"(1-AMD!B56)*Yard!K$39","v":4.5622107269237752E-3},{"$f":"(1-AMD!C56)*Yard!L$39","v":7.1466975138106204E-3},{"$f":"(1-AMD!D56)*Yard!M$39","v":1.1145246548263986E-3},{"$f":"(1-AMD!E56)*Yard!N$39","v":1.2836929485075155E-3},{"$f":"(1-AMD!F56)*Yard!O$39","v":2.1933525540764852E-3},{"$f":"(1-AMD!G56)*Yard!P$39","v":0},{"$f":"(1-AMD!H56)*Yard!Q$39","v":1.1194936591277606E-2},{"$f":"(1-AMD!I56)*Yard!R$39","v":7.0200553229534512E-3},{"$f":"(1-AMD!J56)*Yard!S$39","v":9.7647173071107284E-3},8.7612976820895846E-2]
["LV UMS (Pseudo HH Metered)",{"$f":"(1-AMD!B57)*Yard!B$40","v":0},{"$f":"(1-AMD!C57)*Yard!C$40","v":0.24577181443250617},{"$f":"(1-AMD!D57)*Yard!D$40","v":3.832801739784187E-2},{"$f":"(1-AMD!E57)*Yard!E$40","v":4.4145641328631455E-2},{"$f":"(1-AMD!F57)*Yard!F$40","v":7.5428438920751267E-2},{"$f":"(1-AMD!G57)*Yard!G$40","v":0},{"$f":"(1-AMD!H57)*Yard!H$40","v":0.23605611766586249},{"$f":"(1-AMD!I57)*Yard!I$40","v":8.6608642365146454E-2},{"$f":"(1-AMD!J57)*Yard!J$40","v":3.5042256212167035E-2},{"$f":"(1-AMD!B57)*Yard!K$40","v":8.016055053195098E-2},{"$f":"(1-AMD!C57)*Yard!L$40","v":0.12557140419041335},{"$f":"(1-AMD!D57)*Yard!M$40","v":1.9582810891455225E-2},{"$f":"(1-AMD!E57)*Yard!N$40","v":2.2555190811129121E-2},{"$f":"(1-AMD!F57)*Yard!O$40","v":3.853841016326412E-2},{"$f":"(1-AMD!G57)*Yard!P$40","v":0},{"$f":"(1-AMD!H57)*Yard!Q$40","v":0.19670119028723446},{"$f":"(1-AMD!I57)*Yard!R$40","v":0.1233462312759372},{"$f":"(1-AMD!J57)*Yard!S$40","v":0.17157145120621342},1.5394081676805047]
[]
["3004. Unit rate 1 (taking account of standing charges)"]
["Data sources:"]
["x1 = 2602. Standing charges factors adapted to use 132kV/HV"]
["x2 = 2903. Contributions to pay-as-you-go unit rate 1 (p/kWh) (in Pay-as-you-go unit rate 1 p/kWh)"]
["x3 = Contributions to unit rate 1 p/kWh by network level (taking account of standing charges) (in Unit rate 1 (taking account of standing charges))"]
["Kind:","Calculation",null,null,null,null,null,null,null,null,null,null,null,null,null,null,null,null,null,"Cell summation"]
["Formula:","=(1-x1)*x2",null,null,null,null,null,null,null,null,null,null,null,null,null,null,null,null,null,"=SUM(x3)"]
[]
[null,"Contributions to unit rate 1 p/kWh by network level (taking account of standing charges)"]
[null,"GSPs","Assets\n132kV","Assets\n132kV/EHV","Assets\nEHV","Assets\nEHV/HV","Assets\n132kV/HV","Assets\nHV","Assets\nHV/LV","Assets\nLV circuits","Transmission\nexit","Operating\n132kV","Operating\n132kV/EHV","Operating\nEHV","Operating\nEHV/HV","Operating\n132kV/HV","Operating\nHV","Operating\nHV/LV","Operating\nLV circuits","Unit rate 1 total p/kWh (taking account of standing charges)"]
["Domestic Two Rate",{"$f":"(1-AMD!B$41)*Yard!B$65","v":0},{"$f":"(1-AMD!C$41)*Yard!C$65","v":0.30756529218351497},{"$f":"(1-AMD!D$41)*Yard!D$65","v":4.7964685848951964E-2},{"$f":"(1-AMD!E$41)*Yard!E$65","v":5.3576969340398718E-2},{"$f":"(1-AMD!F$41)*Yard!F$65","v":9.1543061507868909E-2},{"$f":"(1-AMD!G$41)*Yard!G$65","v":0},{"$f":"(1-AMD!H$41)*Yard!H$65","v":0.28648743110670166},{"$f":"(1-AMD!I$41)*Yard!I$65","v":0.10511181708898412},{"$f":"(1-AMD!J$41)*Yard!J$65","v":0},{"$f":"(1-AMD!B$41)*Yard!K$65","v":0.10544379411870582},{"$f":"(1-AMD!C$41)*Yard!L$65","v":0.15714334741311406},{"$f":"(1-AMD!D$41)*Yard!M$65","v":2.4506442968296425E-2},{"$f":"(1-AMD!E$41)*Yard!N$65","v":2.7373908956464812E-2},{"$f":"(1-AMD!F$41)*Yard!O$65","v":4.6771802551790496E-2},{"$f":"(1-AMD!G$41)*Yard!P$65","v":0},{"$f":"(1-AMD!H$41)*Yard!Q$65","v":0.2387246696177015},{"$f":"(1-AMD!I$41)*Yard!R$65","v":0.1496980687658182},{"$f":"(1-AMD!J$41)*Yard!S$65","v":0},{"$f":"SUM($B83:$S83)","v":1.6419112914683116}]
["Domestic Off Peak (related MPAN)",{"$f":"(1-AMD!B$42)*Yard!B$66","v":0},{"$f":"(1-AMD!C$42)*Yard!C$66","v":2.6927504134923251E-2},{"$f":"(1-AMD!D$42)*Yard!D$66","v":4.1993336353352527E-3},{"$f":"(1-AMD!E$42)*Yard!E$66","v":6.2877830754338284E-3},{"$f":"(1-AMD!F$42)*Yard!F$66","v":1.0743476533088507E-2},{"$f":"(1-AMD!G$42)*Yard!G$66","v":0},{"$f":"(1-AMD!H$42)*Yard!H$66","v":3.3622111194687228E-2},{"$f":"(1-AMD!I$42)*Yard!I$66","v":1.2335903143775924E-2},{"$f":"(1-AMD!J$42)*Yard!J$66","v":0},{"$f":"(1-AMD!B$42)*Yard!K$66","v":3.5004394590407019E-3},{"$f":"(1-AMD!C$42)*Yard!L$66","v":1.3757983247074302E-2},{"$f":"(1-AMD!D$42)*Yard!M$66","v":2.1455520539272097E-3},{"$f":"(1-AMD!E$42)*Yard!N$66","v":3.2125968221786141E-3},{"$f":"(1-AMD!F$42)*Yard!O$66","v":5.4891299771771002E-3},{"$f":"(1-AMD!G$42)*Yard!P$66","v":0},{"$f":"(1-AMD!H$42)*Yard!Q$66","v":2.801668246245646E-2},{"$f":"(1-AMD!I$42)*Yard!R$66","v":1.7568537280086404E-2},{"$f":"(1-AMD!J$42)*Yard!S$66","v":0},0.16780703301918476]
["Small Non Domestic Two Rate",{"$f":"(1-AMD!B$44)*Yard!B$67","v":0},{"$f":"(1-AMD!C$44)*Yard!C$67","v":0.25680545541028649},{"$f":"(1-AMD!D$44)*Yard!D$67","v":4.0048709350799877E-2},{"$f":"(1-AMD!E$44)*Yard!E$67","v":4.4894829373658664E-2},{"$f":"(1-AMD!F$44)*Yard!F$67","v":7.6708521914082742E-2},{"$f":"(1-AMD!G$44)*Yard!G$67","v":0},{"$f":"(1-AMD!H$44)*Yard!H$67","v":0.24006218521835945},{"$f":"(1-AMD!I$44)*Yard!I$67","v":8.8078462657776802E-2},{"$f":"(1-AMD!J$44)*Yard!J$67","v":0},{"$f":"(1-AMD!B$44)*Yard!K$67","v":8.2857283301423501E-2},{"$f":"(1-AMD!C$44)*Yard!L$67","v":0.13120878695585345},{"$f":"(1-AMD!D$44)*Yard!M$67","v":2.0461958507348416E-2},{"$f":"(1-AMD!E$44)*Yard!N$67","v":2.2937971053989606E-2},{"$f":"(1-AMD!F$44)*Yard!O$67","v":3.9192438857823982E-2},{"$f":"(1-AMD!G$44)*Yard!P$67","v":0},{"$f":"(1-AMD!H$44)*Yard!Q$67","v":0.20003937217270726},{"$f":"(1-AMD!I$44)*Yard!R$67","v":0.12543951883706181},{"$f":"(1-AMD!J$44)*Yard!S$67","v":0},1.3687354936111722]
["Small Non Domestic Off Peak (related MPAN)",{"$f":"(1-AMD!B$45)*Yard!B$68","v":0},{"$f":"(1-AMD!C$45)*Yard!C$68","v":3.9234502454046284E-2},{"$f":"(1-AMD!D$45)*Yard!D$68","v":6.1186051627873843E-3},{"$f":"(1-AMD!E$45)*Yard!E$68","v":8.2782810348603509E-3},{"$f":"(1-AMD!F$45)*Yard!F$68","v":1.4144495280031193E-2},{"$f":"(1-AMD!G$45)*Yard!G$68","v":0},{"$f":"(1-AMD!H$45)*Yard!H$68","v":4.4265726427870015E-2},{"$f":"(1-AMD!I$45)*Yard!I$68","v":1.624102991751963E-2},{"$f":"(1-AMD!J$45)*Yard!J$68","v":0},{"$f":"(1-AMD!B$45)*Yard!K$68","v":9.5606434834844267E-3},{"$f":"(1-AMD!C$45)*Yard!L$68","v":2.0045958391293837E-2},{"$f":"(1-AMD!D$45)*Yard!M$68","v":3.1261592943519594E-3},{"$f":"(1-AMD!E$45)*Yard!N$68","v":4.2295955548464796E-3},{"$f":"(1-AMD!F$45)*Yard!O$68","v":7.2268015678663379E-3},{"$f":"(1-AMD!G$45)*Yard!P$68","v":0},{"$f":"(1-AMD!H$45)*Yard!Q$68","v":3.6885809880242364E-2},{"$f":"(1-AMD!I$45)*Yard!R$68","v":2.3130137797564176E-2},{"$f":"(1-AMD!J$45)*Yard!S$68","v":0},0.23248774624676444]
["LV Medium Non-Domestic",{"$f":"(1-AMD!B$46)*Yard!B$69","v":0},{"$f":"(1-AMD!C$46)*Yard!C$69","v":0.24610996740525137},{"$f":"(1-AMD!D$46)*Yard!D$69","v":3.8380752220394394E-2},{"$f":"(1-AMD!E$46)*Yard!E$69","v":4.2941372853643363E-2},{"$f":"(1-AMD!F$46)*Yard!F$69","v":7.3370793174173068E-2},{"$f":"(1-AMD!G$46)*Yard!G$69","v":0},{"$f":"(1-AMD!H$46)*Yard!H$69","v":0.22961663842674881},{"$f":"(1-AMD!I$46)*Yard!I$69","v":8.424600690391422E-2},{"$f":"(1-AMD!J$46)*Yard!J$69","v":0},{"$f":"(1-AMD!B$46)*Yard!K$69","v":8.0152977549314455E-2},{"$f":"(1-AMD!C$46)*Yard!L$69","v":0.12574417560326562},{"$f":"(1-AMD!D$46)*Yard!M$69","v":1.9609754525056752E-2},{"$f":"(1-AMD!E$46)*Yard!N$69","v":2.1939897785052568E-2},{"$f":"(1-AMD!F$46)*Yard!O$69","v":3.7487103827259463E-2},{"$f":"(1-AMD!G$46)*Yard!P$69","v":0},{"$f":"(1-AMD!H$46)*Yard!Q$69","v":0.191335291518381},{"$f":"(1-AMD!I$46)*Yard!R$69","v":0.11998141487813209},{"$f":"(1-AMD!J$46)*Yard!S$69","v":0},1.3109161466705874]
["LV Sub Medium Non-Domestic",{"$f":"(1-AMD!B$47)*Yard!B$70","v":0},{"$f":"(1-AMD!C$47)*Yard!C$70","v":0.24426452684479544},{"$f":"(1-AMD!D$47)*Yard!D$70","v":3.8092956493812967E-2},{"$f":"(1-AMD!E$47)*Yard!E$70","v":4.2619379591764255E-2},{"$f":"(1-AMD!F$47)*Yard!F$70","v":7.2820626762369459E-2},{"$f":"(1-AMD!G$47)*Yard!G$70","v":0},{"$f":"(1-AMD!H$47)*Yard!H$70","v":0.22789487208637735},{"$f":"(1-AMD!I$47)*Yard!I$70","v":0},{"$f":"(1-AMD!J$47)*Yard!J$70","v":0},{"$f":"(1-AMD!B$47)*Yard!K$70","v":7.9551955342167274E-2},{"$f":"(1-AMD!C$47)*Yard!L$70","v":0.1248012905818018},{"$f":"(1-AMD!D$47)*Yard!M$70","v":1.9462711978333991E-2},{"$f":"(1-AMD!E$47)*Yard!N$70","v":2.177538280139843E-2},{"$f":"(1-AMD!F$47)*Yard!O$70","v":3.7206009068578121E-2},{"$f":"(1-AMD!G$47)*Yard!P$70","v":0},{"$f":"(1-AMD!H$47)*Yard!Q$70","v":0.18990057551992942},{"$f":"(1-AMD!I$47)*Yard!R$70","v":0},{"$f":"(1-AMD!J$47)*Yard!S$70","v":0},1.0983902870713285]
["HV Medium Non-Domestic",{"$f":"(1-AMD!B$48)*Yard!B$71","v":0},{"$f":"(1-AMD!C$48)*Yard!C$71","v":0.22355405203528234},{"$f":"(1-AMD!D$48)*Yard!D$71","v":3.4863166126477836E-2},{"$f":"(1-AMD!E$48)*Yard!E$71","v":3.1257618084594936E-2},{"$f":"(1-AMD!F$48)*Yard!F$71","v":0},{"$f":"(1-AMD!G$48)*Yard!G$71","v":0},{"$f":"(1-AMD!H$48)*Yard!H$71","v":0},{"$f":"(1-AMD!I$48)*Yard!I$71","v":0},{"$f":"(1-AMD!J$48)*Yard!J$71","v":0},{"$f":"(1-AMD!B$48)*Yard!K$71","v":7.134310119957922E-2},{"$f":"(1-AMD!C$48)*Yard!L$71","v":0.1142197541705347},{"$f":"(1-AMD!D$48)*Yard!M$71","v":1.7812525553973602E-2},{"$f":"(1-AMD!E$48)*Yard!N$71","v":1.5970354467184613E-2},{"$f":"(1-AMD!F$48)*Yard!O$71","v":0},{"$f":"(1-AMD!G$48)*Yard!P$71","v":0},{"$f":"(1-AMD!H$48)*Yard!Q$71","v":0},{"$f":"(1-AMD!I$48)*Yard!R$71","v":0},{"$f":"(1-AMD!J$48)*Yard!S$71","v":0},0.50902057163762726]
["LV HH Metered",{"$f":"(1-AMD!B$49)*Yard!B$72","v":0},{"$f":"(1-AMD!C$49)*Yard!C$72","v":1.1528364245744598},{"$f":"(1-AMD!D$49)*Yard!D$72","v":0.17978438512154957},{"$f":"(1-AMD!E$49)*Yard!E$72","v":0.19051812302411245},{"$f":"(1-AMD!F$49)*Yard!F$72","v":0.32552442717601215},{"$f":"(1-AMD!G$49)*Yard!G$72","v":0},{"$f":"(1-AMD!H$49)*Yard!H$72","v":0.81499268534836955},{"$f":"(1-AMD!I$49)*Yard!I$72","v":0},{"$f":"(1-AMD!J$49)*Yard!J$72","v":0},{"$f":"(1-AMD!B$49)*Yard!K$72","v":0.47524657784527025},{"$f":"(1-AMD!C$49)*Yard!L$72","v":0.58901501366189124},{"$f":"(1-AMD!D$49)*Yard!M$72","v":9.1856658760285897E-2},{"$f":"(1-AMD!E$49)*Yard!N$72","v":9.7340813010230731E-2},{"$f":"(1-AMD!F$49)*Yard!O$72","v":0.16631915060381061},{"$f":"(1-AMD!G$49)*Yard!P$72","v":0},{"$f":"(1-AMD!H$49)*Yard!Q$72","v":0.67911830825894026},{"$f":"(1-AMD!I$49)*Yard!R$72","v":0},{"$f":"(1-AMD!J$49)*Yard!S$72","v":0},4.7625525673849323]
["LV Sub HH Metered",{"$f":"(1-AMD!B$50)*Yard!B$73","v":0},{"$f":"(1-AMD!C$50)*Yard!C$73","v":1.1620526300969862},{"$f":"(1-AMD!D$50)*Yard!D$73","v":0.18122164873302235},{"$f":"(1-AMD!E$50)*Yard!E$73","v":0.19204119615064408},{"$f":"(1-AMD!F$50)*Yard!F$73","v":0.32812679118837768},{"$f":"(1-AMD!G$50)*Yard!G$73","v":0},{"$f":"(1-AMD!H$50)*Yard!H$73","v":0},{"$f":"(1-AMD!I$50)*Yard!I$73","v":0},{"$f":"(1-AMD!J$50)*Yard!J$73","v":0},{"$f":"(1-AMD!B$50)*Yard!K$73","v":0.47904587672404769},{"$f":"(1-AMD!C$50)*Yard!L$73","v":0.59372381996436863},{"$f":"(1-AMD!D$50)*Yard!M$73","v":9.2590995243503685E-2},{"$f":"(1-AMD!E$50)*Yard!N$73","v":9.811899187351851E-2},{"$f":"(1-AMD!F$50)*Yard!O$73","v":0.16764876809474169},{"$f":"(1-AMD!G$50)*Yard!P$73","v":0},{"$f":"(1-AMD!H$50)*Yard!Q$73","v":0},{"$f":"(1-AMD!I$50)*Yard!R$73","v":0},{"$f":"(1-AMD!J$50)*Yard!S$73","v":0},3.2945707180692101]
["HV HH Metered",{"$f":"(1-AMD!B$51)*Yard!B$74","v":0},{"$f":"(1-AMD!C$51)*Yard!C$74","v":1.0136384246247745},{"$f":"(1-AMD!D$51)*Yard!D$74","v":0.15807651200300094},{"$f":"(1-AMD!E$51)*Yard!E$74","v":0.13401137297056817},{"$f":"(1-AMD!F$51)*Yard!F$74","v":0},{"$f":"(1-AMD!G$51)*Yard!G$74","v":0},{"$f":"(1-AMD!H$51)*Yard!H$74","v":0},{"$f":"(1-AMD!I$51)*Yard!I$74","v":0},{"$f":"(1-AMD!J$51)*Yard!J$74","v":0},{"$f":"(1-AMD!B$51)*Yard!K$74","v":0.41786343856476671},{"$f":"(1-AMD!C$51)*Yard!L$74","v":0.51789502639020513},{"$f":"(1-AMD!D$51)*Yard!M$74","v":8.0765524832753871E-2},{"$f":"(1-AMD!E$51)*Yard!N$74","v":6.8470000598952932E-2},{"$f":"(1-AMD!F$51)*Yard!O$74","v":0},{"$f":"(1-AMD!G$51)*Yard!P$74","v":0},{"$f":"(1-AMD!H$51)*Yard!Q$74","v":0},{"$f":"(1-AMD!I$51)*Yard!R$74","v":0},{"$f":"(1-AMD!J$51)*Yard!S$74","v":0},2.3907202999850221]
["HV Sub HH Metered",{"$f":"(1-AMD!B$52)*Yard!B$75","v":0},{"$f":"(1-AMD!C$52)*Yard!C$75","v":0.92349450327314819},{"$f":"(1-AMD!D$52)*Yard!D$75","v":0.14401860306884343},{"$f":"(1-AMD!E$52)*Yard!E$75","v":0},{"$f":"(1-AMD!F$52)*Yard!F$75","v":0},{"$f":"(1-AMD!G$52)*Yard!G$75","v":0},{"$f":"(1-AMD!H$52)*Yard!H$75","v":0},{"$f":"(1-AMD!I$52)*Yard!I$75","v":0},{"$f":"(1-AMD!J$52)*Yard!J$75","v":0},{"$f":"(1-AMD!B$52)*Yard!K$75","v":0.38070240754362494},{"$f":"(1-AMD!C$52)*Yard!L$75","v":0.47183808202703259},{"$f":"(1-AMD!D$52)*Yard!M$75","v":7.3582962548632017E-2},{"$f":"(1-AMD!E$52)*Yard!N$75","v":0},{"$f":"(1-AMD!F$52)*Yard!O$75","v":0},{"$f":"(1-AMD!G$52)*Yard!P$75","v":0},{"$f":"(1-AMD!H$52)*Yard!Q$75","v":0},{"$f":"(1-AMD!I$52)*Yard!R$75","v":0},{"$f":"(1-AMD!J$52)*Yard!S$75","v":0},1.9936365584612812]
["NHH UMS category A",{"$f":"(1-AMD!B$53)*Yard!B$80","v":0},{"$f":"(1-AMD!C$53)*Yard!C$80","v":0.14612723416845816},{"$f":"(1-AMD!D$53)*Yard!D$80","v":2.2788484458396908E-2},{"$f":"(1-AMD!E$53)*Yard!E$80","v":2.6254452511857356E-2},{"$f":"(1-AMD!F$53)*Yard!F$80","v":4.4859068938341989E-2},{"$f":"(1-AMD!G$53)*Yard!G$80","v":0},{"$f":"(1-AMD!H$53)*Yard!H$80","v":0.14038813221119253},{"$f":"(1-AMD!I$53)*Yard!I$80","v":5.1508199216429094E-2},{"$f":"(1-AMD!J$53)*Yard!J$80","v":2.0840455001703315E-2},{"$f":"(1-AMD!B$53)*Yard!K$80","v":4.764945462199846E-2},{"$f":"(1-AMD!C$53)*Yard!L$80","v":7.4660318667394407E-2},{"$f":"(1-AMD!D$53)*Yard!M$80","v":1.1643247210506141E-2},{"$f":"(1-AMD!E$53)*Yard!N$80","v":1.3414103141879278E-2},{"$f":"(1-AMD!F$53)*Yard!O$80","v":2.2919700089568631E-2},{"$f":"(1-AMD!G$53)*Yard!P$80","v":0},{"$f":"(1-AMD!H$53)*Yard!Q$80","v":0.11698283010496499},{"$f":"(1-AMD!I$53)*Yard!R$80","v":7.3356908498469431E-2},{"$f":"(1-AMD!J$53)*Yard!S$80","v":0.1020375824773101},0.91543017131847082]
["NHH UMS category B",{"$f":"(1-AMD!B$54)*Yard!B$81","v":0},{"$f":"(1-AMD!C$54)*Yard!C$81","v":0.14460763096744289},{"$f":"(1-AMD!D$54)*Yard!D$81","v":2.2551502939336984E-2},{"$f":"(1-AMD!E$54)*Yard!E$81","v":2.8503630161473701E-2},{"$f":"(1-AMD!F$54)*Yard!F$81","v":4.870207481298934E-2},{"$f":"(1-AMD!G$54)*Yard!G$81","v":0},{"$f":"(1-AMD!H$54)*Yard!H$81","v":0.15241496267349955},{"$f":"(1-AMD!I$54)*Yard!I$81","v":5.5920825623216902E-2},{"$f":"(1-AMD!J$54)*Yard!J$81","v":2.2625824000599652E-2},{"$f":"(1-AMD!B$54)*Yard!K$81","v":4.4103339749090142E-2},{"$f":"(1-AMD!C$54)*Yard!L$81","v":7.3883912682011832E-2},{"$f":"(1-AMD!D$54)*Yard!M$81","v":1.1522167003712518E-2},{"$f":"(1-AMD!E$54)*Yard!N$81","v":1.4563268258262383E-2},{"$f":"(1-AMD!F$54)*Yard!O$81","v":2.4883194744583264E-2},{"$f":"(1-AMD!G$54)*Yard!P$81","v":0},{"$f":"(1-AMD!H$54)*Yard!Q$81","v":0.12700456515132033},{"$f":"(1-AMD!I$54)*Yard!R$81","v":7.9641279462411368E-2},{"$f":"(1-AMD!J$54)*Yard!S$81","v":0.11077898166760744},0.96170715989755828]
["NHH UMS category C",{"$f":"(1-AMD!B$55)*Yard!B$82","v":0},{"$f":"(1-AMD!C$55)*Yard!C$82","v":0.27622798089756428},{"$f":"(1-AMD!D$55)*Yard!D$82","v":4.3077644529983521E-2},{"$f":"(1-AMD!E$55)*Yard!E$82","v":5.2600183916675002E-2},{"$f":"(1-AMD!F$55)*Yard!F$82","v":8.98740994664399E-2},{"$f":"(1-AMD!G$55)*Yard!G$82","v":0},{"$f":"(1-AMD!H$55)*Yard!H$82","v":0.28126435204436889},{"$f":"(1-AMD!I$55)*Yard!I$82","v":0.1031954770634535},{"$f":"(1-AMD!J$55)*Yard!J$82","v":4.1753366043405356E-2},{"$f":"(1-AMD!B$55)*Yard!K$82","v":8.5812379724868798E-2},{"$f":"(1-AMD!C$55)*Yard!L$82","v":0.14113227555438573},{"$f":"(1-AMD!D$55)*Yard!M$82","v":2.2009522635196295E-2},{"$f":"(1-AMD!E$55)*Yard!N$82","v":2.6874843115522344E-2},{"$f":"(1-AMD!F$55)*Yard!O$82","v":4.5919085133535466E-2},{"$f":"(1-AMD!G$55)*Yard!P$82","v":0},{"$f":"(1-AMD!H$55)*Yard!Q$82","v":0.23437237458428303},{"$f":"(1-AMD!I$55)*Yard!R$82","v":0.14696885706664531},{"$f":"(1-AMD!J$55)*Yard!S$82","v":0.20442991916496472},1.7955123609412924]
["NHH UMS category D",{"$f":"(1-AMD!B$56)*Yard!B$83","v":0},{"$f":"(1-AMD!C$56)*Yard!C$83","v":0.15610675995653173},{"$f":"(1-AMD!D$56)*Yard!D$83","v":2.4344787563822929E-2},{"$f":"(1-AMD!E$56)*Yard!E$83","v":2.6037991518805481E-2},{"$f":"(1-AMD!F$56)*Yard!F$83","v":4.4489217820502427E-2},{"$f":"(1-AMD!G$56)*Yard!G$83","v":0},{"$f":"(1-AMD!H$56)*Yard!H$83","v":0.13923066931999689},{"$f":"(1-AMD!I$56)*Yard!I$83","v":5.1083527784119974E-2},{"$f":"(1-AMD!J$56)*Yard!J$83","v":2.0668630981252521E-2},{"$f":"(1-AMD!B$56)*Yard!K$83","v":5.3289666620260238E-2},{"$f":"(1-AMD!C$56)*Yard!L$83","v":7.975912574279638E-2},{"$f":"(1-AMD!D$56)*Yard!M$83","v":1.2438404160238118E-2},{"$f":"(1-AMD!E$56)*Yard!N$83","v":1.3303507421565547E-2},{"$f":"(1-AMD!F$56)*Yard!O$83","v":2.2730733245198191E-2},{"$f":"(1-AMD!G$56)*Yard!P$83","v":0},{"$f":"(1-AMD!H$56)*Yard!Q$83","v":0.1160183377178888},{"$f":"(1-AMD!I$56)*Yard!R$83","v":7.2752100256757934E-2},{"$f":"(1-AMD!J$56)*Yard!S$83","v":0.10119630969046846},0.93344976980020555]
["LV UMS (Pseudo HH Metered)",{"$f":"(1-AMD!B$57)*Yard!B$84","v":0},{"$f":"(1-AMD!C$57)*Yard!C$84","v":2.4855055200599012},{"$f":"(1-AMD!D$57)*Yard!D$84","v":0.38761360425017083},{"$f":"(1-AMD!E$57)*Yard!E$84","v":0.47192805769730556},{"$f":"(1-AMD!F$57)*Yard!F$84","v":0.80634906649148719},{"$f":"(1-AMD!G$57)*Yard!G$84","v":0},{"$f":"(1-AMD!H$57)*Yard!H$84","v":2.5234995293944369},{"$f":"(1-AMD!I$57)*Yard!I$84","v":0.92586826561006785},{"$f":"(1-AMD!J$57)*Yard!J$84","v":0.37461057114179208},{"$f":"(1-AMD!B$57)*Yard!K$84","v":0.76788755405094722},{"$f":"(1-AMD!C$57)*Yard!L$84","v":1.2699113565874596},{"$f":"(1-AMD!D$57)*Yard!M$84","v":0.1980421745324574},{"$f":"(1-AMD!E$57)*Yard!N$84","v":0.24112068757249294},{"$f":"(1-AMD!F$57)*Yard!O$84","v":0.41198534006335968},{"$f":"(1-AMD!G$57)*Yard!P$84","v":0},{"$f":"(1-AMD!H$57)*Yard!Q$84","v":2.1027854140335442},{"$f":"(1-AMD!I$57)*Yard!R$84","v":1.3186023715682702},{"$f":"(1-AMD!J$57)*Yard!S$84","v":1.834142155083885},16.119851668137578]
[]
["3005. Unit rate 2 (taking account of standing charges)"]
["Data sources:"]
["x1 = 2602. Standing charges factors adapted to use 132kV/HV"]
["x2 = 2904. Contributions to pay-as-you-go unit rate 2 (p/kWh) (in Pay-as-you-go unit rate 2 p/kWh)"]
["x3 = Contributions to unit rate 2 p/kWh by network level (taking account of standing charges) (in Unit rate 2 (taking account of standing charges))"]
["Kind:","Calculation",null,null,null,null,null,null,null,null,null,null,null,null,null,null,null,null,null,"Cell summation"]
["Formula:","=(1-x1)*x2",null,null,null,null,null,null,null,null,null,null,null,null,null,null,null,null,null,"=SUM(x3)"]
[]
[null,"Contributions to unit rate 2 p/kWh by network level (taking account of standing charges)"]
[null,"GSPs","Assets\n132kV","Assets\n132kV/EHV","Assets\nEHV","Assets\nEHV/HV","Assets\n132kV/HV","Assets\nHV","Assets\nHV/LV","Assets\nLV circuits","Transmission\nexit","Operating\n132kV","Operating\n132kV/EHV","Operating\nEHV","Operating\nEHV/HV","Operating\n132kV/HV","Operating\nHV","Operating\nHV/LV","Operating\nLV circuits","Unit rate 2 total p/kWh (taking account of standing charges)"]
["Domestic Two Rate",{"$f":"(1-AMD!B$41)*Yard!B$99","v":0},{"$f":"(1-AMD!C$41)*Yard!C$99","v":9.5610585632865033E-3},{"$f":"(1-AMD!D$41)*Yard!D$99","v":1.4910433069861488E-3},{"$f":"(1-AMD!E$41)*Yard!E$99","v":4.462283994114578E-3},{"$f":"(1-AMD!F$41)*Yard!F$99","v":7.6243793400011259E-3},{"$f":"(1-AMD!G$41)*Yard!G$99","v":0},{"$f":"(1-AMD!H$41)*Yard!H$99","v":2.3860779997096487E-2},{"$f":"(1-AMD!I$41)*Yard!I$99","v":8.7544850849710729E-3},{"$f":"(1-AMD!J$41)*Yard!J$99","v":0},{"$f":"(1-AMD!B$41)*Yard!K$99","v":7.4937008921209471E-4},{"$f":"(1-AMD!C$41)*Yard!L$99","v":4.8850009595724801E-3},{"$f":"(1-AMD!D$41)*Yard!M$99","v":7.6181397040703356E-4},{"$f":"(1-AMD!E$41)*Yard!N$99","v":2.2799004366355147E-3},{"$f":"(1-AMD!F$41)*Yard!O$99","v":3.8954996609964817E-3},{"$f":"(1-AMD!G$41)*Yard!P$99","v":0},{"$f":"(1-AMD!H$41)*Yard!Q$99","v":1.9882745988622441E-2},{"$f":"(1-AMD!I$41)*Yard!R$99","v":1.2467955997277442E-2},{"$f":"(1-AMD!J$41)*Yard!S$99","v":0},{"$f":"SUM($B110:$S110)","v":0.1006763173891794}]
["Small Non Domestic Two Rate",{"$f":"(1-AMD!B$44)*Yard!B$100","v":0},{"$f":"(1-AMD!C$44)*Yard!C$100","v":8.1422511070736343E-3},{"$f":"(1-AMD!D$44)*Yard!D$100","v":1.2697808445207937E-3},{"$f":"(1-AMD!E$44)*Yard!E$100","v":3.8001060814198506E-3},{"$f":"(1-AMD!F$44)*Yard!F$100","v":6.492964216352877E-3},{"$f":"(1-AMD!G$44)*Yard!G$100","v":0},{"$f":"(1-AMD!H$44)*Yard!H$100","v":2.0319974097116885E-2},{"$f":"(1-AMD!I$44)*Yard!I$100","v":7.4553686083126802E-3},{"$f":"(1-AMD!J$44)*Yard!J$100","v":0},{"$f":"(1-AMD!B$44)*Yard!K$100","v":6.381677717072474E-4},{"$f":"(1-AMD!C$44)*Yard!L$100","v":4.1600942205151214E-3},{"$f":"(1-AMD!D$44)*Yard!M$100","v":6.4876505073917896E-4},{"$f":"(1-AMD!E$44)*Yard!N$100","v":1.9415760013744949E-3},{"$f":"(1-AMD!F$44)*Yard!O$100","v":3.3174293638518226E-3},{"$f":"(1-AMD!G$44)*Yard!P$100","v":0},{"$f":"(1-AMD!H$44)*Yard!Q$100","v":1.6932258019961021E-2},{"$f":"(1-AMD!I$44)*Yard!R$100","v":1.0617781268655074E-2},{"$f":"(1-AMD!J$44)*Yard!S$100","v":0},8.5736516651600689E-2]
["LV Medium Non-Domestic",{"$f":"(1-AMD!B$46)*Yard!B$101","v":0},{"$f":"(1-AMD!C$46)*Yard!C$101","v":7.5754104281777696E-3},{"$f":"(1-AMD!D$46)*Yard!D$101","v":1.1813822645099371E-3},{"$f":"(1-AMD!E$46)*Yard!E$101","v":3.5355533572724719E-3},{"$f":"(1-AMD!F$46)*Yard!F$101","v":6.0409422636957541E-3},{"$f":"(1-AMD!G$46)*Yard!G$101","v":0},{"$f":"(1-AMD!H$46)*Yard!H$101","v":1.8905354508395325E-2},{"$f":"(1-AMD!I$46)*Yard!I$101","v":6.9363467619238473E-3},{"$f":"(1-AMD!J$46)*Yard!J$101","v":0},{"$f":"(1-AMD!B$46)*Yard!K$101","v":5.9374032182797078E-4},{"$f":"(1-AMD!C$46)*Yard!L$101","v":3.8704801320747721E-3},{"$f":"(1-AMD!D$46)*Yard!M$101","v":6.0359984802448681E-4},{"$f":"(1-AMD!E$46)*Yard!N$101","v":1.8064089272724791E-3},{"$f":"(1-AMD!F$46)*Yard!O$101","v":3.0864792386264789E-3},{"$f":"(1-AMD!G$46)*Yard!P$101","v":0},{"$f":"(1-AMD!H$46)*Yard!Q$101","v":1.5753481720254859E-2},{"$f":"(1-AMD!I$46)*Yard!R$101","v":9.8786011250380848E-3},{"$f":"(1-AMD!J$46)*Yard!S$101","v":0},7.9767780897094243E-2]
["LV Sub Medium Non-Domestic",{"$f":"(1-AMD!B$47)*Yard!B$102","v":0},{"$f":"(1-AMD!C$47)*Yard!C$102","v":7.5186066757184427E-3},{"$f":"(1-AMD!D$47)*Yard!D$102","v":1.1725237417474679E-3},{"$f":"(1-AMD!E$47)*Yard!E$102","v":3.5090422263420306E-3},{"$f":"(1-AMD!F$47)*Yard!F$102","v":5.9956446270565972E-3},{"$f":"(1-AMD!G$47)*Yard!G$102","v":0},{"$f":"(1-AMD!H$47)*Yard!H$102","v":1.8763593862179215E-2},{"$f":"(1-AMD!I$47)*Yard!I$102","v":0},{"$f":"(1-AMD!J$47)*Yard!J$102","v":0},{"$f":"(1-AMD!B$47)*Yard!K$102","v":5.8928819628493946E-4},{"$f":"(1-AMD!C$47)*Yard!L$102","v":3.8414575731777218E-3},{"$f":"(1-AMD!D$47)*Yard!M$102","v":5.990737914264001E-4},{"$f":"(1-AMD!E$47)*Yard!N$102","v":1.792863680250162E-3},{"$f":"(1-AMD!F$47)*Yard!O$102","v":3.0633354625493893E-3},{"$f":"(1-AMD!G$47)*Yard!P$102","v":0},{"$f":"(1-AMD!H$47)*Yard!Q$102","v":1.5635355199653238E-2},{"$f":"(1-AMD!I$47)*Yard!R$102","v":0},{"$f":"(1-AMD!J$47)*Yard!S$102","v":0},6.24807850363856E-2]
["HV Medium Non-Domestic",{"$f":"(1-AMD!B$48)*Yard!B$103","v":0},{"$f":"(1-AMD!C$48)*Yard!C$103","v":6.9970689313867988E-3},{"$f":"(1-AMD!D$48)*Yard!D$103","v":1.0911901364903693E-3},{"$f":"(1-AMD!E$48)*Yard!E$103","v":2.6125064283686336E-3},{"$f":"(1-AMD!F$48)*Yard!F$103","v":0},{"$f":"(1-AMD!G$48)*Yard!G$103","v":0},{"$f":"(1-AMD!H$48)*Yard!H$103","v":0},{"$f":"(1-AMD!I$48)*Yard!I$103","v":0},{"$f":"(1-AMD!J$48)*Yard!J$103","v":0},{"$f":"(1-AMD!B$48)*Yard!K$103","v":5.4841146873324271E-4},{"$f":"(1-AMD!C$48)*Yard!L$103","v":3.5749899676663093E-3},{"$f":"(1-AMD!D$48)*Yard!M$103","v":5.5751827358321198E-4},{"$f":"(1-AMD!E$48)*Yard!N$103","v":1.3347995229811898E-3},{"$f":"(1-AMD!F$48)*Yard!O$103","v":0},{"$f":"(1-AMD!G$48)*Yard!P$103","v":0},{"$f":"(1-AMD!H$48)*Yard!Q$103","v":0},{"$f":"(1-AMD!I$48)*Yard!R$103","v":0},{"$f":"(1-AMD!J$48)*Yard!S$103","v":0},1.6716484729209755E-2]
["LV HH Metered",{"$f":"(1-AMD!B$49)*Yard!B$104","v":0},{"$f":"(1-AMD!C$49)*Yard!C$104","v":0.11633380967494517},{"$f":"(1-AMD!D$49)*Yard!D$104","v":1.8142211674980369E-2},{"$f":"(1-AMD!E$49)*Yard!E$104","v":2.1830911982670977E-2},{"$f":"(1-AMD!F$49)*Yard!F$104","v":3.7300887732289352E-2},{"$f":"(1-AMD!G$49)*Yard!G$104","v":0},{"$f":"(1-AMD!H$49)*Yard!H$104","v":9.338761739800007E-2},{"$f":"(1-AMD!I$49)*Yard!I$104","v":0},{"$f":"(1-AMD!J$49)*Yard!J$104","v":0},{"$f":"(1-AMD!B$49)*Yard!K$104","v":1.2864498961231817E-2},{"$f":"(1-AMD!C$49)*Yard!L$104","v":5.9438059931460757E-2},{"$f":"(1-AMD!D$49)*Yard!M$104","v":9.2693419723790926E-3},{"$f":"(1-AMD!E$49)*Yard!N$104","v":1.1153997779408266E-2},{"$f":"(1-AMD!F$49)*Yard!O$104","v":1.9058022828646343E-2},{"$f":"(1-AMD!G$49)*Yard!P$104","v":0},{"$f":"(1-AMD!H$49)*Yard!Q$104","v":7.7818171720833884E-2},{"$f":"(1-AMD!I$49)*Yard!R$104","v":0},{"$f":"(1-AMD!J$49)*Yard!S$104","v":0},0.47659753165684615]
["LV Sub HH Metered",{"$f":"(1-AMD!B$50)*Yard!B$105","v":0},{"$f":"(1-AMD!C$50)*Yard!C$105","v":0.11726382565668216},{"$f":"(1-AMD!D$50)*Yard!D$105","v":1.828724730004011E-2},{"$f":"(1-AMD!E$50)*Yard!E$105","v":2.2005436457512021E-2},{"$f":"(1-AMD!F$50)*Yard!F$105","v":3.7599084978824436E-2},{"$f":"(1-AMD!G$50)*Yard!G$105","v":0},{"$f":"(1-AMD!H$50)*Yard!H$105","v":0},{"$f":"(1-AMD!I$50)*Yard!I$105","v":0},{"$f":"(1-AMD!J$50)*Yard!J$105","v":0},{"$f":"(1-AMD!B$50)*Yard!K$105","v":1.2967342577068127E-2},{"$f":"(1-AMD!C$50)*Yard!L$105","v":5.9913230011544562E-2},{"$f":"(1-AMD!D$50)*Yard!M$105","v":9.3434445587087696E-3},{"$f":"(1-AMD!E$50)*Yard!N$105","v":1.1243167009093889E-2},{"$f":"(1-AMD!F$50)*Yard!O$105","v":1.9210379790568881E-2},{"$f":"(1-AMD!G$50)*Yard!P$105","v":0},{"$f":"(1-AMD!H$50)*Yard!Q$105","v":0},{"$f":"(1-AMD!I$50)*Yard!R$105","v":0},{"$f":"(1-AMD!J$50)*Yard!S$105","v":0},0.30783315834004299]
["HV HH Metered",{"$f":"(1-AMD!B$51)*Yard!B$106","v":0},{"$f":"(1-AMD!C$51)*Yard!C$106","v":0.10228720836352571},{"$f":"(1-AMD!D$51)*Yard!D$106","v":1.5951649747902755E-2},{"$f":"(1-AMD!E$51)*Yard!E$106","v":1.5355969508617806E-2},{"$f":"(1-AMD!F$51)*Yard!F$106","v":0},{"$f":"(1-AMD!G$51)*Yard!G$106","v":0},{"$f":"(1-AMD!H$51)*Yard!H$106","v":0},{"$f":"(1-AMD!I$51)*Yard!I$106","v":0},{"$f":"(1-AMD!J$51)*Yard!J$106","v":0},{"$f":"(1-AMD!B$51)*Yard!K$106","v":1.131118880587368E-2},{"$f":"(1-AMD!C$51)*Yard!L$106","v":5.2261275014725606E-2},{"$f":"(1-AMD!D$51)*Yard!M$106","v":8.1501251989490615E-3},{"$f":"(1-AMD!E$51)*Yard!N$106","v":7.8457762064976354E-3},{"$f":"(1-AMD!F$51)*Yard!O$106","v":0},{"$f":"(1-AMD!G$51)*Yard!P$106","v":0},{"$f":"(1-AMD!H$51)*Yard!Q$106","v":0},{"$f":"(1-AMD!I$51)*Yard!R$106","v":0},{"$f":"(1-AMD!J$51)*Yard!S$106","v":0},0.21316319284609223]
["HV Sub HH Metered",{"$f":"(1-AMD!B$52)*Yard!B$107","v":0},{"$f":"(1-AMD!C$52)*Yard!C$107","v":9.3190700336600527E-2},{"$f":"(1-AMD!D$52)*Yard!D$107","v":1.4533052913596745E-2},{"$f":"(1-AMD!E$52)*Yard!E$107","v":0},{"$f":"(1-AMD!F$52)*Yard!F$107","v":0},{"$f":"(1-AMD!G$52)*Yard!G$107","v":0},{"$f":"(1-AMD!H$52)*Yard!H$107","v":0},{"$f":"(1-AMD!I$52)*Yard!I$107","v":0},{"$f":"(1-AMD!J$52)*Yard!J$107","v":0},{"$f":"(1-AMD!B$52)*Yard!K$107","v":1.0305272998678899E-2},{"$f":"(1-AMD!C$52)*Yard!L$107","v":4.7613625369432165E-2},{"$f":"(1-AMD!D$52)*Yard!M$107","v":7.4253260722664527E-3},{"$f":"(1-AMD!E$52)*Yard!N$107","v":0},{"$f":"(1-AMD!F$52)*Yard!O$107","v":0},{"$f":"(1-AMD!G$52)*Yard!P$107","v":0},{"$f":"(1-AMD!H$52)*Yard!Q$107","v":0},{"$f":"(1-AMD!I$52)*Yard!R$107","v":0},{"$f":"(1-AMD!J$52)*Yard!S$107","v":0},0.17306797769057478]
["LV UMS (Pseudo HH Metered)",{"$f":"(1-AMD!B$57)*Yard!B$112","v":0},{"$f":"(1-AMD!C$57)*Yard!C$112","v":0.18296492643544648},{"$f":"(1-AMD!D$57)*Yard!D$112","v":2.8533308019087246E-2},{"$f":"(1-AMD!E$57)*Yard!E$112","v":2.7621257835586971E-2},{"$f":"(1-AMD!F$57)*Yard!F$112","v":4.7194429548691352E-2},{"$f":"(1-AMD!G$57)*Yard!G$112","v":0},{"$f":"(1-AMD!H$57)*Yard!H$112","v":0.14769673049211474},{"$f":"(1-AMD!I$57)*Yard!I$112","v":5.4189713175744954E-2},{"$f":"(1-AMD!J$57)*Yard!J$112","v":2.1925407919019375E-2},{"$f":"(1-AMD!B$57)*Yard!K$112","v":6.5843144880290028E-2},{"$f":"(1-AMD!C$57)*Yard!L$112","v":9.3481682523868626E-2},{"$f":"(1-AMD!D$57)*Yard!M$112","v":1.4578431470783318E-2},{"$f":"(1-AMD!E$57)*Yard!N$112","v":1.4112440598320172E-2},{"$f":"(1-AMD!F$57)*Yard!O$112","v":2.4112898389421211E-2},{"$f":"(1-AMD!G$57)*Yard!P$112","v":0},{"$f":"(1-AMD!H$57)*Yard!Q$112","v":0.12307294967231114},{"$f":"(1-AMD!I$57)*Yard!R$112","v":7.7175865036327979E-2},{"$f":"(1-AMD!J$57)*Yard!S$112","v":0.10734965329225092},1.0298528392892645]
[]
["3006. Unit rate 3 (taking account of standing charges)"]
["Data sources:"]
["x1 = 2602. Standing charges factors adapted to use 132kV/HV"]
["x2 = 2905. Contributions to pay-as-you-go unit rate 3 (p/kWh) (in Pay-as-you-go unit rate 3 p/kWh)"]
["x3 = Contributions to unit rate 3 p/kWh by network level (taking account of standing charges) (in Unit rate 3 (taking account of standing charges))"]
["Kind:","Calculation",null,null,null,null,null,null,null,null,null,null,null,null,null,null,null,null,null,"Cell summation"]
["Formula:","=(1-x1)*x2",null,null,null,null,null,null,null,null,null,null,null,null,null,null,null,null,null,"=SUM(x3)"]
[]
[null,"Contributions to unit rate 3 p/kWh by network level (taking account of standing charges)"]
[null,"GSPs","Assets\n132kV","Assets\n132kV/EHV","Assets\nEHV","Assets\nEHV/HV","Assets\n132kV/HV","Assets\nHV","Assets\nHV/LV","Assets\nLV circuits","Transmission\nexit","Operating\n132kV","Operating\n132kV/EHV","Operating\nEHV","Operating\nEHV/HV","Operating\n132kV/HV","Operating\nHV","Operating\nHV/LV","Operating\nLV circuits","Unit rate 3 total p/kWh (taking account of standing charges)"]
["LV HH Metered",{"$f":"(1-AMD!B$49)*Yard!B$127","v":0},{"$f":"(1-AMD!C$49)*Yard!C$127","v":6.9178945542626271E-3},{"$f":"(1-AMD!D$49)*Yard!D$127","v":1.0788429236462699E-3},{"$f":"(1-AMD!E$49)*Yard!E$127","v":3.2286812111992171E-3},{"$f":"(1-AMD!F$49)*Yard!F$127","v":5.5166122000716916E-3},{"$f":"(1-AMD!G$49)*Yard!G$127","v":0},{"$f":"(1-AMD!H$49)*Yard!H$127","v":1.3811555187933727E-2},{"$f":"(1-AMD!I$49)*Yard!I$127","v":0},{"$f":"(1-AMD!J$49)*Yard!J$127","v":0},{"$f":"(1-AMD!B$49)*Yard!K$127","v":5.4220599371642016E-4},{"$f":"(1-AMD!C$49)*Yard!L$127","v":3.5345376573216896E-3},{"$f":"(1-AMD!D$49)*Yard!M$127","v":5.5120975176083998E-4},{"$f":"(1-AMD!E$49)*Yard!N$127","v":1.649619726776397E-3},{"$f":"(1-AMD!F$49)*Yard!O$127","v":2.8185849623826773E-3},{"$f":"(1-AMD!G$49)*Yard!P$127","v":0},{"$f":"(1-AMD!H$49)*Yard!Q$127","v":1.1508913101036224E-2},{"$f":"(1-AMD!I$49)*Yard!R$127","v":0},{"$f":"(1-AMD!J$49)*Yard!S$127","v":0},{"$f":"SUM($B131:$S131)","v":5.1158657270107773E-2}]
["LV Sub HH Metered",{"$f":"(1-AMD!B$50)*Yard!B$128","v":0},{"$f":"(1-AMD!C$50)*Yard!C$128","v":6.9731987905238858E-3},{"$f":"(1-AMD!D$50)*Yard!D$128","v":1.0874675974498562E-3},{"$f":"(1-AMD!E$50)*Yard!E$128","v":3.2544924962825419E-3},{"$f":"(1-AMD!F$50)*Yard!F$128","v":5.5607140611338155E-3},{"$f":"(1-AMD!G$50)*Yard!G$128","v":0},{"$f":"(1-AMD!H$50)*Yard!H$128","v":0},{"$f":"(1-AMD!I$50)*Yard!I$128","v":0},{"$f":"(1-AMD!J$50)*Yard!J$128","v":0},{"$f":"(1-AMD!B$50)*Yard!K$128","v":5.4654059120754373E-4},{"$f":"(1-AMD!C$50)*Yard!L$128","v":3.5627940732212925E-3},{"$f":"(1-AMD!D$50)*Yard!M$128","v":5.5561632866104845E-4},{"$f":"(1-AMD!E$50)*Yard!N$128","v":1.6628074038066371E-3},{"$f":"(1-AMD!F$50)*Yard!O$128","v":2.8411177846827786E-3},{"$f":"(1-AMD!G$50)*Yard!P$128","v":0},{"$f":"(1-AMD!H$50)*Yard!Q$128","v":0},{"$f":"(1-AMD!I$50)*Yard!R$128","v":0},{"$f":"(1-AMD!J$50)*Yard!S$128","v":0},{"$f":"SUM($B132:$S132)","v":2.6044749126969396E-2}]
["HV HH Metered",{"$f":"(1-AMD!B$51)*Yard!B$129","v":0},{"$f":"(1-AMD!C$51)*Yard!C$129","v":6.082600782059318E-3},{"$f":"(1-AMD!D$51)*Yard!D$129","v":9.4857918975456521E-4},{"$f":"(1-AMD!E$51)*Yard!E$129","v":2.2710700437791058E-3},{"$f":"(1-AMD!F$51)*Yard!F$129","v":0},{"$f":"(1-AMD!G$51)*Yard!G$129","v":0},{"$f":"(1-AMD!H$51)*Yard!H$129","v":0},{"$f":"(1-AMD!I$51)*Yard!I$129","v":0},{"$f":"(1-AMD!J$51)*Yard!J$129","v":0},{"$f":"(1-AMD!B$51)*Yard!K$129","v":4.7673791144801279E-4},{"$f":"(1-AMD!C$51)*Yard!L$129","v":3.1077636916850351E-3},{"$f":"(1-AMD!D$51)*Yard!M$129","v":4.8465452036607092E-4},{"$f":"(1-AMD!E$51)*Yard!N$129","v":1.1603505270554215E-3},{"$f":"(1-AMD!F$51)*Yard!O$129","v":0},{"$f":"(1-AMD!G$51)*Yard!P$129","v":0},{"$f":"(1-AMD!H$51)*Yard!Q$129","v":0},{"$f":"(1-AMD!I$51)*Yard!R$129","v":0},{"$f":"(1-AMD!J$51)*Yard!S$129","v":0},{"$f":"SUM($B133:$S133)","v":1.4531756666147528E-2}]
["HV Sub HH Metered",{"$f":"(1-AMD!B$52)*Yard!B$130","v":0},{"$f":"(1-AMD!C$52)*Yard!C$130","v":5.5416687562096978E-3},{"$f":"(1-AMD!D$52)*Yard!D$130","v":8.6422105395414061E-4},{"$f":"(1-AMD!E$52)*Yard!E$130","v":0},{"$f":"(1-AMD!F$52)*Yard!F$130","v":0},{"$f":"(1-AMD!G$52)*Yard!G$130","v":0},{"$f":"(1-AMD!H$52)*Yard!H$130","v":0},{"$f":"(1-AMD!I$52)*Yard!I$130","v":0},{"$f":"(1-AMD!J$52)*Yard!J$130","v":0},{"$f":"(1-AMD!B$52)*Yard!K$130","v":4.3434111220392663E-4},{"$f":"(1-AMD!C$52)*Yard!L$130","v":2.8313870281756587E-3},{"$f":"(1-AMD!D$52)*Yard!M$130","v":4.4155368884149466E-4},{"$f":"(1-AMD!E$52)*Yard!N$130","v":0},{"$f":"(1-AMD!F$52)*Yard!O$130","v":0},{"$f":"(1-AMD!G$52)*Yard!P$130","v":0},{"$f":"(1-AMD!H$52)*Yard!Q$130","v":0},{"$f":"(1-AMD!I$52)*Yard!R$130","v":0},{"$f":"(1-AMD!J$52)*Yard!S$130","v":0},{"$f":"SUM($B134:$S134)","v":1.0113171639384919E-2}]
["LV UMS (Pseudo HH Metered)",{"$f":"(1-AMD!B$57)*Yard!B$135","v":0},{"$f":"(1-AMD!C$57)*Yard!C$135","v":7.01558267507675E-3},{"$f":"(1-AMD!D$57)*Yard!D$135","v":1.0940773475071653E-3},{"$f":"(1-AMD!E$57)*Yard!E$135","v":3.2742736667875395E-3},{"$f":"(1-AMD!F$57)*Yard!F$135","v":5.5945127050386553E-3},{"$f":"(1-AMD!G$57)*Yard!G$135","v":0},{"$f":"(1-AMD!H$57)*Yard!H$135","v":1.7508236525632895E-2},{"$f":"(1-AMD!I$57)*Yard!I$135","v":6.4237462290189333E-3},{"$f":"(1-AMD!J$57)*Yard!J$135","v":2.5990773559315186E-3},{"$f":"(1-AMD!B$57)*Yard!K$135","v":5.498625262357939E-4},{"$f":"(1-AMD!C$57)*Yard!L$135","v":3.5844491352984326E-3},{"$f":"(1-AMD!D$57)*Yard!M$135","v":5.5899342703972317E-4},{"$f":"(1-AMD!E$57)*Yard!N$135","v":1.6729141337527792E-3},{"$f":"(1-AMD!F$57)*Yard!O$135","v":2.8583864173152983E-3},{"$f":"(1-AMD!G$57)*Yard!P$135","v":0},{"$f":"(1-AMD!H$57)*Yard!Q$135","v":1.4589289184605052E-2},{"$f":"(1-AMD!I$57)*Yard!R$135","v":9.1485660828388524E-3},{"$f":"(1-AMD!J$57)*Yard!S$135","v":1.2725421304337932E-2},{"$f":"SUM($B135:$S135)","v":8.9197388716417331E-2}]

{"sheet":"NHH","index":34,"n_rows":94,"n_cols":19,"rows_kept":94,"cut":false,"hidden":true,"merged":[]}
[{"$f":"\"r6140: Standing charges as fixed charges\"&\" for \"&Input!B7&\" in \"&Input!C7&\" (\"&Input!D7&\")\"","v":"r6140: Standing charges as fixed charges for WPD Mid West in April 2017 (0)"}]
["This sheet allocates standing charges to fixed charges for non half hourly settled demand users."]
[]
["3101. Average maximum kVA/MPAN by end user class, for user classes without an agreed import capacity"]
["Data sources:"]
["x1 = 2305. MPANs (in Equivalent volume for each end user)"]
["x2 = 2407. All units (MWh)"]
["x3 = 1010. Power factor for all flows in the network model (in Financial and general assumptions)"]
["x4 = 1041. Load factor for each type of demand user (in Load profile data for demand users)"]
["x5 = 1010. Days in the charging year (in Financial and general assumptions)"]
["Calculation =IF(x1>0,x2/x1/x3/x4/(24*x5)*1000,0)"]
[]
[null,"Average maximum kVA/MPAN"]
["Domestic Unrestricted",{"$f":"IF(Loads!E$298>0,Multi!B$115/Loads!E$298/Input!E$14/Input!C$117/(24*Input!F$14)*1000,0)","v":1.0059867713454553}]
["Domestic Two Rate",{"$f":"IF(Loads!E$299>0,Multi!B$116/Loads!E$299/Input!E$14/Input!C$118/(24*Input!F$14)*1000,0)","v":2.484117924072768}]
["Small Non Domestic Unrestricted",{"$f":"IF(Loads!E$301>0,Multi!B$118/Loads!E$301/Input!E$14/Input!C$120/(24*Input!F$14)*1000,0)","v":3.949383886218707}]
["Small Non Domestic Two Rate",{"$f":"IF(Loads!E$302>0,Multi!B$119/Loads!E$302/Input!E$14/Input!C$121/(24*Input!F$14)*1000,0)","v":5.5061982936214457}]
["LV Medium Non-Domestic",{"$f":"IF(Loads!E$304>0,Multi!B$121/Loads!E$304/Input!E$14/Input!C$123/(24*Input!F$14)*1000,0)","v":20.603421624946481}]
["LV Sub Medium Non-Domestic",{"$f":"IF(Loads!E$305>0,Multi!B$122/Loads!E$305/Input!E$14/Input!C$124/(24*Input!F$14)*1000,0)","v":8.8836531911950125}]
["HV Medium Non-Domestic",{"$f":"IF(Loads!E$306>0,Multi!B$123/Loads!E$306/Input!E$14/Input!C$125/(24*Input!F$14)*1000,0)","v":45.711794484042407}]
[]
["3102. Capacity-driven fixed charge elements from standing charges factors p/MPAN/day"]
["Data sources:"]
["x1 = 3002. Capacity elements p/kVA/day"]
["x2 = 3101. Average maximum kVA/MPAN by end user class, for user classes without an agreed import capacity"]
["Calculation =x1*x2"]
[]
[null,"GSPs","Assets\n132kV","Assets\n132kV/EHV","Assets\nEHV","Assets\nEHV/HV","Assets\n132kV/HV","Assets\nHV","Assets\nHV/LV","Assets\nLV circuits","Transmission\nexit","Operating\n132kV","Operating\n132kV/EHV","Operating\nEHV","Operating\nEHV/HV","Operating\n132kV/HV","Operating\nHV","Operating\nHV/LV","Operating\nLV circuits"]
["Domestic Unrestricted",{"$f":"Standing!B$25*$B14","v":0},{"$f":"Standing!C$25*$B14","v":0},{"$f":"Standing!D$25*$B14","v":0},{"$f":"Standing!E$25*$B14","v":0},{"$f":"Standing!F$25*$B14","v":0},{"$f":"Standing!G$25*$B14","v":0},{"$f":"Standing!H$25*$B14","v":0},{"$f":"Standing!I$25*$B14","v":0},{"$f":"Standing!J$25*$B14","v":0.26008907418637495},{"$f":"Standing!K$25*$B14","v":0},{"$f":"Standing!L$25*$B14","v":0},{"$f":"Standing!M$25*$B14","v":0},{"$f":"Standing!N$25*$B14","v":0},{"$f":"Standing!O$25*$B14","v":0},{"$f":"Standing!P$25*$B14","v":0},{"$f":"Standing!Q$25*$B14","v":0},{"$f":"Standing!R$25*$B14","v":0},{"$f":"Standing!S$25*$B14","v":1.273429987808347}]
["Domestic Two Rate",{"$f":"Standing!B$26*$B15","v":0},{"$f":"Standing!C$26*$B15","v":0},{"$f":"Standing!D$26*$B15","v":0},{"$f":"Standing!E$26*$B15","v":0},{"$f":"Standing!F$26*$B15","v":0},{"$f":"Standing!G$26*$B15","v":0},{"$f":"Standing!H$26*$B15","v":0},{"$f":"Standing!I$26*$B15","v":0},{"$f":"Standing!J$26*$B15","v":0.64224694543224592},{"$f":"Standing!K$26*$B15","v":0},{"$f":"Standing!L$26*$B15","v":0},{"$f":"Standing!M$26*$B15","v":0},{"$f":"Standing!N$26*$B15","v":0},{"$f":"Standing!O$26*$B15","v":0},{"$f":"Standing!P$26*$B15","v":0},{"$f":"Standing!Q$26*$B15","v":0},{"$f":"Standing!R$26*$B15","v":0},{"$f":"Standing!S$26*$B15","v":3.1445247073534217}]
["Small Non Domestic Unrestricted",{"$f":"Standing!B$28*$B16","v":0},{"$f":"Standing!C$28*$B16","v":0},{"$f":"Standing!D$28*$B16","v":0},{"$f":"Standing!E$28*$B16","v":0},{"$f":"Standing!F$28*$B16","v":0},{"$f":"Standing!G$28*$B16","v":0},{"$f":"Standing!H$28*$B16","v":0},{"$f":"Standing!I$28*$B16","v":0},{"$f":"Standing!J$28*$B16","v":1.0210786342641418},{"$f":"Standing!K$28*$B16","v":0},{"$f":"Standing!L$28*$B16","v":0},{"$f":"Standing!M$28*$B16","v":0},{"$f":"Standing!N$28*$B16","v":0},{"$f":"Standing!O$28*$B16","v":0},{"$f":"Standing!P$28*$B16","v":0},{"$f":"Standing!Q$28*$B16","v":0},{"$f":"Standing!R$28*$B16","v":0},{"$f":"Standing!S$28*$B16","v":4.9993340045133889}]
["Small Non Domestic Two Rate",{"$f":"Standing!B$29*$B17","v":0},{"$f":"Standing!C$29*$B17","v":0},{"$f":"Standing!D$29*$B17","v":0},{"$f":"Standing!E$29*$B17","v":0},{"$f":"Standing!F$29*$B17","v":0},{"$f":"Standing!G$29*$B17","v":0},{"$f":"Standing!H$29*$B17","v":0},{"$f":"Standing!I$29*$B17","v":0},{"$f":"Standing!J$29*$B17","v":1.4235793722806482},{"$f":"Standing!K$29*$B17","v":0},{"$f":"Standing!L$29*$B17","v":0},{"$f":"Standing!M$29*$B17","v":0},{"$f":"Standing!N$29*$B17","v":0},{"$f":"Standing!O$29*$B17","v":0},{"$f":"Standing!P$29*$B17","v":0},{"$f":"Standing!Q$29*$B17","v":0},{"$f":"Standing!R$29*$B17","v":0},{"$f":"Standing!S$29*$B17","v":6.9700300497379652}]
["LV Medium Non-Domestic",{"$f":"Standing!B$31*$B18","v":0},{"$f":"Standing!C$31*$B18","v":0},{"$f":"Standing!D$31*$B18","v":0},{"$f":"Standing!E$31*$B18","v":0},{"$f":"Standing!F$31*$B18","v":0},{"$f":"Standing!G$31*$B18","v":0},{"$f":"Standing!H$31*$B18","v":0},{"$f":"Standing!I$31*$B18","v":0},{"$f":"Standing!J$31*$B18","v":5.3268343164561198},{"$f":"Standing!K$31*$B18","v":0},{"$f":"Standing!L$31*$B18","v":0},{"$f":"Standing!M$31*$B18","v":0},{"$f":"Standing!N$31*$B18","v":0},{"$f":"Standing!O$31*$B18","v":0},{"$f":"Standing!P$31*$B18","v":0},{"$f":"Standing!Q$31*$B18","v":0},{"$f":"Standing!R$31*$B18","v":0},{"$f":"Standing!S$31*$B18","v":26.080874715256126}]
["LV Sub Medium Non-Domestic",{"$f":"Standing!B$32*$B19","v":0},{"$f":"Standing!C$32*$B19","v":0},{"$f":"Standing!D$32*$B19","v":0},{"$f":"Standing!E$32*$B19","v":0},{"$f":"Standing!F$32*$B19","v":0},{"$f":"Standing!G$32*$B19","v":0},{"$f":"Standing!H$32*$B19","v":0},{"$f":"Standing!I$32*$B19","v":5.6361289526004708},{"$f":"Standing!J$32*$B19","v":0},{"$f":"Standing!K$32*$B19","v":0},{"$f":"Standing!L$32*$B19","v":0},{"$f":"Standing!M$32*$B19","v":0},{"$f":"Standing!N$32*$B19","v":0},{"$f":"Standing!O$32*$B19","v":0},{"$f":"Standing!P$32*$B19","v":0},{"$f":"Standing!Q$32*$B19","v":0},{"$f":"Standing!R$32*$B19","v":8.0268579012875509},{"$f":"Standing!S$32*$B19","v":0}]
["HV Medium Non-Domestic",{"$f":"Standing!B$33*$B20","v":0},{"$f":"Standing!C$33*$B20","v":0},{"$f":"Standing!D$33*$B20","v":0},{"$f":"Standing!E$33*$B20","v":3.9352902721073564},{"$f":"Standing!F$33*$B20","v":24.957897852197053},{"$f":"Standing!G$33*$B20","v":0},{"$f":"Standing!H$33*$B20","v":62.071391799723827},{"$f":"Standing!I$33*$B20","v":0},{"$f":"Standing!J$33*$B20","v":0},{"$f":"Standing!K$33*$B20","v":0},{"$f":"Standing!L$33*$B20","v":0},{"$f":"Standing!M$33*$B20","v":0},{"$f":"Standing!N$33*$B20","v":2.0106452259646743},{"$f":"Standing!O$33*$B20","v":17.177214562246583},{"$f":"Standing!P$33*$B20","v":0},{"$f":"Standing!Q$33*$B20","v":65.427621931673016},{"$f":"Standing!R$33*$B20","v":0},{"$f":"Standing!S$33*$B20","v":0}]
[]
["3103. Statistics for tariffs charged for LV circuits on an exit point basis"]
["Data sources:"]
["x1 = 2012. Loss adjustment factors between end user meter reading and each network level, scaled by network use"]
["x2 = 2407. All units (MWh)"]
["x3 = 1041. Load factor for each type of demand user (in Load profile data for demand users)"]
["x4 = 1010. Days in the charging year (in Financial and general assumptions)"]
["x5 = Zero for related MPANs"]
["x6 = 2305. MPANs (in Equivalent volume for each end user)"]
["Kind:","Copy cells","Calculation","Combine tables"]
["Formula:","= x1","=x2/x3/(24*x4)*1000","= x5 or x6"]
[]
[null,"Use of LV circuits by each tariff charged on an exit point basis","Unit-based contributions to aggregate maximum load by network level (kW)","Relevant MPAN count"]
["Domestic Unrestricted",{"$f":"LAFs!$J$241","v":1},{"$f":"Multi!B$115/Input!C$117/(24*Input!F$14)*1000","v":1919964.2929098322},{"$f":"Loads!E$298","v":2008987.6952012419}]
["Domestic Two Rate",{"$f":"LAFs!$J$242","v":1},{"$f":"Multi!B$116/Input!C$118/(24*Input!F$14)*1000","v":773226.42525350337},{"$f":"Loads!E$299","v":327650.52939354029}]
["Small Non Domestic Unrestricted",{"$f":"LAFs!$J$244","v":1},{"$f":"Multi!B$118/Input!C$120/(24*Input!F$14)*1000","v":519988.84986713156},{"$f":"Loads!E$301","v":138592.9298948767}]
["Small Non Domestic Two Rate",{"$f":"LAFs!$J$245","v":1},{"$f":"Multi!B$119/Input!C$121/(24*Input!F$14)*1000","v":175277.48277334648},{"$f":"Loads!E$302","v":33508.167270212827}]
[]
["3104. Aggregate data for tariffs charged for LV circuits on an exit point basis"]
["Data sources:"]
["x1 = 3103. Use of LV circuits by each tariff charged on an exit point basis (in Statistics for tariffs charged for LV circuits on an exit point basis)"]
["x2 = 3103. Unit-based contributions to aggregate maximum load by network level (kW) (in Statistics for tariffs charged for LV circuits on an exit point basis)"]
["x3 = 3103. Relevant MPAN count (in Statistics for tariffs charged for LV circuits on an exit point basis)"]
["x4 = Aggregate capacity of tariffs charged charged for LV circuits on an exit point basis (kW) (in Aggregate data for tariffs charged for LV circuits on an exit point basis)"]
["x5 = Aggregate number of users charged for LV circuits on an exit point basis (in Aggregate data for tariffs charged for LV circuits on an exit point basis)"]
["x6 = 1010. Power factor for all flows in the network model (in Financial and general assumptions)"]
["Kind:","Sum-product calculation","Sum-product calculation","Calculation"]
["Formula:","=SUMPRODUCT(x1, x2)","=SUMPRODUCT(x1, x3)","=x4/x5/x6"]
[]
[null,"Aggregate capacity of tariffs charged charged for LV circuits on an exit point basis (kW)","Aggregate number of users charged for LV circuits on an exit point basis","Average maximum kVA of tariffs charged on an exit point basis for LV circuits"]
["Aggregate data for tariffs charged for LV circuits on an exit point basis",{"$f":"SUMPRODUCT(B$49:B$52,$C$49:$C$52)","v":3388457.0508038136},{"$f":"SUMPRODUCT(B$49:B$52,$D$49:$D$52)","v":2508739.3217598717},{"$f":"$B66/$C66/Input!E14","v":1.421748710456241}]
[]
["3105. LV fixed charge elements from standing charges factors p/MPAN/day"]
["Data sources:"]
["x1 = 3002. Capacity elements p/kVA/day"]
["x2 = 3104. Average maximum kVA of tariffs charged on an exit point basis for LV circuits (in Aggregate data for tariffs charged for LV circuits on an exit point basis)"]
["Calculation =x1*x2"]
[]
[null,"Assets\nLV circuits","Operating\nLV circuits"]
["Domestic Unrestricted",{"$f":"Standing!$J$25*$D$66","v":0.36758068432020513},{"$f":"Standing!$S$25*$D$66","v":1.7997229134547936}]
["Domestic Two Rate",{"$f":"Standing!$J$26*$D$66","v":0.36758068432020513},{"$f":"Standing!$S$26*$D$66","v":1.7997229134547936}]
["Small Non Domestic Unrestricted",{"$f":"Standing!$J$28*$D$66","v":0.36758068432020513},{"$f":"Standing!$S$28*$D$66","v":1.7997229134547936}]
["Small Non Domestic Two Rate",{"$f":"Standing!$J$29*$D$66","v":0.36758068432020513},{"$f":"Standing!$S$29*$D$66","v":1.7997229134547936}]
[]
["3106. Fixed charge elements from standing charges factors p/MPAN/day"]
["Data sources:"]
["x1 = Zero for related MPANs"]
["x2 = 3105. LV fixed charge elements from standing charges factors p/MPAN/day"]
["x3 = 3102. Capacity-driven fixed charge elements from standing charges factors p/MPAN/day"]
["Combine tables = x1 or x2 or x3"]
[]
[null,"GSPs","Assets\n132kV","Assets\n132kV/EHV","Assets\nEHV","Assets\nEHV/HV","Assets\n132kV/HV","Assets\nHV","Assets\nHV/LV","Assets\nLV circuits","Transmission\nexit","Operating\n132kV","Operating\n132kV/EHV","Operating\nEHV","Operating\nEHV/HV","Operating\n132kV/HV","Operating\nHV","Operating\nHV/LV","Operating\nLV circuits"]
["Domestic Unrestricted",{"$f":"B29","v":0},0,0,0,0,0,0,0,{"$f":"$B$75","v":0.36758068432020513},{"$f":"K29","v":0},0,0,0,0,0,0,0,{"$f":"$C$75","v":1.7997229134547936}]
["Domestic Two Rate",0,0,0,0,0,0,0,0,{"$f":"$B$76","v":0.36758068432020513},0,0,0,0,0,0,0,0,{"$f":"$C$76","v":1.7997229134547936}]
["Small Non Domestic Unrestricted",0,0,0,0,0,0,0,0,{"$f":"$B$77","v":0.36758068432020513},0,0,0,0,0,0,0,0,{"$f":"$C$77","v":1.7997229134547936}]
["Small Non Domestic Two Rate",0,0,0,0,0,0,0,0,{"$f":"$B$78","v":0.36758068432020513},0,0,0,0,0,0,0,0,{"$f":"$C$78","v":1.7997229134547936}]
["LV Medium Non-Domestic",0,0,0,0,0,0,0,0,{"$f":"J33","v":5.3268343164561198},0,0,0,0,0,0,0,0,{"$f":"S33","v":26.080874715256126}]
["LV Sub Medium Non-Domestic",0,0,0,0,0,0,0,5.6361289526004708,{"$f":"J34","v":0},0,0,0,0,0,0,0,8.0268579012875509,{"$f":"S34","v":0}]
["HV Medium Non-Domestic",0,0,0,3.9352902721073564,24.957897852197053,0,62.071391799723827,0,{"$f":"J35","v":0},0,0,0,2.0106452259646743,17.177214562246583,0,65.427621931673016,0,{"$f":"S35","v":0}]

{"sheet":"Reactive","index":35,"n_rows":92,"n_cols":19,"rows_kept":92,"cut":false,"hidden":true,"merged":[]}
[{"$f":"\"r6140: Reactive power unit charges\"&\" for \"&Input!B7&\" in \"&Input!C7&\" (\"&Input!D7&\")\"","v":"r6140: Reactive power unit charges for WPD Mid West in April 2017 (0)"}]
[]
["3201. Standard components p/kWh for reactive power (absolute value)"]
["Data sources:"]
["x1 = 3003. Yardstick components p/kWh (taking account of standing charges) (in Yardstick unit rate p/kWh (taking account of standing charges))"]
["Calculation =ABS(x1)"]
[]
[null,"GSPs","Assets\n132kV","Assets\n132kV/EHV","Assets\nEHV","Assets\nEHV/HV","Assets\n132kV/HV","Assets\nHV","Assets\nHV/LV","Assets\nLV circuits","Transmission\nexit","Operating\n132kV","Operating\n132kV/EHV","Operating\nEHV","Operating\nEHV/HV","Operating\n132kV/HV","Operating\nHV","Operating\nHV/LV","Operating\nLV circuits"]
["LV HH Metered",{"$f":"ABS(Standing!B$63)","v":0},{"$f":"ABS(Standing!C$63)","v":0.17698108725665626},{"$f":"ABS(Standing!D$63)","v":2.7600130662358464E-2},{"$f":"ABS(Standing!E$63)","v":3.1789420678786436E-2},{"$f":"ABS(Standing!F$63)","v":5.431626552088975E-2},{"$f":"ABS(Standing!G$63)","v":0},{"$f":"ABS(Standing!H$63)","v":0.13598782579541865},{"$f":"ABS(Standing!I$63)","v":0},{"$f":"ABS(Standing!J$63)","v":0},{"$f":"ABS(Standing!K$63)","v":5.7723874566311693E-2},{"$f":"ABS(Standing!L$63)","v":9.0424378781105014E-2},{"$f":"ABS(Standing!M$63)","v":1.4101646159523347E-2},{"$f":"ABS(Standing!N$63)","v":1.6242066659483499E-2},{"$f":"ABS(Standing!O$63)","v":2.7751635180731923E-2},{"$f":"ABS(Standing!P$63)","v":0},{"$f":"ABS(Standing!Q$63)","v":0.11331613627737075},{"$f":"ABS(Standing!R$63)","v":0},{"$f":"ABS(Standing!S$63)","v":0}]
["LV Sub HH Metered",{"$f":"ABS(Standing!B$64)","v":0},{"$f":"ABS(Standing!C$64)","v":0.1727085633303117},{"$f":"ABS(Standing!D$64)","v":2.6933832243397172E-2},{"$f":"ABS(Standing!E$64)","v":3.1021988053300413E-2},{"$f":"ABS(Standing!F$64)","v":5.3005009343040956E-2},{"$f":"ABS(Standing!G$64)","v":0},{"$f":"ABS(Standing!H$64)","v":0},{"$f":"ABS(Standing!I$64)","v":0},{"$f":"ABS(Standing!J$64)","v":0},{"$f":"ABS(Standing!K$64)","v":5.6330354846047898E-2},{"$f":"ABS(Standing!L$64)","v":8.8241431846742213E-2},{"$f":"ABS(Standing!M$64)","v":1.3761216447222877E-2},{"$f":"ABS(Standing!N$64)","v":1.5849964771696527E-2},{"$f":"ABS(Standing!O$64)","v":2.7081679271076364E-2},{"$f":"ABS(Standing!P$64)","v":0},{"$f":"ABS(Standing!Q$64)","v":0},{"$f":"ABS(Standing!R$64)","v":0},{"$f":"ABS(Standing!S$64)","v":0}]
["HV HH Metered",{"$f":"ABS(Standing!B$65)","v":0},{"$f":"ABS(Standing!C$65)","v":0.14030811321824516},{"$f":"ABS(Standing!D$65)","v":2.1880994844362428E-2},{"$f":"ABS(Standing!E$65)","v":2.0161763970963913E-2},{"$f":"ABS(Standing!F$65)","v":0},{"$f":"ABS(Standing!G$65)","v":0},{"$f":"ABS(Standing!H$65)","v":0},{"$f":"ABS(Standing!I$65)","v":0},{"$f":"ABS(Standing!J$65)","v":0},{"$f":"ABS(Standing!K$65)","v":4.5762674721850735E-2},{"$f":"ABS(Standing!L$65)","v":7.1687173880392113E-2},{"$f":"ABS(Standing!M$65)","v":1.1179586455160167E-2},{"$f":"ABS(Standing!N$65)","v":1.0301185343956062E-2},{"$f":"ABS(Standing!O$65)","v":0},{"$f":"ABS(Standing!P$65)","v":0},{"$f":"ABS(Standing!Q$65)","v":0},{"$f":"ABS(Standing!R$65)","v":0},{"$f":"ABS(Standing!S$65)","v":0}]
["HV Sub HH Metered",{"$f":"ABS(Standing!B$66)","v":0},{"$f":"ABS(Standing!C$66)","v":0.13802340256239248},{"$f":"ABS(Standing!D$66)","v":2.1524695119885258E-2},{"$f":"ABS(Standing!E$66)","v":0},{"$f":"ABS(Standing!F$66)","v":0},{"$f":"ABS(Standing!G$66)","v":0},{"$f":"ABS(Standing!H$66)","v":0},{"$f":"ABS(Standing!I$66)","v":0},{"$f":"ABS(Standing!J$66)","v":0},{"$f":"ABS(Standing!K$66)","v":4.5017497068334002E-2},{"$f":"ABS(Standing!L$66)","v":7.0519853999197982E-2},{"$f":"ABS(Standing!M$66)","v":1.0997543380698745E-2},{"$f":"ABS(Standing!N$66)","v":0},{"$f":"ABS(Standing!O$66)","v":0},{"$f":"ABS(Standing!P$66)","v":0},{"$f":"ABS(Standing!Q$66)","v":0},{"$f":"ABS(Standing!R$66)","v":0},{"$f":"ABS(Standing!S$66)","v":0}]
[]
["3202. Standard reactive p/kVArh"]
["Data sources:"]
["x1 = 3201. Standard components p/kWh for reactive power (absolute value)"]
["x2 = 1092. Average kVAr by kVA, by network level"]
["x3 = 1010. Power factor for all flows in the network model (in Financial and general assumptions)"]
["Calculation =x1*x2*x3"]
[]
[null,"GSPs","Assets\n132kV","Assets\n132kV/EHV","Assets\nEHV","Assets\nEHV/HV","Assets\n132kV/HV","Assets\nHV","Assets\nHV/LV","Assets\nLV circuits","Transmission\nexit","Operating\n132kV","Operating\n132kV/EHV","Operating\nEHV","Operating\nEHV/HV","Operating\n132kV/HV","Operating\nHV","Operating\nHV/LV","Operating\nLV circuits"]
["LV HH Metered",{"$f":"B9*Input!B$328*Input!$E$14","v":0},{"$f":"C9*Input!C$328*Input!$E$14","v":4.7255545987146694E-2},{"$f":"D9*Input!D$328*Input!$E$14","v":7.3694837340156794E-3},{"$f":"E9*Input!E$328*Input!$E$14","v":8.4880619397067567E-3},{"$f":"F9*Input!F$328*Input!$E$14","v":1.4502932618162797E-2},{"$f":"G9*Input!G$328*Input!$E$14","v":0},{"$f":"H9*Input!H$328*Input!$E$14","v":3.6309975575233737E-2},{"$f":"I9*Input!I$328*Input!$E$14","v":0},{"$f":"J9*Input!J$328*Input!$E$14","v":0},{"$f":"K9*Input!B$328*Input!$E$14","v":1.5412794956835356E-2},{"$f":"L9*Input!C$328*Input!$E$14","v":2.4144124415129958E-2},{"$f":"M9*Input!D$328*Input!$E$14","v":3.7652666672764123E-3},{"$f":"N9*Input!E$328*Input!$E$14","v":4.3367782391372884E-3},{"$f":"O9*Input!F$328*Input!$E$14","v":7.409936806410217E-3},{"$f":"P9*Input!G$328*Input!$E$14","v":0},{"$f":"Q9*Input!H$328*Input!$E$14","v":3.025643006235787E-2},{"$f":"R9*Input!I$328*Input!$E$14","v":0},{"$f":"S9*Input!J$328*Input!$E$14","v":0}]
["LV Sub HH Metered",{"$f":"B10*Input!B$328*Input!$E$14","v":0},{"$f":"C10*Input!C$328*Input!$E$14","v":4.6114743577057721E-2},{"$f":"D10*Input!D$328*Input!$E$14","v":7.19157604870054E-3},{"$f":"E10*Input!E$328*Input!$E$14","v":8.283150509407429E-3},{"$f":"F10*Input!F$328*Input!$E$14","v":1.4152815396183002E-2},{"$f":"G10*Input!G$328*Input!$E$14","v":0},{"$f":"H10*Input!H$328*Input!$E$14","v":0},{"$f":"I10*Input!I$328*Input!$E$14","v":0},{"$f":"J10*Input!J$328*Input!$E$14","v":0},{"$f":"K10*Input!B$328*Input!$E$14","v":1.5040712627329582E-2},{"$f":"L10*Input!C$328*Input!$E$14","v":2.3561257901858482E-2},{"$f":"M10*Input!D$328*Input!$E$14","v":3.674368864723779E-3},{"$f":"N10*Input!E$328*Input!$E$14","v":4.2320834998452097E-3},{"$f":"O10*Input!F$328*Input!$E$14","v":7.2310525381031904E-3},{"$f":"P10*Input!G$328*Input!$E$14","v":0},{"$f":"Q10*Input!H$328*Input!$E$14","v":0},{"$f":"R10*Input!I$328*Input!$E$14","v":0},{"$f":"S10*Input!J$328*Input!$E$14","v":0}]
["HV HH Metered",{"$f":"B11*Input!B$328*Input!$E$14","v":0},{"$f":"C11*Input!C$328*Input!$E$14","v":3.7463531269526666E-2},{"$f":"D11*Input!D$328*Input!$E$14","v":5.8424229059729641E-3},{"$f":"E11*Input!E$328*Input!$E$14","v":5.3833727619166799E-3},{"$f":"F11*Input!F$328*Input!$E$14","v":0},{"$f":"G11*Input!G$328*Input!$E$14","v":0},{"$f":"H11*Input!H$328*Input!$E$14","v":0},{"$f":"I11*Input!I$328*Input!$E$14","v":0},{"$f":"J11*Input!J$328*Input!$E$14","v":0},{"$f":"K11*Input!B$328*Input!$E$14","v":1.221904675428487E-2},{"$f":"L11*Input!C$328*Input!$E$14","v":1.9141121769021354E-2},{"$f":"M11*Input!D$328*Input!$E$14","v":2.9850503804565946E-3},{"$f":"N11*Input!E$328*Input!$E$14","v":2.7505093639610305E-3},{"$f":"O11*Input!F$328*Input!$E$14","v":0},{"$f":"P11*Input!G$328*Input!$E$14","v":0},{"$f":"Q11*Input!H$328*Input!$E$14","v":0},{"$f":"R11*Input!I$328*Input!$E$14","v":0},{"$f":"S11*Input!J$328*Input!$E$14","v":0}]
["HV Sub HH Metered",{"$f":"B12*Input!B$328*Input!$E$14","v":0},{"$f":"C12*Input!C$328*Input!$E$14","v":3.6853492925099499E-2},{"$f":"D12*Input!D$328*Input!$E$14","v":5.7472876670825986E-3},{"$f":"E12*Input!E$328*Input!$E$14","v":0},{"$f":"F12*Input!F$328*Input!$E$14","v":0},{"$f":"G12*Input!G$328*Input!$E$14","v":0},{"$f":"H12*Input!H$328*Input!$E$14","v":0},{"$f":"I12*Input!I$328*Input!$E$14","v":0},{"$f":"J12*Input!J$328*Input!$E$14","v":0},{"$f":"K12*Input!B$328*Input!$E$14","v":1.2020077602155708E-2},{"$f":"L12*Input!C$328*Input!$E$14","v":1.8829436836000892E-2},{"$f":"M12*Input!D$328*Input!$E$14","v":2.9364432382460942E-3},{"$f":"N12*Input!E$328*Input!$E$14","v":0},{"$f":"O12*Input!F$328*Input!$E$14","v":0},{"$f":"P12*Input!G$328*Input!$E$14","v":0},{"$f":"Q12*Input!H$328*Input!$E$14","v":0},{"$f":"R12*Input!I$328*Input!$E$14","v":0},{"$f":"S12*Input!J$328*Input!$E$14","v":0}]
[]
["3203. Network use factors for generator reactive unit charges"]
["These factors differ from the network use factors for active power charges/credits in the case of generators,"]
["who do not qualify for active power credits at the voltage of connection but are charged reactive unit charges for costs caused at that voltage."]
[]
[null,"GSPs","132kV","132kV/EHV","EHV","EHV/HV","132kV/HV","HV","HV/LV","LV circuits"]
["LV Generation Intermittent",1,1,1,1,1,1,1,1,1]
["LV Generation Non-Intermittent",1,1,1,1,1,1,1,1,1]
["LV Sub Generation Intermittent",1,1,1,1,1,1,1,1,0]
["LV Sub Generation Non-Intermittent",1,1,1,1,1,1,1,1,0]
["HV Generation Intermittent",1,1,1,1,1,1,1,0,0]
["HV Generation Non-Intermittent",1,1,1,1,1,1,1,0,0]
["HV Sub Generation Intermittent",1,1,1,1,0,1,0,0,0]
["HV Sub Generation Non-Intermittent",1,1,1,1,0,1,0,0,0]
[]
["3204. Absolute value of load coefficient (kW peak / average kW)"]
["Data sources:"]
["x1 = 2302. Load coefficient"]
["Calculation =ABS(x1)"]
[]
[null,"Absolute load coefficient"]
["LV Generation Intermittent",{"$f":"ABS(Loads!B$65)","v":1}]
["LV Generation Non-Intermittent",{"$f":"ABS(Loads!B$66)","v":1}]
["LV Sub Generation Intermittent",{"$f":"ABS(Loads!B$67)","v":1}]
["LV Sub Generation Non-Intermittent",{"$f":"ABS(Loads!B$68)","v":1}]
["HV Generation Intermittent",{"$f":"ABS(Loads!B$69)","v":1}]
["HV Generation Non-Intermittent",{"$f":"ABS(Loads!B$70)","v":1}]
["HV Sub Generation Intermittent",{"$f":"ABS(Loads!B$71)","v":1}]
["HV Sub Generation Non-Intermittent",{"$f":"ABS(Loads!B$72)","v":1}]
[]
["3205. Pay-as-you-go components p/kWh for reactive power (absolute value)"]
["Data sources:"]
["x1 = 2901. Unit cost at each level, £/kW/year (relative to system simultaneous maximum load)"]
["x2 = 3204. Absolute value of load coefficient (kW peak / average kW)"]
["x3 = 2001. Loss adjustment factor to transmission (in Loss adjustment factors to transmission)"]
["x4 = 2004. Loss adjustment factor to transmission for each network level"]
["x5 = 2804. Proportion of annual charge covered by contributions (for all charging levels)"]
["x6 = 3203. Network use factors for generator reactive unit charges"]
["x7 = 1010. Days in the charging year (in Financial and general assumptions)"]
["Calculation =x1*x2*x3/x4*(1-x5)*x6/(24*x7)*100"]
[]
[null,"GSPs","Assets\n132kV","Assets\n132kV/EHV","Assets\nEHV","Assets\nEHV/HV","Assets\n132kV/HV","Assets\nHV","Assets\nHV/LV","Assets\nLV circuits","Transmission\nexit","Operating\n132kV","Operating\n132kV/EHV","Operating\nEHV","Operating\nEHV/HV","Operating\n132kV/HV","Operating\nHV","Operating\nHV/LV","Operating\nLV circuits"]
["LV Generation Intermittent",{"$f":"Yard!B$11*$B$47*LAFs!$I$34/LAFs!B$78*(1-Contrib!B$116)*B32/(24*Input!$F$14)*100","v":0},{"$f":"Yard!C$11*$B$47*LAFs!$I$34/LAFs!C$78*(1-Contrib!C$116)*C32/(24*Input!$F$14)*100","v":0.12061131267457495},{"$f":"Yard!D$11*$B$47*LAFs!$I$34/LAFs!D$78*(1-Contrib!D$116)*D32/(24*Input!$F$14)*100","v":1.8809286578454116E-2},{"$f":"Yard!E$11*$B$47*LAFs!$I$34/LAFs!E$78*(1-Contrib!E$116)*E32/(24*Input!$F$14)*100","v":2.1664256993022324E-2},{"$f":"Yard!F$11*$B$47*LAFs!$I$34/LAFs!F$78*(1-Contrib!F$116)*F32/(24*Input!$F$14)*100","v":3.7016136501381323E-2},{"$f":"Yard!G$11*$B$47*LAFs!$I$34/LAFs!G$78*(1-Contrib!G$116)*G32/(24*Input!$F$14)*100","v":0},{"$f":"Yard!H$11*$B$47*LAFs!$I$34/LAFs!H$78*(1-Contrib!H$116)*H32/(24*Input!$F$14)*100","v":0.11584338213185263},{"$f":"Yard!I$11*$B$47*LAFs!$I$34/LAFs!I$78*(1-Contrib!I$116)*I32/(24*Input!$F$14)*100","v":4.2502766514309918E-2},{"$f":"Yard!J$11*$B$47*LAFs!$I$34/LAFs!J$78*(1-Contrib!J$116)*J32/(24*Input!$F$14)*100","v":1.7196815389866126E-2},{"$f":"Yard!K$11*$B$47*LAFs!$I$34/LAFs!B$78*(1-Contrib!K$116)*B32/(24*Input!$F$14)*100","v":3.933839706843318E-2},{"$f":"Yard!L$11*$B$47*LAFs!$I$34/LAFs!C$78*(1-Contrib!L$116)*C32/(24*Input!$F$14)*100","v":6.1623550807753766E-2},{"$f":"Yard!M$11*$B$47*LAFs!$I$34/LAFs!D$78*(1-Contrib!M$116)*D32/(24*Input!$F$14)*100","v":9.610168411418896E-3},{"$f":"Yard!N$11*$B$47*LAFs!$I$34/LAFs!E$78*(1-Contrib!N$116)*E32/(24*Input!$F$14)*100","v":1.1068849280529982E-2},{"$f":"Yard!O$11*$B$47*LAFs!$I$34/LAFs!F$78*(1-Contrib!O$116)*F32/(24*Input!$F$14)*100","v":1.8912535796324785E-2},{"$f":"Yard!P$11*$B$47*LAFs!$I$34/LAFs!G$78*(1-Contrib!P$116)*G32/(24*Input!$F$14)*100","v":0},{"$f":"Yard!Q$11*$B$47*LAFs!$I$34/LAFs!H$78*(1-Contrib!Q$116)*H32/(24*Input!$F$14)*100","v":9.6530144516265862E-2},{"$f":"Yard!R$11*$B$47*LAFs!$I$34/LAFs!I$78*(1-Contrib!R$116)*I32/(24*Input!$F$14)*100","v":6.0531558112161009E-2},{"$f":"Yard!S$11*$B$47*LAFs!$I$34/LAFs!J$78*(1-Contrib!S$116)*J32/(24*Input!$F$14)*100","v":8.4197848297799902E-2}]
["LV Generation Non-Intermittent",{"$f":"Yard!B$11*$B$48*LAFs!$I$35/LAFs!B$78*(1-Contrib!B$117)*B33/(24*Input!$F$14)*100","v":0},{"$f":"Yard!C$11*$B$48*LAFs!$I$35/LAFs!C$78*(1-Contrib!C$117)*C33/(24*Input!$F$14)*100","v":0.12061131267457495},{"$f":"Yard!D$11*$B$48*LAFs!$I$35/LAFs!D$78*(1-Contrib!D$117)*D33/(24*Input!$F$14)*100","v":1.8809286578454116E-2},{"$f":"Yard!E$11*$B$48*LAFs!$I$35/LAFs!E$78*(1-Contrib!E$117)*E33/(24*Input!$F$14)*100","v":2.1664256993022324E-2},{"$f":"Yard!F$11*$B$48*LAFs!$I$35/LAFs!F$78*(1-Contrib!F$117)*F33/(24*Input!$F$14)*100","v":3.7016136501381323E-2},{"$f":"Yard!G$11*$B$48*LAFs!$I$35/LAFs!G$78*(1-Contrib!G$117)*G33/(24*Input!$F$14)*100","v":0},{"$f":"Yard!H$11*$B$48*LAFs!$I$35/LAFs!H$78*(1-Contrib!H$117)*H33/(24*Input!$F$14)*100","v":0.11584338213185263},{"$f":"Yard!I$11*$B$48*LAFs!$I$35/LAFs!I$78*(1-Contrib!I$117)*I33/(24*Input!$F$14)*100","v":4.2502766514309918E-2},{"$f":"Yard!J$11*$B$48*LAFs!$I$35/LAFs!J$78*(1-Contrib!J$117)*J33/(24*Input!$F$14)*100","v":1.7196815389866126E-2},{"$f":"Yard!K$11*$B$48*LAFs!$I$35/LAFs!B$78*(1-Contrib!K$117)*B33/(24*Input!$F$14)*100","v":3.933839706843318E-2},{"$f":"Yard!L$11*$B$48*LAFs!$I$35/LAFs!C$78*(1-Contrib!L$117)*C33/(24*Input!$F$14)*100","v":6.1623550807753766E-2},{"$f":"Yard!M$11*$B$48*LAFs!$I$35/LAFs!D$78*(1-Contrib!M$117)*D33/(24*Input!$F$14)*100","v":9.610168411418896E-3},{"$f":"Yard!N$11*$B$48*LAFs!$I$35/LAFs!E$78*(1-Contrib!N$117)*E33/(24*Input!$F$14)*100","v":1.1068849280529982E-2},{"$f":"Yard!O$11*$B$48*LAFs!$I$35/LAFs!F$78*(1-Contrib!O$117)*F33/(24*Input!$F$14)*100","v":1.8912535796324785E-2},{"$f":"Yard!P$11*$B$48*LAFs!$I$35/LAFs!G$78*(1-Contrib!P$117)*G33/(24*Input!$F$14)*100","v":0},{"$f":"Yard!Q$11*$B$48*LAFs!$I$35/LAFs!H$78*(1-Contrib!Q$117)*H33/(24*Input!$F$14)*100","v":9.6530144516265862E-2},{"$f":"Yard!R$11*$B$48*LAFs!$I$35/LAFs!I$78*(1-Contrib!R$117)*I33/(24*Input!$F$14)*100","v":6.0531558112161009E-2},{"$f":"Yard!S$11*$B$48*LAFs!$I$35/LAFs!J$78*(1-Contrib!S$117)*J33/(24*Input!$F$14)*100","v":8.4197848297799902E-2}]
["LV Sub Generation Intermittent",{"$f":"Yard!B$11*$B$49*LAFs!$I$36/LAFs!B$78*(1-Contrib!B$118)*B34/(24*Input!$F$14)*100","v":0},{"$f":"Yard!C$11*$B$49*LAFs!$I$36/LAFs!C$78*(1-Contrib!C$118)*C34/(24*Input!$F$14)*100","v":0.11769961896098259},{"$f":"Yard!D$11*$B$49*LAFs!$I$36/LAFs!D$78*(1-Contrib!D$118)*D34/(24*Input!$F$14)*100","v":1.8355209093737491E-2},{"$f":"Yard!E$11*$B$49*LAFs!$I$36/LAFs!E$78*(1-Contrib!E$118)*E34/(24*Input!$F$14)*100","v":2.1141257288455399E-2},{"$f":"Yard!F$11*$B$49*LAFs!$I$36/LAFs!F$78*(1-Contrib!F$118)*F34/(24*Input!$F$14)*100","v":3.6122525035238419E-2},{"$f":"Yard!G$11*$B$49*LAFs!$I$36/LAFs!G$78*(1-Contrib!G$118)*G34/(24*Input!$F$14)*100","v":0},{"$f":"Yard!H$11*$B$49*LAFs!$I$36/LAFs!H$78*(1-Contrib!H$118)*H34/(24*Input!$F$14)*100","v":0.11304679166256001},{"$f":"Yard!I$11*$B$49*LAFs!$I$36/LAFs!I$78*(1-Contrib!I$118)*I34/(24*Input!$F$14)*100","v":4.1476701584530852E-2},{"$f":"Yard!J$11*$B$49*LAFs!$I$36/LAFs!J$78*(1-Contrib!J$118)*J34/(24*Input!$F$14)*100","v":0},{"$f":"Yard!K$11*$B$49*LAFs!$I$36/LAFs!B$78*(1-Contrib!K$118)*B34/(24*Input!$F$14)*100","v":3.8388723601600068E-2},{"$f":"Yard!L$11*$B$49*LAFs!$I$36/LAFs!C$78*(1-Contrib!L$118)*C34/(24*Input!$F$14)*100","v":6.0135888485561007E-2},{"$f":"Yard!M$11*$B$49*LAFs!$I$36/LAFs!D$78*(1-Contrib!M$118)*D34/(24*Input!$F$14)*100","v":9.378168059796901E-3},{"$f":"Yard!N$11*$B$49*LAFs!$I$36/LAFs!E$78*(1-Contrib!N$118)*E34/(24*Input!$F$14)*100","v":1.0801634720368625E-2},{"$f":"Yard!O$11*$B$49*LAFs!$I$36/LAFs!F$78*(1-Contrib!O$118)*F34/(24*Input!$F$14)*100","v":1.8455965758530504E-2},{"$f":"Yard!P$11*$B$49*LAFs!$I$36/LAFs!G$78*(1-Contrib!P$118)*G34/(24*Input!$F$14)*100","v":0},{"$f":"Yard!Q$11*$B$49*LAFs!$I$36/LAFs!H$78*(1-Contrib!Q$118)*H34/(24*Input!$F$14)*100","v":9.4199797480589986E-2},{"$f":"Yard!R$11*$B$49*LAFs!$I$36/LAFs!I$78*(1-Contrib!R$118)*I34/(24*Input!$F$14)*100","v":5.9070257730623223E-2},{"$f":"Yard!S$11*$B$49*LAFs!$I$36/LAFs!J$78*(1-Contrib!S$118)*J34/(24*Input!$F$14)*100","v":0}]
["LV Sub Generation Non-Intermittent",{"$f":"Yard!B$11*$B$50*LAFs!$I$37/LAFs!B$78*(1-Contrib!B$119)*B35/(24*Input!$F$14)*100","v":0},{"$f":"Yard!C$11*$B$50*LAFs!$I$37/LAFs!C$78*(1-Contrib!C$119)*C35/(24*Input!$F$14)*100","v":0.11769961896098259},{"$f":"Yard!D$11*$B$50*LAFs!$I$37/LAFs!D$78*(1-Contrib!D$119)*D35/(24*Input!$F$14)*100","v":1.8355209093737491E-2},{"$f":"Yard!E$11*$B$50*LAFs!$I$37/LAFs!E$78*(1-Contrib!E$119)*E35/(24*Input!$F$14)*100","v":2.1141257288455399E-2},{"$f":"Yard!F$11*$B$50*LAFs!$I$37/LAFs!F$78*(1-Contrib!F$119)*F35/(24*Input!$F$14)*100","v":3.6122525035238419E-2},{"$f":"Yard!G$11*$B$50*LAFs!$I$37/LAFs!G$78*(1-Contrib!G$119)*G35/(24*Input!$F$14)*100","v":0},{"$f":"Yard!H$11*$B$50*LAFs!$I$37/LAFs!H$78*(1-Contrib!H$119)*H35/(24*Input!$F$14)*100","v":0.11304679166256001},{"$f":"Yard!I$11*$B$50*LAFs!$I$37/LAFs!I$78*(1-Contrib!I$119)*I35/(24*Input!$F$14)*100","v":4.1476701584530852E-2},{"$f":"Yard!J$11*$B$50*LAFs!$I$37/LAFs!J$78*(1-Contrib!J$119)*J35/(24*Input!$F$14)*100","v":0},{"$f":"Yard!K$11*$B$50*LAFs!$I$37/LAFs!B$78*(1-Contrib!K$119)*B35/(24*Input!$F$14)*100","v":3.8388723601600068E-2},{"$f":"Yard!L$11*$B$50*LAFs!$I$37/LAFs!C$78*(1-Contrib!L$119)*C35/(24*Input!$F$14)*100","v":6.0135888485561007E-2},{"$f":"Yard!M$11*$B$50*LAFs!$I$37/LAFs!D$78*(1-Contrib!M$119)*D35/(24*Input!$F$14)*100","v":9.378168059796901E-3},{"$f":"Yard!N$11*$B$50*LAFs!$I$37/LAFs!E$78*(1-Contrib!N$119)*E35/(24*Input!$F$14)*100","v":1.0801634720368625E-2},{"$f":"Yard!O$11*$B$50*LAFs!$I$37/LAFs!F$78*(1-Contrib!O$119)*F35/(24*Input!$F$14)*100","v":1.8455965758530504E-2},{"$f":"Yard!P$11*$B$50*LAFs!$I$37/LAFs!G$78*(1-Contrib!P$119)*G35/(24*Input!$F$14)*100","v":0},{"$f":"Yard!Q$11*$B$50*LAFs!$I$37/LAFs!H$78*(1-Contrib!Q$119)*H35/(24*Input!$F$14)*100","v":9.4199797480589986E-2},{"$f":"Yard!R$11*$B$50*LAFs!$I$37/LAFs!I$78*(1-Contrib!R$119)*I35/(24*Input!$F$14)*100","v":5.9070257730623223E-2},{"$f":"Yard!S$11*$B$50*LAFs!$I$37/LAFs!J$78*(1-Contrib!S$119)*J35/(24*Input!$F$14)*100","v":0}]
["HV Generation Intermittent",{"$f":"Yard!B$11*$B$51*LAFs!$I$38/LAFs!B$78*(1-Contrib!B$120)*B36/(24*Input!$F$14)*100","v":0},{"$f":"Yard!C$11*$B$51*LAFs!$I$38/LAFs!C$78*(1-Contrib!C$120)*C36/(24*Input!$F$14)*100","v":0.11691570142270777},{"$f":"Yard!D$11*$B$51*LAFs!$I$38/LAFs!D$78*(1-Contrib!D$120)*D36/(24*Input!$F$14)*100","v":1.823295746323686E-2},{"$f":"Yard!E$11*$B$51*LAFs!$I$38/LAFs!E$78*(1-Contrib!E$120)*E36/(24*Input!$F$14)*100","v":2.1000449675687378E-2},{"$f":"Yard!F$11*$B$51*LAFs!$I$38/LAFs!F$78*(1-Contrib!F$120)*F36/(24*Input!$F$14)*100","v":2.6637276623324629E-2},{"$f":"Yard!G$11*$B$51*LAFs!$I$38/LAFs!G$78*(1-Contrib!G$120)*G36/(24*Input!$F$14)*100","v":0},{"$f":"Yard!H$11*$B$51*LAFs!$I$38/LAFs!H$78*(1-Contrib!H$120)*H36/(24*Input!$F$14)*100","v":8.8772428285611091E-2},{"$f":"Yard!I$11*$B$51*LAFs!$I$38/LAFs!I$78*(1-Contrib!I$120)*I36/(24*Input!$F$14)*100","v":0},{"$f":"Yard!J$11*$B$51*LAFs!$I$38/LAFs!J$78*(1-Contrib!J$120)*J36/(24*Input!$F$14)*100","v":0},{"$f":"Yard!K$11*$B$51*LAFs!$I$38/LAFs!B$78*(1-Contrib!K$120)*B36/(24*Input!$F$14)*100","v":3.813304228360654E-2},{"$f":"Yard!L$11*$B$51*LAFs!$I$38/LAFs!C$78*(1-Contrib!L$120)*C36/(24*Input!$F$14)*100","v":5.9735364014201417E-2},{"$f":"Yard!M$11*$B$51*LAFs!$I$38/LAFs!D$78*(1-Contrib!M$120)*D36/(24*Input!$F$14)*100","v":9.3157064266679024E-3},{"$f":"Yard!N$11*$B$51*LAFs!$I$38/LAFs!E$78*(1-Contrib!N$120)*E36/(24*Input!$F$14)*100","v":1.0729692338786723E-2},{"$f":"Yard!O$11*$B$51*LAFs!$I$38/LAFs!F$78*(1-Contrib!O$120)*F36/(24*Input!$F$14)*100","v":1.8333043056047427E-2},{"$f":"Yard!P$11*$B$51*LAFs!$I$38/LAFs!G$78*(1-Contrib!P$120)*G36/(24*Input!$F$14)*100","v":0},{"$f":"Yard!Q$11*$B$51*LAFs!$I$38/LAFs!H$78*(1-Contrib!Q$120)*H36/(24*Input!$F$14)*100","v":9.3572396355600343E-2},{"$f":"Yard!R$11*$B$51*LAFs!$I$38/LAFs!I$78*(1-Contrib!R$120)*I36/(24*Input!$F$14)*100","v":0},{"$f":"Yard!S$11*$B$51*LAFs!$I$38/LAFs!J$78*(1-Contrib!S$120)*J36/(24*Input!$F$14)*100","v":0}]
["HV Generation Non-Intermittent",{"$f":"Yard!B$11*$B$52*LAFs!$I$39/LAFs!B$78*(1-Contrib!B$121)*B37/(24*Input!$F$14)*100","v":0},{"$f":"Yard!C$11*$B$52*LAFs!$I$39/LAFs!C$78*(1-Contrib!C$121)*C37/(24*Input!$F$14)*100","v":0.11691570142270777},{"$f":"Yard!D$11*$B$52*LAFs!$I$39/LAFs!D$78*(1-Contrib!D$121)*D37/(24*Input!$F$14)*100","v":1.823295746323686E-2},{"$f":"Yard!E$11*$B$52*LAFs!$I$39/LAFs!E$78*(1-Contrib!E$121)*E37/(24*Input!$F$14)*100","v":2.1000449675687378E-2},{"$f":"Yard!F$11*$B$52*LAFs!$I$39/LAFs!F$78*(1-Contrib!F$121)*F37/(24*Input!$F$14)*100","v":2.6637276623324629E-2},{"$f":"Yard!G$11*$B$52*LAFs!$I$39/LAFs!G$78*(1-Contrib!G$121)*G37/(24*Input!$F$14)*100","v":0},{"$f":"Yard!H$11*$B$52*LAFs!$I$39/LAFs!H$78*(1-Contrib!H$121)*H37/(24*Input!$F$14)*100","v":8.8772428285611091E-2},{"$f":"Yard!I$11*$B$52*LAFs!$I$39/LAFs!I$78*(1-Contrib!I$121)*I37/(24*Input!$F$14)*100","v":0},{"$f":"Yard!J$11*$B$52*LAFs!$I$39/LAFs!J$78*(1-Contrib!J$121)*J37/(24*Input!$F$14)*100","v":0},{"$f":"Yard!K$11*$B$52*LAFs!$I$39/LAFs!B$78*(1-Contrib!K$121)*B37/(24*Input!$F$14)*100","v":3.813304228360654E-2},{"$f":"Yard!L$11*$B$52*LAFs!$I$39/LAFs!C$78*(1-Contrib!L$121)*C37/(24*Input!$F$14)*100","v":5.9735364014201417E-2},{"$f":"Yard!M$11*$B$52*LAFs!$I$39/LAFs!D$78*(1-Contrib!M$121)*D37/(24*Input!$F$14)*100","v":9.3157064266679024E-3},{"$f":"Yard!N$11*$B$52*LAFs!$I$39/LAFs!E$78*(1-Contrib!N$121)*E37/(24*Input!$F$14)*100","v":1.0729692338786723E-2},{"$f":"Yard!O$11*$B$52*LAFs!$I$39/LAFs!F$78*(1-Contrib!O$121)*F37/(24*Input!$F$14)*100","v":1.8333043056047427E-2},{"$f":"Yard!P$11*$B$52*LAFs!$I$39/LAFs!G$78*(1-Contrib!P$121)*G37/(24*Input!$F$14)*100","v":0},{"$f":"Yard!Q$11*$B$52*LAFs!$I$39/LAFs!H$78*(1-Contrib!Q$121)*H37/(24*Input!$F$14)*100","v":9.3572396355600343E-2},{"$f":"Yard!R$11*$B$52*LAFs!$I$39/LAFs!I$78*(1-Contrib!R$121)*I37/(24*Input!$F$14)*100","v":0},{"$f":"Yard!S$11*$B$52*LAFs!$I$39/LAFs!J$78*(1-Contrib!S$121)*J37/(24*Input!$F$14)*100","v":0}]
["HV Sub Generation Intermittent",{"$f":"Yard!B$11*$B$53*LAFs!$I$40/LAFs!B$78*(1-Contrib!B$122)*B38/(24*Input!$F$14)*100","v":0},{"$f":"Yard!C$11*$B$53*LAFs!$I$40/LAFs!C$78*(1-Contrib!C$122)*C38/(24*Input!$F$14)*100","v":0.11501190168689737},{"$f":"Yard!D$11*$B$53*LAFs!$I$40/LAFs!D$78*(1-Contrib!D$122)*D38/(24*Input!$F$14)*100","v":1.7936060646306751E-2},{"$f":"Yard!E$11*$B$53*LAFs!$I$40/LAFs!E$78*(1-Contrib!E$122)*E38/(24*Input!$F$14)*100","v":2.0658488330393618E-2},{"$f":"Yard!F$11*$B$53*LAFs!$I$40/LAFs!F$78*(1-Contrib!F$122)*F38/(24*Input!$F$14)*100","v":0},{"$f":"Yard!G$11*$B$53*LAFs!$I$40/LAFs!G$78*(1-Contrib!G$122)*G38/(24*Input!$F$14)*100","v":0},{"$f":"Yard!H$11*$B$53*LAFs!$I$40/LAFs!H$78*(1-Contrib!H$122)*H38/(24*Input!$F$14)*100","v":0},{"$f":"Yard!I$11*$B$53*LAFs!$I$40/LAFs!I$78*(1-Contrib!I$122)*I38/(24*Input!$F$14)*100","v":0},{"$f":"Yard!J$11*$B$53*LAFs!$I$40/LAFs!J$78*(1-Contrib!J$122)*J38/(24*Input!$F$14)*100","v":0},{"$f":"Yard!K$11*$B$53*LAFs!$I$40/LAFs!B$78*(1-Contrib!K$122)*B38/(24*Input!$F$14)*100","v":3.7512101939907963E-2},{"$f":"Yard!L$11*$B$53*LAFs!$I$40/LAFs!C$78*(1-Contrib!L$122)*C38/(24*Input!$F$14)*100","v":5.8762661726613846E-2},{"$f":"Yard!M$11*$B$53*LAFs!$I$40/LAFs!D$78*(1-Contrib!M$122)*D38/(24*Input!$F$14)*100","v":9.1640138890689005E-3},{"$f":"Yard!N$11*$B$53*LAFs!$I$40/LAFs!E$78*(1-Contrib!N$122)*E38/(24*Input!$F$14)*100","v":1.0554975126373529E-2},{"$f":"Yard!O$11*$B$53*LAFs!$I$40/LAFs!F$78*(1-Contrib!O$122)*F38/(24*Input!$F$14)*100","v":0},{"$f":"Yard!P$11*$B$53*LAFs!$I$40/LAFs!G$78*(1-Contrib!P$122)*G38/(24*Input!$F$14)*100","v":0},{"$f":"Yard!Q$11*$B$53*LAFs!$I$40/LAFs!H$78*(1-Contrib!Q$122)*H38/(24*Input!$F$14)*100","v":0},{"$f":"Yard!R$11*$B$53*LAFs!$I$40/LAFs!I$78*(1-Contrib!R$122)*I38/(24*Input!$F$14)*100","v":0},{"$f":"Yard!S$11*$B$53*LAFs!$I$40/LAFs!J$78*(1-Contrib!S$122)*J38/(24*Input!$F$14)*100","v":0}]
["HV Sub Generation Non-Intermittent",{"$f":"Yard!B$11*$B$54*LAFs!$I$41/LAFs!B$78*(1-Contrib!B$123)*B39/(24*Input!$F$14)*100","v":0},{"$f":"Yard!C$11*$B$54*LAFs!$I$41/LAFs!C$78*(1-Contrib!C$123)*C39/(24*Input!$F$14)*100","v":0.11501190168689737},{"$f":"Yard!D$11*$B$54*LAFs!$I$41/LAFs!D$78*(1-Contrib!D$123)*D39/(24*Input!$F$14)*100","v":1.7936060646306751E-2},{"$f":"Yard!E$11*$B$54*LAFs!$I$41/LAFs!E$78*(1-Contrib!E$123)*E39/(24*Input!$F$14)*100","v":2.0658488330393618E-2},{"$f":"Yard!F$11*$B$54*LAFs!$I$41/LAFs!F$78*(1-Contrib!F$123)*F39/(24*Input!$F$14)*100","v":0},{"$f":"Yard!G$11*$B$54*LAFs!$I$41/LAFs!G$78*(1-Contrib!G$123)*G39/(24*Input!$F$14)*100","v":0},{"$f":"Yard!H$11*$B$54*LAFs!$I$41/LAFs!H$78*(1-Contrib!H$123)*H39/(24*Input!$F$14)*100","v":0},{"$f":"Yard!I$11*$B$54*LAFs!$I$41/LAFs!I$78*(1-Contrib!I$123)*I39/(24*Input!$F$14)*100","v":0},{"$f":"Yard!J$11*$B$54*LAFs!$I$41/LAFs!J$78*(1-Contrib!J$123)*J39/(24*Input!$F$14)*100","v":0},{"$f":"Yard!K$11*$B$54*LAFs!$I$41/LAFs!B$78*(1-Contrib!K$123)*B39/(24*Input!$F$14)*100","v":3.7512101939907963E-2},{"$f":"Yard!L$11*$B$54*LAFs!$I$41/LAFs!C$78*(1-Contrib!L$123)*C39/(24*Input!$F$14)*100","v":5.8762661726613846E-2},{"$f":"Yard!M$11*$B$54*LAFs!$I$41/LAFs!D$78*(1-Contrib!M$123)*D39/(24*Input!$F$14)*100","v":9.1640138890689005E-3},{"$f":"Yard!N$11*$B$54*LAFs!$I$41/LAFs!E$78*(1-Contrib!N$123)*E39/(24*Input!$F$14)*100","v":1.0554975126373529E-2},{"$f":"Yard!O$11*$B$54*LAFs!$I$41/LAFs!F$78*(1-Contrib!O$123)*F39/(24*Input!$F$14)*100","v":0},{"$f":"Yard!P$11*$B$54*LAFs!$I$41/LAFs!G$78*(1-Contrib!P$123)*G39/(24*Input!$F$14)*100","v":0},{"$f":"Yard!Q$11*$B$54*LAFs!$I$41/LAFs!H$78*(1-Contrib!Q$123)*H39/(24*Input!$F$14)*100","v":0},{"$f":"Yard!R$11*$B$54*LAFs!$I$41/LAFs!I$78*(1-Contrib!R$123)*I39/(24*Input!$F$14)*100","v":0},{"$f":"Yard!S$11*$B$54*LAFs!$I$41/LAFs!J$78*(1-Contrib!S$123)*J39/(24*Input!$F$14)*100","v":0}]
[]
["3206. Pay-as-you-go reactive p/kVArh"]
["Data sources:"]
["x1 = 3205. Pay-as-you-go components p/kWh for reactive power (absolute value)"]
["x2 = 1092. Average kVAr by kVA, by network level"]
["x3 = 1010. Power factor for all flows in the network model (in Financial and general assumptions)"]
["Calculation =x1*x2*x3"]
[]
[null,"GSPs","Assets\n132kV","Assets\n132kV/EHV","Assets\nEHV","Assets\nEHV/HV","Assets\n132kV/HV","Assets\nHV","Assets\nHV/LV","Assets\nLV circuits","Transmission\nexit","Operating\n132kV","Operating\n132kV/EHV","Operating\nEHV","Operating\nEHV/HV","Operating\n132kV/HV","Operating\nHV","Operating\nHV/LV","Operating\nLV circuits"]
["LV Generation Intermittent",{"$f":"B68*Input!B$328*Input!$E$14","v":0},{"$f":"C68*Input!C$328*Input!$E$14","v":3.220430793488159E-2},{"$f":"D68*Input!D$328*Input!$E$14","v":5.022249103965374E-3},{"$f":"E68*Input!E$328*Input!$E$14","v":5.7845519455222314E-3},{"$f":"F68*Input!F$328*Input!$E$14","v":9.8836421892404009E-3},{"$f":"G68*Input!G$328*Input!$E$14","v":0},{"$f":"H68*Input!H$328*Input!$E$14","v":3.0931227491554941E-2},{"$f":"I68*Input!I$328*Input!$E$14","v":1.1348621871020806E-2},{"$f":"J68*Input!J$328*Input!$E$14","v":4.5917047583157915E-3},{"$f":"K68*Input!B$328*Input!$E$14","v":1.0503706698513715E-2},{"$f":"L68*Input!C$328*Input!$E$14","v":1.6454043673401361E-2},{"$f":"M68*Input!D$328*Input!$E$14","v":2.5660016126550843E-3},{"$f":"N68*Input!E$328*Input!$E$14","v":2.9554825564063634E-3},{"$f":"O68*Input!F$328*Input!$E$14","v":5.0498175760482055E-3},{"$f":"P68*Input!G$328*Input!$E$14","v":0},{"$f":"Q68*Input!H$328*Input!$E$14","v":2.5774418916972477E-2},{"$f":"R68*Input!I$328*Input!$E$14","v":1.616247177809834E-2},{"$f":"S68*Input!J$328*Input!$E$14","v":2.2481584636698748E-2}]
["LV Generation Non-Intermittent",{"$f":"B69*Input!B$328*Input!$E$14","v":0},{"$f":"C69*Input!C$328*Input!$E$14","v":3.220430793488159E-2},{"$f":"D69*Input!D$328*Input!$E$14","v":5.022249103965374E-3},{"$f":"E69*Input!E$328*Input!$E$14","v":5.7845519455222314E-3},{"$f":"F69*Input!F$328*Input!$E$14","v":9.8836421892404009E-3},{"$f":"G69*Input!G$328*Input!$E$14","v":0},{"$f":"H69*Input!H$328*Input!$E$14","v":3.0931227491554941E-2},{"$f":"I69*Input!I$328*Input!$E$14","v":1.1348621871020806E-2},{"$f":"J69*Input!J$328*Input!$E$14","v":4.5917047583157915E-3},{"$f":"K69*Input!B$328*Input!$E$14","v":1.0503706698513715E-2},{"$f":"L69*Input!C$328*Input!$E$14","v":1.6454043673401361E-2},{"$f":"M69*Input!D$328*Input!$E$14","v":2.5660016126550843E-3},{"$f":"N69*Input!E$328*Input!$E$14","v":2.9554825564063634E-3},{"$f":"O69*Input!F$328*Input!$E$14","v":5.0498175760482055E-3},{"$f":"P69*Input!G$328*Input!$E$14","v":0},{"$f":"Q69*Input!H$328*Input!$E$14","v":2.5774418916972477E-2},{"$f":"R69*Input!I$328*Input!$E$14","v":1.616247177809834E-2},{"$f":"S69*Input!J$328*Input!$E$14","v":2.2481584636698748E-2}]
["LV Sub Generation Intermittent",{"$f":"B70*Input!B$328*Input!$E$14","v":0},{"$f":"C70*Input!C$328*Input!$E$14","v":3.1426859461058998E-2},{"$f":"D70*Input!D$328*Input!$E$14","v":4.9010063215112424E-3},{"$f":"E70*Input!E$328*Input!$E$14","v":5.6449063089543785E-3},{"$f":"F70*Input!F$328*Input!$E$14","v":9.6450398708371986E-3},{"$f":"G70*Input!G$328*Input!$E$14","v":0},{"$f":"H70*Input!H$328*Input!$E$14","v":3.0184512621749534E-2},{"$f":"I70*Input!I$328*Input!$E$14","v":1.1074653283605263E-2},{"$f":"J70*Input!J$328*Input!$E$14","v":0},{"$f":"K70*Input!B$328*Input!$E$14","v":1.0250135320462317E-2},{"$f":"L70*Input!C$328*Input!$E$14","v":1.6056824420375884E-2},{"$f":"M70*Input!D$328*Input!$E$14","v":2.5040554270199574E-3},{"$f":"N70*Input!E$328*Input!$E$14","v":2.8841338595943246E-3},{"$f":"O70*Input!F$328*Input!$E$14","v":4.9279092594490858E-3},{"$f":"P70*Input!G$328*Input!$E$14","v":0},{"$f":"Q70*Input!H$328*Input!$E$14","v":2.5152195247667659E-2},{"$f":"R70*Input!I$328*Input!$E$14","v":1.5772291400911194E-2},{"$f":"S70*Input!J$328*Input!$E$14","v":0}]
["LV Sub Generation Non-Intermittent",{"$f":"B71*Input!B$328*Input!$E$14","v":0},{"$f":"C71*Input!C$328*Input!$E$14","v":3.1426859461058998E-2},{"$f":"D71*Input!D$328*Input!$E$14","v":4.9010063215112424E-3},{"$f":"E71*Input!E$328*Input!$E$14","v":5.6449063089543785E-3},{"$f":"F71*Input!F$328*Input!$E$14","v":9.6450398708371986E-3},{"$f":"G71*Input!G$328*Input!$E$14","v":0},{"$f":"H71*Input!H$328*Input!$E$14","v":3.0184512621749534E-2},{"$f":"I71*Input!I$328*Input!$E$14","v":1.1074653283605263E-2},{"$f":"J71*Input!J$328*Input!$E$14","v":0},{"$f":"K71*Input!B$328*Input!$E$14","v":1.0250135320462317E-2},{"$f":"L71*Input!C$328*Input!$E$14","v":1.6056824420375884E-2},{"$f":"M71*Input!D$328*Input!$E$14","v":2.5040554270199574E-3},{"$f":"N71*Input!E$328*Input!$E$14","v":2.8841338595943246E-3},{"$f":"O71*Input!F$328*Input!$E$14","v":4.9279092594490858E-3},{"$f":"P71*Input!G$328*Input!$E$14","v":0},{"$f":"Q71*Input!H$328*Input!$E$14","v":2.5152195247667659E-2},{"$f":"R71*Input!I$328*Input!$E$14","v":1.5772291400911194E-2},{"$f":"S71*Input!J$328*Input!$E$14","v":0}]
["HV Generation Intermittent",{"$f":"B72*Input!B$328*Input!$E$14","v":0},{"$f":"C72*Input!C$328*Input!$E$14","v":3.1217546410414465E-2},{"$f":"D72*Input!D$328*Input!$E$14","v":4.8683640339274381E-3},{"$f":"E72*Input!E$328*Input!$E$14","v":5.6073094068014948E-3},{"$f":"F72*Input!F$328*Input!$E$14","v":7.1123930243485534E-3},{"$f":"G72*Input!G$328*Input!$E$14","v":0},{"$f":"H72*Input!H$328*Input!$E$14","v":2.3703038738584779E-2},{"$f":"I72*Input!I$328*Input!$E$14","v":0},{"$f":"J72*Input!J$328*Input!$E$14","v":0},{"$f":"K72*Input!B$328*Input!$E$14","v":1.0181866103294634E-2},{"$f":"L72*Input!C$328*Input!$E$14","v":1.5949880775330563E-2},{"$f":"M72*Input!D$328*Input!$E$14","v":2.4873776078105001E-3},{"$f":"N72*Input!E$328*Input!$E$14","v":2.8649245950680071E-3},{"$f":"O72*Input!F$328*Input!$E$14","v":4.895087789595476E-3},{"$f":"P72*Input!G$328*Input!$E$14","v":0},{"$f":"Q72*Input!H$328*Input!$E$14","v":2.498467349054714E-2},{"$f":"R72*Input!I$328*Input!$E$14","v":0},{"$f":"S72*Input!J$328*Input!$E$14","v":0}]
["HV Generation Non-Intermittent",{"$f":"B73*Input!B$328*Input!$E$14","v":0},{"$f":"C73*Input!C$328*Input!$E$14","v":3.1217546410414465E-2},{"$f":"D73*Input!D$328*Input!$E$14","v":4.8683640339274381E-3},{"$f":"E73*Input!E$328*Input!$E$14","v":5.6073094068014948E-3},{"$f":"F73*Input!F$328*Input!$E$14","v":7.1123930243485534E-3},{"$f":"G73*Input!G$328*Input!$E$14","v":0},{"$f":"H73*Input!H$328*Input!$E$14","v":2.3703038738584779E-2},{"$f":"I73*Input!I$328*Input!$E$14","v":0},{"$f":"J73*Input!J$328*Input!$E$14","v":0},{"$f":"K73*Input!B$328*Input!$E$14","v":1.0181866103294634E-2},{"$f":"L73*Input!C$328*Input!$E$14","v":1.5949880775330563E-2},{"$f":"M73*Input!D$328*Input!$E$14","v":2.4873776078105001E-3},{"$f":"N73*Input!E$328*Input!$E$14","v":2.8649245950680071E-3},{"$f":"O73*Input!F$328*Input!$E$14","v":4.895087789595476E-3},{"$f":"P73*Input!G$328*Input!$E$14","v":0},{"$f":"Q73*Input!H$328*Input!$E$14","v":2.498467349054714E-2},{"$f":"R73*Input!I$328*Input!$E$14","v":0},{"$f":"S73*Input!J$328*Input!$E$14","v":0}]
["HV Sub Generation Intermittent",{"$f":"B74*Input!B$328*Input!$E$14","v":0},{"$f":"C74*Input!C$328*Input!$E$14","v":3.0709214715992004E-2},{"$f":"D74*Input!D$328*Input!$E$14","v":4.7890899069381963E-3},{"$f":"E74*Input!E$328*Input!$E$14","v":5.5160026444302061E-3},{"$f":"F74*Input!F$328*Input!$E$14","v":0},{"$f":"G74*Input!G$328*Input!$E$14","v":0},{"$f":"H74*Input!H$328*Input!$E$14","v":0},{"$f":"I74*Input!I$328*Input!$E$14","v":0},{"$f":"J74*Input!J$328*Input!$E$14","v":0},{"$f":"K74*Input!B$328*Input!$E$14","v":1.0016069433030258E-2},{"$f":"L74*Input!C$328*Input!$E$14","v":1.5690160494506215E-2},{"$f":"M74*Input!D$328*Input!$E$14","v":2.4468743325875312E-3},{"$f":"N74*Input!E$328*Input!$E$14","v":2.81827352407552E-3},{"$f":"O74*Input!F$328*Input!$E$14","v":0},{"$f":"P74*Input!G$328*Input!$E$14","v":0},{"$f":"Q74*Input!H$328*Input!$E$14","v":0},{"$f":"R74*Input!I$328*Input!$E$14","v":0},{"$f":"S74*Input!J$328*Input!$E$14","v":0}]
["HV Sub Generation Non-Intermittent",{"$f":"B75*Input!B$328*Input!$E$14","v":0},{"$f":"C75*Input!C$328*Input!$E$14","v":3.0709214715992004E-2},{"$f":"D75*Input!D$328*Input!$E$14","v":4.7890899069381963E-3},{"$f":"E75*Input!E$328*Input!$E$14","v":5.5160026444302061E-3},{"$f":"F75*Input!F$328*Input!$E$14","v":0},{"$f":"G75*Input!G$328*Input!$E$14","v":0},{"$f":"H75*Input!H$328*Input!$E$14","v":0},{"$f":"I75*Input!I$328*Input!$E$14","v":0},{"$f":"J75*Input!J$328*Input!$E$14","v":0},{"$f":"K75*Input!B$328*Input!$E$14","v":1.0016069433030258E-2},{"$f":"L75*Input!C$328*Input!$E$14","v":1.5690160494506215E-2},{"$f":"M75*Input!D$328*Input!$E$14","v":2.4468743325875312E-3},{"$f":"N75*Input!E$328*Input!$E$14","v":2.81827352407552E-3},{"$f":"O75*Input!F$328*Input!$E$14","v":0},{"$f":"P75*Input!G$328*Input!$E$14","v":0},{"$f":"Q75*Input!H$328*Input!$E$14","v":0},{"$f":"R75*Input!I$328*Input!$E$14","v":0},{"$f":"S75*Input!J$328*Input!$E$14","v":0}]

{"sheet":"Aggreg","index":36,"n_rows":272,"n_cols":23,"rows_kept":272,"cut":false,"hidden":true,"merged":[]}
[{"$f":"\"r6140: Aggregation\"&\" for \"&Input!B7&\" in \"&Input!C7&\" (\"&Input!D7&\")\"","v":"r6140: Aggregation for WPD Mid West in April 2017 (0)"}]
["This sheet aggregates elements of tariffs excluding revenue matching and final adjustments and rounding."]
[]
["3301. Unit rate 1 p/kWh (elements)"]
["Data sources:"]
["x1 = 3004. Unit rate 1 total p/kWh (taking account of standing charges) (in Unit rate 1 (taking account of standing charges)) — for Tariffs with Unit rate 1 p/kWh from Standard 1 kWh"]
["x2 = 3003. Yardstick total p/kWh (taking account of standing charges) (in Yardstick unit rate p/kWh (taking account of standing charges)) — for Tariffs with Unit rate 1 p/kWh from Standard yardstick kWh"]
["x3 = 2903. Pay-as-you-go unit rate 1 (p/kWh) (in Pay-as-you-go unit rate 1 p/kWh) — for Tariffs with Unit rate 1 p/kWh from PAYG 1 kWh"]
["x4 = 2903. Pay-as-you-go unit rate 1 (p/kWh) (in Pay-as-you-go unit rate 1 p/kWh) — for Tariffs with Unit rate 1 p/kWh from PAYG 1 kWh & customer"]
["x5 = 2902. Pay-as-you-go yardstick unit rate (p/kWh) — for Tariffs with Unit rate 1 p/kWh from PAYG yardstick kWh"]
["x6 = 2203. Service model asset p/kWh charge for unmetered tariffs — for Tariffs with Unit rate 1 p/kWh from PAYG 1 kWh & customer"]
["x7 = 2712. Operating expenditure for unmetered customer assets (p/kWh) — for Tariffs with Unit rate 1 p/kWh from PAYG 1 kWh & customer"]
["Combine tables = x1 or x2 or x3 or x4 or x5 or x6 or x7"]
[]
[null,"GSPs","Assets\n132kV","Assets\n132kV/EHV","Assets\nEHV","Assets\nEHV/HV","Assets\n132kV/HV","Assets\nHV","Assets\nHV/LV","Assets\nLV circuits","Assets\nLV customer","Assets\nHV customer","Transmission\nexit","Operating\n132kV","Operating\n132kV/EHV","Operating\nEHV","Operating\nEHV/HV","Operating\n132kV/HV","Operating\nHV","Operating\nHV/LV","Operating\nLV circuits","Operating\nLV customer","Operating\nHV customer"]
["Domestic Unrestricted",{"$f":"Standing!$B$54","v":0},{"$f":"Standing!$C$54","v":0.26889036276041528},{"$f":"Standing!$D$54","v":4.1933345879347973E-2},{"$f":"Standing!$E$54","v":4.8298205140226626E-2},{"$f":"Standing!$F$54","v":8.2523621964887578E-2},{"$f":"Standing!$G$54","v":0},{"$f":"Standing!$H$54","v":0.25826075808387716},{"$f":"Standing!$I$54","v":9.4755492274508607E-2},{"$f":"Standing!$J$54","v":0},null,null,{"$f":"Standing!$K$54","v":8.7700860090000957E-2},{"$f":"Standing!$L$54","v":0.13738328987422394},{"$f":"Standing!$M$54","v":2.1424869798965709E-2},{"$f":"Standing!$N$54","v":2.4676846909149661E-2},{"$f":"Standing!$O$54","v":4.2163529259599229E-2},{"$f":"Standing!$P$54","v":0},{"$f":"Standing!$Q$54","v":0.21520390584195678},{"$f":"Standing!$R$54","v":0.13494880586490135},{"$f":"Standing!$S$54","v":0}]
["Domestic Two Rate",{"$f":"Standing!$B$83","v":0},{"$f":"Standing!$C$83","v":0.30756529218351497},{"$f":"Standing!$D$83","v":4.7964685848951964E-2},{"$f":"Standing!$E$83","v":5.3576969340398718E-2},{"$f":"Standing!$F$83","v":9.1543061507868909E-2},{"$f":"Standing!$G$83","v":0},{"$f":"Standing!$H$83","v":0.28648743110670166},{"$f":"Standing!$I$83","v":0.10511181708898412},{"$f":"Standing!$J$83","v":0},null,null,{"$f":"Standing!$K$83","v":0.10544379411870582},{"$f":"Standing!$L$83","v":0.15714334741311406},{"$f":"Standing!$M$83","v":2.4506442968296425E-2},{"$f":"Standing!$N$83","v":2.7373908956464812E-2},{"$f":"Standing!$O$83","v":4.6771802551790496E-2},{"$f":"Standing!$P$83","v":0},{"$f":"Standing!$Q$83","v":0.2387246696177015},{"$f":"Standing!$R$83","v":0.1496980687658182},{"$f":"Standing!$S$83","v":0}]
["Domestic Off Peak (related MPAN)",{"$f":"Standing!$B$84","v":0},{"$f":"Standing!$C$84","v":2.6927504134923251E-2},{"$f":"Standing!$D$84","v":4.1993336353352527E-3},{"$f":"Standing!$E$84","v":6.2877830754338284E-3},{"$f":"Standing!$F$84","v":1.0743476533088507E-2},{"$f":"Standing!$G$84","v":0},{"$f":"Standing!$H$84","v":3.3622111194687228E-2},{"$f":"Standing!$I$84","v":1.2335903143775924E-2},{"$f":"Standing!$J$84","v":0},null,null,{"$f":"Standing!$K$84","v":3.5004394590407019E-3},{"$f":"Standing!$L$84","v":1.3757983247074302E-2},{"$f":"Standing!$M$84","v":2.1455520539272097E-3},{"$f":"Standing!$N$84","v":3.2125968221786141E-3},{"$f":"Standing!$O$84","v":5.4891299771771002E-3},{"$f":"Standing!$P$84","v":0},{"$f":"Standing!$Q$84","v":2.801668246245646E-2},{"$f":"Standing!$R$84","v":1.7568537280086404E-2},{"$f":"Standing!$S$84","v":0}]
["Small Non Domestic Unrestricted",{"$f":"Standing!$B$57","v":0},{"$f":"Standing!$C$57","v":0.2121942230119995},{"$f":"Standing!$D$57","v":3.309160527664548E-2},{"$f":"Standing!$E$57","v":3.8114419599843304E-2},{"$f":"Standing!$F$57","v":6.5123330056190407E-2},{"$f":"Standing!$G$57","v":0},{"$f":"Standing!$H$57","v":0.20380589446757919},{"$f":"Standing!$I$57","v":7.4776082909390404E-2},{"$f":"Standing!$J$57","v":0},null,null,{"$f":"Standing!$K$57","v":6.920893584000716E-2},{"$f":"Standing!$L$57","v":0.1084157131941095},{"$f":"Standing!$M$57","v":1.6907387655895778E-2},{"$f":"Standing!$N$57","v":1.9473678054198879E-2},{"$f":"Standing!$O$57","v":3.3273253971754013E-2},{"$f":"Standing!$P$57","v":0},{"$f":"Standing!$Q$57","v":0.16982767668014062},{"$f":"Standing!$R$57","v":0.10649454563164978},{"$f":"Standing!$S$57","v":0}]
["Small Non Domestic Two Rate",{"$f":"Standing!$B$85","v":0},{"$f":"Standing!$C$85","v":0.25680545541028649},{"$f":"Standing!$D$85","v":4.0048709350799877E-2},{"$f":"Standing!$E$85","v":4.4894829373658664E-2},{"$f":"Standing!$F$85","v":7.6708521914082742E-2},{"$f":"Standing!$G$85","v":0},{"$f":"Standing!$H$85","v":0.24006218521835945},{"$f":"Standing!$I$85","v":8.8078462657776802E-2},{"$f":"Standing!$J$85","v":0},null,null,{"$f":"Standing!$K$85","v":8.2857283301423501E-2},{"$f":"Standing!$L$85","v":0.13120878695585345},{"$f":"Standing!$M$85","v":2.0461958507348416E-2},{"$f":"Standing!$N$85","v":2.2937971053989606E-2},{"$f":"Standing!$O$85","v":3.9192438857823982E-2},{"$f":"Standing!$P$85","v":0},{"$f":"Standing!$Q$85","v":0.20003937217270726},{"$f":"Standing!$R$85","v":0.12543951883706181},{"$f":"Standing!$S$85","v":0}]
["Small Non Domestic Off Peak (related MPAN)",{"$f":"Standing!$B$86","v":0},{"$f":"Standing!$C$86","v":3.9234502454046284E-2},{"$f":"Standing!$D$86","v":6.1186051627873843E-3},{"$f":"Standing!$E$86","v":8.2782810348603509E-3},{"$f":"Standing!$F$86","v":1.4144495280031193E-2},{"$f":"Standing!$G$86","v":0},{"$f":"Standing!$H$86","v":4.4265726427870015E-2},{"$f":"Standing!$I$86","v":1.624102991751963E-2},{"$f":"Standing!$J$86","v":0},null,null,{"$f":"Standing!$K$86","v":9.5606434834844267E-3},{"$f":"Standing!$L$86","v":2.0045958391293837E-2},{"$f":"Standing!$M$86","v":3.1261592943519594E-3},{"$f":"Standing!$N$86","v":4.2295955548464796E-3},{"$f":"Standing!$O$86","v":7.2268015678663379E-3},{"$f":"Standing!$P$86","v":0},{"$f":"Standing!$Q$86","v":3.6885809880242364E-2},{"$f":"Standing!$R$86","v":2.3130137797564176E-2},{"$f":"Standing!$S$86","v":0}]
["LV Medium Non-Domestic",{"$f":"Standing!$B$87","v":0},{"$f":"Standing!$C$87","v":0.24610996740525137},{"$f":"Standing!$D$87","v":3.8380752220394394E-2},{"$f":"Standing!$E$87","v":4.2941372853643363E-2},{"$f":"Standing!$F$87","v":7.3370793174173068E-2},{"$f":"Standing!$G$87","v":0},{"$f":"Standing!$H$87","v":0.22961663842674881},{"$f":"Standing!$I$87","v":8.424600690391422E-2},{"$f":"Standing!$J$87","v":0},null,null,{"$f":"Standing!$K$87","v":8.0152977549314455E-2},{"$f":"Standing!$L$87","v":0.12574417560326562},{"$f":"Standing!$M$87","v":1.9609754525056752E-2},{"$f":"Standing!$N$87","v":2.1939897785052568E-2},{"$f":"Standing!$O$87","v":3.7487103827259463E-2},{"$f":"Standing!$P$87","v":0},{"$f":"Standing!$Q$87","v":0.191335291518381},{"$f":"Standing!$R$87","v":0.11998141487813209},{"$f":"Standing!$S$87","v":0}]
["LV Sub Medium Non-Domestic",{"$f":"Standing!$B$88","v":0},{"$f":"Standing!$C$88","v":0.24426452684479544},{"$f":"Standing!$D$88","v":3.8092956493812967E-2},{"$f":"Standing!$E$88","v":4.2619379591764255E-2},{"$f":"Standing!$F$88","v":7.2820626762369459E-2},{"$f":"Standing!$G$88","v":0},{"$f":"Standing!$H$88","v":0.22789487208637735},{"$f":"Standing!$I$88","v":0},{"$f":"Standing!$J$88","v":0},null,null,{"$f":"Standing!$K$88","v":7.9551955342167274E-2},{"$f":"Standing!$L$88","v":0.1248012905818018},{"$f":"Standing!$M$88","v":1.9462711978333991E-2},{"$f":"Standing!$N$88","v":2.177538280139843E-2},{"$f":"Standing!$O$88","v":3.7206009068578121E-2},{"$f":"Standing!$P$88","v":0},{"$f":"Standing!$Q$88","v":0.18990057551992942},{"$f":"Standing!$R$88","v":0},{"$f":"Standing!$S$88","v":0}]
["HV Medium Non-Domestic",{"$f":"Standing!$B$89","v":0},{"$f":"Standing!$C$89","v":0.22355405203528234},{"$f":"Standing!$D$89","v":3.4863166126477836E-2},{"$f":"Standing!$E$89","v":3.1257618084594936E-2},{"$f":"Standing!$F$89","v":0},{"$f":"Standing!$G$89","v":0},{"$f":"Standing!$H$89","v":0},{"$f":"Standing!$I$89","v":0},{"$f":"Standing!$J$89","v":0},null,null,{"$f":"Standing!$K$89","v":7.134310119957922E-2},{"$f":"Standing!$L$89","v":0.1142197541705347},{"$f":"Standing!$M$89","v":1.7812525553973602E-2},{"$f":"Standing!$N$89","v":1.5970354467184613E-2},{"$f":"Standing!$O$89","v":0},{"$f":"Standing!$P$89","v":0},{"$f":"Standing!$Q$89","v":0},{"$f":"Standing!$R$89","v":0},{"$f":"Standing!$S$89","v":0}]
["LV HH Metered",{"$f":"Standing!$B$90","v":0},{"$f":"Standing!$C$90","v":1.1528364245744598},{"$f":"Standing!$D$90","v":0.17978438512154957},{"$f":"Standing!$E$90","v":0.19051812302411245},{"$f":"Standing!$F$90","v":0.32552442717601215},{"$f":"Standing!$G$90","v":0},{"$f":"Standing!$H$90","v":0.81499268534836955},{"$f":"Standing!$I$90","v":0},{"$f":"Standing!$J$90","v":0},null,null,{"$f":"Standing!$K$90","v":0.47524657784527025},{"$f":"Standing!$L$90","v":0.58901501366189124},{"$f":"Standing!$M$90","v":9.1856658760285897E-2},{"$f":"Standing!$N$90","v":9.7340813010230731E-2},{"$f":"Standing!$O$90","v":0.16631915060381061},{"$f":"Standing!$P$90","v":0},{"$f":"Standing!$Q$90","v":0.67911830825894026},{"$f":"Standing!$R$90","v":0},{"$f":"Standing!$S$90","v":0}]
["LV Sub HH Metered",{"$f":"Standing!$B$91","v":0},{"$f":"Standing!$C$91","v":1.1620526300969862},{"$f":"Standing!$D$91","v":0.18122164873302235},{"$f":"Standing!$E$91","v":0.19204119615064408},{"$f":"Standing!$F$91","v":0.32812679118837768},{"$f":"Standing!$G$91","v":0},{"$f":"Standing!$H$91","v":0},{"$f":"Standing!$I$91","v":0},{"$f":"Standing!$J$91","v":0},null,null,{"$f":"Standing!$K$91","v":0.47904587672404769},{"$f":"Standing!$L$91","v":0.59372381996436863},{"$f":"Standing!$M$91","v":9.2590995243503685E-2},{"$f":"Standing!$N$91","v":9.811899187351851E-2},{"$f":"Standing!$O$91","v":0.16764876809474169},{"$f":"Standing!$P$91","v":0},{"$f":"Standing!$Q$91","v":0},{"$f":"Standing!$R$91","v":0},{"$f":"Standing!$S$91","v":0}]
["HV HH Metered",{"$f":"Standing!$B$92","v":0},{"$f":"Standing!$C$92","v":1.0136384246247745},{"$f":"Standing!$D$92","v":0.15807651200300094},{"$f":"Standing!$E$92","v":0.13401137297056817},{"$f":"Standing!$F$92","v":0},{"$f":"Standing!$G$92","v":0},{"$f":"Standing!$H$92","v":0},{"$f":"Standing!$I$92","v":0},{"$f":"Standing!$J$92","v":0},null,null,{"$f":"Standing!$K$92","v":0.41786343856476671},{"$f":"Standing!$L$92","v":0.51789502639020513},{"$f":"Standing!$M$92","v":8.0765524832753871E-2},{"$f":"Standing!$N$92","v":6.8470000598952932E-2},{"$f":"Standing!$O$92","v":0},{"$f":"Standing!$P$92","v":0},{"$f":"Standing!$Q$92","v":0},{"$f":"Standing!$R$92","v":0},{"$f":"Standing!$S$92","v":0}]
["HV Sub HH Metered",{"$f":"Standing!$B$93","v":0},{"$f":"Standing!$C$93","v":0.92349450327314819},{"$f":"Standing!$D$93","v":0.14401860306884343},{"$f":"Standing!$E$93","v":0},{"$f":"Standing!$F$93","v":0},{"$f":"Standing!$G$93","v":0},{"$f":"Standing!$H$93","v":0},{"$f":"Standing!$I$93","v":0},{"$f":"Standing!$J$93","v":0},null,null,{"$f":"Standing!$K$93","v":0.38070240754362494},{"$f":"Standing!$L$93","v":0.47183808202703259},{"$f":"Standing!$M$93","v":7.3582962548632017E-2},{"$f":"Standing!$N$93","v":0},{"$f":"Standing!$O$93","v":0},{"$f":"Standing!$P$93","v":0},{"$f":"Standing!$Q$93","v":0},{"$f":"Standing!$R$93","v":0},{"$f":"Standing!$S$93","v":0}]
["NHH UMS category A",{"$f":"Yard!$B$80","v":0},{"$f":"Yard!$C$80","v":0.14612723416845816},{"$f":"Yard!$D$80","v":2.2788484458396908E-2},{"$f":"Yard!$E$80","v":2.6254452511857356E-2},{"$f":"Yard!$F$80","v":4.4859068938341989E-2},{"$f":"Yard!$G$80","v":0},{"$f":"Yard!$H$80","v":0.14038813221119253},{"$f":"Yard!$I$80","v":5.1508199216429094E-2},{"$f":"Yard!$J$80","v":2.0840455001703315E-2},null,null,{"$f":"Yard!$K$80","v":4.764945462199846E-2},{"$f":"Yard!$L$80","v":7.4660318667394407E-2},{"$f":"Yard!$M$80","v":1.1643247210506141E-2},{"$f":"Yard!$N$80","v":1.3414103141879278E-2},{"$f":"Yard!$O$80","v":2.2919700089568631E-2},{"$f":"Yard!$P$80","v":0},{"$f":"Yard!$Q$80","v":0.11698283010496499},{"$f":"Yard!$R$80","v":7.3356908498469431E-2},{"$f":"Yard!$S$80","v":0.1020375824773101},{"$f":"Otex!$B$157","v":0.7523252419266635}]
["NHH UMS category B",{"$f":"Yard!$B$81","v":0},{"$f":"Yard!$C$81","v":0.14460763096744289},{"$f":"Yard!$D$81","v":2.2551502939336984E-2},{"$f":"Yard!$E$81","v":2.8503630161473701E-2},{"$f":"Yard!$F$81","v":4.870207481298934E-2},{"$f":"Yard!$G$81","v":0},{"$f":"Yard!$H$81","v":0.15241496267349955},{"$f":"Yard!$I$81","v":5.5920825623216902E-2},{"$f":"Yard!$J$81","v":2.2625824000599652E-2},null,null,{"$f":"Yard!$K$81","v":4.4103339749090142E-2},{"$f":"Yard!$L$81","v":7.3883912682011832E-2},{"$f":"Yard!$M$81","v":1.1522167003712518E-2},{"$f":"Yard!$N$81","v":1.4563268258262383E-2},{"$f":"Yard!$O$81","v":2.4883194744583264E-2},{"$f":"Yard!$P$81","v":0},{"$f":"Yard!$Q$81","v":0.12700456515132033},{"$f":"Yard!$R$81","v":7.9641279462411368E-2},{"$f":"Yard!$S$81","v":0.11077898166760744},{"$f":"Otex!$B$158","v":0.7523252419266635}]
["NHH UMS category C",{"$f":"Yard!$B$82","v":0},{"$f":"Yard!$C$82","v":0.27622798089756428},{"$f":"Yard!$D$82","v":4.3077644529983521E-2},{"$f":"Yard!$E$82","v":5.2600183916675002E-2},{"$f":"Yard!$F$82","v":8.98740994664399E-2},{"$f":"Yard!$G$82","v":0},{"$f":"Yard!$H$82","v":0.28126435204436889},{"$f":"Yard!$I$82","v":0.1031954770634535},{"$f":"Yard!$J$82","v":4.1753366043405356E-2},null,null,{"$f":"Yard!$K$82","v":8.5812379724868798E-2},{"$f":"Yard!$L$82","v":0.14113227555438573},{"$f":"Yard!$M$82","v":2.2009522635196295E-2},{"$f":"Yard!$N$82","v":2.6874843115522344E-2},{"$f":"Yard!$O$82","v":4.5919085133535466E-2},{"$f":"Yard!$P$82","v":0},{"$f":"Yard!$Q$82","v":0.23437237458428303},{"$f":"Yard!$R$82","v":0.14696885706664531},{"$f":"Yard!$S$82","v":0.20442991916496472},{"$f":"Otex!$B$159","v":0.7523252419266635}]
["NHH UMS category D",{"$f":"Yard!$B$83","v":0},{"$f":"Yard!$C$83","v":0.15610675995653173},{"$f":"Yard!$D$83","v":2.4344787563822929E-2},{"$f":"Yard!$E$83","v":2.6037991518805481E-2},{"$f":"Yard!$F$83","v":4.4489217820502427E-2},{"$f":"Yard!$G$83","v":0},{"$f":"Yard!$H$83","v":0.13923066931999689},{"$f":"Yard!$I$83","v":5.1083527784119974E-2},{"$f":"Yard!$J$83","v":2.0668630981252521E-2},null,null,{"$f":"Yard!$K$83","v":5.3289666620260238E-2},{"$f":"Yard!$L$83","v":7.975912574279638E-2},{"$f":"Yard!$M$83","v":1.2438404160238118E-2},{"$f":"Yard!$N$83","v":1.3303507421565547E-2},{"$f":"Yard!$O$83","v":2.2730733245198191E-2},{"$f":"Yard!$P$83","v":0},{"$f":"Yard!$Q$83","v":0.1160183377178888},{"$f":"Yard!$R$83","v":7.2752100256757934E-2},{"$f":"Yard!$S$83","v":0.10119630969046846},{"$f":"Otex!$B$160","v":0.7523252419266635}]
["LV UMS (Pseudo HH Metered)",{"$f":"Yard!$B$84","v":0},{"$f":"Yard!$C$84","v":2.4855055200599012},{"$f":"Yard!$D$84","v":0.38761360425017083},{"$f":"Yard!$E$84","v":0.47192805769730556},{"$f":"Yard!$F$84","v":0.80634906649148719},{"$f":"Yard!$G$84","v":0},{"$f":"Yard!$H$84","v":2.5234995293944369},{"$f":"Yard!$I$84","v":0.92586826561006785},{"$f":"Yard!$J$84","v":0.37461057114179208},null,null,{"$f":"Yard!$K$84","v":0.76788755405094722},{"$f":"Yard!$L$84","v":1.2699113565874596},{"$f":"Yard!$M$84","v":0.1980421745324574},{"$f":"Yard!$N$84","v":0.24112068757249294},{"$f":"Yard!$O$84","v":0.41198534006335968},{"$f":"Yard!$P$84","v":0},{"$f":"Yard!$Q$84","v":2.1027854140335442},{"$f":"Yard!$R$84","v":1.3186023715682702},{"$f":"Yard!$S$84","v":1.834142155083885},{"$f":"Otex!$B$161","v":0.7523252419266635}]
["LV Generation NHH",{"$f":"Yard!$B$41","v":0},{"$f":"Yard!$C$41","v":-0.12061131267457495},{"$f":"Yard!$D$41","v":-1.8809286578454112E-2},{"$f":"Yard!$E$41","v":-2.1664256993022324E-2},{"$f":"Yard!$F$41","v":-3.7016136501381323E-2},{"$f":"Yard!$G$41","v":0},{"$f":"Yard!$H$41","v":-0.11584338213185263},{"$f":"Yard!$I$41","v":-4.2502766514309918E-2},{"$f":"Yard!$J$41","v":0},null,null,{"$f":"Yard!$K$41","v":-3.933839706843318E-2},{"$f":"Yard!$L$41","v":-6.1623550807753752E-2},{"$f":"Yard!$M$41","v":-9.610168411418896E-3},{"$f":"Yard!$N$41","v":-1.1068849280529982E-2},{"$f":"Yard!$O$41","v":-1.8912535796324789E-2},{"$f":"Yard!$P$41","v":0},{"$f":"Yard!$Q$41","v":-9.6530144516265862E-2},{"$f":"Yard!$R$41","v":-6.0531558112161009E-2},{"$f":"Yard!$S$41","v":0}]
["LV Sub Generation NHH",{"$f":"Yard!$B$42","v":0},{"$f":"Yard!$C$42","v":-0.11769961896098259},{"$f":"Yard!$D$42","v":-1.8355209093737487E-2},{"$f":"Yard!$E$42","v":-2.1141257288455395E-2},{"$f":"Yard!$F$42","v":-3.6122525035238412E-2},{"$f":"Yard!$G$42","v":0},{"$f":"Yard!$H$42","v":-0.11304679166256001},{"$f":"Yard!$I$42","v":0},{"$f":"Yard!$J$42","v":0},null,null,{"$f":"Yard!$K$42","v":-3.8388723601600068E-2},{"$f":"Yard!$L$42","v":-6.0135888485561E-2},{"$f":"Yard!$M$42","v":-9.3781680597968993E-3},{"$f":"Yard!$N$42","v":-1.0801634720368625E-2},{"$f":"Yard!$O$42","v":-1.8455965758530504E-2},{"$f":"Yard!$P$42","v":0},{"$f":"Yard!$Q$42","v":-9.4199797480589986E-2},{"$f":"Yard!$R$42","v":0},{"$f":"Yard!$S$42","v":0}]
["LV Generation Intermittent",{"$f":"Yard!$B$43","v":0},{"$f":"Yard!$C$43","v":-0.12061131267457495},{"$f":"Yard!$D$43","v":-1.8809286578454112E-2},{"$f":"Yard!$E$43","v":-2.1664256993022324E-2},{"$f":"Yard!$F$43","v":-3.7016136501381323E-2},{"$f":"Yard!$G$43","v":0},{"$f":"Yard!$H$43","v":-0.11584338213185263},{"$f":"Yard!$I$43","v":-4.2502766514309918E-2},{"$f":"Yard!$J$43","v":0},null,null,{"$f":"Yard!$K$43","v":-3.933839706843318E-2},{"$f":"Yard!$L$43","v":-6.1623550807753752E-2},{"$f":"Yard!$M$43","v":-9.610168411418896E-3},{"$f":"Yard!$N$43","v":-1.1068849280529982E-2},{"$f":"Yard!$O$43","v":-1.8912535796324789E-2},{"$f":"Yard!$P$43","v":0},{"$f":"Yard!$Q$43","v":-9.6530144516265862E-2},{"$f":"Yard!$R$43","v":-6.0531558112161009E-2},{"$f":"Yard!$S$43","v":0}]
["LV Generation Non-Intermittent",{"$f":"Yard!$B$76","v":0},{"$f":"Yard!$C$76","v":-0.96845528726891983},{"$f":"Yard!$D$76","v":-0.15103021957657681},{"$f":"Yard!$E$76","v":-0.16004723621684555},{"$f":"Yard!$F$76","v":-0.2734610443542882},{"$f":"Yard!$G$76","v":0},{"$f":"Yard!$H$76","v":-0.85580655501762481},{"$f":"Yard!$I$76","v":-0.31399416626086663},{"$f":"Yard!$J$76","v":0},null,null,{"$f":"Yard!$K$76","v":-0.39923709145519387},{"$f":"Yard!$L$76","v":-0.49480975106437591},{"$f":"Yard!$M$76","v":-7.7165385262781577E-2},{"$f":"Yard!$N$76","v":-8.1772420629067699E-2},{"$f":"Yard!$O$76","v":-0.13971857354853437},{"$f":"Yard!$P$76","v":0},{"$f":"Yard!$Q$76","v":-0.71312774984237925},{"$f":"Yard!$R$76","v":-0.44718397602424359},{"$f":"Yard!$S$76","v":0}]
["LV Sub Generation Intermittent",{"$f":"Yard!$B$45","v":0},{"$f":"Yard!$C$45","v":-0.11769961896098259},{"$f":"Yard!$D$45","v":-1.8355209093737487E-2},{"$f":"Yard!$E$45","v":-2.1141257288455395E-2},{"$f":"Yard!$F$45","v":-3.6122525035238412E-2},{"$f":"Yard!$G$45","v":0},{"$f":"Yard!$H$45","v":-0.11304679166256001},{"$f":"Yard!$I$45","v":0},{"$f":"Yard!$J$45","v":0},null,null,{"$f":"Yard!$K$45","v":-3.8388723601600068E-2},{"$f":"Yard!$L$45","v":-6.0135888485561E-2},{"$f":"Yard!$M$45","v":-9.3781680597968993E-3},{"$f":"Yard!$N$45","v":-1.0801634720368625E-2},{"$f":"Yard!$O$45","v":-1.8455965758530504E-2},{"$f":"Yard!$P$45","v":0},{"$f":"Yard!$Q$45","v":-9.4199797480589986E-2},{"$f":"Yard!$R$45","v":0},{"$f":"Yard!$S$45","v":0}]
["LV Sub Generation Non-Intermittent",{"$f":"Yard!$B$77","v":0},{"$f":"Yard!$C$77","v":-0.9450756795911186},{"$f":"Yard!$D$77","v":-0.14738417899255546},{"$f":"Yard!$E$77","v":-0.15618351463686597},{"$f":"Yard!$F$77","v":-0.26685938497340467},{"$f":"Yard!$G$77","v":0},{"$f":"Yard!$H$77","v":-0.83514641534217604},{"$f":"Yard!$I$77","v":0},{"$f":"Yard!$J$77","v":0},null,null,{"$f":"Yard!$K$77","v":-0.38959905582117804},{"$f":"Yard!$L$77","v":-0.48286448316495734},{"$f":"Yard!$M$77","v":-7.530252545142381E-2},{"$f":"Yard!$N$77","v":-7.9798341765227626E-2},{"$f":"Yard!$O$77","v":-0.13634560891319369},{"$f":"Yard!$P$77","v":0},{"$f":"Yard!$Q$77","v":-0.69591203814702007},{"$f":"Yard!$R$77","v":0},{"$f":"Yard!$S$77","v":0}]
["HV Generation Intermittent",{"$f":"Yard!$B$47","v":0},{"$f":"Yard!$C$47","v":-0.11691570142270775},{"$f":"Yard!$D$47","v":-1.823295746323686E-2},{"$f":"Yard!$E$47","v":-2.1000449675687378E-2},{"$f":"Yard!$F$47","v":-2.6637276623324626E-2},{"$f":"Yard!$G$47","v":0},{"$f":"Yard!$H$47","v":0},{"$f":"Yard!$I$47","v":0},{"$f":"Yard!$J$47","v":0},null,null,{"$f":"Yard!$K$47","v":-3.813304228360654E-2},{"$f":"Yard!$L$47","v":-5.9735364014201417E-2},{"$f":"Yard!$M$47","v":-9.3157064266679006E-3},{"$f":"Yard!$N$47","v":-1.0729692338786722E-2},{"$f":"Yard!$O$47","v":-1.8333043056047427E-2},{"$f":"Yard!$P$47","v":0},{"$f":"Yard!$Q$47","v":0},{"$f":"Yard!$R$47","v":0},{"$f":"Yard!$S$47","v":0}]
["HV Generation Non-Intermittent",{"$f":"Yard!$B$78","v":0},{"$f":"Yard!$C$78","v":-0.93878116983171067},{"$f":"Yard!$D$78","v":-0.14640255268147279},{"$f":"Yard!$E$78","v":-0.15514328190379456},{"$f":"Yard!$F$78","v":-0.19678600125911555},{"$f":"Yard!$G$78","v":0},{"$f":"Yard!$H$78","v":0},{"$f":"Yard!$I$78","v":0},{"$f":"Yard!$J$78","v":0},null,null,{"$f":"Yard!$K$78","v":-0.3870042000735584},{"$f":"Yard!$L$78","v":-0.47964844949972935},{"$f":"Yard!$M$78","v":-7.4800986271442868E-2},{"$f":"Yard!$N$78","v":-7.9266858994193765E-2},{"$f":"Yard!$O$78","v":-0.13543750304983279},{"$f":"Yard!$P$78","v":0},{"$f":"Yard!$Q$78","v":0},{"$f":"Yard!$R$78","v":0},{"$f":"Yard!$S$78","v":0}]
["HV Sub Generation Intermittent",{"$f":"Yard!$B$49","v":0},{"$f":"Yard!$C$49","v":-0.11501190168689737},{"$f":"Yard!$D$49","v":-1.7936060646306751E-2},{"$f":"Yard!$E$49","v":-2.0658488330393621E-2},{"$f":"Yard!$F$49","v":0},{"$f":"Yard!$G$49","v":0},{"$f":"Yard!$H$49","v":0},{"$f":"Yard!$I$49","v":0},{"$f":"Yard!$J$49","v":0},null,null,{"$f":"Yard!$K$49","v":-3.7512101939907963E-2},{"$f":"Yard!$L$49","v":-5.8762661726613832E-2},{"$f":"Yard!$M$49","v":-9.1640138890689005E-3},{"$f":"Yard!$N$49","v":-1.0554975126373531E-2},{"$f":"Yard!$O$49","v":0},{"$f":"Yard!$P$49","v":0},{"$f":"Yard!$Q$49","v":0},{"$f":"Yard!$R$49","v":0},{"$f":"Yard!$S$49","v":0}]
["HV Sub Generation Non-Intermittent",{"$f":"Yard!$B$79","v":0},{"$f":"Yard!$C$79","v":-0.92349450327314819},{"$f":"Yard!$D$79","v":-0.14401860306884343},{"$f":"Yard!$E$79","v":-0.15261700240919254},{"$f":"Yard!$F$79","v":0},{"$f":"Yard!$G$79","v":0},{"$f":"Yard!$H$79","v":0},{"$f":"Yard!$I$79","v":0},{"$f":"Yard!$J$79","v":0},null,null,{"$f":"Yard!$K$79","v":-0.38070240754362494},{"$f":"Yard!$L$79","v":-0.47183808202703259},{"$f":"Yard!$M$79","v":-7.3582962548632017E-2},{"$f":"Yard!$N$79","v":-7.797611512168294E-2},{"$f":"Yard!$O$79","v":0},{"$f":"Yard!$P$79","v":0},{"$f":"Yard!$Q$79","v":0},{"$f":"Yard!$R$79","v":0},{"$f":"Yard!$S$79","v":0}]
[]
["3302. Unit rate 2 p/kWh (elements)"]
["Data sources:"]
["x1 = 3005. Unit rate 2 total p/kWh (taking account of standing charges) (in Unit rate 2 (taking account of standing charges)) — for Tariffs with Unit rate 2 p/kWh from Standard 2 kWh"]
["x2 = 2904. Pay-as-you-go unit rate 2 (p/kWh) (in Pay-as-you-go unit rate 2 p/kWh) — for Tariffs with Unit rate 2 p/kWh from PAYG 2 kWh"]
["x3 = 2904. Pay-as-you-go unit rate 2 (p/kWh) (in Pay-as-you-go unit rate 2 p/kWh) — for Tariffs with Unit rate 2 p/kWh from PAYG 2 kWh & customer"]
["x4 = 2203. Service model asset p/kWh charge for unmetered tariffs — for Tariffs with Unit rate 2 p/kWh from PAYG 2 kWh & customer"]
["x5 = 2712. Operating expenditure for unmetered customer assets (p/kWh) — for Tariffs with Unit rate 2 p/kWh from PAYG 2 kWh & customer"]
["Combine tables = x1 or x2 or x3 or x4 or x5"]
[]
[null,"GSPs","Assets\n132kV","Assets\n132kV/EHV","Assets\nEHV","Assets\nEHV/HV","Assets\n132kV/HV","Assets\nHV","Assets\nHV/LV","Assets\nLV circuits","Assets\nLV customer","Assets\nHV customer","Transmission\nexit","Operating\n132kV","Operating\n132kV/EHV","Operating\nEHV","Operating\nEHV/HV","Operating\n132kV/HV","Operating\nHV","Operating\nHV/LV","Operating\nLV circuits","Operating\nLV customer","Operating\nHV customer"]
["Domestic Unrestricted"]
["Domestic Two Rate",{"$f":"Standing!$B$110","v":0},{"$f":"Standing!$C$110","v":9.5610585632865033E-3},{"$f":"Standing!$D$110","v":1.4910433069861488E-3},{"$f":"Standing!$E$110","v":4.462283994114578E-3},{"$f":"Standing!$F$110","v":7.6243793400011259E-3},{"$f":"Standing!$G$110","v":0},{"$f":"Standing!$H$110","v":2.3860779997096487E-2},{"$f":"Standing!$I$110","v":8.7544850849710729E-3},{"$f":"Standing!$J$110","v":0},null,null,{"$f":"Standing!$K$110","v":7.4937008921209471E-4},{"$f":"Standing!$L$110","v":4.8850009595724801E-3},{"$f":"Standing!$M$110","v":7.6181397040703356E-4},{"$f":"Standing!$N$110","v":2.2799004366355147E-3},{"$f":"Standing!$O$110","v":3.8954996609964817E-3},{"$f":"Standing!$P$110","v":0},{"$f":"Standing!$Q$110","v":1.9882745988622441E-2},{"$f":"Standing!$R$110","v":1.2467955997277442E-2},{"$f":"Standing!$S$110","v":0}]
["Domestic Off Peak (related MPAN)"]
["Small Non Domestic Unrestricted"]
["Small Non Domestic Two Rate",{"$f":"Standing!$B$111","v":0},{"$f":"Standing!$C$111","v":8.1422511070736343E-3},{"$f":"Standing!$D$111","v":1.2697808445207937E-3},{"$f":"Standing!$E$111","v":3.8001060814198506E-3},{"$f":"Standing!$F$111","v":6.492964216352877E-3},{"$f":"Standing!$G$111","v":0},{"$f":"Standing!$H$111","v":2.0319974097116885E-2},{"$f":"Standing!$I$111","v":7.4553686083126802E-3},{"$f":"Standing!$J$111","v":0},null,null,{"$f":"Standing!$K$111","v":6.381677717072474E-4},{"$f":"Standing!$L$111","v":4.1600942205151214E-3},{"$f":"Standing!$M$111","v":6.4876505073917896E-4},{"$f":"Standing!$N$111","v":1.9415760013744949E-3},{"$f":"Standing!$O$111","v":3.3174293638518226E-3},{"$f":"Standing!$P$111","v":0},{"$f":"Standing!$Q$111","v":1.6932258019961021E-2},{"$f":"Standing!$R$111","v":1.0617781268655074E-2},{"$f":"Standing!$S$111","v":0}]
["Small Non Domestic Off Peak (related MPAN)"]
["LV Medium Non-Domestic",{"$f":"Standing!$B$112","v":0},{"$f":"Standing!$C$112","v":7.5754104281777696E-3},{"$f":"Standing!$D$112","v":1.1813822645099371E-3},{"$f":"Standing!$E$112","v":3.5355533572724719E-3},{"$f":"Standing!$F$112","v":6.0409422636957541E-3},{"$f":"Standing!$G$112","v":0},{"$f":"Standing!$H$112","v":1.8905354508395325E-2},{"$f":"Standing!$I$112","v":6.9363467619238473E-3},{"$f":"Standing!$J$112","v":0},null,null,{"$f":"Standing!$K$112","v":5.9374032182797078E-4},{"$f":"Standing!$L$112","v":3.8704801320747721E-3},{"$f":"Standing!$M$112","v":6.0359984802448681E-4},{"$f":"Standing!$N$112","v":1.8064089272724791E-3},{"$f":"Standing!$O$112","v":3.0864792386264789E-3},{"$f":"Standing!$P$112","v":0},{"$f":"Standing!$Q$112","v":1.5753481720254859E-2},{"$f":"Standing!$R$112","v":9.8786011250380848E-3},{"$f":"Standing!$S$112","v":0}]
["LV Sub Medium Non-Domestic",{"$f":"Standing!$B$113","v":0},{"$f":"Standing!$C$113","v":7.5186066757184427E-3},{"$f":"Standing!$D$113","v":1.1725237417474679E-3},{"$f":"Standing!$E$113","v":3.5090422263420306E-3},{"$f":"Standing!$F$113","v":5.9956446270565972E-3},{"$f":"Standing!$G$113","v":0},{"$f":"Standing!$H$113","v":1.8763593862179215E-2},{"$f":"Standing!$I$113","v":0},{"$f":"Standing!$J$113","v":0},null,null,{"$f":"Standing!$K$113","v":5.8928819628493946E-4},{"$f":"Standing!$L$113","v":3.8414575731777218E-3},{"$f":"Standing!$M$113","v":5.990737914264001E-4},{"$f":"Standing!$N$113","v":1.792863680250162E-3},{"$f":"Standing!$O$113","v":3.0633354625493893E-3},{"$f":"Standing!$P$113","v":0},{"$f":"Standing!$Q$113","v":1.5635355199653238E-2},{"$f":"Standing!$R$113","v":0},{"$f":"Standing!$S$113","v":0}]
["HV Medium Non-Domestic",{"$f":"Standing!$B$114","v":0},{"$f":"Standing!$C$114","v":6.9970689313867988E-3},{"$f":"Standing!$D$114","v":1.0911901364903693E-3},{"$f":"Standing!$E$114","v":2.6125064283686336E-3},{"$f":"Standing!$F$114","v":0},{"$f":"Standing!$G$114","v":0},{"$f":"Standing!$H$114","v":0},{"$f":"Standing!$I$114","v":0},{"$f":"Standing!$J$114","v":0},null,null,{"$f":"Standing!$K$114","v":5.4841146873324271E-4},{"$f":"Standing!$L$114","v":3.5749899676663093E-3},{"$f":"Standing!$M$114","v":5.5751827358321198E-4},{"$f":"Standing!$N$114","v":1.3347995229811898E-3},{"$f":"Standing!$O$114","v":0},{"$f":"Standing!$P$114","v":0},{"$f":"Standing!$Q$114","v":0},{"$f":"Standing!$R$114","v":0},{"$f":"Standing!$S$114","v":0}]
["LV HH Metered",{"$f":"Standing!$B$115","v":0},{"$f":"Standing!$C$115","v":0.11633380967494517},{"$f":"Standing!$D$115","v":1.8142211674980369E-2},{"$f":"Standing!$E$115","v":2.1830911982670977E-2},{"$f":"Standing!$F$115","v":3.7300887732289352E-2},{"$f":"Standing!$G$115","v":0},{"$f":"Standing!$H$115","v":9.338761739800007E-2},{"$f":"Standing!$I$115","v":0},{"$f":"Standing!$J$115","v":0},null,null,{"$f":"Standing!$K$115","v":1.2864498961231817E-2},{"$f":"Standing!$L$115","v":5.9438059931460757E-2},{"$f":"Standing!$M$115","v":9.2693419723790926E-3},{"$f":"Standing!$N$115","v":1.1153997779408266E-2},{"$f":"Standing!$O$115","v":1.9058022828646343E-2},{"$f":"Standing!$P$115","v":0},{"$f":"Standing!$Q$115","v":7.7818171720833884E-2},{"$f":"Standing!$R$115","v":0},{"$f":"Standing!$S$115","v":0}]
["LV Sub HH Metered",{"$f":"Standing!$B$116","v":0},{"$f":"Standing!$C$116","v":0.11726382565668216},{"$f":"Standing!$D$116","v":1.828724730004011E-2},{"$f":"Standing!$E$116","v":2.2005436457512021E-2},{"$f":"Standing!$F$116","v":3.7599084978824436E-2},{"$f":"Standing!$G$116","v":0},{"$f":"Standing!$H$116","v":0},{"$f":"Standing!$I$116","v":0},{"$f":"Standing!$J$116","v":0},null,null,{"$f":"Standing!$K$116","v":1.2967342577068127E-2},{"$f":"Standing!$L$116","v":5.9913230011544562E-2},{"$f":"Standing!$M$116","v":9.3434445587087696E-3},{"$f":"Standing!$N$116","v":1.1243167009093889E-2},{"$f":"Standing!$O$116","v":1.9210379790568881E-2},{"$f":"Standing!$P$116","v":0},{"$f":"Standing!$Q$116","v":0},{"$f":"Standing!$R$116","v":0},{"$f":"Standing!$S$116","v":0}]
["HV HH Metered",{"$f":"Standing!$B$117","v":0},{"$f":"Standing!$C$117","v":0.10228720836352571},{"$f":"Standing!$D$117","v":1.5951649747902755E-2},{"$f":"Standing!$E$117","v":1.5355969508617806E-2},{"$f":"Standing!$F$117","v":0},{"$f":"Standing!$G$117","v":0},{"$f":"Standing!$H$117","v":0},{"$f":"Standing!$I$117","v":0},{"$f":"Standing!$J$117","v":0},null,null,{"$f":"Standing!$K$117","v":1.131118880587368E-2},{"$f":"Standing!$L$117","v":5.2261275014725606E-2},{"$f":"Standing!$M$117","v":8.1501251989490615E-3},{"$f":"Standing!$N$117","v":7.8457762064976354E-3},{"$f":"Standing!$O$117","v":0},{"$f":"Standing!$P$117","v":0},{"$f":"Standing!$Q$117","v":0},{"$f":"Standing!$R$117","v":0},{"$f":"Standing!$S$117","v":0}]
["HV Sub HH Metered",{"$f":"Standing!$B$118","v":0},{"$f":"Standing!$C$118","v":9.3190700336600527E-2},{"$f":"Standing!$D$118","v":1.4533052913596745E-2},{"$f":"Standing!$E$118","v":0},{"$f":"Standing!$F$118","v":0},{"$f":"Standing!$G$118","v":0},{"$f":"Standing!$H$118","v":0},{"$f":"Standing!$I$118","v":0},{"$f":"Standing!$J$118","v":0},null,null,{"$f":"Standing!$K$118","v":1.0305272998678899E-2},{"$f":"Standing!$L$118","v":4.7613625369432165E-2},{"$f":"Standing!$M$118","v":7.4253260722664527E-3},{"$f":"Standing!$N$118","v":0},{"$f":"Standing!$O$118","v":0},{"$f":"Standing!$P$118","v":0},{"$f":"Standing!$Q$118","v":0},{"$f":"Standing!$R$118","v":0},{"$f":"Standing!$S$118","v":0}]
["NHH UMS category A"]
["NHH UMS category B"]
["NHH UMS category C"]
["NHH UMS category D"]
["LV UMS (Pseudo HH Metered)",{"$f":"Yard!$B$112","v":0},{"$f":"Yard!$C$112","v":0.18296492643544648},{"$f":"Yard!$D$112","v":2.8533308019087246E-2},{"$f":"Yard!$E$112","v":2.7621257835586971E-2},{"$f":"Yard!$F$112","v":4.7194429548691352E-2},{"$f":"Yard!$G$112","v":0},{"$f":"Yard!$H$112","v":0.14769673049211474},{"$f":"Yard!$I$112","v":5.4189713175744954E-2},{"$f":"Yard!$J$112","v":2.1925407919019375E-2},null,null,{"$f":"Yard!$K$112","v":6.5843144880290028E-2},{"$f":"Yard!$L$112","v":9.3481682523868626E-2},{"$f":"Yard!$M$112","v":1.4578431470783318E-2},{"$f":"Yard!$N$112","v":1.4112440598320172E-2},{"$f":"Yard!$O$112","v":2.4112898389421211E-2},{"$f":"Yard!$P$112","v":0},{"$f":"Yard!$Q$112","v":0.12307294967231114},{"$f":"Yard!$R$112","v":7.7175865036327979E-2},{"$f":"Yard!$S$112","v":0.10734965329225092},{"$f":"Otex!$B$161","v":0.7523252419266635}]
["LV Generation NHH"]
["LV Sub Generation NHH"]
["LV Generation Intermittent"]
["LV Generation Non-Intermittent",{"$f":"Yard!$B$108","v":0},{"$f":"Yard!$C$108","v":-9.7727735406542129E-2},{"$f":"Yard!$D$108","v":-1.5240601740938357E-2},{"$f":"Yard!$E$108","v":-1.8339342585678847E-2},{"$f":"Yard!$F$108","v":-3.1335097654894416E-2},{"$f":"Yard!$G$108","v":0},{"$f":"Yard!$H$108","v":-9.8064358813875513E-2},{"$f":"Yard!$I$108","v":-3.5979669009470451E-2},{"$f":"Yard!$J$108","v":0},null,null,{"$f":"Yard!$K$108","v":-1.0806990281964145E-2},{"$f":"Yard!$L$108","v":-4.9931718133279887E-2},{"$f":"Yard!$M$108","v":-7.7868317233018205E-3},{"$f":"Yard!$N$108","v":-9.3700614357679277E-3},{"$f":"Yard!$O$108","v":-1.6009940855318833E-2},{"$f":"Yard!$P$108","v":0},{"$f":"Yard!$Q$108","v":-8.1715213713494536E-2},{"$f":"Yard!$R$108","v":-5.124149800389622E-2},{"$f":"Yard!$S$108","v":0}]
["LV Sub Generation Intermittent"]
["LV Sub Generation Non-Intermittent",{"$f":"Yard!$B$109","v":0},{"$f":"Yard!$C$109","v":-9.5368477170172494E-2},{"$f":"Yard!$D$109","v":-1.4872676350720718E-2},{"$f":"Yard!$E$109","v":-1.7896610081289198E-2},{"$f":"Yard!$F$109","v":-3.0578632901851463E-2},{"$f":"Yard!$G$109","v":0},{"$f":"Yard!$H$109","v":-9.5696974107133861E-2},{"$f":"Yard!$I$109","v":0},{"$f":"Yard!$J$109","v":0},null,null,{"$f":"Yard!$K$109","v":-1.0546097294655818E-2},{"$f":"Yard!$L$109","v":-4.8726309896079067E-2},{"$f":"Yard!$M$109","v":-7.5988487847634288E-3},{"$f":"Yard!$N$109","v":-9.1438575385256182E-3},{"$f":"Yard!$O$109","v":-1.5623442747390984E-2},{"$f":"Yard!$P$109","v":0},{"$f":"Yard!$Q$109","v":-7.974251588939904E-2},{"$f":"Yard!$R$109","v":0},{"$f":"Yard!$S$109","v":0}]
["HV Generation Intermittent"]
["HV Generation Non-Intermittent",{"$f":"Yard!$B$110","v":0},{"$f":"Yard!$C$110","v":-9.4733292260380672E-2},{"$f":"Yard!$D$110","v":-1.4773619514892896E-2},{"$f":"Yard!$E$110","v":-1.7777412868568907E-2},{"$f":"Yard!$F$110","v":-2.2549129734843222E-2},{"$f":"Yard!$G$110","v":0},{"$f":"Yard!$H$110","v":0},{"$f":"Yard!$I$110","v":0},{"$f":"Yard!$J$110","v":0},null,null,{"$f":"Yard!$K$110","v":-1.0475856874995885E-2},{"$f":"Yard!$L$110","v":-4.8401776909140402E-2},{"$f":"Yard!$M$110","v":-7.5482379936184793E-3},{"$f":"Yard!$N$110","v":-9.0829564892680754E-3},{"$f":"Yard!$O$110","v":-1.5519385564487335E-2},{"$f":"Yard!$P$110","v":0},{"$f":"Yard!$Q$110","v":0},{"$f":"Yard!$R$110","v":0},{"$f":"Yard!$S$110","v":0}]
["HV Sub Generation Intermittent"]
["HV Sub Generation Non-Intermittent",{"$f":"Yard!$B$111","v":0},{"$f":"Yard!$C$111","v":-9.3190700336600527E-2},{"$f":"Yard!$D$111","v":-1.4533052913596745E-2},{"$f":"Yard!$E$111","v":-1.7487933923391066E-2},{"$f":"Yard!$F$111","v":0},{"$f":"Yard!$G$111","v":0},{"$f":"Yard!$H$111","v":0},{"$f":"Yard!$I$111","v":0},{"$f":"Yard!$J$111","v":0},null,null,{"$f":"Yard!$K$111","v":-1.0305272998678899E-2},{"$f":"Yard!$L$111","v":-4.7613625369432165E-2},{"$f":"Yard!$M$111","v":-7.4253260722664527E-3},{"$f":"Yard!$N$111","v":-8.9350539410711811E-3},{"$f":"Yard!$O$111","v":0},{"$f":"Yard!$P$111","v":0},{"$f":"Yard!$Q$111","v":0},{"$f":"Yard!$R$111","v":0},{"$f":"Yard!$S$111","v":0}]
[]
["3303. Unit rate 3 p/kWh (elements)"]
["Data sources:"]
["x1 = 3006. Unit rate 3 total p/kWh (taking account of standing charges) (in Unit rate 3 (taking account of standing charges)) — for Tariffs with Unit rate 3 p/kWh from Standard 3 kWh"]
["x2 = 2905. Pay-as-you-go unit rate 3 (p/kWh) (in Pay-as-you-go unit rate 3 p/kWh) — for Tariffs with Unit rate 3 p/kWh from PAYG 3 kWh"]
["x3 = 2905. Pay-as-you-go unit rate 3 (p/kWh) (in Pay-as-you-go unit rate 3 p/kWh) — for Tariffs with Unit rate 3 p/kWh from PAYG 3 kWh & customer"]
["x4 = 2203. Service model asset p/kWh charge for unmetered tariffs — for Tariffs with Unit rate 3 p/kWh from PAYG 3 kWh & customer"]
["x5 = 2712. Operating expenditure for unmetered customer assets (p/kWh) — for Tariffs with Unit rate 3 p/kWh from PAYG 3 kWh & customer"]
["Combine tables = x1 or x2 or x3 or x4 or x5"]
[]
[null,"GSPs","Assets\n132kV","Assets\n132kV/EHV","Assets\nEHV","Assets\nEHV/HV","Assets\n132kV/HV","Assets\nHV","Assets\nHV/LV","Assets\nLV circuits","Assets\nLV customer","Assets\nHV customer","Transmission\nexit","Operating\n132kV","Operating\n132kV/EHV","Operating\nEHV","Operating\nEHV/HV","Operating\n132kV/HV","Operating\nHV","Operating\nHV/LV","Operating\nLV circuits","Operating\nLV customer","Operating\nHV customer"]
["Domestic Unrestricted"]
["Domestic Two Rate"]
["Domestic Off Peak (related MPAN)"]
["Small Non Domestic Unrestricted"]
["Small Non Domestic Two Rate"]
["Small Non Domestic Off Peak (related MPAN)"]
["LV Medium Non-Domestic"]
["LV Sub Medium Non-Domestic"]
["HV Medium Non-Domestic"]
["LV HH Metered",{"$f":"Standing!$B$131","v":0},{"$f":"Standing!$C$131","v":6.9178945542626271E-3},{"$f":"Standing!$D$131","v":1.0788429236462699E-3},{"$f":"Standing!$E$131","v":3.2286812111992171E-3},{"$f":"Standing!$F$131","v":5.5166122000716916E-3},{"$f":"Standing!$G$131","v":0},{"$f":"Standing!$H$131","v":1.3811555187933727E-2},{"$f":"Standing!$I$131","v":0},{"$f":"Standing!$J$131","v":0},null,null,{"$f":"Standing!$K$131","v":5.4220599371642016E-4},{"$f":"Standing!$L$131","v":3.5345376573216896E-3},{"$f":"Standing!$M$131","v":5.5120975176083998E-4},{"$f":"Standing!$N$131","v":1.649619726776397E-3},{"$f":"Standing!$O$131","v":2.8185849623826773E-3},{"$f":"Standing!$P$131","v":0},{"$f":"Standing!$Q$131","v":1.1508913101036224E-2},{"$f":"Standing!$R$131","v":0},{"$f":"Standing!$S$131","v":0}]
["LV Sub HH Metered",{"$f":"Standing!$B$132","v":0},{"$f":"Standing!$C$132","v":6.9731987905238858E-3},{"$f":"Standing!$D$132","v":1.0874675974498562E-3},{"$f":"Standing!$E$132","v":3.2544924962825419E-3},{"$f":"Standing!$F$132","v":5.5607140611338155E-3},{"$f":"Standing!$G$132","v":0},{"$f":"Standing!$H$132","v":0},{"$f":"Standing!$I$132","v":0},{"$f":"Standing!$J$132","v":0},null,null,{"$f":"Standing!$K$132","v":5.4654059120754373E-4},{"$f":"Standing!$L$132","v":3.5627940732212925E-3},{"$f":"Standing!$M$132","v":5.5561632866104845E-4},{"$f":"Standing!$N$132","v":1.6628074038066371E-3},{"$f":"Standing!$O$132","v":2.8411177846827786E-3},{"$f":"Standing!$P$132","v":0},{"$f":"Standing!$Q$132","v":0},{"$f":"Standing!$R$132","v":0},{"$f":"Standing!$S$132","v":0}]
["HV HH Metered",{"$f":"Standing!$B$133","v":0},{"$f":"Standing!$C$133","v":6.082600782059318E-3},{"$f":"Standing!$D$133","v":9.4857918975456521E-4},{"$f":"Standing!$E$133","v":2.2710700437791058E-3},{"$f":"Standing!$F$133","v":0},{"$f":"Standing!$G$133","v":0},{"$f":"Standing!$H$133","v":0},{"$f":"Standing!$I$133","v":0},{"$f":"Standing!$J$133","v":0},null,null,{"$f":"Standing!$K$133","v":4.7673791144801279E-4},{"$f":"Standing!$L$133","v":3.1077636916850351E-3},{"$f":"Standing!$M$133","v":4.8465452036607092E-4},{"$f":"Standing!$N$133","v":1.1603505270554215E-3},{"$f":"Standing!$O$133","v":0},{"$f":"Standing!$P$133","v":0},{"$f":"Standing!$Q$133","v":0},{"$f":"Standing!$R$133","v":0},{"$f":"Standing!$S$133","v":0}]
["HV Sub HH Metered",{"$f":"Standing!$B$134","v":0},{"$f":"Standing!$C$134","v":5.5416687562096978E-3},{"$f":"Standing!$D$134","v":8.6422105395414061E-4},{"$f":"Standing!$E$134","v":0},{"$f":"Standing!$F$134","v":0},{"$f":"Standing!$G$134","v":0},{"$f":"Standing!$H$134","v":0},{"$f":"Standing!$I$134","v":0},{"$f":"Standing!$J$134","v":0},null,null,{"$f":"Standing!$K$134","v":4.3434111220392663E-4},{"$f":"Standing!$L$134","v":2.8313870281756587E-3},{"$f":"Standing!$M$134","v":4.4155368884149466E-4},{"$f":"Standing!$N$134","v":0},{"$f":"Standing!$O$134","v":0},{"$f":"Standing!$P$134","v":0},{"$f":"Standing!$Q$134","v":0},{"$f":"Standing!$R$134","v":0},{"$f":"Standing!$S$134","v":0}]
["NHH UMS category A"]
["NHH UMS category B"]
["NHH UMS category C"]
["NHH UMS category D"]
["LV UMS (Pseudo HH Metered)",{"$f":"Yard!$B$135","v":0},{"$f":"Yard!$C$135","v":7.01558267507675E-3},{"$f":"Yard!$D$135","v":1.0940773475071653E-3},{"$f":"Yard!$E$135","v":3.2742736667875395E-3},{"$f":"Yard!$F$135","v":5.5945127050386553E-3},{"$f":"Yard!$G$135","v":0},{"$f":"Yard!$H$135","v":1.7508236525632895E-2},{"$f":"Yard!$I$135","v":6.4237462290189333E-3},{"$f":"Yard!$J$135","v":2.5990773559315186E-3},null,null,{"$f":"Yard!$K$135","v":5.498625262357939E-4},{"$f":"Yard!$L$135","v":3.5844491352984326E-3},{"$f":"Yard!$M$135","v":5.5899342703972317E-4},{"$f":"Yard!$N$135","v":1.6729141337527792E-3},{"$f":"Yard!$O$135","v":2.8583864173152983E-3},{"$f":"Yard!$P$135","v":0},{"$f":"Yard!$Q$135","v":1.4589289184605052E-2},{"$f":"Yard!$R$135","v":9.1485660828388524E-3},{"$f":"Yard!$S$135","v":1.2725421304337932E-2},{"$f":"Otex!$B$161","v":0.7523252419266635}]
["LV Generation NHH"]
["LV Sub Generation NHH"]
["LV Generation Intermittent"]
["LV Generation Non-Intermittent",{"$f":"Yard!$B$131","v":0},{"$f":"Yard!$C$131","v":-5.8114676245743374E-3},{"$f":"Yard!$D$131","v":-9.0629608092367055E-4},{"$f":"Yard!$E$131","v":-2.7122957977719106E-3},{"$f":"Yard!$F$131","v":-4.6343020909872272E-3},{"$f":"Yard!$G$131","v":0},{"$f":"Yard!$H$131","v":-1.4503221534766153E-2},{"$f":"Yard!$I$131","v":-5.3212106488384611E-3},{"$f":"Yard!$J$131","v":0},null,null,{"$f":"Yard!$K$131","v":-4.5548722282729223E-4},{"$f":"Yard!$L$131","v":-2.9692344979018346E-3},{"$f":"Yard!$M$131","v":-4.6305094730505331E-4},{"$f":"Yard!$N$131","v":-1.385784585154324E-3},{"$f":"Yard!$O$131","v":-2.3677890906715253E-3},{"$f":"Yard!$P$131","v":0},{"$f":"Yard!$Q$131","v":-1.2085265855833884E-2},{"$f":"Yard!$R$131","v":-7.578357787810578E-3},{"$f":"Yard!$S$131","v":0}]
["LV Sub Generation Intermittent"]
["LV Sub Generation Non-Intermittent",{"$f":"Yard!$B$132","v":0},{"$f":"Yard!$C$132","v":-5.671172213024725E-3},{"$f":"Yard!$D$132","v":-8.8441706689951509E-4},{"$f":"Yard!$E$132","v":-2.6468179047894878E-3},{"$f":"Yard!$F$132","v":-4.5224247888835424E-3},{"$f":"Yard!$G$132","v":0},{"$f":"Yard!$H$132","v":-1.4153097338012281E-2},{"$f":"Yard!$I$132","v":0},{"$f":"Yard!$J$132","v":0},null,null,{"$f":"Yard!$K$132","v":-4.4449124530314209E-4},{"$f":"Yard!$L$132","v":-2.8975538136442225E-3},{"$f":"Yard!$M$132","v":-4.5187237290400279E-4},{"$f":"Yard!$N$132","v":-1.3523301754848603E-3},{"$f":"Yard!$O$132","v":-2.3106279798475143E-3},{"$f":"Yard!$P$132","v":0},{"$f":"Yard!$Q$132","v":-1.1793513848172156E-2},{"$f":"Yard!$R$132","v":0},{"$f":"Yard!$S$132","v":0}]
["HV Generation Intermittent"]
["HV Generation Non-Intermittent",{"$f":"Yard!$B$133","v":0},{"$f":"Yard!$C$133","v":-5.6334003714536753E-3},{"$f":"Yard!$D$133","v":-8.7852656312378103E-4},{"$f":"Yard!$E$133","v":-2.6291892412942204E-3},{"$f":"Yard!$F$133","v":-3.3349019757659441E-3},{"$f":"Yard!$G$133","v":0},{"$f":"Yard!$H$133","v":0},{"$f":"Yard!$I$133","v":0},{"$f":"Yard!$J$133","v":0},null,null,{"$f":"Yard!$K$133","v":-4.41530789815871E-4},{"$f":"Yard!$L$133","v":-2.8782551678825587E-3},{"$f":"Yard!$M$133","v":-4.488627567191046E-4},{"$f":"Yard!$N$133","v":-1.3433232190353894E-3},{"$f":"Yard!$O$133","v":-2.295238450010281E-3},{"$f":"Yard!$P$133","v":0},{"$f":"Yard!$Q$133","v":0},{"$f":"Yard!$R$133","v":0},{"$f":"Yard!$S$133","v":0}]
["HV Sub Generation Intermittent"]
["HV Sub Generation Non-Intermittent",{"$f":"Yard!$B$134","v":0},{"$f":"Yard!$C$134","v":-5.5416687562096978E-3},{"$f":"Yard!$D$134","v":-8.6422105395414061E-4},{"$f":"Yard!$E$134","v":-2.5863767728057127E-3},{"$f":"Yard!$F$134","v":0},{"$f":"Yard!$G$134","v":0},{"$f":"Yard!$H$134","v":0},{"$f":"Yard!$I$134","v":0},{"$f":"Yard!$J$134","v":0},null,null,{"$f":"Yard!$K$134","v":-4.3434111220392663E-4},{"$f":"Yard!$L$134","v":-2.8313870281756587E-3},{"$f":"Yard!$M$134","v":-4.4155368884149466E-4},{"$f":"Yard!$N$134","v":-1.3214491819438169E-3},{"$f":"Yard!$O$134","v":0},{"$f":"Yard!$P$134","v":0},{"$f":"Yard!$Q$134","v":0},{"$f":"Yard!$R$134","v":0},{"$f":"Yard!$S$134","v":0}]
[]
["3304. Fixed charge p/MPAN/day (elements)"]
["Data sources:"]
["x1 = 3106. Fixed charge from standing charges factors p/MPAN/day — for Tariffs with Fixed charge p/MPAN/day from Fixed from network & customer"]
["x2 = 2206. Service model p/MPAN/day (in Replacement annuities for service models) — for Tariffs with Fixed charge p/MPAN/day from Customer"]
["x3 = 2206. Service model p/MPAN/day (in Replacement annuities for service models) — for Tariffs with Fixed charge p/MPAN/day from Fixed from network & customer"]
["x4 = 2711. Operating expenditure for customer assets p/MPAN/day total (in Operating expenditure for customer assets p/MPAN/day) — for Tariffs with Fixed charge p/MPAN/day from Customer"]
["x5 = 2711. Operating expenditure for customer assets p/MPAN/day total (in Operating expenditure for customer assets p/MPAN/day) — for Tariffs with Fixed charge p/MPAN/day from Fixed from network & customer"]
["Combine tables = x1 or x2 or x3 or x4 or x5"]
[]
[null,"GSPs","Assets\n132kV","Assets\n132kV/EHV","Assets\nEHV","Assets\nEHV/HV","Assets\n132kV/HV","Assets\nHV","Assets\nHV/LV","Assets\nLV circuits","Assets\nLV customer","Assets\nHV customer","Transmission\nexit","Operating\n132kV","Operating\n132kV/EHV","Operating\nEHV","Operating\nEHV/HV","Operating\n132kV/HV","Operating\nHV","Operating\nHV/LV","Operating\nLV circuits","Operating\nLV customer","Operating\nHV customer"]
["Domestic Unrestricted",{"$f":"NHH!$B$88","v":0},{"$f":"NHH!$C$88","v":0},{"$f":"NHH!$D$88","v":0},{"$f":"NHH!$E$88","v":0},{"$f":"NHH!$F$88","v":0},{"$f":"NHH!$G$88","v":0},{"$f":"NHH!$H$88","v":0},{"$f":"NHH!$I$88","v":0},{"$f":"NHH!$J$88","v":0.36758068432020513},{"$f":"SM!$B$108","v":0},{"$f":"SM!$C$108","v":0},{"$f":"NHH!$K$88","v":0},{"$f":"NHH!$L$88","v":0},{"$f":"NHH!$M$88","v":0},{"$f":"NHH!$N$88","v":0},{"$f":"NHH!$O$88","v":0},{"$f":"NHH!$P$88","v":0},{"$f":"NHH!$Q$88","v":0},{"$f":"NHH!$R$88","v":0},{"$f":"NHH!$S$88","v":1.7997229134547936},{"$f":"Otex!$B$121","v":2.1993755895122127},{"$f":"Otex!$C$121","v":0}]
["Domestic Two Rate",{"$f":"NHH!$B$89","v":0},{"$f":"NHH!$C$89","v":0},{"$f":"NHH!$D$89","v":0},{"$f":"NHH!$E$89","v":0},{"$f":"NHH!$F$89","v":0},{"$f":"NHH!$G$89","v":0},{"$f":"NHH!$H$89","v":0},{"$f":"NHH!$I$89","v":0},{"$f":"NHH!$J$89","v":0.36758068432020513},{"$f":"SM!$B$109","v":0},{"$f":"SM!$C$109","v":0},{"$f":"NHH!$K$89","v":0},{"$f":"NHH!$L$89","v":0},{"$f":"NHH!$M$89","v":0},{"$f":"NHH!$N$89","v":0},{"$f":"NHH!$O$89","v":0},{"$f":"NHH!$P$89","v":0},{"$f":"NHH!$Q$89","v":0},{"$f":"NHH!$R$89","v":0},{"$f":"NHH!$S$89","v":1.7997229134547936},{"$f":"Otex!$B$122","v":2.1993755895122127},{"$f":"Otex!$C$122","v":0}]
["Domestic Off Peak (related MPAN)"]
["Small Non Domestic Unrestricted",{"$f":"NHH!$B$90","v":0},{"$f":"NHH!$C$90","v":0},{"$f":"NHH!$D$90","v":0},{"$f":"NHH!$E$90","v":0},{"$f":"NHH!$F$90","v":0},{"$f":"NHH!$G$90","v":0},{"$f":"NHH!$H$90","v":0},{"$f":"NHH!$I$90","v":0},{"$f":"NHH!$J$90","v":0.36758068432020513},{"$f":"SM!$B$111","v":0},{"$f":"SM!$C$111","v":0},{"$f":"NHH!$K$90","v":0},{"$f":"NHH!$L$90","v":0},{"$f":"NHH!$M$90","v":0},{"$f":"NHH!$N$90","v":0},{"$f":"NHH!$O$90","v":0},{"$f":"NHH!$P$90","v":0},{"$f":"NHH!$Q$90","v":0},{"$f":"NHH!$R$90","v":0},{"$f":"NHH!$S$90","v":1.7997229134547936},{"$f":"Otex!$B$124","v":5.4301722130471024},{"$f":"Otex!$C$124","v":0}]
["Small Non Domestic Two Rate",{"$f":"NHH!$B$91","v":0},{"$f":"NHH!$C$91","v":0},{"$f":"NHH!$D$91","v":0},{"$f":"NHH!$E$91","v":0},{"$f":"NHH!$F$91","v":0},{"$f":"NHH!$G$91","v":0},{"$f":"NHH!$H$91","v":0},{"$f":"NHH!$I$91","v":0},{"$f":"NHH!$J$91","v":0.36758068432020513},{"$f":"SM!$B$112","v":0},{"$f":"SM!$C$112","v":0},{"$f":"NHH!$K$91","v":0},{"$f":"NHH!$L$91","v":0},{"$f":"NHH!$M$91","v":0},{"$f":"NHH!$N$91","v":0},{"$f":"NHH!$O$91","v":0},{"$f":"NHH!$P$91","v":0},{"$f":"NHH!$Q$91","v":0},{"$f":"NHH!$R$91","v":0},{"$f":"NHH!$S$91","v":1.7997229134547936},{"$f":"Otex!$B$125","v":5.4301722130471024},{"$f":"Otex!$C$125","v":0}]
["Small Non Domestic Off Peak (related MPAN)"]
["LV Medium Non-Domestic",{"$f":"NHH!$B$92","v":0},{"$f":"NHH!$C$92","v":0},{"$f":"NHH!$D$92","v":0},{"$f":"NHH!$E$92","v":0},{"$f":"NHH!$F$92","v":0},{"$f":"NHH!$G$92","v":0},{"$f":"NHH!$H$92","v":0},{"$f":"NHH!$I$92","v":0},{"$f":"NHH!$J$92","v":5.3268343164561198},{"$f":"SM!$B$114","v":0},{"$f":"SM!$C$114","v":0},{"$f":"NHH!$K$92","v":0},{"$f":"NHH!$L$92","v":0},{"$f":"NHH!$M$92","v":0},{"$f":"NHH!$N$92","v":0},{"$f":"NHH!$O$92","v":0},{"$f":"NHH!$P$92","v":0},{"$f":"NHH!$Q$92","v":0},{"$f":"NHH!$R$92","v":0},{"$f":"NHH!$S$92","v":26.080874715256126},{"$f":"Otex!$B$127","v":6.4143683168161498},{"$f":"Otex!$C$127","v":0}]
["LV Sub Medium Non-Domestic",{"$f":"NHH!$B$93","v":0},{"$f":"NHH!$C$93","v":0},{"$f":"NHH!$D$93","v":0},{"$f":"NHH!$E$93","v":0},{"$f":"NHH!$F$93","v":0},{"$f":"NHH!$G$93","v":0},{"$f":"NHH!$H$93","v":0},{"$f":"NHH!$I$93","v":5.6361289526004708},{"$f":"NHH!$J$93","v":0},{"$f":"SM!$B$115","v":0},{"$f":"SM!$C$115","v":0},{"$f":"NHH!$K$93","v":0},{"$f":"NHH!$L$93","v":0},{"$f":"NHH!$M$93","v":0},{"$f":"NHH!$N$93","v":0},{"$f":"NHH!$O$93","v":0},{"$f":"NHH!$P$93","v":0},{"$f":"NHH!$Q$93","v":0},{"$f":"NHH!$R$93","v":8.0268579012875509},{"$f":"NHH!$S$93","v":0},{"$f":"Otex!$B$128","v":4.7785854073475686},{"$f":"Otex!$C$128","v":0}]
["HV Medium Non-Domestic",{"$f":"NHH!$B$94","v":0},{"$f":"NHH!$C$94","v":0},{"$f":"NHH!$D$94","v":0},{"$f":"NHH!$E$94","v":3.9352902721073564},{"$f":"NHH!$F$94","v":24.957897852197053},{"$f":"NHH!$G$94","v":0},{"$f":"NHH!$H$94","v":62.071391799723827},{"$f":"NHH!$I$94","v":0},{"$f":"NHH!$J$94","v":0},{"$f":"SM!$B$116","v":0},{"$f":"SM!$C$116","v":0},{"$f":"NHH!$K$94","v":0},{"$f":"NHH!$L$94","v":0},{"$f":"NHH!$M$94","v":0},{"$f":"NHH!$N$94","v":2.0106452259646743},{"$f":"NHH!$O$94","v":17.177214562246583},{"$f":"NHH!$P$94","v":0},{"$f":"NHH!$Q$94","v":65.427621931673016},{"$f":"NHH!$R$94","v":0},{"$f":"NHH!$S$94","v":0},{"$f":"Otex!$B$129","v":0},{"$f":"Otex!$C$129","v":78.737422848170496}]
["LV HH Metered",null,null,null,null,null,null,null,null,null,{"$f":"SM!$B$117","v":0},{"$f":"SM!$C$117","v":0},null,null,null,null,null,null,null,null,null,{"$f":"Otex!$B$130","v":10.964917108839961},{"$f":"Otex!$C$130","v":0}]
["LV Sub HH Metered",null,null,null,null,null,null,null,null,null,{"$f":"SM!$B$118","v":0},{"$f":"SM!$C$118","v":0},null,null,null,null,null,null,null,null,null,{"$f":"Otex!$B$131","v":8.0532257660147852},{"$f":"Otex!$C$131","v":0}]
["HV HH Metered",null,null,null,null,null,null,null,null,null,{"$f":"SM!$B$119","v":0},{"$f":"SM!$C$119","v":0},null,null,null,null,null,null,null,null,null,{"$f":"Otex!$B$132","v":0},{"$f":"Otex!$C$132","v":78.737422848170496}]
["HV Sub HH Metered",null,null,null,null,null,null,null,null,null,{"$f":"SM!$B$120","v":0},{"$f":"SM!$C$120","v":0},null,null,null,null,null,null,null,null,null,{"$f":"Otex!$B$133","v":0},{"$f":"Otex!$C$133","v":78.737422848170496}]
["NHH UMS category A"]
["NHH UMS category B"]
["NHH UMS category C"]
["NHH UMS category D"]
["LV UMS (Pseudo HH Metered)"]
["LV Generation NHH",null,null,null,null,null,null,null,null,null,{"$f":"SM!$B$126","v":0},{"$f":"SM!$C$126","v":0},null,null,null,null,null,null,null,null,null,{"$f":"Otex!$B$139","v":0},{"$f":"Otex!$C$139","v":0}]
["LV Sub Generation NHH",null,null,null,null,null,null,null,null,null,{"$f":"SM!$B$127","v":0},{"$f":"SM!$C$127","v":0},null,null,null,null,null,null,null,null,null,{"$f":"Otex!$B$140","v":0},{"$f":"Otex!$C$140","v":0}]
["LV Generation Intermittent",null,null,null,null,null,null,null,null,null,{"$f":"SM!$B$128","v":0},{"$f":"SM!$C$128","v":0},null,null,null,null,null,null,null,null,null,{"$f":"Otex!$B$141","v":0},{"$f":"Otex!$C$141","v":0}]
["LV Generation Non-Intermittent",null,null,null,null,null,null,null,null,null,{"$f":"SM!$B$129","v":0},{"$f":"SM!$C$129","v":0},null,null,null,null,null,null,null,null,null,{"$f":"Otex!$B$142","v":0},{"$f":"Otex!$C$142","v":0}]
["LV Sub Generation Intermittent",null,null,null,null,null,null,null,null,null,{"$f":"SM!$B$130","v":0},{"$f":"SM!$C$130","v":0},null,null,null,null,null,null,null,null,null,{"$f":"Otex!$B$143","v":0},{"$f":"Otex!$C$143","v":0}]
["LV Sub Generation Non-Intermittent",null,null,null,null,null,null,null,null,null,{"$f":"SM!$B$131","v":0},{"$f":"SM!$C$131","v":0},null,null,null,null,null,null,null,null,null,{"$f":"Otex!$B$144","v":0},{"$f":"Otex!$C$144","v":0}]
["HV Generation Intermittent",null,null,null,null,null,null,null,null,null,{"$f":"SM!$B$132","v":0},{"$f":"SM!$C$132","v":0},null,null,null,null,null,null,null,null,null,{"$f":"Otex!$B$145","v":0},{"$f":"Otex!$C$145","v":38.694816549832751}]
["HV Generation Non-Intermittent",null,null,null,null,null,null,null,null,null,{"$f":"SM!$B$133","v":0},{"$f":"SM!$C$133","v":0},null,null,null,null,null,null,null,null,null,{"$f":"Otex!$B$146","v":0},{"$f":"Otex!$C$146","v":38.694816549832751}]
["HV Sub Generation Intermittent",null,null,null,null,null,null,null,null,null,{"$f":"SM!$B$134","v":0},{"$f":"SM!$C$134","v":0},null,null,null,null,null,null,null,null,null,{"$f":"Otex!$B$147","v":0},{"$f":"Otex!$C$147","v":38.694816549832751}]
["HV Sub Generation Non-Intermittent",null,null,null,null,null,null,null,null,null,{"$f":"SM!$B$135","v":0},{"$f":"SM!$C$135","v":0},null,null,null,null,null,null,null,null,null,{"$f":"Otex!$B$148","v":0},{"$f":"Otex!$C$148","v":38.694816549832751}]
[]
["3305. Capacity charge p/kVA/day (elements)"]
["Data sources:"]
["x1 = 3002. Capacity charge p/kVA/day — for Tariffs with Capacity charge p/kVA/day from Capacity"]
["Copy cells = x1"]
[]
[null,"GSPs","Assets\n132kV","Assets\n132kV/EHV","Assets\nEHV","Assets\nEHV/HV","Assets\n132kV/HV","Assets\nHV","Assets\nHV/LV","Assets\nLV circuits","Assets\nLV customer","Assets\nHV customer","Transmission\nexit","Operating\n132kV","Operating\n132kV/EHV","Operating\nEHV","Operating\nEHV/HV","Operating\n132kV/HV","Operating\nHV","Operating\nHV/LV","Operating\nLV circuits","Operating\nLV customer","Operating\nHV customer"]
["Domestic Unrestricted"]
["Domestic Two Rate"]
["Domestic Off Peak (related MPAN)"]
["Small Non Domestic Unrestricted"]
["Small Non Domestic Two Rate"]
["Small Non Domestic Off Peak (related MPAN)"]
["LV Medium Non-Domestic"]
["LV Sub Medium Non-Domestic"]
["HV Medium Non-Domestic"]
["LV HH Metered",{"$f":"Standing!$B$34","v":0},{"$f":"Standing!$C$34","v":0},{"$f":"Standing!$D$34","v":0},{"$f":"Standing!$E$34","v":0},{"$f":"Standing!$F$34","v":0},{"$f":"Standing!$G$34","v":0},{"$f":"Standing!$H$34","v":0.35439398118758036},{"$f":"Standing!$I$34","v":0.6501331521617747},{"$f":"Standing!$J$34","v":0.25854124685806679},null,null,{"$f":"Standing!$K$34","v":0},{"$f":"Standing!$L$34","v":0},{"$f":"Standing!$M$34","v":0},{"$f":"Standing!$N$34","v":0},{"$f":"Standing!$O$34","v":0},{"$f":"Standing!$P$34","v":0},{"$f":"Standing!$Q$34","v":0.29530993993937898},{"$f":"Standing!$R$34","v":0.9259061446617417},{"$f":"Standing!$S$34","v":1.265851623580696}]
["LV Sub HH Metered",{"$f":"Standing!$B$35","v":0},{"$f":"Standing!$C$35","v":0},{"$f":"Standing!$D$35","v":0},{"$f":"Standing!$E$35","v":0},{"$f":"Standing!$F$35","v":0},{"$f":"Standing!$G$35","v":0},{"$f":"Standing!$H$35","v":1.7291925451631709},{"$f":"Standing!$I$35","v":0.63443820141320817},{"$f":"Standing!$J$35","v":0},null,null,{"$f":"Standing!$K$35","v":0},{"$f":"Standing!$L$35","v":0},{"$f":"Standing!$M$35","v":0},{"$f":"Standing!$N$35","v":0},{"$f":"Standing!$O$35","v":0},{"$f":"Standing!$P$35","v":0},{"$f":"Standing!$Q$35","v":1.4409041173458095},{"$f":"Standing!$R$35","v":0.90355372148513524},{"$f":"Standing!$S$35","v":0}]
["HV HH Metered",{"$f":"Standing!$B$36","v":0},{"$f":"Standing!$C$36","v":0},{"$f":"Standing!$D$36","v":0},{"$f":"Standing!$E$36","v":8.6089166188414071E-2},{"$f":"Standing!$F$36","v":0.54598376926352432},{"$f":"Standing!$G$36","v":0},{"$f":"Standing!$H$36","v":1.3578856944982201},{"$f":"Standing!$I$36","v":0},{"$f":"Standing!$J$36","v":0},null,null,{"$f":"Standing!$K$36","v":0},{"$f":"Standing!$L$36","v":0},{"$f":"Standing!$M$36","v":0},{"$f":"Standing!$N$36","v":4.3985261323892529E-2},{"$f":"Standing!$O$36","v":0.37577204649541818},{"$f":"Standing!$P$36","v":0},{"$f":"Standing!$Q$36","v":1.431307229789748},{"$f":"Standing!$R$36","v":0},{"$f":"Standing!$S$36","v":0}]
["HV Sub HH Metered",{"$f":"Standing!$B$37","v":0},{"$f":"Standing!$C$37","v":0},{"$f":"Standing!$D$37","v":0},{"$f":"Standing!$E$37","v":0.42343665553400983},{"$f":"Standing!$F$37","v":0.5370932289594248},{"$f":"Standing!$G$37","v":0},{"$f":"Standing!$H$37","v":0},{"$f":"Standing!$I$37","v":0},{"$f":"Standing!$J$37","v":0},null,null,{"$f":"Standing!$K$37","v":0},{"$f":"Standing!$L$37","v":0},{"$f":"Standing!$M$37","v":0},{"$f":"Standing!$N$37","v":0.21634513112853271},{"$f":"Standing!$O$37","v":0.36965315301800233},{"$f":"Standing!$P$37","v":0},{"$f":"Standing!$Q$37","v":0},{"$f":"Standing!$R$37","v":0},{"$f":"Standing!$S$37","v":0}]
["NHH UMS category A"]
["NHH UMS category B"]
["NHH UMS category C"]
["NHH UMS category D"]
["LV UMS (Pseudo HH Metered)"]
["LV Generation NHH"]
["LV Sub Generation NHH"]
["LV Generation Intermittent"]
["LV Generation Non-Intermittent"]
["LV Sub Generation Intermittent"]
["LV Sub Generation Non-Intermittent"]
["HV Generation Intermittent"]
["HV Generation Non-Intermittent"]
["HV Sub Generation Intermittent"]
["HV Sub Generation Non-Intermittent"]
[]
["3306. Reactive power charge p/kVArh (elements)"]
["Data sources:"]
["x1 = 3206. Pay-as-you-go reactive p/kVArh"]
["x2 = 3202. Standard reactive p/kVArh"]
["Combine tables = x1 or x2"]
[]
[null,"GSPs","Assets\n132kV","Assets\n132kV/EHV","Assets\nEHV","Assets\nEHV/HV","Assets\n132kV/HV","Assets\nHV","Assets\nHV/LV","Assets\nLV circuits","Assets\nLV customer","Assets\nHV customer","Transmission\nexit","Operating\n132kV","Operating\n132kV/EHV","Operating\nEHV","Operating\nEHV/HV","Operating\n132kV/HV","Operating\nHV","Operating\nHV/LV","Operating\nLV circuits","Operating\nLV customer","Operating\nHV customer"]
["Domestic Unrestricted"]
["Domestic Two Rate"]
["Domestic Off Peak (related MPAN)"]
["Small Non Domestic Unrestricted"]
["Small Non Domestic Two Rate"]
["Small Non Domestic Off Peak (related MPAN)"]
["LV Medium Non-Domestic"]
["LV Sub Medium Non-Domestic"]
["HV Medium Non-Domestic"]
["LV HH Metered",{"$f":"Reactive!$B$22","v":0},{"$f":"Reactive!$C$22","v":4.7255545987146694E-2},{"$f":"Reactive!$D$22","v":7.3694837340156794E-3},{"$f":"Reactive!$E$22","v":8.4880619397067567E-3},{"$f":"Reactive!$F$22","v":1.4502932618162797E-2},{"$f":"Reactive!$G$22","v":0},{"$f":"Reactive!$H$22","v":3.6309975575233737E-2},{"$f":"Reactive!$I$22","v":0},{"$f":"Reactive!$J$22","v":0},null,null,{"$f":"Reactive!$K$22","v":1.5412794956835356E-2},{"$f":"Reactive!$L$22","v":2.4144124415129958E-2},{"$f":"Reactive!$M$22","v":3.7652666672764123E-3},{"$f":"Reactive!$N$22","v":4.3367782391372884E-3},{"$f":"Reactive!$O$22","v":7.409936806410217E-3},{"$f":"Reactive!$P$22","v":0},{"$f":"Reactive!$Q$22","v":3.025643006235787E-2},{"$f":"Reactive!$R$22","v":0},{"$f":"Reactive!$S$22","v":0}]
["LV Sub HH Metered",{"$f":"Reactive!$B$23","v":0},{"$f":"Reactive!$C$23","v":4.6114743577057721E-2},{"$f":"Reactive!$D$23","v":7.19157604870054E-3},{"$f":"Reactive!$E$23","v":8.283150509407429E-3},{"$f":"Reactive!$F$23","v":1.4152815396183002E-2},{"$f":"Reactive!$G$23","v":0},{"$f":"Reactive!$H$23","v":0},{"$f":"Reactive!$I$23","v":0},{"$f":"Reactive!$J$23","v":0},null,null,{"$f":"Reactive!$K$23","v":1.5040712627329582E-2},{"$f":"Reactive!$L$23","v":2.3561257901858482E-2},{"$f":"Reactive!$M$23","v":3.674368864723779E-3},{"$f":"Reactive!$N$23","v":4.2320834998452097E-3},{"$f":"Reactive!$O$23","v":7.2310525381031904E-3},{"$f":"Reactive!$P$23","v":0},{"$f":"Reactive!$Q$23","v":0},{"$f":"Reactive!$R$23","v":0},{"$f":"Reactive!$S$23","v":0}]
["HV HH Metered",{"$f":"Reactive!$B$24","v":0},{"$f":"Reactive!$C$24","v":3.7463531269526666E-2},{"$f":"Reactive!$D$24","v":5.8424229059729641E-3},{"$f":"Reactive!$E$24","v":5.3833727619166799E-3},{"$f":"Reactive!$F$24","v":0},{"$f":"Reactive!$G$24","v":0},{"$f":"Reactive!$H$24","v":0},{"$f":"Reactive!$I$24","v":0},{"$f":"Reactive!$J$24","v":0},null,null,{"$f":"Reactive!$K$24","v":1.221904675428487E-2},{"$f":"Reactive!$L$24","v":1.9141121769021354E-2},{"$f":"Reactive!$M$24","v":2.9850503804565946E-3},{"$f":"Reactive!$N$24","v":2.7505093639610305E-3},{"$f":"Reactive!$O$24","v":0},{"$f":"Reactive!$P$24","v":0},{"$f":"Reactive!$Q$24","v":0},{"$f":"Reactive!$R$24","v":0},{"$f":"Reactive!$S$24","v":0}]
["HV Sub HH Metered",{"$f":"Reactive!$B$25","v":0},{"$f":"Reactive!$C$25","v":3.6853492925099499E-2},{"$f":"Reactive!$D$25","v":5.7472876670825986E-3},{"$f":"Reactive!$E$25","v":0},{"$f":"Reactive!$F$25","v":0},{"$f":"Reactive!$G$25","v":0},{"$f":"Reactive!$H$25","v":0},{"$f":"Reactive!$I$25","v":0},{"$f":"Reactive!$J$25","v":0},null,null,{"$f":"Reactive!$K$25","v":1.2020077602155708E-2},{"$f":"Reactive!$L$25","v":1.8829436836000892E-2},{"$f":"Reactive!$M$25","v":2.9364432382460942E-3},{"$f":"Reactive!$N$25","v":0},{"$f":"Reactive!$O$25","v":0},{"$f":"Reactive!$P$25","v":0},{"$f":"Reactive!$Q$25","v":0},{"$f":"Reactive!$R$25","v":0},{"$f":"Reactive!$S$25","v":0}]
["NHH UMS category A"]
["NHH UMS category B"]
["NHH UMS category C"]
["NHH UMS category D"]
["LV UMS (Pseudo HH Metered)"]
["LV Generation NHH"]
["LV Sub Generation NHH"]
["LV Generation Intermittent",{"$f":"Reactive!$B$85","v":0},{"$f":"Reactive!$C$85","v":3.220430793488159E-2},{"$f":"Reactive!$D$85","v":5.022249103965374E-3},{"$f":"Reactive!$E$85","v":5.7845519455222314E-3},{"$f":"Reactive!$F$85","v":9.8836421892404009E-3},{"$f":"Reactive!$G$85","v":0},{"$f":"Reactive!$H$85","v":3.0931227491554941E-2},{"$f":"Reactive!$I$85","v":1.1348621871020806E-2},{"$f":"Reactive!$J$85","v":4.5917047583157915E-3},null,null,{"$f":"Reactive!$K$85","v":1.0503706698513715E-2},{"$f":"Reactive!$L$85","v":1.6454043673401361E-2},{"$f":"Reactive!$M$85","v":2.5660016126550843E-3},{"$f":"Reactive!$N$85","v":2.9554825564063634E-3},{"$f":"Reactive!$O$85","v":5.0498175760482055E-3},{"$f":"Reactive!$P$85","v":0},{"$f":"Reactive!$Q$85","v":2.5774418916972477E-2},{"$f":"Reactive!$R$85","v":1.616247177809834E-2},{"$f":"Reactive!$S$85","v":2.2481584636698748E-2}]
["LV Generation Non-Intermittent",{"$f":"Reactive!$B$86","v":0},{"$f":"Reactive!$C$86","v":3.220430793488159E-2},{"$f":"Reactive!$D$86","v":5.022249103965374E-3},{"$f":"Reactive!$E$86","v":5.7845519455222314E-3},{"$f":"Reactive!$F$86","v":9.8836421892404009E-3},{"$f":"Reactive!$G$86","v":0},{"$f":"Reactive!$H$86","v":3.0931227491554941E-2},{"$f":"Reactive!$I$86","v":1.1348621871020806E-2},{"$f":"Reactive!$J$86","v":4.5917047583157915E-3},null,null,{"$f":"Reactive!$K$86","v":1.0503706698513715E-2},{"$f":"Reactive!$L$86","v":1.6454043673401361E-2},{"$f":"Reactive!$M$86","v":2.5660016126550843E-3},{"$f":"Reactive!$N$86","v":2.9554825564063634E-3},{"$f":"Reactive!$O$86","v":5.0498175760482055E-3},{"$f":"Reactive!$P$86","v":0},{"$f":"Reactive!$Q$86","v":2.5774418916972477E-2},{"$f":"Reactive!$R$86","v":1.616247177809834E-2},{"$f":"Reactive!$S$86","v":2.2481584636698748E-2}]
["LV Sub Generation Intermittent",{"$f":"Reactive!$B$87","v":0},{"$f":"Reactive!$C$87","v":3.1426859461058998E-2},{"$f":"Reactive!$D$87","v":4.9010063215112424E-3},{"$f":"Reactive!$E$87","v":5.6449063089543785E-3},{"$f":"Reactive!$F$87","v":9.6450398708371986E-3},{"$f":"Reactive!$G$87","v":0},{"$f":"Reactive!$H$87","v":3.0184512621749534E-2},{"$f":"Reactive!$I$87","v":1.1074653283605263E-2},{"$f":"Reactive!$J$87","v":0},null,null,{"$f":"Reactive!$K$87","v":1.0250135320462317E-2},{"$f":"Reactive!$L$87","v":1.6056824420375884E-2},{"$f":"Reactive!$M$87","v":2.5040554270199574E-3},{"$f":"Reactive!$N$87","v":2.8841338595943246E-3},{"$f":"Reactive!$O$87","v":4.9279092594490858E-3},{"$f":"Reactive!$P$87","v":0},{"$f":"Reactive!$Q$87","v":2.5152195247667659E-2},{"$f":"Reactive!$R$87","v":1.5772291400911194E-2},{"$f":"Reactive!$S$87","v":0}]
["LV Sub Generation Non-Intermittent",{"$f":"Reactive!$B$88","v":0},{"$f":"Reactive!$C$88","v":3.1426859461058998E-2},{"$f":"Reactive!$D$88","v":4.9010063215112424E-3},{"$f":"Reactive!$E$88","v":5.6449063089543785E-3},{"$f":"Reactive!$F$88","v":9.6450398708371986E-3},{"$f":"Reactive!$G$88","v":0},{"$f":"Reactive!$H$88","v":3.0184512621749534E-2},{"$f":"Reactive!$I$88","v":1.1074653283605263E-2},{"$f":"Reactive!$J$88","v":0},null,null,{"$f":"Reactive!$K$88","v":1.0250135320462317E-2},{"$f":"Reactive!$L$88","v":1.6056824420375884E-2},{"$f":"Reactive!$M$88","v":2.5040554270199574E-3},{"$f":"Reactive!$N$88","v":2.8841338595943246E-3},{"$f":"Reactive!$O$88","v":4.9279092594490858E-3},{"$f":"Reactive!$P$88","v":0},{"$f":"Reactive!$Q$88","v":2.5152195247667659E-2},{"$f":"Reactive!$R$88","v":1.5772291400911194E-2},{"$f":"Reactive!$S$88","v":0}]
["HV Generation Intermittent",{"$f":"Reactive!$B$89","v":0},{"$f":"Reactive!$C$89","v":3.1217546410414465E-2},{"$f":"Reactive!$D$89","v":4.8683640339274381E-3},{"$f":"Reactive!$E$89","v":5.6073094068014948E-3},{"$f":"Reactive!$F$89","v":7.1123930243485534E-3},{"$f":"Reactive!$G$89","v":0},{"$f":"Reactive!$H$89","v":2.3703038738584779E-2},{"$f":"Reactive!$I$89","v":0},{"$f":"Reactive!$J$89","v":0},null,null,{"$f":"Reactive!$K$89","v":1.0181866103294634E-2},{"$f":"Reactive!$L$89","v":1.5949880775330563E-2},{"$f":"Reactive!$M$89","v":2.4873776078105001E-3},{"$f":"Reactive!$N$89","v":2.8649245950680071E-3},{"$f":"Reactive!$O$89","v":4.895087789595476E-3},{"$f":"Reactive!$P$89","v":0},{"$f":"Reactive!$Q$89","v":2.498467349054714E-2},{"$f":"Reactive!$R$89","v":0},{"$f":"Reactive!$S$89","v":0}]
["HV Generation Non-Intermittent",{"$f":"Reactive!$B$90","v":0},{"$f":"Reactive!$C$90","v":3.1217546410414465E-2},{"$f":"Reactive!$D$90","v":4.8683640339274381E-3},{"$f":"Reactive!$E$90","v":5.6073094068014948E-3},{"$f":"Reactive!$F$90","v":7.1123930243485534E-3},{"$f":"Reactive!$G$90","v":0},{"$f":"Reactive!$H$90","v":2.3703038738584779E-2},{"$f":"Reactive!$I$90","v":0},{"$f":"Reactive!$J$90","v":0},null,null,{"$f":"Reactive!$K$90","v":1.0181866103294634E-2},{"$f":"Reactive!$L$90","v":1.5949880775330563E-2},{"$f":"Reactive!$M$90","v":2.4873776078105001E-3},{"$f":"Reactive!$N$90","v":2.8649245950680071E-3},{"$f":"Reactive!$O$90","v":4.895087789595476E-3},{"$f":"Reactive!$P$90","v":0},{"$f":"Reactive!$Q$90","v":2.498467349054714E-2},{"$f":"Reactive!$R$90","v":0},{"$f":"Reactive!$S$90","v":0}]
["HV Sub Generation Intermittent",{"$f":"Reactive!$B$91","v":0},{"$f":"Reactive!$C$91","v":3.0709214715992004E-2},{"$f":"Reactive!$D$91","v":4.7890899069381963E-3},{"$f":"Reactive!$E$91","v":5.5160026444302061E-3},{"$f":"Reactive!$F$91","v":0},{"$f":"Reactive!$G$91","v":0},{"$f":"Reactive!$H$91","v":0},{"$f":"Reactive!$I$91","v":0},{"$f":"Reactive!$J$91","v":0},null,null,{"$f":"Reactive!$K$91","v":1.0016069433030258E-2},{"$f":"Reactive!$L$91","v":1.5690160494506215E-2},{"$f":"Reactive!$M$91","v":2.4468743325875312E-3},{"$f":"Reactive!$N$91","v":2.81827352407552E-3},{"$f":"Reactive!$O$91","v":0},{"$f":"Reactive!$P$91","v":0},{"$f":"Reactive!$Q$91","v":0},{"$f":"Reactive!$R$91","v":0},{"$f":"Reactive!$S$91","v":0}]
["HV Sub Generation Non-Intermittent",{"$f":"Reactive!$B$92","v":0},{"$f":"Reactive!$C$92","v":3.0709214715992004E-2},{"$f":"Reactive!$D$92","v":4.7890899069381963E-3},{"$f":"Reactive!$E$92","v":5.5160026444302061E-3},{"$f":"Reactive!$F$92","v":0},{"$f":"Reactive!$G$92","v":0},{"$f":"Reactive!$H$92","v":0},{"$f":"Reactive!$I$92","v":0},{"$f":"Reactive!$J$92","v":0},null,null,{"$f":"Reactive!$K$92","v":1.0016069433030258E-2},{"$f":"Reactive!$L$92","v":1.5690160494506215E-2},{"$f":"Reactive!$M$92","v":2.4468743325875312E-3},{"$f":"Reactive!$N$92","v":2.81827352407552E-3},{"$f":"Reactive!$O$92","v":0},{"$f":"Reactive!$P$92","v":0},{"$f":"Reactive!$Q$92","v":0},{"$f":"Reactive!$R$92","v":0},{"$f":"Reactive!$S$92","v":0}]
[]
["3307. Summary of charges before revenue matching"]
["Data sources:"]
["x1 = 3301. Unit rate 1 p/kWh (elements)"]
["x2 = 3302. Unit rate 2 p/kWh (elements)"]
["x3 = 3303. Unit rate 3 p/kWh (elements)"]
["x4 = 3304. Fixed charge p/MPAN/day (elements)"]
["x5 = 3305. Capacity charge p/kVA/day (elements)"]
["x6 = 3306. Reactive power charge p/kVArh (elements)"]
["Kind:","Cell summation","Cell summation","Cell summation","Cell summation","Cell summation","Cell summation"]
["Formula:","=SUM(x1)","=SUM(x2)","=SUM(x3)","=SUM(x4)","=SUM(x5)","=SUM(x6)"]
[]
[null,"Unit rate 1 p/kWh (total)","Unit rate 2 p/kWh (total)","Unit rate 3 p/kWh (total)","Fixed charge p/MPAN/day (total)","Capacity charge p/kVA/day (total)","Reactive power charge p/kVArh"]
["Domestic Unrestricted",{"$f":"SUM($B16:$W16)","v":1.4581638937420609},{"$f":"SUM($B55:$W55)","v":0},{"$f":"SUM($B94:$W94)","v":0},{"$f":"SUM($B133:$W133)","v":4.3666791872872111},{"$f":"SUM($B168:$W168)","v":0},{"$f":"SUM($B204:$W204)","v":0}]
["Domestic Two Rate",1.6419112914683116,0.1006763173891794,0,4.3666791872872111,0,0]
["Domestic Off Peak (related MPAN)",0.16780703301918476,0,0,0,0,0]
["Small Non Domestic Unrestricted",1.1507067463494038,0,0,7.5974758108221012,0,0]
["Small Non Domestic Two Rate",1.3687354936111722,8.5736516651600689E-2,0,7.5974758108221012,0,0]
["Small Non Domestic Off Peak (related MPAN)",0.23248774624676444,0,0,0,0,0]
["LV Medium Non-Domestic",1.3109161466705874,7.9767780897094243E-2,0,37.822077348528396,0,0]
["LV Sub Medium Non-Domestic",1.0983902870713285,6.24807850363856E-2,0,18.441572261235592,0,0]
["HV Medium Non-Domestic",0.50902057163762726,1.6716484729209755E-2,0,254.31748449208303,0,0]
["LV HH Metered",4.7625525673849323,0.47659753165684615,5.1158657270107773E-2,10.964917108839961,3.7501360883892385,0.19925133100141276]
["LV Sub HH Metered",3.2945707180692101,0.30783315834004299,2.6044749126969396E-2,8.0532257660147852,4.7080885854073236,0.12948176096320893]
["HV HH Metered",2.3907202999850221,0.21316319284609223,1.4531756666147528E-2,78.737422848170496,3.841023167559217,8.5785055205140154E-2]
["HV Sub HH Metered",1.9936365584612812,0.17306797769057478,1.0113171639384919E-2,78.737422848170496,1.5465281686399697,7.6386738268584803E-2]
["NHH UMS category A",1.6677554132451342,0,0,0,0,0]
["NHH UMS category B",1.7140324018242219,0,0,0,0,0]
["NHH UMS category C",2.5478376028679559,0,0,0,0,0]
["NHH UMS category D",1.6857750117268691,0,0,0,0,0]
["LV UMS (Pseudo HH Metered)",16.87217691006424,1.782178081215928,0.84152263064308086,0,0,0]
["LV Generation NHH",-0.65406234538648278,0,0,0,0,0]
["LV Sub Generation NHH",-0.537725580147421,0,0,0,0,0]
["LV Generation Intermittent",-0.65406234538648278,0,0,0,0,0.20171383274329543]
["LV Generation Non-Intermittent",-5.0758094565216982,-0.52354905935842311,-6.1193763765366241E-2,0,0,0.20171383274329543]
["LV Sub Generation Intermittent",-0.537725580147421,0,0,0,0,0.17042452280319703]
["LV Sub Generation Non-Intermittent",-4.2104712267991209,-0.42579444276198164,-4.712831874696545E-2,0,0,0.17042452280319703]
["HV Generation Intermittent",-0.31903323330426664,0,0,38.694816549832751,0,0.13387246197572306]
["HV Generation Non-Intermittent",-2.5932710035648512,-0.24086166821019589,-1.9883228535100828E-2,38.694816549832751,0,0.13387246197572306]
["HV Sub Generation Intermittent",-0.26960020334556201,0,0,38.694816549832751,0,7.1985685051559931E-2]
["HV Sub Generation Non-Intermittent",-2.2242296759921567,-0.19949096555503704,-1.4020997594134449E-2,38.694816549832751,0,7.1985685051559931E-2]

{"sheet":"Revenue","index":37,"n_rows":67,"n_cols":3,"rows_kept":67,"cut":false,"hidden":true,"merged":[]}
[{"$f":"\"r6140: Revenue shortfall or surplus\"&\" for \"&Input!B7&\" in \"&Input!C7&\" (\"&Input!D7&\")\"","v":"r6140: Revenue shortfall or surplus for WPD Mid West in April 2017 (0)"}]
[]
["3401. Net revenues by tariff before matching (£)"]
["Data sources:"]
["x1 = 1010. Days in the charging year (in Financial and general assumptions)"]
["x2 = 3307. Fixed charge p/MPAN/day (total) (in Summary of charges before revenue matching)"]
["x3 = 2305. MPANs (in Equivalent volume for each end user)"]
["x4 = 3307. Capacity charge p/kVA/day (total) (in Summary of charges before revenue matching)"]
["x5 = 2305. Import capacity (kVA) (in Equivalent volume for each end user)"]
["x6 = 3307. Unit rate 1 p/kWh (total) (in Summary of charges before revenue matching)"]
["x7 = 2305. Rate 1 units (MWh) (in Equivalent volume for each end user)"]
["x8 = 3307. Unit rate 2 p/kWh (total) (in Summary of charges before revenue matching)"]
["x9 = 2305. Rate 2 units (MWh) (in Equivalent volume for each end user)"]
["x10 = 3307. Unit rate 3 p/kWh (total) (in Summary of charges before revenue matching)"]
["x11 = 2305. Rate 3 units (MWh) (in Equivalent volume for each end user)"]
["x12 = 3307. Reactive power charge p/kVArh (in Summary of charges before revenue matching)"]
["x13 = 2305. Reactive power units (MVArh) (in Equivalent volume for each end user)"]
["Calculation =0.01*x1*(x2*x3+x4*x5)+10*(x6*x7+x8*x9+x10*x11+x12*x13)"]
[]
[null,"Net revenues"]
["Domestic Unrestricted",{"$f":"0.01*Input!F$14*(Aggreg!E245*Loads!E298+Aggreg!F245*Loads!F298)+10*(Aggreg!B245*Loads!B298+Aggreg!C245*Loads!C298+Aggreg!D245*Loads!D298+Aggreg!G245*Loads!G298)","v":132923136.59655452}]
["Domestic Two Rate",{"$f":"0.01*Input!F$14*(Aggreg!E246*Loads!E299+Aggreg!F246*Loads!F299)+10*(Aggreg!B246*Loads!B299+Aggreg!C246*Loads!C299+Aggreg!D246*Loads!D299+Aggreg!G246*Loads!G299)","v":22231919.458439525}]
["Domestic Off Peak (related MPAN)",{"$f":"0.01*Input!F$14*(Aggreg!E247*Loads!E300+Aggreg!F247*Loads!F300)+10*(Aggreg!B247*Loads!B300+Aggreg!C247*Loads!C300+Aggreg!D247*Loads!D300+Aggreg!G247*Loads!G300)","v":60901.036646137931}]
["Small Non Domestic Unrestricted",{"$f":"0.01*Input!F$14*(Aggreg!E248*Loads!E301+Aggreg!F248*Loads!F301)+10*(Aggreg!B248*Loads!B301+Aggreg!C248*Loads!C301+Aggreg!D248*Loads!D301+Aggreg!G248*Loads!G301)","v":22317484.601384494}]
["Small Non Domestic Two Rate",{"$f":"0.01*Input!F$14*(Aggreg!E249*Loads!E302+Aggreg!F249*Loads!F302)+10*(Aggreg!B249*Loads!B302+Aggreg!C249*Loads!C302+Aggreg!D249*Loads!D302+Aggreg!G249*Loads!G302)","v":7331502.2995495358}]
["Small Non Domestic Off Peak (related MPAN)",{"$f":"0.01*Input!F$14*(Aggreg!E250*Loads!E303+Aggreg!F250*Loads!F303)+10*(Aggreg!B250*Loads!B303+Aggreg!C250*Loads!C303+Aggreg!D250*Loads!D303+Aggreg!G250*Loads!G303)","v":14296.633278340067}]
["LV Medium Non-Domestic",{"$f":"0.01*Input!F$14*(Aggreg!E251*Loads!E304+Aggreg!F251*Loads!F304)+10*(Aggreg!B251*Loads!B304+Aggreg!C251*Loads!C304+Aggreg!D251*Loads!D304+Aggreg!G251*Loads!G304)","v":19303686.051859189}]
["LV Sub Medium Non-Domestic",{"$f":"0.01*Input!F$14*(Aggreg!E252*Loads!E305+Aggreg!F252*Loads!F305)+10*(Aggreg!B252*Loads!B305+Aggreg!C252*Loads!C305+Aggreg!D252*Loads!D305+Aggreg!G252*Loads!G305)","v":1212.904921961067}]
["HV Medium Non-Domestic",{"$f":"0.01*Input!F$14*(Aggreg!E253*Loads!E306+Aggreg!F253*Loads!F306)+10*(Aggreg!B253*Loads!B306+Aggreg!C253*Loads!C306+Aggreg!D253*Loads!D306+Aggreg!G253*Loads!G306)","v":447511.69290110725}]
["LV HH Metered",{"$f":"0.01*Input!F$14*(Aggreg!E254*Loads!E307+Aggreg!F254*Loads!F307)+10*(Aggreg!B254*Loads!B307+Aggreg!C254*Loads!C307+Aggreg!D254*Loads!D307+Aggreg!G254*Loads!G307)","v":28107810.674719669}]
["LV Sub HH Metered",{"$f":"0.01*Input!F$14*(Aggreg!E255*Loads!E308+Aggreg!F255*Loads!F308)+10*(Aggreg!B255*Loads!B308+Aggreg!C255*Loads!C308+Aggreg!D255*Loads!D308+Aggreg!G255*Loads!G308)","v":401157.33801375784}]
["HV HH Metered",{"$f":"0.01*Input!F$14*(Aggreg!E256*Loads!E309+Aggreg!F256*Loads!F309)+10*(Aggreg!B256*Loads!B309+Aggreg!C256*Loads!C309+Aggreg!D256*Loads!D309+Aggreg!G256*Loads!G309)","v":67630910.095708266}]
["HV Sub HH Metered",{"$f":"0.01*Input!F$14*(Aggreg!E257*Loads!E310+Aggreg!F257*Loads!F310)+10*(Aggreg!B257*Loads!B310+Aggreg!C257*Loads!C310+Aggreg!D257*Loads!D310+Aggreg!G257*Loads!G310)","v":0}]
["NHH UMS category A",{"$f":"0.01*Input!F$14*(Aggreg!E258*Loads!E311+Aggreg!F258*Loads!F311)+10*(Aggreg!B258*Loads!B311+Aggreg!C258*Loads!C311+Aggreg!D258*Loads!D311+Aggreg!G258*Loads!G311)","v":1030985.1664846479}]
["NHH UMS category B",{"$f":"0.01*Input!F$14*(Aggreg!E259*Loads!E312+Aggreg!F259*Loads!F312)+10*(Aggreg!B259*Loads!B312+Aggreg!C259*Loads!C312+Aggreg!D259*Loads!D312+Aggreg!G259*Loads!G312)","v":561315.33129468479}]
["NHH UMS category C",{"$f":"0.01*Input!F$14*(Aggreg!E260*Loads!E313+Aggreg!F260*Loads!F313)+10*(Aggreg!B260*Loads!B313+Aggreg!C260*Loads!C313+Aggreg!D260*Loads!D313+Aggreg!G260*Loads!G313)","v":19025.716031771331}]
["NHH UMS category D",{"$f":"0.01*Input!F$14*(Aggreg!E261*Loads!E314+Aggreg!F261*Loads!F314)+10*(Aggreg!B261*Loads!B314+Aggreg!C261*Loads!C314+Aggreg!D261*Loads!D314+Aggreg!G261*Loads!G314)","v":89502.279901142538}]
["LV UMS (Pseudo HH Metered)",{"$f":"0.01*Input!F$14*(Aggreg!E262*Loads!E315+Aggreg!F262*Loads!F315)+10*(Aggreg!B262*Loads!B315+Aggreg!C262*Loads!C315+Aggreg!D262*Loads!D315+Aggreg!G262*Loads!G315)","v":4095845.2810455253}]
["LV Generation NHH",{"$f":"0.01*Input!F$14*(Aggreg!E263*Loads!E316+Aggreg!F263*Loads!F316)+10*(Aggreg!B263*Loads!B316+Aggreg!C263*Loads!C316+Aggreg!D263*Loads!D316+Aggreg!G263*Loads!G316)","v":-2793.6209470070999}]
["LV Sub Generation NHH",{"$f":"0.01*Input!F$14*(Aggreg!E264*Loads!E317+Aggreg!F264*Loads!F317)+10*(Aggreg!B264*Loads!B317+Aggreg!C264*Loads!C317+Aggreg!D264*Loads!D317+Aggreg!G264*Loads!G317)","v":0}]
["LV Generation Intermittent",{"$f":"0.01*Input!F$14*(Aggreg!E265*Loads!E318+Aggreg!F265*Loads!F318)+10*(Aggreg!B265*Loads!B318+Aggreg!C265*Loads!C318+Aggreg!D265*Loads!D318+Aggreg!G265*Loads!G318)","v":-259.03950748912013}]
["LV Generation Non-Intermittent",{"$f":"0.01*Input!F$14*(Aggreg!E266*Loads!E319+Aggreg!F266*Loads!F319)+10*(Aggreg!B266*Loads!B319+Aggreg!C266*Loads!C319+Aggreg!D266*Loads!D319+Aggreg!G266*Loads!G319)","v":-16369.236139406914}]
["LV Sub Generation Intermittent",{"$f":"0.01*Input!F$14*(Aggreg!E267*Loads!E320+Aggreg!F267*Loads!F320)+10*(Aggreg!B267*Loads!B320+Aggreg!C267*Loads!C320+Aggreg!D267*Loads!D320+Aggreg!G267*Loads!G320)","v":0}]
["LV Sub Generation Non-Intermittent",{"$f":"0.01*Input!F$14*(Aggreg!E268*Loads!E321+Aggreg!F268*Loads!F321)+10*(Aggreg!B268*Loads!B321+Aggreg!C268*Loads!C321+Aggreg!D268*Loads!D321+Aggreg!G268*Loads!G321)","v":5.7547604130668129}]
["HV Generation Intermittent",{"$f":"0.01*Input!F$14*(Aggreg!E269*Loads!E322+Aggreg!F269*Loads!F322)+10*(Aggreg!B269*Loads!B322+Aggreg!C269*Loads!C322+Aggreg!D269*Loads!D322+Aggreg!G269*Loads!G322)","v":-1935.7417975003964}]
["HV Generation Non-Intermittent",{"$f":"0.01*Input!F$14*(Aggreg!E270*Loads!E323+Aggreg!F270*Loads!F323)+10*(Aggreg!B270*Loads!B323+Aggreg!C270*Loads!C323+Aggreg!D270*Loads!D323+Aggreg!G270*Loads!G323)","v":-1320937.0690316032}]
["HV Sub Generation Intermittent",{"$f":"0.01*Input!F$14*(Aggreg!E271*Loads!E324+Aggreg!F271*Loads!F324)+10*(Aggreg!B271*Loads!B324+Aggreg!C271*Loads!C324+Aggreg!D271*Loads!D324+Aggreg!G271*Loads!G324)","v":0}]
["HV Sub Generation Non-Intermittent",{"$f":"0.01*Input!F$14*(Aggreg!E272*Loads!E325+Aggreg!F272*Loads!F325)+10*(Aggreg!B272*Loads!B325+Aggreg!C272*Loads!C325+Aggreg!D272*Loads!D325+Aggreg!G272*Loads!G325)","v":0}]
[]
["3402. Target revenue (£/year)"]
[""]
["Cell-by-cell calculation =x1"]
["Data sources:"]
["x1 = 1076. Target revenue (£/year)"]
[null,"CDCM target revenue (£/year)"]
["Target revenue (£/year)",{"$f":"Input!B321","v":486841960.49416137}]
[]
["3403. Revenue surplus or shortfall"]
[""]
["Data sources:"]
["x1 = 3401. Net revenues by tariff before matching (£/year)"]
["x2 = 3402. Target revenue (£/year)"]
["x3 = Total net revenues before matching (£/year) (in Revenue surplus or shortfall)"]
["Kind:","Cell summation","Cell-by-cell calculation"]
["Formula:","=SUM(x1)","=x2-x3"]
[null,"Total net revenues before matching (£)","Revenue shortfall (surplus) £"]
["Revenue surplus or shortfall",{"$f":"SUM(B$21:B$48)","v":305225914.20607162},{"$f":"B56-B67","v":181616046.28808975}]

{"sheet":"Scaler","index":38,"n_rows":434,"n_cols":23,"rows_kept":434,"cut":false,"hidden":true,"merged":[]}
[{"$f":"\"r6140: Revenue matching\"&\" for \"&Input!B7&\" in \"&Input!C7&\" (\"&Input!D7&\")\"","v":"r6140: Revenue matching for WPD Mid West in April 2017 (0)"}]
["This sheet modifies tariffs so that the total expected net revenues matches the target."]
[]
["3501. Factor to scale to £1/kW at transmission exit level"]
["Data sources:"]
["x1 = 2901. Unit cost at each level, £/kW/year (relative to system simultaneous maximum load)"]
["Calculation =IF(x1,1/x1,0)"]
[]
[null,"Transmission\nexit"]
["Factor to scale to £1/kW at transmission exit level",{"$f":"IF(Yard!$K11,1/Yard!$K11,0)","v":0.31253232119645402}]
[]
["3502. Applicability factor for £1/kW scaler"]
["Data sources:"]
["x1 = 3501. Factor to scale to £1/kW at transmission exit level"]
["x2 = Zero for other levels"]
["Combine tables = x1 or x2"]
[]
[null,"GSPs","Assets\n132kV","Assets\n132kV/EHV","Assets\nEHV","Assets\nEHV/HV","Assets\n132kV/HV","Assets\nHV","Assets\nHV/LV","Assets\nLV circuits","Assets\nLV customer","Assets\nHV customer","Transmission\nexit","Operating\n132kV","Operating\n132kV/EHV","Operating\nEHV","Operating\nEHV/HV","Operating\n132kV/HV","Operating\nHV","Operating\nHV/LV","Operating\nLV circuits","Operating\nLV customer","Operating\nHV customer"]
["Applicability factor for £1/kW scaler",0,0,0,0,0,0,0,0,0,0,0,{"$f":"$B10","v":0.31253232119645402},0,0,0,0,0,0,0,0,0,0]
[]
["3503. Scalable elements of tariff components"]
["Data sources:"]
["x1 = 3301. Unit rate 1 p/kWh (elements)"]
["x2 = 3502. Applicability factor for £1/kW scaler"]
["x3 = 3302. Unit rate 2 p/kWh (elements)"]
["x4 = 3303. Unit rate 3 p/kWh (elements)"]
["x5 = 3304. Fixed charge p/MPAN/day (elements)"]
["x6 = 3305. Capacity charge p/kVA/day (elements)"]
["x7 = 3306. Reactive power charge p/kVArh (elements)"]
["Kind:","Sum-product calculation","Sum-product calculation","Sum-product calculation","Sum-product calculation","Sum-product calculation","Sum-product calculation"]
["Formula:","=SUMPRODUCT(x1, x2)","=SUMPRODUCT(x3, x2)","=SUMPRODUCT(x4, x2)","=SUMPRODUCT(x5, x2)","=SUMPRODUCT(x6, x2)","=SUMPRODUCT(x7, x2)"]
[]
[null,"Unit rate 1 p/kWh scalable part","Unit rate 2 p/kWh scalable part","Unit rate 3 p/kWh scalable part","Fixed charge p/MPAN/day scalable part","Capacity charge p/kVA/day scalable part","Reactive power charge p/kVArh scalable part"]
["Domestic Unrestricted",{"$f":"SUMPRODUCT(Aggreg!$B16:$W16,$B$19:$W$19)","v":2.7409353374853455E-2},{"$f":"SUMPRODUCT(Aggreg!$B55:$W55,$B$19:$W$19)","v":0},{"$f":"SUMPRODUCT(Aggreg!$B94:$W94,$B$19:$W$19)","v":0},{"$f":"SUMPRODUCT(Aggreg!$B133:$W133,$B$19:$W$19)","v":0},{"$f":"SUMPRODUCT(Aggreg!$B168:$W168,$B$19:$W$19)","v":0},{"$f":"SUMPRODUCT(Aggreg!$B204:$W204,$B$19:$W$19)","v":0}]
["Domestic Two Rate",{"$f":"SUMPRODUCT(Aggreg!$B17:$W17,$B$19:$W$19)","v":3.2954593731680137E-2},{"$f":"SUMPRODUCT(Aggreg!$B56:$W56,$B$19:$W$19)","v":2.3420237341664979E-4},{"$f":"SUMPRODUCT(Aggreg!$B95:$W95,$B$19:$W$19)","v":0},{"$f":"SUMPRODUCT(Aggreg!$B134:$W134,$B$19:$W$19)","v":0},{"$f":"SUMPRODUCT(Aggreg!$B169:$W169,$B$19:$W$19)","v":0},{"$f":"SUMPRODUCT(Aggreg!$B205:$W205,$B$19:$W$19)","v":0}]
["Domestic Off Peak (related MPAN)",{"$f":"SUMPRODUCT(Aggreg!$B18:$W18,$B$19:$W$19)","v":1.0940004693416503E-3},{"$f":"SUMPRODUCT(Aggreg!$B57:$W57,$B$19:$W$19)","v":0},{"$f":"SUMPRODUCT(Aggreg!$B96:$W96,$B$19:$W$19)","v":0},{"$f":"SUMPRODUCT(Aggreg!$B135:$W135,$B$19:$W$19)","v":0},{"$f":"SUMPRODUCT(Aggreg!$B170:$W170,$B$19:$W$19)","v":0},{"$f":"SUMPRODUCT(Aggreg!$B206:$W206,$B$19:$W$19)","v":0}]
["Small Non Domestic Unrestricted",{"$f":"SUMPRODUCT(Aggreg!$B19:$W19,$B$19:$W$19)","v":2.1630029365613895E-2},{"$f":"SUMPRODUCT(Aggreg!$B58:$W58,$B$19:$W$19)","v":0},{"$f":"SUMPRODUCT(Aggreg!$B97:$W97,$B$19:$W$19)","v":0},{"$f":"SUMPRODUCT(Aggreg!$B136:$W136,$B$19:$W$19)","v":0},{"$f":"SUMPRODUCT(Aggreg!$B171:$W171,$B$19:$W$19)","v":0},{"$f":"SUMPRODUCT(Aggreg!$B207:$W207,$B$19:$W$19)","v":0}]
["Small Non Domestic Two Rate",{"$f":"SUMPRODUCT(Aggreg!$B20:$W20,$B$19:$W$19)","v":2.5895579078226077E-2},{"$f":"SUMPRODUCT(Aggreg!$B59:$W59,$B$19:$W$19)","v":1.9944805500443478E-4},{"$f":"SUMPRODUCT(Aggreg!$B98:$W98,$B$19:$W$19)","v":0},{"$f":"SUMPRODUCT(Aggreg!$B137:$W137,$B$19:$W$19)","v":0},{"$f":"SUMPRODUCT(Aggreg!$B172:$W172,$B$19:$W$19)","v":0},{"$f":"SUMPRODUCT(Aggreg!$B208:$W208,$B$19:$W$19)","v":0}]
["Small Non Domestic Off Peak (related MPAN)",{"$f":"SUMPRODUCT(Aggreg!$B21:$W21,$B$19:$W$19)","v":2.9880101000251398E-3},{"$f":"SUMPRODUCT(Aggreg!$B60:$W60,$B$19:$W$19)","v":0},{"$f":"SUMPRODUCT(Aggreg!$B99:$W99,$B$19:$W$19)","v":0},{"$f":"SUMPRODUCT(Aggreg!$B138:$W138,$B$19:$W$19)","v":0},{"$f":"SUMPRODUCT(Aggreg!$B173:$W173,$B$19:$W$19)","v":0},{"$f":"SUMPRODUCT(Aggreg!$B209:$W209,$B$19:$W$19)","v":0}]
["LV Medium Non-Domestic",{"$f":"SUMPRODUCT(Aggreg!$B22:$W22,$B$19:$W$19)","v":2.5050396124294515E-2},{"$f":"SUMPRODUCT(Aggreg!$B61:$W61,$B$19:$W$19)","v":1.8556304096882534E-4},{"$f":"SUMPRODUCT(Aggreg!$B100:$W100,$B$19:$W$19)","v":0},{"$f":"SUMPRODUCT(Aggreg!$B139:$W139,$B$19:$W$19)","v":0},{"$f":"SUMPRODUCT(Aggreg!$B174:$W174,$B$19:$W$19)","v":0},{"$f":"SUMPRODUCT(Aggreg!$B210:$W210,$B$19:$W$19)","v":0}]
["LV Sub Medium Non-Domestic",{"$f":"SUMPRODUCT(Aggreg!$B23:$W23,$B$19:$W$19)","v":2.486255725880419E-2},{"$f":"SUMPRODUCT(Aggreg!$B62:$W62,$B$19:$W$19)","v":1.8417160783860373E-4},{"$f":"SUMPRODUCT(Aggreg!$B101:$W101,$B$19:$W$19)","v":0},{"$f":"SUMPRODUCT(Aggreg!$B140:$W140,$B$19:$W$19)","v":0},{"$f":"SUMPRODUCT(Aggreg!$B175:$W175,$B$19:$W$19)","v":0},{"$f":"SUMPRODUCT(Aggreg!$B211:$W211,$B$19:$W$19)","v":0}]
["HV Medium Non-Domestic",{"$f":"SUMPRODUCT(Aggreg!$B24:$W24,$B$19:$W$19)","v":2.2297025019258017E-2},{"$f":"SUMPRODUCT(Aggreg!$B63:$W63,$B$19:$W$19)","v":1.7139630929395691E-4},{"$f":"SUMPRODUCT(Aggreg!$B102:$W102,$B$19:$W$19)","v":0},{"$f":"SUMPRODUCT(Aggreg!$B141:$W141,$B$19:$W$19)","v":0},{"$f":"SUMPRODUCT(Aggreg!$B176:$W176,$B$19:$W$19)","v":0},{"$f":"SUMPRODUCT(Aggreg!$B212:$W212,$B$19:$W$19)","v":0}]
["LV HH Metered",{"$f":"SUMPRODUCT(Aggreg!$B25:$W25,$B$19:$W$19)","v":0.1485299161146536},{"$f":"SUMPRODUCT(Aggreg!$B64:$W64,$B$19:$W$19)","v":4.0205717213831508E-3},{"$f":"SUMPRODUCT(Aggreg!$B103:$W103,$B$19:$W$19)","v":1.6945689778282276E-4},{"$f":"SUMPRODUCT(Aggreg!$B142:$W142,$B$19:$W$19)","v":0},{"$f":"SUMPRODUCT(Aggreg!$B177:$W177,$B$19:$W$19)","v":0},{"$f":"SUMPRODUCT(Aggreg!$B213:$W213,$B$19:$W$19)","v":4.8169965839847543E-3}]
["LV Sub HH Metered",{"$f":"SUMPRODUCT(Aggreg!$B26:$W26,$B$19:$W$19)","v":0.149717319812157},{"$f":"SUMPRODUCT(Aggreg!$B65:$W65,$B$19:$W$19)","v":4.0527136753607095E-3},{"$f":"SUMPRODUCT(Aggreg!$B104:$W104,$B$19:$W$19)","v":1.7081159959817592E-4},{"$f":"SUMPRODUCT(Aggreg!$B143:$W143,$B$19:$W$19)","v":0},{"$f":"SUMPRODUCT(Aggreg!$B178:$W178,$B$19:$W$19)","v":0},{"$f":"SUMPRODUCT(Aggreg!$B214:$W214,$B$19:$W$19)","v":4.7007088298681304E-3}]
["HV HH Metered",{"$f":"SUMPRODUCT(Aggreg!$B27:$W27,$B$19:$W$19)","v":0.13059583039777839},{"$f":"SUMPRODUCT(Aggreg!$B66:$W66,$B$19:$W$19)","v":3.535112092991048E-3},{"$f":"SUMPRODUCT(Aggreg!$B105:$W105,$B$19:$W$19)","v":1.4899600606719699E-4},{"$f":"SUMPRODUCT(Aggreg!$B144:$W144,$B$19:$W$19)","v":0},{"$f":"SUMPRODUCT(Aggreg!$B179:$W179,$B$19:$W$19)","v":0},{"$f":"SUMPRODUCT(Aggreg!$B215:$W215,$B$19:$W$19)","v":3.818847044924648E-3}]
["HV Sub HH Metered",{"$f":"SUMPRODUCT(Aggreg!$B28:$W28,$B$19:$W$19)","v":0.11898180711468753},{"$f":"SUMPRODUCT(Aggreg!$B67:$W67,$B$19:$W$19)","v":3.2207308908402585E-3},{"$f":"SUMPRODUCT(Aggreg!$B106:$W106,$B$19:$W$19)","v":1.3574563598814268E-4},{"$f":"SUMPRODUCT(Aggreg!$B145:$W145,$B$19:$W$19)","v":0},{"$f":"SUMPRODUCT(Aggreg!$B180:$W180,$B$19:$W$19)","v":0},{"$f":"SUMPRODUCT(Aggreg!$B216:$W216,$B$19:$W$19)","v":3.7566627539632304E-3}]
["NHH UMS category A",{"$f":"SUMPRODUCT(Aggreg!$B29:$W29,$B$19:$W$19)","v":1.4891994656758284E-2},{"$f":"SUMPRODUCT(Aggreg!$B68:$W68,$B$19:$W$19)","v":0},{"$f":"SUMPRODUCT(Aggreg!$B107:$W107,$B$19:$W$19)","v":0},{"$f":"SUMPRODUCT(Aggreg!$B146:$W146,$B$19:$W$19)","v":0},{"$f":"SUMPRODUCT(Aggreg!$B181:$W181,$B$19:$W$19)","v":0},{"$f":"SUMPRODUCT(Aggreg!$B217:$W217,$B$19:$W$19)","v":0}]
["NHH UMS category B",{"$f":"SUMPRODUCT(Aggreg!$B30:$W30,$B$19:$W$19)","v":1.3783719144298979E-2},{"$f":"SUMPRODUCT(Aggreg!$B69:$W69,$B$19:$W$19)","v":0},{"$f":"SUMPRODUCT(Aggreg!$B108:$W108,$B$19:$W$19)","v":0},{"$f":"SUMPRODUCT(Aggreg!$B147:$W147,$B$19:$W$19)","v":0},{"$f":"SUMPRODUCT(Aggreg!$B182:$W182,$B$19:$W$19)","v":0},{"$f":"SUMPRODUCT(Aggreg!$B218:$W218,$B$19:$W$19)","v":0}]
["NHH UMS category C",{"$f":"SUMPRODUCT(Aggreg!$B31:$W31,$B$19:$W$19)","v":2.6819142222804775E-2},{"$f":"SUMPRODUCT(Aggreg!$B70:$W70,$B$19:$W$19)","v":0},{"$f":"SUMPRODUCT(Aggreg!$B109:$W109,$B$19:$W$19)","v":0},{"$f":"SUMPRODUCT(Aggreg!$B148:$W148,$B$19:$W$19)","v":0},{"$f":"SUMPRODUCT(Aggreg!$B183:$W183,$B$19:$W$19)","v":0},{"$f":"SUMPRODUCT(Aggreg!$B219:$W219,$B$19:$W$19)","v":0}]
["NHH UMS category D",{"$f":"SUMPRODUCT(Aggreg!$B32:$W32,$B$19:$W$19)","v":1.6654743204615127E-2},{"$f":"SUMPRODUCT(Aggreg!$B71:$W71,$B$19:$W$19)","v":0},{"$f":"SUMPRODUCT(Aggreg!$B110:$W110,$B$19:$W$19)","v":0},{"$f":"SUMPRODUCT(Aggreg!$B149:$W149,$B$19:$W$19)","v":0},{"$f":"SUMPRODUCT(Aggreg!$B184:$W184,$B$19:$W$19)","v":0},{"$f":"SUMPRODUCT(Aggreg!$B220:$W220,$B$19:$W$19)","v":0}]
["LV UMS (Pseudo HH Metered)",{"$f":"SUMPRODUCT(Aggreg!$B33:$W33,$B$19:$W$19)","v":0.23998967968541007},{"$f":"SUMPRODUCT(Aggreg!$B72:$W72,$B$19:$W$19)","v":2.0578110904311459E-2},{"$f":"SUMPRODUCT(Aggreg!$B111:$W111,$B$19:$W$19)","v":1.7184981166341875E-4},{"$f":"SUMPRODUCT(Aggreg!$B150:$W150,$B$19:$W$19)","v":0},{"$f":"SUMPRODUCT(Aggreg!$B185:$W185,$B$19:$W$19)","v":0},{"$f":"SUMPRODUCT(Aggreg!$B221:$W221,$B$19:$W$19)","v":0}]
["LV Generation NHH",{"$f":"SUMPRODUCT(Aggreg!$B34:$W34,$B$19:$W$19)","v":-1.2294520547945205E-2},{"$f":"SUMPRODUCT(Aggreg!$B73:$W73,$B$19:$W$19)","v":0},{"$f":"SUMPRODUCT(Aggreg!$B112:$W112,$B$19:$W$19)","v":0},{"$f":"SUMPRODUCT(Aggreg!$B151:$W151,$B$19:$W$19)","v":0},{"$f":"SUMPRODUCT(Aggreg!$B186:$W186,$B$19:$W$19)","v":0},{"$f":"SUMPRODUCT(Aggreg!$B222:$W222,$B$19:$W$19)","v":0}]
["LV Sub Generation NHH",{"$f":"SUMPRODUCT(Aggreg!$B35:$W35,$B$19:$W$19)","v":-1.1997716894977167E-2},{"$f":"SUMPRODUCT(Aggreg!$B74:$W74,$B$19:$W$19)","v":0},{"$f":"SUMPRODUCT(Aggreg!$B113:$W113,$B$19:$W$19)","v":0},{"$f":"SUMPRODUCT(Aggreg!$B152:$W152,$B$19:$W$19)","v":0},{"$f":"SUMPRODUCT(Aggreg!$B187:$W187,$B$19:$W$19)","v":0},{"$f":"SUMPRODUCT(Aggreg!$B223:$W223,$B$19:$W$19)","v":0}]
["LV Generation Intermittent",{"$f":"SUMPRODUCT(Aggreg!$B36:$W36,$B$19:$W$19)","v":-1.2294520547945205E-2},{"$f":"SUMPRODUCT(Aggreg!$B75:$W75,$B$19:$W$19)","v":0},{"$f":"SUMPRODUCT(Aggreg!$B114:$W114,$B$19:$W$19)","v":0},{"$f":"SUMPRODUCT(Aggreg!$B153:$W153,$B$19:$W$19)","v":0},{"$f":"SUMPRODUCT(Aggreg!$B188:$W188,$B$19:$W$19)","v":0},{"$f":"SUMPRODUCT(Aggreg!$B224:$W224,$B$19:$W$19)","v":3.282747835653234E-3}]
["LV Generation Non-Intermittent",{"$f":"SUMPRODUCT(Aggreg!$B37:$W37,$B$19:$W$19)","v":-0.12477449490021274},{"$f":"SUMPRODUCT(Aggreg!$B76:$W76,$B$19:$W$19)","v":-3.3775337579697753E-3},{"$f":"SUMPRODUCT(Aggreg!$B115:$W115,$B$19:$W$19)","v":-1.4235447902554013E-4},{"$f":"SUMPRODUCT(Aggreg!$B154:$W154,$B$19:$W$19)","v":0},{"$f":"SUMPRODUCT(Aggreg!$B189:$W189,$B$19:$W$19)","v":0},{"$f":"SUMPRODUCT(Aggreg!$B225:$W225,$B$19:$W$19)","v":3.282747835653234E-3}]
["LV Sub Generation Intermittent",{"$f":"SUMPRODUCT(Aggreg!$B38:$W38,$B$19:$W$19)","v":-1.1997716894977167E-2},{"$f":"SUMPRODUCT(Aggreg!$B77:$W77,$B$19:$W$19)","v":0},{"$f":"SUMPRODUCT(Aggreg!$B116:$W116,$B$19:$W$19)","v":0},{"$f":"SUMPRODUCT(Aggreg!$B155:$W155,$B$19:$W$19)","v":0},{"$f":"SUMPRODUCT(Aggreg!$B190:$W190,$B$19:$W$19)","v":0},{"$f":"SUMPRODUCT(Aggreg!$B226:$W226,$B$19:$W$19)","v":3.2034985842818468E-3}]
["LV Sub Generation Non-Intermittent",{"$f":"SUMPRODUCT(Aggreg!$B39:$W39,$B$19:$W$19)","v":-0.12176229725173963},{"$f":"SUMPRODUCT(Aggreg!$B78:$W78,$B$19:$W$19)","v":-3.2959962670624267E-3},{"$f":"SUMPRODUCT(Aggreg!$B117:$W117,$B$19:$W$19)","v":-1.3891788064609344E-4},{"$f":"SUMPRODUCT(Aggreg!$B156:$W156,$B$19:$W$19)","v":0},{"$f":"SUMPRODUCT(Aggreg!$B191:$W191,$B$19:$W$19)","v":0},{"$f":"SUMPRODUCT(Aggreg!$B227:$W227,$B$19:$W$19)","v":3.2034985842818468E-3}]
["HV Generation Intermittent",{"$f":"SUMPRODUCT(Aggreg!$B40:$W40,$B$19:$W$19)","v":-1.1917808219178082E-2},{"$f":"SUMPRODUCT(Aggreg!$B79:$W79,$B$19:$W$19)","v":0},{"$f":"SUMPRODUCT(Aggreg!$B118:$W118,$B$19:$W$19)","v":0},{"$f":"SUMPRODUCT(Aggreg!$B157:$W157,$B$19:$W$19)","v":0},{"$f":"SUMPRODUCT(Aggreg!$B192:$W192,$B$19:$W$19)","v":0},{"$f":"SUMPRODUCT(Aggreg!$B228:$W228,$B$19:$W$19)","v":3.1821622473741664E-3}]
["HV Generation Non-Intermittent",{"$f":"SUMPRODUCT(Aggreg!$B41:$W41,$B$19:$W$19)","v":-0.12095132096176611},{"$f":"SUMPRODUCT(Aggreg!$B80:$W80,$B$19:$W$19)","v":-3.2740438656642949E-3},{"$f":"SUMPRODUCT(Aggreg!$B119:$W119,$B$19:$W$19)","v":-1.3799264262085782E-4},{"$f":"SUMPRODUCT(Aggreg!$B158:$W158,$B$19:$W$19)","v":0},{"$f":"SUMPRODUCT(Aggreg!$B193:$W193,$B$19:$W$19)","v":0},{"$f":"SUMPRODUCT(Aggreg!$B229:$W229,$B$19:$W$19)","v":3.1821622473741664E-3}]
["HV Sub Generation Intermittent",{"$f":"SUMPRODUCT(Aggreg!$B42:$W42,$B$19:$W$19)","v":-1.1723744292237442E-2},{"$f":"SUMPRODUCT(Aggreg!$B81:$W81,$B$19:$W$19)","v":0},{"$f":"SUMPRODUCT(Aggreg!$B120:$W120,$B$19:$W$19)","v":0},{"$f":"SUMPRODUCT(Aggreg!$B159:$W159,$B$19:$W$19)","v":0},{"$f":"SUMPRODUCT(Aggreg!$B194:$W194,$B$19:$W$19)","v":0},{"$f":"SUMPRODUCT(Aggreg!$B230:$W230,$B$19:$W$19)","v":3.1303454291697979E-3}]
["HV Sub Generation Non-Intermittent",{"$f":"SUMPRODUCT(Aggreg!$B43:$W43,$B$19:$W$19)","v":-0.11898180711468753},{"$f":"SUMPRODUCT(Aggreg!$B82:$W82,$B$19:$W$19)","v":-3.2207308908402585E-3},{"$f":"SUMPRODUCT(Aggreg!$B121:$W121,$B$19:$W$19)","v":-1.3574563598814268E-4},{"$f":"SUMPRODUCT(Aggreg!$B160:$W160,$B$19:$W$19)","v":0},{"$f":"SUMPRODUCT(Aggreg!$B195:$W195,$B$19:$W$19)","v":0},{"$f":"SUMPRODUCT(Aggreg!$B231:$W231,$B$19:$W$19)","v":3.1303454291697979E-3}]
[]
["3504. Marginal revenue effect of scaler"]
["Data sources:"]
["x1 = 2302. Load coefficient"]
["x2 = 3503. Unit rate 1 p/kWh scalable part (in Scalable elements of tariff components)"]
["x3 = 2305. Rate 1 units (MWh) (in Equivalent volume for each end user)"]
["x4 = 3503. Unit rate 2 p/kWh scalable part (in Scalable elements of tariff components)"]
["x5 = 2305. Rate 2 units (MWh) (in Equivalent volume for each end user)"]
["x6 = 3503. Unit rate 3 p/kWh scalable part (in Scalable elements of tariff components)"]
["x7 = 2305. Rate 3 units (MWh) (in Equivalent volume for each end user)"]
["x8 = 3503. Fixed charge p/MPAN/day scalable part (in Scalable elements of tariff components)"]
["x9 = 1010. Days in the charging year (in Financial and general assumptions)"]
["x10 = 2305. MPANs (in Equivalent volume for each end user)"]
["x11 = 3503. Capacity charge p/kVA/day scalable part (in Scalable elements of tariff components)"]
["x12 = 2305. Import capacity (kVA) (in Equivalent volume for each end user)"]
["x13 = 3503. Reactive power charge p/kVArh scalable part (in Scalable elements of tariff components)"]
["x14 = 2305. Reactive power units (MVArh) (in Equivalent volume for each end user)"]
["Kind:","Calculation","Calculation","Calculation","Calculation","Calculation","Calculation"]
["Formula:","=IF(x1<0,0,x2*x3*10)","=IF(x1<0,0,x4*x5*10)","=IF(x1<0,0,x6*x7*10)","=x8*x9*x10/100","=x11*x9*x12/100","=IF(x1<0,0,x13*x14*10)"]
[]
[null,"Effect through Unit rate 1 p/kWh","Effect through Unit rate 2 p/kWh","Effect through Unit rate 3 p/kWh","Effect through Fixed charge p/MPAN/day","Effect through Capacity charge p/kVA/day","Effect through Reactive power charge p/kVArh"]
["Domestic Unrestricted",{"$f":"IF(Loads!B45<0,0,B34*Loads!B298*10)","v":1896693.189115382},{"$f":"IF(Loads!B45<0,0,C34*Loads!C298*10)","v":0},{"$f":"IF(Loads!B45<0,0,D34*Loads!D298*10)","v":0},{"$f":"E34*Input!F$14*Loads!E298/100","v":0},{"$f":"F34*Input!F$14*Loads!F298/100","v":0},{"$f":"IF(Loads!B45<0,0,G34*Loads!G298*10)","v":0}]
["Domestic Two Rate",{"$f":"IF(Loads!B46<0,0,B35*Loads!B299*10)","v":326430.79302015452},{"$f":"IF(Loads!B46<0,0,C35*Loads!C299*10)","v":1734.936911084493},{"$f":"IF(Loads!B46<0,0,D35*Loads!D299*10)","v":0},{"$f":"E35*Input!F$14*Loads!E299/100","v":0},{"$f":"F35*Input!F$14*Loads!F299/100","v":0},{"$f":"IF(Loads!B46<0,0,G35*Loads!G299*10)","v":0}]
["Domestic Off Peak (related MPAN)",{"$f":"IF(Loads!B47<0,0,B36*Loads!B300*10)","v":397.03796363916916},{"$f":"IF(Loads!B47<0,0,C36*Loads!C300*10)","v":0},{"$f":"IF(Loads!B47<0,0,D36*Loads!D300*10)","v":0},{"$f":"E36*Input!F$14*Loads!E300/100","v":0},{"$f":"F36*Input!F$14*Loads!F300/100","v":0},{"$f":"IF(Loads!B47<0,0,G36*Loads!G300*10)","v":0}]
["Small Non Domestic Unrestricted",{"$f":"IF(Loads!B48<0,0,B37*Loads!B301*10)","v":347262.54264153802},{"$f":"IF(Loads!B48<0,0,C37*Loads!C301*10)","v":0},{"$f":"IF(Loads!B48<0,0,D37*Loads!D301*10)","v":0},{"$f":"E37*Input!F$14*Loads!E301/100","v":0},{"$f":"F37*Input!F$14*Loads!F301/100","v":0},{"$f":"IF(Loads!B48<0,0,G37*Loads!G301*10)","v":0}]
["Small Non Domestic Two Rate",{"$f":"IF(Loads!B49<0,0,B38*Loads!B302*10)","v":117778.18482692674},{"$f":"IF(Loads!B49<0,0,C38*Loads!C302*10)","v":411.79144284654615},{"$f":"IF(Loads!B49<0,0,D38*Loads!D302*10)","v":0},{"$f":"E38*Input!F$14*Loads!E302/100","v":0},{"$f":"F38*Input!F$14*Loads!F302/100","v":0},{"$f":"IF(Loads!B49<0,0,G38*Loads!G302*10)","v":0}]
["Small Non Domestic Off Peak (related MPAN)",{"$f":"IF(Loads!B50<0,0,B39*Loads!B303*10)","v":183.74510193192674},{"$f":"IF(Loads!B50<0,0,C39*Loads!C303*10)","v":0},{"$f":"IF(Loads!B50<0,0,D39*Loads!D303*10)","v":0},{"$f":"E39*Input!F$14*Loads!E303/100","v":0},{"$f":"F39*Input!F$14*Loads!F303/100","v":0},{"$f":"IF(Loads!B50<0,0,G39*Loads!G303*10)","v":0}]
["LV Medium Non-Domestic",{"$f":"IF(Loads!B51<0,0,B40*Loads!B304*10)","v":315376.50507549813},{"$f":"IF(Loads!B51<0,0,C40*Loads!C304*10)","v":564.0775457518057},{"$f":"IF(Loads!B51<0,0,D40*Loads!D304*10)","v":0},{"$f":"E40*Input!F$14*Loads!E304/100","v":0},{"$f":"F40*Input!F$14*Loads!F304/100","v":0},{"$f":"IF(Loads!B51<0,0,G40*Loads!G304*10)","v":0}]
["LV Sub Medium Non-Domestic",{"$f":"IF(Loads!B52<0,0,B41*Loads!B305*10)","v":22.364056246018869},{"$f":"IF(Loads!B52<0,0,C41*Loads!C305*10)","v":4.350747868246975E-2},{"$f":"IF(Loads!B52<0,0,D41*Loads!D305*10)","v":0},{"$f":"E41*Input!F$14*Loads!E305/100","v":0},{"$f":"F41*Input!F$14*Loads!F305/100","v":0},{"$f":"IF(Loads!B52<0,0,G41*Loads!G305*10)","v":0}]
["HV Medium Non-Domestic",{"$f":"IF(Loads!B53<0,0,B42*Loads!B306*10)","v":7979.5559210912652},{"$f":"IF(Loads!B53<0,0,C42*Loads!C306*10)","v":16.830128958709004},{"$f":"IF(Loads!B53<0,0,D42*Loads!D306*10)","v":0},{"$f":"E42*Input!F$14*Loads!E306/100","v":0},{"$f":"F42*Input!F$14*Loads!F306/100","v":0},{"$f":"IF(Loads!B53<0,0,G42*Loads!G306*10)","v":0}]
["LV HH Metered",{"$f":"IF(Loads!B54<0,0,B43*Loads!B307*10)","v":301520.06208759814},{"$f":"IF(Loads!B54<0,0,C43*Loads!C307*10)","v":32458.226852003081},{"$f":"IF(Loads!B54<0,0,D43*Loads!D307*10)","v":1410.111398912697},{"$f":"E43*Input!F$14*Loads!E307/100","v":0},{"$f":"F43*Input!F$14*Loads!F307/100","v":0},{"$f":"IF(Loads!B54<0,0,G43*Loads!G307*10)","v":7952.6145333315944}]
["LV Sub HH Metered",{"$f":"IF(Loads!B55<0,0,B44*Loads!B308*10)","v":3507.1363529230025},{"$f":"IF(Loads!B55<0,0,C44*Loads!C308*10)","v":349.49984600896153},{"$f":"IF(Loads!B55<0,0,D44*Loads!D308*10)","v":18.779375526948158},{"$f":"E44*Input!F$14*Loads!E308/100","v":0},{"$f":"F44*Input!F$14*Loads!F308/100","v":0},{"$f":"IF(Loads!B55<0,0,G44*Loads!G308*10)","v":52.018175678033877}]
["HV HH Metered",{"$f":"IF(Loads!B56<0,0,B45*Loads!B309*10)","v":995967.89754210855},{"$f":"IF(Loads!B56<0,0,C45*Loads!C309*10)","v":107579.3635299788},{"$f":"IF(Loads!B56<0,0,D45*Loads!D309*10)","v":5767.289216672878},{"$f":"E45*Input!F$14*Loads!E309/100","v":0},{"$f":"F45*Input!F$14*Loads!F309/100","v":0},{"$f":"IF(Loads!B56<0,0,G45*Loads!G309*10)","v":39511.180336126214}]
["HV Sub HH Metered",{"$f":"IF(Loads!B57<0,0,B46*Loads!B310*10)","v":0},{"$f":"IF(Loads!B57<0,0,C46*Loads!C310*10)","v":0},{"$f":"IF(Loads!B57<0,0,D46*Loads!D310*10)","v":0},{"$f":"E46*Input!F$14*Loads!E310/100","v":0},{"$f":"F46*Input!F$14*Loads!F310/100","v":0},{"$f":"IF(Loads!B57<0,0,G46*Loads!G310*10)","v":0}]
["NHH UMS category A",{"$f":"IF(Loads!B58<0,0,B47*Loads!B311*10)","v":9206.0415265638894},{"$f":"IF(Loads!B58<0,0,C47*Loads!C311*10)","v":0},{"$f":"IF(Loads!B58<0,0,D47*Loads!D311*10)","v":0},{"$f":"E47*Input!F$14*Loads!E311/100","v":0},{"$f":"F47*Input!F$14*Loads!F311/100","v":0},{"$f":"IF(Loads!B58<0,0,G47*Loads!G311*10)","v":0}]
["NHH UMS category B",{"$f":"IF(Loads!B59<0,0,B48*Loads!B312*10)","v":4513.9245149162125},{"$f":"IF(Loads!B59<0,0,C48*Loads!C312*10)","v":0},{"$f":"IF(Loads!B59<0,0,D48*Loads!D312*10)","v":0},{"$f":"E48*Input!F$14*Loads!E312/100","v":0},{"$f":"F48*Input!F$14*Loads!F312/100","v":0},{"$f":"IF(Loads!B59<0,0,G48*Loads!G312*10)","v":0}]
["NHH UMS category C",{"$f":"IF(Loads!B60<0,0,B49*Loads!B313*10)","v":200.2691943836644},{"$f":"IF(Loads!B60<0,0,C49*Loads!C313*10)","v":0},{"$f":"IF(Loads!B60<0,0,D49*Loads!D313*10)","v":0},{"$f":"E49*Input!F$14*Loads!E313/100","v":0},{"$f":"F49*Input!F$14*Loads!F313/100","v":0},{"$f":"IF(Loads!B60<0,0,G49*Loads!G313*10)","v":0}]
["NHH UMS category D",{"$f":"IF(Loads!B61<0,0,B50*Loads!B314*10)","v":884.24462197606078},{"$f":"IF(Loads!B61<0,0,C50*Loads!C314*10)","v":0},{"$f":"IF(Loads!B61<0,0,D50*Loads!D314*10)","v":0},{"$f":"E50*Input!F$14*Loads!E314/100","v":0},{"$f":"F50*Input!F$14*Loads!F314/100","v":0},{"$f":"IF(Loads!B61<0,0,G50*Loads!G314*10)","v":0}]
["LV UMS (Pseudo HH Metered)",{"$f":"IF(Loads!B62<0,0,B51*Loads!B315*10)","v":27603.188835325658},{"$f":"IF(Loads!B62<0,0,C51*Loads!C315*10)","v":5456.5320768547026},{"$f":"IF(Loads!B62<0,0,D51*Loads!D315*10)","v":343.62329430783541},{"$f":"E51*Input!F$14*Loads!E315/100","v":0},{"$f":"F51*Input!F$14*Loads!F315/100","v":0},{"$f":"IF(Loads!B62<0,0,G51*Loads!G315*10)","v":0}]
["LV Generation NHH",{"$f":"IF(Loads!B63<0,0,B52*Loads!B316*10)","v":0},{"$f":"IF(Loads!B63<0,0,C52*Loads!C316*10)","v":0},{"$f":"IF(Loads!B63<0,0,D52*Loads!D316*10)","v":0},{"$f":"E52*Input!F$14*Loads!E316/100","v":0},{"$f":"F52*Input!F$14*Loads!F316/100","v":0},{"$f":"IF(Loads!B63<0,0,G52*Loads!G316*10)","v":0}]
["LV Sub Generation NHH",{"$f":"IF(Loads!B64<0,0,B53*Loads!B317*10)","v":0},{"$f":"IF(Loads!B64<0,0,C53*Loads!C317*10)","v":0},{"$f":"IF(Loads!B64<0,0,D53*Loads!D317*10)","v":0},{"$f":"E53*Input!F$14*Loads!E317/100","v":0},{"$f":"F53*Input!F$14*Loads!F317/100","v":0},{"$f":"IF(Loads!B64<0,0,G53*Loads!G317*10)","v":0}]
["LV Generation Intermittent",{"$f":"IF(Loads!B65<0,0,B54*Loads!B318*10)","v":0},{"$f":"IF(Loads!B65<0,0,C54*Loads!C318*10)","v":0},{"$f":"IF(Loads!B65<0,0,D54*Loads!D318*10)","v":0},{"$f":"E54*Input!F$14*Loads!E318/100","v":0},{"$f":"F54*Input!F$14*Loads!F318/100","v":0},{"$f":"IF(Loads!B65<0,0,G54*Loads!G318*10)","v":0}]
["LV Generation Non-Intermittent",{"$f":"IF(Loads!B66<0,0,B55*Loads!B319*10)","v":0},{"$f":"IF(Loads!B66<0,0,C55*Loads!C319*10)","v":0},{"$f":"IF(Loads!B66<0,0,D55*Loads!D319*10)","v":0},{"$f":"E55*Input!F$14*Loads!E319/100","v":0},{"$f":"F55*Input!F$14*Loads!F319/100","v":0},{"$f":"IF(Loads!B66<0,0,G55*Loads!G319*10)","v":0}]
["LV Sub Generation Intermittent",{"$f":"IF(Loads!B67<0,0,B56*Loads!B320*10)","v":0},{"$f":"IF(Loads!B67<0,0,C56*Loads!C320*10)","v":0},{"$f":"IF(Loads!B67<0,0,D56*Loads!D320*10)","v":0},{"$f":"E56*Input!F$14*Loads!E320/100","v":0},{"$f":"F56*Input!F$14*Loads!F320/100","v":0},{"$f":"IF(Loads!B67<0,0,G56*Loads!G320*10)","v":0}]
["LV Sub Generation Non-Intermittent",{"$f":"IF(Loads!B68<0,0,B57*Loads!B321*10)","v":0},{"$f":"IF(Loads!B68<0,0,C57*Loads!C321*10)","v":0},{"$f":"IF(Loads!B68<0,0,D57*Loads!D321*10)","v":0},{"$f":"E57*Input!F$14*Loads!E321/100","v":0},{"$f":"F57*Input!F$14*Loads!F321/100","v":0},{"$f":"IF(Loads!B68<0,0,G57*Loads!G321*10)","v":0}]
["HV Generation Intermittent",{"$f":"IF(Loads!B69<0,0,B58*Loads!B322*10)","v":0},{"$f":"IF(Loads!B69<0,0,C58*Loads!C322*10)","v":0},{"$f":"IF(Loads!B69<0,0,D58*Loads!D322*10)","v":0},{"$f":"E58*Input!F$14*Loads!E322/100","v":0},{"$f":"F58*Input!F$14*Loads!F322/100","v":0},{"$f":"IF(Loads!B69<0,0,G58*Loads!G322*10)","v":0}]
["HV Generation Non-Intermittent",{"$f":"IF(Loads!B70<0,0,B59*Loads!B323*10)","v":0},{"$f":"IF(Loads!B70<0,0,C59*Loads!C323*10)","v":0},{"$f":"IF(Loads!B70<0,0,D59*Loads!D323*10)","v":0},{"$f":"E59*Input!F$14*Loads!E323/100","v":0},{"$f":"F59*Input!F$14*Loads!F323/100","v":0},{"$f":"IF(Loads!B70<0,0,G59*Loads!G323*10)","v":0}]
["HV Sub Generation Intermittent",{"$f":"IF(Loads!B71<0,0,B60*Loads!B324*10)","v":0},{"$f":"IF(Loads!B71<0,0,C60*Loads!C324*10)","v":0},{"$f":"IF(Loads!B71<0,0,D60*Loads!D324*10)","v":0},{"$f":"E60*Input!F$14*Loads!E324/100","v":0},{"$f":"F60*Input!F$14*Loads!F324/100","v":0},{"$f":"IF(Loads!B71<0,0,G60*Loads!G324*10)","v":0}]
["HV Sub Generation Non-Intermittent",{"$f":"IF(Loads!B72<0,0,B61*Loads!B325*10)","v":0},{"$f":"IF(Loads!B72<0,0,C61*Loads!C325*10)","v":0},{"$f":"IF(Loads!B72<0,0,D61*Loads!D325*10)","v":0},{"$f":"E61*Input!F$14*Loads!E325/100","v":0},{"$f":"F61*Input!F$14*Loads!F325/100","v":0},{"$f":"IF(Loads!B72<0,0,G61*Loads!G325*10)","v":0}]
[]
["3505. Scaler value at which the minimum is breached"]
["Data sources:"]
["x1 = 3503. Unit rate 1 p/kWh scalable part (in Scalable elements of tariff components)"]
["x2 = 3307. Unit rate 1 p/kWh (total) (in Summary of charges before revenue matching)"]
["x3 = 3503. Unit rate 2 p/kWh scalable part (in Scalable elements of tariff components)"]
["x4 = 3307. Unit rate 2 p/kWh (total) (in Summary of charges before revenue matching)"]
["x5 = 3503. Unit rate 3 p/kWh scalable part (in Scalable elements of tariff components)"]
["x6 = 3307. Unit rate 3 p/kWh (total) (in Summary of charges before revenue matching)"]
["x7 = 3503. Fixed charge p/MPAN/day scalable part (in Scalable elements of tariff components)"]
["x8 = 3307. Fixed charge p/MPAN/day (total) (in Summary of charges before revenue matching)"]
["x9 = 3503. Capacity charge p/kVA/day scalable part (in Scalable elements of tariff components)"]
["x10 = 3307. Capacity charge p/kVA/day (total) (in Summary of charges before revenue matching)"]
["x11 = 3503. Reactive power charge p/kVArh scalable part (in Scalable elements of tariff components)"]
["x12 = 3307. Reactive power charge p/kVArh (in Summary of charges before revenue matching)"]
["Kind:","Calculation","Calculation","Calculation","Calculation","Calculation","Calculation"]
["Formula:","=IF(x1,0-x2/x1,0)","=IF(x3,0-x4/x3,0)","=IF(x5,0-x6/x5,0)","=IF(x7,0-x8/x7,0)","=IF(x9,0-x10/x9,0)","=IF(x11,0-x12/x11,0)"]
[]
[null,"Scaler threshold for Unit rate 1 p/kWh","Scaler threshold for Unit rate 2 p/kWh","Scaler threshold for Unit rate 3 p/kWh","Scaler threshold for Fixed charge p/MPAN/day","Scaler threshold for Capacity charge p/kVA/day","Scaler threshold for Reactive power charge p/kVArh"]
["Domestic Unrestricted",{"$f":"IF(B34,0-Aggreg!B245/B34,0)","v":-53.199499959011966},null,null,{"$f":"IF(E34,0-Aggreg!E245/E34,0)","v":0}]
["Domestic Two Rate",{"$f":"IF(B35,0-Aggreg!B246/B35,0)","v":-49.823442062036349},{"$f":"IF(C35,0-Aggreg!C246/C35,0)","v":-429.8689032073753},null,{"$f":"IF(E35,0-Aggreg!E246/E35,0)","v":0}]
["Domestic Off Peak (related MPAN)",{"$f":"IF(B36,0-Aggreg!B247/B36,0)","v":-153.38844700877323}]
["Small Non Domestic Unrestricted",{"$f":"IF(B37,0-Aggreg!B248/B37,0)","v":-53.199499959011959},null,null,{"$f":"IF(E37,0-Aggreg!E248/E37,0)","v":0}]
["Small Non Domestic Two Rate",{"$f":"IF(B38,0-Aggreg!B249/B38,0)","v":-52.855952341380679},{"$f":"IF(C38,0-Aggreg!C249/C38,0)","v":-429.86890320737552},null,{"$f":"IF(E38,0-Aggreg!E249/E38,0)","v":0}]
["Small Non Domestic Off Peak (related MPAN)",{"$f":"IF(B39,0-Aggreg!B250/B39,0)","v":-77.806880989059707}]
["LV Medium Non-Domestic",{"$f":"IF(B40,0-Aggreg!B251/B40,0)","v":-52.331154372414389},{"$f":"IF(C40,0-Aggreg!C251/C40,0)","v":-429.86890320737558},null,{"$f":"IF(E40,0-Aggreg!E251/E40,0)","v":0}]
["LV Sub Medium Non-Domestic",{"$f":"IF(B41,0-Aggreg!B252/B41,0)","v":-44.178492004573364},{"$f":"IF(C41,0-Aggreg!C252/C41,0)","v":-339.2530790692764},null,{"$f":"IF(E41,0-Aggreg!E252/E41,0)","v":0}]
["HV Medium Non-Domestic",{"$f":"IF(B42,0-Aggreg!B253/B42,0)","v":-22.829080166434064},{"$f":"IF(C42,0-Aggreg!C253/C42,0)","v":-97.531182544542375},null,{"$f":"IF(E42,0-Aggreg!E253/E42,0)","v":0}]
["LV HH Metered",{"$f":"IF(B43,0-Aggreg!B254/B43,0)","v":-32.064601475359417},{"$f":"IF(C43,0-Aggreg!C254/C43,0)","v":-118.53974128159261},{"$f":"IF(D43,0-Aggreg!D254/D43,0)","v":-301.89775653554744},{"$f":"IF(E43,0-Aggreg!E254/E43,0)","v":0},{"$f":"IF(F43,0-Aggreg!F254/F43,0)","v":0},{"$f":"IF(G43,0-Aggreg!G254/G43,0)","v":-41.364225099073352}]
["LV Sub HH Metered",{"$f":"IF(B44,0-Aggreg!B255/B44,0)","v":-22.005274487966702},{"$f":"IF(C44,0-Aggreg!C255/C44,0)","v":-75.957292569563151},{"$f":"IF(D44,0-Aggreg!D255/D44,0)","v":-152.47646640063152},{"$f":"IF(E44,0-Aggreg!E255/E44,0)","v":0},{"$f":"IF(F44,0-Aggreg!F255/F44,0)","v":0},{"$f":"IF(G44,0-Aggreg!G255/G44,0)","v":-27.545156624142852}]
["HV HH Metered",{"$f":"IF(B45,0-Aggreg!B256/B45,0)","v":-18.306252907946526},{"$f":"IF(C45,0-Aggreg!C256/C45,0)","v":-60.298849722113189},{"$f":"IF(D45,0-Aggreg!D256/D45,0)","v":-97.531182544542332},{"$f":"IF(E45,0-Aggreg!E256/E45,0)","v":0},{"$f":"IF(F45,0-Aggreg!F256/F45,0)","v":0},{"$f":"IF(G45,0-Aggreg!G256/G45,0)","v":-22.463600714029862}]
["HV Sub HH Metered",{"$f":"IF(B46,0-Aggreg!B257/B46,0)","v":-16.75581004194699},{"$f":"IF(C46,0-Aggreg!C257/C46,0)","v":-53.735621992753003},{"$f":"IF(D46,0-Aggreg!D257/D46,0)","v":-74.500896958988065},{"$f":"IF(E46,0-Aggreg!E257/E46,0)","v":0},{"$f":"IF(F46,0-Aggreg!F257/F46,0)","v":0},{"$f":"IF(G46,0-Aggreg!G257/G46,0)","v":-20.333669342023793}]
["NHH UMS category A",{"$f":"IF(B47,0-Aggreg!B258/B47,0)","v":-111.99006255943516}]
["NHH UMS category B",{"$f":"IF(B48,0-Aggreg!B259/B48,0)","v":-124.35195348079586}]
["NHH UMS category C",{"$f":"IF(B49,0-Aggreg!B260/B49,0)","v":-95.00071186846111}]
["NHH UMS category D",{"$f":"IF(B50,0-Aggreg!B261/B50,0)","v":-101.21891349605023}]
["LV UMS (Pseudo HH Metered)",{"$f":"IF(B51,0-Aggreg!B262/B51,0)","v":-70.303760279113234},{"$f":"IF(C51,0-Aggreg!C262/C51,0)","v":-86.605524166094952},{"$f":"IF(D51,0-Aggreg!D262/D51,0)","v":-4896.8493040380426}]
["LV Generation NHH",{"$f":"IF(B52,0-Aggreg!B263/B52,0)","v":-53.199499959011973},null,null,{"$f":"IF(E52,0-Aggreg!E263/E52,0)","v":0}]
["LV Sub Generation NHH",{"$f":"IF(B53,0-Aggreg!B264/B53,0)","v":-44.818992217805985},null,null,{"$f":"IF(E53,0-Aggreg!E264/E53,0)","v":0}]
["LV Generation Intermittent",{"$f":"IF(B54,0-Aggreg!B265/B54,0)","v":-53.199499959011973},null,null,{"$f":"IF(E54,0-Aggreg!E265/E54,0)","v":0},null,{"$f":"IF(G54,0-Aggreg!G265/G54,0)","v":-61.446642520794292}]
["LV Generation Non-Intermittent",{"$f":"IF(B55,0-Aggreg!B266/B55,0)","v":-40.679863786112946},{"$f":"IF(C55,0-Aggreg!C266/C55,0)","v":-155.00927507327913},{"$f":"IF(D55,0-Aggreg!D266/D55,0)","v":-429.86890320737524},{"$f":"IF(E55,0-Aggreg!E266/E55,0)","v":0},null,{"$f":"IF(G55,0-Aggreg!G266/G55,0)","v":-61.446642520794292}]
["LV Sub Generation Intermittent",{"$f":"IF(B56,0-Aggreg!B267/B56,0)","v":-44.818992217805985},null,null,{"$f":"IF(E56,0-Aggreg!E267/E56,0)","v":0},null,{"$f":"IF(G56,0-Aggreg!G267/G56,0)","v":-53.199499959011973}]
["LV Sub Generation Non-Intermittent",{"$f":"IF(B57,0-Aggreg!B268/B57,0)","v":-34.579433222207584},{"$f":"IF(C57,0-Aggreg!C268/C57,0)","v":-129.18535345959998},{"$f":"IF(D57,0-Aggreg!D268/D57,0)","v":-339.25307906927645},{"$f":"IF(E57,0-Aggreg!E268/E57,0)","v":0},null,{"$f":"IF(G57,0-Aggreg!G268/G57,0)","v":-53.199499959011973}]
["HV Generation Intermittent",{"$f":"IF(B58,0-Aggreg!B269/B58,0)","v":-26.769455208289038},null,null,{"$f":"IF(E58,0-Aggreg!E269/E58,0)","v":0},null,{"$f":"IF(G58,0-Aggreg!G269/G58,0)","v":-42.069653137953907}]
["HV Generation Non-Intermittent",{"$f":"IF(B59,0-Aggreg!B270/B59,0)","v":-21.440617456212895},{"$f":"IF(C59,0-Aggreg!C270/C59,0)","v":-73.567025395160883},{"$f":"IF(D59,0-Aggreg!D270/D59,0)","v":-144.0890482091213},{"$f":"IF(E59,0-Aggreg!E270/E59,0)","v":0},null,{"$f":"IF(G59,0-Aggreg!G270/G59,0)","v":-42.069653137953907}]
["HV Sub Generation Intermittent",{"$f":"IF(B60,0-Aggreg!B271/B60,0)","v":-22.996083557031387},null,null,{"$f":"IF(E60,0-Aggreg!E271/E60,0)","v":0},null,{"$f":"IF(G60,0-Aggreg!G271/G60,0)","v":-22.99608355703138}]
["HV Sub Generation Non-Intermittent",{"$f":"IF(B61,0-Aggreg!B272/B61,0)","v":-18.693863624446415},{"$f":"IF(C61,0-Aggreg!C272/C61,0)","v":-61.939656654453273},{"$f":"IF(D61,0-Aggreg!D272/D61,0)","v":-103.28875394093093},{"$f":"IF(E61,0-Aggreg!E272/E61,0)","v":0},null,{"$f":"IF(G61,0-Aggreg!G272/G61,0)","v":-22.99608355703138}]
[]
["3506. Constraint-free solution"]
["Data sources:"]
["Special calculation Special calculation"]
[]
[null,"Constraint-free solution"]
["Constraint-free solution",{"$f":"Revenue!C67/SUM(B83:G110)","v":39.835474344491153}]
[]
["3507. Starting point"]
["Data sources:"]
["Special calculation Special calculation"]
[]
[null,"Starting point"]
["Starting point",{"$f":"MIN(B164,B130:G157)","v":-4896.8493040380426}]
[]
["3508. Solve for General scaler rate"]
["Data sources:"]
["x1 = 3507. Starting point"]
["x2 = 3505. Scaler threshold for Unit rate 1 p/kWh (in Scaler value at which the minimum is breached)"]
["x3 = 3504. Effect through Unit rate 1 p/kWh (in Marginal revenue effect of scaler)"]
["x4 = Location (in Solve for General scaler rate)"]
["x5 = Kink (in Solve for General scaler rate)"]
["x6 = Ranking before tie break (in Solve for General scaler rate)"]
["x7 = Counter (in Solve for General scaler rate)"]
["x8 = Tie breaker (in Solve for General scaler rate)"]
["x9 = Ranking (in Solve for General scaler rate)"]
["x10 = Kink reordering (in Solve for General scaler rate)"]
["x11 = Starting slopes (in Solve for General scaler rate)"]
["x12 = New slope (in Solve for General scaler rate)"]
["x13 = Location (ordered) (in Solve for General scaler rate)"]
["x14 = Starting values (in Solve for General scaler rate)"]
["x15 = 3403. Revenue shortfall (surplus) £ (in Revenue surplus or shortfall)"]
["x16 = 3506. Constraint-free solution"]
["x17 = Value (in Solve for General scaler rate)"]
["Kind:","Special calculation","Special calculation","Special calculation","Special calculation","Special calculation","Fixed data","Calculation","Special calculation","Special calculation","Special calculation","Special calculation","Special calculation","Special calculation"]
["Formula:","Special calculation","Special calculation","Special calculation","Special calculation","Special calculation","","=x6*168+x7","Special calculation","Special calculation","Special calculation","Special calculation","Special calculation","Special calculation"]
[]
[null,"Location","Kink","Starting slopes","Starting values","Ranking before tie break","Counter","Tie breaker","Ranking","Kink reordering","Location (ordered)","New slope","Value","Root"]
["Starting point",{"$f":"B171","v":-4896.8493040380426},null,null,null,null,0,{"$f":"F196*168+G196","v":0},null,null,{"$f":"B196","v":-4896.8493040380426},{"$f":"SUM(D$196:D$363)","v":0},{"$f":"SUM($E$196:$E$363)-Revenue!$C$67","v":-387756340.78564638},{"$f":"IF(M$196>0,K196,IF(M$364>0,\"\",$B$164))","v":39.835474344491153}]
["Kink 1",{"$f":"B130","v":-53.199499959011966},{"$f":"B83","v":1896693.189115382},{"$f":"IF(ISNUMBER(B197),0,C197)","v":0},{"$f":"MAX($B$171,B197)*C197","v":-100903129.23660204},{"$f":"RANK(B197,B$197:B$364,1)","v":37},1,6217,{"$f":"RANK(H197,H$197:H$364,1)","v":37},{"$f":"MATCH(G197,I$197:I$364,0)","v":74},{"$f":"INDEX(B$197:B$364,J197,1)","v":-4896.8493040380426},{"$f":"L196+INDEX(C$197:C$364,J197,1)","v":343.62329430783541},{"$f":"M196+(K197-K196)*L196","v":-387756340.78564638},{"$f":"IF((M196>0)=(M197>0),\"\",K197-M197/L196)","v":""}]
["Kink 2",-49.823442062036349,326430.79302015452,0,-16263905.703304248,41,2,6890,41,35,-429.86890320737558,907.70084005964111,-386221382.26470441,""]
["Kink 3",-153.38844700877323,397.03796363916916,0,-60901.036646137931,10,3,1683,10,33,-429.86890320737552,1319.4922829061873,-386221382.26470441,""]
["Kink 4",-53.199499959011959,347262.54264153802,0,-18474193.623024892,38,4,6388,38,30,-429.8689032073753,3054.4291939906802,-386221382.26470441,""]
["Kink 5",-52.855952341380679,117778.18482692674,0,-6225278.124066365,39,5,6557,39,78,-429.86890320737524,3054.4291939906802,-386221382.26470441,""]
["Kink 6",-77.806880989059707,183.74510193192674,0,-14296.633278340069,23,6,3870,23,80,-339.25307906927645,3054.4291939906802,-385944602.64601946,""]
["Kink 7",-52.331154372414389,315376.50507549813,0,-16504016.572538422,40,7,6727,40,36,-339.2530790692764,3054.4727014693626,-385944602.64601946,""]
["Kink 8",-44.178492004573364,22.364056246018869,0,-988.01028005457363,44,8,7400,44,66,-301.89775653554744,4464.5841003820597,-385830501.8330856,""]
["Kink 9",-22.829080166434064,7979.5559210912652,0,-182165.9218151361,56,9,9417,56,50,-155.00927507327913,4464.5841003820597,-385174705.85421991,""]
["Kink 10",-32.064601475359417,301520.06208759814,0,-9668120.6276644617,50,10,8410,50,3,-153.38844700877323,4861.6220640212287,-385167469.53101367,""]
["Kink 11",-22.005274487966702,3507.1363529230025,0,-77175.498112797126,58,11,9755,58,67,-152.47646640063152,4880.4014395481772,-385163035.82596719,""]
["Kink 12",-18.306252907946526,995967.89754210855,0,-18232440.220601611,62,12,10428,62,82,-144.0890482091213,4880.4014395481772,-385122101.85815126,""]
["Kink 13",-16.75581004194699,0,0,0,63,13,10597,63,52,-129.18535345959998,4880.4014395481772,-385049365.84484112,""]
["Kink 14",-111.99006255943516,9206.0415265638894,0,-1030985.1664846479,16,14,2702,16,15,-124.35195348079586,9394.3259544643897,-385025776.91262668,""]
["Kink 15",-124.35195348079586,4513.9245149162125,0,-561315.3312946849,14,15,2367,14,38,-118.53974128159261,41852.552806467473,-384971175.09671086,""]
["Kink 16",-95.00071186846111,200.2691943836644,0,-19025.716031771331,21,16,3544,21,14,-111.99006255943516,51058.59433303136,-384697054.32212639,""]
["Kink 17",-101.21891349605023,884.24462197606078,0,-89502.279901142538,18,17,3041,18,84,-103.28875394093093,51058.59433303136,-384252777.73520768,""]
["Kink 18",-70.303760279113234,27603.188835325658,0,-1940607.9708178299,27,18,4554,27,17,-101.21891349605023,51942.838955007421,-384147094.59159839,""]
["Kink 19",-53.199499959011973,0,0,0,33,19,5563,33,37,-97.531182544542375,51959.669083966131,-383955543.37667483,""]
["Kink 20",-44.818992217805985,0,0,0,42,20,7076,42,68,-97.531182544542332,57726.958300639009,-383955543.37667483,""]
["Kink 21",-53.199499959011973,0,0,0,33,21,5565,34,16,-95.00071186846111,57927.227495022671,-383809467.00147569,""]
["Kink 22",-40.679863786112946,0,0,0,48,22,8086,48,46,-86.605524166094952,63383.759571877374,-383323157.0535773,""]
["Kink 23",-44.818992217805985,0,0,0,42,23,7079,43,6,-77.806880989059707,63567.504673809301,-382765465.96988535,""]
["Kink 24",-34.579433222207584,0,0,0,49,24,8256,49,39,-75.957292569563151,63917.004519818263,-382647892.2493844,""]
["Kink 25",-26.769455208289038,0,0,0,52,25,8761,52,69,-74.500896958988065,63917.004519818263,-382554803.80456066,""]
["Kink 26",-21.440617456212895,0,0,0,59,26,9938,59,54,-73.567025395160883,63917.004519818263,-382495113.53159457,""]
["Kink 27",-22.996083557031387,0,0,0,53,27,8931,53,18,-70.303760279113234,91520.193355143914,-382286535.40042281,""]
["Kink 28",-18.693863624446415,0,0,0,61,28,10276,61,56,-61.939656654453273,91520.193355143914,-381521051.0194515,""]
["Kink 29",{"$f":"C130","v":0},{"$f":"C83","v":0},0,0,64,29,10781,64,161,-61.446642520794292,91520.193355143914,-381475930.27061224,""]
["Kink 30",-429.8689032073753,1734.936911084493,0,-745795.42710188264,4,30,702,4,162,-61.446642520794292,91520.193355143914,-381475930.27061224,""]
["Kink 31",0,0,0,0,64,31,10783,65,40,-60.298849722113189,199099.55688512273,-381370884.0517453,""]
["Kink 32",0,0,0,0,64,32,{"$f":"F228*168+G228","v":10784},66,41,-53.735621992753003,199099.55688512273,-380064148.31909353,""]
["Kink 33",-429.86890320737552,411.79144284654615,{"$f":"IF(ISNUMBER(B229),0,C229)","v":0},{"$f":"MAX($B$171,B229)*C229","v":-177016.33588662746},{"$f":"RANK(B229,B$197:B$364,1)","v":3},33,537,{"$f":"RANK(H229,H$197:H$364,1)","v":3},{"$f":"MATCH(G229,I$197:I$364,0)","v":19},{"$f":"INDEX(B$197:B$364,J229,1)","v":-53.199499959011973},{"$f":"L228+INDEX(C$197:C$364,J229,1)","v":199099.55688512273},{"$f":"M228+(K229-K228)*L228","v":-379957406.65973932},{"$f":"IF((M228>0)=(M229>0),\"\",K229-M229/L228)","v":""}]
["Kink 34",0,0,0,0,64,34,10786,67,21,-53.199499959011973,199099.55688512273,-379957406.65973932,""]
["Kink 35",-429.86890320737558,564.0775457518057,0,-242479.39591623694,2,35,371,2,163,-53.199499959011973,199099.55688512273,-379957406.65973932,""]
["Kink 36",-339.2530790692764,4.350747868246975E-2,0,-14.760046105568767,7,36,1212,7,164,-53.199499959011973,199099.55688512273,-379957406.65973932,""]
["Kink 37",-97.531182544542375,16.830128958709004,0,-1641.4623797200368,19,37,3229,19,1,-53.199499959011966,2095792.7460005048,-379957406.65973932,""]
["Kink 38",-118.53974128159261,32458.226852003081,0,-3847589.8134956872,15,38,2558,15,4,-53.199499959011959,2443055.2886420428,-379957406.65973932,""]
["Kink 39",-75.957292569563151,349.49984600896153,0,-26547.062056319959,24,39,4071,24,5,-52.855952341380679,2560833.4734689696,-379118100.83558482,""]
["Kink 40",-60.298849722113189,107579.3635299788,0,-6486911.8746947758,31,40,5248,31,7,-52.331154372414389,2876209.9785444676,-377774180.62984741,""]
["Kink 41",-53.735621992753003,0,0,0,32,41,5417,32,2,-49.823442062036349,3202640.7715646219,-370561473.45941931,""]
["Kink 42",0,0,0,0,64,42,10794,68,20,-44.818992217805985,3202640.7715646219,-354534018.34903693,""]
["Kink 43",0,0,0,0,64,43,10795,69,23,-44.818992217805985,3202640.7715646219,-354534018.34903693,""]
["Kink 44",0,0,0,0,64,44,10796,70,8,-44.178492004573364,3202663.1356208678,-352482726.25194234,""]
["Kink 45",0,0,0,0,64,45,10797,71,165,-42.069653137953907,3202663.1356208678,-345728825.75485569,""]
["Kink 46",-86.605524166094952,5456.5320768547026,0,-472565.82064511225,22,46,3742,22,166,-42.069653137953907,3202663.1356208678,-345728825.75485569,""]
["Kink 47",0,0,0,0,64,47,10799,72,150,-41.364225099073352,3210615.7501541995,-343469577.37989962,""]
["Kink 48",0,0,0,0,64,48,10800,73,22,-40.679863786112946,3210615.7501541995,-341272356.16971272,""]
["Kink 49",0,0,0,0,64,49,10801,74,24,-34.579433222207584,3210615.7501541995,-321686217.71851611,""]
["Kink 50",-155.00927507327913,0,0,0,9,50,1562,9,10,-32.064601475359417,3512135.8122417978,-313612059.30309761,""]
["Kink 51",0,0,0,0,64,51,10803,75,151,-27.545156624142852,3512187.8304174757,-297739155.18968809,""]
["Kink 52",-129.18535345959998,0,0,0,13,52,2236,13,25,-26.769455208289038,3512187.8304174757,-295014746.1168887,""]
["Kink 53",0,0,0,0,64,53,10805,76,27,-22.996083557031387,3512187.8304174757,-281761956.12369931,""]
["Kink 54",-73.567025395160883,0,0,0,26,54,4422,26,167,-22.99608355703138,3512187.8304174757,-281761956.12369931,""]
["Kink 55",0,0,0,0,64,55,10807,77,168,-22.99608355703138,3512187.8304174757,-281761956.12369931,""]
["Kink 56",-61.939656654453273,0,0,0,28,56,4760,28,9,-22.829080166434064,3520167.3863385669,-281175408.84760493,""]
["Kink 57",{"$f":"D130","v":0},{"$f":"D83","v":0},0,0,64,57,10809,78,152,-22.463600714029862,3559678.566674693,-279888859.99887478,""]
["Kink 58",0,0,0,0,64,58,10810,79,11,-22.005274487966702,3563185.7030276163,-278257365.95541286,""]
["Kink 59",0,0,0,0,64,59,10811,80,26,-21.440617456212895,3563185.7030276163,-276245388.09275371,""]
["Kink 60",0,0,0,0,64,60,10812,81,153,-20.333669342023793,3563185.7030276163,-272301126.39828169,""]
["Kink 61",0,0,0,0,64,61,10813,82,28,-18.693863624446415,3563185.7030276163,-266458194.10966703,""]
["Kink 62",0,0,0,0,64,62,10814,83,12,-18.306252907946526,4559153.600569725,-265077065.14629433,""]
["Kink 63",0,0,0,0,64,63,10815,84,13,-16.75581004194699,4559153.600569725,-258008357.97129491,""]
["Kink 64",0,0,0,0,64,64,{"$f":"F260*168+G260","v":10816},85,29,0,4559153.600569725,-181616046.28808993,""]
["Kink 65",0,0,{"$f":"IF(ISNUMBER(B261),0,C261)","v":0},{"$f":"MAX($B$171,B261)*C261","v":0},{"$f":"RANK(B261,B$197:B$364,1)","v":64},65,10817,{"$f":"RANK(H261,H$197:H$364,1)","v":86},{"$f":"MATCH(G261,I$197:I$364,0)","v":31},{"$f":"INDEX(B$197:B$364,J261,1)","v":0},{"$f":"L260+INDEX(C$197:C$364,J261,1)","v":4559153.600569725},{"$f":"M260+(K261-K260)*L260","v":-181616046.28808993},{"$f":"IF((M260>0)=(M261>0),\"\",K261-M261/L260)","v":""}]
["Kink 66",-301.89775653554744,1410.111398912697,0,-425709.46779694565,8,66,1410,8,32,0,4559153.600569725,-181616046.28808993,""]
["Kink 67",-152.47646640063152,18.779375526948158,0,-2863.4128215595529,11,67,1915,11,34,0,4559153.600569725,-181616046.28808993,""]
["Kink 68",-97.531182544542332,5767.289216672878,0,-562490.537378493,20,68,3428,20,42,0,4559153.600569725,-181616046.28808993,""]
["Kink 69",-74.500896958988065,0,0,0,25,69,4269,25,43,0,4559153.600569725,-181616046.28808993,""]
["Kink 70",0,0,0,0,64,70,10822,87,44,0,4559153.600569725,-181616046.28808993,""]
["Kink 71",0,0,0,0,64,71,10823,88,45,0,4559153.600569725,-181616046.28808993,""]
["Kink 72",0,0,0,0,64,72,10824,89,47,0,4559153.600569725,-181616046.28808993,""]
["Kink 73",0,0,0,0,64,73,10825,90,48,0,4559153.600569725,-181616046.28808993,""]
["Kink 74",-4896.8493040380426,343.62329430783541,0,-1682671.4895825833,1,74,242,1,49,0,4559153.600569725,-181616046.28808993,""]
["Kink 75",0,0,0,0,64,75,10827,91,51,0,4559153.600569725,-181616046.28808993,""]
["Kink 76",0,0,0,0,64,76,10828,92,53,0,4559153.600569725,-181616046.28808993,""]
["Kink 77",0,0,0,0,64,77,10829,93,55,0,4559153.600569725,-181616046.28808993,""]
["Kink 78",-429.86890320737524,0,0,0,5,78,918,5,57,0,4559153.600569725,-181616046.28808993,""]
["Kink 79",0,0,0,0,64,79,10831,94,58,0,4559153.600569725,-181616046.28808993,""]
["Kink 80",-339.25307906927645,0,0,0,6,80,1088,6,59,0,4559153.600569725,-181616046.28808993,""]
["Kink 81",0,0,0,0,64,81,10833,95,60,0,4559153.600569725,-181616046.28808993,""]
["Kink 82",-144.0890482091213,0,0,0,12,82,2098,12,61,0,4559153.600569725,-181616046.28808993,""]
["Kink 83",0,0,0,0,64,83,10835,96,62,0,4559153.600569725,-181616046.28808993,""]
["Kink 84",-103.28875394093093,0,0,0,17,84,2940,17,63,0,4559153.600569725,-181616046.28808993,""]
["Kink 85",{"$f":"E130","v":0},{"$f":"E83","v":0},0,0,64,85,10837,97,64,0,4559153.600569725,-181616046.28808993,""]
["Kink 86",0,0,0,0,64,86,10838,98,65,0,4559153.600569725,-181616046.28808993,""]
["Kink 87",0,0,0,0,64,87,10839,99,70,0,4559153.600569725,-181616046.28808993,""]
["Kink 88",0,0,0,0,64,88,10840,100,71,0,4559153.600569725,-181616046.28808993,""]
["Kink 89",0,0,0,0,64,89,10841,101,72,0,4559153.600569725,-181616046.28808993,""]
["Kink 90",0,0,0,0,64,90,10842,102,73,0,4559153.600569725,-181616046.28808993,""]
["Kink 91",0,0,0,0,64,91,10843,103,75,0,4559153.600569725,-181616046.28808993,""]
["Kink 92",0,0,0,0,64,92,10844,104,76,0,4559153.600569725,-181616046.28808993,""]
["Kink 93",0,0,0,0,64,93,10845,105,77,0,4559153.600569725,-181616046.28808993,""]
["Kink 94",0,0,0,0,64,94,10846,106,79,0,4559153.600569725,-181616046.28808993,""]
["Kink 95",0,0,0,0,64,95,10847,107,81,0,4559153.600569725,-181616046.28808993,""]
["Kink 96",0,0,0,0,64,96,{"$f":"F292*168+G292","v":10848},108,83,0,4559153.600569725,-181616046.28808993,""]
["Kink 97",0,0,{"$f":"IF(ISNUMBER(B293),0,C293)","v":0},{"$f":"MAX($B$171,B293)*C293","v":0},{"$f":"RANK(B293,B$197:B$364,1)","v":64},97,10849,{"$f":"RANK(H293,H$197:H$364,1)","v":109},{"$f":"MATCH(G293,I$197:I$364,0)","v":85},{"$f":"INDEX(B$197:B$364,J293,1)","v":0},{"$f":"L292+INDEX(C$197:C$364,J293,1)","v":4559153.600569725},{"$f":"M292+(K293-K292)*L292","v":-181616046.28808993},{"$f":"IF((M292>0)=(M293>0),\"\",K293-M293/L292)","v":""}]
["Kink 98",0,0,0,0,64,98,10850,110,86,0,4559153.600569725,-181616046.28808993,""]
["Kink 99",0,0,0,0,64,99,10851,111,87,0,4559153.600569725,-181616046.28808993,""]
["Kink 100",0,0,0,0,64,100,10852,112,88,0,4559153.600569725,-181616046.28808993,""]
["Kink 101",0,0,0,0,64,101,10853,113,89,0,4559153.600569725,-181616046.28808993,""]
["Kink 102",0,0,0,0,64,102,10854,114,90,0,4559153.600569725,-181616046.28808993,""]
["Kink 103",0,0,0,0,64,103,10855,115,91,0,4559153.600569725,-181616046.28808993,""]
["Kink 104",0,0,0,0,64,104,10856,116,92,0,4559153.600569725,-181616046.28808993,""]
["Kink 105",0,0,0,0,64,105,10857,117,93,0,4559153.600569725,-181616046.28808993,""]
["Kink 106",0,0,0,0,64,106,10858,118,94,0,4559153.600569725,-181616046.28808993,""]
["Kink 107",0,0,0,0,64,107,10859,119,95,0,4559153.600569725,-181616046.28808993,""]
["Kink 108",0,0,0,0,64,108,10860,120,96,0,4559153.600569725,-181616046.28808993,""]
["Kink 109",0,0,0,0,64,109,10861,121,97,0,4559153.600569725,-181616046.28808993,""]
["Kink 110",0,0,0,0,64,110,10862,122,98,0,4559153.600569725,-181616046.28808993,""]
["Kink 111",0,0,0,0,64,111,10863,123,99,0,4559153.600569725,-181616046.28808993,""]
["Kink 112",0,0,0,0,64,112,10864,124,100,0,4559153.600569725,-181616046.28808993,""]
["Kink 113",{"$f":"F130","v":0},{"$f":"F83","v":0},0,0,64,113,10865,125,101,0,4559153.600569725,-181616046.28808993,""]
["Kink 114",0,0,0,0,64,114,10866,126,102,0,4559153.600569725,-181616046.28808993,""]
["Kink 115",0,0,0,0,64,115,10867,127,103,0,4559153.600569725,-181616046.28808993,""]
["Kink 116",0,0,0,0,64,116,10868,128,104,0,4559153.600569725,-181616046.28808993,""]
["Kink 117",0,0,0,0,64,117,10869,129,105,0,4559153.600569725,-181616046.28808993,""]
["Kink 118",0,0,0,0,64,118,10870,130,106,0,4559153.600569725,-181616046.28808993,""]
["Kink 119",0,0,0,0,64,119,10871,131,107,0,4559153.600569725,-181616046.28808993,""]
["Kink 120",0,0,0,0,64,120,10872,132,108,0,4559153.600569725,-181616046.28808993,""]
["Kink 121",0,0,0,0,64,121,10873,133,109,0,4559153.600569725,-181616046.28808993,""]
["Kink 122",0,0,0,0,64,122,10874,134,110,0,4559153.600569725,-181616046.28808993,""]
["Kink 123",0,0,0,0,64,123,10875,135,111,0,4559153.600569725,-181616046.28808993,""]
["Kink 124",0,0,0,0,64,124,10876,136,112,0,4559153.600569725,-181616046.28808993,""]
["Kink 125",0,0,0,0,64,125,10877,137,113,0,4559153.600569725,-181616046.28808993,""]
["Kink 126",0,0,0,0,64,126,10878,138,114,0,4559153.600569725,-181616046.28808993,""]
["Kink 127",0,0,0,0,64,127,10879,139,115,0,4559153.600569725,-181616046.28808993,""]
["Kink 128",0,0,0,0,64,128,{"$f":"F324*168+G324","v":10880},140,116,0,4559153.600569725,-181616046.28808993,""]
["Kink 129",0,0,{"$f":"IF(ISNUMBER(B325),0,C325)","v":0},{"$f":"MAX($B$171,B325)*C325","v":0},{"$f":"RANK(B325,B$197:B$364,1)","v":64},129,10881,{"$f":"RANK(H325,H$197:H$364,1)","v":141},{"$f":"MATCH(G325,I$197:I$364,0)","v":117},{"$f":"INDEX(B$197:B$364,J325,1)","v":0},{"$f":"L324+INDEX(C$197:C$364,J325,1)","v":4559153.600569725},{"$f":"M324+(K325-K324)*L324","v":-181616046.28808993},{"$f":"IF((M324>0)=(M325>0),\"\",K325-M325/L324)","v":""}]
["Kink 130",0,0,0,0,64,130,10882,142,118,0,4559153.600569725,-181616046.28808993,""]
["Kink 131",0,0,0,0,64,131,10883,143,119,0,4559153.600569725,-181616046.28808993,""]
["Kink 132",0,0,0,0,64,132,10884,144,120,0,4559153.600569725,-181616046.28808993,""]
["Kink 133",0,0,0,0,64,133,10885,145,121,0,4559153.600569725,-181616046.28808993,""]
["Kink 134",0,0,0,0,64,134,10886,146,122,0,4559153.600569725,-181616046.28808993,""]
["Kink 135",0,0,0,0,64,135,10887,147,123,0,4559153.600569725,-181616046.28808993,""]
["Kink 136",0,0,0,0,64,136,10888,148,124,0,4559153.600569725,-181616046.28808993,""]
["Kink 137",0,0,0,0,64,137,10889,149,125,0,4559153.600569725,-181616046.28808993,""]
["Kink 138",0,0,0,0,64,138,10890,150,126,0,4559153.600569725,-181616046.28808993,""]
["Kink 139",0,0,0,0,64,139,10891,151,127,0,4559153.600569725,-181616046.28808993,""]
["Kink 140",0,0,0,0,64,140,10892,152,128,0,4559153.600569725,-181616046.28808993,""]
["Kink 141",{"$f":"G130","v":0},{"$f":"G83","v":0},0,0,64,141,10893,153,129,0,4559153.600569725,-181616046.28808993,""]
["Kink 142",0,0,0,0,64,142,10894,154,130,0,4559153.600569725,-181616046.28808993,""]
["Kink 143",0,0,0,0,64,143,10895,155,131,0,4559153.600569725,-181616046.28808993,""]
["Kink 144",0,0,0,0,64,144,10896,156,132,0,4559153.600569725,-181616046.28808993,""]
["Kink 145",0,0,0,0,64,145,10897,157,133,0,4559153.600569725,-181616046.28808993,""]
["Kink 146",0,0,0,0,64,146,10898,158,134,0,4559153.600569725,-181616046.28808993,""]
["Kink 147",0,0,0,0,64,147,10899,159,135,0,4559153.600569725,-181616046.28808993,""]
["Kink 148",0,0,0,0,64,148,10900,160,136,0,4559153.600569725,-181616046.28808993,""]
["Kink 149",0,0,0,0,64,149,10901,161,137,0,4559153.600569725,-181616046.28808993,""]
["Kink 150",-41.364225099073352,7952.6145333315944,0,-328953.73768289026,47,150,8046,47,138,0,4559153.600569725,-181616046.28808993,""]
["Kink 151",-27.545156624142852,52.018175678033877,0,-1432.8487963536215,51,151,8719,51,139,0,4559153.600569725,-181616046.28808993,""]
["Kink 152",-22.463600714029862,39511.180336126214,0,-887563.37881076743,57,152,9728,57,140,0,4559153.600569725,-181616046.28808993,""]
["Kink 153",-20.333669342023793,0,0,0,60,153,10233,60,141,0,4559153.600569725,-181616046.28808993,""]
["Kink 154",0,0,0,0,64,154,10906,162,142,0,4559153.600569725,-181616046.28808993,""]
["Kink 155",0,0,0,0,64,155,10907,163,143,0,4559153.600569725,-181616046.28808993,""]
["Kink 156",0,0,0,0,64,156,10908,164,144,0,4559153.600569725,-181616046.28808993,""]
["Kink 157",0,0,0,0,64,157,10909,165,145,0,4559153.600569725,-181616046.28808993,""]
["Kink 158",0,0,0,0,64,158,10910,166,146,0,4559153.600569725,-181616046.28808993,""]
["Kink 159",0,0,0,0,64,159,10911,167,147,0,4559153.600569725,-181616046.28808993,""]
["Kink 160",0,0,0,0,64,160,{"$f":"F356*168+G356","v":10912},168,148,0,4559153.600569725,-181616046.28808993,""]
["Kink 161",-61.446642520794292,0,{"$f":"IF(ISNUMBER(B357),0,C357)","v":0},{"$f":"MAX($B$171,B357)*C357","v":0},{"$f":"RANK(B357,B$197:B$364,1)","v":29},161,5033,{"$f":"RANK(H357,H$197:H$364,1)","v":29},{"$f":"MATCH(G357,I$197:I$364,0)","v":149},{"$f":"INDEX(B$197:B$364,J357,1)","v":0},{"$f":"L356+INDEX(C$197:C$364,J357,1)","v":4559153.600569725},{"$f":"M356+(K357-K356)*L356","v":-181616046.28808993},{"$f":"IF((M356>0)=(M357>0),\"\",K357-M357/L356)","v":""}]
["Kink 162",-61.446642520794292,0,0,0,29,162,5034,30,154,0,4559153.600569725,-181616046.28808993,""]
["Kink 163",-53.199499959011973,0,0,0,33,163,5707,35,155,0,4559153.600569725,-181616046.28808993,""]
["Kink 164",-53.199499959011973,0,0,0,33,164,5708,36,156,0,4559153.600569725,-181616046.28808993,""]
["Kink 165",-42.069653137953907,0,0,0,45,165,7725,45,157,0,4559153.600569725,-181616046.28808993,""]
["Kink 166",-42.069653137953907,0,0,0,45,166,7726,46,158,0,4559153.600569725,-181616046.28808993,""]
["Kink 167",-22.99608355703138,0,0,0,54,167,9239,54,159,0,4559153.600569725,-181616046.28808993,""]
["Kink 168",-22.99608355703138,0,0,0,54,168,9240,55,160,0,4559153.600569725,-181616046.28808993,""]
[]
["3509. General scaler rate"]
["Data sources:"]
["x1 = 3508. Root (in Solve for General scaler rate)"]
["Optimisation result =MIN(x1)"]
[]
[null,"General scaler rate"]
["General scaler rate",{"$f":"MIN(N196:N364)","v":39.835474344491153}]
[]
["3510. Scaler"]
["Data sources:"]
["x1 = 2302. Load coefficient"]
["x2 = 3503. Unit rate 1 p/kWh scalable part (in Scalable elements of tariff components)"]
["x3 = 3509. General scaler rate"]
["x4 = 3307. Unit rate 1 p/kWh (total) (in Summary of charges before revenue matching)"]
["x5 = 3503. Unit rate 2 p/kWh scalable part (in Scalable elements of tariff components)"]
["x6 = 3307. Unit rate 2 p/kWh (total) (in Summary of charges before revenue matching)"]
["x7 = 3503. Unit rate 3 p/kWh scalable part (in Scalable elements of tariff components)"]
["x8 = 3307. Unit rate 3 p/kWh (total) (in Summary of charges before revenue matching)"]
["x9 = 3503. Fixed charge p/MPAN/day scalable part (in Scalable elements of tariff components)"]
["x10 = 3307. Fixed charge p/MPAN/day (total) (in Summary of charges before revenue matching)"]
["x11 = 3503. Capacity charge p/kVA/day scalable part (in Scalable elements of tariff components)"]
["x12 = 3307. Capacity charge p/kVA/day (total) (in Summary of charges before revenue matching)"]
["x13 = 3503. Reactive power charge p/kVArh scalable part (in Scalable elements of tariff components)"]
["x14 = 3307. Reactive power charge p/kVArh (in Summary of charges before revenue matching)"]
["x15 = 1010. Days in the charging year (in Financial and general assumptions)"]
["x16 = Fixed charge p/MPAN/day scaler (in Scaler)"]
["x17 = 2305. MPANs (in Equivalent volume for each end user)"]
["x18 = Capacity charge p/kVA/day scaler (in Scaler)"]
["x19 = 2305. Import capacity (kVA) (in Equivalent volume for each end user)"]
["x20 = Unit rate 1 p/kWh scaler (in Scaler)"]
["x21 = 2305. Rate 1 units (MWh) (in Equivalent volume for each end user)"]
["x22 = Unit rate 2 p/kWh scaler (in Scaler)"]
["x23 = 2305. Rate 2 units (MWh) (in Equivalent volume for each end user)"]
["x24 = Unit rate 3 p/kWh scaler (in Scaler)"]
["x25 = 2305. Rate 3 units (MWh) (in Equivalent volume for each end user)"]
["x26 = Reactive power charge p/kVArh scaler (in Scaler)"]
["x27 = 2305. Reactive power units (MVArh) (in Equivalent volume for each end user)"]
["Kind:","Calculation","Calculation","Calculation","Calculation","Calculation","Calculation","Calculation"]
["Formula:","=IF(x1<0,0,IF(x2*x3+x4>0,x2*x3,0-x4))","=IF(x1<0,0,IF(x5*x3+x6>0,x5*x3,0-x6))","=IF(x1<0,0,IF(x7*x3+x8>0,x7*x3,0-x8))","=IF(x1<0,0,IF(x9*x3+x10>0,x9*x3,0-x10))","=IF(x1<0,0,IF(x11*x3+x12>0,x11*x3,0-x12))","=IF(x1<0,0,IF(x13*x3+x14>0,x13*x3,0-x14))","=0.01*x15*(x16*x17+x18*x19)+10*(x20*x21+x22*x23+x24*x25+x26*x27)"]
[]
[null,"Unit rate 1 p/kWh scaler","Unit rate 2 p/kWh scaler","Unit rate 3 p/kWh scaler","Fixed charge p/MPAN/day scaler","Capacity charge p/kVA/day scaler","Reactive power charge p/kVArh scaler","Net revenues by tariff from scaler"]
["Domestic Unrestricted",{"$f":"IF(Loads!$B45<0,0,IF($B34*$B$372+Aggreg!$B245>0,$B34*$B$372,0-Aggreg!$B245))","v":1.0918645931630668},{"$f":"IF(Loads!$B45<0,0,IF($C34*$B$372+Aggreg!$C245>0,$C34*$B$372,0-Aggreg!$C245))","v":0},{"$f":"IF(Loads!$B45<0,0,IF($D34*$B$372+Aggreg!$D245>0,$D34*$B$372,0-Aggreg!$D245))","v":0},{"$f":"IF(Loads!$B45<0,0,IF($E34*$B$372+Aggreg!$E245>0,$E34*$B$372,0-Aggreg!$E245))","v":0},{"$f":"IF(Loads!$B45<0,0,IF($F34*$B$372+Aggreg!$F245>0,$F34*$B$372,0-Aggreg!$F245))","v":0},{"$f":"IF(Loads!$B45<0,0,IF($G34*$B$372+Aggreg!$G245>0,$G34*$B$372,0-Aggreg!$G245))","v":0},{"$f":"0.01*Input!$F$14*(E407*Loads!$E298+F407*Loads!$F298)+10*(B407*Loads!$B298+C407*Loads!$C298+D407*Loads!$D298+G407*Loads!$G298)","v":75555672.874376908}]
["Domestic Two Rate",{"$f":"IF(Loads!$B46<0,0,IF($B35*$B$372+Aggreg!$B246>0,$B35*$B$372,0-Aggreg!$B246))","v":1.3127618731314732},{"$f":"IF(Loads!$B46<0,0,IF($C35*$B$372+Aggreg!$C246>0,$C35*$B$372,0-Aggreg!$C246))","v":9.3295626376578896E-3},{"$f":"IF(Loads!$B46<0,0,IF($D35*$B$372+Aggreg!$D246>0,$D35*$B$372,0-Aggreg!$D246))","v":0},{"$f":"IF(Loads!$B46<0,0,IF($E35*$B$372+Aggreg!$E246>0,$E35*$B$372,0-Aggreg!$E246))","v":0},{"$f":"IF(Loads!$B46<0,0,IF($F35*$B$372+Aggreg!$F246>0,$F35*$B$372,0-Aggreg!$F246))","v":0},{"$f":"IF(Loads!$B46<0,0,IF($G35*$B$372+Aggreg!$G246>0,$G35*$B$372,0-Aggreg!$G246))","v":0},{"$f":"0.01*Input!$F$14*(E408*Loads!$E299+F408*Loads!$F299)+10*(B408*Loads!$B299+C408*Loads!$C299+D408*Loads!$D299+G408*Loads!$G299)","v":13072637.515417084}]
["Domestic Off Peak (related MPAN)",{"$f":"IF(Loads!$B47<0,0,IF($B36*$B$372+Aggreg!$B247>0,$B36*$B$372,0-Aggreg!$B247))","v":4.3580027629320589E-2},{"$f":"IF(Loads!$B47<0,0,IF($C36*$B$372+Aggreg!$C247>0,$C36*$B$372,0-Aggreg!$C247))","v":0},{"$f":"IF(Loads!$B47<0,0,IF($D36*$B$372+Aggreg!$D247>0,$D36*$B$372,0-Aggreg!$D247))","v":0},{"$f":"IF(Loads!$B47<0,0,IF($E36*$B$372+Aggreg!$E247>0,$E36*$B$372,0-Aggreg!$E247))","v":0},{"$f":"IF(Loads!$B47<0,0,IF($F36*$B$372+Aggreg!$F247>0,$F36*$B$372,0-Aggreg!$F247))","v":0},{"$f":"IF(Loads!$B47<0,0,IF($G36*$B$372+Aggreg!$G247>0,$G36*$B$372,0-Aggreg!$G247))","v":0},{"$f":"0.01*Input!$F$14*(E409*Loads!$E300+F409*Loads!$F300)+10*(B409*Loads!$B300+C409*Loads!$C300+D409*Loads!$D300+G409*Loads!$G300)","v":15816.195614337135}]
["Small Non Domestic Unrestricted",{"$f":"IF(Loads!$B48<0,0,IF($B37*$B$372+Aggreg!$B248>0,$B37*$B$372,0-Aggreg!$B248))","v":0.8616424798645026},{"$f":"IF(Loads!$B48<0,0,IF($C37*$B$372+Aggreg!$C248>0,$C37*$B$372,0-Aggreg!$C248))","v":0},{"$f":"IF(Loads!$B48<0,0,IF($D37*$B$372+Aggreg!$D248>0,$D37*$B$372,0-Aggreg!$D248))","v":0},{"$f":"IF(Loads!$B48<0,0,IF($E37*$B$372+Aggreg!$E248>0,$E37*$B$372,0-Aggreg!$E248))","v":0},{"$f":"IF(Loads!$B48<0,0,IF($F37*$B$372+Aggreg!$F248>0,$F37*$B$372,0-Aggreg!$F248))","v":0},{"$f":"IF(Loads!$B48<0,0,IF($G37*$B$372+Aggreg!$G248>0,$G37*$B$372,0-Aggreg!$G248))","v":0},{"$f":"0.01*Input!$F$14*(E410*Loads!$E301+F410*Loads!$F301)+10*(B410*Loads!$B301+C410*Loads!$C301+D410*Loads!$D301+G410*Loads!$G301)","v":13833368.108199753}]
["Small Non Domestic Two Rate",{"$f":"IF(Loads!$B49<0,0,IF($B38*$B$372+Aggreg!$B249>0,$B38*$B$372,0-Aggreg!$B249))","v":1.0315626760064167},{"$f":"IF(Loads!$B49<0,0,IF($C38*$B$372+Aggreg!$C249>0,$C38*$B$372,0-Aggreg!$C249))","v":7.9451078781878227E-3},{"$f":"IF(Loads!$B49<0,0,IF($D38*$B$372+Aggreg!$D249>0,$D38*$B$372,0-Aggreg!$D249))","v":0},{"$f":"IF(Loads!$B49<0,0,IF($E38*$B$372+Aggreg!$E249>0,$E38*$B$372,0-Aggreg!$E249))","v":0},{"$f":"IF(Loads!$B49<0,0,IF($F38*$B$372+Aggreg!$F249>0,$F38*$B$372,0-Aggreg!$F249))","v":0},{"$f":"IF(Loads!$B49<0,0,IF($G38*$B$372+Aggreg!$G249>0,$G38*$B$372,0-Aggreg!$G249))","v":0},{"$f":"0.01*Input!$F$14*(E411*Loads!$E302+F411*Loads!$F302)+10*(B411*Loads!$B302+C411*Loads!$C302+D411*Loads!$D302+G411*Loads!$G302)","v":4708153.7674705721}]
["Small Non Domestic Off Peak (related MPAN)",{"$f":"IF(Loads!$B50<0,0,IF($B39*$B$372+Aggreg!$B250>0,$B39*$B$372,0-Aggreg!$B250))","v":0.1190287996806319},{"$f":"IF(Loads!$B50<0,0,IF($C39*$B$372+Aggreg!$C250>0,$C39*$B$372,0-Aggreg!$C250))","v":0},{"$f":"IF(Loads!$B50<0,0,IF($D39*$B$372+Aggreg!$D250>0,$D39*$B$372,0-Aggreg!$D250))","v":0},{"$f":"IF(Loads!$B50<0,0,IF($E39*$B$372+Aggreg!$E250>0,$E39*$B$372,0-Aggreg!$E250))","v":0},{"$f":"IF(Loads!$B50<0,0,IF($F39*$B$372+Aggreg!$F250>0,$F39*$B$372,0-Aggreg!$F250))","v":0},{"$f":"IF(Loads!$B50<0,0,IF($G39*$B$372+Aggreg!$G250>0,$G39*$B$372,0-Aggreg!$G250))","v":0},{"$f":"0.01*Input!$F$14*(E412*Loads!$E303+F412*Loads!$F303)+10*(B412*Loads!$B303+C412*Loads!$C303+D412*Loads!$D303+G412*Loads!$G303)","v":7319.5732939351783}]
["LV Medium Non-Domestic",{"$f":"IF(Loads!$B51<0,0,IF($B40*$B$372+Aggreg!$B251>0,$B40*$B$372,0-Aggreg!$B251))","v":0.9978944121286748},{"$f":"IF(Loads!$B51<0,0,IF($C40*$B$372+Aggreg!$C251>0,$C40*$B$372,0-Aggreg!$C251))","v":7.3919917577994028E-3},{"$f":"IF(Loads!$B51<0,0,IF($D40*$B$372+Aggreg!$D251>0,$D40*$B$372,0-Aggreg!$D251))","v":0},{"$f":"IF(Loads!$B51<0,0,IF($E40*$B$372+Aggreg!$E251>0,$E40*$B$372,0-Aggreg!$E251))","v":0},{"$f":"IF(Loads!$B51<0,0,IF($F40*$B$372+Aggreg!$F251>0,$F40*$B$372,0-Aggreg!$F251))","v":0},{"$f":"IF(Loads!$B51<0,0,IF($G40*$B$372+Aggreg!$G251>0,$G40*$B$372,0-Aggreg!$G251))","v":0},{"$f":"0.01*Input!$F$14*(E413*Loads!$E304+F413*Loads!$F304)+10*(B413*Loads!$B304+C413*Loads!$C304+D413*Loads!$D304+G413*Loads!$G304)","v":12585642.973392392}]
["LV Sub Medium Non-Domestic",{"$f":"IF(Loads!$B52<0,0,IF($B41*$B$372+Aggreg!$B252>0,$B41*$B$372,0-Aggreg!$B252))","v":0.99041176182153667},{"$f":"IF(Loads!$B52<0,0,IF($C41*$B$372+Aggreg!$C252>0,$C41*$B$372,0-Aggreg!$C252))","v":7.3365633590383849E-3},{"$f":"IF(Loads!$B52<0,0,IF($D41*$B$372+Aggreg!$D252>0,$D41*$B$372,0-Aggreg!$D252))","v":0},{"$f":"IF(Loads!$B52<0,0,IF($E41*$B$372+Aggreg!$E252>0,$E41*$B$372,0-Aggreg!$E252))","v":0},{"$f":"IF(Loads!$B52<0,0,IF($F41*$B$372+Aggreg!$F252>0,$F41*$B$372,0-Aggreg!$F252))","v":0},{"$f":"IF(Loads!$B52<0,0,IF($G41*$B$372+Aggreg!$G252>0,$G41*$B$372,0-Aggreg!$G252))","v":0},{"$f":"0.01*Input!$F$14*(E414*Loads!$E305+F414*Loads!$F305)+10*(B414*Loads!$B305+C414*Loads!$C305+D414*Loads!$D305+G414*Loads!$G305)","v":892.61592987789084}]
["HV Medium Non-Domestic",{"$f":"IF(Loads!$B53<0,0,IF($B42*$B$372+Aggreg!$B253>0,$B42*$B$372,0-Aggreg!$B253))","v":0.8882125681131301},{"$f":"IF(Loads!$B53<0,0,IF($C42*$B$372+Aggreg!$C253>0,$C42*$B$372,0-Aggreg!$C253))","v":6.827653281619891E-3},{"$f":"IF(Loads!$B53<0,0,IF($D42*$B$372+Aggreg!$D253>0,$D42*$B$372,0-Aggreg!$D253))","v":0},{"$f":"IF(Loads!$B53<0,0,IF($E42*$B$372+Aggreg!$E253>0,$E42*$B$372,0-Aggreg!$E253))","v":0},{"$f":"IF(Loads!$B53<0,0,IF($F42*$B$372+Aggreg!$F253>0,$F42*$B$372,0-Aggreg!$F253))","v":0},{"$f":"IF(Loads!$B53<0,0,IF($G42*$B$372+Aggreg!$G253>0,$G42*$B$372,0-Aggreg!$G253))","v":0},{"$f":"0.01*Input!$F$14*(E415*Loads!$E306+F415*Loads!$F306)+10*(B415*Loads!$B306+C415*Loads!$C306+D415*Loads!$D306+G415*Loads!$G306)","v":318539.83134541271}]
["LV HH Metered",{"$f":"IF(Loads!$B54<0,0,IF($B43*$B$372+Aggreg!$B254>0,$B43*$B$372,0-Aggreg!$B254))","v":5.916759662774707},{"$f":"IF(Loads!$B54<0,0,IF($C43*$B$372+Aggreg!$C254>0,$C43*$B$372,0-Aggreg!$C254))","v":0.16016138165734514},{"$f":"IF(Loads!$B54<0,0,IF($D43*$B$372+Aggreg!$D254>0,$D43*$B$372,0-Aggreg!$D254))","v":6.7503959041246963E-3},{"$f":"IF(Loads!$B54<0,0,IF($E43*$B$372+Aggreg!$E254>0,$E43*$B$372,0-Aggreg!$E254))","v":0},{"$f":"IF(Loads!$B54<0,0,IF($F43*$B$372+Aggreg!$F254>0,$F43*$B$372,0-Aggreg!$F254))","v":0},{"$f":"IF(Loads!$B54<0,0,IF($G43*$B$372+Aggreg!$G254>0,$G43*$B$372,0-Aggreg!$G254))","v":0.19188734383882619},{"$f":"0.01*Input!$F$14*(E416*Loads!$E307+F416*Loads!$F307)+10*(B416*Loads!$B307+C416*Loads!$C307+D416*Loads!$D307+G416*Loads!$G307)","v":13677152.189338956}]
["LV Sub HH Metered",{"$f":"IF(Loads!$B55<0,0,IF($B44*$B$372+Aggreg!$B255>0,$B44*$B$372,0-Aggreg!$B255))","v":5.9640604523031575},{"$f":"IF(Loads!$B55<0,0,IF($C44*$B$372+Aggreg!$C255>0,$C44*$B$372,0-Aggreg!$C255))","v":0.16144177164039999},{"$f":"IF(Loads!$B55<0,0,IF($D44*$B$372+Aggreg!$D255>0,$D44*$B$372,0-Aggreg!$D255))","v":6.8043610935346324E-3},{"$f":"IF(Loads!$B55<0,0,IF($E44*$B$372+Aggreg!$E255>0,$E44*$B$372,0-Aggreg!$E255))","v":0},{"$f":"IF(Loads!$B55<0,0,IF($F44*$B$372+Aggreg!$F255>0,$F44*$B$372,0-Aggreg!$F255))","v":0},{"$f":"IF(Loads!$B55<0,0,IF($G44*$B$372+Aggreg!$G255>0,$G44*$B$372,0-Aggreg!$G255))","v":0.18725496599313493},{"$f":"0.01*Input!$F$14*(E417*Loads!$E308+F417*Loads!$F308)+10*(B417*Loads!$B308+C417*Loads!$C308+D417*Loads!$D308+G417*Loads!$G308)","v":156451.18639326899}]
["HV HH Metered",{"$f":"IF(Loads!$B56<0,0,IF($B45*$B$372+Aggreg!$B256>0,$B45*$B$372,0-Aggreg!$B256))","v":5.2023468513082189},{"$f":"IF(Loads!$B56<0,0,IF($C45*$B$372+Aggreg!$C256>0,$C45*$B$372,0-Aggreg!$C256))","v":0.14082286708524533},{"$f":"IF(Loads!$B56<0,0,IF($D45*$B$372+Aggreg!$D256>0,$D45*$B$372,0-Aggreg!$D256))","v":5.9353265771214742E-3},{"$f":"IF(Loads!$B56<0,0,IF($E45*$B$372+Aggreg!$E256>0,$E45*$B$372,0-Aggreg!$E256))","v":0},{"$f":"IF(Loads!$B56<0,0,IF($F45*$B$372+Aggreg!$F256>0,$F45*$B$372,0-Aggreg!$F256))","v":0},{"$f":"IF(Loads!$B56<0,0,IF($G45*$B$372+Aggreg!$G256>0,$G45*$B$372,0-Aggreg!$G256))","v":0.15212558348363167},{"$f":"0.01*Input!$F$14*(E418*Loads!$E309+F418*Loads!$F309)+10*(B418*Loads!$B309+C418*Loads!$C309+D418*Loads!$D309+G418*Loads!$G309)","v":45764017.918598957}]
["HV Sub HH Metered",{"$f":"IF(Loads!$B57<0,0,IF($B46*$B$372+Aggreg!$B257>0,$B46*$B$372,0-Aggreg!$B257))","v":4.7396967247783302},{"$f":"IF(Loads!$B57<0,0,IF($C46*$B$372+Aggreg!$C257>0,$C46*$B$372,0-Aggreg!$C257))","v":0.12829934277257726},{"$f":"IF(Loads!$B57<0,0,IF($D46*$B$372+Aggreg!$D257>0,$D46*$B$372,0-Aggreg!$D257))","v":5.4074917997822929E-3},{"$f":"IF(Loads!$B57<0,0,IF($E46*$B$372+Aggreg!$E257>0,$E46*$B$372,0-Aggreg!$E257))","v":0},{"$f":"IF(Loads!$B57<0,0,IF($F46*$B$372+Aggreg!$F257>0,$F46*$B$372,0-Aggreg!$F257))","v":0},{"$f":"IF(Loads!$B57<0,0,IF($G46*$B$372+Aggreg!$G257>0,$G46*$B$372,0-Aggreg!$G257))","v":0.14964844275640773},{"$f":"0.01*Input!$F$14*(E419*Loads!$E310+F419*Loads!$F310)+10*(B419*Loads!$B310+C419*Loads!$C310+D419*Loads!$D310+G419*Loads!$G310)","v":0}]
["NHH UMS category A",{"$f":"IF(Loads!$B58<0,0,IF($B47*$B$372+Aggreg!$B258>0,$B47*$B$372,0-Aggreg!$B258))","v":0.59322967108759395},{"$f":"IF(Loads!$B58<0,0,IF($C47*$B$372+Aggreg!$C258>0,$C47*$B$372,0-Aggreg!$C258))","v":0},{"$f":"IF(Loads!$B58<0,0,IF($D47*$B$372+Aggreg!$D258>0,$D47*$B$372,0-Aggreg!$D258))","v":0},{"$f":"IF(Loads!$B58<0,0,IF($E47*$B$372+Aggreg!$E258>0,$E47*$B$372,0-Aggreg!$E258))","v":0},{"$f":"IF(Loads!$B58<0,0,IF($F47*$B$372+Aggreg!$F258>0,$F47*$B$372,0-Aggreg!$F258))","v":0},{"$f":"IF(Loads!$B58<0,0,IF($G47*$B$372+Aggreg!$G258>0,$G47*$B$372,0-Aggreg!$G258))","v":0},{"$f":"0.01*Input!$F$14*(E420*Loads!$E311+F420*Loads!$F311)+10*(B420*Loads!$B311+C420*Loads!$C311+D420*Loads!$D311+G420*Loads!$G311)","v":366727.03104575601}]
["NHH UMS category B",{"$f":"IF(Loads!$B59<0,0,IF($B48*$B$372+Aggreg!$B259>0,$B48*$B$372,0-Aggreg!$B259))","v":0.5490809903443935},{"$f":"IF(Loads!$B59<0,0,IF($C48*$B$372+Aggreg!$C259>0,$C48*$B$372,0-Aggreg!$C259))","v":0},{"$f":"IF(Loads!$B59<0,0,IF($D48*$B$372+Aggreg!$D259>0,$D48*$B$372,0-Aggreg!$D259))","v":0},{"$f":"IF(Loads!$B59<0,0,IF($E48*$B$372+Aggreg!$E259>0,$E48*$B$372,0-Aggreg!$E259))","v":0},{"$f":"IF(Loads!$B59<0,0,IF($F48*$B$372+Aggreg!$F259>0,$F48*$B$372,0-Aggreg!$F259))","v":0},{"$f":"IF(Loads!$B59<0,0,IF($G48*$B$372+Aggreg!$G259>0,$G48*$B$372,0-Aggreg!$G259))","v":0},{"$f":"0.01*Input!$F$14*(E421*Loads!$E312+F421*Loads!$F312)+10*(B421*Loads!$B312+C421*Loads!$C312+D421*Loads!$D312+G421*Loads!$G312)","v":179814.32420691443}]
["NHH UMS category C",{"$f":"IF(Loads!$B60<0,0,IF($B49*$B$372+Aggreg!$B260>0,$B49*$B$372,0-Aggreg!$B260))","v":1.0683532519577992},{"$f":"IF(Loads!$B60<0,0,IF($C49*$B$372+Aggreg!$C260>0,$C49*$B$372,0-Aggreg!$C260))","v":0},{"$f":"IF(Loads!$B60<0,0,IF($D49*$B$372+Aggreg!$D260>0,$D49*$B$372,0-Aggreg!$D260))","v":0},{"$f":"IF(Loads!$B60<0,0,IF($E49*$B$372+Aggreg!$E260>0,$E49*$B$372,0-Aggreg!$E260))","v":0},{"$f":"IF(Loads!$B60<0,0,IF($F49*$B$372+Aggreg!$F260>0,$F49*$B$372,0-Aggreg!$F260))","v":0},{"$f":"IF(Loads!$B60<0,0,IF($G49*$B$372+Aggreg!$G260>0,$G49*$B$372,0-Aggreg!$G260))","v":0},{"$f":"0.01*Input!$F$14*(E422*Loads!$E313+F422*Loads!$F313)+10*(B422*Loads!$B313+C422*Loads!$C313+D422*Loads!$D313+G422*Loads!$G313)","v":7977.8183548623756}]
["NHH UMS category D",{"$f":"IF(Loads!$B61<0,0,IF($B50*$B$372+Aggreg!$B261>0,$B50*$B$372,0-Aggreg!$B261))","v":0.66344959564153427},{"$f":"IF(Loads!$B61<0,0,IF($C50*$B$372+Aggreg!$C261>0,$C50*$B$372,0-Aggreg!$C261))","v":0},{"$f":"IF(Loads!$B61<0,0,IF($D50*$B$372+Aggreg!$D261>0,$D50*$B$372,0-Aggreg!$D261))","v":0},{"$f":"IF(Loads!$B61<0,0,IF($E50*$B$372+Aggreg!$E261>0,$E50*$B$372,0-Aggreg!$E261))","v":0},{"$f":"IF(Loads!$B61<0,0,IF($F50*$B$372+Aggreg!$F261>0,$F50*$B$372,0-Aggreg!$F261))","v":0},{"$f":"IF(Loads!$B61<0,0,IF($G50*$B$372+Aggreg!$G261>0,$G50*$B$372,0-Aggreg!$G261))","v":0},{"$f":"0.01*Input!$F$14*(E423*Loads!$E314+F423*Loads!$F314)+10*(B423*Loads!$B314+C423*Loads!$C314+D423*Loads!$D314+G423*Loads!$G314)","v":35224.303952981645}]
["LV UMS (Pseudo HH Metered)",{"$f":"IF(Loads!$B62<0,0,IF($B51*$B$372+Aggreg!$B262>0,$B51*$B$372,0-Aggreg!$B262))","v":9.5601027280508024},{"$f":"IF(Loads!$B62<0,0,IF($C51*$B$372+Aggreg!$C262>0,$C51*$B$372,0-Aggreg!$C262))","v":0.81973880898679274},{"$f":"IF(Loads!$B62<0,0,IF($D51*$B$372+Aggreg!$D262>0,$D51*$B$372,0-Aggreg!$D262))","v":6.8457187636237543E-3},{"$f":"IF(Loads!$B62<0,0,IF($E51*$B$372+Aggreg!$E262>0,$E51*$B$372,0-Aggreg!$E262))","v":0},{"$f":"IF(Loads!$B62<0,0,IF($F51*$B$372+Aggreg!$F262>0,$F51*$B$372,0-Aggreg!$F262))","v":0},{"$f":"IF(Loads!$B62<0,0,IF($G51*$B$372+Aggreg!$G262>0,$G51*$B$372,0-Aggreg!$G262))","v":0},{"$f":"0.01*Input!$F$14*(E424*Loads!$E315+F424*Loads!$F315)+10*(B424*Loads!$B315+C424*Loads!$C315+D424*Loads!$D315+G424*Loads!$G315)","v":1330638.0611577679}]
["LV Generation NHH",{"$f":"IF(Loads!$B63<0,0,IF($B52*$B$372+Aggreg!$B263>0,$B52*$B$372,0-Aggreg!$B263))","v":0},{"$f":"IF(Loads!$B63<0,0,IF($C52*$B$372+Aggreg!$C263>0,$C52*$B$372,0-Aggreg!$C263))","v":0},{"$f":"IF(Loads!$B63<0,0,IF($D52*$B$372+Aggreg!$D263>0,$D52*$B$372,0-Aggreg!$D263))","v":0},{"$f":"IF(Loads!$B63<0,0,IF($E52*$B$372+Aggreg!$E263>0,$E52*$B$372,0-Aggreg!$E263))","v":0},{"$f":"IF(Loads!$B63<0,0,IF($F52*$B$372+Aggreg!$F263>0,$F52*$B$372,0-Aggreg!$F263))","v":0},{"$f":"IF(Loads!$B63<0,0,IF($G52*$B$372+Aggreg!$G263>0,$G52*$B$372,0-Aggreg!$G263))","v":0},{"$f":"0.01*Input!$F$14*(E425*Loads!$E316+F425*Loads!$F316)+10*(B425*Loads!$B316+C425*Loads!$C316+D425*Loads!$D316+G425*Loads!$G316)","v":0}]
["LV Sub Generation NHH",{"$f":"IF(Loads!$B64<0,0,IF($B53*$B$372+Aggreg!$B264>0,$B53*$B$372,0-Aggreg!$B264))","v":0},{"$f":"IF(Loads!$B64<0,0,IF($C53*$B$372+Aggreg!$C264>0,$C53*$B$372,0-Aggreg!$C264))","v":0},{"$f":"IF(Loads!$B64<0,0,IF($D53*$B$372+Aggreg!$D264>0,$D53*$B$372,0-Aggreg!$D264))","v":0},{"$f":"IF(Loads!$B64<0,0,IF($E53*$B$372+Aggreg!$E264>0,$E53*$B$372,0-Aggreg!$E264))","v":0},{"$f":"IF(Loads!$B64<0,0,IF($F53*$B$372+Aggreg!$F264>0,$F53*$B$372,0-Aggreg!$F264))","v":0},{"$f":"IF(Loads!$B64<0,0,IF($G53*$B$372+Aggreg!$G264>0,$G53*$B$372,0-Aggreg!$G264))","v":0},{"$f":"0.01*Input!$F$14*(E426*Loads!$E317+F426*Loads!$F317)+10*(B426*Loads!$B317+C426*Loads!$C317+D426*Loads!$D317+G426*Loads!$G317)","v":0}]
["LV Generation Intermittent",{"$f":"IF(Loads!$B65<0,0,IF($B54*$B$372+Aggreg!$B265>0,$B54*$B$372,0-Aggreg!$B265))","v":0},{"$f":"IF(Loads!$B65<0,0,IF($C54*$B$372+Aggreg!$C265>0,$C54*$B$372,0-Aggreg!$C265))","v":0},{"$f":"IF(Loads!$B65<0,0,IF($D54*$B$372+Aggreg!$D265>0,$D54*$B$372,0-Aggreg!$D265))","v":0},{"$f":"IF(Loads!$B65<0,0,IF($E54*$B$372+Aggreg!$E265>0,$E54*$B$372,0-Aggreg!$E265))","v":0},{"$f":"IF(Loads!$B65<0,0,IF($F54*$B$372+Aggreg!$F265>0,$F54*$B$372,0-Aggreg!$F265))","v":0},{"$f":"IF(Loads!$B65<0,0,IF($G54*$B$372+Aggreg!$G265>0,$G54*$B$372,0-Aggreg!$G265))","v":0},{"$f":"0.01*Input!$F$14*(E427*Loads!$E318+F427*Loads!$F318)+10*(B427*Loads!$B318+C427*Loads!$C318+D427*Loads!$D318+G427*Loads!$G318)","v":0}]
["LV Generation Non-Intermittent",{"$f":"IF(Loads!$B66<0,0,IF($B55*$B$372+Aggreg!$B266>0,$B55*$B$372,0-Aggreg!$B266))","v":0},{"$f":"IF(Loads!$B66<0,0,IF($C55*$B$372+Aggreg!$C266>0,$C55*$B$372,0-Aggreg!$C266))","v":0},{"$f":"IF(Loads!$B66<0,0,IF($D55*$B$372+Aggreg!$D266>0,$D55*$B$372,0-Aggreg!$D266))","v":0},{"$f":"IF(Loads!$B66<0,0,IF($E55*$B$372+Aggreg!$E266>0,$E55*$B$372,0-Aggreg!$E266))","v":0},{"$f":"IF(Loads!$B66<0,0,IF($F55*$B$372+Aggreg!$F266>0,$F55*$B$372,0-Aggreg!$F266))","v":0},{"$f":"IF(Loads!$B66<0,0,IF($G55*$B$372+Aggreg!$G266>0,$G55*$B$372,0-Aggreg!$G266))","v":0},{"$f":"0.01*Input!$F$14*(E428*Loads!$E319+F428*Loads!$F319)+10*(B428*Loads!$B319+C428*Loads!$C319+D428*Loads!$D319+G428*Loads!$G319)","v":0}]
["LV Sub Generation Intermittent",{"$f":"IF(Loads!$B67<0,0,IF($B56*$B$372+Aggreg!$B267>0,$B56*$B$372,0-Aggreg!$B267))","v":0},{"$f":"IF(Loads!$B67<0,0,IF($C56*$B$372+Aggreg!$C267>0,$C56*$B$372,0-Aggreg!$C267))","v":0},{"$f":"IF(Loads!$B67<0,0,IF($D56*$B$372+Aggreg!$D267>0,$D56*$B$372,0-Aggreg!$D267))","v":0},{"$f":"IF(Loads!$B67<0,0,IF($E56*$B$372+Aggreg!$E267>0,$E56*$B$372,0-Aggreg!$E267))","v":0},{"$f":"IF(Loads!$B67<0,0,IF($F56*$B$372+Aggreg!$F267>0,$F56*$B$372,0-Aggreg!$F267))","v":0},{"$f":"IF(Loads!$B67<0,0,IF($G56*$B$372+Aggreg!$G267>0,$G56*$B$372,0-Aggreg!$G267))","v":0},{"$f":"0.01*Input!$F$14*(E429*Loads!$E320+F429*Loads!$F320)+10*(B429*Loads!$B320+C429*Loads!$C320+D429*Loads!$D320+G429*Loads!$G320)","v":0}]
["LV Sub Generation Non-Intermittent",{"$f":"IF(Loads!$B68<0,0,IF($B57*$B$372+Aggreg!$B268>0,$B57*$B$372,0-Aggreg!$B268))","v":0},{"$f":"IF(Loads!$B68<0,0,IF($C57*$B$372+Aggreg!$C268>0,$C57*$B$372,0-Aggreg!$C268))","v":0},{"$f":"IF(Loads!$B68<0,0,IF($D57*$B$372+Aggreg!$D268>0,$D57*$B$372,0-Aggreg!$D268))","v":0},{"$f":"IF(Loads!$B68<0,0,IF($E57*$B$372+Aggreg!$E268>0,$E57*$B$372,0-Aggreg!$E268))","v":0},{"$f":"IF(Loads!$B68<0,0,IF($F57*$B$372+Aggreg!$F268>0,$F57*$B$372,0-Aggreg!$F268))","v":0},{"$f":"IF(Loads!$B68<0,0,IF($G57*$B$372+Aggreg!$G268>0,$G57*$B$372,0-Aggreg!$G268))","v":0},{"$f":"0.01*Input!$F$14*(E430*Loads!$E321+F430*Loads!$F321)+10*(B430*Loads!$B321+C430*Loads!$C321+D430*Loads!$D321+G430*Loads!$G321)","v":0}]
["HV Generation Intermittent",{"$f":"IF(Loads!$B69<0,0,IF($B58*$B$372+Aggreg!$B269>0,$B58*$B$372,0-Aggreg!$B269))","v":0},{"$f":"IF(Loads!$B69<0,0,IF($C58*$B$372+Aggreg!$C269>0,$C58*$B$372,0-Aggreg!$C269))","v":0},{"$f":"IF(Loads!$B69<0,0,IF($D58*$B$372+Aggreg!$D269>0,$D58*$B$372,0-Aggreg!$D269))","v":0},{"$f":"IF(Loads!$B69<0,0,IF($E58*$B$372+Aggreg!$E269>0,$E58*$B$372,0-Aggreg!$E269))","v":0},{"$f":"IF(Loads!$B69<0,0,IF($F58*$B$372+Aggreg!$F269>0,$F58*$B$372,0-Aggreg!$F269))","v":0},{"$f":"IF(Loads!$B69<0,0,IF($G58*$B$372+Aggreg!$G269>0,$G58*$B$372,0-Aggreg!$G269))","v":0},{"$f":"0.01*Input!$F$14*(E431*Loads!$E322+F431*Loads!$F322)+10*(B431*Loads!$B322+C431*Loads!$C322+D431*Loads!$D322+G431*Loads!$G322)","v":0}]
["HV Generation Non-Intermittent",{"$f":"IF(Loads!$B70<0,0,IF($B59*$B$372+Aggreg!$B270>0,$B59*$B$372,0-Aggreg!$B270))","v":0},{"$f":"IF(Loads!$B70<0,0,IF($C59*$B$372+Aggreg!$C270>0,$C59*$B$372,0-Aggreg!$C270))","v":0},{"$f":"IF(Loads!$B70<0,0,IF($D59*$B$372+Aggreg!$D270>0,$D59*$B$372,0-Aggreg!$D270))","v":0},{"$f":"IF(Loads!$B70<0,0,IF($E59*$B$372+Aggreg!$E270>0,$E59*$B$372,0-Aggreg!$E270))","v":0},{"$f":"IF(Loads!$B70<0,0,IF($F59*$B$372+Aggreg!$F270>0,$F59*$B$372,0-Aggreg!$F270))","v":0},{"$f":"IF(Loads!$B70<0,0,IF($G59*$B$372+Aggreg!$G270>0,$G59*$B$372,0-Aggreg!$G270))","v":0},{"$f":"0.01*Input!$F$14*(E432*Loads!$E323+F432*Loads!$F323)+10*(B432*Loads!$B323+C432*Loads!$C323+D432*Loads!$D323+G432*Loads!$G323)","v":0}]
["HV Sub Generation Intermittent",{"$f":"IF(Loads!$B71<0,0,IF($B60*$B$372+Aggreg!$B271>0,$B60*$B$372,0-Aggreg!$B271))","v":0},{"$f":"IF(Loads!$B71<0,0,IF($C60*$B$372+Aggreg!$C271>0,$C60*$B$372,0-Aggreg!$C271))","v":0},{"$f":"IF(Loads!$B71<0,0,IF($D60*$B$372+Aggreg!$D271>0,$D60*$B$372,0-Aggreg!$D271))","v":0},{"$f":"IF(Loads!$B71<0,0,IF($E60*$B$372+Aggreg!$E271>0,$E60*$B$372,0-Aggreg!$E271))","v":0},{"$f":"IF(Loads!$B71<0,0,IF($F60*$B$372+Aggreg!$F271>0,$F60*$B$372,0-Aggreg!$F271))","v":0},{"$f":"IF(Loads!$B71<0,0,IF($G60*$B$372+Aggreg!$G271>0,$G60*$B$372,0-Aggreg!$G271))","v":0},{"$f":"0.01*Input!$F$14*(E433*Loads!$E324+F433*Loads!$F324)+10*(B433*Loads!$B324+C433*Loads!$C324+D433*Loads!$D324+G433*Loads!$G324)","v":0}]
["HV Sub Generation Non-Intermittent",{"$f":"IF(Loads!$B72<0,0,IF($B61*$B$372+Aggreg!$B272>0,$B61*$B$372,0-Aggreg!$B272))","v":0},{"$f":"IF(Loads!$B72<0,0,IF($C61*$B$372+Aggreg!$C272>0,$C61*$B$372,0-Aggreg!$C272))","v":0},{"$f":"IF(Loads!$B72<0,0,IF($D61*$B$372+Aggreg!$D272>0,$D61*$B$372,0-Aggreg!$D272))","v":0},{"$f":"IF(Loads!$B72<0,0,IF($E61*$B$372+Aggreg!$E272>0,$E61*$B$372,0-Aggreg!$E272))","v":0},{"$f":"IF(Loads!$B72<0,0,IF($F61*$B$372+Aggreg!$F272>0,$F61*$B$372,0-Aggreg!$F272))","v":0},{"$f":"IF(Loads!$B72<0,0,IF($G61*$B$372+Aggreg!$G272>0,$G61*$B$372,0-Aggreg!$G272))","v":0},{"$f":"0.01*Input!$F$14*(E434*Loads!$E325+F434*Loads!$F325)+10*(B434*Loads!$B325+C434*Loads!$C325+D434*Loads!$D325+G434*Loads!$G325)","v":0}]

{"sheet":"Adjust","index":39,"n_rows":320,"n_cols":7,"rows_kept":320,"cut":false,"hidden":true,"merged":[]}
[{"$f":"\"r6140: Tariff component adjustment and rounding\"&\" for \"&Input!B7&\" in \"&Input!C7&\" (\"&Input!D7&\")\"","v":"r6140: Tariff component adjustment and rounding for WPD Mid West in April 2017 (0)"}]
[]
["3601. Tariffs before rounding"]
["Data sources:"]
["x1 = 3307. Unit rate 1 p/kWh (total) (in Summary of charges before revenue matching)"]
["x2 = 3510. Unit rate 1 p/kWh scaler (in Scaler)"]
["x3 = 3307. Unit rate 2 p/kWh (total) (in Summary of charges before revenue matching)"]
["x4 = 3510. Unit rate 2 p/kWh scaler (in Scaler)"]
["x5 = 3307. Unit rate 3 p/kWh (total) (in Summary of charges before revenue matching)"]
["x6 = 3510. Unit rate 3 p/kWh scaler (in Scaler)"]
["x7 = 3307. Fixed charge p/MPAN/day (total) (in Summary of charges before revenue matching)"]
["x8 = 3510. Fixed charge p/MPAN/day scaler (in Scaler)"]
["x9 = 3307. Capacity charge p/kVA/day (total) (in Summary of charges before revenue matching)"]
["x10 = 3510. Capacity charge p/kVA/day scaler (in Scaler)"]
["x11 = 3307. Reactive power charge p/kVArh (in Summary of charges before revenue matching)"]
["x12 = 3510. Reactive power charge p/kVArh scaler (in Scaler)"]
["Kind:","Calculation","Calculation","Calculation","Calculation","Calculation","Calculation"]
["Formula:","=x1+x2","=x3+x4","=x5+x6","=x7+x8","=x9+x10","=x11+x12"]
[]
[null,"Unit rate 1 p/kWh","Unit rate 2 p/kWh","Unit rate 3 p/kWh","Fixed charge p/MPAN/day","Capacity charge p/kVA/day","Reactive power charge p/kVArh"]
["Domestic Unrestricted",{"$f":"Aggreg!$B245+Scaler!$B407","v":2.550028486905128},null,null,{"$f":"Aggreg!$E245+Scaler!$E407","v":4.3666791872872111}]
["Domestic Two Rate",{"$f":"Aggreg!$B246+Scaler!$B408","v":2.954673164599785},{"$f":"Aggreg!$C246+Scaler!$C408","v":0.11000588002683728},null,{"$f":"Aggreg!$E246+Scaler!$E408","v":4.3666791872872111}]
["Domestic Off Peak (related MPAN)",{"$f":"Aggreg!$B247+Scaler!$B409","v":0.21138706064850535}]
["Small Non Domestic Unrestricted",{"$f":"Aggreg!$B248+Scaler!$B410","v":2.0123492262139067},null,null,{"$f":"Aggreg!$E248+Scaler!$E410","v":7.5974758108221012}]
["Small Non Domestic Two Rate",{"$f":"Aggreg!$B249+Scaler!$B411","v":2.4002981696175887},{"$f":"Aggreg!$C249+Scaler!$C411","v":9.368162452978851E-2},null,{"$f":"Aggreg!$E249+Scaler!$E411","v":7.5974758108221012}]
["Small Non Domestic Off Peak (related MPAN)",{"$f":"Aggreg!$B250+Scaler!$B412","v":0.35151654592739634}]
["LV Medium Non-Domestic",{"$f":"Aggreg!$B251+Scaler!$B413","v":2.3088105587992622},{"$f":"Aggreg!$C251+Scaler!$C413","v":8.715977265489365E-2},null,{"$f":"Aggreg!$E251+Scaler!$E413","v":37.822077348528396}]
["LV Sub Medium Non-Domestic",{"$f":"Aggreg!$B252+Scaler!$B414","v":2.0888020488928651},{"$f":"Aggreg!$C252+Scaler!$C414","v":6.9817348395423987E-2},null,{"$f":"Aggreg!$E252+Scaler!$E414","v":18.441572261235592}]
["HV Medium Non-Domestic",{"$f":"Aggreg!$B253+Scaler!$B415","v":1.3972331397507574},{"$f":"Aggreg!$C253+Scaler!$C415","v":2.3544138010829645E-2},null,{"$f":"Aggreg!$E253+Scaler!$E415","v":254.31748449208303}]
["LV HH Metered",{"$f":"Aggreg!$B254+Scaler!$B416","v":10.679312230159638},{"$f":"Aggreg!$C254+Scaler!$C416","v":0.63675891331419132},{"$f":"Aggreg!$D254+Scaler!$D416","v":5.7909053174232471E-2},{"$f":"Aggreg!$E254+Scaler!$E416","v":10.964917108839961},{"$f":"Aggreg!$F254+Scaler!$F416","v":3.7501360883892385},{"$f":"Aggreg!$G254+Scaler!$G416","v":0.39113867484023895}]
["LV Sub HH Metered",{"$f":"Aggreg!$B255+Scaler!$B417","v":9.258631170372368},{"$f":"Aggreg!$C255+Scaler!$C417","v":0.46927492998044296},{"$f":"Aggreg!$D255+Scaler!$D417","v":3.2849110220504026E-2},{"$f":"Aggreg!$E255+Scaler!$E417","v":8.0532257660147852},{"$f":"Aggreg!$F255+Scaler!$F417","v":4.7080885854073236},{"$f":"Aggreg!$G255+Scaler!$G417","v":0.31673672695634386}]
["HV HH Metered",{"$f":"Aggreg!$B256+Scaler!$B418","v":7.5930671512932406},{"$f":"Aggreg!$C256+Scaler!$C418","v":0.35398605993133758},{"$f":"Aggreg!$D256+Scaler!$D418","v":2.0467083243269003E-2},{"$f":"Aggreg!$E256+Scaler!$E418","v":78.737422848170496},{"$f":"Aggreg!$F256+Scaler!$F418","v":3.841023167559217},{"$f":"Aggreg!$G256+Scaler!$G418","v":0.23791063868877182}]
["HV Sub HH Metered",{"$f":"Aggreg!$B257+Scaler!$B419","v":6.7333332832396113},{"$f":"Aggreg!$C257+Scaler!$C419","v":0.30136732046315207},{"$f":"Aggreg!$D257+Scaler!$D419","v":1.5520663439167212E-2},{"$f":"Aggreg!$E257+Scaler!$E419","v":78.737422848170496},{"$f":"Aggreg!$F257+Scaler!$F419","v":1.5465281686399697},{"$f":"Aggreg!$G257+Scaler!$G419","v":0.22603518102499254}]
["NHH UMS category A",{"$f":"Aggreg!$B258+Scaler!$B420","v":2.2609850843327282}]
["NHH UMS category B",{"$f":"Aggreg!$B259+Scaler!$B421","v":2.2631133921686155}]
["NHH UMS category C",{"$f":"Aggreg!$B260+Scaler!$B422","v":3.6161908548257551}]
["NHH UMS category D",{"$f":"Aggreg!$B261+Scaler!$B423","v":2.3492246073684031}]
["LV UMS (Pseudo HH Metered)",{"$f":"Aggreg!$B262+Scaler!$B424","v":26.432279638115041},{"$f":"Aggreg!$C262+Scaler!$C424","v":2.6019168902027205},{"$f":"Aggreg!$D262+Scaler!$D424","v":0.84836834940670458}]
["LV Generation NHH",{"$f":"Aggreg!$B263+Scaler!$B425","v":-0.65406234538648278},null,null,{"$f":"Aggreg!$E263+Scaler!$E425","v":0}]
["LV Sub Generation NHH",{"$f":"Aggreg!$B264+Scaler!$B426","v":-0.537725580147421},null,null,{"$f":"Aggreg!$E264+Scaler!$E426","v":0}]
["LV Generation Intermittent",{"$f":"Aggreg!$B265+Scaler!$B427","v":-0.65406234538648278},null,null,{"$f":"Aggreg!$E265+Scaler!$E427","v":0},null,{"$f":"Aggreg!$G265+Scaler!$G427","v":0.20171383274329543}]
["LV Generation Non-Intermittent",{"$f":"Aggreg!$B266+Scaler!$B428","v":-5.0758094565216982},{"$f":"Aggreg!$C266+Scaler!$C428","v":-0.52354905935842311},{"$f":"Aggreg!$D266+Scaler!$D428","v":-6.1193763765366241E-2},{"$f":"Aggreg!$E266+Scaler!$E428","v":0},null,{"$f":"Aggreg!$G266+Scaler!$G428","v":0.20171383274329543}]
["LV Sub Generation Intermittent",{"$f":"Aggreg!$B267+Scaler!$B429","v":-0.537725580147421},null,null,{"$f":"Aggreg!$E267+Scaler!$E429","v":0},null,{"$f":"Aggreg!$G267+Scaler!$G429","v":0.17042452280319703}]
["LV Sub Generation Non-Intermittent",{"$f":"Aggreg!$B268+Scaler!$B430","v":-4.2104712267991209},{"$f":"Aggreg!$C268+Scaler!$C430","v":-0.42579444276198164},{"$f":"Aggreg!$D268+Scaler!$D430","v":-4.712831874696545E-2},{"$f":"Aggreg!$E268+Scaler!$E430","v":0},null,{"$f":"Aggreg!$G268+Scaler!$G430","v":0.17042452280319703}]
["HV Generation Intermittent",{"$f":"Aggreg!$B269+Scaler!$B431","v":-0.31903323330426664},null,null,{"$f":"Aggreg!$E269+Scaler!$E431","v":38.694816549832751},null,{"$f":"Aggreg!$G269+Scaler!$G431","v":0.13387246197572306}]
["HV Generation Non-Intermittent",{"$f":"Aggreg!$B270+Scaler!$B432","v":-2.5932710035648512},{"$f":"Aggreg!$C270+Scaler!$C432","v":-0.24086166821019589},{"$f":"Aggreg!$D270+Scaler!$D432","v":-1.9883228535100828E-2},{"$f":"Aggreg!$E270+Scaler!$E432","v":38.694816549832751},null,{"$f":"Aggreg!$G270+Scaler!$G432","v":0.13387246197572306}]
["HV Sub Generation Intermittent",{"$f":"Aggreg!$B271+Scaler!$B433","v":-0.26960020334556201},null,null,{"$f":"Aggreg!$E271+Scaler!$E433","v":38.694816549832751},null,{"$f":"Aggreg!$G271+Scaler!$G433","v":7.1985685051559931E-2}]
["HV Sub Generation Non-Intermittent",{"$f":"Aggreg!$B272+Scaler!$B434","v":-2.2242296759921567},{"$f":"Aggreg!$C272+Scaler!$C434","v":-0.19949096555503704},{"$f":"Aggreg!$D272+Scaler!$D434","v":-1.4020997594134449E-2},{"$f":"Aggreg!$E272+Scaler!$E434","v":38.694816549832751},null,{"$f":"Aggreg!$G272+Scaler!$G434","v":7.1985685051559931E-2}]
[]
["3602. Decimal places"]
[]
[null,"Unit rate 1 p/kWh","Unit rate 2 p/kWh","Unit rate 3 p/kWh","Fixed charge p/MPAN/day","Capacity charge p/kVA/day","Reactive power charge p/kVArh"]
["Decimal places",3,3,3,2,2,3]
[]
["3603. Tariff rounding"]
["Data sources:"]
["x1 = 3601. Unit rate 1 p/kWh before rounding (in Tariffs before rounding)"]
["x2 = 3602. Unit rate 1 p/kWh decimal places (in Decimal places)"]
["x3 = 3601. Unit rate 2 p/kWh before rounding (in Tariffs before rounding)"]
["x4 = 3602. Unit rate 2 p/kWh decimal places (in Decimal places)"]
["x5 = 3601. Unit rate 3 p/kWh before rounding (in Tariffs before rounding)"]
["x6 = 3602. Unit rate 3 p/kWh decimal places (in Decimal places)"]
["x7 = 3601. Fixed charge p/MPAN/day before rounding (in Tariffs before rounding)"]
["x8 = 3602. Fixed charge p/MPAN/day decimal places (in Decimal places)"]
["x9 = 3601. Capacity charge p/kVA/day before rounding (in Tariffs before rounding)"]
["x10 = 3602. Capacity charge p/kVA/day decimal places (in Decimal places)"]
["x11 = 3601. Reactive power charge p/kVArh before rounding (in Tariffs before rounding)"]
["x12 = 3602. Reactive power charge p/kVArh decimal places (in Decimal places)"]
["Kind:","Calculation","Calculation","Calculation","Calculation","Calculation","Calculation"]
["Formula:","=ROUND(x1,x2)-x1","=ROUND(x3,x4)-x3","=ROUND(x5,x6)-x5","=ROUND(x7,x8)-x7","=ROUND(x9,x10)-x9","=ROUND(x11,x12)-x11"]
[]
[null,"Unit rate 1 p/kWh","Unit rate 2 p/kWh","Unit rate 3 p/kWh","Fixed charge p/MPAN/day","Capacity charge p/kVA/day","Reactive power charge p/kVArh"]
["Domestic Unrestricted",{"$f":"ROUND(B21,B$53)-B21","v":-2.8486905128133344E-5},null,null,{"$f":"ROUND(E21,E$53)-E21","v":3.3208127127890563E-3}]
["Domestic Two Rate",3.2683540021505308E-4,{"$f":"ROUND(C22,C$53)-C22","v":-5.8800268372821707E-6},null,{"$f":"ROUND(E22,E$53)-E22","v":3.3208127127890563E-3}]
["Domestic Off Peak (related MPAN)",-3.8706064850535515E-4]
["Small Non Domestic Unrestricted",-3.4922621390665043E-4,null,null,{"$f":"ROUND(E24,E$53)-E24","v":2.5241891778984282E-3}]
["Small Non Domestic Two Rate",-2.981696175887727E-4,{"$f":"ROUND(C25,C$53)-C25","v":3.1837547021149049E-4},null,{"$f":"ROUND(E25,E$53)-E25","v":2.5241891778984282E-3}]
["Small Non Domestic Off Peak (related MPAN)",4.834540726036396E-4]
["LV Medium Non-Domestic",1.8944120073793869E-4,{"$f":"ROUND(C27,C$53)-C27","v":-1.5977265489365566E-4},null,{"$f":"ROUND(E27,E$53)-E27","v":-2.0773485283953619E-3}]
["LV Sub Medium Non-Domestic",1.9795110713483055E-4,1.8265160457602014E-4,null,-1.5722612355908439E-3]
["HV Medium Non-Domestic",-2.331397507573385E-4,4.5586198917035511E-4,null,2.5155079169678629E-3]
["LV HH Metered",-3.1223015963810496E-4,2.4108668580868908E-4,{"$f":"ROUND(D30,D$53)-D30","v":9.0946825767532213E-5},-4.9171088399599938E-3,{"$f":"ROUND(F30,F$53)-F30","v":-1.3608838923850897E-4},-1.3867484023893928E-4]
["LV Sub HH Metered",3.6882962763229443E-4,-2.7492998044298389E-4,{"$f":"ROUND(D31,D$53)-D31","v":1.5088977949597598E-4},-3.2257660147845257E-3,1.9114145926764081E-3,2.6327304365614257E-4]
["HV HH Metered",-6.7151293240641508E-5,1.3940068662399163E-5,{"$f":"ROUND(D32,D$53)-D32","v":-4.6708324326900225E-4},2.5771518294988027E-3,-1.0231675592171641E-3,8.9361311228164375E-5]
["HV Sub HH Metered",-3.3328323961168138E-4,-3.6732046315207656E-4,{"$f":"ROUND(D33,D$53)-D33","v":4.7933656083278854E-4},2.5771518294988027E-3,3.4718313600303752E-3,-3.5181024992531063E-5]
["NHH UMS category A",1.4915667271964139E-5]
["NHH UMS category B",-1.1339216861561141E-4]
["NHH UMS category C",-1.9085482575498247E-4]
["NHH UMS category D",-2.2460736840290707E-4]
["LV UMS (Pseudo HH Metered)",-2.7963811504250202E-4,{"$f":"ROUND(C38,C$53)-C38","v":8.3109797279323772E-5},{"$f":"ROUND(D38,D$53)-D38","v":-3.6834940670460448E-4}]
["LV Generation NHH",6.2345386482753895E-5,null,null,{"$f":"ROUND(E39,E$53)-E39","v":0}]
["LV Sub Generation NHH",-2.7441985257903312E-4,null,null,0]
["LV Generation Intermittent",6.2345386482753895E-5,null,null,0,null,{"$f":"ROUND(G41,G$53)-G41","v":2.861672567045781E-4}]
["LV Generation Non-Intermittent",-1.9054347830138596E-4,{"$f":"ROUND(C42,C$53)-C42","v":-4.5094064157691349E-4},{"$f":"ROUND(D42,D$53)-D42","v":1.9376376536624218E-4},0,null,2.861672567045781E-4]
["LV Sub Generation Intermittent",-2.7441985257903312E-4,null,null,0,null,-4.245228031970194E-4]
["LV Sub Generation Non-Intermittent",4.7122679912092735E-4,{"$f":"ROUND(C44,C$53)-C44","v":-2.0555723801835013E-4},{"$f":"ROUND(D44,D$53)-D44","v":1.2831874696545009E-4},0,null,-4.245228031970194E-4]
["HV Generation Intermittent",3.323330426663329E-5,null,null,-4.8165498327534806E-3,null,1.2753802427695193E-4]
["HV Generation Non-Intermittent",2.7100356485121324E-4,{"$f":"ROUND(C46,C$53)-C46","v":-1.3833178980410255E-4},{"$f":"ROUND(D46,D$53)-D46","v":-1.1677146489917287E-4},-4.8165498327534806E-3,null,1.2753802427695193E-4]
["HV Sub Generation Intermittent",-3.997966544380116E-4,null,null,-4.8165498327534806E-3,null,1.4314948440063979E-5]
["HV Sub Generation Non-Intermittent",2.2967599215650836E-4,{"$f":"ROUND(C48,C$53)-C48","v":4.9096555503702621E-4},{"$f":"ROUND(D48,D$53)-D48","v":2.0997594134448266E-5},-4.8165498327534806E-3,null,1.4314948440063979E-5]
[]
["3604. All the way tariffs"]
["Data sources:"]
["x1 = 3601. Unit rate 1 p/kWh before rounding (in Tariffs before rounding)"]
["x2 = 3603. Unit rate 1 p/kWh rounding (in Tariff rounding)"]
["x3 = 3601. Unit rate 2 p/kWh before rounding (in Tariffs before rounding)"]
["x4 = 3603. Unit rate 2 p/kWh rounding (in Tariff rounding)"]
["x5 = 3601. Unit rate 3 p/kWh before rounding (in Tariffs before rounding)"]
["x6 = 3603. Unit rate 3 p/kWh rounding (in Tariff rounding)"]
["x7 = 3601. Fixed charge p/MPAN/day before rounding (in Tariffs before rounding)"]
["x8 = 3603. Fixed charge p/MPAN/day rounding (in Tariff rounding)"]
["x9 = 3601. Capacity charge p/kVA/day before rounding (in Tariffs before rounding)"]
["x10 = 3603. Capacity charge p/kVA/day rounding (in Tariff rounding)"]
["x11 = 3601. Reactive power charge p/kVArh before rounding (in Tariffs before rounding)"]
["x12 = 3603. Reactive power charge p/kVArh rounding (in Tariff rounding)"]
["Kind:","Calculation","Calculation","Calculation","Calculation","Calculation","Calculation"]
["Formula:","=x1+x2","=x3+x4","=x5+x6","=x7+x8","=x9+x10","=x11+x12"]
[]
[null,"Unit rate 1 p/kWh","Unit rate 2 p/kWh","Unit rate 3 p/kWh","Fixed charge p/MPAN/day","Capacity charge p/kVA/day","Reactive power charge p/kVArh"]
["Domestic Unrestricted",{"$f":"B21+B73","v":2.5499999999999998},null,null,{"$f":"E21+E73","v":4.37}]
["Domestic Two Rate",2.9550000000000001,{"$f":"C22+C74","v":0.11},null,{"$f":"E22+E74","v":4.37}]
["Domestic Off Peak (related MPAN)",0.21099999999999999]
["Small Non Domestic Unrestricted",2.012,null,null,{"$f":"E24+E76","v":7.6}]
["Small Non Domestic Two Rate",2.4,{"$f":"C25+C77","v":9.4E-2},null,{"$f":"E25+E77","v":7.6}]
["Small Non Domestic Off Peak (related MPAN)",0.35199999999999998]
["LV Medium Non-Domestic",2.3090000000000002,{"$f":"C27+C79","v":8.6999999999999994E-2},null,{"$f":"E27+E79","v":37.82}]
["LV Sub Medium Non-Domestic",2.089,7.0000000000000007E-2,null,18.440000000000001]
["HV Medium Non-Domestic",1.397,2.4E-2,null,254.32]
["LV HH Metered",10.679,0.63700000000000001,{"$f":"D30+D82","v":5.8000000000000003E-2},10.96,{"$f":"F30+F82","v":3.75},0.39100000000000001]
["LV Sub HH Metered",9.2590000000000003,0.46899999999999997,{"$f":"D31+D83","v":3.3000000000000002E-2},8.0500000000000007,4.71,0.317]
["HV HH Metered",7.593,0.35399999999999998,{"$f":"D32+D84","v":0.02},78.739999999999995,3.84,0.23799999999999999]
["HV Sub HH Metered",6.7329999999999997,0.30099999999999999,{"$f":"D33+D85","v":1.6E-2},78.739999999999995,1.55,0.22600000000000001]
["NHH UMS category A",2.2610000000000001]
["NHH UMS category B",2.2629999999999999]
["NHH UMS category C",3.6160000000000001]
["NHH UMS category D",2.3490000000000002]
["LV UMS (Pseudo HH Metered)",26.431999999999999,{"$f":"C38+C90","v":2.6019999999999999},{"$f":"D38+D90","v":0.84799999999999998}]
["LV Generation NHH",-0.65400000000000003,null,null,{"$f":"E39+E91","v":0}]
["LV Sub Generation NHH",-0.53800000000000003,null,null,0]
["LV Generation Intermittent",-0.65400000000000003,null,null,0,null,{"$f":"G41+G93","v":0.20200000000000001}]
["LV Generation Non-Intermittent",-5.0759999999999996,{"$f":"C42+C94","v":-0.52400000000000002},{"$f":"D42+D94","v":-6.0999999999999999E-2},0,null,0.20200000000000001]
["LV Sub Generation Intermittent",-0.53800000000000003,null,null,0,null,0.17]
["LV Sub Generation Non-Intermittent",-4.21,{"$f":"C44+C96","v":-0.42599999999999999},{"$f":"D44+D96","v":-4.7E-2},0,null,0.17]
["HV Generation Intermittent",-0.31900000000000001,null,null,38.69,null,0.13400000000000001]
["HV Generation Non-Intermittent",-2.593,{"$f":"C46+C98","v":-0.24099999999999999},{"$f":"D46+D98","v":-0.02},38.69,null,0.13400000000000001]
["HV Sub Generation Intermittent",-0.27,null,null,38.69,null,7.1999999999999995E-2]
["HV Sub Generation Non-Intermittent",-2.2240000000000002,{"$f":"C48+C100","v":-0.19900000000000001},{"$f":"D48+D100","v":-1.4E-2},38.69,null,7.1999999999999995E-2]
[]
["3605. Net revenues by tariff from rounding"]
["Data sources:"]
["x1 = 1010. Days in the charging year (in Financial and general assumptions)"]
["x2 = 3603. Fixed charge p/MPAN/day rounding (in Tariff rounding)"]
["x3 = 2305. MPANs (in Equivalent volume for each end user)"]
["x4 = 3603. Capacity charge p/kVA/day rounding (in Tariff rounding)"]
["x5 = 2305. Import capacity (kVA) (in Equivalent volume for each end user)"]
["x6 = 3603. Unit rate 1 p/kWh rounding (in Tariff rounding)"]
["x7 = 2305. Rate 1 units (MWh) (in Equivalent volume for each end user)"]
["x8 = 3603. Unit rate 2 p/kWh rounding (in Tariff rounding)"]
["x9 = 2305. Rate 2 units (MWh) (in Equivalent volume for each end user)"]
["x10 = 3603. Unit rate 3 p/kWh rounding (in Tariff rounding)"]
["x11 = 2305. Rate 3 units (MWh) (in Equivalent volume for each end user)"]
["x12 = 3603. Reactive power charge p/kVArh rounding (in Tariff rounding)"]
["x13 = 2305. Reactive power units (MVArh) (in Equivalent volume for each end user)"]
["Calculation =0.01*x1*(x2*x3+x4*x5)+10*(x6*x7+x8*x9+x10*x11+x12*x13)"]
[]
[null,"Net revenues by tariff from rounding"]
["Domestic Unrestricted",{"$f":"0.01*Input!F$14*($E73*Loads!E298+$F73*Loads!F298)+10*($B73*Loads!B298+$C73*Loads!C298+$D73*Loads!D298+$G73*Loads!G298)","v":22379.613923665027}]
["Domestic Two Rate",{"$f":"0.01*Input!F$14*($E74*Loads!E299+$F74*Loads!F299)+10*($B74*Loads!B299+$C74*Loads!C299+$D74*Loads!D299+$G74*Loads!G299)","v":7165.3414617544722}]
["Domestic Off Peak (related MPAN)",{"$f":"0.01*Input!F$14*($E75*Loads!E300+$F75*Loads!F300)+10*($B75*Loads!B300+$C75*Loads!C300+$D75*Loads!D300+$G75*Loads!G300)","v":-140.47322281306052}]
["Small Non Domestic Unrestricted",{"$f":"0.01*Input!F$14*($E76*Loads!E301+$F76*Loads!F301)+10*($B76*Loads!B301+$C76*Loads!C301+$D76*Loads!D301+$G76*Loads!G301)","v":-4329.8075766028796}]
["Small Non Domestic Two Rate",{"$f":"0.01*Input!F$14*($E77*Loads!E302+$F77*Loads!F302)+10*($B77*Loads!B302+$C77*Loads!C302+$D77*Loads!D302+$G77*Loads!G302)","v":-390.07802650140854}]
["Small Non Domestic Off Peak (related MPAN)",{"$f":"0.01*Input!F$14*($E78*Loads!E303+$F78*Loads!F303)+10*($B78*Loads!B303+$C78*Loads!C303+$D78*Loads!D303+$G78*Loads!G303)","v":29.729590890343193}]
["LV Medium Non-Domestic",{"$f":"0.01*Input!F$14*($E79*Loads!E304+$F79*Loads!F304)+10*($B79*Loads!B304+$C79*Loads!C304+$D79*Loads!D304+$G79*Loads!G304)","v":1758.8731420415768}]
["LV Sub Medium Non-Domestic",{"$f":"0.01*Input!F$14*($E80*Loads!E305+$F80*Loads!F305)+10*($B80*Loads!B305+$C80*Loads!C305+$D80*Loads!D305+$G80*Loads!G305)","v":0.20329159515197395}]
["HV Medium Non-Domestic",{"$f":"0.01*Input!F$14*($E81*Loads!E306+$F81*Loads!F306)+10*($B81*Loads!B306+$C81*Loads!C306+$D81*Loads!D306+$G81*Loads!G306)","v":-36.063600015405186}]
["LV HH Metered",{"$f":"0.01*Input!F$14*($E82*Loads!E307+$F82*Loads!F307)+10*($B82*Loads!B307+$C82*Loads!C307+$D82*Loads!D307+$G82*Loads!G307)","v":1234.1889378135902}]
["LV Sub HH Metered",{"$f":"0.01*Input!F$14*($E83*Loads!E308+$F83*Loads!F308)+10*($B83*Loads!B308+$C83*Loads!C308+$D83*Loads!D308+$G83*Loads!G308)","v":122.63489978757872}]
["HV HH Metered",{"$f":"0.01*Input!F$14*($E84*Loads!E309+$F84*Loads!F309)+10*($B84*Loads!B309+$C84*Loads!C309+$D84*Loads!D309+$G84*Loads!G309)","v":-27955.051449046565}]
["HV Sub HH Metered",{"$f":"0.01*Input!F$14*($E85*Loads!E310+$F85*Loads!F310)+10*($B85*Loads!B310+$C85*Loads!C310+$D85*Loads!D310+$G85*Loads!G310)","v":0}]
["NHH UMS category A",{"$f":"0.01*Input!F$14*($E86*Loads!E311+$F86*Loads!F311)+10*($B86*Loads!B311+$C86*Loads!C311+$D86*Loads!D311+$G86*Loads!G311)","v":9.2206756359394646}]
["NHH UMS category B",{"$f":"0.01*Input!F$14*($E87*Loads!E312+$F87*Loads!F312)+10*($B87*Loads!B312+$C87*Loads!C312+$D87*Loads!D312+$G87*Loads!G312)","v":-37.13393202191169}]
["NHH UMS category C",{"$f":"0.01*Input!F$14*($E88*Loads!E313+$F88*Loads!F313)+10*($B88*Loads!B313+$C88*Loads!C313+$D88*Loads!D313+$G88*Loads!G313)","v":-1.4251888401443309}]
["NHH UMS category D",{"$f":"0.01*Input!F$14*($E89*Loads!E314+$F89*Loads!F314)+10*($B89*Loads!B314+$C89*Loads!C314+$D89*Loads!D314+$G89*Loads!G314)","v":-11.925002693012461}]
["LV UMS (Pseudo HH Metered)",{"$f":"0.01*Input!F$14*($E90*Loads!E315+$F90*Loads!F315)+10*($B90*Loads!B315+$C90*Loads!C315+$D90*Loads!D315+$G90*Loads!G315)","v":-746.66113253342121}]
["LV Generation NHH",{"$f":"0.01*Input!F$14*($E91*Loads!E316+$F91*Loads!F316)+10*($B91*Loads!B316+$C91*Loads!C316+$D91*Loads!D316+$G91*Loads!G316)","v":0.26628864794923884}]
["LV Sub Generation NHH",{"$f":"0.01*Input!F$14*($E92*Loads!E317+$F92*Loads!F317)+10*($B92*Loads!B317+$C92*Loads!C317+$D92*Loads!D317+$G92*Loads!G317)","v":0}]
["LV Generation Intermittent",{"$f":"0.01*Input!F$14*($E93*Loads!E318+$F93*Loads!F318)+10*($B93*Loads!B318+$C93*Loads!C318+$D93*Loads!D318+$G93*Loads!G318)","v":7.6492754575067934E-2}]
["LV Generation Non-Intermittent",{"$f":"0.01*Input!F$14*($E94*Loads!E319+$F94*Loads!F319)+10*($B94*Loads!B319+$C94*Loads!C319+$D94*Loads!D319+$G94*Loads!G319)","v":-1.2948315520190989}]
["LV Sub Generation Intermittent",{"$f":"0.01*Input!F$14*($E95*Loads!E320+$F95*Loads!F320)+10*($B95*Loads!B320+$C95*Loads!C320+$D95*Loads!D320+$G95*Loads!G320)","v":0}]
["LV Sub Generation Non-Intermittent",{"$f":"0.01*Input!F$14*($E96*Loads!E321+$F96*Loads!F321)+10*($B96*Loads!B321+$C96*Loads!C321+$D96*Loads!D321+$G96*Loads!G321)","v":-1.4302211973213266E-2}]
["HV Generation Intermittent",{"$f":"0.01*Input!F$14*($E97*Loads!E322+$F97*Loads!F322)+10*($B97*Loads!B322+$C97*Loads!C322+$D97*Loads!D322+$G97*Loads!G322)","v":0.72175613608709688}]
["HV Generation Non-Intermittent",{"$f":"0.01*Input!F$14*($E98*Loads!E323+$F98*Loads!F323)+10*($B98*Loads!B323+$C98*Loads!C323+$D98*Loads!D323+$G98*Loads!G323)","v":-363.96688163092296}]
["HV Sub Generation Intermittent",{"$f":"0.01*Input!F$14*($E99*Loads!E324+$F99*Loads!F324)+10*($B99*Loads!B324+$C99*Loads!C324+$D99*Loads!D324+$G99*Loads!G324)","v":0}]
["HV Sub Generation Non-Intermittent",{"$f":"0.01*Input!F$14*($E100*Loads!E325+$F100*Loads!F325)+10*($B100*Loads!B325+$C100*Loads!C325+$D100*Loads!D325+$G100*Loads!G325)","v":0}]
[]
["3606. Revenue forecast summary"]
["Data sources:"]
["x1 = 3403. Total net revenues before matching (£) (in Revenue surplus or shortfall)"]
["x2 = 3510. Net revenues by tariff from scaler (in Scaler)"]
["x3 = 3605. Net revenues by tariff from rounding"]
["x4 = Total net revenues before matching (£) (in Revenue forecast summary)"]
["x5 = Total net revenues from scaler (£) (in Revenue forecast summary)"]
["x6 = Total net revenues from rounding (£) (in Revenue forecast summary)"]
["x7 = Total net revenues (£) (in Revenue forecast summary)"]
["x8 = 3402. Target revenue (£/year)"]
["Kind:","Copy cells","Cell summation","Cell summation","Calculation","Calculation"]
["Formula:","=x1","=SUM(x2)","=SUM(x3)","=x4+x5+x6","=x7-x8"]
[]
[null,"Total net revenues before matching (£)","Total net revenues from scaler (£)","Total net revenues from rounding (£)","Total net revenues (£)","Deviation from target revenue (£)"]
["Revenue forecast summary",{"$f":"Revenue!B67","v":305225914.20607162},{"$f":"SUM(Scaler!$H$407:$H$434)","v":181616046.28808975},{"$f":"SUM(B$167:B$194)","v":-1313.0246857404313},{"$f":"B210+C210+D210","v":486840647.46947563},{"$f":"E210-Revenue!B56","v":-1313.0246857404709}]
[]
["3607. Tariffs"]
["Data sources:"]
["x1 = 3604. Unit rate 1 p/kWh (in All the way tariffs)"]
["x2 = 2304. Discount for each tariff (except for fixed charges) (in LDNO discounts and volumes adjusted for discount)"]
["x3 = 3604. Unit rate 2 p/kWh (in All the way tariffs)"]
["x4 = 3604. Unit rate 3 p/kWh (in All the way tariffs)"]
["x5 = 3604. Fixed charge p/MPAN/day (in All the way tariffs)"]
["x6 = 2304. Discount for each tariff  for fixed charges only (in LDNO discounts and volumes adjusted for discount)"]
["x7 = 3604. Capacity charge p/kVA/day (in All the way tariffs)"]
["x8 = 3604. Reactive power charge p/kVArh (in All the way tariffs)"]
["Kind:","Calculation","Calculation","Calculation","Calculation","Calculation","Calculation"]
["Formula:","=ROUND(x1*(1-x2),3)","=ROUND(x3*(1-x2),3)","=ROUND(x4*(1-x2),3)","=ROUND(x5*(1-x6),2)","=ROUND(x7*(1-x2),2)","=ROUND(x8*(1-x2),3)"]
[]
[null,"Unit rate 1 p/kWh","Unit rate 2 p/kWh","Unit rate 3 p/kWh","Fixed charge p/MPAN/day","Capacity charge p/kVA/day","Reactive power charge p/kVArh"]
["> Domestic Unrestricted"]
["Domestic Unrestricted",{"$f":"ROUND(B$120*(1-Loads!$B191),3)","v":2.5499999999999998},{"$f":"ROUND(C$120*(1-Loads!$B191),3)","v":0},{"$f":"ROUND(D$120*(1-Loads!$B191),3)","v":0},{"$f":"ROUND(E$120*(1-Loads!$C191),2)","v":4.37},{"$f":"ROUND(F$120*(1-Loads!$B191),2)","v":0},{"$f":"ROUND(G$120*(1-Loads!$B191),3)","v":0}]
["LDNO LV: Domestic Unrestricted",{"$f":"ROUND(B$120*(1-Loads!$B192),3)","v":1.762},{"$f":"ROUND(C$120*(1-Loads!$B192),3)","v":0},{"$f":"ROUND(D$120*(1-Loads!$B192),3)","v":0},{"$f":"ROUND(E$120*(1-Loads!$C192),2)","v":3.02},{"$f":"ROUND(F$120*(1-Loads!$B192),2)","v":0},{"$f":"ROUND(G$120*(1-Loads!$B192),3)","v":0}]
["LDNO HV: Domestic Unrestricted",{"$f":"ROUND(B$120*(1-Loads!$B193),3)","v":1.2729999999999999},{"$f":"ROUND(C$120*(1-Loads!$B193),3)","v":0},{"$f":"ROUND(D$120*(1-Loads!$B193),3)","v":0},{"$f":"ROUND(E$120*(1-Loads!$C193),2)","v":2.1800000000000002},{"$f":"ROUND(F$120*(1-Loads!$B193),2)","v":0},{"$f":"ROUND(G$120*(1-Loads!$B193),3)","v":0}]
["> Domestic Two Rate"]
["Domestic Two Rate",{"$f":"ROUND(B$121*(1-Loads!$B195),3)","v":2.9550000000000001},{"$f":"ROUND(C$121*(1-Loads!$B195),3)","v":0.11},{"$f":"ROUND(D$121*(1-Loads!$B195),3)","v":0},{"$f":"ROUND(E$121*(1-Loads!$C195),2)","v":4.37},{"$f":"ROUND(F$121*(1-Loads!$B195),2)","v":0},{"$f":"ROUND(G$121*(1-Loads!$B195),3)","v":0}]
["LDNO LV: Domestic Two Rate",{"$f":"ROUND(B$121*(1-Loads!$B196),3)","v":2.0419999999999998},{"$f":"ROUND(C$121*(1-Loads!$B196),3)","v":7.5999999999999998E-2},{"$f":"ROUND(D$121*(1-Loads!$B196),3)","v":0},{"$f":"ROUND(E$121*(1-Loads!$C196),2)","v":3.02},{"$f":"ROUND(F$121*(1-Loads!$B196),2)","v":0},{"$f":"ROUND(G$121*(1-Loads!$B196),3)","v":0}]
["LDNO HV: Domestic Two Rate",{"$f":"ROUND(B$121*(1-Loads!$B197),3)","v":1.4750000000000001},{"$f":"ROUND(C$121*(1-Loads!$B197),3)","v":5.5E-2},{"$f":"ROUND(D$121*(1-Loads!$B197),3)","v":0},{"$f":"ROUND(E$121*(1-Loads!$C197),2)","v":2.1800000000000002},{"$f":"ROUND(F$121*(1-Loads!$B197),2)","v":0},{"$f":"ROUND(G$121*(1-Loads!$B197),3)","v":0}]
["> Domestic Off Peak (related MPAN)"]
["Domestic Off Peak (related MPAN)",{"$f":"ROUND(B$122*(1-Loads!$B199),3)","v":0.21099999999999999},{"$f":"ROUND(C$122*(1-Loads!$B199),3)","v":0},{"$f":"ROUND(D$122*(1-Loads!$B199),3)","v":0},{"$f":"ROUND(E$122*(1-Loads!$C199),2)","v":0},{"$f":"ROUND(F$122*(1-Loads!$B199),2)","v":0},{"$f":"ROUND(G$122*(1-Loads!$B199),3)","v":0}]
["LDNO LV: Domestic Off Peak (related MPAN)",{"$f":"ROUND(B$122*(1-Loads!$B200),3)","v":0.14599999999999999},{"$f":"ROUND(C$122*(1-Loads!$B200),3)","v":0},{"$f":"ROUND(D$122*(1-Loads!$B200),3)","v":0},{"$f":"ROUND(E$122*(1-Loads!$C200),2)","v":0},{"$f":"ROUND(F$122*(1-Loads!$B200),2)","v":0},{"$f":"ROUND(G$122*(1-Loads!$B200),3)","v":0}]
["LDNO HV: Domestic Off Peak (related MPAN)",{"$f":"ROUND(B$122*(1-Loads!$B201),3)","v":0.105},{"$f":"ROUND(C$122*(1-Loads!$B201),3)","v":0},{"$f":"ROUND(D$122*(1-Loads!$B201),3)","v":0},{"$f":"ROUND(E$122*(1-Loads!$C201),2)","v":0},{"$f":"ROUND(F$122*(1-Loads!$B201),2)","v":0},{"$f":"ROUND(G$122*(1-Loads!$B201),3)","v":0}]
["> Small Non Domestic Unrestricted"]
["Small Non Domestic Unrestricted",{"$f":"ROUND(B$123*(1-Loads!$B203),3)","v":2.012},{"$f":"ROUND(C$123*(1-Loads!$B203),3)","v":0},{"$f":"ROUND(D$123*(1-Loads!$B203),3)","v":0},{"$f":"ROUND(E$123*(1-Loads!$C203),2)","v":7.6},{"$f":"ROUND(F$123*(1-Loads!$B203),2)","v":0},{"$f":"ROUND(G$123*(1-Loads!$B203),3)","v":0}]
["LDNO LV: Small Non Domestic Unrestricted",{"$f":"ROUND(B$123*(1-Loads!$B204),3)","v":1.391},{"$f":"ROUND(C$123*(1-Loads!$B204),3)","v":0},{"$f":"ROUND(D$123*(1-Loads!$B204),3)","v":0},{"$f":"ROUND(E$123*(1-Loads!$C204),2)","v":5.25},{"$f":"ROUND(F$123*(1-Loads!$B204),2)","v":0},{"$f":"ROUND(G$123*(1-Loads!$B204),3)","v":0}]
["LDNO HV: Small Non Domestic Unrestricted",{"$f":"ROUND(B$123*(1-Loads!$B205),3)","v":1.004},{"$f":"ROUND(C$123*(1-Loads!$B205),3)","v":0},{"$f":"ROUND(D$123*(1-Loads!$B205),3)","v":0},{"$f":"ROUND(E$123*(1-Loads!$C205),2)","v":3.79},{"$f":"ROUND(F$123*(1-Loads!$B205),2)","v":0},{"$f":"ROUND(G$123*(1-Loads!$B205),3)","v":0}]
["> Small Non Domestic Two Rate"]
["Small Non Domestic Two Rate",{"$f":"ROUND(B$124*(1-Loads!$B207),3)","v":2.4},{"$f":"ROUND(C$124*(1-Loads!$B207),3)","v":9.4E-2},{"$f":"ROUND(D$124*(1-Loads!$B207),3)","v":0},{"$f":"ROUND(E$124*(1-Loads!$C207),2)","v":7.6},{"$f":"ROUND(F$124*(1-Loads!$B207),2)","v":0},{"$f":"ROUND(G$124*(1-Loads!$B207),3)","v":0}]
["LDNO LV: Small Non Domestic Two Rate",{"$f":"ROUND(B$124*(1-Loads!$B208),3)","v":1.659},{"$f":"ROUND(C$124*(1-Loads!$B208),3)","v":6.5000000000000002E-2},{"$f":"ROUND(D$124*(1-Loads!$B208),3)","v":0},{"$f":"ROUND(E$124*(1-Loads!$C208),2)","v":5.25},{"$f":"ROUND(F$124*(1-Loads!$B208),2)","v":0},{"$f":"ROUND(G$124*(1-Loads!$B208),3)","v":0}]
["LDNO HV: Small Non Domestic Two Rate",{"$f":"ROUND(B$124*(1-Loads!$B209),3)","v":1.198},{"$f":"ROUND(C$124*(1-Loads!$B209),3)","v":4.7E-2},{"$f":"ROUND(D$124*(1-Loads!$B209),3)","v":0},{"$f":"ROUND(E$124*(1-Loads!$C209),2)","v":3.79},{"$f":"ROUND(F$124*(1-Loads!$B209),2)","v":0},{"$f":"ROUND(G$124*(1-Loads!$B209),3)","v":0}]
["> Small Non Domestic Off Peak (related MPAN)"]
["Small Non Domestic Off Peak (related MPAN)",{"$f":"ROUND(B$125*(1-Loads!$B211),3)","v":0.35199999999999998},{"$f":"ROUND(C$125*(1-Loads!$B211),3)","v":0},{"$f":"ROUND(D$125*(1-Loads!$B211),3)","v":0},{"$f":"ROUND(E$125*(1-Loads!$C211),2)","v":0},{"$f":"ROUND(F$125*(1-Loads!$B211),2)","v":0},{"$f":"ROUND(G$125*(1-Loads!$B211),3)","v":0}]
["LDNO LV: Small Non Domestic Off Peak (related MPAN)",{"$f":"ROUND(B$125*(1-Loads!$B212),3)","v":0.24299999999999999},{"$f":"ROUND(C$125*(1-Loads!$B212),3)","v":0},{"$f":"ROUND(D$125*(1-Loads!$B212),3)","v":0},{"$f":"ROUND(E$125*(1-Loads!$C212),2)","v":0},{"$f":"ROUND(F$125*(1-Loads!$B212),2)","v":0},{"$f":"ROUND(G$125*(1-Loads!$B212),3)","v":0}]
["LDNO HV: Small Non Domestic Off Peak (related MPAN)",{"$f":"ROUND(B$125*(1-Loads!$B213),3)","v":0.17599999999999999},{"$f":"ROUND(C$125*(1-Loads!$B213),3)","v":0},{"$f":"ROUND(D$125*(1-Loads!$B213),3)","v":0},{"$f":"ROUND(E$125*(1-Loads!$C213),2)","v":0},{"$f":"ROUND(F$125*(1-Loads!$B213),2)","v":0},{"$f":"ROUND(G$125*(1-Loads!$B213),3)","v":0}]
["> LV Medium Non-Domestic"]
["LV Medium Non-Domestic",{"$f":"ROUND(B$126*(1-Loads!$B215),3)","v":2.3090000000000002},{"$f":"ROUND(C$126*(1-Loads!$B215),3)","v":8.6999999999999994E-2},{"$f":"ROUND(D$126*(1-Loads!$B215),3)","v":0},{"$f":"ROUND(E$126*(1-Loads!$C215),2)","v":37.82},{"$f":"ROUND(F$126*(1-Loads!$B215),2)","v":0},{"$f":"ROUND(G$126*(1-Loads!$B215),3)","v":0}]
["LDNO LV: LV Medium Non-Domestic",{"$f":"ROUND(B$126*(1-Loads!$B216),3)","v":1.5960000000000001},{"$f":"ROUND(C$126*(1-Loads!$B216),3)","v":0.06},{"$f":"ROUND(D$126*(1-Loads!$B216),3)","v":0},{"$f":"ROUND(E$126*(1-Loads!$C216),2)","v":26.14},{"$f":"ROUND(F$126*(1-Loads!$B216),2)","v":0},{"$f":"ROUND(G$126*(1-Loads!$B216),3)","v":0}]
["LDNO HV: LV Medium Non-Domestic",{"$f":"ROUND(B$126*(1-Loads!$B217),3)","v":1.153},{"$f":"ROUND(C$126*(1-Loads!$B217),3)","v":4.2999999999999997E-2},{"$f":"ROUND(D$126*(1-Loads!$B217),3)","v":0},{"$f":"ROUND(E$126*(1-Loads!$C217),2)","v":18.88},{"$f":"ROUND(F$126*(1-Loads!$B217),2)","v":0},{"$f":"ROUND(G$126*(1-Loads!$B217),3)","v":0}]
["> LV Sub Medium Non-Domestic"]
["LV Sub Medium Non-Domestic",{"$f":"ROUND(B$127*(1-Loads!$B219),3)","v":2.089},{"$f":"ROUND(C$127*(1-Loads!$B219),3)","v":7.0000000000000007E-2},{"$f":"ROUND(D$127*(1-Loads!$B219),3)","v":0},{"$f":"ROUND(E$127*(1-Loads!$C219),2)","v":18.440000000000001},{"$f":"ROUND(F$127*(1-Loads!$B219),2)","v":0},{"$f":"ROUND(G$127*(1-Loads!$B219),3)","v":0}]
["> HV Medium Non-Domestic"]
["HV Medium Non-Domestic",{"$f":"ROUND(B$128*(1-Loads!$B221),3)","v":1.397},{"$f":"ROUND(C$128*(1-Loads!$B221),3)","v":2.4E-2},{"$f":"ROUND(D$128*(1-Loads!$B221),3)","v":0},{"$f":"ROUND(E$128*(1-Loads!$C221),2)","v":254.32},{"$f":"ROUND(F$128*(1-Loads!$B221),2)","v":0},{"$f":"ROUND(G$128*(1-Loads!$B221),3)","v":0}]
["> LV HH Metered"]
["LV HH Metered",{"$f":"ROUND(B$129*(1-Loads!$B223),3)","v":10.679},{"$f":"ROUND(C$129*(1-Loads!$B223),3)","v":0.63700000000000001},{"$f":"ROUND(D$129*(1-Loads!$B223),3)","v":5.8000000000000003E-2},{"$f":"ROUND(E$129*(1-Loads!$C223),2)","v":10.96},{"$f":"ROUND(F$129*(1-Loads!$B223),2)","v":3.75},{"$f":"ROUND(G$129*(1-Loads!$B223),3)","v":0.39100000000000001}]
["LDNO LV: LV HH Metered",{"$f":"ROUND(B$129*(1-Loads!$B224),3)","v":7.3810000000000002},{"$f":"ROUND(C$129*(1-Loads!$B224),3)","v":0.44},{"$f":"ROUND(D$129*(1-Loads!$B224),3)","v":0.04},{"$f":"ROUND(E$129*(1-Loads!$C224),2)","v":7.58},{"$f":"ROUND(F$129*(1-Loads!$B224),2)","v":2.59},{"$f":"ROUND(G$129*(1-Loads!$B224),3)","v":0.27}]
["LDNO HV: LV HH Metered",{"$f":"ROUND(B$129*(1-Loads!$B225),3)","v":5.3310000000000004},{"$f":"ROUND(C$129*(1-Loads!$B225),3)","v":0.318},{"$f":"ROUND(D$129*(1-Loads!$B225),3)","v":2.9000000000000001E-2},{"$f":"ROUND(E$129*(1-Loads!$C225),2)","v":5.47},{"$f":"ROUND(F$129*(1-Loads!$B225),2)","v":1.87},{"$f":"ROUND(G$129*(1-Loads!$B225),3)","v":0.19500000000000001}]
["> LV Sub HH Metered"]
["LV Sub HH Metered",{"$f":"ROUND(B$130*(1-Loads!$B227),3)","v":9.2590000000000003},{"$f":"ROUND(C$130*(1-Loads!$B227),3)","v":0.46899999999999997},{"$f":"ROUND(D$130*(1-Loads!$B227),3)","v":3.3000000000000002E-2},{"$f":"ROUND(E$130*(1-Loads!$C227),2)","v":8.0500000000000007},{"$f":"ROUND(F$130*(1-Loads!$B227),2)","v":4.71},{"$f":"ROUND(G$130*(1-Loads!$B227),3)","v":0.317}]
["LDNO HV: LV Sub HH Metered",{"$f":"ROUND(B$130*(1-Loads!$B228),3)","v":6.9050000000000002},{"$f":"ROUND(C$130*(1-Loads!$B228),3)","v":0.35},{"$f":"ROUND(D$130*(1-Loads!$B228),3)","v":2.5000000000000001E-2},{"$f":"ROUND(E$130*(1-Loads!$C228),2)","v":6},{"$f":"ROUND(F$130*(1-Loads!$B228),2)","v":3.51},{"$f":"ROUND(G$130*(1-Loads!$B228),3)","v":0.23599999999999999}]
["> HV HH Metered"]
["HV HH Metered",{"$f":"ROUND(B$131*(1-Loads!$B230),3)","v":7.593},{"$f":"ROUND(C$131*(1-Loads!$B230),3)","v":0.35399999999999998},{"$f":"ROUND(D$131*(1-Loads!$B230),3)","v":0.02},{"$f":"ROUND(E$131*(1-Loads!$C230),2)","v":78.739999999999995},{"$f":"ROUND(F$131*(1-Loads!$B230),2)","v":3.84},{"$f":"ROUND(G$131*(1-Loads!$B230),3)","v":0.23799999999999999}]
["LDNO HV: HV HH Metered",{"$f":"ROUND(B$131*(1-Loads!$B231),3)","v":6.4370000000000003},{"$f":"ROUND(C$131*(1-Loads!$B231),3)","v":0.3},{"$f":"ROUND(D$131*(1-Loads!$B231),3)","v":1.7000000000000001E-2},{"$f":"ROUND(E$131*(1-Loads!$C231),2)","v":66.75},{"$f":"ROUND(F$131*(1-Loads!$B231),2)","v":3.26},{"$f":"ROUND(G$131*(1-Loads!$B231),3)","v":0.20200000000000001}]
["> HV Sub HH Metered"]
["HV Sub HH Metered",{"$f":"ROUND(B$132*(1-Loads!$B233),3)","v":6.7329999999999997},{"$f":"ROUND(C$132*(1-Loads!$B233),3)","v":0.30099999999999999},{"$f":"ROUND(D$132*(1-Loads!$B233),3)","v":1.6E-2},{"$f":"ROUND(E$132*(1-Loads!$C233),2)","v":78.739999999999995},{"$f":"ROUND(F$132*(1-Loads!$B233),2)","v":1.55},{"$f":"ROUND(G$132*(1-Loads!$B233),3)","v":0.22600000000000001}]
["> NHH UMS category A"]
["NHH UMS category A",{"$f":"ROUND(B$133*(1-Loads!$B235),3)","v":2.2610000000000001},{"$f":"ROUND(C$133*(1-Loads!$B235),3)","v":0},{"$f":"ROUND(D$133*(1-Loads!$B235),3)","v":0},{"$f":"ROUND(E$133*(1-Loads!$C235),2)","v":0},{"$f":"ROUND(F$133*(1-Loads!$B235),2)","v":0},{"$f":"ROUND(G$133*(1-Loads!$B235),3)","v":0}]
["LDNO LV: NHH UMS category A",{"$f":"ROUND(B$133*(1-Loads!$B236),3)","v":1.5629999999999999},{"$f":"ROUND(C$133*(1-Loads!$B236),3)","v":0},{"$f":"ROUND(D$133*(1-Loads!$B236),3)","v":0},{"$f":"ROUND(E$133*(1-Loads!$C236),2)","v":0},{"$f":"ROUND(F$133*(1-Loads!$B236),2)","v":0},{"$f":"ROUND(G$133*(1-Loads!$B236),3)","v":0}]
["LDNO HV: NHH UMS category A",{"$f":"ROUND(B$133*(1-Loads!$B237),3)","v":1.129},{"$f":"ROUND(C$133*(1-Loads!$B237),3)","v":0},{"$f":"ROUND(D$133*(1-Loads!$B237),3)","v":0},{"$f":"ROUND(E$133*(1-Loads!$C237),2)","v":0},{"$f":"ROUND(F$133*(1-Loads!$B237),2)","v":0},{"$f":"ROUND(G$133*(1-Loads!$B237),3)","v":0}]
["> NHH UMS category B"]
["NHH UMS category B",{"$f":"ROUND(B$134*(1-Loads!$B239),3)","v":2.2629999999999999},{"$f":"ROUND(C$134*(1-Loads!$B239),3)","v":0},{"$f":"ROUND(D$134*(1-Loads!$B239),3)","v":0},{"$f":"ROUND(E$134*(1-Loads!$C239),2)","v":0},{"$f":"ROUND(F$134*(1-Loads!$B239),2)","v":0},{"$f":"ROUND(G$134*(1-Loads!$B239),3)","v":0}]
["LDNO LV: NHH UMS category B",{"$f":"ROUND(B$134*(1-Loads!$B240),3)","v":1.5640000000000001},{"$f":"ROUND(C$134*(1-Loads!$B240),3)","v":0},{"$f":"ROUND(D$134*(1-Loads!$B240),3)","v":0},{"$f":"ROUND(E$134*(1-Loads!$C240),2)","v":0},{"$f":"ROUND(F$134*(1-Loads!$B240),2)","v":0},{"$f":"ROUND(G$134*(1-Loads!$B240),3)","v":0}]
["LDNO HV: NHH UMS category B",{"$f":"ROUND(B$134*(1-Loads!$B241),3)","v":1.1299999999999999},{"$f":"ROUND(C$134*(1-Loads!$B241),3)","v":0},{"$f":"ROUND(D$134*(1-Loads!$B241),3)","v":0},{"$f":"ROUND(E$134*(1-Loads!$C241),2)","v":0},{"$f":"ROUND(F$134*(1-Loads!$B241),2)","v":0},{"$f":"ROUND(G$134*(1-Loads!$B241),3)","v":0}]
["> NHH UMS category C"]
["NHH UMS category C",{"$f":"ROUND(B$135*(1-Loads!$B243),3)","v":3.6160000000000001},{"$f":"ROUND(C$135*(1-Loads!$B243),3)","v":0},{"$f":"ROUND(D$135*(1-Loads!$B243),3)","v":0},{"$f":"ROUND(E$135*(1-Loads!$C243),2)","v":0},{"$f":"ROUND(F$135*(1-Loads!$B243),2)","v":0},{"$f":"ROUND(G$135*(1-Loads!$B243),3)","v":0}]
["LDNO LV: NHH UMS category C",{"$f":"ROUND(B$135*(1-Loads!$B244),3)","v":2.4990000000000001},{"$f":"ROUND(C$135*(1-Loads!$B244),3)","v":0},{"$f":"ROUND(D$135*(1-Loads!$B244),3)","v":0},{"$f":"ROUND(E$135*(1-Loads!$C244),2)","v":0},{"$f":"ROUND(F$135*(1-Loads!$B244),2)","v":0},{"$f":"ROUND(G$135*(1-Loads!$B244),3)","v":0}]
["LDNO HV: NHH UMS category C",{"$f":"ROUND(B$135*(1-Loads!$B245),3)","v":1.8049999999999999},{"$f":"ROUND(C$135*(1-Loads!$B245),3)","v":0},{"$f":"ROUND(D$135*(1-Loads!$B245),3)","v":0},{"$f":"ROUND(E$135*(1-Loads!$C245),2)","v":0},{"$f":"ROUND(F$135*(1-Loads!$B245),2)","v":0},{"$f":"ROUND(G$135*(1-Loads!$B245),3)","v":0}]
["> NHH UMS category D"]
["NHH UMS category D",{"$f":"ROUND(B$136*(1-Loads!$B247),3)","v":2.3490000000000002},{"$f":"ROUND(C$136*(1-Loads!$B247),3)","v":0},{"$f":"ROUND(D$136*(1-Loads!$B247),3)","v":0},{"$f":"ROUND(E$136*(1-Loads!$C247),2)","v":0},{"$f":"ROUND(F$136*(1-Loads!$B247),2)","v":0},{"$f":"ROUND(G$136*(1-Loads!$B247),3)","v":0}]
["LDNO LV: NHH UMS category D",{"$f":"ROUND(B$136*(1-Loads!$B248),3)","v":1.6240000000000001},{"$f":"ROUND(C$136*(1-Loads!$B248),3)","v":0},{"$f":"ROUND(D$136*(1-Loads!$B248),3)","v":0},{"$f":"ROUND(E$136*(1-Loads!$C248),2)","v":0},{"$f":"ROUND(F$136*(1-Loads!$B248),2)","v":0},{"$f":"ROUND(G$136*(1-Loads!$B248),3)","v":0}]
["LDNO HV: NHH UMS category D",{"$f":"ROUND(B$136*(1-Loads!$B249),3)","v":1.173},{"$f":"ROUND(C$136*(1-Loads!$B249),3)","v":0},{"$f":"ROUND(D$136*(1-Loads!$B249),3)","v":0},{"$f":"ROUND(E$136*(1-Loads!$C249),2)","v":0},{"$f":"ROUND(F$136*(1-Loads!$B249),2)","v":0},{"$f":"ROUND(G$136*(1-Loads!$B249),3)","v":0}]
["> LV UMS (Pseudo HH Metered)"]
["LV UMS (Pseudo HH Metered)",{"$f":"ROUND(B$137*(1-Loads!$B251),3)","v":26.431999999999999},{"$f":"ROUND(C$137*(1-Loads!$B251),3)","v":2.6019999999999999},{"$f":"ROUND(D$137*(1-Loads!$B251),3)","v":0.84799999999999998},{"$f":"ROUND(E$137*(1-Loads!$C251),2)","v":0},{"$f":"ROUND(F$137*(1-Loads!$B251),2)","v":0},{"$f":"ROUND(G$137*(1-Loads!$B251),3)","v":0}]
["LDNO LV: LV UMS (Pseudo HH Metered)",{"$f":"ROUND(B$137*(1-Loads!$B252),3)","v":18.268999999999998},{"$f":"ROUND(C$137*(1-Loads!$B252),3)","v":1.798},{"$f":"ROUND(D$137*(1-Loads!$B252),3)","v":0.58599999999999997},{"$f":"ROUND(E$137*(1-Loads!$C252),2)","v":0},{"$f":"ROUND(F$137*(1-Loads!$B252),2)","v":0},{"$f":"ROUND(G$137*(1-Loads!$B252),3)","v":0}]
["LDNO HV: LV UMS (Pseudo HH Metered)",{"$f":"ROUND(B$137*(1-Loads!$B253),3)","v":13.195},{"$f":"ROUND(C$137*(1-Loads!$B253),3)","v":1.2989999999999999},{"$f":"ROUND(D$137*(1-Loads!$B253),3)","v":0.42299999999999999},{"$f":"ROUND(E$137*(1-Loads!$C253),2)","v":0},{"$f":"ROUND(F$137*(1-Loads!$B253),2)","v":0},{"$f":"ROUND(G$137*(1-Loads!$B253),3)","v":0}]
["> LV Generation NHH"]
["LV Generation NHH",{"$f":"ROUND(B$138*(1-Loads!$B255),3)","v":-0.65400000000000003},{"$f":"ROUND(C$138*(1-Loads!$B255),3)","v":0},{"$f":"ROUND(D$138*(1-Loads!$B255),3)","v":0},{"$f":"ROUND(E$138*(1-Loads!$C255),2)","v":0},{"$f":"ROUND(F$138*(1-Loads!$B255),2)","v":0},{"$f":"ROUND(G$138*(1-Loads!$B255),3)","v":0}]
["LDNO LV: LV Generation NHH",{"$f":"ROUND(B$138*(1-Loads!$B256),3)","v":-0.65400000000000003},{"$f":"ROUND(C$138*(1-Loads!$B256),3)","v":0},{"$f":"ROUND(D$138*(1-Loads!$B256),3)","v":0},{"$f":"ROUND(E$138*(1-Loads!$C256),2)","v":0},{"$f":"ROUND(F$138*(1-Loads!$B256),2)","v":0},{"$f":"ROUND(G$138*(1-Loads!$B256),3)","v":0}]
["LDNO HV: LV Generation NHH",{"$f":"ROUND(B$138*(1-Loads!$B257),3)","v":-0.65400000000000003},{"$f":"ROUND(C$138*(1-Loads!$B257),3)","v":0},{"$f":"ROUND(D$138*(1-Loads!$B257),3)","v":0},{"$f":"ROUND(E$138*(1-Loads!$C257),2)","v":0},{"$f":"ROUND(F$138*(1-Loads!$B257),2)","v":0},{"$f":"ROUND(G$138*(1-Loads!$B257),3)","v":0}]
["> LV Sub Generation NHH"]
["LV Sub Generation NHH",{"$f":"ROUND(B$139*(1-Loads!$B259),3)","v":-0.53800000000000003},{"$f":"ROUND(C$139*(1-Loads!$B259),3)","v":0},{"$f":"ROUND(D$139*(1-Loads!$B259),3)","v":0},{"$f":"ROUND(E$139*(1-Loads!$C259),2)","v":0},{"$f":"ROUND(F$139*(1-Loads!$B259),2)","v":0},{"$f":"ROUND(G$139*(1-Loads!$B259),3)","v":0}]
["LDNO HV: LV Sub Generation NHH",{"$f":"ROUND(B$139*(1-Loads!$B260),3)","v":-0.53800000000000003},{"$f":"ROUND(C$139*(1-Loads!$B260),3)","v":0},{"$f":"ROUND(D$139*(1-Loads!$B260),3)","v":0},{"$f":"ROUND(E$139*(1-Loads!$C260),2)","v":0},{"$f":"ROUND(F$139*(1-Loads!$B260),2)","v":0},{"$f":"ROUND(G$139*(1-Loads!$B260),3)","v":0}]
["> LV Generation Intermittent"]
["LV Generation Intermittent",{"$f":"ROUND(B$140*(1-Loads!$B262),3)","v":-0.65400000000000003},{"$f":"ROUND(C$140*(1-Loads!$B262),3)","v":0},{"$f":"ROUND(D$140*(1-Loads!$B262),3)","v":0},{"$f":"ROUND(E$140*(1-Loads!$C262),2)","v":0},{"$f":"ROUND(F$140*(1-Loads!$B262),2)","v":0},{"$f":"ROUND(G$140*(1-Loads!$B262),3)","v":0.20200000000000001}]
["LDNO LV: LV Generation Intermittent",{"$f":"ROUND(B$140*(1-Loads!$B263),3)","v":-0.65400000000000003},{"$f":"ROUND(C$140*(1-Loads!$B263),3)","v":0},{"$f":"ROUND(D$140*(1-Loads!$B263),3)","v":0},{"$f":"ROUND(E$140*(1-Loads!$C263),2)","v":0},{"$f":"ROUND(F$140*(1-Loads!$B263),2)","v":0},{"$f":"ROUND(G$140*(1-Loads!$B263),3)","v":0.20200000000000001}]
["LDNO HV: LV Generation Intermittent",{"$f":"ROUND(B$140*(1-Loads!$B264),3)","v":-0.65400000000000003},{"$f":"ROUND(C$140*(1-Loads!$B264),3)","v":0},{"$f":"ROUND(D$140*(1-Loads!$B264),3)","v":0},{"$f":"ROUND(E$140*(1-Loads!$C264),2)","v":0},{"$f":"ROUND(F$140*(1-Loads!$B264),2)","v":0},{"$f":"ROUND(G$140*(1-Loads!$B264),3)","v":0.20200000000000001}]
["> LV Generation Non-Intermittent"]
["LV Generation Non-Intermittent",{"$f":"ROUND(B$141*(1-Loads!$B266),3)","v":-5.0759999999999996},{"$f":"ROUND(C$141*(1-Loads!$B266),3)","v":-0.52400000000000002},{"$f":"ROUND(D$141*(1-Loads!$B266),3)","v":-6.0999999999999999E-2},{"$f":"ROUND(E$141*(1-Loads!$C266),2)","v":0},{"$f":"ROUND(F$141*(1-Loads!$B266),2)","v":0},{"$f":"ROUND(G$141*(1-Loads!$B266),3)","v":0.20200000000000001}]
["LDNO LV: LV Generation Non-Intermittent",{"$f":"ROUND(B$141*(1-Loads!$B267),3)","v":-5.0759999999999996},{"$f":"ROUND(C$141*(1-Loads!$B267),3)","v":-0.52400000000000002},{"$f":"ROUND(D$141*(1-Loads!$B267),3)","v":-6.0999999999999999E-2},{"$f":"ROUND(E$141*(1-Loads!$C267),2)","v":0},{"$f":"ROUND(F$141*(1-Loads!$B267),2)","v":0},{"$f":"ROUND(G$141*(1-Loads!$B267),3)","v":0.20200000000000001}]
["LDNO HV: LV Generation Non-Intermittent",{"$f":"ROUND(B$141*(1-Loads!$B268),3)","v":-5.0759999999999996},{"$f":"ROUND(C$141*(1-Loads!$B268),3)","v":-0.52400000000000002},{"$f":"ROUND(D$141*(1-Loads!$B268),3)","v":-6.0999999999999999E-2},{"$f":"ROUND(E$141*(1-Loads!$C268),2)","v":0},{"$f":"ROUND(F$141*(1-Loads!$B268),2)","v":0},{"$f":"ROUND(G$141*(1-Loads!$B268),3)","v":0.20200000000000001}]
["> LV Sub Generation Intermittent"]
["LV Sub Generation Intermittent",{"$f":"ROUND(B$142*(1-Loads!$B270),3)","v":-0.53800000000000003},{"$f":"ROUND(C$142*(1-Loads!$B270),3)","v":0},{"$f":"ROUND(D$142*(1-Loads!$B270),3)","v":0},{"$f":"ROUND(E$142*(1-Loads!$C270),2)","v":0},{"$f":"ROUND(F$142*(1-Loads!$B270),2)","v":0},{"$f":"ROUND(G$142*(1-Loads!$B270),3)","v":0.17}]
["LDNO HV: LV Sub Generation Intermittent",{"$f":"ROUND(B$142*(1-Loads!$B271),3)","v":-0.53800000000000003},{"$f":"ROUND(C$142*(1-Loads!$B271),3)","v":0},{"$f":"ROUND(D$142*(1-Loads!$B271),3)","v":0},{"$f":"ROUND(E$142*(1-Loads!$C271),2)","v":0},{"$f":"ROUND(F$142*(1-Loads!$B271),2)","v":0},{"$f":"ROUND(G$142*(1-Loads!$B271),3)","v":0.17}]
["> LV Sub Generation Non-Intermittent"]
["LV Sub Generation Non-Intermittent",{"$f":"ROUND(B$143*(1-Loads!$B273),3)","v":-4.21},{"$f":"ROUND(C$143*(1-Loads!$B273),3)","v":-0.42599999999999999},{"$f":"ROUND(D$143*(1-Loads!$B273),3)","v":-4.7E-2},{"$f":"ROUND(E$143*(1-Loads!$C273),2)","v":0},{"$f":"ROUND(F$143*(1-Loads!$B273),2)","v":0},{"$f":"ROUND(G$143*(1-Loads!$B273),3)","v":0.17}]
["LDNO HV: LV Sub Generation Non-Intermittent",{"$f":"ROUND(B$143*(1-Loads!$B274),3)","v":-4.21},{"$f":"ROUND(C$143*(1-Loads!$B274),3)","v":-0.42599999999999999},{"$f":"ROUND(D$143*(1-Loads!$B274),3)","v":-4.7E-2},{"$f":"ROUND(E$143*(1-Loads!$C274),2)","v":0},{"$f":"ROUND(F$143*(1-Loads!$B274),2)","v":0},{"$f":"ROUND(G$143*(1-Loads!$B274),3)","v":0.17}]
["> HV Generation Intermittent"]
["HV Generation Intermittent",{"$f":"ROUND(B$144*(1-Loads!$B276),3)","v":-0.31900000000000001},{"$f":"ROUND(C$144*(1-Loads!$B276),3)","v":0},{"$f":"ROUND(D$144*(1-Loads!$B276),3)","v":0},{"$f":"ROUND(E$144*(1-Loads!$C276),2)","v":38.69},{"$f":"ROUND(F$144*(1-Loads!$B276),2)","v":0},{"$f":"ROUND(G$144*(1-Loads!$B276),3)","v":0.13400000000000001}]
["LDNO HV: HV Generation Intermittent",{"$f":"ROUND(B$144*(1-Loads!$B277),3)","v":-0.31900000000000001},{"$f":"ROUND(C$144*(1-Loads!$B277),3)","v":0},{"$f":"ROUND(D$144*(1-Loads!$B277),3)","v":0},{"$f":"ROUND(E$144*(1-Loads!$C277),2)","v":0},{"$f":"ROUND(F$144*(1-Loads!$B277),2)","v":0},{"$f":"ROUND(G$144*(1-Loads!$B277),3)","v":0.13400000000000001}]
["> HV Generation Non-Intermittent"]
["HV Generation Non-Intermittent",{"$f":"ROUND(B$145*(1-Loads!$B279),3)","v":-2.593},{"$f":"ROUND(C$145*(1-Loads!$B279),3)","v":-0.24099999999999999},{"$f":"ROUND(D$145*(1-Loads!$B279),3)","v":-0.02},{"$f":"ROUND(E$145*(1-Loads!$C279),2)","v":38.69},{"$f":"ROUND(F$145*(1-Loads!$B279),2)","v":0},{"$f":"ROUND(G$145*(1-Loads!$B279),3)","v":0.13400000000000001}]
["LDNO HV: HV Generation Non-Intermittent",{"$f":"ROUND(B$145*(1-Loads!$B280),3)","v":-2.593},{"$f":"ROUND(C$145*(1-Loads!$B280),3)","v":-0.24099999999999999},{"$f":"ROUND(D$145*(1-Loads!$B280),3)","v":-0.02},{"$f":"ROUND(E$145*(1-Loads!$C280),2)","v":0},{"$f":"ROUND(F$145*(1-Loads!$B280),2)","v":0},{"$f":"ROUND(G$145*(1-Loads!$B280),3)","v":0.13400000000000001}]
["> HV Sub Generation Intermittent"]
["HV Sub Generation Intermittent",{"$f":"ROUND(B$146*(1-Loads!$B282),3)","v":-0.27},{"$f":"ROUND(C$146*(1-Loads!$B282),3)","v":0},{"$f":"ROUND(D$146*(1-Loads!$B282),3)","v":0},{"$f":"ROUND(E$146*(1-Loads!$C282),2)","v":38.69},{"$f":"ROUND(F$146*(1-Loads!$B282),2)","v":0},{"$f":"ROUND(G$146*(1-Loads!$B282),3)","v":7.1999999999999995E-2}]
["> HV Sub Generation Non-Intermittent"]
["HV Sub Generation Non-Intermittent",{"$f":"ROUND(B$147*(1-Loads!$B284),3)","v":-2.2240000000000002},{"$f":"ROUND(C$147*(1-Loads!$B284),3)","v":-0.19900000000000001},{"$f":"ROUND(D$147*(1-Loads!$B284),3)","v":-1.4E-2},{"$f":"ROUND(E$147*(1-Loads!$C284),2)","v":38.69},{"$f":"ROUND(F$147*(1-Loads!$B284),2)","v":0},{"$f":"ROUND(G$147*(1-Loads!$B284),3)","v":7.1999999999999995E-2}]

{"sheet":"CData","index":40,"n_rows":297,"n_cols":8,"rows_kept":297,"cut":false,"hidden":true,"merged":[]}
[{"$f":"\"r6140: Additional calculations for tariff comparisons\"&\" for \"&Input!B7&\" in \"&Input!C7&\" (\"&Input!D7&\")\"","v":"r6140: Additional calculations for tariff comparisons for WPD Mid West in April 2017 (0)"}]
["This sheet is for information only.  It can be deleted without affecting any calculations elsewhere in the model."]
[]
["4001. Revenues under current tariffs (£)"]
["Data sources:"]
["x1 = 1201. Current revenues if known (£) (in Current tariff information)"]
["x2 = 1010. Days in the charging year (in Financial and general assumptions)"]
["x3 = 1201. Current Fixed charge p/MPAN/day (in Current tariff information)"]
["x4 = 1053. MPANs by tariff (in Volume forecasts for the charging year)"]
["x5 = 1201. Current Capacity charge p/kVA/day (in Current tariff information)"]
["x6 = 1053. Import capacity (kVA) by tariff (in Volume forecasts for the charging year)"]
["x7 = 1201. Current Unit rate 1 p/kWh (in Current tariff information)"]
["x8 = 1053. Rate 1 units (MWh) by tariff (in Volume forecasts for the charging year)"]
["x9 = 1201. Current Unit rate 2 p/kWh (in Current tariff information)"]
["x10 = 1053. Rate 2 units (MWh) by tariff (in Volume forecasts for the charging year)"]
["x11 = 1201. Current Unit rate 3 p/kWh (in Current tariff information)"]
["x12 = 1053. Rate 3 units (MWh) by tariff (in Volume forecasts for the charging year)"]
["x13 = 1201. Current Reactive power charge p/kVArh (in Current tariff information)"]
["x14 = 1053. Reactive power units (MVArh) by tariff (in Volume forecasts for the charging year)"]
["Calculation =IF(x1,x1,0.01*x2*(x3*x4+x5*x6)+10*(x7*x8+x9*x10+x11*x12+x13*x14))"]
[]
[null,"Revenues under current tariffs (£)"]
["Domestic Unrestricted",{"$f":"IF(Input!B333,Input!B333,0.01*Input!F$14*(Input!F333*Input!E$143+Input!G333*Input!F$143)+10*(Input!C333*Input!B$143+Input!D333*Input!C$143+Input!E333*Input!D$143+Input!H333*Input!G$143))","v":130826862}]
["Domestic Two Rate",{"$f":"IF(Input!B334,Input!B334,0.01*Input!F$14*(Input!F334*Input!E$147+Input!G334*Input!F$147)+10*(Input!C334*Input!B$147+Input!D334*Input!C$147+Input!E334*Input!D$147+Input!H334*Input!G$147))","v":15098369}]
["Domestic Off Peak (related MPAN)",{"$f":"IF(Input!B335,Input!B335,0.01*Input!F$14*(Input!F335*Input!E$151+Input!G335*Input!F$151)+10*(Input!C335*Input!B$151+Input!D335*Input!C$151+Input!E335*Input!D$151+Input!H335*Input!G$151))","v":146557}]
["Small Non Domestic Unrestricted",{"$f":"IF(Input!B336,Input!B336,0.01*Input!F$14*(Input!F336*Input!E$155+Input!G336*Input!F$155)+10*(Input!C336*Input!B$155+Input!D336*Input!C$155+Input!E336*Input!D$155+Input!H336*Input!G$155))","v":29063999}]
["Small Non Domestic Two Rate",{"$f":"IF(Input!B337,Input!B337,0.01*Input!F$14*(Input!F337*Input!E$159+Input!G337*Input!F$159)+10*(Input!C337*Input!B$159+Input!D337*Input!C$159+Input!E337*Input!D$159+Input!H337*Input!G$159))","v":6925425}]
["Small Non Domestic Off Peak (related MPAN)",{"$f":"IF(Input!B338,Input!B338,0.01*Input!F$14*(Input!F338*Input!E$163+Input!G338*Input!F$163)+10*(Input!C338*Input!B$163+Input!D338*Input!C$163+Input!E338*Input!D$163+Input!H338*Input!G$163))","v":0}]
["LV Medium Non-Domestic",{"$f":"IF(Input!B339,Input!B339,0.01*Input!F$14*(Input!F339*Input!E$167+Input!G339*Input!F$167)+10*(Input!C339*Input!B$167+Input!D339*Input!C$167+Input!E339*Input!D$167+Input!H339*Input!G$167))","v":19761662}]
["LV Sub Medium Non-Domestic",{"$f":"IF(Input!B340,Input!B340,0.01*Input!F$14*(Input!F340*Input!E$171+Input!G340*Input!F$171)+10*(Input!C340*Input!B$171+Input!D340*Input!C$171+Input!E340*Input!D$171+Input!H340*Input!G$171))","v":733648}]
["HV Medium Non-Domestic",{"$f":"IF(Input!B341,Input!B341,0.01*Input!F$14*(Input!F341*Input!E$173+Input!G341*Input!F$173)+10*(Input!C341*Input!B$173+Input!D341*Input!C$173+Input!E341*Input!D$173+Input!H341*Input!G$173))","v":266631}]
["LV HH Metered",{"$f":"IF(Input!B342,Input!B342,0.01*Input!F$14*(Input!F342*Input!E$175+Input!G342*Input!F$175)+10*(Input!C342*Input!B$175+Input!D342*Input!C$175+Input!E342*Input!D$175+Input!H342*Input!G$175))","v":22598111}]
["LV Sub HH Metered",{"$f":"IF(Input!B343,Input!B343,0.01*Input!F$14*(Input!F343*Input!E$179+Input!G343*Input!F$179)+10*(Input!C343*Input!B$179+Input!D343*Input!C$179+Input!E343*Input!D$179+Input!H343*Input!G$179))","v":14598953}]
["HV HH Metered",{"$f":"IF(Input!B344,Input!B344,0.01*Input!F$14*(Input!F344*Input!E$182+Input!G344*Input!F$182)+10*(Input!C344*Input!B$182+Input!D344*Input!C$182+Input!E344*Input!D$182+Input!H344*Input!G$182))","v":41609304}]
["HV Sub HH Metered",{"$f":"IF(Input!B345,Input!B345,0.01*Input!F$14*(Input!F345*Input!E$185+Input!G345*Input!F$185)+10*(Input!C345*Input!B$185+Input!D345*Input!C$185+Input!E345*Input!D$185+Input!H345*Input!G$185))","v":6392480}]
["NHH UMS category A",{"$f":"IF(Input!B346,Input!B346,0.01*Input!F$14*(Input!F346*Input!E$187+Input!G346*Input!F$187)+10*(Input!C346*Input!B$187+Input!D346*Input!C$187+Input!E346*Input!D$187+Input!H346*Input!G$187))","v":540187}]
["NHH UMS category B",{"$f":"IF(Input!B347,Input!B347,0.01*Input!F$14*(Input!F347*Input!E$191+Input!G347*Input!F$191)+10*(Input!C347*Input!B$191+Input!D347*Input!C$191+Input!E347*Input!D$191+Input!H347*Input!G$191))","v":540187}]
["NHH UMS category C",{"$f":"IF(Input!B348,Input!B348,0.01*Input!F$14*(Input!F348*Input!E$195+Input!G348*Input!F$195)+10*(Input!C348*Input!B$195+Input!D348*Input!C$195+Input!E348*Input!D$195+Input!H348*Input!G$195))","v":540187}]
["NHH UMS category D",{"$f":"IF(Input!B349,Input!B349,0.01*Input!F$14*(Input!F349*Input!E$199+Input!G349*Input!F$199)+10*(Input!C349*Input!B$199+Input!D349*Input!C$199+Input!E349*Input!D$199+Input!H349*Input!G$199))","v":540187}]
["LV UMS (Pseudo HH Metered)",{"$f":"IF(Input!B350,Input!B350,0.01*Input!F$14*(Input!F350*Input!E$203+Input!G350*Input!F$203)+10*(Input!C350*Input!B$203+Input!D350*Input!C$203+Input!E350*Input!D$203+Input!H350*Input!G$203))","v":4899607}]
[]
["4002. All-the-way volumes"]
["Data sources:"]
["x1 = 1053. Rate 1 units (MWh) by tariff (in Volume forecasts for the charging year)"]
["x2 = 1053. Rate 2 units (MWh) by tariff (in Volume forecasts for the charging year)"]
["x3 = 1053. Rate 3 units (MWh) by tariff (in Volume forecasts for the charging year)"]
["x4 = 1053. MPANs by tariff (in Volume forecasts for the charging year)"]
["x5 = 1053. Import capacity (kVA) by tariff (in Volume forecasts for the charging year)"]
["x6 = 1053. Reactive power units (MVArh) by tariff (in Volume forecasts for the charging year)"]
["x7 = 3802. All units (MWh) (in Revenue summary)"]
["Kind:","Copy cells","Copy cells","Copy cells","Copy cells","Copy cells","Copy cells","Copy cells"]
["Formula:","= x1","= x2","= x3","= x4","= x5","= x6","= x7"]
[]
[null,"Rate 1 units (MWh)","Rate 2 units (MWh)","Rate 3 units (MWh)","MPANs","Import capacity (kVA)","Reactive power units (MVArh)","All units (MWh)"]
["Domestic Unrestricted",{"$f":"Input!B$143","v":6905007.2310872134},{"$f":"Input!C$143","v":0},{"$f":"Input!D$143","v":0},{"$f":"Input!E$143","v":2000771.41123502},{"$f":"Input!F$143","v":0},{"$f":"Input!G$143","v":0},{"$f":"Summary!B$57","v":6905007.2310872134}]
["Domestic Two Rate",{"$f":"Input!B$147","v":990183.65443460888},{"$f":"Input!C$147","v":740509.28799821471},{"$f":"Input!D$147","v":0},{"$f":"Input!E$147","v":327392.75241817994},{"$f":"Input!F$147","v":0},{"$f":"Input!G$147","v":0},{"$f":"Summary!B$61","v":1730692.9424328236}]
["Domestic Off Peak (related MPAN)",{"$f":"Input!B$151","v":36292.302861451186},{"$f":"Input!C$151","v":0},{"$f":"Input!D$151","v":0},{"$f":"Input!E$151","v":0},{"$f":"Input!F$151","v":0},{"$f":"Input!G$151","v":0},{"$f":"Summary!B$65","v":36292.302861451186}]
["Small Non Domestic Unrestricted",{"$f":"Input!B$155","v":1601953.0791385549},{"$f":"Input!C$155","v":0},{"$f":"Input!D$155","v":0},{"$f":"Input!E$155","v":138318.12561321002},{"$f":"Input!F$155","v":0},{"$f":"Input!G$155","v":0},{"$f":"Summary!B$69","v":1601953.0791385549}]
["Small Non Domestic Two Rate",{"$f":"Input!B$159","v":453929.15375021711},{"$f":"Input!C$159","v":206228.16734278615},{"$f":"Input!D$159","v":0},{"$f":"Input!E$159","v":33481.434021749999},{"$f":"Input!F$159","v":0},{"$f":"Input!G$159","v":0},{"$f":"Summary!B$73","v":660157.32109300327}]
["Small Non Domestic Off Peak (related MPAN)",{"$f":"Input!B$163","v":6149.4136827174971},{"$f":"Input!C$163","v":0},{"$f":"Input!D$163","v":0},{"$f":"Input!E$163","v":0},{"$f":"Input!F$163","v":0},{"$f":"Input!G$163","v":0},{"$f":"Summary!B$77","v":6149.4136827174971}]
["LV Medium Non-Domestic",{"$f":"Input!B$167","v":1255621.2037035793},{"$f":"Input!C$167","v":303177.08288675867},{"$f":"Input!D$167","v":0},{"$f":"Input!E$167","v":18486.330237650003},{"$f":"Input!F$167","v":0},{"$f":"Input!G$167","v":0},{"$f":"Summary!B$81","v":1558798.286590338}]
["LV Sub Medium Non-Domestic",{"$f":"Input!B$171","v":89.950748079622556},{"$f":"Input!C$171","v":23.623336513735023},{"$f":"Input!D$171","v":0},{"$f":"Input!E$171","v":3.1218120300000005},{"$f":"Input!F$171","v":0},{"$f":"Input!G$171","v":0},{"$f":"Summary!B$85","v":113.57408459335758}]
["HV Medium Non-Domestic",{"$f":"Input!B$173","v":35787.536293291574},{"$f":"Input!C$173","v":9819.4231999734202},{"$f":"Input!D$173","v":0},{"$f":"Input!E$173","v":284.08489473000003},{"$f":"Input!F$173","v":0},{"$f":"Input!G$173","v":0},{"$f":"Summary!B$87","v":45606.959493264992}]
["LV HH Metered",{"$f":"Input!B$175","v":200938.41283116271},{"$f":"Input!C$175","v":800271.28152647964},{"$f":"Input!D$175","v":824473.00922996621},{"$f":"Input!E$175","v":6262.3549321800001},{"$f":"Input!F$175","v":983000},{"$f":"Input!G$175","v":164557.5686},{"$f":"Summary!B$89","v":1825682.7035876084}]
["LV Sub HH Metered",{"$f":"Input!B$179","v":2208.5155755544174},{"$f":"Input!C$179","v":8163.9604774163272},{"$f":"Input!D$179","v":10135.022396421165},{"$f":"Input!E$179","v":33.299328320000001},{"$f":"Input!F$179","v":17000},{"$f":"Input!G$179","v":603.10400000000004},{"$f":"Summary!B$93","v":20507.498449391911}]
["HV HH Metered",{"$f":"Input!B$182","v":761286.01814600849},{"$f":"Input!C$182","v":3038893.4283311474},{"$f":"Input!D$182","v":3866242.3727491917},{"$f":"Input!E$182","v":3859.6002730900004},{"$f":"Input!F$182","v":2873000},{"$f":"Input!G$182","v":1033930.8586},{"$f":"Summary!B$96","v":7666421.8192263478}]
["HV Sub HH Metered",{"$f":"Input!B$185","v":0},{"$f":"Input!C$185","v":0},{"$f":"Input!D$185","v":0},{"$f":"Input!E$185","v":0},{"$f":"Input!F$185","v":0},{"$f":"Input!G$185","v":0},{"$f":"Summary!B$99","v":0}]
["NHH UMS category A",{"$f":"Input!B$187","v":61702.110627965667},{"$f":"Input!C$187","v":0},{"$f":"Input!D$187","v":0},{"$f":"Input!E$187","v":0},{"$f":"Input!F$187","v":0},{"$f":"Input!G$187","v":0},{"$f":"Summary!B$101","v":61702.110627965667}]
["NHH UMS category B",{"$f":"Input!B$191","v":32686.456295199947},{"$f":"Input!C$191","v":0},{"$f":"Input!D$191","v":0},{"$f":"Input!E$191","v":0},{"$f":"Input!F$191","v":0},{"$f":"Input!G$191","v":0},{"$f":"Summary!B$105","v":32686.456295199947}]
["NHH UMS category C",{"$f":"Input!B$195","v":745.33107683943331},{"$f":"Input!C$195","v":0},{"$f":"Input!D$195","v":0},{"$f":"Input!E$195","v":0},{"$f":"Input!F$195","v":0},{"$f":"Input!G$195","v":0},{"$f":"Summary!B$109","v":745.33107683943331}]
["NHH UMS category D",{"$f":"Input!B$199","v":5299.2504885482813},{"$f":"Input!C$199","v":0},{"$f":"Input!D$199","v":0},{"$f":"Input!E$199","v":0},{"$f":"Input!F$199","v":0},{"$f":"Input!G$199","v":0},{"$f":"Summary!B$113","v":5299.2504885482813}]
["LV UMS (Pseudo HH Metered)",{"$f":"Input!B$203","v":11501.823274863002},{"$f":"Input!C$203","v":26516.195302025844},{"$f":"Input!D$203","v":199955.58387974752},{"$f":"Input!E$203","v":0},{"$f":"Input!F$203","v":0},{"$f":"Input!G$203","v":0},{"$f":"Summary!B$117","v":237973.60245663638}]
["LV Generation NHH",{"$f":"Input!B$207","v":427.11844929038995},{"$f":"Input!C$207","v":0},{"$f":"Input!D$207","v":0},{"$f":"Input!E$207","v":99.897984960000016},{"$f":"Input!F$207","v":0},{"$f":"Input!G$207","v":0},{"$f":"Summary!B$121","v":427.11844929038995}]
["LV Sub Generation NHH",{"$f":"Input!B$211","v":0},{"$f":"Input!C$211","v":0},{"$f":"Input!D$211","v":0},{"$f":"Input!E$211","v":0},{"$f":"Input!F$211","v":0},{"$f":"Input!G$211","v":0},{"$f":"Summary!B$125","v":0}]
["LV Generation Intermittent",{"$f":"Input!B$214","v":44.835818766750009},{"$f":"Input!C$214","v":0},{"$f":"Input!D$214","v":0},{"$f":"Input!E$214","v":20.8120802},{"$f":"Input!F$214","v":0},{"$f":"Input!G$214","v":16.962},{"$f":"Summary!B$128","v":44.835818766750009}]
["LV Generation Non-Intermittent",{"$f":"Input!B$218","v":222.19834486112995},{"$f":"Input!C$218","v":843.16218718148991},{"$f":"Input!D$218","v":1386.5857589786399},{"$f":"Input!E$218","v":59.314428569999997},{"$f":"Input!F$218","v":0},{"$f":"Input!G$218","v":85.26939999999999},{"$f":"Summary!B$132","v":2451.9462910212596}]
["LV Sub Generation Intermittent",{"$f":"Input!B$222","v":0},{"$f":"Input!C$222","v":0},{"$f":"Input!D$222","v":0},{"$f":"Input!E$222","v":0},{"$f":"Input!F$222","v":0},{"$f":"Input!G$222","v":0},{"$f":"Summary!B$136","v":0}]
["LV Sub Generation Non-Intermittent",{"$f":"Input!B$225","v":0},{"$f":"Input!C$225","v":0},{"$f":"Input!D$225","v":0.29970595511999998},{"$f":"Input!E$225","v":0},{"$f":"Input!F$225","v":0},{"$f":"Input!G$225","v":3.4596},{"$f":"Summary!B$139","v":0.29970595511999998}]
["HV Generation Intermittent",{"$f":"Input!B$228","v":948.82102410941991},{"$f":"Input!C$228","v":0},{"$f":"Input!D$228","v":0},{"$f":"Input!E$228","v":4.1624160400000001},{"$f":"Input!F$228","v":0},{"$f":"Input!G$228","v":376.0514},{"$f":"Summary!B$142","v":948.82102410941991}]
["HV Generation Non-Intermittent",{"$f":"Input!B$231","v":37817.607297492985},{"$f":"Input!C$231","v":127944.62305430156},{"$f":"Input!D$231","v":251566.30566327646},{"$f":"Input!E$231","v":84.288924809999997},{"$f":"Input!F$231","v":0},{"$f":"Input!G$231","v":4526.9914000000008},{"$f":"Summary!B$145","v":417328.53601507097}]
["HV Sub Generation Intermittent",{"$f":"Input!B$234","v":0},{"$f":"Input!C$234","v":0},{"$f":"Input!D$234","v":0},{"$f":"Input!E$234","v":0},{"$f":"Input!F$234","v":0},{"$f":"Input!G$234","v":0},{"$f":"Summary!B$148","v":0}]
["HV Sub Generation Non-Intermittent",{"$f":"Input!B$236","v":0},{"$f":"Input!C$236","v":0},{"$f":"Input!D$236","v":0},{"$f":"Input!E$236","v":0},{"$f":"Input!F$236","v":0},{"$f":"Input!G$236","v":0},{"$f":"Summary!B$150","v":0}]
[]
["4003. Normalised to"]
[]
[null,"Normalised to"]
["Domestic Unrestricted","MPAN"]
["Domestic Two Rate","MPAN"]
["Domestic Off Peak (related MPAN)","MPAN"]
["Small Non Domestic Unrestricted","MPAN"]
["Small Non Domestic Two Rate","MPAN"]
["Small Non Domestic Off Peak (related MPAN)","MPAN"]
["LV Medium Non-Domestic","MPAN"]
["LV Sub Medium Non-Domestic","MPAN"]
["HV Medium Non-Domestic","MPAN"]
["LV HH Metered","kVA"]
["LV Sub HH Metered","kVA"]
["HV HH Metered","kVA"]
["HV Sub HH Metered","kVA"]
["NHH UMS category A","MWh"]
["NHH UMS category B","MWh"]
["NHH UMS category C","MWh"]
["NHH UMS category D","MWh"]
["LV UMS (Pseudo HH Metered)","MWh"]
["LV Generation NHH","MWh"]
["LV Sub Generation NHH","MWh"]
["LV Generation Intermittent","MWh"]
["LV Generation Non-Intermittent","MWh"]
["LV Sub Generation Intermittent","MWh"]
["LV Sub Generation Non-Intermittent","MWh"]
["HV Generation Intermittent","MWh"]
["HV Generation Non-Intermittent","MWh"]
["HV Sub Generation Intermittent","MWh"]
["HV Sub Generation Non-Intermittent","MWh"]
[]
["4004. Normalised volumes for comparisons"]
["Data sources:"]
["x1 = 4002. Rate 1 units (MWh) by tariff (in Volume forecasts for the charging year) (in All-the-way volumes)"]
["x2 = 4003. Normalised to"]
["x3 = 4002. Import capacity (kVA) by tariff (in Volume forecasts for the charging year) (in All-the-way volumes)"]
["x4 = 4002. MPANs by tariff (in Volume forecasts for the charging year) (in All-the-way volumes)"]
["x5 = 4002. All units (MWh) (in Revenue summary) (in All-the-way volumes)"]
["x6 = 4002. Rate 2 units (MWh) by tariff (in Volume forecasts for the charging year) (in All-the-way volumes)"]
["x7 = 4002. Rate 3 units (MWh) by tariff (in Volume forecasts for the charging year) (in All-the-way volumes)"]
["x8 = 4002. Reactive power units (MVArh) by tariff (in Volume forecasts for the charging year) (in All-the-way volumes)"]
["x9 = 1010. Days in the charging year (in Financial and general assumptions)"]
["x10 = 3607. Fixed charge p/MPAN/day (in Tariffs)"]
["x11 = Normalised MPANs (in Normalised volumes for comparisons)"]
["x12 = 3607. Capacity charge p/kVA/day (in Tariffs)"]
["x13 = Normalised Import capacity (kVA) (in Normalised volumes for comparisons)"]
["x14 = 3607. Unit rate 1 p/kWh (in Tariffs)"]
["x15 = Normalised Rate 1 units (MWh) (in Normalised volumes for comparisons)"]
["x16 = 3607. Unit rate 2 p/kWh (in Tariffs)"]
["x17 = Normalised Rate 2 units (MWh) (in Normalised volumes for comparisons)"]
["x18 = 3607. Unit rate 3 p/kWh (in Tariffs)"]
["x19 = Normalised Rate 3 units (MWh) (in Normalised volumes for comparisons)"]
["x20 = 3607. Reactive power charge p/kVArh (in Tariffs)"]
["x21 = Normalised Reactive power units (MVArh) (in Normalised volumes for comparisons)"]
["Kind:","Calculation","Calculation","Calculation","Calculation","Calculation","Calculation","Calculation"]
["Formula:","=x1/IF(x2=\"kVA\",IF(x3,x3,1),IF(x2=\"MPAN\",IF(x4,x4,1),IF(x5,x5,1)))","=x6/IF(x2=\"kVA\",IF(x3,x3,1),IF(x2=\"MPAN\",IF(x4,x4,1),IF(x5,x5,1)))","=x7/IF(x2=\"kVA\",IF(x3,x3,1),IF(x2=\"MPAN\",IF(x4,x4,1),IF(x5,x5,1)))","=x4/IF(x2=\"kVA\",IF(x3,x3,1),IF(x2=\"MPAN\",IF(x4,x4,1),IF(x5,x5,1)))","=x3/IF(x2=\"kVA\",IF(x3,x3,1),IF(x2=\"MPAN\",IF(x4,x4,1),IF(x5,x5,1)))","=x8/IF(x2=\"kVA\",IF(x3,x3,1),IF(x2=\"MPAN\",IF(x4,x4,1),IF(x5,x5,1)))","=0.01*x9*(x10*x11+x12*x13)+10*(x14*x15+x16*x17+x18*x19+x20*x21)"]
[]
[null,"Normalised Rate 1 units (MWh)","Normalised Rate 2 units (MWh)","Normalised Rate 3 units (MWh)","Normalised MPANs","Normalised Import capacity (kVA)","Normalised Reactive power units (MVArh)","Normalised revenues (£)"]
["Domestic Unrestricted"]
["Domestic Unrestricted",{"$f":"B$55/IF(B$87=\"kVA\",IF(F$55,F$55,1),IF(B$87=\"MPAN\",IF(E$55,E$55,1),IF(H$55,H$55,1)))","v":3.451172478931487},{"$f":"C$55/IF(B$87=\"kVA\",IF(F$55,F$55,1),IF(B$87=\"MPAN\",IF(E$55,E$55,1),IF(H$55,H$55,1)))","v":0},{"$f":"D$55/IF(B$87=\"kVA\",IF(F$55,F$55,1),IF(B$87=\"MPAN\",IF(E$55,E$55,1),IF(H$55,H$55,1)))","v":0},{"$f":"E$55/IF(B$87=\"kVA\",IF(F$55,F$55,1),IF(B$87=\"MPAN\",IF(E$55,E$55,1),IF(H$55,H$55,1)))","v":1},{"$f":"F$55/IF(B$87=\"kVA\",IF(F$55,F$55,1),IF(B$87=\"MPAN\",IF(E$55,E$55,1),IF(H$55,H$55,1)))","v":0},{"$f":"G$55/IF(B$87=\"kVA\",IF(F$55,F$55,1),IF(B$87=\"MPAN\",IF(E$55,E$55,1),IF(H$55,H$55,1)))","v":0},{"$f":"0.01*Input!F$14*(Adjust!$E$227*E144+Adjust!$F$227*F144)+10*(Adjust!$B$227*B144+Adjust!$C$227*C144+Adjust!$D$227*D144+Adjust!$G$227*G144)","v":103.95539821275293}]
["LDNO LV: Domestic Unrestricted",{"$f":"B$55/IF(B$87=\"kVA\",IF(F$55,F$55,1),IF(B$87=\"MPAN\",IF(E$55,E$55,1),IF(H$55,H$55,1)))","v":3.451172478931487},{"$f":"C$55/IF(B$87=\"kVA\",IF(F$55,F$55,1),IF(B$87=\"MPAN\",IF(E$55,E$55,1),IF(H$55,H$55,1)))","v":0},{"$f":"D$55/IF(B$87=\"kVA\",IF(F$55,F$55,1),IF(B$87=\"MPAN\",IF(E$55,E$55,1),IF(H$55,H$55,1)))","v":0},{"$f":"E$55/IF(B$87=\"kVA\",IF(F$55,F$55,1),IF(B$87=\"MPAN\",IF(E$55,E$55,1),IF(H$55,H$55,1)))","v":1},{"$f":"F$55/IF(B$87=\"kVA\",IF(F$55,F$55,1),IF(B$87=\"MPAN\",IF(E$55,E$55,1),IF(H$55,H$55,1)))","v":0},{"$f":"G$55/IF(B$87=\"kVA\",IF(F$55,F$55,1),IF(B$87=\"MPAN\",IF(E$55,E$55,1),IF(H$55,H$55,1)))","v":0},{"$f":"0.01*Input!F$14*(Adjust!$E$228*E145+Adjust!$F$228*F145)+10*(Adjust!$B$228*B145+Adjust!$C$228*C145+Adjust!$D$228*D145+Adjust!$G$228*G145)","v":71.832659078772792}]
["LDNO HV: Domestic Unrestricted",{"$f":"B$55/IF(B$87=\"kVA\",IF(F$55,F$55,1),IF(B$87=\"MPAN\",IF(E$55,E$55,1),IF(H$55,H$55,1)))","v":3.451172478931487},{"$f":"C$55/IF(B$87=\"kVA\",IF(F$55,F$55,1),IF(B$87=\"MPAN\",IF(E$55,E$55,1),IF(H$55,H$55,1)))","v":0},{"$f":"D$55/IF(B$87=\"kVA\",IF(F$55,F$55,1),IF(B$87=\"MPAN\",IF(E$55,E$55,1),IF(H$55,H$55,1)))","v":0},{"$f":"E$55/IF(B$87=\"kVA\",IF(F$55,F$55,1),IF(B$87=\"MPAN\",IF(E$55,E$55,1),IF(H$55,H$55,1)))","v":1},{"$f":"F$55/IF(B$87=\"kVA\",IF(F$55,F$55,1),IF(B$87=\"MPAN\",IF(E$55,E$55,1),IF(H$55,H$55,1)))","v":0},{"$f":"G$55/IF(B$87=\"kVA\",IF(F$55,F$55,1),IF(B$87=\"MPAN\",IF(E$55,E$55,1),IF(H$55,H$55,1)))","v":0},{"$f":"0.01*Input!F$14*(Adjust!$E$229*E146+Adjust!$F$229*F146)+10*(Adjust!$B$229*B146+Adjust!$C$229*C146+Adjust!$D$229*D146+Adjust!$G$229*G146)","v":51.890425656797824}]
["Domestic Two Rate"]
["Domestic Two Rate",{"$f":"B$56/IF(B$88=\"kVA\",IF(F$56,F$56,1),IF(B$88=\"MPAN\",IF(E$56,E$56,1),IF(H$56,H$56,1)))","v":3.0244519682275794},{"$f":"C$56/IF(B$88=\"kVA\",IF(F$56,F$56,1),IF(B$88=\"MPAN\",IF(E$56,E$56,1),IF(H$56,H$56,1)))","v":2.2618377545888966},{"$f":"D$56/IF(B$88=\"kVA\",IF(F$56,F$56,1),IF(B$88=\"MPAN\",IF(E$56,E$56,1),IF(H$56,H$56,1)))","v":0},{"$f":"E$56/IF(B$88=\"kVA\",IF(F$56,F$56,1),IF(B$88=\"MPAN\",IF(E$56,E$56,1),IF(H$56,H$56,1)))","v":1},{"$f":"F$56/IF(B$88=\"kVA\",IF(F$56,F$56,1),IF(B$88=\"MPAN\",IF(E$56,E$56,1),IF(H$56,H$56,1)))","v":0},{"$f":"G$56/IF(B$88=\"kVA\",IF(F$56,F$56,1),IF(B$88=\"MPAN\",IF(E$56,E$56,1),IF(H$56,H$56,1)))","v":0},{"$f":"0.01*Input!F$14*(Adjust!$E$231*E148+Adjust!$F$231*F148)+10*(Adjust!$B$231*B148+Adjust!$C$231*C148+Adjust!$D$231*D148+Adjust!$G$231*G148)","v":107.81107719117276}]
["LDNO LV: Domestic Two Rate",{"$f":"B$56/IF(B$88=\"kVA\",IF(F$56,F$56,1),IF(B$88=\"MPAN\",IF(E$56,E$56,1),IF(H$56,H$56,1)))","v":3.0244519682275794},{"$f":"C$56/IF(B$88=\"kVA\",IF(F$56,F$56,1),IF(B$88=\"MPAN\",IF(E$56,E$56,1),IF(H$56,H$56,1)))","v":2.2618377545888966},{"$f":"D$56/IF(B$88=\"kVA\",IF(F$56,F$56,1),IF(B$88=\"MPAN\",IF(E$56,E$56,1),IF(H$56,H$56,1)))","v":0},{"$f":"E$56/IF(B$88=\"kVA\",IF(F$56,F$56,1),IF(B$88=\"MPAN\",IF(E$56,E$56,1),IF(H$56,H$56,1)))","v":1},{"$f":"F$56/IF(B$88=\"kVA\",IF(F$56,F$56,1),IF(B$88=\"MPAN\",IF(E$56,E$56,1),IF(H$56,H$56,1)))","v":0},{"$f":"G$56/IF(B$88=\"kVA\",IF(F$56,F$56,1),IF(B$88=\"MPAN\",IF(E$56,E$56,1),IF(H$56,H$56,1)))","v":0},{"$f":"0.01*Input!F$14*(Adjust!$E$232*E149+Adjust!$F$232*F149)+10*(Adjust!$B$232*B149+Adjust!$C$232*C149+Adjust!$D$232*D149+Adjust!$G$232*G149)","v":74.501305884694716}]
["LDNO HV: Domestic Two Rate",{"$f":"B$56/IF(B$88=\"kVA\",IF(F$56,F$56,1),IF(B$88=\"MPAN\",IF(E$56,E$56,1),IF(H$56,H$56,1)))","v":3.0244519682275794},{"$f":"C$56/IF(B$88=\"kVA\",IF(F$56,F$56,1),IF(B$88=\"MPAN\",IF(E$56,E$56,1),IF(H$56,H$56,1)))","v":2.2618377545888966},{"$f":"D$56/IF(B$88=\"kVA\",IF(F$56,F$56,1),IF(B$88=\"MPAN\",IF(E$56,E$56,1),IF(H$56,H$56,1)))","v":0},{"$f":"E$56/IF(B$88=\"kVA\",IF(F$56,F$56,1),IF(B$88=\"MPAN\",IF(E$56,E$56,1),IF(H$56,H$56,1)))","v":1},{"$f":"F$56/IF(B$88=\"kVA\",IF(F$56,F$56,1),IF(B$88=\"MPAN\",IF(E$56,E$56,1),IF(H$56,H$56,1)))","v":0},{"$f":"G$56/IF(B$88=\"kVA\",IF(F$56,F$56,1),IF(B$88=\"MPAN\",IF(E$56,E$56,1),IF(H$56,H$56,1)))","v":0},{"$f":"0.01*Input!F$14*(Adjust!$E$233*E150+Adjust!$F$233*F150)+10*(Adjust!$B$233*B150+Adjust!$C$233*C150+Adjust!$D$233*D150+Adjust!$G$233*G150)","v":53.811677296380687}]
["Domestic Off Peak (related MPAN)"]
["Domestic Off Peak (related MPAN)",{"$f":"B$57/IF(B$89=\"kVA\",IF(F$57,F$57,1),IF(B$89=\"MPAN\",IF(E$57,E$57,1),IF(H$57,H$57,1)))","v":36292.302861451186},{"$f":"C$57/IF(B$89=\"kVA\",IF(F$57,F$57,1),IF(B$89=\"MPAN\",IF(E$57,E$57,1),IF(H$57,H$57,1)))","v":0},{"$f":"D$57/IF(B$89=\"kVA\",IF(F$57,F$57,1),IF(B$89=\"MPAN\",IF(E$57,E$57,1),IF(H$57,H$57,1)))","v":0},{"$f":"E$57/IF(B$89=\"kVA\",IF(F$57,F$57,1),IF(B$89=\"MPAN\",IF(E$57,E$57,1),IF(H$57,H$57,1)))","v":0},{"$f":"F$57/IF(B$89=\"kVA\",IF(F$57,F$57,1),IF(B$89=\"MPAN\",IF(E$57,E$57,1),IF(H$57,H$57,1)))","v":0},{"$f":"G$57/IF(B$89=\"kVA\",IF(F$57,F$57,1),IF(B$89=\"MPAN\",IF(E$57,E$57,1),IF(H$57,H$57,1)))","v":0},{"$f":"0.01*Input!F$14*(Adjust!$E$235*E152+Adjust!$F$235*F152)+10*(Adjust!$B$235*B152+Adjust!$C$235*C152+Adjust!$D$235*D152+Adjust!$G$235*G152)","v":76576.759037661992}]
["LDNO LV: Domestic Off Peak (related MPAN)",{"$f":"B$57/IF(B$89=\"kVA\",IF(F$57,F$57,1),IF(B$89=\"MPAN\",IF(E$57,E$57,1),IF(H$57,H$57,1)))","v":36292.302861451186},{"$f":"C$57/IF(B$89=\"kVA\",IF(F$57,F$57,1),IF(B$89=\"MPAN\",IF(E$57,E$57,1),IF(H$57,H$57,1)))","v":0},{"$f":"D$57/IF(B$89=\"kVA\",IF(F$57,F$57,1),IF(B$89=\"MPAN\",IF(E$57,E$57,1),IF(H$57,H$57,1)))","v":0},{"$f":"E$57/IF(B$89=\"kVA\",IF(F$57,F$57,1),IF(B$89=\"MPAN\",IF(E$57,E$57,1),IF(H$57,H$57,1)))","v":0},{"$f":"F$57/IF(B$89=\"kVA\",IF(F$57,F$57,1),IF(B$89=\"MPAN\",IF(E$57,E$57,1),IF(H$57,H$57,1)))","v":0},{"$f":"G$57/IF(B$89=\"kVA\",IF(F$57,F$57,1),IF(B$89=\"MPAN\",IF(E$57,E$57,1),IF(H$57,H$57,1)))","v":0},{"$f":"0.01*Input!F$14*(Adjust!$E$236*E153+Adjust!$F$236*F153)+10*(Adjust!$B$236*B153+Adjust!$C$236*C153+Adjust!$D$236*D153+Adjust!$G$236*G153)","v":52986.762177718731}]
["LDNO HV: Domestic Off Peak (related MPAN)",{"$f":"B$57/IF(B$89=\"kVA\",IF(F$57,F$57,1),IF(B$89=\"MPAN\",IF(E$57,E$57,1),IF(H$57,H$57,1)))","v":36292.302861451186},{"$f":"C$57/IF(B$89=\"kVA\",IF(F$57,F$57,1),IF(B$89=\"MPAN\",IF(E$57,E$57,1),IF(H$57,H$57,1)))","v":0},{"$f":"D$57/IF(B$89=\"kVA\",IF(F$57,F$57,1),IF(B$89=\"MPAN\",IF(E$57,E$57,1),IF(H$57,H$57,1)))","v":0},{"$f":"E$57/IF(B$89=\"kVA\",IF(F$57,F$57,1),IF(B$89=\"MPAN\",IF(E$57,E$57,1),IF(H$57,H$57,1)))","v":0},{"$f":"F$57/IF(B$89=\"kVA\",IF(F$57,F$57,1),IF(B$89=\"MPAN\",IF(E$57,E$57,1),IF(H$57,H$57,1)))","v":0},{"$f":"G$57/IF(B$89=\"kVA\",IF(F$57,F$57,1),IF(B$89=\"MPAN\",IF(E$57,E$57,1),IF(H$57,H$57,1)))","v":0},{"$f":"0.01*Input!F$14*(Adjust!$E$237*E154+Adjust!$F$237*F154)+10*(Adjust!$B$237*B154+Adjust!$C$237*C154+Adjust!$D$237*D154+Adjust!$G$237*G154)","v":38106.918004523744}]
["Small Non Domestic Unrestricted"]
["Small Non Domestic Unrestricted",{"$f":"B$58/IF(B$90=\"kVA\",IF(F$58,F$58,1),IF(B$90=\"MPAN\",IF(E$58,E$58,1),IF(H$58,H$58,1)))","v":11.581656937849372},{"$f":"C$58/IF(B$90=\"kVA\",IF(F$58,F$58,1),IF(B$90=\"MPAN\",IF(E$58,E$58,1),IF(H$58,H$58,1)))","v":0},{"$f":"D$58/IF(B$90=\"kVA\",IF(F$58,F$58,1),IF(B$90=\"MPAN\",IF(E$58,E$58,1),IF(H$58,H$58,1)))","v":0},{"$f":"E$58/IF(B$90=\"kVA\",IF(F$58,F$58,1),IF(B$90=\"MPAN\",IF(E$58,E$58,1),IF(H$58,H$58,1)))","v":1},{"$f":"F$58/IF(B$90=\"kVA\",IF(F$58,F$58,1),IF(B$90=\"MPAN\",IF(E$58,E$58,1),IF(H$58,H$58,1)))","v":0},{"$f":"G$58/IF(B$90=\"kVA\",IF(F$58,F$58,1),IF(B$90=\"MPAN\",IF(E$58,E$58,1),IF(H$58,H$58,1)))","v":0},{"$f":"0.01*Input!F$14*(Adjust!$E$239*E156+Adjust!$F$239*F156)+10*(Adjust!$B$239*B156+Adjust!$C$239*C156+Adjust!$D$239*D156+Adjust!$G$239*G156)","v":260.76293758952937}]
["LDNO LV: Small Non Domestic Unrestricted",{"$f":"B$58/IF(B$90=\"kVA\",IF(F$58,F$58,1),IF(B$90=\"MPAN\",IF(E$58,E$58,1),IF(H$58,H$58,1)))","v":11.581656937849372},{"$f":"C$58/IF(B$90=\"kVA\",IF(F$58,F$58,1),IF(B$90=\"MPAN\",IF(E$58,E$58,1),IF(H$58,H$58,1)))","v":0},{"$f":"D$58/IF(B$90=\"kVA\",IF(F$58,F$58,1),IF(B$90=\"MPAN\",IF(E$58,E$58,1),IF(H$58,H$58,1)))","v":0},{"$f":"E$58/IF(B$90=\"kVA\",IF(F$58,F$58,1),IF(B$90=\"MPAN\",IF(E$58,E$58,1),IF(H$58,H$58,1)))","v":1},{"$f":"F$58/IF(B$90=\"kVA\",IF(F$58,F$58,1),IF(B$90=\"MPAN\",IF(E$58,E$58,1),IF(H$58,H$58,1)))","v":0},{"$f":"G$58/IF(B$90=\"kVA\",IF(F$58,F$58,1),IF(B$90=\"MPAN\",IF(E$58,E$58,1),IF(H$58,H$58,1)))","v":0},{"$f":"0.01*Input!F$14*(Adjust!$E$240*E157+Adjust!$F$240*F157)+10*(Adjust!$B$240*B157+Adjust!$C$240*C157+Adjust!$D$240*D157+Adjust!$G$240*G157)","v":180.26334800548477}]
["LDNO HV: Small Non Domestic Unrestricted",{"$f":"B$58/IF(B$90=\"kVA\",IF(F$58,F$58,1),IF(B$90=\"MPAN\",IF(E$58,E$58,1),IF(H$58,H$58,1)))","v":11.581656937849372},{"$f":"C$58/IF(B$90=\"kVA\",IF(F$58,F$58,1),IF(B$90=\"MPAN\",IF(E$58,E$58,1),IF(H$58,H$58,1)))","v":0},{"$f":"D$58/IF(B$90=\"kVA\",IF(F$58,F$58,1),IF(B$90=\"MPAN\",IF(E$58,E$58,1),IF(H$58,H$58,1)))","v":0},{"$f":"E$58/IF(B$90=\"kVA\",IF(F$58,F$58,1),IF(B$90=\"MPAN\",IF(E$58,E$58,1),IF(H$58,H$58,1)))","v":1},{"$f":"F$58/IF(B$90=\"kVA\",IF(F$58,F$58,1),IF(B$90=\"MPAN\",IF(E$58,E$58,1),IF(H$58,H$58,1)))","v":0},{"$f":"G$58/IF(B$90=\"kVA\",IF(F$58,F$58,1),IF(B$90=\"MPAN\",IF(E$58,E$58,1),IF(H$58,H$58,1)))","v":0},{"$f":"0.01*Input!F$14*(Adjust!$E$241*E158+Adjust!$F$241*F158)+10*(Adjust!$B$241*B158+Adjust!$C$241*C158+Adjust!$D$241*D158+Adjust!$G$241*G158)","v":130.11333565600771}]
["Small Non Domestic Two Rate"]
["Small Non Domestic Two Rate",{"$f":"B$59/IF(B$91=\"kVA\",IF(F$59,F$59,1),IF(B$91=\"MPAN\",IF(E$59,E$59,1),IF(H$59,H$59,1)))","v":13.557637747993066},{"$f":"C$59/IF(B$91=\"kVA\",IF(F$59,F$59,1),IF(B$91=\"MPAN\",IF(E$59,E$59,1),IF(H$59,H$59,1)))","v":6.1594783308509875},{"$f":"D$59/IF(B$91=\"kVA\",IF(F$59,F$59,1),IF(B$91=\"MPAN\",IF(E$59,E$59,1),IF(H$59,H$59,1)))","v":0},{"$f":"E$59/IF(B$91=\"kVA\",IF(F$59,F$59,1),IF(B$91=\"MPAN\",IF(E$59,E$59,1),IF(H$59,H$59,1)))","v":1},{"$f":"F$59/IF(B$91=\"kVA\",IF(F$59,F$59,1),IF(B$91=\"MPAN\",IF(E$59,E$59,1),IF(H$59,H$59,1)))","v":0},{"$f":"G$59/IF(B$91=\"kVA\",IF(F$59,F$59,1),IF(B$91=\"MPAN\",IF(E$59,E$59,1),IF(H$59,H$59,1)))","v":0},{"$f":"0.01*Input!F$14*(Adjust!$E$243*E160+Adjust!$F$243*F160)+10*(Adjust!$B$243*B160+Adjust!$C$243*C160+Adjust!$D$243*D160+Adjust!$G$243*G160)","v":358.91321558283352}]
["LDNO LV: Small Non Domestic Two Rate",{"$f":"B$59/IF(B$91=\"kVA\",IF(F$59,F$59,1),IF(B$91=\"MPAN\",IF(E$59,E$59,1),IF(H$59,H$59,1)))","v":13.557637747993066},{"$f":"C$59/IF(B$91=\"kVA\",IF(F$59,F$59,1),IF(B$91=\"MPAN\",IF(E$59,E$59,1),IF(H$59,H$59,1)))","v":6.1594783308509875},{"$f":"D$59/IF(B$91=\"kVA\",IF(F$59,F$59,1),IF(B$91=\"MPAN\",IF(E$59,E$59,1),IF(H$59,H$59,1)))","v":0},{"$f":"E$59/IF(B$91=\"kVA\",IF(F$59,F$59,1),IF(B$91=\"MPAN\",IF(E$59,E$59,1),IF(H$59,H$59,1)))","v":1},{"$f":"F$59/IF(B$91=\"kVA\",IF(F$59,F$59,1),IF(B$91=\"MPAN\",IF(E$59,E$59,1),IF(H$59,H$59,1)))","v":0},{"$f":"G$59/IF(B$91=\"kVA\",IF(F$59,F$59,1),IF(B$91=\"MPAN\",IF(E$59,E$59,1),IF(H$59,H$59,1)))","v":0},{"$f":"0.01*Input!F$14*(Adjust!$E$244*E161+Adjust!$F$244*F161)+10*(Adjust!$B$244*B161+Adjust!$C$244*C161+Adjust!$D$244*D161+Adjust!$G$244*G161)","v":248.08737115425811}]
["LDNO HV: Small Non Domestic Two Rate",{"$f":"B$59/IF(B$91=\"kVA\",IF(F$59,F$59,1),IF(B$91=\"MPAN\",IF(E$59,E$59,1),IF(H$59,H$59,1)))","v":13.557637747993066},{"$f":"C$59/IF(B$91=\"kVA\",IF(F$59,F$59,1),IF(B$91=\"MPAN\",IF(E$59,E$59,1),IF(H$59,H$59,1)))","v":6.1594783308509875},{"$f":"D$59/IF(B$91=\"kVA\",IF(F$59,F$59,1),IF(B$91=\"MPAN\",IF(E$59,E$59,1),IF(H$59,H$59,1)))","v":0},{"$f":"E$59/IF(B$91=\"kVA\",IF(F$59,F$59,1),IF(B$91=\"MPAN\",IF(E$59,E$59,1),IF(H$59,H$59,1)))","v":1},{"$f":"F$59/IF(B$91=\"kVA\",IF(F$59,F$59,1),IF(B$91=\"MPAN\",IF(E$59,E$59,1),IF(H$59,H$59,1)))","v":0},{"$f":"G$59/IF(B$91=\"kVA\",IF(F$59,F$59,1),IF(B$91=\"MPAN\",IF(E$59,E$59,1),IF(H$59,H$59,1)))","v":0},{"$f":"0.01*Input!F$14*(Adjust!$E$245*E162+Adjust!$F$245*F162)+10*(Adjust!$B$245*B162+Adjust!$C$245*C162+Adjust!$D$245*D162+Adjust!$G$245*G162)","v":179.14895503645687}]
["Small Non Domestic Off Peak (related MPAN)"]
["Small Non Domestic Off Peak (related MPAN)",{"$f":"B$60/IF(B$92=\"kVA\",IF(F$60,F$60,1),IF(B$92=\"MPAN\",IF(E$60,E$60,1),IF(H$60,H$60,1)))","v":6149.4136827174971},{"$f":"C$60/IF(B$92=\"kVA\",IF(F$60,F$60,1),IF(B$92=\"MPAN\",IF(E$60,E$60,1),IF(H$60,H$60,1)))","v":0},{"$f":"D$60/IF(B$92=\"kVA\",IF(F$60,F$60,1),IF(B$92=\"MPAN\",IF(E$60,E$60,1),IF(H$60,H$60,1)))","v":0},{"$f":"E$60/IF(B$92=\"kVA\",IF(F$60,F$60,1),IF(B$92=\"MPAN\",IF(E$60,E$60,1),IF(H$60,H$60,1)))","v":0},{"$f":"F$60/IF(B$92=\"kVA\",IF(F$60,F$60,1),IF(B$92=\"MPAN\",IF(E$60,E$60,1),IF(H$60,H$60,1)))","v":0},{"$f":"G$60/IF(B$92=\"kVA\",IF(F$60,F$60,1),IF(B$92=\"MPAN\",IF(E$60,E$60,1),IF(H$60,H$60,1)))","v":0},{"$f":"0.01*Input!F$14*(Adjust!$E$247*E164+Adjust!$F$247*F164)+10*(Adjust!$B$247*B164+Adjust!$C$247*C164+Adjust!$D$247*D164+Adjust!$G$247*G164)","v":21645.936163165588}]
["LDNO LV: Small Non Domestic Off Peak (related MPAN)",{"$f":"B$60/IF(B$92=\"kVA\",IF(F$60,F$60,1),IF(B$92=\"MPAN\",IF(E$60,E$60,1),IF(H$60,H$60,1)))","v":6149.4136827174971},{"$f":"C$60/IF(B$92=\"kVA\",IF(F$60,F$60,1),IF(B$92=\"MPAN\",IF(E$60,E$60,1),IF(H$60,H$60,1)))","v":0},{"$f":"D$60/IF(B$92=\"kVA\",IF(F$60,F$60,1),IF(B$92=\"MPAN\",IF(E$60,E$60,1),IF(H$60,H$60,1)))","v":0},{"$f":"E$60/IF(B$92=\"kVA\",IF(F$60,F$60,1),IF(B$92=\"MPAN\",IF(E$60,E$60,1),IF(H$60,H$60,1)))","v":0},{"$f":"F$60/IF(B$92=\"kVA\",IF(F$60,F$60,1),IF(B$92=\"MPAN\",IF(E$60,E$60,1),IF(H$60,H$60,1)))","v":0},{"$f":"G$60/IF(B$92=\"kVA\",IF(F$60,F$60,1),IF(B$92=\"MPAN\",IF(E$60,E$60,1),IF(H$60,H$60,1)))","v":0},{"$f":"0.01*Input!F$14*(Adjust!$E$248*E165+Adjust!$F$248*F165)+10*(Adjust!$B$248*B165+Adjust!$C$248*C165+Adjust!$D$248*D165+Adjust!$G$248*G165)","v":14943.075249003519}]
["LDNO HV: Small Non Domestic Off Peak (related MPAN)",{"$f":"B$60/IF(B$92=\"kVA\",IF(F$60,F$60,1),IF(B$92=\"MPAN\",IF(E$60,E$60,1),IF(H$60,H$60,1)))","v":6149.4136827174971},{"$f":"C$60/IF(B$92=\"kVA\",IF(F$60,F$60,1),IF(B$92=\"MPAN\",IF(E$60,E$60,1),IF(H$60,H$60,1)))","v":0},{"$f":"D$60/IF(B$92=\"kVA\",IF(F$60,F$60,1),IF(B$92=\"MPAN\",IF(E$60,E$60,1),IF(H$60,H$60,1)))","v":0},{"$f":"E$60/IF(B$92=\"kVA\",IF(F$60,F$60,1),IF(B$92=\"MPAN\",IF(E$60,E$60,1),IF(H$60,H$60,1)))","v":0},{"$f":"F$60/IF(B$92=\"kVA\",IF(F$60,F$60,1),IF(B$92=\"MPAN\",IF(E$60,E$60,1),IF(H$60,H$60,1)))","v":0},{"$f":"G$60/IF(B$92=\"kVA\",IF(F$60,F$60,1),IF(B$92=\"MPAN\",IF(E$60,E$60,1),IF(H$60,H$60,1)))","v":0},{"$f":"0.01*Input!F$14*(Adjust!$E$249*E166+Adjust!$F$249*F166)+10*(Adjust!$B$249*B166+Adjust!$C$249*C166+Adjust!$D$249*D166+Adjust!$G$249*G166)","v":10822.968081582794}]
["LV Medium Non-Domestic"]
["LV Medium Non-Domestic",{"$f":"B$61/IF(B$93=\"kVA\",IF(F$61,F$61,1),IF(B$93=\"MPAN\",IF(E$61,E$61,1),IF(H$61,H$61,1)))","v":67.921604102166839},{"$f":"C$61/IF(B$93=\"kVA\",IF(F$61,F$61,1),IF(B$93=\"MPAN\",IF(E$61,E$61,1),IF(H$61,H$61,1)))","v":16.400068536550105},{"$f":"D$61/IF(B$93=\"kVA\",IF(F$61,F$61,1),IF(B$93=\"MPAN\",IF(E$61,E$61,1),IF(H$61,H$61,1)))","v":0},{"$f":"E$61/IF(B$93=\"kVA\",IF(F$61,F$61,1),IF(B$93=\"MPAN\",IF(E$61,E$61,1),IF(H$61,H$61,1)))","v":1},{"$f":"F$61/IF(B$93=\"kVA\",IF(F$61,F$61,1),IF(B$93=\"MPAN\",IF(E$61,E$61,1),IF(H$61,H$61,1)))","v":0},{"$f":"G$61/IF(B$93=\"kVA\",IF(F$61,F$61,1),IF(B$93=\"MPAN\",IF(E$61,E$61,1),IF(H$61,H$61,1)))","v":0},{"$f":"0.01*Input!F$14*(Adjust!$E$251*E168+Adjust!$F$251*F168)+10*(Adjust!$B$251*B168+Adjust!$C$251*C168+Adjust!$D$251*D168+Adjust!$G$251*G168)","v":1720.6208983458309}]
["LDNO LV: LV Medium Non-Domestic",{"$f":"B$61/IF(B$93=\"kVA\",IF(F$61,F$61,1),IF(B$93=\"MPAN\",IF(E$61,E$61,1),IF(H$61,H$61,1)))","v":67.921604102166839},{"$f":"C$61/IF(B$93=\"kVA\",IF(F$61,F$61,1),IF(B$93=\"MPAN\",IF(E$61,E$61,1),IF(H$61,H$61,1)))","v":16.400068536550105},{"$f":"D$61/IF(B$93=\"kVA\",IF(F$61,F$61,1),IF(B$93=\"MPAN\",IF(E$61,E$61,1),IF(H$61,H$61,1)))","v":0},{"$f":"E$61/IF(B$93=\"kVA\",IF(F$61,F$61,1),IF(B$93=\"MPAN\",IF(E$61,E$61,1),IF(H$61,H$61,1)))","v":1},{"$f":"F$61/IF(B$93=\"kVA\",IF(F$61,F$61,1),IF(B$93=\"MPAN\",IF(E$61,E$61,1),IF(H$61,H$61,1)))","v":0},{"$f":"G$61/IF(B$93=\"kVA\",IF(F$61,F$61,1),IF(B$93=\"MPAN\",IF(E$61,E$61,1),IF(H$61,H$61,1)))","v":0},{"$f":"0.01*Input!F$14*(Adjust!$E$252*E169+Adjust!$F$252*F169)+10*(Adjust!$B$252*B169+Adjust!$C$252*C169+Adjust!$D$252*D169+Adjust!$G$252*G169)","v":1189.279842592513}]
["LDNO HV: LV Medium Non-Domestic",{"$f":"B$61/IF(B$93=\"kVA\",IF(F$61,F$61,1),IF(B$93=\"MPAN\",IF(E$61,E$61,1),IF(H$61,H$61,1)))","v":67.921604102166839},{"$f":"C$61/IF(B$93=\"kVA\",IF(F$61,F$61,1),IF(B$93=\"MPAN\",IF(E$61,E$61,1),IF(H$61,H$61,1)))","v":16.400068536550105},{"$f":"D$61/IF(B$93=\"kVA\",IF(F$61,F$61,1),IF(B$93=\"MPAN\",IF(E$61,E$61,1),IF(H$61,H$61,1)))","v":0},{"$f":"E$61/IF(B$93=\"kVA\",IF(F$61,F$61,1),IF(B$93=\"MPAN\",IF(E$61,E$61,1),IF(H$61,H$61,1)))","v":1},{"$f":"F$61/IF(B$93=\"kVA\",IF(F$61,F$61,1),IF(B$93=\"MPAN\",IF(E$61,E$61,1),IF(H$61,H$61,1)))","v":0},{"$f":"G$61/IF(B$93=\"kVA\",IF(F$61,F$61,1),IF(B$93=\"MPAN\",IF(E$61,E$61,1),IF(H$61,H$61,1)))","v":0},{"$f":"0.01*Input!F$14*(Adjust!$E$253*E170+Adjust!$F$253*F170)+10*(Adjust!$B$253*B170+Adjust!$C$253*C170+Adjust!$D$253*D170+Adjust!$G$253*G170)","v":859.10012476870031}]
["LV Sub Medium Non-Domestic"]
["LV Sub Medium Non-Domestic",{"$f":"B$62/IF(B$94=\"kVA\",IF(F$62,F$62,1),IF(B$94=\"MPAN\",IF(E$62,E$62,1),IF(H$62,H$62,1)))","v":28.813633625347563},{"$f":"C$62/IF(B$94=\"kVA\",IF(F$62,F$62,1),IF(B$94=\"MPAN\",IF(E$62,E$62,1),IF(H$62,H$62,1)))","v":7.5671873536008567},{"$f":"D$62/IF(B$94=\"kVA\",IF(F$62,F$62,1),IF(B$94=\"MPAN\",IF(E$62,E$62,1),IF(H$62,H$62,1)))","v":0},{"$f":"E$62/IF(B$94=\"kVA\",IF(F$62,F$62,1),IF(B$94=\"MPAN\",IF(E$62,E$62,1),IF(H$62,H$62,1)))","v":1},{"$f":"F$62/IF(B$94=\"kVA\",IF(F$62,F$62,1),IF(B$94=\"MPAN\",IF(E$62,E$62,1),IF(H$62,H$62,1)))","v":0},{"$f":"G$62/IF(B$94=\"kVA\",IF(F$62,F$62,1),IF(B$94=\"MPAN\",IF(E$62,E$62,1),IF(H$62,H$62,1)))","v":0},{"$f":"0.01*Input!F$14*(Adjust!$E$255*E172+Adjust!$F$255*F172)+10*(Adjust!$B$255*B172+Adjust!$C$255*C172+Adjust!$D$255*D172+Adjust!$G$255*G172)","v":674.5198375810312}]
["HV Medium Non-Domestic"]
["HV Medium Non-Domestic",{"$f":"B$63/IF(B$95=\"kVA\",IF(F$63,F$63,1),IF(B$95=\"MPAN\",IF(E$63,E$63,1),IF(H$63,H$63,1)))","v":125.97479470812682},{"$f":"C$63/IF(B$95=\"kVA\",IF(F$63,F$63,1),IF(B$95=\"MPAN\",IF(E$63,E$63,1),IF(H$63,H$63,1)))","v":34.565101426128258},{"$f":"D$63/IF(B$95=\"kVA\",IF(F$63,F$63,1),IF(B$95=\"MPAN\",IF(E$63,E$63,1),IF(H$63,H$63,1)))","v":0},{"$f":"E$63/IF(B$95=\"kVA\",IF(F$63,F$63,1),IF(B$95=\"MPAN\",IF(E$63,E$63,1),IF(H$63,H$63,1)))","v":1},{"$f":"F$63/IF(B$95=\"kVA\",IF(F$63,F$63,1),IF(B$95=\"MPAN\",IF(E$63,E$63,1),IF(H$63,H$63,1)))","v":0},{"$f":"G$63/IF(B$95=\"kVA\",IF(F$63,F$63,1),IF(B$95=\"MPAN\",IF(E$63,E$63,1),IF(H$63,H$63,1)))","v":0},{"$f":"0.01*Input!F$14*(Adjust!$E$257*E174+Adjust!$F$257*F174)+10*(Adjust!$B$257*B174+Adjust!$C$257*C174+Adjust!$D$257*D174+Adjust!$G$257*G174)","v":2696.4315064148027}]
["LV HH Metered"]
["LV HH Metered",{"$f":"B$64/IF(B$96=\"kVA\",IF(F$64,F$64,1),IF(B$96=\"MPAN\",IF(E$64,E$64,1),IF(H$64,H$64,1)))","v":0.20441344133383796},{"$f":"C$64/IF(B$96=\"kVA\",IF(F$64,F$64,1),IF(B$96=\"MPAN\",IF(E$64,E$64,1),IF(H$64,H$64,1)))","v":0.81411117144097622},{"$f":"D$64/IF(B$96=\"kVA\",IF(F$64,F$64,1),IF(B$96=\"MPAN\",IF(E$64,E$64,1),IF(H$64,H$64,1)))","v":0.83873144377412634},{"$f":"E$64/IF(B$96=\"kVA\",IF(F$64,F$64,1),IF(B$96=\"MPAN\",IF(E$64,E$64,1),IF(H$64,H$64,1)))","v":6.3706560856358089E-3},{"$f":"F$64/IF(B$96=\"kVA\",IF(F$64,F$64,1),IF(B$96=\"MPAN\",IF(E$64,E$64,1),IF(H$64,H$64,1)))","v":1},{"$f":"G$64/IF(B$96=\"kVA\",IF(F$64,F$64,1),IF(B$96=\"MPAN\",IF(E$64,E$64,1),IF(H$64,H$64,1)))","v":0.16740342685656154},{"$f":"0.01*Input!F$14*(Adjust!$E$259*E176+Adjust!$F$259*F176)+10*(Adjust!$B$259*B176+Adjust!$C$259*C176+Adjust!$D$259*D176+Adjust!$G$259*G176)","v":42.098562924567496}]
["LDNO LV: LV HH Metered",{"$f":"B$64/IF(B$96=\"kVA\",IF(F$64,F$64,1),IF(B$96=\"MPAN\",IF(E$64,E$64,1),IF(H$64,H$64,1)))","v":0.20441344133383796},{"$f":"C$64/IF(B$96=\"kVA\",IF(F$64,F$64,1),IF(B$96=\"MPAN\",IF(E$64,E$64,1),IF(H$64,H$64,1)))","v":0.81411117144097622},{"$f":"D$64/IF(B$96=\"kVA\",IF(F$64,F$64,1),IF(B$96=\"MPAN\",IF(E$64,E$64,1),IF(H$64,H$64,1)))","v":0.83873144377412634},{"$f":"E$64/IF(B$96=\"kVA\",IF(F$64,F$64,1),IF(B$96=\"MPAN\",IF(E$64,E$64,1),IF(H$64,H$64,1)))","v":6.3706560856358089E-3},{"$f":"F$64/IF(B$96=\"kVA\",IF(F$64,F$64,1),IF(B$96=\"MPAN\",IF(E$64,E$64,1),IF(H$64,H$64,1)))","v":1},{"$f":"G$64/IF(B$96=\"kVA\",IF(F$64,F$64,1),IF(B$96=\"MPAN\",IF(E$64,E$64,1),IF(H$64,H$64,1)))","v":0.16740342685656154},{"$f":"0.01*Input!F$14*(Adjust!$E$260*E177+Adjust!$F$260*F177)+10*(Adjust!$B$260*B177+Adjust!$C$260*C177+Adjust!$D$260*D177+Adjust!$G$260*G177)","v":29.08708403113453}]
["LDNO HV: LV HH Metered",{"$f":"B$64/IF(B$96=\"kVA\",IF(F$64,F$64,1),IF(B$96=\"MPAN\",IF(E$64,E$64,1),IF(H$64,H$64,1)))","v":0.20441344133383796},{"$f":"C$64/IF(B$96=\"kVA\",IF(F$64,F$64,1),IF(B$96=\"MPAN\",IF(E$64,E$64,1),IF(H$64,H$64,1)))","v":0.81411117144097622},{"$f":"D$64/IF(B$96=\"kVA\",IF(F$64,F$64,1),IF(B$96=\"MPAN\",IF(E$64,E$64,1),IF(H$64,H$64,1)))","v":0.83873144377412634},{"$f":"E$64/IF(B$96=\"kVA\",IF(F$64,F$64,1),IF(B$96=\"MPAN\",IF(E$64,E$64,1),IF(H$64,H$64,1)))","v":6.3706560856358089E-3},{"$f":"F$64/IF(B$96=\"kVA\",IF(F$64,F$64,1),IF(B$96=\"MPAN\",IF(E$64,E$64,1),IF(H$64,H$64,1)))","v":1},{"$f":"G$64/IF(B$96=\"kVA\",IF(F$64,F$64,1),IF(B$96=\"MPAN\",IF(E$64,E$64,1),IF(H$64,H$64,1)))","v":0.16740342685656154},{"$f":"0.01*Input!F$14*(Adjust!$E$261*E178+Adjust!$F$261*F178)+10*(Adjust!$B$261*B178+Adjust!$C$261*C178+Adjust!$D$261*D178+Adjust!$G$261*G178)","v":21.008516217831762}]
["LV Sub HH Metered"]
["LV Sub HH Metered",{"$f":"B$65/IF(B$97=\"kVA\",IF(F$65,F$65,1),IF(B$97=\"MPAN\",IF(E$65,E$65,1),IF(H$65,H$65,1)))","v":0.12991268091496572},{"$f":"C$65/IF(B$97=\"kVA\",IF(F$65,F$65,1),IF(B$97=\"MPAN\",IF(E$65,E$65,1),IF(H$65,H$65,1)))","v":0.48023296925978393},{"$f":"D$65/IF(B$97=\"kVA\",IF(F$65,F$65,1),IF(B$97=\"MPAN\",IF(E$65,E$65,1),IF(H$65,H$65,1)))","v":0.59617778802477439},{"$f":"E$65/IF(B$97=\"kVA\",IF(F$65,F$65,1),IF(B$97=\"MPAN\",IF(E$65,E$65,1),IF(H$65,H$65,1)))","v":1.9587840188235294E-3},{"$f":"F$65/IF(B$97=\"kVA\",IF(F$65,F$65,1),IF(B$97=\"MPAN\",IF(E$65,E$65,1),IF(H$65,H$65,1)))","v":1},{"$f":"G$65/IF(B$97=\"kVA\",IF(F$65,F$65,1),IF(B$97=\"MPAN\",IF(E$65,E$65,1),IF(H$65,H$65,1)))","v":3.5476705882352945E-2},{"$f":"0.01*Input!F$14*(Adjust!$E$263*E180+Adjust!$F$263*F180)+10*(Adjust!$B$263*B180+Adjust!$C$263*C180+Adjust!$D$263*D180+Adjust!$G$263*G180)","v":31.839161550873378}]
["LDNO HV: LV Sub HH Metered",{"$f":"B$65/IF(B$97=\"kVA\",IF(F$65,F$65,1),IF(B$97=\"MPAN\",IF(E$65,E$65,1),IF(H$65,H$65,1)))","v":0.12991268091496572},{"$f":"C$65/IF(B$97=\"kVA\",IF(F$65,F$65,1),IF(B$97=\"MPAN\",IF(E$65,E$65,1),IF(H$65,H$65,1)))","v":0.48023296925978393},{"$f":"D$65/IF(B$97=\"kVA\",IF(F$65,F$65,1),IF(B$97=\"MPAN\",IF(E$65,E$65,1),IF(H$65,H$65,1)))","v":0.59617778802477439},{"$f":"E$65/IF(B$97=\"kVA\",IF(F$65,F$65,1),IF(B$97=\"MPAN\",IF(E$65,E$65,1),IF(H$65,H$65,1)))","v":1.9587840188235294E-3},{"$f":"F$65/IF(B$97=\"kVA\",IF(F$65,F$65,1),IF(B$97=\"MPAN\",IF(E$65,E$65,1),IF(H$65,H$65,1)))","v":1},{"$f":"G$65/IF(B$97=\"kVA\",IF(F$65,F$65,1),IF(B$97=\"MPAN\",IF(E$65,E$65,1),IF(H$65,H$65,1)))","v":3.5476705882352945E-2},{"$f":"0.01*Input!F$14*(Adjust!$E$264*E181+Adjust!$F$264*F181)+10*(Adjust!$B$264*B181+Adjust!$C$264*C181+Adjust!$D$264*D181+Adjust!$G$264*G181)","v":23.738452852488408}]
["HV HH Metered"]
["HV HH Metered",{"$f":"B$66/IF(B$98=\"kVA\",IF(F$66,F$66,1),IF(B$98=\"MPAN\",IF(E$66,E$66,1),IF(H$66,H$66,1)))","v":0.26497947029098801},{"$f":"C$66/IF(B$98=\"kVA\",IF(F$66,F$66,1),IF(B$98=\"MPAN\",IF(E$66,E$66,1),IF(H$66,H$66,1)))","v":1.0577422305364244},{"$f":"D$66/IF(B$98=\"kVA\",IF(F$66,F$66,1),IF(B$98=\"MPAN\",IF(E$66,E$66,1),IF(H$66,H$66,1)))","v":1.3457161060735092},{"$f":"E$66/IF(B$98=\"kVA\",IF(F$66,F$66,1),IF(B$98=\"MPAN\",IF(E$66,E$66,1),IF(H$66,H$66,1)))","v":1.3434042022589629E-3},{"$f":"F$66/IF(B$98=\"kVA\",IF(F$66,F$66,1),IF(B$98=\"MPAN\",IF(E$66,E$66,1),IF(H$66,H$66,1)))","v":1},{"$f":"G$66/IF(B$98=\"kVA\",IF(F$66,F$66,1),IF(B$98=\"MPAN\",IF(E$66,E$66,1),IF(H$66,H$66,1)))","v":0.35987847497389491},{"$f":"0.01*Input!F$14*(Adjust!$E$266*E183+Adjust!$F$266*F183)+10*(Adjust!$B$266*B183+Adjust!$C$266*C183+Adjust!$D$266*D183+Adjust!$G$266*G183)","v":39.39204837807965}]
["LDNO HV: HV HH Metered",{"$f":"B$66/IF(B$98=\"kVA\",IF(F$66,F$66,1),IF(B$98=\"MPAN\",IF(E$66,E$66,1),IF(H$66,H$66,1)))","v":0.26497947029098801},{"$f":"C$66/IF(B$98=\"kVA\",IF(F$66,F$66,1),IF(B$98=\"MPAN\",IF(E$66,E$66,1),IF(H$66,H$66,1)))","v":1.0577422305364244},{"$f":"D$66/IF(B$98=\"kVA\",IF(F$66,F$66,1),IF(B$98=\"MPAN\",IF(E$66,E$66,1),IF(H$66,H$66,1)))","v":1.3457161060735092},{"$f":"E$66/IF(B$98=\"kVA\",IF(F$66,F$66,1),IF(B$98=\"MPAN\",IF(E$66,E$66,1),IF(H$66,H$66,1)))","v":1.3434042022589629E-3},{"$f":"F$66/IF(B$98=\"kVA\",IF(F$66,F$66,1),IF(B$98=\"MPAN\",IF(E$66,E$66,1),IF(H$66,H$66,1)))","v":1},{"$f":"G$66/IF(B$98=\"kVA\",IF(F$66,F$66,1),IF(B$98=\"MPAN\",IF(E$66,E$66,1),IF(H$66,H$66,1)))","v":0.35987847497389491},{"$f":"0.01*Input!F$14*(Adjust!$E$267*E184+Adjust!$F$267*F184)+10*(Adjust!$B$267*B184+Adjust!$C$267*C184+Adjust!$D$267*D184+Adjust!$G$267*G184)","v":33.411985093047804}]
["HV Sub HH Metered"]
["HV Sub HH Metered",{"$f":"B$67/IF(B$99=\"kVA\",IF(F$67,F$67,1),IF(B$99=\"MPAN\",IF(E$67,E$67,1),IF(H$67,H$67,1)))","v":0},{"$f":"C$67/IF(B$99=\"kVA\",IF(F$67,F$67,1),IF(B$99=\"MPAN\",IF(E$67,E$67,1),IF(H$67,H$67,1)))","v":0},{"$f":"D$67/IF(B$99=\"kVA\",IF(F$67,F$67,1),IF(B$99=\"MPAN\",IF(E$67,E$67,1),IF(H$67,H$67,1)))","v":0},{"$f":"E$67/IF(B$99=\"kVA\",IF(F$67,F$67,1),IF(B$99=\"MPAN\",IF(E$67,E$67,1),IF(H$67,H$67,1)))","v":0},{"$f":"F$67/IF(B$99=\"kVA\",IF(F$67,F$67,1),IF(B$99=\"MPAN\",IF(E$67,E$67,1),IF(H$67,H$67,1)))","v":0},{"$f":"G$67/IF(B$99=\"kVA\",IF(F$67,F$67,1),IF(B$99=\"MPAN\",IF(E$67,E$67,1),IF(H$67,H$67,1)))","v":0},{"$f":"0.01*Input!F$14*(Adjust!$E$269*E186+Adjust!$F$269*F186)+10*(Adjust!$B$269*B186+Adjust!$C$269*C186+Adjust!$D$269*D186+Adjust!$G$269*G186)","v":0}]
["NHH UMS category A"]
["NHH UMS category A",{"$f":"B$68/IF(B$100=\"kVA\",IF(F$68,F$68,1),IF(B$100=\"MPAN\",IF(E$68,E$68,1),IF(H$68,H$68,1)))","v":1},{"$f":"C$68/IF(B$100=\"kVA\",IF(F$68,F$68,1),IF(B$100=\"MPAN\",IF(E$68,E$68,1),IF(H$68,H$68,1)))","v":0},{"$f":"D$68/IF(B$100=\"kVA\",IF(F$68,F$68,1),IF(B$100=\"MPAN\",IF(E$68,E$68,1),IF(H$68,H$68,1)))","v":0},{"$f":"E$68/IF(B$100=\"kVA\",IF(F$68,F$68,1),IF(B$100=\"MPAN\",IF(E$68,E$68,1),IF(H$68,H$68,1)))","v":0},{"$f":"F$68/IF(B$100=\"kVA\",IF(F$68,F$68,1),IF(B$100=\"MPAN\",IF(E$68,E$68,1),IF(H$68,H$68,1)))","v":0},{"$f":"G$68/IF(B$100=\"kVA\",IF(F$68,F$68,1),IF(B$100=\"MPAN\",IF(E$68,E$68,1),IF(H$68,H$68,1)))","v":0},{"$f":"0.01*Input!F$14*(Adjust!$E$271*E188+Adjust!$F$271*F188)+10*(Adjust!$B$271*B188+Adjust!$C$271*C188+Adjust!$D$271*D188+Adjust!$G$271*G188)","v":22.61}]
["LDNO LV: NHH UMS category A",{"$f":"B$68/IF(B$100=\"kVA\",IF(F$68,F$68,1),IF(B$100=\"MPAN\",IF(E$68,E$68,1),IF(H$68,H$68,1)))","v":1},{"$f":"C$68/IF(B$100=\"kVA\",IF(F$68,F$68,1),IF(B$100=\"MPAN\",IF(E$68,E$68,1),IF(H$68,H$68,1)))","v":0},{"$f":"D$68/IF(B$100=\"kVA\",IF(F$68,F$68,1),IF(B$100=\"MPAN\",IF(E$68,E$68,1),IF(H$68,H$68,1)))","v":0},{"$f":"E$68/IF(B$100=\"kVA\",IF(F$68,F$68,1),IF(B$100=\"MPAN\",IF(E$68,E$68,1),IF(H$68,H$68,1)))","v":0},{"$f":"F$68/IF(B$100=\"kVA\",IF(F$68,F$68,1),IF(B$100=\"MPAN\",IF(E$68,E$68,1),IF(H$68,H$68,1)))","v":0},{"$f":"G$68/IF(B$100=\"kVA\",IF(F$68,F$68,1),IF(B$100=\"MPAN\",IF(E$68,E$68,1),IF(H$68,H$68,1)))","v":0},{"$f":"0.01*Input!F$14*(Adjust!$E$272*E189+Adjust!$F$272*F189)+10*(Adjust!$B$272*B189+Adjust!$C$272*C189+Adjust!$D$272*D189+Adjust!$G$272*G189)","v":15.629999999999999}]
["LDNO HV: NHH UMS category A",{"$f":"B$68/IF(B$100=\"kVA\",IF(F$68,F$68,1),IF(B$100=\"MPAN\",IF(E$68,E$68,1),IF(H$68,H$68,1)))","v":1},{"$f":"C$68/IF(B$100=\"kVA\",IF(F$68,F$68,1),IF(B$100=\"MPAN\",IF(E$68,E$68,1),IF(H$68,H$68,1)))","v":0},{"$f":"D$68/IF(B$100=\"kVA\",IF(F$68,F$68,1),IF(B$100=\"MPAN\",IF(E$68,E$68,1),IF(H$68,H$68,1)))","v":0},{"$f":"E$68/IF(B$100=\"kVA\",IF(F$68,F$68,1),IF(B$100=\"MPAN\",IF(E$68,E$68,1),IF(H$68,H$68,1)))","v":0},{"$f":"F$68/IF(B$100=\"kVA\",IF(F$68,F$68,1),IF(B$100=\"MPAN\",IF(E$68,E$68,1),IF(H$68,H$68,1)))","v":0},{"$f":"G$68/IF(B$100=\"kVA\",IF(F$68,F$68,1),IF(B$100=\"MPAN\",IF(E$68,E$68,1),IF(H$68,H$68,1)))","v":0},{"$f":"0.01*Input!F$14*(Adjust!$E$273*E190+Adjust!$F$273*F190)+10*(Adjust!$B$273*B190+Adjust!$C$273*C190+Adjust!$D$273*D190+Adjust!$G$273*G190)","v":11.29}]
["NHH UMS category B"]
["NHH UMS category B",{"$f":"B$69/IF(B$101=\"kVA\",IF(F$69,F$69,1),IF(B$101=\"MPAN\",IF(E$69,E$69,1),IF(H$69,H$69,1)))","v":1},{"$f":"C$69/IF(B$101=\"kVA\",IF(F$69,F$69,1),IF(B$101=\"MPAN\",IF(E$69,E$69,1),IF(H$69,H$69,1)))","v":0},{"$f":"D$69/IF(B$101=\"kVA\",IF(F$69,F$69,1),IF(B$101=\"MPAN\",IF(E$69,E$69,1),IF(H$69,H$69,1)))","v":0},{"$f":"E$69/IF(B$101=\"kVA\",IF(F$69,F$69,1),IF(B$101=\"MPAN\",IF(E$69,E$69,1),IF(H$69,H$69,1)))","v":0},{"$f":"F$69/IF(B$101=\"kVA\",IF(F$69,F$69,1),IF(B$101=\"MPAN\",IF(E$69,E$69,1),IF(H$69,H$69,1)))","v":0},{"$f":"G$69/IF(B$101=\"kVA\",IF(F$69,F$69,1),IF(B$101=\"MPAN\",IF(E$69,E$69,1),IF(H$69,H$69,1)))","v":0},{"$f":"0.01*Input!F$14*(Adjust!$E$275*E192+Adjust!$F$275*F192)+10*(Adjust!$B$275*B192+Adjust!$C$275*C192+Adjust!$D$275*D192+Adjust!$G$275*G192)","v":22.63}]
["LDNO LV: NHH UMS category B",{"$f":"B$69/IF(B$101=\"kVA\",IF(F$69,F$69,1),IF(B$101=\"MPAN\",IF(E$69,E$69,1),IF(H$69,H$69,1)))","v":1},{"$f":"C$69/IF(B$101=\"kVA\",IF(F$69,F$69,1),IF(B$101=\"MPAN\",IF(E$69,E$69,1),IF(H$69,H$69,1)))","v":0},{"$f":"D$69/IF(B$101=\"kVA\",IF(F$69,F$69,1),IF(B$101=\"MPAN\",IF(E$69,E$69,1),IF(H$69,H$69,1)))","v":0},{"$f":"E$69/IF(B$101=\"kVA\",IF(F$69,F$69,1),IF(B$101=\"MPAN\",IF(E$69,E$69,1),IF(H$69,H$69,1)))","v":0},{"$f":"F$69/IF(B$101=\"kVA\",IF(F$69,F$69,1),IF(B$101=\"MPAN\",IF(E$69,E$69,1),IF(H$69,H$69,1)))","v":0},{"$f":"G$69/IF(B$101=\"kVA\",IF(F$69,F$69,1),IF(B$101=\"MPAN\",IF(E$69,E$69,1),IF(H$69,H$69,1)))","v":0},{"$f":"0.01*Input!F$14*(Adjust!$E$276*E193+Adjust!$F$276*F193)+10*(Adjust!$B$276*B193+Adjust!$C$276*C193+Adjust!$D$276*D193+Adjust!$G$276*G193)","v":15.64}]
["LDNO HV: NHH UMS category B",{"$f":"B$69/IF(B$101=\"kVA\",IF(F$69,F$69,1),IF(B$101=\"MPAN\",IF(E$69,E$69,1),IF(H$69,H$69,1)))","v":1},{"$f":"C$69/IF(B$101=\"kVA\",IF(F$69,F$69,1),IF(B$101=\"MPAN\",IF(E$69,E$69,1),IF(H$69,H$69,1)))","v":0},{"$f":"D$69/IF(B$101=\"kVA\",IF(F$69,F$69,1),IF(B$101=\"MPAN\",IF(E$69,E$69,1),IF(H$69,H$69,1)))","v":0},{"$f":"E$69/IF(B$101=\"kVA\",IF(F$69,F$69,1),IF(B$101=\"MPAN\",IF(E$69,E$69,1),IF(H$69,H$69,1)))","v":0},{"$f":"F$69/IF(B$101=\"kVA\",IF(F$69,F$69,1),IF(B$101=\"MPAN\",IF(E$69,E$69,1),IF(H$69,H$69,1)))","v":0},{"$f":"G$69/IF(B$101=\"kVA\",IF(F$69,F$69,1),IF(B$101=\"MPAN\",IF(E$69,E$69,1),IF(H$69,H$69,1)))","v":0},{"$f":"0.01*Input!F$14*(Adjust!$E$277*E194+Adjust!$F$277*F194)+10*(Adjust!$B$277*B194+Adjust!$C$277*C194+Adjust!$D$277*D194+Adjust!$G$277*G194)","v":11.299999999999999}]
["NHH UMS category C"]
["NHH UMS category C",{"$f":"B$70/IF(B$102=\"kVA\",IF(F$70,F$70,1),IF(B$102=\"MPAN\",IF(E$70,E$70,1),IF(H$70,H$70,1)))","v":1},{"$f":"C$70/IF(B$102=\"kVA\",IF(F$70,F$70,1),IF(B$102=\"MPAN\",IF(E$70,E$70,1),IF(H$70,H$70,1)))","v":0},{"$f":"D$70/IF(B$102=\"kVA\",IF(F$70,F$70,1),IF(B$102=\"MPAN\",IF(E$70,E$70,1),IF(H$70,H$70,1)))","v":0},{"$f":"E$70/IF(B$102=\"kVA\",IF(F$70,F$70,1),IF(B$102=\"MPAN\",IF(E$70,E$70,1),IF(H$70,H$70,1)))","v":0},{"$f":"F$70/IF(B$102=\"kVA\",IF(F$70,F$70,1),IF(B$102=\"MPAN\",IF(E$70,E$70,1),IF(H$70,H$70,1)))","v":0},{"$f":"G$70/IF(B$102=\"kVA\",IF(F$70,F$70,1),IF(B$102=\"MPAN\",IF(E$70,E$70,1),IF(H$70,H$70,1)))","v":0},{"$f":"0.01*Input!F$14*(Adjust!$E$279*E196+Adjust!$F$279*F196)+10*(Adjust!$B$279*B196+Adjust!$C$279*C196+Adjust!$D$279*D196+Adjust!$G$279*G196)","v":36.160000000000004}]
["LDNO LV: NHH UMS category C",{"$f":"B$70/IF(B$102=\"kVA\",IF(F$70,F$70,1),IF(B$102=\"MPAN\",IF(E$70,E$70,1),IF(H$70,H$70,1)))","v":1},{"$f":"C$70/IF(B$102=\"kVA\",IF(F$70,F$70,1),IF(B$102=\"MPAN\",IF(E$70,E$70,1),IF(H$70,H$70,1)))","v":0},{"$f":"D$70/IF(B$102=\"kVA\",IF(F$70,F$70,1),IF(B$102=\"MPAN\",IF(E$70,E$70,1),IF(H$70,H$70,1)))","v":0},{"$f":"E$70/IF(B$102=\"kVA\",IF(F$70,F$70,1),IF(B$102=\"MPAN\",IF(E$70,E$70,1),IF(H$70,H$70,1)))","v":0},{"$f":"F$70/IF(B$102=\"kVA\",IF(F$70,F$70,1),IF(B$102=\"MPAN\",IF(E$70,E$70,1),IF(H$70,H$70,1)))","v":0},{"$f":"G$70/IF(B$102=\"kVA\",IF(F$70,F$70,1),IF(B$102=\"MPAN\",IF(E$70,E$70,1),IF(H$70,H$70,1)))","v":0},{"$f":"0.01*Input!F$14*(Adjust!$E$280*E197+Adjust!$F$280*F197)+10*(Adjust!$B$280*B197+Adjust!$C$280*C197+Adjust!$D$280*D197+Adjust!$G$280*G197)","v":24.990000000000002}]
["LDNO HV: NHH UMS category C",{"$f":"B$70/IF(B$102=\"kVA\",IF(F$70,F$70,1),IF(B$102=\"MPAN\",IF(E$70,E$70,1),IF(H$70,H$70,1)))","v":1},{"$f":"C$70/IF(B$102=\"kVA\",IF(F$70,F$70,1),IF(B$102=\"MPAN\",IF(E$70,E$70,1),IF(H$70,H$70,1)))","v":0},{"$f":"D$70/IF(B$102=\"kVA\",IF(F$70,F$70,1),IF(B$102=\"MPAN\",IF(E$70,E$70,1),IF(H$70,H$70,1)))","v":0},{"$f":"E$70/IF(B$102=\"kVA\",IF(F$70,F$70,1),IF(B$102=\"MPAN\",IF(E$70,E$70,1),IF(H$70,H$70,1)))","v":0},{"$f":"F$70/IF(B$102=\"kVA\",IF(F$70,F$70,1),IF(B$102=\"MPAN\",IF(E$70,E$70,1),IF(H$70,H$70,1)))","v":0},{"$f":"G$70/IF(B$102=\"kVA\",IF(F$70,F$70,1),IF(B$102=\"MPAN\",IF(E$70,E$70,1),IF(H$70,H$70,1)))","v":0},{"$f":"0.01*Input!F$14*(Adjust!$E$281*E198+Adjust!$F$281*F198)+10*(Adjust!$B$281*B198+Adjust!$C$281*C198+Adjust!$D$281*D198+Adjust!$G$281*G198)","v":18.05}]
["NHH UMS category D"]
["NHH UMS category D",{"$f":"B$71/IF(B$103=\"kVA\",IF(F$71,F$71,1),IF(B$103=\"MPAN\",IF(E$71,E$71,1),IF(H$71,H$71,1)))","v":1},{"$f":"C$71/IF(B$103=\"kVA\",IF(F$71,F$71,1),IF(B$103=\"MPAN\",IF(E$71,E$71,1),IF(H$71,H$71,1)))","v":0},{"$f":"D$71/IF(B$103=\"kVA\",IF(F$71,F$71,1),IF(B$103=\"MPAN\",IF(E$71,E$71,1),IF(H$71,H$71,1)))","v":0},{"$f":"E$71/IF(B$103=\"kVA\",IF(F$71,F$71,1),IF(B$103=\"MPAN\",IF(E$71,E$71,1),IF(H$71,H$71,1)))","v":0},{"$f":"F$71/IF(B$103=\"kVA\",IF(F$71,F$71,1),IF(B$103=\"MPAN\",IF(E$71,E$71,1),IF(H$71,H$71,1)))","v":0},{"$f":"G$71/IF(B$103=\"kVA\",IF(F$71,F$71,1),IF(B$103=\"MPAN\",IF(E$71,E$71,1),IF(H$71,H$71,1)))","v":0},{"$f":"0.01*Input!F$14*(Adjust!$E$283*E200+Adjust!$F$283*F200)+10*(Adjust!$B$283*B200+Adjust!$C$283*C200+Adjust!$D$283*D200+Adjust!$G$283*G200)","v":23.490000000000002}]
["LDNO LV: NHH UMS category D",{"$f":"B$71/IF(B$103=\"kVA\",IF(F$71,F$71,1),IF(B$103=\"MPAN\",IF(E$71,E$71,1),IF(H$71,H$71,1)))","v":1},{"$f":"C$71/IF(B$103=\"kVA\",IF(F$71,F$71,1),IF(B$103=\"MPAN\",IF(E$71,E$71,1),IF(H$71,H$71,1)))","v":0},{"$f":"D$71/IF(B$103=\"kVA\",IF(F$71,F$71,1),IF(B$103=\"MPAN\",IF(E$71,E$71,1),IF(H$71,H$71,1)))","v":0},{"$f":"E$71/IF(B$103=\"kVA\",IF(F$71,F$71,1),IF(B$103=\"MPAN\",IF(E$71,E$71,1),IF(H$71,H$71,1)))","v":0},{"$f":"F$71/IF(B$103=\"kVA\",IF(F$71,F$71,1),IF(B$103=\"MPAN\",IF(E$71,E$71,1),IF(H$71,H$71,1)))","v":0},{"$f":"G$71/IF(B$103=\"kVA\",IF(F$71,F$71,1),IF(B$103=\"MPAN\",IF(E$71,E$71,1),IF(H$71,H$71,1)))","v":0},{"$f":"0.01*Input!F$14*(Adjust!$E$284*E201+Adjust!$F$284*F201)+10*(Adjust!$B$284*B201+Adjust!$C$284*C201+Adjust!$D$284*D201+Adjust!$G$284*G201)","v":16.240000000000002}]
["LDNO HV: NHH UMS category D",{"$f":"B$71/IF(B$103=\"kVA\",IF(F$71,F$71,1),IF(B$103=\"MPAN\",IF(E$71,E$71,1),IF(H$71,H$71,1)))","v":1},{"$f":"C$71/IF(B$103=\"kVA\",IF(F$71,F$71,1),IF(B$103=\"MPAN\",IF(E$71,E$71,1),IF(H$71,H$71,1)))","v":0},{"$f":"D$71/IF(B$103=\"kVA\",IF(F$71,F$71,1),IF(B$103=\"MPAN\",IF(E$71,E$71,1),IF(H$71,H$71,1)))","v":0},{"$f":"E$71/IF(B$103=\"kVA\",IF(F$71,F$71,1),IF(B$103=\"MPAN\",IF(E$71,E$71,1),IF(H$71,H$71,1)))","v":0},{"$f":"F$71/IF(B$103=\"kVA\",IF(F$71,F$71,1),IF(B$103=\"MPAN\",IF(E$71,E$71,1),IF(H$71,H$71,1)))","v":0},{"$f":"G$71/IF(B$103=\"kVA\",IF(F$71,F$71,1),IF(B$103=\"MPAN\",IF(E$71,E$71,1),IF(H$71,H$71,1)))","v":0},{"$f":"0.01*Input!F$14*(Adjust!$E$285*E202+Adjust!$F$285*F202)+10*(Adjust!$B$285*B202+Adjust!$C$285*C202+Adjust!$D$285*D202+Adjust!$G$285*G202)","v":11.73}]
["LV UMS (Pseudo HH Metered)"]
["LV UMS (Pseudo HH Metered)",{"$f":"B$72/IF(B$104=\"kVA\",IF(F$72,F$72,1),IF(B$104=\"MPAN\",IF(E$72,E$72,1),IF(H$72,H$72,1)))","v":4.8332349286340982E-2},{"$f":"C$72/IF(B$104=\"kVA\",IF(F$72,F$72,1),IF(B$104=\"MPAN\",IF(E$72,E$72,1),IF(H$72,H$72,1)))","v":0.1114249438941768},{"$f":"D$72/IF(B$104=\"kVA\",IF(F$72,F$72,1),IF(B$104=\"MPAN\",IF(E$72,E$72,1),IF(H$72,H$72,1)))","v":0.8402427068194821},{"$f":"E$72/IF(B$104=\"kVA\",IF(F$72,F$72,1),IF(B$104=\"MPAN\",IF(E$72,E$72,1),IF(H$72,H$72,1)))","v":0},{"$f":"F$72/IF(B$104=\"kVA\",IF(F$72,F$72,1),IF(B$104=\"MPAN\",IF(E$72,E$72,1),IF(H$72,H$72,1)))","v":0},{"$f":"G$72/IF(B$104=\"kVA\",IF(F$72,F$72,1),IF(B$104=\"MPAN\",IF(E$72,E$72,1),IF(H$72,H$72,1)))","v":0},{"$f":"0.01*Input!F$14*(Adjust!$E$287*E204+Adjust!$F$287*F204)+10*(Adjust!$B$287*B204+Adjust!$C$287*C204+Adjust!$D$287*D204+Adjust!$G$287*G204)","v":22.799741757321339}]
["LDNO LV: LV UMS (Pseudo HH Metered)",{"$f":"B$72/IF(B$104=\"kVA\",IF(F$72,F$72,1),IF(B$104=\"MPAN\",IF(E$72,E$72,1),IF(H$72,H$72,1)))","v":4.8332349286340982E-2},{"$f":"C$72/IF(B$104=\"kVA\",IF(F$72,F$72,1),IF(B$104=\"MPAN\",IF(E$72,E$72,1),IF(H$72,H$72,1)))","v":0.1114249438941768},{"$f":"D$72/IF(B$104=\"kVA\",IF(F$72,F$72,1),IF(B$104=\"MPAN\",IF(E$72,E$72,1),IF(H$72,H$72,1)))","v":0.8402427068194821},{"$f":"E$72/IF(B$104=\"kVA\",IF(F$72,F$72,1),IF(B$104=\"MPAN\",IF(E$72,E$72,1),IF(H$72,H$72,1)))","v":0},{"$f":"F$72/IF(B$104=\"kVA\",IF(F$72,F$72,1),IF(B$104=\"MPAN\",IF(E$72,E$72,1),IF(H$72,H$72,1)))","v":0},{"$f":"G$72/IF(B$104=\"kVA\",IF(F$72,F$72,1),IF(B$104=\"MPAN\",IF(E$72,E$72,1),IF(H$72,H$72,1)))","v":0},{"$f":"0.01*Input!F$14*(Adjust!$E$288*E205+Adjust!$F$288*F205)+10*(Adjust!$B$288*B205+Adjust!$C$288*C205+Adjust!$D$288*D205+Adjust!$G$288*G205)","v":15.757079644301097}]
["LDNO HV: LV UMS (Pseudo HH Metered)",{"$f":"B$72/IF(B$104=\"kVA\",IF(F$72,F$72,1),IF(B$104=\"MPAN\",IF(E$72,E$72,1),IF(H$72,H$72,1)))","v":4.8332349286340982E-2},{"$f":"C$72/IF(B$104=\"kVA\",IF(F$72,F$72,1),IF(B$104=\"MPAN\",IF(E$72,E$72,1),IF(H$72,H$72,1)))","v":0.1114249438941768},{"$f":"D$72/IF(B$104=\"kVA\",IF(F$72,F$72,1),IF(B$104=\"MPAN\",IF(E$72,E$72,1),IF(H$72,H$72,1)))","v":0.8402427068194821},{"$f":"E$72/IF(B$104=\"kVA\",IF(F$72,F$72,1),IF(B$104=\"MPAN\",IF(E$72,E$72,1),IF(H$72,H$72,1)))","v":0},{"$f":"F$72/IF(B$104=\"kVA\",IF(F$72,F$72,1),IF(B$104=\"MPAN\",IF(E$72,E$72,1),IF(H$72,H$72,1)))","v":0},{"$f":"G$72/IF(B$104=\"kVA\",IF(F$72,F$72,1),IF(B$104=\"MPAN\",IF(E$72,E$72,1),IF(H$72,H$72,1)))","v":0},{"$f":"0.01*Input!F$14*(Adjust!$E$289*E206+Adjust!$F$289*F206)+10*(Adjust!$B$289*B206+Adjust!$C$289*C206+Adjust!$D$289*D206+Adjust!$G$289*G206)","v":11.379090159364459}]
["LV Generation NHH"]
["LV Generation NHH",{"$f":"B$73/IF(B$105=\"kVA\",IF(F$73,F$73,1),IF(B$105=\"MPAN\",IF(E$73,E$73,1),IF(H$73,H$73,1)))","v":1},{"$f":"C$73/IF(B$105=\"kVA\",IF(F$73,F$73,1),IF(B$105=\"MPAN\",IF(E$73,E$73,1),IF(H$73,H$73,1)))","v":0},{"$f":"D$73/IF(B$105=\"kVA\",IF(F$73,F$73,1),IF(B$105=\"MPAN\",IF(E$73,E$73,1),IF(H$73,H$73,1)))","v":0},{"$f":"E$73/IF(B$105=\"kVA\",IF(F$73,F$73,1),IF(B$105=\"MPAN\",IF(E$73,E$73,1),IF(H$73,H$73,1)))","v":0.23388824604970698},{"$f":"F$73/IF(B$105=\"kVA\",IF(F$73,F$73,1),IF(B$105=\"MPAN\",IF(E$73,E$73,1),IF(H$73,H$73,1)))","v":0},{"$f":"G$73/IF(B$105=\"kVA\",IF(F$73,F$73,1),IF(B$105=\"MPAN\",IF(E$73,E$73,1),IF(H$73,H$73,1)))","v":0},{"$f":"0.01*Input!F$14*(Adjust!$E$291*E208+Adjust!$F$291*F208)+10*(Adjust!$B$291*B208+Adjust!$C$291*C208+Adjust!$D$291*D208+Adjust!$G$291*G208)","v":-6.54}]
["LDNO LV: LV Generation NHH",{"$f":"B$73/IF(B$105=\"kVA\",IF(F$73,F$73,1),IF(B$105=\"MPAN\",IF(E$73,E$73,1),IF(H$73,H$73,1)))","v":1},{"$f":"C$73/IF(B$105=\"kVA\",IF(F$73,F$73,1),IF(B$105=\"MPAN\",IF(E$73,E$73,1),IF(H$73,H$73,1)))","v":0},{"$f":"D$73/IF(B$105=\"kVA\",IF(F$73,F$73,1),IF(B$105=\"MPAN\",IF(E$73,E$73,1),IF(H$73,H$73,1)))","v":0},{"$f":"E$73/IF(B$105=\"kVA\",IF(F$73,F$73,1),IF(B$105=\"MPAN\",IF(E$73,E$73,1),IF(H$73,H$73,1)))","v":0.23388824604970698},{"$f":"F$73/IF(B$105=\"kVA\",IF(F$73,F$73,1),IF(B$105=\"MPAN\",IF(E$73,E$73,1),IF(H$73,H$73,1)))","v":0},{"$f":"G$73/IF(B$105=\"kVA\",IF(F$73,F$73,1),IF(B$105=\"MPAN\",IF(E$73,E$73,1),IF(H$73,H$73,1)))","v":0},{"$f":"0.01*Input!F$14*(Adjust!$E$292*E209+Adjust!$F$292*F209)+10*(Adjust!$B$292*B209+Adjust!$C$292*C209+Adjust!$D$292*D209+Adjust!$G$292*G209)","v":-6.54}]
["LDNO HV: LV Generation NHH",{"$f":"B$73/IF(B$105=\"kVA\",IF(F$73,F$73,1),IF(B$105=\"MPAN\",IF(E$73,E$73,1),IF(H$73,H$73,1)))","v":1},{"$f":"C$73/IF(B$105=\"kVA\",IF(F$73,F$73,1),IF(B$105=\"MPAN\",IF(E$73,E$73,1),IF(H$73,H$73,1)))","v":0},{"$f":"D$73/IF(B$105=\"kVA\",IF(F$73,F$73,1),IF(B$105=\"MPAN\",IF(E$73,E$73,1),IF(H$73,H$73,1)))","v":0},{"$f":"E$73/IF(B$105=\"kVA\",IF(F$73,F$73,1),IF(B$105=\"MPAN\",IF(E$73,E$73,1),IF(H$73,H$73,1)))","v":0.23388824604970698},{"$f":"F$73/IF(B$105=\"kVA\",IF(F$73,F$73,1),IF(B$105=\"MPAN\",IF(E$73,E$73,1),IF(H$73,H$73,1)))","v":0},{"$f":"G$73/IF(B$105=\"kVA\",IF(F$73,F$73,1),IF(B$105=\"MPAN\",IF(E$73,E$73,1),IF(H$73,H$73,1)))","v":0},{"$f":"0.01*Input!F$14*(Adjust!$E$293*E210+Adjust!$F$293*F210)+10*(Adjust!$B$293*B210+Adjust!$C$293*C210+Adjust!$D$293*D210+Adjust!$G$293*G210)","v":-6.54}]
["LV Sub Generation NHH"]
["LV Sub Generation NHH",{"$f":"B$74/IF(B$106=\"kVA\",IF(F$74,F$74,1),IF(B$106=\"MPAN\",IF(E$74,E$74,1),IF(H$74,H$74,1)))","v":0},{"$f":"C$74/IF(B$106=\"kVA\",IF(F$74,F$74,1),IF(B$106=\"MPAN\",IF(E$74,E$74,1),IF(H$74,H$74,1)))","v":0},{"$f":"D$74/IF(B$106=\"kVA\",IF(F$74,F$74,1),IF(B$106=\"MPAN\",IF(E$74,E$74,1),IF(H$74,H$74,1)))","v":0},{"$f":"E$74/IF(B$106=\"kVA\",IF(F$74,F$74,1),IF(B$106=\"MPAN\",IF(E$74,E$74,1),IF(H$74,H$74,1)))","v":0},{"$f":"F$74/IF(B$106=\"kVA\",IF(F$74,F$74,1),IF(B$106=\"MPAN\",IF(E$74,E$74,1),IF(H$74,H$74,1)))","v":0},{"$f":"G$74/IF(B$106=\"kVA\",IF(F$74,F$74,1),IF(B$106=\"MPAN\",IF(E$74,E$74,1),IF(H$74,H$74,1)))","v":0},{"$f":"0.01*Input!F$14*(Adjust!$E$295*E212+Adjust!$F$295*F212)+10*(Adjust!$B$295*B212+Adjust!$C$295*C212+Adjust!$D$295*D212+Adjust!$G$295*G212)","v":0}]
["LDNO HV: LV Sub Generation NHH",{"$f":"B$74/IF(B$106=\"kVA\",IF(F$74,F$74,1),IF(B$106=\"MPAN\",IF(E$74,E$74,1),IF(H$74,H$74,1)))","v":0},{"$f":"C$74/IF(B$106=\"kVA\",IF(F$74,F$74,1),IF(B$106=\"MPAN\",IF(E$74,E$74,1),IF(H$74,H$74,1)))","v":0},{"$f":"D$74/IF(B$106=\"kVA\",IF(F$74,F$74,1),IF(B$106=\"MPAN\",IF(E$74,E$74,1),IF(H$74,H$74,1)))","v":0},{"$f":"E$74/IF(B$106=\"kVA\",IF(F$74,F$74,1),IF(B$106=\"MPAN\",IF(E$74,E$74,1),IF(H$74,H$74,1)))","v":0},{"$f":"F$74/IF(B$106=\"kVA\",IF(F$74,F$74,1),IF(B$106=\"MPAN\",IF(E$74,E$74,1),IF(H$74,H$74,1)))","v":0},{"$f":"G$74/IF(B$106=\"kVA\",IF(F$74,F$74,1),IF(B$106=\"MPAN\",IF(E$74,E$74,1),IF(H$74,H$74,1)))","v":0},{"$f":"0.01*Input!F$14*(Adjust!$E$296*E213+Adjust!$F$296*F213)+10*(Adjust!$B$296*B213+Adjust!$C$296*C213+Adjust!$D$296*D213+Adjust!$G$296*G213)","v":0}]
["LV Generation Intermittent"]
["LV Generation Intermittent",{"$f":"B$75/IF(B$107=\"kVA\",IF(F$75,F$75,1),IF(B$107=\"MPAN\",IF(E$75,E$75,1),IF(H$75,H$75,1)))","v":1},{"$f":"C$75/IF(B$107=\"kVA\",IF(F$75,F$75,1),IF(B$107=\"MPAN\",IF(E$75,E$75,1),IF(H$75,H$75,1)))","v":0},{"$f":"D$75/IF(B$107=\"kVA\",IF(F$75,F$75,1),IF(B$107=\"MPAN\",IF(E$75,E$75,1),IF(H$75,H$75,1)))","v":0},{"$f":"E$75/IF(B$107=\"kVA\",IF(F$75,F$75,1),IF(B$107=\"MPAN\",IF(E$75,E$75,1),IF(H$75,H$75,1)))","v":0.46418423422288702},{"$f":"F$75/IF(B$107=\"kVA\",IF(F$75,F$75,1),IF(B$107=\"MPAN\",IF(E$75,E$75,1),IF(H$75,H$75,1)))","v":0},{"$f":"G$75/IF(B$107=\"kVA\",IF(F$75,F$75,1),IF(B$107=\"MPAN\",IF(E$75,E$75,1),IF(H$75,H$75,1)))","v":0.37831359985286861},{"$f":"0.01*Input!F$14*(Adjust!$E$298*E215+Adjust!$F$298*F215)+10*(Adjust!$B$298*B215+Adjust!$C$298*C215+Adjust!$D$298*D215+Adjust!$G$298*G215)","v":-5.7758065282972062}]
["LDNO LV: LV Generation Intermittent",{"$f":"B$75/IF(B$107=\"kVA\",IF(F$75,F$75,1),IF(B$107=\"MPAN\",IF(E$75,E$75,1),IF(H$75,H$75,1)))","v":1},{"$f":"C$75/IF(B$107=\"kVA\",IF(F$75,F$75,1),IF(B$107=\"MPAN\",IF(E$75,E$75,1),IF(H$75,H$75,1)))","v":0},{"$f":"D$75/IF(B$107=\"kVA\",IF(F$75,F$75,1),IF(B$107=\"MPAN\",IF(E$75,E$75,1),IF(H$75,H$75,1)))","v":0},{"$f":"E$75/IF(B$107=\"kVA\",IF(F$75,F$75,1),IF(B$107=\"MPAN\",IF(E$75,E$75,1),IF(H$75,H$75,1)))","v":0.46418423422288702},{"$f":"F$75/IF(B$107=\"kVA\",IF(F$75,F$75,1),IF(B$107=\"MPAN\",IF(E$75,E$75,1),IF(H$75,H$75,1)))","v":0},{"$f":"G$75/IF(B$107=\"kVA\",IF(F$75,F$75,1),IF(B$107=\"MPAN\",IF(E$75,E$75,1),IF(H$75,H$75,1)))","v":0.37831359985286861},{"$f":"0.01*Input!F$14*(Adjust!$E$299*E216+Adjust!$F$299*F216)+10*(Adjust!$B$299*B216+Adjust!$C$299*C216+Adjust!$D$299*D216+Adjust!$G$299*G216)","v":-5.7758065282972062}]
["LDNO HV: LV Generation Intermittent",{"$f":"B$75/IF(B$107=\"kVA\",IF(F$75,F$75,1),IF(B$107=\"MPAN\",IF(E$75,E$75,1),IF(H$75,H$75,1)))","v":1},{"$f":"C$75/IF(B$107=\"kVA\",IF(F$75,F$75,1),IF(B$107=\"MPAN\",IF(E$75,E$75,1),IF(H$75,H$75,1)))","v":0},{"$f":"D$75/IF(B$107=\"kVA\",IF(F$75,F$75,1),IF(B$107=\"MPAN\",IF(E$75,E$75,1),IF(H$75,H$75,1)))","v":0},{"$f":"E$75/IF(B$107=\"kVA\",IF(F$75,F$75,1),IF(B$107=\"MPAN\",IF(E$75,E$75,1),IF(H$75,H$75,1)))","v":0.46418423422288702},{"$f":"F$75/IF(B$107=\"kVA\",IF(F$75,F$75,1),IF(B$107=\"MPAN\",IF(E$75,E$75,1),IF(H$75,H$75,1)))","v":0},{"$f":"G$75/IF(B$107=\"kVA\",IF(F$75,F$75,1),IF(B$107=\"MPAN\",IF(E$75,E$75,1),IF(H$75,H$75,1)))","v":0.37831359985286861},{"$f":"0.01*Input!F$14*(Adjust!$E$300*E217+Adjust!$F$300*F217)+10*(Adjust!$B$300*B217+Adjust!$C$300*C217+Adjust!$D$300*D217+Adjust!$G$300*G217)","v":-5.7758065282972062}]
["LV Generation Non-Intermittent"]
["LV Generation Non-Intermittent",{"$f":"B$76/IF(B$108=\"kVA\",IF(F$76,F$76,1),IF(B$108=\"MPAN\",IF(E$76,E$76,1),IF(H$76,H$76,1)))","v":9.0621212085596772E-2},{"$f":"C$76/IF(B$108=\"kVA\",IF(F$76,F$76,1),IF(B$108=\"MPAN\",IF(E$76,E$76,1),IF(H$76,H$76,1)))","v":0.34387465592906791},{"$f":"D$76/IF(B$108=\"kVA\",IF(F$76,F$76,1),IF(B$108=\"MPAN\",IF(E$76,E$76,1),IF(H$76,H$76,1)))","v":0.56550413198533533},{"$f":"E$76/IF(B$108=\"kVA\",IF(F$76,F$76,1),IF(B$108=\"MPAN\",IF(E$76,E$76,1),IF(H$76,H$76,1)))","v":2.4190753601415534E-2},{"$f":"F$76/IF(B$108=\"kVA\",IF(F$76,F$76,1),IF(B$108=\"MPAN\",IF(E$76,E$76,1),IF(H$76,H$76,1)))","v":0},{"$f":"G$76/IF(B$108=\"kVA\",IF(F$76,F$76,1),IF(B$108=\"MPAN\",IF(E$76,E$76,1),IF(H$76,H$76,1)))","v":3.477621035674662E-2},{"$f":"0.01*Input!F$14*(Adjust!$E$302*E219+Adjust!$F$302*F219)+10*(Adjust!$B$302*B219+Adjust!$C$302*C219+Adjust!$D$302*D219+Adjust!$G$302*G219)","v":-6.6765454981236338}]
["LDNO LV: LV Generation Non-Intermittent",{"$f":"B$76/IF(B$108=\"kVA\",IF(F$76,F$76,1),IF(B$108=\"MPAN\",IF(E$76,E$76,1),IF(H$76,H$76,1)))","v":9.0621212085596772E-2},{"$f":"C$76/IF(B$108=\"kVA\",IF(F$76,F$76,1),IF(B$108=\"MPAN\",IF(E$76,E$76,1),IF(H$76,H$76,1)))","v":0.34387465592906791},{"$f":"D$76/IF(B$108=\"kVA\",IF(F$76,F$76,1),IF(B$108=\"MPAN\",IF(E$76,E$76,1),IF(H$76,H$76,1)))","v":0.56550413198533533},{"$f":"E$76/IF(B$108=\"kVA\",IF(F$76,F$76,1),IF(B$108=\"MPAN\",IF(E$76,E$76,1),IF(H$76,H$76,1)))","v":2.4190753601415534E-2},{"$f":"F$76/IF(B$108=\"kVA\",IF(F$76,F$76,1),IF(B$108=\"MPAN\",IF(E$76,E$76,1),IF(H$76,H$76,1)))","v":0},{"$f":"G$76/IF(B$108=\"kVA\",IF(F$76,F$76,1),IF(B$108=\"MPAN\",IF(E$76,E$76,1),IF(H$76,H$76,1)))","v":3.477621035674662E-2},{"$f":"0.01*Input!F$14*(Adjust!$E$303*E220+Adjust!$F$303*F220)+10*(Adjust!$B$303*B220+Adjust!$C$303*C220+Adjust!$D$303*D220+Adjust!$G$303*G220)","v":-6.6765454981236338}]
["LDNO HV: LV Generation Non-Intermittent",{"$f":"B$76/IF(B$108=\"kVA\",IF(F$76,F$76,1),IF(B$108=\"MPAN\",IF(E$76,E$76,1),IF(H$76,H$76,1)))","v":9.0621212085596772E-2},{"$f":"C$76/IF(B$108=\"kVA\",IF(F$76,F$76,1),IF(B$108=\"MPAN\",IF(E$76,E$76,1),IF(H$76,H$76,1)))","v":0.34387465592906791},{"$f":"D$76/IF(B$108=\"kVA\",IF(F$76,F$76,1),IF(B$108=\"MPAN\",IF(E$76,E$76,1),IF(H$76,H$76,1)))","v":0.56550413198533533},{"$f":"E$76/IF(B$108=\"kVA\",IF(F$76,F$76,1),IF(B$108=\"MPAN\",IF(E$76,E$76,1),IF(H$76,H$76,1)))","v":2.4190753601415534E-2},{"$f":"F$76/IF(B$108=\"kVA\",IF(F$76,F$76,1),IF(B$108=\"MPAN\",IF(E$76,E$76,1),IF(H$76,H$76,1)))","v":0},{"$f":"G$76/IF(B$108=\"kVA\",IF(F$76,F$76,1),IF(B$108=\"MPAN\",IF(E$76,E$76,1),IF(H$76,H$76,1)))","v":3.477621035674662E-2},{"$f":"0.01*Input!F$14*(Adjust!$E$304*E221+Adjust!$F$304*F221)+10*(Adjust!$B$304*B221+Adjust!$C$304*C221+Adjust!$D$304*D221+Adjust!$G$304*G221)","v":-6.6765454981236338}]
["LV Sub Generation Intermittent"]
["LV Sub Generation Intermittent",{"$f":"B$77/IF(B$109=\"kVA\",IF(F$77,F$77,1),IF(B$109=\"MPAN\",IF(E$77,E$77,1),IF(H$77,H$77,1)))","v":0},{"$f":"C$77/IF(B$109=\"kVA\",IF(F$77,F$77,1),IF(B$109=\"MPAN\",IF(E$77,E$77,1),IF(H$77,H$77,1)))","v":0},{"$f":"D$77/IF(B$109=\"kVA\",IF(F$77,F$77,1),IF(B$109=\"MPAN\",IF(E$77,E$77,1),IF(H$77,H$77,1)))","v":0},{"$f":"E$77/IF(B$109=\"kVA\",IF(F$77,F$77,1),IF(B$109=\"MPAN\",IF(E$77,E$77,1),IF(H$77,H$77,1)))","v":0},{"$f":"F$77/IF(B$109=\"kVA\",IF(F$77,F$77,1),IF(B$109=\"MPAN\",IF(E$77,E$77,1),IF(H$77,H$77,1)))","v":0},{"$f":"G$77/IF(B$109=\"kVA\",IF(F$77,F$77,1),IF(B$109=\"MPAN\",IF(E$77,E$77,1),IF(H$77,H$77,1)))","v":0},{"$f":"0.01*Input!F$14*(Adjust!$E$306*E223+Adjust!$F$306*F223)+10*(Adjust!$B$306*B223+Adjust!$C$306*C223+Adjust!$D$306*D223+Adjust!$G$306*G223)","v":0}]
["LDNO HV: LV Sub Generation Intermittent",{"$f":"B$77/IF(B$109=\"kVA\",IF(F$77,F$77,1),IF(B$109=\"MPAN\",IF(E$77,E$77,1),IF(H$77,H$77,1)))","v":0},{"$f":"C$77/IF(B$109=\"kVA\",IF(F$77,F$77,1),IF(B$109=\"MPAN\",IF(E$77,E$77,1),IF(H$77,H$77,1)))","v":0},{"$f":"D$77/IF(B$109=\"kVA\",IF(F$77,F$77,1),IF(B$109=\"MPAN\",IF(E$77,E$77,1),IF(H$77,H$77,1)))","v":0},{"$f":"E$77/IF(B$109=\"kVA\",IF(F$77,F$77,1),IF(B$109=\"MPAN\",IF(E$77,E$77,1),IF(H$77,H$77,1)))","v":0},{"$f":"F$77/IF(B$109=\"kVA\",IF(F$77,F$77,1),IF(B$109=\"MPAN\",IF(E$77,E$77,1),IF(H$77,H$77,1)))","v":0},{"$f":"G$77/IF(B$109=\"kVA\",IF(F$77,F$77,1),IF(B$109=\"MPAN\",IF(E$77,E$77,1),IF(H$77,H$77,1)))","v":0},{"$f":"0.01*Input!F$14*(Adjust!$E$307*E224+Adjust!$F$307*F224)+10*(Adjust!$B$307*B224+Adjust!$C$307*C224+Adjust!$D$307*D224+Adjust!$G$307*G224)","v":0}]
["LV Sub Generation Non-Intermittent"]
["LV Sub Generation Non-Intermittent",{"$f":"B$78/IF(B$110=\"kVA\",IF(F$78,F$78,1),IF(B$110=\"MPAN\",IF(E$78,E$78,1),IF(H$78,H$78,1)))","v":0},{"$f":"C$78/IF(B$110=\"kVA\",IF(F$78,F$78,1),IF(B$110=\"MPAN\",IF(E$78,E$78,1),IF(H$78,H$78,1)))","v":0},{"$f":"D$78/IF(B$110=\"kVA\",IF(F$78,F$78,1),IF(B$110=\"MPAN\",IF(E$78,E$78,1),IF(H$78,H$78,1)))","v":1},{"$f":"E$78/IF(B$110=\"kVA\",IF(F$78,F$78,1),IF(B$110=\"MPAN\",IF(E$78,E$78,1),IF(H$78,H$78,1)))","v":0},{"$f":"F$78/IF(B$110=\"kVA\",IF(F$78,F$78,1),IF(B$110=\"MPAN\",IF(E$78,E$78,1),IF(H$78,H$78,1)))","v":0},{"$f":"G$78/IF(B$110=\"kVA\",IF(F$78,F$78,1),IF(B$110=\"MPAN\",IF(E$78,E$78,1),IF(H$78,H$78,1)))","v":11.543314174771076},{"$f":"0.01*Input!F$14*(Adjust!$E$309*E226+Adjust!$F$309*F226)+10*(Adjust!$B$309*B226+Adjust!$C$309*C226+Adjust!$D$309*D226+Adjust!$G$309*G226)","v":19.153634097110832}]
["LDNO HV: LV Sub Generation Non-Intermittent",{"$f":"B$78/IF(B$110=\"kVA\",IF(F$78,F$78,1),IF(B$110=\"MPAN\",IF(E$78,E$78,1),IF(H$78,H$78,1)))","v":0},{"$f":"C$78/IF(B$110=\"kVA\",IF(F$78,F$78,1),IF(B$110=\"MPAN\",IF(E$78,E$78,1),IF(H$78,H$78,1)))","v":0},{"$f":"D$78/IF(B$110=\"kVA\",IF(F$78,F$78,1),IF(B$110=\"MPAN\",IF(E$78,E$78,1),IF(H$78,H$78,1)))","v":1},{"$f":"E$78/IF(B$110=\"kVA\",IF(F$78,F$78,1),IF(B$110=\"MPAN\",IF(E$78,E$78,1),IF(H$78,H$78,1)))","v":0},{"$f":"F$78/IF(B$110=\"kVA\",IF(F$78,F$78,1),IF(B$110=\"MPAN\",IF(E$78,E$78,1),IF(H$78,H$78,1)))","v":0},{"$f":"G$78/IF(B$110=\"kVA\",IF(F$78,F$78,1),IF(B$110=\"MPAN\",IF(E$78,E$78,1),IF(H$78,H$78,1)))","v":11.543314174771076},{"$f":"0.01*Input!F$14*(Adjust!$E$310*E227+Adjust!$F$310*F227)+10*(Adjust!$B$310*B227+Adjust!$C$310*C227+Adjust!$D$310*D227+Adjust!$G$310*G227)","v":19.153634097110832}]
["HV Generation Intermittent"]
["HV Generation Intermittent",{"$f":"B$79/IF(B$111=\"kVA\",IF(F$79,F$79,1),IF(B$111=\"MPAN\",IF(E$79,E$79,1),IF(H$79,H$79,1)))","v":1},{"$f":"C$79/IF(B$111=\"kVA\",IF(F$79,F$79,1),IF(B$111=\"MPAN\",IF(E$79,E$79,1),IF(H$79,H$79,1)))","v":0},{"$f":"D$79/IF(B$111=\"kVA\",IF(F$79,F$79,1),IF(B$111=\"MPAN\",IF(E$79,E$79,1),IF(H$79,H$79,1)))","v":0},{"$f":"E$79/IF(B$111=\"kVA\",IF(F$79,F$79,1),IF(B$111=\"MPAN\",IF(E$79,E$79,1),IF(H$79,H$79,1)))","v":4.3869348741580813E-3},{"$f":"F$79/IF(B$111=\"kVA\",IF(F$79,F$79,1),IF(B$111=\"MPAN\",IF(E$79,E$79,1),IF(H$79,H$79,1)))","v":0},{"$f":"G$79/IF(B$111=\"kVA\",IF(F$79,F$79,1),IF(B$111=\"MPAN\",IF(E$79,E$79,1),IF(H$79,H$79,1)))","v":0.39633544203235638},{"$f":"0.01*Input!F$14*(Adjust!$E$312*E229+Adjust!$F$312*F229)+10*(Adjust!$B$312*B229+Adjust!$C$312*C229+Adjust!$D$312*D229+Adjust!$G$312*G229)","v":-2.0393941451503492}]
["LDNO HV: HV Generation Intermittent",{"$f":"B$79/IF(B$111=\"kVA\",IF(F$79,F$79,1),IF(B$111=\"MPAN\",IF(E$79,E$79,1),IF(H$79,H$79,1)))","v":1},{"$f":"C$79/IF(B$111=\"kVA\",IF(F$79,F$79,1),IF(B$111=\"MPAN\",IF(E$79,E$79,1),IF(H$79,H$79,1)))","v":0},{"$f":"D$79/IF(B$111=\"kVA\",IF(F$79,F$79,1),IF(B$111=\"MPAN\",IF(E$79,E$79,1),IF(H$79,H$79,1)))","v":0},{"$f":"E$79/IF(B$111=\"kVA\",IF(F$79,F$79,1),IF(B$111=\"MPAN\",IF(E$79,E$79,1),IF(H$79,H$79,1)))","v":4.3869348741580813E-3},{"$f":"F$79/IF(B$111=\"kVA\",IF(F$79,F$79,1),IF(B$111=\"MPAN\",IF(E$79,E$79,1),IF(H$79,H$79,1)))","v":0},{"$f":"G$79/IF(B$111=\"kVA\",IF(F$79,F$79,1),IF(B$111=\"MPAN\",IF(E$79,E$79,1),IF(H$79,H$79,1)))","v":0.39633544203235638},{"$f":"0.01*Input!F$14*(Adjust!$E$313*E230+Adjust!$F$313*F230)+10*(Adjust!$B$313*B230+Adjust!$C$313*C230+Adjust!$D$313*D230+Adjust!$G$313*G230)","v":-2.6589105076766422}]
["HV Generation Non-Intermittent"]
["HV Generation Non-Intermittent",{"$f":"B$80/IF(B$112=\"kVA\",IF(F$80,F$80,1),IF(B$112=\"MPAN\",IF(E$80,E$80,1),IF(H$80,H$80,1)))","v":9.0618311555209052E-2},{"$f":"C$80/IF(B$112=\"kVA\",IF(F$80,F$80,1),IF(B$112=\"MPAN\",IF(E$80,E$80,1),IF(H$80,H$80,1)))","v":0.30658009700463207},{"$f":"D$80/IF(B$112=\"kVA\",IF(F$80,F$80,1),IF(B$112=\"MPAN\",IF(E$80,E$80,1),IF(H$80,H$80,1)))","v":0.60280159144015888},{"$f":"E$80/IF(B$112=\"kVA\",IF(F$80,F$80,1),IF(B$112=\"MPAN\",IF(E$80,E$80,1),IF(H$80,H$80,1)))","v":2.0197258882617141E-4},{"$f":"F$80/IF(B$112=\"kVA\",IF(F$80,F$80,1),IF(B$112=\"MPAN\",IF(E$80,E$80,1),IF(H$80,H$80,1)))","v":0},{"$f":"G$80/IF(B$112=\"kVA\",IF(F$80,F$80,1),IF(B$112=\"MPAN\",IF(E$80,E$80,1),IF(H$80,H$80,1)))","v":1.0847548176855362E-2},{"$f":"0.01*Input!F$14*(Adjust!$E$315*E232+Adjust!$F$315*F232)+10*(Adjust!$B$315*B232+Adjust!$C$315*C232+Adjust!$D$315*D232+Adjust!$G$315*G232)","v":-3.1660931901036302}]
["LDNO HV: HV Generation Non-Intermittent",{"$f":"B$80/IF(B$112=\"kVA\",IF(F$80,F$80,1),IF(B$112=\"MPAN\",IF(E$80,E$80,1),IF(H$80,H$80,1)))","v":9.0618311555209052E-2},{"$f":"C$80/IF(B$112=\"kVA\",IF(F$80,F$80,1),IF(B$112=\"MPAN\",IF(E$80,E$80,1),IF(H$80,H$80,1)))","v":0.30658009700463207},{"$f":"D$80/IF(B$112=\"kVA\",IF(F$80,F$80,1),IF(B$112=\"MPAN\",IF(E$80,E$80,1),IF(H$80,H$80,1)))","v":0.60280159144015888},{"$f":"E$80/IF(B$112=\"kVA\",IF(F$80,F$80,1),IF(B$112=\"MPAN\",IF(E$80,E$80,1),IF(H$80,H$80,1)))","v":2.0197258882617141E-4},{"$f":"F$80/IF(B$112=\"kVA\",IF(F$80,F$80,1),IF(B$112=\"MPAN\",IF(E$80,E$80,1),IF(H$80,H$80,1)))","v":0},{"$f":"G$80/IF(B$112=\"kVA\",IF(F$80,F$80,1),IF(B$112=\"MPAN\",IF(E$80,E$80,1),IF(H$80,H$80,1)))","v":1.0847548176855362E-2},{"$f":"0.01*Input!F$14*(Adjust!$E$316*E233+Adjust!$F$316*F233)+10*(Adjust!$B$316*B233+Adjust!$C$316*C233+Adjust!$D$316*D233+Adjust!$G$316*G233)","v":-3.194615456138779}]
["HV Sub Generation Intermittent"]
["HV Sub Generation Intermittent",{"$f":"B$81/IF(B$113=\"kVA\",IF(F$81,F$81,1),IF(B$113=\"MPAN\",IF(E$81,E$81,1),IF(H$81,H$81,1)))","v":0},{"$f":"C$81/IF(B$113=\"kVA\",IF(F$81,F$81,1),IF(B$113=\"MPAN\",IF(E$81,E$81,1),IF(H$81,H$81,1)))","v":0},{"$f":"D$81/IF(B$113=\"kVA\",IF(F$81,F$81,1),IF(B$113=\"MPAN\",IF(E$81,E$81,1),IF(H$81,H$81,1)))","v":0},{"$f":"E$81/IF(B$113=\"kVA\",IF(F$81,F$81,1),IF(B$113=\"MPAN\",IF(E$81,E$81,1),IF(H$81,H$81,1)))","v":0},{"$f":"F$81/IF(B$113=\"kVA\",IF(F$81,F$81,1),IF(B$113=\"MPAN\",IF(E$81,E$81,1),IF(H$81,H$81,1)))","v":0},{"$f":"G$81/IF(B$113=\"kVA\",IF(F$81,F$81,1),IF(B$113=\"MPAN\",IF(E$81,E$81,1),IF(H$81,H$81,1)))","v":0},{"$f":"0.01*Input!F$14*(Adjust!$E$318*E235+Adjust!$F$318*F235)+10*(Adjust!$B$318*B235+Adjust!$C$318*C235+Adjust!$D$318*D235+Adjust!$G$318*G235)","v":0}]
["HV Sub Generation Non-Intermittent"]
["HV Sub Generation Non-Intermittent",{"$f":"B$82/IF(B$114=\"kVA\",IF(F$82,F$82,1),IF(B$114=\"MPAN\",IF(E$82,E$82,1),IF(H$82,H$82,1)))","v":0},{"$f":"C$82/IF(B$114=\"kVA\",IF(F$82,F$82,1),IF(B$114=\"MPAN\",IF(E$82,E$82,1),IF(H$82,H$82,1)))","v":0},{"$f":"D$82/IF(B$114=\"kVA\",IF(F$82,F$82,1),IF(B$114=\"MPAN\",IF(E$82,E$82,1),IF(H$82,H$82,1)))","v":0},{"$f":"E$82/IF(B$114=\"kVA\",IF(F$82,F$82,1),IF(B$114=\"MPAN\",IF(E$82,E$82,1),IF(H$82,H$82,1)))","v":0},{"$f":"F$82/IF(B$114=\"kVA\",IF(F$82,F$82,1),IF(B$114=\"MPAN\",IF(E$82,E$82,1),IF(H$82,H$82,1)))","v":0},{"$f":"G$82/IF(B$114=\"kVA\",IF(F$82,F$82,1),IF(B$114=\"MPAN\",IF(E$82,E$82,1),IF(H$82,H$82,1)))","v":0},{"$f":"0.01*Input!F$14*(Adjust!$E$320*E237+Adjust!$F$320*F237)+10*(Adjust!$B$320*B237+Adjust!$C$320*C237+Adjust!$D$320*D237+Adjust!$G$320*G237)","v":0}]
[]
["4005. LDNO LV charges (normalised £)"]
["Data sources:"]
["x1 = 4004. Normalised revenues (£) (in Normalised volumes for comparisons)"]
["Copy cells = x1"]
[]
[null,"LDNO LV charges (normalised £)"]
["LDNO LV: Domestic Unrestricted",{"$f":"H$145","v":71.832659078772792}]
["LDNO LV: Domestic Two Rate",{"$f":"H$149","v":74.501305884694716}]
["LDNO LV: Domestic Off Peak (related MPAN)",{"$f":"H$153","v":52986.762177718731}]
["LDNO LV: Small Non Domestic Unrestricted",{"$f":"H$157","v":180.26334800548477}]
["LDNO LV: Small Non Domestic Two Rate",{"$f":"H$161","v":248.08737115425811}]
["LDNO LV: Small Non Domestic Off Peak (related MPAN)",{"$f":"H$165","v":14943.075249003519}]
["LDNO LV: LV Medium Non-Domestic",{"$f":"H$169","v":1189.279842592513}]
["LDNO LV: LV HH Metered",{"$f":"H$177","v":29.08708403113453}]
["N/A"]
["N/A"]
["LDNO LV: NHH UMS category A",{"$f":"H$189","v":15.629999999999999}]
["LDNO LV: NHH UMS category B",{"$f":"H$193","v":15.64}]
["LDNO LV: NHH UMS category C",{"$f":"H$197","v":24.990000000000002}]
["LDNO LV: NHH UMS category D",{"$f":"H$201","v":16.240000000000002}]
["LDNO LV: LV UMS (Pseudo HH Metered)",{"$f":"H$205","v":15.757079644301097}]
["LDNO LV: LV Generation NHH",{"$f":"H$209","v":-6.54}]
["N/A"]
["LDNO LV: LV Generation Intermittent",{"$f":"H$216","v":-5.7758065282972062}]
["LDNO LV: LV Generation Non-Intermittent",{"$f":"H$220","v":-6.6765454981236338}]
["N/A"]
["N/A"]
["N/A"]
["N/A"]
[]
["4006. LDNO HV charges (normalised £)"]
["Data sources:"]
["x1 = 4004. Normalised revenues (£) (in Normalised volumes for comparisons)"]
["Copy cells = x1"]
[]
[null,"LDNO HV charges (normalised £)"]
["LDNO HV: Domestic Unrestricted",{"$f":"H$146","v":51.890425656797824}]
["LDNO HV: Domestic Two Rate",{"$f":"H$150","v":53.811677296380687}]
["LDNO HV: Domestic Off Peak (related MPAN)",{"$f":"H$154","v":38106.918004523744}]
["LDNO HV: Small Non Domestic Unrestricted",{"$f":"H$158","v":130.11333565600771}]
["LDNO HV: Small Non Domestic Two Rate",{"$f":"H$162","v":179.14895503645687}]
["LDNO HV: Small Non Domestic Off Peak (related MPAN)",{"$f":"H$166","v":10822.968081582794}]
["LDNO HV: LV Medium Non-Domestic",{"$f":"H$170","v":859.10012476870031}]
["LDNO HV: LV HH Metered",{"$f":"H$178","v":21.008516217831762}]
["LDNO HV: LV Sub HH Metered",{"$f":"H$181","v":23.738452852488408}]
["LDNO HV: HV HH Metered",{"$f":"H$184","v":33.411985093047804}]
["LDNO HV: NHH UMS category A",{"$f":"H$190","v":11.29}]
["LDNO HV: NHH UMS category B",{"$f":"H$194","v":11.299999999999999}]
["LDNO HV: NHH UMS category C",{"$f":"H$198","v":18.05}]
["LDNO HV: NHH UMS category D",{"$f":"H$202","v":11.73}]
["LDNO HV: LV UMS (Pseudo HH Metered)",{"$f":"H$206","v":11.379090159364459}]
["LDNO HV: LV Generation NHH",{"$f":"H$210","v":-6.54}]
["LDNO HV: LV Sub Generation NHH",{"$f":"H$213","v":0}]
["LDNO HV: LV Generation Intermittent",{"$f":"H$217","v":-5.7758065282972062}]
["LDNO HV: LV Generation Non-Intermittent",{"$f":"H$221","v":-6.6765454981236338}]
["LDNO HV: LV Sub Generation Intermittent",{"$f":"H$224","v":0}]
["LDNO HV: LV Sub Generation Non-Intermittent",{"$f":"H$227","v":19.153634097110832}]
["LDNO HV: HV Generation Intermittent",{"$f":"H$230","v":-2.6589105076766422}]
["LDNO HV: HV Generation Non-Intermittent",{"$f":"H$233","v":-3.194615456138779}]

{"sheet":"CTables","index":41,"n_rows":66,"n_cols":5,"rows_kept":66,"cut":false,"hidden":true,"merged":[]}
[{"$f":"\"r6140: Tariff comparisons\"&\" for \"&Input!B7&\" in \"&Input!C7&\" (\"&Input!D7&\")\"","v":"r6140: Tariff comparisons for WPD Mid West in April 2017 (0)"}]
["This sheet is for information only.  It can be deleted without affecting any calculations elsewhere in the model."]
[]
["4101. Comparison with current all-the-way demand tariffs"]
["Data sources:"]
["x1 = 4001. Revenues under current tariffs (£)"]
["x2 = 3802. Net revenues (£) (in Revenue summary)"]
["x3 = 3802. All units (MWh) (in Revenue summary)"]
["x4 = 1053. MPANs by tariff (in Volume forecasts for the charging year)"]
["Kind:","Calculation","Calculation","Copy cells"]
["Formula:","=IF(x1,x2/x1-1,\"\")","=(x2-x1)/IF(x3,x3,1)/10","= x4"]
[]
[null,"Change","Absolute change (average p/kWh)","MPANs"]
["Domestic Unrestricted",{"$f":"IF(CData!B23,Summary!D$57/CData!B23-1,\"\")","v":0.5898186779686585},{"$f":"(Summary!D$57-CData!B23)/IF(Summary!B$57,Summary!B$57,1)/10","v":1.1175097172994328},{"$f":"Input!E$143","v":2000771.41123502}]
["Domestic Two Rate",{"$f":"IF(CData!B24,Summary!D$61/CData!B24-1,\"\")","v":1.3377733914694301},{"$f":"(Summary!D$61-CData!B24)/IF(Summary!B$61,Summary!B$61,1)/10","v":1.1670583387480877},{"$f":"Input!E$147","v":327392.75241817994}]
["Domestic Off Peak (related MPAN)",{"$f":"IF(CData!B25,Summary!D$65/CData!B25-1,\"\")","v":-0.47749504262736009},{"$f":"(Summary!D$65-CData!B25)/IF(Summary!B$65,Summary!B$65,1)/10","v":-0.19282391979779639},{"$f":"Input!E$151","v":0}]
["Small Non Domestic Unrestricted",{"$f":"IF(CData!B26,Summary!D$69/CData!B26-1,\"\")","v":0.24099373788094924},{"$f":"(Summary!D$69-CData!B26)/IF(Summary!B$69,Summary!B$69,1)/10","v":0.43723139260387589},{"$f":"Input!E$155","v":138318.12561321002}]
["Small Non Domestic Two Rate",{"$f":"IF(CData!B27,Summary!D$73/CData!B27-1,\"\")","v":0.73519013592245575},{"$f":"(Summary!D$73-CData!B27)/IF(Summary!B$73,Summary!B$73,1)/10","v":0.77125618157819076},{"$f":"Input!E$159","v":33481.434021749999}]
["Small Non Domestic Off Peak (related MPAN)",{"$f":"IF(CData!B28,Summary!D$77/CData!B28-1,\"\")","v":""},{"$f":"(Summary!D$77-CData!B28)/IF(Summary!B$77,Summary!B$77,1)/10","v":0.35199999999999998},{"$f":"Input!E$163","v":0}]
["LV Medium Non-Domestic",{"$f":"IF(CData!B29,Summary!D$81/CData!B29-1,\"\")","v":0.60957950503470038},{"$f":"(Summary!D$81-CData!B29)/IF(Summary!B$81,Summary!B$81,1)/10","v":0.77279428930940908},{"$f":"Input!E$167","v":18486.330237650003}]
["LV Sub Medium Non-Domestic",{"$f":"IF(CData!B30,Summary!D$85/CData!B30-1,\"\")","v":-0.99712978956743004},{"$f":"(Summary!D$85-CData!B30)/IF(Summary!B$85,Summary!B$85,1)/10","v":-644.11021094802686},{"$f":"Input!E$171","v":3.1218120300000005}]
["HV Medium Non-Domestic",{"$f":"IF(CData!B31,Summary!D$87/CData!B31-1,\"\")","v":1.8729422334481156},{"$f":"(Summary!D$87-CData!B31)/IF(Summary!B$87,Summary!B$87,1)/10","v":1.0949742455869067},{"$f":"Input!E$173","v":284.08489473000003}]
["LV HH Metered",{"$f":"IF(CData!B32,Summary!D$89/CData!B32-1,\"\")","v":0.83125427407847696},{"$f":"(Summary!D$89-CData!B32)/IF(Summary!B$89,Summary!B$89,1)/10","v":1.028917912074004},{"$f":"Input!E$175","v":6262.3549321800001}]
["LV Sub HH Metered",{"$f":"IF(CData!B33,Summary!D$93/CData!B33-1,\"\")","v":-0.96292434489207224},{"$f":"(Summary!D$93-CData!B33)/IF(Summary!B$93,Summary!B$93,1)/10","v":-68.549010442821668},{"$f":"Input!E$179","v":33.299328320000001}]
["HV HH Metered",{"$f":"IF(CData!B34,Summary!D$96/CData!B34-1,\"\")","v":1.7199050238913598},{"$f":"(Summary!D$96-CData!B34)/IF(Summary!B$96,Summary!B$96,1)/10","v":0.93347395535619904},{"$f":"Input!E$182","v":3859.6002730900004}]
["HV Sub HH Metered",{"$f":"IF(CData!B35,Summary!D$99/CData!B35-1,\"\")","v":-1},{"$f":"(Summary!D$99-CData!B35)/IF(Summary!B$99,Summary!B$99,1)/10","v":-639248},{"$f":"Input!E$185","v":0}]
["NHH UMS category A",{"$f":"IF(CData!B36,Summary!D$101/CData!B36-1,\"\")","v":1.5825958812379861},{"$f":"(Summary!D$101-CData!B36)/IF(Summary!B$101,Summary!B$101,1)/10","v":1.3855242755842339},{"$f":"Input!E$187","v":0}]
["NHH UMS category B",{"$f":"IF(CData!B37,Summary!D$105/CData!B37-1,\"\")","v":0.36933044660529557},{"$f":"(Summary!D$105-CData!B37)/IF(Summary!B$105,Summary!B$105,1)/10","v":0.61036749948838231},{"$f":"Input!E$191","v":0}]
["NHH UMS category C",{"$f":"IF(CData!B38,Summary!D$109/CData!B38-1,\"\")","v":-0.95010770022508151},{"$f":"(Summary!D$109-CData!B38)/IF(Summary!B$109,Summary!B$109,1)/10","v":-68.860113875548549},{"$f":"Input!E$195","v":0}]
["NHH UMS category D",{"$f":"IF(CData!B39,Summary!D$113/CData!B39-1,\"\")","v":-0.76956240343436788},{"$f":"(Summary!D$113-CData!B39)/IF(Summary!B$113,Summary!B$113,1)/10","v":-7.8446491050451002},{"$f":"Input!E$199","v":0}]
["LV UMS (Pseudo HH Metered)",{"$f":"IF(CData!B40,Summary!D$117/CData!B40-1,\"\")","v":0.10738201677619452},{"$f":"(Summary!D$117-CData!B40)/IF(Summary!B$117,Summary!B$117,1)/10","v":0.22108741290607278},{"$f":"Input!E$203","v":0}]
[]
["4102. LDNO margins in use of system charges"]
["Data sources:"]
["x1 = 4003. Normalised to"]
["x2 = 4004. Normalised revenues (£) (in Normalised volumes for comparisons)"]
["x3 = 4005. LDNO LV charges (normalised £)"]
["x4 = All-the-way charges (normalised £) (in LDNO margins in use of system charges)"]
["x5 = 4006. LDNO HV charges (normalised £)"]
["Kind:","Copy cells","Copy cells","Calculation","Calculation"]
["Formula:","= x1","= x2","=IF(x3,x4-x3,\"\")","=IF(x5,x4-x5,\"\")"]
[]
[null,"Normalised to","All-the-way charges (normalised £)","LDNO LV margin (normalised £)","LDNO HV margin (normalised £)"]
["Domestic Unrestricted",{"$f":"CData!B$87","v":"MPAN"},{"$f":"CData!H$144","v":103.95539821275293},{"$f":"IF(CData!B245,C44-CData!B245,\"\")","v":32.122739133980133},{"$f":"IF(CData!B275,C44-CData!B275,\"\")","v":52.064972555955102}]
["Domestic Two Rate",{"$f":"CData!B$88","v":"MPAN"},{"$f":"CData!H$148","v":107.81107719117276},{"$f":"IF(CData!B246,C45-CData!B246,\"\")","v":33.309771306478041},{"$f":"IF(CData!B276,C45-CData!B276,\"\")","v":53.99939989479207}]
["Domestic Off Peak (related MPAN)",{"$f":"CData!B$89","v":"MPAN"},{"$f":"CData!H$152","v":76576.759037661992},{"$f":"IF(CData!B247,C46-CData!B247,\"\")","v":23589.996859943261},{"$f":"IF(CData!B277,C46-CData!B277,\"\")","v":38469.841033138247}]
["Small Non Domestic Unrestricted",{"$f":"CData!B$90","v":"MPAN"},{"$f":"CData!H$156","v":260.76293758952937},{"$f":"IF(CData!B248,C47-CData!B248,\"\")","v":80.4995895840446},{"$f":"IF(CData!B278,C47-CData!B278,\"\")","v":130.64960193352167}]
["Small Non Domestic Two Rate",{"$f":"CData!B$91","v":"MPAN"},{"$f":"CData!H$160","v":358.91321558283352},{"$f":"IF(CData!B249,C48-CData!B249,\"\")","v":110.82584442857541},{"$f":"IF(CData!B279,C48-CData!B279,\"\")","v":179.76426054637665}]
["Small Non Domestic Off Peak (related MPAN)",{"$f":"CData!B$92","v":"MPAN"},{"$f":"CData!H$164","v":21645.936163165588},{"$f":"IF(CData!B250,C49-CData!B250,\"\")","v":6702.8609141620691},{"$f":"IF(CData!B280,C49-CData!B280,\"\")","v":10822.968081582794}]
["LV Medium Non-Domestic",{"$f":"CData!B$93","v":"MPAN"},{"$f":"CData!H$168","v":1720.6208983458309},{"$f":"IF(CData!B251,C50-CData!B251,\"\")","v":531.34105575331796},{"$f":"IF(CData!B281,C50-CData!B281,\"\")","v":861.52077357713063}]
["LV HH Metered",{"$f":"CData!B$96","v":"kVA"},{"$f":"CData!H$176","v":42.098562924567496},{"$f":"IF(CData!B252,C51-CData!B252,\"\")","v":13.011478893432965},{"$f":"IF(CData!B282,C51-CData!B282,\"\")","v":21.090046706735734}]
["LV Sub HH Metered",{"$f":"CData!B$97","v":"kVA"},{"$f":"CData!H$180","v":31.839161550873378},{"$f":"IF(CData!B253,C52-CData!B253,\"\")","v":""},{"$f":"IF(CData!B283,C52-CData!B283,\"\")","v":8.1007086983849703}]
["HV HH Metered",{"$f":"CData!B$98","v":"kVA"},{"$f":"CData!H$183","v":39.39204837807965},{"$f":"IF(CData!B254,C53-CData!B254,\"\")","v":""},{"$f":"IF(CData!B284,C53-CData!B284,\"\")","v":5.9800632850318465}]
["NHH UMS category A",{"$f":"CData!B$100","v":"MWh"},{"$f":"CData!H$188","v":22.61},{"$f":"IF(CData!B255,C54-CData!B255,\"\")","v":6.98},{"$f":"IF(CData!B285,C54-CData!B285,\"\")","v":11.32}]
["NHH UMS category B",{"$f":"CData!B$101","v":"MWh"},{"$f":"CData!H$192","v":22.63},{"$f":"IF(CData!B256,C55-CData!B256,\"\")","v":6.9899999999999984},{"$f":"IF(CData!B286,C55-CData!B286,\"\")","v":11.33}]
["NHH UMS category C",{"$f":"CData!B$102","v":"MWh"},{"$f":"CData!H$196","v":36.160000000000004},{"$f":"IF(CData!B257,C56-CData!B257,\"\")","v":11.170000000000002},{"$f":"IF(CData!B287,C56-CData!B287,\"\")","v":18.110000000000003}]
["NHH UMS category D",{"$f":"CData!B$103","v":"MWh"},{"$f":"CData!H$200","v":23.490000000000002},{"$f":"IF(CData!B258,C57-CData!B258,\"\")","v":7.25},{"$f":"IF(CData!B288,C57-CData!B288,\"\")","v":11.760000000000002}]
["LV UMS (Pseudo HH Metered)",{"$f":"CData!B$104","v":"MWh"},{"$f":"CData!H$204","v":22.799741757321339},{"$f":"IF(CData!B259,C58-CData!B259,\"\")","v":7.042662113020242},{"$f":"IF(CData!B289,C58-CData!B289,\"\")","v":11.42065159795688}]
["LV Generation NHH",{"$f":"CData!B$105","v":"MWh"},{"$f":"CData!H$208","v":-6.54},{"$f":"IF(CData!B260,C59-CData!B260,\"\")","v":0},{"$f":"IF(CData!B290,C59-CData!B290,\"\")","v":0}]
["LV Sub Generation NHH",{"$f":"CData!B$106","v":"MWh"},{"$f":"CData!H$212","v":0},{"$f":"IF(CData!B261,C60-CData!B261,\"\")","v":""},{"$f":"IF(CData!B291,C60-CData!B291,\"\")","v":""}]
["LV Generation Intermittent",{"$f":"CData!B$107","v":"MWh"},{"$f":"CData!H$215","v":-5.7758065282972062},{"$f":"IF(CData!B262,C61-CData!B262,\"\")","v":0},{"$f":"IF(CData!B292,C61-CData!B292,\"\")","v":0}]
["LV Generation Non-Intermittent",{"$f":"CData!B$108","v":"MWh"},{"$f":"CData!H$219","v":-6.6765454981236338},{"$f":"IF(CData!B263,C62-CData!B263,\"\")","v":0},{"$f":"IF(CData!B293,C62-CData!B293,\"\")","v":0}]
["LV Sub Generation Intermittent",{"$f":"CData!B$109","v":"MWh"},{"$f":"CData!H$223","v":0},{"$f":"IF(CData!B264,C63-CData!B264,\"\")","v":""},{"$f":"IF(CData!B294,C63-CData!B294,\"\")","v":""}]
["LV Sub Generation Non-Intermittent",{"$f":"CData!B$110","v":"MWh"},{"$f":"CData!H$226","v":19.153634097110832},{"$f":"IF(CData!B265,C64-CData!B265,\"\")","v":""},{"$f":"IF(CData!B295,C64-CData!B295,\"\")","v":0}]
["HV Generation Intermittent",{"$f":"CData!B$111","v":"MWh"},{"$f":"CData!H$229","v":-2.0393941451503492},{"$f":"IF(CData!B266,C65-CData!B266,\"\")","v":""},{"$f":"IF(CData!B296,C65-CData!B296,\"\")","v":0.61951636252629294}]
["HV Generation Non-Intermittent",{"$f":"CData!B$112","v":"MWh"},{"$f":"CData!H$232","v":-3.1660931901036302},{"$f":"IF(CData!B267,C66-CData!B267,\"\")","v":""},{"$f":"IF(CData!B297,C66-CData!B297,\"\")","v":2.8522266035148736E-2}]