{"text_format":"1","workbook":"xlsx","n_sheets":36,"sheets":["Cover","Version control","Model map","Index","Named ranges","ARP_DNO commentary","ARP_CDCM timebands","ARP_Load characteristics","ARP_Peaking probabilities","ARP_User control","ARP_Inputs by customer type","ARP_Inputs by network level","ARP_General inputs","Fixed inputs","Inputs by customer type","Inputs by network level","General inputs","Standing charge factors","Load & loss characteristics","Customer contributions","Volume adjustments","Pseudo-load coefficients","System peak demand","Service model assets","Unit costs","Initial unit rates","Service model charges","Unit rate charges","Reactive power charges","Capacity charges","Fixed charges","Revenue matching","Rounding","Net revenue summary","Tariff summary","Typical bills"],"not_rendered":{"charts":0,"images":3,"macros":1,"external_links":0,"defined_names":78,"comments":0,"pivot_tables":0},"unopened":[],"bounds":{"document_bytes":16777216,"sheet_cells":100000,"rows_first":2000,"rows_last":500,"rows_between":2000,"halvings":0,"cell_chars":16384,"cell_head_chars":4096},"cells_cut":0,"cells_raw":0,"read":"whole","date_system":"1900"}

{"sheet":"Cover","index":0,"n_rows":47,"n_cols":4,"rows_kept":47,"cut":false,"hidden":false,"merged":[]}
[]
[null,null,null,"ARP model"]
[]
[null,null,null,"Release for 2020/21 charge setting"]
[]
[null,{"$f":"'Version control'!F7","v":"Model date:"},null,{"$f":"'Version control'!H7","v":"2018-10-16"}]
[]
[null,{"$f":"'Version control'!F9","v":"Development stage:"},null,{"$f":"'Version control'!H9","v":"Release for charge setting"}]
[]
[null,{"$f":"'Version control'!F11","v":"Model number:"},null,{"$f":"'Version control'!H11","v":3}]
[]
[null,{"$f":"'Version control'!F13","v":"DCUSA text version:"},null,{"$f":"'Version control'!H13","v":"01 April 2020 DCUSA Charging Methodologies Pre-Release (released 09/10/2018)"}]
[]
[null,{"$f":"'Version control'!F15","v":"DCUSA text schedule:"},null,{"$f":"'Version control'!H15","v":"Schedules 16 & 20"}]
[]
[null,"DISCLAIMER",null,"Neither the authors nor Cambridge Economic Policy Associates/TNEI accept or assume any responsibility or duty of care to any third party."]
[null,null,null,"© All rights reserved by Cambridge Economic Policy Associates Ltd (CEPA) and TNEI Services Ltd"]
[]
[null,"Charging year:",null,"2020/21"]
[]
[null,"DNO name:",null,"[enter DNO name]"]
[]
[null,"Data version:",null,"[enter data version name]"]
[]
[null,"Notes:",null,"[enter DNO comments, if any]"]
[]
[null,"Key:"]
[null,"Format",null,"Description"]
[null,null,null,"Cell intentionally blank"]
[null,"Value",null,"Hardcoded input"]
[null,"Value",null,"User input"]
[null,"Value",null,"Model output"]
[null,"Value",null,"Calculation"]
[null,"Value",null,"Value from another worksheet"]
[null,"Value",null,"Value used on another worksheet"]
[null,"Value",null,"Issue identified in a check"]
[null,"Text",null,"Label"]
[null,"Text",null,"Annotation"]
[null,"Text",null,"Column heading"]
[null,"Text",null,"Level 1 heading"]
[null,"Text",null,"Level 2 heading"]
[null,"Text",null,"Level 3 and 4 heading"]
[null,"Sheet tab colour",null,"Information sheet"]
[null,"Sheet tab colour",null,"User control sheet"]
[null,"Sheet tab colour",null,"Input sheet"]
[null,"Sheet tab colour",null,"Calculation sheet"]
[null,"Sheet tab colour",null,"Output sheet"]

{"sheet":"Version control","index":1,"n_rows":77,"n_cols":12,"rows_kept":77,"cut":false,"hidden":false,"merged":[]}
[{"$f":"MID(CELL(\"filename\",A1),FIND(\"]\",CELL(\"filename\",A1))+1,255)","v":"Version control"}]
[{"$f":"Cover!D21&\" - \"&Cover!D23","v":"[enter DNO name] - [enter data version name]"}]
[{"$f":"Cover!D2&\" - \"&Cover!D8&\" v\"&Cover!D10&\" - \"&Cover!D19","v":"ARP model - Release for charge setting v3 - 2020/21"}]
[{"$f":"J60 & IF(J60 = 1, \" issue\", \" issues\") &\" identified in checks on this sheet\"","v":"0 issues identified in checks on this sheet"}]
[null,"Model version"]
[]
[null,null,null,null,null,"Model date:",null,{"$f":"LOOKUP(2,1/(F20:F30<>\"\"),F20:F30)","v":"2018-10-16"}]
[]
[null,null,null,null,null,"Development stage:",null,{"$f":"LOOKUP(2,1/(G20:G30<>\"\"),G20:G30)","v":"Release for charge setting"}]
[]
[null,null,null,null,null,"Model number:",null,{"$f":"LOOKUP(2,1/(H20:H30<>\"\"),H20:H30)","v":3}]
[]
[null,null,null,null,null,"DCUSA text version:",null,{"$f":"LOOKUP(2,1/(I20:I30<>\"\"),I20:I30)","v":"01 April 2020 DCUSA Charging Methodologies Pre-Release (released 09/10/2018)"}]
[]
[null,null,null,null,null,"DCUSA text schedule:",null,{"$f":"LOOKUP(2,1/(J20:J30<>\"\"),J20:J30)","v":"Schedules 16 & 20"}]
[]
[null,"Version log"]
[]
[null,null,null,null,null,"Model date","Development stage","Model number","DCUSA text version","DCUSA text schedule","Author","Description of changes"]
[null,null,null,null,null,"2018-05-30","Pre-release",1,"2019-20 pre-release plus Expert Panel clarifications","Schedules 16 & 20","CEPA-TNEI","-"]
[null,null,null,null,null,"2018-07-20","Pre-release",2,"DCUSA v10.3 (released 28/06/2018)","Schedules 16 & 20","CEPA-TNEI","References to DCUSA text updated to comply with version 10.3 (released 28/06/2018)."]
[null,null,null,null,null,"2018-10-16","Release for charge setting",3,"01 April 2020 DCUSA Charging Methodologies Pre-Release (released 09/10/2018)","Schedules 16 & 20","CEPA-TNEI","Updated references to legal text version."]
[]
[]
[]
[]
[]
[]
[]
[]
[null,"Model checks"]
[]
[null,null,null,null,"Issues identified by in-built model checks, by sheet"]
[null,null,null,null,null,{"$f":"\"ARP_\"&F38","v":"ARP_Inputs by customer type"},null,"Input 501","number of issues",{"$f":"'ARP_Inputs by customer type'!$H$1384","v":0}]
[null,null,null,null,null,{"$f":"\"ARP_\"&F39","v":"ARP_Inputs by network level"},null,"Input 502","number of issues",{"$f":"'ARP_Inputs by network level'!$H$218","v":0}]
[null,null,null,null,null,{"$f":"\"ARP_\"&F40","v":"ARP_General inputs"},null,"Input 503","number of issues",{"$f":"'ARP_General inputs'!$H$122","v":0}]
[null,null,null,null,null,"Fixed inputs",null,"Input 504","number of issues",{"$f":"'Fixed inputs'!H174","v":0}]
[null,null,null,null,null,"Inputs by customer type",null,"Section 501","number of issues",{"$f":"'Inputs by customer type'!H88","v":0}]
[null,null,null,null,null,"Inputs by network level",null,"Section 502","number of issues",{"$f":"'Inputs by network level'!H59","v":0}]
[null,null,null,null,null,"General inputs",null,"Section 503","number of issues",{"$f":"'General inputs'!H115","v":0}]
[null,null,null,null,null,"Standing Charge Factors",null,"Section 504","number of issues",{"$f":"'Standing charge factors'!H58","v":0}]
[null,null,null,null,null,"Load & loss characteristics",null,"Section 505","number of issues",{"$f":"'Load & loss characteristics'!H302","v":0}]
[null,null,null,null,null,"Customer contributions",null,"Section 506","number of issues",{"$f":"'Customer contributions'!H104","v":0}]
[null,null,null,null,null,"Volume adjustments",null,"Section 507","number of issues",{"$f":"'Volume adjustments'!H140","v":0}]
[null,null,null,null,null,"Pseudo-load coefficients",null,"Section 508","number of issues",{"$f":"'Pseudo-load coefficients'!H543","v":0}]
[null,null,null,null,null,"System peak demand",null,"Section 509","number of issues",{"$f":"'System peak demand'!H281","v":0}]
[null,null,null,null,null,"Service model assets",null,"Section 510","number of issues",{"$f":"'Service model assets'!H38","v":0}]
[null,null,null,null,null,"Unit costs",null,"Section 511","number of issues",{"$f":"'Unit costs'!H131","v":0}]
[null,null,null,null,null,"Initial unit rates",null,"Section 512","number of issues",{"$f":"'Initial unit rates'!H294","v":0}]
[null,null,null,null,null,"Service model charges",null,"Section 513","number of issues",{"$f":"'Service model charges'!H48","v":0}]
[null,null,null,null,null,"Unit rate charges",null,"Section 514","number of issues",{"$f":"'Unit rate charges'!H223","v":0}]
[null,null,null,null,null,"Reactive power charges",null,"Section 515","number of issues",{"$f":"'Reactive power charges'!H254","v":0}]
[null,null,null,null,null,"Capacity charges",null,"Section 516","number of issues",{"$f":"'Capacity charges'!H295","v":0}]
[null,null,null,null,null,"Fixed charges",null,"Section 517","number of issues",{"$f":"'Fixed charges'!H165","v":0}]
[null,null,null,null,null,"Revenue matching",null,"Section 518","number of issues",{"$f":"'Revenue matching'!H156","v":0}]
[null,null,null,null,null,"Rounding",null,"Section 519","number of issues",{"$f":"Rounding!H117","v":0}]
[null,null,null,null,null,"Net revenue summary",null,"Section 520","number of issues",{"$f":"'Net revenue summary'!$H$130","v":0}]
[null,null,null,null,null,"Tariff summary",null,"Output 501","number of issues",{"$f":"'Tariff summary'!$H$659","v":0}]
[null,null,null,null,null,"Typical bills",null,"Output 502","number of issues",{"$f":"'Typical bills'!$H$124","v":0}]
[null,null,null,null,null,"Total",null,null,"number of issues",{"$f":"IFERROR(SUM(J34:J59), 1)","v":0}]
[]
[null,"Version log lists"]
[]
[null,null,null,null,null,"Development stages"]
[null,null,null,null,null,"Working draft"]
[null,null,null,null,null,"Interim release"]
[null,null,null,null,null,"Pre-release"]
[null,null,null,null,null,"Release for charge setting"]
[]
[]
[]
[]
[]
[]
[null,null,null,null,null,"…"]
[]
[null,"End of sheet"]

{"sheet":"Model map","index":2,"n_rows":62,"n_cols":2,"rows_kept":62,"cut":false,"hidden":false,"merged":[]}
[{"$f":"MID(CELL(\"filename\",A1),FIND(\"]\",CELL(\"filename\",A1))+1,255)","v":"Model map"}]
[{"$f":"Cover!D21&\" - \"&Cover!D23","v":"[enter DNO name] - [enter data version name]"}]
[{"$f":"Cover!D2&\" - \"&Cover!D8&\" v\"&Cover!D10&\" - \"&Cover!D19","v":"ARP model - Release for charge setting v3 - 2020/21"}]
[]
[null,"Model map"]
[]
[]
[]
[]
[]
[]
[]
[]
[]
[]
[]
[]
[]
[]
[]
[]
[]
[]
[]
[]
[]
[]
[]
[]
[]
[]
[]
[]
[]
[]
[]
[]
[]
[]
[]
[]
[]
[]
[]
[]
[]
[]
[]
[]
[]
[]
[]
[]
[]
[]
[]
[]
[]
[]
[]
[]
["End of sheet"]

{"sheet":"Index","index":3,"n_rows":248,"n_cols":7,"rows_kept":248,"cut":false,"hidden":false,"merged":[]}
[{"$f":"MID(CELL(\"filename\",A1),FIND(\"]\",CELL(\"filename\",A1))+1,255)","v":"Index"}]
[{"$f":"Cover!D21&\" - \"&Cover!D23","v":"[enter DNO name] - [enter data version name]"}]
[{"$f":"Cover!D2&\" - \"&Cover!D8&\" v\"&Cover!D10&\" - \"&Cover!D19","v":"ARP model - Release for charge setting v3 - 2020/21"}]
[]
[null,"Description"]
[]
[null,null,"This sheet contains links to each sheet of the model and the main sections within them."]
[null,null,"It also contains links to more granular sections within the sheets for inputs, calculations and outputs."]
[]
[null,"Index of sheets and main sections"]
[]
[null,null,"The following table provides links to all the sheets within this model and the main sections within them."]
[]
[null,null,null,null,null,"Sheet","Section"]
[null,null,null,null,null,"Cover"]
[null,null,null,null,null,"Version control",{"$f":"'Version control'!$B$5","v":"Model version"}]
[null,null,null,null,null,"",{"$f":"'Version control'!$B$17","v":"Version log"}]
[null,null,null,null,null,"",{"$f":"'Version control'!$B$31","v":"Model checks"}]
[null,null,null,null,null,"",{"$f":"'Version control'!$B$62","v":"Version log lists"}]
[null,null,null,null,null,"Model map",{"$f":"'Model map'!$B$5","v":"Model map"}]
[null,null,null,null,null,"Named ranges",{"$f":"'Named ranges'!$B$5","v":"List of named ranges"}]
[null,null,null,null,null,"ARP_DNO commentary",{"$f":"'ARP_DNO commentary'!$B$9","v":"Commentary"}]
[null,null,null,null,null,"ARP_CDCM timebands",{"$f":"'ARP_CDCM timebands'!$B$12","v":"CDCM timebands"}]
[null,null,null,null,null,"ARP_Load characteristics",{"$f":"'ARP_Load characteristics'!$B$13","v":"Years"}]
[null,null,null,null,null,"",{"$f":"'ARP_Load characteristics'!$B$20","v":"Load characteristics"}]
[null,null,null,null,null,"",{"$f":"'ARP_Load characteristics'!$B$34","v":"Split of units by distribution timeband"}]
[null,null,null,null,null,"ARP_Peaking probabilities",{"$f":"'ARP_Peaking probabilities'!$B$14","v":"Years"}]
[null,null,null,null,null,"",{"$f":"'ARP_Peaking probabilities'!$B$21","v":"Peaking probabilities, by distribution timeband"}]
[null,null,null,null,null,"ARP_User control",{"$f":"'ARP_User control'!$B$10","v":"User interface"}]
[null,null,null,null,null,"",{"$f":"'ARP_User control'!$B$25","v":"Lists"}]
[null,null,null,null,null,"ARP_Inputs by customer type",{"$f":"'ARP_Inputs by customer type'!$B$14","v":"Load characteristics"}]
[null,null,null,null,null,"",{"$f":"'ARP_Inputs by customer type'!$B$90","v":"Volumes"}]
[null,null,null,null,null,"",{"$f":"'ARP_Inputs by customer type'!$B$833","v":"Split of units by distribution timeband"}]
[null,null,null,null,null,"",{"$f":"'ARP_Inputs by customer type'!$B$1159","v":"Service model asset values"}]
[null,null,null,null,null,"ARP_Inputs by network level",{"$f":"'ARP_Inputs by network level'!$B$14","v":"Inputs by network level"}]
[null,null,null,null,null,"ARP_General inputs",{"$f":"'ARP_General inputs'!$B$14","v":"General inputs"}]
[null,null,null,null,null,"Fixed inputs",{"$f":"'Fixed inputs'!$B$11","v":"Fixed inputs"}]
[null,null,null,null,null,"Inputs by customer type",{"$f":"'Inputs by customer type'!$B$14","v":"Inputs by customer type"}]
[null,null,null,null,null,"Inputs by network level",{"$f":"'Inputs by network level'!$B$14","v":"Inputs by network level"}]
[null,null,null,null,null,"General inputs",{"$f":"'General inputs'!$B$14","v":"General inputs"}]
[null,null,null,null,null,"Load & loss characteristics",{"$f":"'Load & loss characteristics'!$B$13","v":"Load and loss characteristics"}]
[null,null,null,null,null,"",{"$f":"'Load & loss characteristics'!$B$31","v":"User loss factor adjustments"}]
[null,null,null,null,null,"Customer contributions",{"$f":"'Customer contributions'!$B$12","v":"Customer contributions"}]
[null,null,null,null,null,"Volume adjustments",{"$f":"'Volume adjustments'!$B$13","v":"LDNO discounts"}]
[null,null,null,null,null,"",{"$f":"'Volume adjustments'!$B$51","v":"Volume discounting"}]
[null,null,null,null,null,"Pseudo-load coefficients",{"$f":"'Pseudo-load coefficients'!$B$325","v":"Adjustment for domestic and non-domestic charge equalisation"}]
[null,null,null,null,null,"System peak demand",{"$f":"'System peak demand'!$B$16","v":"Common inputs for chargeable load calculations"}]
[null,null,null,null,null,"",{"$f":"'System peak demand'!$B$63","v":"Load at system peak charged to unit rates"}]
[null,null,null,null,null,"",{"$f":"'System peak demand'!$B$179","v":"Load at system peak charged to standing charges"}]
[null,null,null,null,null,"",{"$f":"'System peak demand'!$B$262","v":"System peak based on chargeable load"}]
[null,null,null,null,null,"Service model assets",{"$f":"'Service model assets'!$B$12","v":"Service model notional asset values"}]
[null,null,null,null,null,"Unit costs",{"$f":"'Unit costs'!$B$15","v":"500MW model costs"}]
[null,null,null,null,null,"",{"$f":"'Unit costs'!$B$58","v":"Allocation of other costs"}]
[null,null,null,null,null,"",{"$f":"'Unit costs'!$B$102","v":"Outputs"}]
[null,null,null,null,null,"Initial unit rates",{"$f":"'Initial unit rates'!$B$11","v":"Inputs for yardstick and unit rate calculations"}]
[null,null,null,null,null,"",{"$f":"'Initial unit rates'!$B$116","v":"Calculation of yardstick & unit rate charges"}]
[null,null,null,null,null,"Service model charges",{"$f":"'Service model charges'!$B$13","v":"Inputs to service model charge calculation"}]
[null,null,null,null,null,"",{"$f":"'Service model charges'!$B$29","v":"Allocation of service model costs"}]
[null,null,null,null,null,"Unit rate charges",{"$f":"'Unit rate charges'!$B$15","v":"Inputs to unit rate charge calculations"}]
[null,null,null,null,null,"",{"$f":"'Unit rate charges'!$B$122","v":"Application of standing charges to unit rates"}]
[null,null,null,null,null,"Reactive power charges",{"$f":"'Reactive power charges'!$B$13","v":"Inputs to reactive power charge calculations"}]
[null,null,null,null,null,"",{"$f":"'Reactive power charges'!$B$150","v":"Calculation of yardstick charges for generation"}]
[null,null,null,null,null,"",{"$f":"'Reactive power charges'!$B$185","v":"Calculation of reactive power charges"}]
[null,null,null,null,null,"Capacity charges",{"$f":"'Capacity charges'!$B$17","v":"Inputs to capacity charge calculations"}]
[null,null,null,null,null,"",{"$f":"'Capacity charges'!$B$125","v":"Calculation of capacity charges"}]
[null,null,null,null,null,"",{"$f":"'Capacity charges'!$B$249","v":"Capacity charges (and elements allocated to fixed charges)"}]
[null,null,null,null,null,"Fixed charges",{"$f":"'Fixed charges'!$B$14","v":"Inputs to fixed charge calculations"}]
[null,null,null,null,null,"",{"$f":"'Fixed charges'!$B$65","v":"Calculation of fixed charges"}]
[null,null,null,null,null,"Revenue matching",{"$f":"'Revenue matching'!$B$13","v":"Pre-matching net revenue calculations"}]
[null,null,null,null,null,"",{"$f":"'Revenue matching'!$B$56","v":"Adder calculation"}]
[null,null,null,null,null,"Rounding",{"$f":"Rounding!$B$12","v":"Inputs"}]
[null,null,null,null,null,"",{"$f":"Rounding!$B$71","v":"Rounding of tariff forecast"}]
[null,null,null,null,null,"Net revenue summary",{"$f":"'Net revenue summary'!$B$11","v":"Inputs to net revenue summary calculation"}]
[null,null,null,null,null,"",{"$f":"'Net revenue summary'!$B$77","v":"Typical bills"}]
[null,null,null,null,null,"Tariff summary",{"$f":"'Tariff summary'!$B$13","v":"Tariff summary"}]
[null,null,null,null,null,"Typical bills",{"$f":"'Typical bills'!$B$13","v":"Typical bills"}]
[]
[null,"Index of inputs, calculation sections and outputs"]
[]
[null,null,"The following table provides links to each input, calculation and output section. Each has a unique identifier for ease of reference."]
[]
[null,null,null,null,null,"Sheet","Section"]
[null,null,null,null,null,"ARP_CDCM timebands",{"$f":"'ARP_CDCM timebands'!$C$14","v":"Distribution time bands"}]
[null,null,null,null,null,"",{"$f":"'ARP_CDCM timebands'!$C$26","v":"Special distribution time bands"}]
[null,null,null,null,null,"ARP_Load characteristics",{"$f":"'ARP_Load characteristics'!$D$39","v":"Unit rate 1"}]
[null,null,null,null,null,"",{"$f":"'ARP_Load characteristics'!$D$59","v":"Unit rate 2"}]
[null,null,null,null,null,"",{"$f":"'ARP_Load characteristics'!$D$79","v":"Unit rate 3"}]
[null,null,null,null,null,"ARP_User control",{"$f":"'ARP_User control'!$C$15","v":"Inputs for manually running selected year"}]
[null,null,null,null,null,"",{"$f":"'ARP_User control'!$C$19","v":"Macro to run all years"}]
[null,null,null,null,null,"ARP_Inputs by customer type",{"$f":"'ARP_Inputs by customer type'!$C$16","v":"Input 501-A: Load factor"}]
[null,null,null,null,null,"",{"$f":"'ARP_Inputs by customer type'!$C$53","v":"Input 501-B: Coincidence factor"}]
[null,null,null,null,null,"",{"$f":"'ARP_Inputs by customer type'!$C$92","v":"Input 501-C: All-the-way volumes"}]
[null,null,null,null,null,"",{"$f":"'ARP_Inputs by customer type'!$C$339","v":"Input 501-D: LDNO LV volumes"}]
[null,null,null,null,null,"",{"$f":"'ARP_Inputs by customer type'!$C$586","v":"Input 501-E: LDNO HV volumes"}]
[null,null,null,null,null,"",{"$f":"'ARP_Inputs by customer type'!$C$838","v":"Input 501-F: Split of units by distribution timeband - Unit rate 1"}]
[null,null,null,null,null,"",{"$f":"'ARP_Inputs by customer type'!$C$945","v":"Input 501-G: Split of units by distribution timeband - Unit rate 2"}]
[null,null,null,null,null,"",{"$f":"'ARP_Inputs by customer type'!$C$1052","v":"Input 501-H: Split of units by distribution timeband - Unit rate 3"}]
[null,null,null,null,null,"",{"$f":"'ARP_Inputs by customer type'!$C$1163","v":"Input 501-I: LV customer service model asset values"}]
[null,null,null,null,null,"",{"$f":"'ARP_Inputs by customer type'!$C$1200","v":"Input 501-J: HV customer service model asset values"}]
[null,null,null,null,null,"",{"$f":"'ARP_Inputs by customer type'!$C$1237","v":"Input 501-K: LV UMS customer service model asset values"}]
[null,null,null,null,null,"ARP_Inputs by network level",{"$f":"'ARP_Inputs by network level'!$C$16","v":"Input 502-A: Diversity allowance between top and bottom of network level"}]
[null,null,null,null,null,"",{"$f":"'ARP_Inputs by network level'!$C$30","v":"Input 502-B: Proportion of EHV/HV load going through 132kV/HV direct transformation"}]
[null,null,null,null,null,"",{"$f":"'ARP_Inputs by network level'!$C$44","v":"Input 502-C: Loss adjustment factors to transmission"}]
[null,null,null,null,null,"",{"$f":"'ARP_Inputs by network level'!$C$58","v":"Input 502-D: Average kVAr by kVA, by network level"}]
[null,null,null,null,null,"",{"$f":"'ARP_Inputs by network level'!$C$72","v":"Input 502-E: Customer contributions under current connection charging policy"}]
[null,null,null,null,null,"",{"$f":"'ARP_Inputs by network level'!$C$120","v":"Input 502-F: Gross asset cost by network level"}]
[null,null,null,null,null,"",{"$f":"'ARP_Inputs by network level'!$C$134","v":"Input 502-G: Peaking probabilities, by timeband & network level"}]
[null,null,null,null,null,"ARP_General inputs",{"$f":"'ARP_General inputs'!$C$16","v":"Input 503-A: Split of hours by distribution timeband"}]
[null,null,null,null,null,"",{"$f":"'ARP_General inputs'!$C$28","v":"Input 503-B: Embedded network (LDNO) discount percentages"}]
[null,null,null,null,null,"",{"$f":"'ARP_General inputs'!$C$38","v":"Input 503-C: CDCM target revenue"}]
[null,null,null,null,null,"",{"$f":"'ARP_General inputs'!$C$96","v":"Input 503-D: Financial and general assumptions"}]
[null,null,null,null,null,"",{"$f":"'ARP_General inputs'!$C$101","v":"Input 503-E: Transmission exit charges"}]
[null,null,null,null,null,"",{"$f":"'ARP_General inputs'!$C$105","v":"Input 503-F: Other expenditure"}]
[null,null,null,null,null,"Fixed inputs",{"$f":"'Fixed inputs'!$C$13","v":"Input 504-A: Conversions and time"}]
[null,null,null,null,null,"",{"$f":"'Fixed inputs'!$C$20","v":"Input 504-B: Input 101-B: Rounding"}]
[null,null,null,null,null,"",{"$f":"'Fixed inputs'!$C$33","v":"Input 504-C: Financial and general assumptions"}]
[null,null,null,null,null,"",{"$f":"'Fixed inputs'!$C$43","v":"Input 504-D: Mappings"}]
[null,null,null,null,null,"",{"$f":"'Fixed inputs'!$C$84","v":"Input 504-E: Standing charge factors"}]
[null,null,null,null,null,"",{"$f":"'Fixed inputs'!$C$100","v":"Input 504-F: Flags"}]
[null,null,null,null,null,"",{"$f":"'Fixed inputs'!$C$146","v":"Input 504-G: Identifiers for customer groupings"}]
[null,null,null,null,null,"",{"$f":"'Fixed inputs'!$C$157","v":"Input 504-H: Decimal places for error checks"}]
[null,null,null,null,null,"Inputs by customer type",{"$f":"'Inputs by customer type'!$C$16","v":"Section 501-A: Load characteristics"}]
[null,null,null,null,null,"",{"$f":"'Inputs by customer type'!$C$21","v":"Section 501-B: Volume forecasts for the charging year"}]
[null,null,null,null,null,"",{"$f":"'Inputs by customer type'!$C$50","v":"Section 501-C: Split of units by distribution timeband"}]
[null,null,null,null,null,"",{"$f":"'Inputs by customer type'!$C$70","v":"Section 501-D: Service model asset values"}]
[null,null,null,null,null,"Inputs by network level",{"$f":"'Inputs by network level'!$C$16","v":"Section 502-A: Network and load inputs"}]
[null,null,null,null,null,"",{"$f":"'Inputs by network level'!$C$26","v":"Section 502-B: Customer contributions under current connection charging policy"}]
[null,null,null,null,null,"",{"$f":"'Inputs by network level'!$C$34","v":"Section 502-C: DRM asset costs"}]
[null,null,null,null,null,"",{"$f":"'Inputs by network level'!$C$38","v":"Section 502-D: Peaking probabilities by network level"}]
[null,null,null,null,null,"General inputs",{"$f":"'General inputs'!$C$16","v":"Section 503-A: Inputs by distribution timeband"}]
[null,null,null,null,null,"",{"$f":"'General inputs'!$C$28","v":"Section 503-B: LDNO discount inputs"}]
[null,null,null,null,null,"",{"$f":"'General inputs'!$C$38","v":"Section 503-C: CDCM target revenue"}]
[null,null,null,null,null,"",{"$f":"'General inputs'!$C$90","v":"Section 503-D: Financial and general assumptions"}]
[null,null,null,null,null,"",{"$f":"'General inputs'!$C$96","v":"Section 503-E: Transmission exit charges"}]
[null,null,null,null,null,"",{"$f":"'General inputs'!$C$100","v":"Section 503-F: Other expenditure"}]
[null,null,null,null,null,"Standing charge factors",{"$f":"'Standing charge factors'!$C$19","v":"Section 504-A: Adjustments to standing charges"}]
[null,null,null,null,null,"Load & loss characteristics",{"$f":"'Load & loss characteristics'!$C$17","v":"Section 505-A: Load characteristics"}]
[null,null,null,null,null,"",{"$f":"'Load & loss characteristics'!$C$25","v":"Section 505-B: Loss adjustment factors"}]
[null,null,null,null,null,"",{"$f":"'Load & loss characteristics'!$C$35","v":"Section 505-C: Proportion of relevant load going through 132kV/HV direct transformation"}]
[null,null,null,null,null,"",{"$f":"'Load & loss characteristics'!$C$40","v":"Section 505-D: Network use factors"}]
[null,null,null,null,null,"",{"$f":"'Load & loss characteristics'!$C$189","v":"Section 505-E: User loss factors"}]
[null,null,null,null,null,"Customer contributions",{"$f":"'Customer contributions'!$C$16","v":"Section 506-A: Network use factors"}]
[null,null,null,null,null,"",{"$f":"'Customer contributions'!$C$55","v":"Section 506-B: Customer contributions"}]
[null,null,null,null,null,"Volume adjustments",{"$f":"'Volume adjustments'!$C$15","v":"Section 507-A: LDNO discounts"}]
[null,null,null,null,null,"",{"$f":"'Volume adjustments'!$C$55","v":"Section 507-B: Volume discounting"}]
[null,null,null,null,null,"Pseudo-load coefficients",{"$f":"'Pseudo-load coefficients'!$C$21","v":"Section 508-A: Flags and hours in timebands"}]
[null,null,null,null,null,"",{"$f":"'Pseudo-load coefficients'!$C$33","v":"Section 508-B: Average load by timeband"}]
[null,null,null,null,null,"",{"$f":"'Pseudo-load coefficients'!$C$77","v":"Section 508-C: Aggregated values for UMS customers"}]
[null,null,null,null,null,"",{"$f":"'Pseudo-load coefficients'!$C$86","v":"Section 508-D: Ratio of coincidence to load factor assuming units evenly spread within time bands, and peak falls in Red period"}]
[null,null,null,null,null,"",{"$f":"'Pseudo-load coefficients'!$C$96","v":"Section 508-E: Load characteristics for all customers"}]
[null,null,null,null,null,"",{"$f":"'Pseudo-load coefficients'!$C$101","v":"Section 508-F: Aggregated load characteristics for UMS customers"}]
[null,null,null,null,null,"",{"$f":"'Pseudo-load coefficients'!$C$114","v":"Section 508-G: Calculation of correction factor"}]
[null,null,null,null,null,"",{"$f":"'Pseudo-load coefficients'!$C$129","v":"Section 508-H: Peaking probabilities, by network level"}]
[null,null,null,null,null,"",{"$f":"'Pseudo-load coefficients'!$C$203","v":"Section 508-I: Peaking probabilities, by network level and customer type"}]
[null,null,null,null,null,"",{"$f":"'Pseudo-load coefficients'!$C$250","v":"Section 508-J: Ratio of coincidence factor to load factor, based on uniform distribution in timebands and peaking probabilities"}]
[null,null,null,null,null,"",{"$f":"'Pseudo-load coefficients'!$C$290","v":"Section 508-K: Pseudo load coefficients, by unit rate"}]
[null,null,null,null,null,"",{"$f":"'Pseudo-load coefficients'!$C$335","v":"Section 508-L: Peak load based on average pseudo load coefficient"}]
[null,null,null,null,null,"",{"$f":"'Pseudo-load coefficients'!$C$359","v":"Section 508-M: Adjustment group flags"}]
[null,null,null,null,null,"",{"$f":"'Pseudo-load coefficients'!$C$365","v":"Section 508-N: Average pseudo load coefficient for HH tariff forecast, based on average split of units for NHH tariff forecast"}]
[null,null,null,null,null,"",{"$f":"'Pseudo-load coefficients'!$C$393","v":"Section 508-O: Volume weighted average pseudo load coefficient by profile class"}]
[null,null,null,null,null,"",{"$f":"'Pseudo-load coefficients'!$C$417","v":"Section 508-P: Relative correction factors"}]
[null,null,null,null,null,"",{"$f":"'Pseudo-load coefficients'!$C$485","v":"Section 508-Q: Final correction factors for Paragraph 72A adjustment"}]
[null,null,null,null,null,"",{"$f":"'Pseudo-load coefficients'!$C$502","v":"Section 508-R: Load coefficient"}]
[null,null,null,null,null,"",{"$f":"'Pseudo-load coefficients'!$C$506","v":"Section 508-S: Pseudo load coefficients, by unit rate"}]
[null,null,null,null,null,"System peak demand",{"$f":"'System peak demand'!$C$18","v":"Section 509-A: Common inputs for chargeable load calculations"}]
[null,null,null,null,null,"",{"$f":"'System peak demand'!$C$67","v":"Section 509-B: System peak load, by unit rate"}]
[null,null,null,null,null,"",{"$f":"'System peak demand'!$C$138","v":"Section 509-C: System peak load, all unit rates"}]
[null,null,null,null,null,"",{"$f":"'System peak demand'!$C$164","v":"Section 509-D: Unit rate contributions to chargeable peak load"}]
[null,null,null,null,null,"",{"$f":"'System peak demand'!$C$184","v":"Section 509-E: Adjustment of import and exceeded capacity"}]
[null,null,null,null,null,"",{"$f":"'System peak demand'!$C$194","v":"Section 509-F: Calculation of LV circuit diversity factor"}]
[null,null,null,null,null,"",{"$f":"'System peak demand'!$C$236","v":"Section 509-G: Import/exceeded capacity contribution to system peak"}]
[null,null,null,null,null,"",{"$f":"'System peak demand'!$C$249","v":"Section 509-H: Estimated capacity contribution to system peak"}]
[null,null,null,null,null,"",{"$f":"'System peak demand'!$C$266","v":"Section 509-I: System peak based on chargeable load"}]
[null,null,null,null,null,"Service model assets",{"$f":"'Service model assets'!$C$14","v":"Section 510-A: Service model notional asset values"}]
[null,null,null,null,null,"Unit costs",{"$f":"'Unit costs'!$C$19","v":"Section 511-A: Financial data"}]
[null,null,null,null,null,"",{"$f":"'Unit costs'!$C$27","v":"Section 511-B: Diversity and loss adjustment factors"}]
[null,null,null,null,null,"",{"$f":"'Unit costs'!$C$35","v":"Section 511-C: Maximum demand"}]
[null,null,null,null,null,"",{"$f":"'Unit costs'!$C$42","v":"Section 511-D: Rerouting matrix"}]
[null,null,null,null,null,"",{"$f":"'Unit costs'!$C$50","v":"Section 511-E: Annuitised cost of assets"}]
[null,null,null,null,null,"",{"$f":"'Unit costs'!$C$62","v":"Section 511-F: System simultaneous peak load based on charegable units"}]
[null,null,null,null,null,"",{"$f":"'Unit costs'!$C$69","v":"Section 511-G: Notional asset values, by network level"}]
[null,null,null,null,null,"",{"$f":"'Unit costs'!$C$80","v":"Section 511-H: Other operating costs"}]
[null,null,null,null,null,"",{"$f":"'Unit costs'!$C$92","v":"Section 511-I: Other operating costs by network level"}]
[null,null,null,null,null,"",{"$f":"'Unit costs'!$C$104","v":"Section 511-J: Notional asset values by network level"}]
[null,null,null,null,null,"",{"$f":"'Unit costs'!$C$110","v":"Section 511-K: Unit costs"}]
[null,null,null,null,null,"",{"$f":"'Unit costs'!$C$117","v":"Section 511-L: Values used for allocating costs to service models"}]
[null,null,null,null,null,"Initial unit rates",{"$f":"'Initial unit rates'!$C$13","v":"Section 512-A: Inputs for yardstick and unit rate calculations"}]
[null,null,null,null,null,"",{"$f":"'Initial unit rates'!$C$118","v":"Section 512-B: Yardstick charges"}]
[null,null,null,null,null,"",{"$f":"'Initial unit rates'!$C$146","v":"Section 512-C: Unit rate 1"}]
[null,null,null,null,null,"",{"$f":"'Initial unit rates'!$C$175","v":"Section 512-D: Unit rate 2"}]
[null,null,null,null,null,"",{"$f":"'Initial unit rates'!$C$204","v":"Section 512-E: Unit rate 3"}]
[null,null,null,null,null,"Service model charges",{"$f":"'Service model charges'!$C$17","v":"Section 513-A: Inputs to service model charge calculation"}]
[null,null,null,null,null,"",{"$f":"'Service model charges'!$C$33","v":"Section 513-B: Calculation of other operating expenditure per £ of notional asset value"}]
[null,null,null,null,null,"",{"$f":"'Service model charges'!$C$37","v":"Section 513-C: Calculation of service model charges"}]
[null,null,null,null,null,"Unit rate charges",{"$f":"'Unit rate charges'!$C$19","v":"Section 514-A: Initial unit rate 1"}]
[null,null,null,null,null,"",{"$f":"'Unit rate charges'!$C$49","v":"Section 514-B: Initial unit rate 2"}]
[null,null,null,null,null,"",{"$f":"'Unit rate charges'!$C$79","v":"Section 514-C: Initial unit rate 3"}]
[null,null,null,null,null,"",{"$f":"'Unit rate charges'!$C$109","v":"Section 514-D: Standing charge factors"}]
[null,null,null,null,null,"",{"$f":"'Unit rate charges'!$C$124","v":"Section 514-E: Contributions to unit rate 1 p/kWh by network level (taking account of standing charges)"}]
[null,null,null,null,null,"",{"$f":"'Unit rate charges'!$C$154","v":"Section 514-F: Contributions to unit rate 2 p/kWh by network level (taking account of standing charges)"}]
[null,null,null,null,null,"",{"$f":"'Unit rate charges'!$C$184","v":"Section 514-G: Contributions to unit rate 3 p/kWh by network level (taking account of standing charges)"}]
[null,null,null,null,null,"",{"$f":"'Unit rate charges'!$C$214","v":"Section 514-H: Unit rates, post application of standing charges"}]
[null,null,null,null,null,"Reactive power charges",{"$f":"'Reactive power charges'!$C$17","v":"Section 515-A: Inputs to reactive power charge calculations"}]
[null,null,null,null,null,"",{"$f":"'Reactive power charges'!$C$120","v":"Section 515-B: Yardstick charge (demand)"}]
[null,null,null,null,null,"",{"$f":"'Reactive power charges'!$C$155","v":"Section 515-C: Yardstick charge used for generation"}]
[null,null,null,null,null,"",{"$f":"'Reactive power charges'!$C$190","v":"Section 515-D: Reactive power charges, all customer categories"}]
[null,null,null,null,null,"",{"$f":"'Reactive power charges'!$C$220","v":"Section 515-E: Reactive power charges for applicable customers"}]
[null,null,null,null,null,"Capacity charges",{"$f":"'Capacity charges'!$C$19","v":"Section 516-A: Inputs to capacity charge calculations"}]
[null,null,null,null,null,"",{"$f":"'Capacity charges'!$C$129","v":"Section 516-B: Capacity-based charge elements (to be split between capacity & fixed charges)"}]
[null,null,null,null,null,"",{"$f":"'Capacity charges'!$C$159","v":"Section 516-C: Exceeded capacity-based charge elements"}]
[null,null,null,null,null,"",{"$f":"'Capacity charges'!$C$189","v":"Section 516-D: Capacity charges for eligible customers, by network level"}]
[null,null,null,null,null,"",{"$f":"'Capacity charges'!$C$219","v":"Section 516-E: Exceeded capacity charges for eligible customers, by network level"}]
[null,null,null,null,null,"",{"$f":"'Capacity charges'!$C$254","v":"Section 516-F: Capacity and exceeded capacity charges"}]
[null,null,null,null,null,"",{"$f":"'Capacity charges'!$C$259","v":"Section 516-G: Capacity elements allocated to fixed charges"}]
[null,null,null,null,null,"Fixed charges",{"$f":"'Fixed charges'!$C$16","v":"Section 517-A: Volumes (discounted MPANs & maximum load)"}]
[null,null,null,null,null,"",{"$f":"'Fixed charges'!$C$22","v":"Section 517-B: Capacity elements allocated to fixed charges"}]
[null,null,null,null,null,"",{"$f":"'Fixed charges'!$C$52","v":"Section 517-C: Service model costs allocated to fixed charges"}]
[null,null,null,null,null,"",{"$f":"'Fixed charges'!$C$58","v":"Section 517-D: Flags"}]
[null,null,null,null,null,"",{"$f":"'Fixed charges'!$C$67","v":"Section 517-E: Revenue allocated to fixed charges"}]
[null,null,null,null,null,"",{"$f":"'Fixed charges'!$C$97","v":"Section 517-F: Revenue allocated to fixed charges, by aggregation group"}]
[null,null,null,null,null,"",{"$f":"'Fixed charges'!$C$127","v":"Section 517-G: Fixed charges, by network level"}]
[null,null,null,null,null,"",{"$f":"'Fixed charges'!$C$159","v":"Section 517-H: Aggregated fixed charges"}]
[null,null,null,null,null,"Revenue matching",{"$f":"'Revenue matching'!$C$15","v":"Section 518-A: Inputs to revenue matching"}]
[null,null,null,null,null,"",{"$f":"'Revenue matching'!$C$39","v":"Section 518-B: Net revenue before matching"}]
[null,null,null,null,null,"",{"$f":"'Revenue matching'!$C$62","v":"Section 518-C: Calculation of unconstrained adder solution"}]
[null,null,null,null,null,"",{"$f":"'Revenue matching'!$C$86","v":"Section 518-D: Algorithm to find constrained adder solution"}]
[null,null,null,null,null,"",{"$f":"'Revenue matching'!$C$125","v":"Section 518-E: Adder to be applied to unit rates"}]
[null,null,null,null,null,"Rounding",{"$f":"Rounding!$C$16","v":"Section 519-A: Pre-match, pre-rounding tariff forecast"}]
[null,null,null,null,null,"",{"$f":"Rounding!$C$28","v":"Section 519-B: Adder to be applied to unit rates"}]
[null,null,null,null,null,"",{"$f":"Rounding!$C$40","v":"Section 519-C: LDNO discounts"}]
[null,null,null,null,null,"",{"$f":"Rounding!$C$60","v":"Section 519-D: Decimal places for rounding"}]
[null,null,null,null,null,"",{"$f":"Rounding!$C$75","v":"Section 519-E: All the way tariff forecast, pre-rounding"}]
[null,null,null,null,null,"",{"$f":"Rounding!$C$86","v":"Section 519-F: tariff forecast, post-rounding"}]
[null,null,null,null,null,"Net revenue summary",{"$f":"'Net revenue summary'!$C$13","v":"Section 520-A: Volume forecasts"}]
[null,null,null,null,null,"",{"$f":"'Net revenue summary'!$C$42","v":"Section 520-B: Tariff forecast"}]
[null,null,null,null,null,"",{"$f":"'Net revenue summary'!$C$71","v":"Section 520-C: Net revenue components"}]
[null,null,null,null,null,"",{"$f":"'Net revenue summary'!$C$79","v":"Section 520-D: Net revenue by tariff"}]
[null,null,null,null,null,"",{"$f":"'Net revenue summary'!$C$111","v":"Section 520-E: Net revenue summary (for information only)"}]
[null,null,null,null,null,"",{"$f":"'Net revenue summary'!$C$122","v":"Section 520-F: Typical bills"}]
[null,null,null,null,null,"Tariff summary",{"$f":"'Tariff summary'!$C$15","v":"Output 501-A: Live tariff results (2024/25)"}]
[null,null,null,null,null,"",{"$f":"'Tariff summary'!$C$122","v":"Output 501-B: tariff forecast results for charging year 2020/21"}]
[null,null,null,null,null,"",{"$f":"'Tariff summary'!$C$229","v":"Output 501-C: Tariff results for charging year 2021/22"}]
[null,null,null,null,null,"",{"$f":"'Tariff summary'!$C$336","v":"Output 501-D: Tariff results for charging year 2022/23"}]
[null,null,null,null,null,"",{"$f":"'Tariff summary'!$C$443","v":"Output 501-E: Tariff results for charging year 2023/24"}]
[null,null,null,null,null,"",{"$f":"'Tariff summary'!$C$550","v":"Output 501-F: Tariff results for charging year 2024/25"}]
[null,null,null,null,null,"Typical bills",{"$f":"'Typical bills'!$C$15","v":"Output 502-A: Typical bill results"}]
[]
[null,"End of sheet"]

{"sheet":"Named ranges","index":4,"n_rows":32,"n_cols":8,"rows_kept":32,"cut":false,"hidden":false,"merged":[]}
[{"$f":"MID(CELL(\"filename\",A1),FIND(\"]\",CELL(\"filename\",A1))+1,255)","v":"Named ranges"}]
[{"$f":"Cover!D21&\" - \"&Cover!D23","v":"[enter DNO name] - [enter data version name]"}]
[{"$f":"Cover!D2&\" - \"&Cover!D8&\" v\"&Cover!D10&\" - \"&Cover!D19","v":"ARP model - Release for charge setting v3 - 2020/21"}]
[]
[null,"List of named ranges"]
[]
[null,null,null,null,null,"charging_year","Year for which charges are being calculated","Cover"]
[null,null,null,null,null,"charging_year_selected","Charging year currently selected for ARP","ARP_User control"]
[null,null,null,null,null,"check_decimals","Number of decimal places of precision for in-built model checks","Fixed inputs"]
[null,null,null,null,null,"days_in_year","Days in the charging year","General inputs"]
[null,null,null,null,null,"DNO_name","Name of DNO","Cover"]
[null,null,null,null,null,"hours_in_day","Hours per day","Fixed inputs"]
[null,null,null,null,null,"hours_in_year","Hours in the charging year","General inputs"]
[null,null,null,null,null,"hundred","Equal to 100","Fixed inputs"]
[null,null,null,null,null,"live_results_bills","Typical bills for selected charging year","Typical bills"]
[null,null,null,null,null,"live_results_tariffs","Tariffs for selected charging year","Tariff summary"]
[null,null,null,null,null,"PowerFactor","Power factor, equal to 0.95","Fixed inputs"]
[null,null,null,null,null,"results_4_bills","Typical bills for current charging year","Typical bills"]
[null,null,null,null,null,"results_4_tariffs","Tariffs for current charging year","Tariff summary"]
[null,null,null,null,null,"results_5_bills","Typical bills for current charging year + 1","Typical bills"]
[null,null,null,null,null,"results_5_tariffs","Tariffs for current charging year + 1","Tariff summary"]
[null,null,null,null,null,"results_6_bills","Typical bills for current charging year + 2","Typical bills"]
[null,null,null,null,null,"results_6_tariffs","Tariffs for current charging year + 2","Tariff summary"]
[null,null,null,null,null,"results_7_bills","Typical bills for current charging year + 3","Typical bills"]
[null,null,null,null,null,"results_7_tariffs","Tariffs for current charging year + 3","Tariff summary"]
[null,null,null,null,null,"results_8_bills","Typical bills for current charging year + 4","Typical bills"]
[null,null,null,null,null,"results_8_tariffs","Tariffs for current charging year + 4","Tariff summary"]
[null,null,null,null,null,"ten","Equal to 10","Fixed inputs"]
[null,null,null,null,null,"thousand","Equal to 1000","Fixed inputs"]
[null,null,null,null,null,"year_selection","Index for selected charging year","ARP_User control"]
[]
[null,"End of sheet"]

{"sheet":"ARP_DNO commentary","index":5,"n_rows":20,"n_cols":3,"rows_kept":20,"cut":false,"hidden":false,"merged":[[10,5,17,5]]}
[{"$f":"MID(CELL(\"filename\",A1),FIND(\"]\",CELL(\"filename\",A1))+1,255)","v":"ARP_DNO commentary"}]
[{"$f":"Cover!D21&\" - \"&Cover!D23","v":"[enter DNO name] - [enter data version name]"}]
[{"$f":"Cover!D2&\" - \"&Cover!D8&\" v\"&Cover!D10&\" - \"&Cover!D19","v":"ARP model - Release for charge setting v3 - 2020/21"}]
[]
[null,"Description"]
[]
[null,null,"This sheet contains the DNO's commentary on its forecast of CDCM input data for the four years following the charging year, as required by DCUSA Schedule 20, Paragraph 2.1 (e)."]
[]
[null,"Commentary"]
[]
[]
[]
[]
[]
[]
[]
[]
[]
[]
[null,"End of sheet"]

{"sheet":"ARP_CDCM timebands","index":6,"n_rows":43,"n_cols":14,"rows_kept":43,"cut":false,"hidden":false,"merged":[]}
[{"$f":"MID(CELL(\"filename\",A1),FIND(\"]\",CELL(\"filename\",A1))+1,255)","v":"ARP_CDCM timebands"}]
[{"$f":"Cover!D21&\" - \"&Cover!D23","v":"[enter DNO name] - [enter data version name]"}]
[{"$f":"Cover!D2&\" - \"&Cover!D8&\" v\"&Cover!D10&\" - \"&Cover!D19","v":"ARP model - Release for charge setting v3 - 2020/21"}]
[]
[null,"Click here to return to model map",null,null,null,null,"Units","Constants",null,{"$f":"TRANSPOSE('ARP_User control'!G31:G35)","v":"2020/21"},"2021/22","2022/23","2023/24","2024/25"]
[]
[null,"Description"]
[]
[null,null,"This sheet sets out the expected timebands that the DNO plans to use for each of the five years covered by the "]
[null,null,"Annual Review Pack, as required by DCUSA Schedule 20, Paragraph 2.1 (f)."]
[]
[null,"CDCM timebands"]
[]
[null,null,"Distribution time bands"]
[]
[null,null,null,null,"Weekdays (including bank holidays)"]
[null,null,null,null,null,"Red","time of day",null,null,"17:00 to 19:30","17:00 to 19:30","17:00 to 19:30","17:00 to 19:30","17:00 to 19:30"]
[null,null,null,null,null,"Amber","time of day",null,null,"07:30 to 17:00\n19:30 to 22:00","07:30 to 17:00\n19:30 to 22:00","07:30 to 17:00\n19:30 to 22:00","07:30 to 17:00\n19:30 to 22:00","07:30 to 17:00\n19:30 to 22:00"]
[null,null,null,null,null,"Green","time of day",null,null,"00:00 to 07:30\n22:00 to 24:00","00:00 to 07:30\n22:00 to 24:00","00:00 to 07:30\n22:00 to 24:00","00:00 to 07:30\n22:00 to 24:00","00:00 to 07:30\n22:00 to 24:00"]
[]
[null,null,null,null,"Weekends"]
[null,null,null,null,null,"Red","time of day"]
[null,null,null,null,null,"Amber","time of day",null,null,"12:00 to 13:00\n16:00 to 21:00","12:00 to 13:00\n16:00 to 21:00","12:00 to 13:00\n16:00 to 21:00","12:00 to 13:00\n16:00 to 21:00","12:00 to 13:00\n16:00 to 21:00"]
[null,null,null,null,null,"Green","time of day",null,null,"00:00 to 12:00\n13:00 to 16:00 21:00 to 24:00","00:00 to 12:00\n13:00 to 16:00 21:00 to 24:00","00:00 to 12:00\n13:00 to 16:00 21:00 to 24:00","00:00 to 12:00\n13:00 to 16:00 21:00 to 24:00","00:00 to 12:00\n13:00 to 16:00 21:00 to 24:00"]
[]
[null,null,"Special distribution time bands"]
[]
[null,null,null,null,"Monday to Friday\nNov to Feb\n(excluding 22nd Dec to\n4th Jan inclusive)"]
[null,null,null,null,null,"Black","time of day",null,null,"17:00 to 19:30","17:00 to 19:30","17:00 to 19:30","17:00 to 19:30","17:00 to 19:30"]
[null,null,null,null,null,"Yellow","time of day",null,null,"07:30 to 17:00\n19:30 to 22:00","07:30 to 17:00\n19:30 to 22:00","07:30 to 17:00\n19:30 to 22:00","07:30 to 17:00\n19:30 to 22:00","07:30 to 17:00\n19:30 to 22:00"]
[null,null,null,null,null,"Green","time of day",null,null,"00:00 to 07:30\n22:00 to 24:00","00:00 to 07:30\n22:00 to 24:00","00:00 to 07:30\n22:00 to 24:00","00:00 to 07:30\n22:00 to 24:00","00:00 to 07:30\n22:00 to 24:00"]
[]
[null,null,null,null,"Monday to Friday\nMar to Oct\n(plus 22nd Dec to\n4th Jan inclusive)"]
[null,null,null,null,null,"Black","time of day"]
[null,null,null,null,null,"Yellow","time of day",null,null,"07:30 to 22:00","07:30 to 22:00","07:30 to 22:00","07:30 to 22:00","07:30 to 22:00"]
[null,null,null,null,null,"Green","time of day",null,null,"00:00 to 07:30\n22:00 to 24:00","00:00 to 07:30\n22:00 to 24:00","00:00 to 07:30\n22:00 to 24:00","00:00 to 07:30\n22:00 to 24:00","00:00 to 07:30\n22:00 to 24:00"]
[]
[null,null,null,null,"Weekends"]
[null,null,null,null,null,"Black","time of day"]
[null,null,null,null,null,"Yellow","time of day",null,null,"12:00 to 13:00\n16:00 to 21:00","12:00 to 13:00\n16:00 to 21:00","12:00 to 13:00\n16:00 to 21:00","12:00 to 13:00\n16:00 to 21:00","12:00 to 13:00\n16:00 to 21:00"]
[null,null,null,null,null,"Green","time of day",null,null,"00:00 to 12:00\n13:00 to 16:00\n21:00 to 24:00","00:00 to 12:00\n13:00 to 16:00\n21:00 to 24:00","00:00 to 12:00\n13:00 to 16:00\n21:00 to 24:00","00:00 to 12:00\n13:00 to 16:00\n21:00 to 24:00","00:00 to 12:00\n13:00 to 16:00\n21:00 to 24:00"]
[]
[null,"End of sheet"]

{"sheet":"ARP_Load characteristics","index":7,"n_rows":99,"n_cols":42,"rows_kept":99,"cut":false,"hidden":false,"merged":[]}
[{"$f":"MID(CELL(\"filename\",A1),FIND(\"]\",CELL(\"filename\",A1))+1,255)","v":"ARP_Load characteristics"}]
[{"$f":"Cover!D21&\" - \"&Cover!D23","v":"[enter DNO name] - [enter data version name]"}]
[{"$f":"Cover!D2&\" - \"&Cover!D8&\" v\"&Cover!D10&\" - \"&Cover!D19","v":"ARP model - Release for charge setting v3 - 2020/21"}]
[]
[null,"Click here to return to model map",null,null,null,null,"Units","Constants",null,"Domestic Unrestricted","Domestic Two Rate","Domestic Off Peak (related MPAN)","Small Non Domestic Unrestricted","Small Non Domestic Two Rate","Small Non Domestic Off Peak (related MPAN)","LV Medium Non-Domestic","LV Sub Medium Non-Domestic","HV Medium Non-Domestic","LV Network Domestic","LV Network Non-Domestic Non-CT","LV HH Metered","LV Sub HH Metered","HV HH Metered","NHH UMS category A","NHH UMS category B","NHH UMS category C","NHH UMS category D","LV UMS (Pseudo HH Metered)","LV Generation NHH or Aggregate HH","LV Sub Generation NHH","LV Generation Intermittent","LV Generation Intermittent no RP charge","LV Generation Non-Intermittent","LV Generation Non-Intermittent no RP charge","LV Sub Generation Intermittent","LV Sub Generation Intermittent no RP charge","LV Sub Generation Non-Intermittent","LV Sub Generation Non-Intermittent no RP charge","HV Generation Intermittent","HV Generation Intermittent no RP charge","HV Generation Non-Intermittent","HV Generation Non-Intermittent no RP charge"]
[]
[null,"Description"]
[]
[null,null,"This sheet presents historic data used to calculate average values for load characteristics, as required by DCUSA Schedule 20, Paragraph 2.1 (g)."]
[null,null,"Charges for year Y are set in year Y-2 using average load characteristics from the three previous years (i.e. Y-3 to Y-5)."]
[null,null,"This sheet is for information only, and is not linked to following worksheets. "]
[]
[null,"Years"]
[]
[null,null,null,null,"Years to which input data relate"]
[null,null,null,null,null,"Year 1","year",{"$f":"LEFT(H17,4) - 1 & \"/\" & RIGHT(H17,2) - 1","v":"2015/16"}]
[null,null,null,null,null,"Year 2","year",{"$f":"LEFT(H18,4) - 1 & \"/\" & RIGHT(H18,2) - 1","v":"2016/17"}]
[null,null,null,null,null,"Year 3","year",{"$f":"'ARP_User control'!$G$28","v":"2017/18"}]
[]
[null,"Load characteristics"]
[]
[null,null,null,null,"Load factor"]
[null,null,null,null,null,{"$f":"$H$16","v":"2015/16"},"%",null,null,0.41913692003947656,0.28128508564153243,0.19115490895177306,0.41001861663053202,0.58846697359521316,0.20392116772920896,0.55200470710843041,0.55200470710843041,0.39067378653567397,0.4111154234615288,0.44016199630098413,0.58630151568978639,0.58364611076065276,0.72442182712736192,1,0.47201669160290749,0.29526453206229714,0.51558955092806569,0.44675550076216886]
[null,null,null,null,null,{"$f":"$H$17","v":"2016/17"},"%",null,null,0.43166469338326224,0.28109366431568161,0.2006867554190252,0.41510820064053422,0.59038661025965145,0.21126481817997653,0.53141888413220673,0.53141888413220673,0.41684739083888689,0.42292082320065016,0.4447108593963921,0.58247225582782491,0.6186763141015359,0.7312110758258743,1,0.47399756799682341,0.27503738998080868,0.51558955092806569,0.43840034447365217]
[null,null,null,null,null,{"$f":"$H$18","v":"2017/18"},"%",null,null,0.41632322751479772,0.2295756543457374,0.16486339399752473,0.32342319483102938,0.46184359864197932,0.16821850609173711,0.46735698795852088,0.46735698795852088,0.25383344100296246,0.40551298076093639,0.47997658879537874,0.56564543617090624,0.634933462536454,0.7293062617612599,0.99999999999989442,0.47400072088731093,0.27503748381380755,0.51558955092806569,0.43677402805384091]
[null,null,null,null,null,"Average","%",null,null,{"$f":"AVERAGE(J23:J25)","v":0.42237494697917882},{"$f":"AVERAGE(K23:K25)","v":0.26398480143431713},0.18556835278944098,0.38285000403403185,0.54689906083228135,0.19446816400030753,0.51692685973305263,0.51692685973305263,0.35378487279250775,0.41318307580770508,0.45494981483091834,0.57813973589617251,0.61241862913288092,0.72831305490483211,0.99999999999996481,0.47333832682901394,0.28177980195230445,0.51558955092806569,0.44064329109655392]
[]
[null,null,null,null,"Coincidence factor"]
[null,null,null,null,null,{"$f":"$H$16","v":"2015/16"},"%",null,null,0.89811778750144511,0.36725856240832844,null,0.48124918155215018,0.73608115302034172,null,0.7074609045735083,0.7074609045735083,0.54497854539951063,0.86806162772796169,0.52556005039996312,0.75619694233546553,0.6802933750150294,0.75655107353316053,1,1,1,0,0.94626223749876837]
[null,null,null,null,null,{"$f":"$H$17","v":"2016/17"},"%",null,null,0.94248918980496366,0.3629840950172965,null,0.47188566852499586,0.74605136192874899,null,0.67792215321357086,0.67792215321357086,0.33312106615029302,0.90967880073160701,0.51955833696212639,0.67888651081734086,0.72333741784560535,0.79970008231676015,1,1,1,0,0.93908688777738825]
[null,null,null,null,null,{"$f":"$H$18","v":"2017/18"},"%",null,null,0.91566259762397462,0.33324885905085605,null,0.42348752781614207,0.62374531227519336,null,0.5281236113163581,0.5281236113163581,0.32411188938078062,0.8826875271092729,0.67412821126683686,0.70241051559940015,0.74000794309853057,0.78678607505664122,1,1,1,0,0.92154063717380863]
[null,null,null,null,null,"Average","%",null,null,{"$f":"AVERAGE(J29:J31)","v":0.9187565249767945},{"$f":"AVERAGE(K29:K31)","v":0.35449717215882698},null,{"$f":"AVERAGE(M29:M31)","v":0.45887412596442934},0.70195927574142802,null,{"$f":"AVERAGE(P29:P31)","v":0.63783555636781242},0.63783555636781242,0.4007371669768614,0.8868093185229472,0.57308219954297546,0.71249798958406885,0.71454624531972177,0.78101241030218727,1,1,1,0,0.93562992081665508]
[]
[null,"Split of units by distribution timeband"]
[]
[null,null,null,"UMS customers are under the special time band regime (Black & Yellow)."]
[null,null,null,"All other customers are under the normal time band regime (Red & Amber)."]
[]
[null,null,null,"Unit rate 1"]
[]
[null,null,null,null,"Red / Black"]
[null,null,null,null,null,{"$f":"$H$16","v":"2015/16"},"%",null,null,0.11286589656520239,0.13449533778782335,0,7.2706913157094988E-2,0.1030591580032427,1.0082062821074924E-4,0.10526963459359143,0.10081138342261327,9.9834576888604531E-2,1,1,1,1,1,2.1630236794171219E-2,4.2310332788544104E-2,6.4449120618748371E-2,2.1778818125312892E-3,1,null,null,null,null,1,1,null,null,1,1,null,null,1,1]
[null,null,null,null,null,{"$f":"$H$17","v":"2016/17"},"%",null,null,0.11194090595275638,0.13367633316817851,0,7.2773861775483756E-2,0.10413177728679011,3.4566695323572144E-5,0.10491931942172465,9.9998100385146907E-2,9.9611138986452588E-2,1,1,1,1,1,2.1689497716894976E-2,4.2496208330597765E-2,7.4835963610027714E-2,2.2396406472464615E-3,1,null,null,null,null,1,1,null,null,1,1,null,null,1,1]
[null,null,null,null,null,{"$f":"$H$18","v":"2017/18"},"%",null,null,0.11111843057059792,0.13277108472813934,0,7.3224754669271891E-2,0.10404304417614889,2.2746590314904949E-4,0.10395473898171505,0.10395473898171505,9.8079274872311342E-2,1,1,1,1,1,2.1689497716895056E-2,4.2423521118379229E-2,7.473625522688554E-2,2.2396406472464615E-3,1,null,null,null,null,1,1,null,null,1,1,null,null,1,1]
[null,null,null,null,null,"Average","%",null,null,{"$f":"AVERAGE(J42:J44)","v":0.11197507769618557},{"$f":"AVERAGE(K42:K44)","v":0.13364758522804707},0,7.2901843200616878E-2,0.10374465982206056,1.2095107556112362E-4,0.1047145643323437,0.10158807426315841,9.9174996915789473E-2,{"$f":"AVERAGE(S42:S44)","v":1},1,1,1,1,2.1669744075987082E-2,4.2410020745840361E-2,7.1340446485220546E-2,2.2190543690080709E-3,{"$f":"AVERAGE(AB42:AB44)","v":1},null,null,null,null,1,1,null,null,1,1,null,null,1,1]
[]
[null,null,null,null,"Amber / Yellow"]
[null,null,null,null,null,{"$f":"$H$16","v":"2015/16"},"%",null,null,0.50268252121980861,0.58966487148873759,0.16688540596045906,0.57798206850724898,0.66085331361647726,0.17757097772226035,0.67348255060284601,0.68465217833782044,0.69361276582254772,null,null,null,null,null,0.48189890710382516,0.19217235762046928,0.36323555113267064,0.74409406644030929]
[null,null,null,null,null,{"$f":"$H$17","v":"2016/17"},"%",null,null,0.50096789690556731,0.58931352885463417,0.17032678354502212,0.57955821505828176,0.65751812541474652,0.16988304191379067,0.67337492829433288,0.68457607720034763,0.69512669342699451,null,null,null,null,null,0.48156392694063926,0.19108570521874657,0.35697825359893565,0.74466480126476831]
[null,null,null,null,null,{"$f":"$H$18","v":"2017/18"},"%",null,null,0.50209907063065595,0.5896825247588402,0.17089411930782342,0.57781527506523489,0.65454706731560119,0.17594919505863438,0.67632009907141077,0.67632009907141077,0.72953024962232937,null,null,null,null,null,0.48059360730593564,0.1908571271627956,0.3564800991172371,0.74466480126476831]
[null,null,null,null,null,"Average","%",null,null,{"$f":"AVERAGE(J48:J50)","v":0.50191649625201062},{"$f":"AVERAGE(K48:K50)","v":0.58955364170073732},0.16936876960443484,0.5784518528769218,0.65763950211560829,0.17446773823156181,0.67439252598952981,0.68184945153652621,0.70608990295729057,null,null,null,null,null,{"$f":"AVERAGE(X48:X50)","v":0.48135214711680002},0.19137173000067045,0.35889796794961448,0.74447455632328197]
[]
[null,null,null,null,"Green"]
[null,null,null,null,null,{"$f":"$H$16","v":"2015/16"},"%",null,null,0.38445158221498904,0.27583979072343906,0.83311459403954091,0.34931101833565603,0.23608752838028002,0.82232820164952891,0.22124781480356262,0.21453643823956628,0.20655265728884778,null,null,null,null,null,0.49647085610200364,0.76551730959098663,0.572315328248581,0.25372805174715951]
[null,null,null,null,null,{"$f":"$H$17","v":"2016/17"},"%",null,null,0.38709119714167634,0.27701013797718738,0.82967321645497782,0.34766792316623446,0.23835009729846338,0.8300823913908858,0.22170575228394251,0.21542582241450545,0.20526216758655294,null,null,null,null,null,0.49674657534246575,0.76641808645065568,0.56818578279103671,0.25309555808798517]
[null,null,null,null,null,{"$f":"$H$18","v":"2017/18"},"%",null,null,0.3867824987987461,0.27754639051302049,0.82910588069217661,0.34895997026549325,0.24140988850824993,0.82382333903821658,0.21972516194687419,0.21972516194687419,0.17239047550535933,null,null,null,null,null,0.49771689497716931,0.7667193517188251,0.56878364565587736,0.25309555808798517]
[null,null,null,null,null,"Average","%",null,null,{"$f":"AVERAGE(J54:J56)","v":0.38610842605180379},{"$f":"AVERAGE(K54:K56)","v":0.27679877307121564},0.83063123039556519,0.34864630392246126,0.23861583806233111,0.8254113106928771,0.22089290967812644,0.2165624742003153,0.19473510012692,null,null,null,null,null,{"$f":"AVERAGE(X54:X56)","v":0.49697810880721294},0.76621824925348925,0.56976158556516499,0.25330638930770993]
[]
[null,null,null,"Unit rate 2"]
[]
[null,null,null,null,"Red / Black"]
[null,null,null,null,null,{"$f":"$H$16","v":"2015/16"},"%",null,null,null,0,null,null,0,null,0,0,0]
[null,null,null,null,null,{"$f":"$H$17","v":"2016/17"},"%",null,null,null,0,null,null,0,null,0,0,0]
[null,null,null,null,null,{"$f":"$H$18","v":"2017/18"},"%",null,null,null,0,null,null,0,null,0,0,0]
[null,null,null,null,null,"Average","%",null,null,null,{"$f":"AVERAGE(K62:K64)","v":0},null,null,{"$f":"AVERAGE(N62:N64)","v":0},null,{"$f":"AVERAGE(P62:P64)","v":0},0,0]
[]
[null,null,null,null,"Amber / Yellow"]
[null,null,null,null,null,{"$f":"$H$16","v":"2015/16"},"%",null,null,null,3.308288137485093E-2,null,null,6.5537641442189501E-2,null,8.7497885904178532E-3,0,0,1,1,1,1,1,null,null,null,null,1,null,null,null,null,1,1,null,null,1,1,null,null,1,1]
[null,null,null,null,null,{"$f":"$H$17","v":"2016/17"},"%",null,null,null,3.2619642579946616E-2,null,null,6.4279054810061229E-2,null,1.0031019709422346E-2,0,0,1,1,1,1,1,null,null,null,null,1,null,null,null,null,1,1,null,null,1,1,null,null,1,1]
[null,null,null,null,null,{"$f":"$H$18","v":"2017/18"},"%",null,null,null,3.1051396356587171E-2,null,null,6.3024028371704593E-2,null,9.1278872367341977E-3,9.1278872367341977E-3,0,1,1,1,1,1,null,null,null,null,1,null,null,null,null,1,1,null,null,1,1,null,null,1,1]
[null,null,null,null,null,"Average","%",null,null,null,{"$f":"AVERAGE(K68:K70)","v":3.225130677046157E-2},null,null,{"$f":"AVERAGE(N68:N70)","v":6.4280241541318436E-2},null,{"$f":"AVERAGE(P68:P70)","v":9.302898512191465E-3},3.0426290789113994E-3,0,1,1,1,1,1,null,null,null,null,{"$f":"AVERAGE(AB68:AB70)","v":1},null,null,null,null,{"$f":"AVERAGE(AG68:AG70)","v":1},1,null,null,{"$f":"AVERAGE(AK68:AK70)","v":1},1,null,null,{"$f":"AVERAGE(AO68:AO70)","v":1},1]
[]
[null,null,null,null,"Green"]
[null,null,null,null,null,{"$f":"$H$16","v":"2015/16"},"%",null,null,null,0.96691711862514906,null,null,0.93446235855781046,null,0.99125021140958214,1,1]
[null,null,null,null,null,{"$f":"$H$17","v":"2016/17"},"%",null,null,null,0.96738035742005335,null,null,0.93572094518993876,null,0.98996898029057767,1,1]
[null,null,null,null,null,{"$f":"$H$18","v":"2017/18"},"%",null,null,null,0.96894860364341284,null,null,0.93697597162829538,null,0.99087211276326581,0.99087211276326581,1]
[null,null,null,null,null,"Average","%",null,null,null,{"$f":"AVERAGE(K74:K76)","v":0.96774869322953838},null,null,{"$f":"AVERAGE(N74:N76)","v":0.93571975845868149},null,{"$f":"AVERAGE(P74:P76)","v":0.99069710148780865},0.9969573709210886,1]
[]
[null,null,null,"Unit rate 3"]
[]
[null,null,null,null,"Red / Black"]
[null,null,null,null,null,{"$f":"$H$16","v":"2015/16"},"%"]
[null,null,null,null,null,{"$f":"$H$17","v":"2016/17"},"%"]
[null,null,null,null,null,{"$f":"$H$18","v":"2017/18"},"%"]
[null,null,null,null,null,"Average","%"]
[]
[null,null,null,null,"Amber / Yellow"]
[null,null,null,null,null,{"$f":"$H$16","v":"2015/16"},"%"]
[null,null,null,null,null,{"$f":"$H$17","v":"2016/17"},"%"]
[null,null,null,null,null,{"$f":"$H$18","v":"2017/18"},"%"]
[null,null,null,null,null,"Average","%"]
[]
[null,null,null,null,"Green"]
[null,null,null,null,null,{"$f":"$H$16","v":"2015/16"},"%",null,null,null,null,null,null,null,null,null,null,null,1,1,1,1,1,null,null,null,null,1,null,null,null,null,1,1,null,null,1,1,null,null,1,1]
[null,null,null,null,null,{"$f":"$H$17","v":"2016/17"},"%",null,null,null,null,null,null,null,null,null,null,null,1,1,1,1,1,null,null,null,null,1,null,null,null,null,1,1,null,null,1,1,null,null,1,1]
[null,null,null,null,null,{"$f":"$H$18","v":"2017/18"},"%",null,null,null,null,null,null,null,null,null,null,null,1,1,1,1,1,null,null,null,null,1,null,null,null,null,1,1,null,null,1,1,null,null,1,1]
[null,null,null,null,null,"Average","%",null,null,null,null,null,null,null,null,null,null,null,{"$f":"AVERAGE(S94:S96)","v":1},1,1,1,1,null,null,null,null,{"$f":"AVERAGE(AB94:AB96)","v":1},null,null,null,null,{"$f":"AVERAGE(AG94:AG96)","v":1},1,null,null,{"$f":"AVERAGE(AK94:AK96)","v":1},1,null,null,{"$f":"AVERAGE(AO94:AO96)","v":1},1]
[]
[null,"End of sheet"]

{"sheet":"ARP_Peaking probabilities","index":8,"n_rows":47,"n_cols":19,"rows_kept":47,"cut":false,"hidden":false,"merged":[]}
[{"$f":"MID(CELL(\"filename\",A1),FIND(\"]\",CELL(\"filename\",A1))+1,255)","v":"ARP_Peaking probabilities"}]
[{"$f":"Cover!D21&\" - \"&Cover!D23","v":"[enter DNO name] - [enter data version name]"}]
[{"$f":"Cover!D2&\" - \"&Cover!D8&\" v\"&Cover!D10&\" - \"&Cover!D19","v":"ARP model - Release for charge setting v3 - 2020/21"}]
[]
[null,"Click here to return to model map",null,null,null,null,"Units","Constants",null,"Transmission exit","GSPs","132kV","132kV/EHV","EHV","EHV/HV","132kV/HV","HV","HV/LV","LV circuits"]
[]
[null,"Description"]
[]
[null,null,"This sheet presents historic data used to calculate average values for peaking probabilities, as required by "]
[null,null,"DCUSA Schedule 20, Paragraph 2.1 (e)."]
[null,null,"Charges for year Y are set in year Y-2 using average peaking probabilities from the three previous years (i.e. Y-3 to Y-5)."]
[null,null,"This sheet is for information only, and is not linked to following worksheets. "]
[]
[null,"Years"]
[]
[null,null,null,null,"Years to which input data relate"]
[null,null,null,null,null,"Year 1","year",{"$f":"LEFT(H18,4) - 1 & \"/\" & RIGHT(H18,2) - 1","v":"2015/16"}]
[null,null,null,null,null,"Year 2","year",{"$f":"LEFT(H19,4) - 1 & \"/\" & RIGHT(H19,2) - 1","v":"2016/17"}]
[null,null,null,null,null,"Year 3","year",{"$f":"'ARP_User control'!$G$28","v":"2017/18"}]
[]
[null,"Peaking probabilities, by distribution timeband"]
[]
[null,null,null,null,"Red period"]
[null,null,null,null,null,{"$f":"$H$17","v":"2015/16"},"%",null,null,null,0.71491485015302969,0.52015140143968019,0.52015140143968019,0.61184721011053345,0.61184721011053345,0.52015140143968019,0.61184721011053345,0.61184721011053345,0.61184721011053345]
[null,null,null,null,null,{"$f":"$H$18","v":"2016/17"},"%",null,null,null,0.79040375587983003,0.5958587147823512,0.5958587147823512,0.65634380587919239,0.65634380587919239,0.5958587147823512,0.65634380587919239,0.65634380587919239,0.65634380587919239]
[null,null,null,null,null,{"$f":"$H$19","v":"2017/18"},"%",null,null,null,0.82007925152898276,0.58737192341016131,0.58737192341016131,0.63922518496883074,0.63922518496883074,0.58737192341016131,0.63922518496883074,0.63922518496883074,0.63922518496883074]
[null,null,null,null,null,"Average","%",null,null,null,{"$f":"AVERAGE(K24:K26)","v":0.77513261918728082},{"$f":"AVERAGE(L24:L26)","v":0.56779401321073086},0.56779401321073086,0.63580540031951882,0.63580540031951882,0.56779401321073086,0.63580540031951882,0.63580540031951882,0.63580540031951882]
[]
[null,null,null,null,"Amber period"]
[null,null,null,null,null,{"$f":"$H$17","v":"2015/16"},"%",null,null,null,0.20656648905092551,0.25249582532032561,0.25249582532032561,0.32308233144798409,0.32308233144798409,0.25249582532032561,0.32308233144798409,0.32308233144798409,0.32308233144798409]
[null,null,null,null,null,{"$f":"$H$18","v":"2016/17"},"%",null,null,null,0.20959624412017003,0.27164456812091742,0.27164456812091742,0.30345288803202652,0.30345288803202652,0.27164456812091742,0.30345288803202652,0.30345288803202652,0.30345288803202652]
[null,null,null,null,null,{"$f":"$H$19","v":"2017/18"},"%",null,null,null,0.10518326269576396,0.27633309761953895,0.27633309761953895,0.3173722628402566,0.3173722628402566,0.27633309761953895,0.3173722628402566,0.3173722628402566,0.3173722628402566]
[null,null,null,null,null,"Average","%",null,null,null,{"$f":"AVERAGE(K30:K32)","v":0.17378199862228649},{"$f":"AVERAGE(L30:L32)","v":0.26682449702026062},0.26682449702026062,0.31463582744008911,0.31463582744008911,0.26682449702026062,0.31463582744008911,0.31463582744008911,0.31463582744008911]
[]
[null,null,null,null,"Green period"]
[null,null,null,null,null,{"$f":"$H$17","v":"2015/16"},"%",null,null,null,7.8518660796044706E-2,0.22735277323999417,0.22735277323999417,6.5070458441482418E-2,6.5070458441482418E-2,0.22735277323999417,6.5070458441482418E-2,6.5070458441482418E-2,6.5070458441482418E-2]
[null,null,null,null,null,{"$f":"$H$18","v":"2016/17"},"%",null,null,null,0,0.13249671709673144,0.13249671709673144,4.0203306088781032E-2,4.0203306088781032E-2,0.13249671709673144,4.0203306088781032E-2,4.0203306088781032E-2,4.0203306088781032E-2]
[null,null,null,null,null,{"$f":"$H$19","v":"2017/18"},"%",null,null,null,7.4737485775253326E-2,0.13629497897029969,0.13629497897029969,4.3402552190912699E-2,4.3402552190912699E-2,0.13629497897029969,4.3402552190912699E-2,4.3402552190912699E-2,4.3402552190912699E-2]
[null,null,null,null,null,"Average","%",null,null,null,{"$f":"AVERAGE(K36:K38)","v":5.1085382190432682E-2},{"$f":"AVERAGE(L36:L38)","v":0.16538148976900843},0.16538148976900843,4.9558772240392047E-2,4.9558772240392047E-2,0.16538148976900843,4.9558772240392047E-2,4.9558772240392047E-2,4.9558772240392047E-2]
[]
[null,null,null,null,"Black period"]
[null,null,null,null,null,{"$f":"$H$17","v":"2015/16"},"%",null,null,null,0.62533415348069177,0.47572947454792142,0.47572947454792142,0.58715459567287454,0.58715459567287454,0.47572947454792142,0.58715459567287454,0.58715459567287454,0.58715459567287454]
[null,null,null,null,null,{"$f":"$H$18","v":"2016/17"},"%",null,null,null,0.70727288250340414,0.52799259040250079,0.52799259040250079,0.48394979968373042,0.48394979968373042,0.52799259040250079,0.48394979968373042,0.48394979968373042,0.48394979968373042]
[null,null,null,null,null,{"$f":"$H$19","v":"2017/18"},"%",null,null,null,0.48778344157605513,0.39626803614836498,0.39626803614836498,0.31678517198593453,0.31678517198593453,0.39626803614836498,0.31678517198593453,0.31678517198593453,0.31678517198593453]
[null,null,null,null,null,"Average","%",null,null,null,{"$f":"AVERAGE(K42:K44)","v":0.60679682585338368},0.46666336703292904,0.46666336703292904,0.46262985578084642,0.46262985578084642,0.46666336703292904,0.46262985578084642,0.46262985578084642,0.46262985578084642]
[]
[null,"End of sheet"]

{"sheet":"ARP_User control","index":9,"n_rows":38,"n_cols":8,"rows_kept":38,"cut":false,"hidden":false,"merged":[]}
[{"$f":"MID(CELL(\"filename\",A1),FIND(\"]\",CELL(\"filename\",A1))+1,255)","v":"ARP_User control"}]
[{"$f":"Cover!D21&\" - \"&Cover!D23","v":"[enter DNO name] - [enter data version name]"}]
[{"$f":"Cover!D2&\" - \"&Cover!D8&\" v\"&Cover!D10&\" - \"&Cover!D19","v":"ARP model - Release for charge setting v3 - 2020/21"}]
[]
[null,"Description"]
[]
[null,null,"This sheet contains the user interface for the ARP, which is used to select the \"live\" year used for input data."]
[null,null,"It houses the Macro Button which should be pressed to update results for all years of the forecast period."]
[]
[null,"User interface"]
[]
[null,null,"Users can select which year of input data is pulled into the model using the yellow cell."]
[null,null,"Users should press the \"Run all years\" macro button to update multi-year results on the 'Tariff summary' and 'Typical bills' sheets."]
[]
[null,null,"Inputs for manually running selected year"]
[]
[null,null,null,null,"Year selection",null,"2024/25"]
[]
[null,null,"Macro to run all years"]
[]
[]
[]
[]
[]
[null,"Lists"]
[]
[null,null,null,"List of years"]
[null,null,null,null,"Year -3",null,{"$f":"LEFT(G29,4) - 1 & \"/\" & RIGHT(G29,2) - 1","v":"2017/18"},"Historic"]
[null,null,null,null,"Year -2",null,{"$f":"LEFT(G30,4) - 1 & \"/\" & RIGHT(G30,2) - 1","v":"2018/19"},"Historic"]
[null,null,null,null,"Year -1",null,{"$f":"LEFT(G31,4) - 1 & \"/\" & RIGHT(G31,2) - 1","v":"2019/20"},"Historic"]
[null,null,null,null,{"$f":"\"Charging year (\" & charging_year &\")\"","v":"Charging year (2020/21)"},null,{"$f":"charging_year","v":"2020/21"},"Current"]
[null,null,null,null,"Year +1",null,{"$f":"LEFT(G31,4) + 1 & \"/\" & RIGHT(G31,2) + 1","v":"2021/22"},"Forecast"]
[null,null,null,null,"Year +2",null,{"$f":"LEFT(G32,4) + 1 & \"/\" & RIGHT(G32,2) + 1","v":"2022/23"},"Forecast"]
[null,null,null,null,"Year +3",null,"2023/24","Forecast"]
[null,null,null,null,"Year +4",null,"2024/25","Forecast"]
[null,null,null,null,"Year selection (index)",null,{"$f":"MATCH(G17,G28:G35)","v":8},{"$f":"INDEX(H28:H35,MATCH($G$17,$G$28:$G$35,0))","v":"Forecast"}]
[]
[null,"End of sheet"]

{"sheet":"ARP_Inputs by customer type","index":10,"n_rows":1386,"n_cols":38,"rows_kept":1386,"cut":false,"hidden":false,"merged":[]}
[{"$f":"MID(CELL(\"filename\",A1),FIND(\"]\",CELL(\"filename\",A1))+1,255)","v":"ARP_Inputs by customer type"}]
[{"$f":"Cover!D21&\" - \"&Cover!D23","v":"[enter DNO name] - [enter data version name]"}]
[{"$f":"Cover!D2&\" - \"&Cover!D8&\" v\"&Cover!D10&\" - \"&Cover!D19","v":"ARP model - Release for charge setting v3 - 2020/21"}]
[{"$f":"H1384 & IF(H1384 = 1, \" issue\", \" issues\") &\" identified in checks on this sheet\"","v":"0 issues identified in checks on this sheet"}]
[null,null,null,null,null,null,null,null,null,{"$f":"\"Year selected (\"& charging_year_selected &\")\"","v":"Year selected (2024/25)"},null,{"$f":"TRANSPOSE('ARP_User control'!G28:H35)","v":"2017/18"},"2018/19","2019/20","2020/21","2021/22","2022/23","2023/24","2024/25"]
[null,"Click here to return to model map",null,null,null,null,"Units","Constants",null,{"$f":"'ARP_User control'!$H$36","v":"Forecast"},null,"Historic","Historic","Historic","Current","Forecast","Forecast","Forecast","Forecast",null,"Legal text reference"]
[]
[null,"Description"]
[]
[null,null,"This sheet sets out inputs by customer type and by year."]
[null,null,"DNOs should populate the inputs for the charging year and the four following years."]
[null,null,"DNOs can also populate the three years preceding the charging year, but are not obliged to do so. "]
[]
[null,"Load characteristics"]
[]
[null,null,{"$f":"INDEX('Version control'!$H$34:$H$59,MATCH($A$1,'Version control'!$F$34:$F$59,0),1)&\"-A: Load factor\"","v":"Input 501-A: Load factor"}]
[]
[null,null,null,null,"Load factor",null,null,null,">",null,null,null,null,null,null,null,null,null,null,null,"Paragraphs 42 (a) and 52"]
[null,null,null,null,null,"Domestic Unrestricted","%",null,null,{"$f":"CHOOSE(year_selection, L19,M19,N19,O19,P19,Q19,R19,S19)","v":0.42237494697917882},null,0.44409431255918869,0.4374095139953918,0.43080525661038854,{"$f":"HLOOKUP(F19,'ARP_Load characteristics'!J$5:AP$97,U19,FALSE)","v":0.42237494697917882},{"$f":"O19","v":0.42237494697917882},{"$f":"P19","v":0.42237494697917882},0.42237494697917882,0.42237494697917882,null,22]
[null,null,null,null,null,"Domestic Two Rate","%",null,null,{"$f":"CHOOSE(year_selection, L20,M20,N20,O20,P20,Q20,R20,S20)","v":0.26398480143431713},null,0.26509166070686102,0.27445965153491053,0.27692100978759765,{"$f":"HLOOKUP(F20,'ARP_Load characteristics'!J$5:AP$97,U20,FALSE)","v":0.26398480143431713},{"$f":"O20","v":0.26398480143431713},0.26398480143431713,0.26398480143431713,0.26398480143431713,null,22]
[null,null,null,null,null,"Domestic Off Peak (related MPAN)","%",null,null,0.18556835278944098,null,0.18637162312049413,0.18966155822546696,0.19563680531224148,{"$f":"HLOOKUP(F21,'ARP_Load characteristics'!J$5:AP$97,U21,FALSE)","v":0.18556835278944098},{"$f":"O21","v":0.18556835278944098},0.18556835278944098,0.18556835278944098,0.18556835278944098,null,22]
[null,null,null,null,null,"Small Non Domestic Unrestricted","%",null,null,0.38285000403403185,null,0.41771611273119014,0.41819209172595656,0.41658390851857519,{"$f":"HLOOKUP(F22,'ARP_Load characteristics'!J$5:AP$97,U22,FALSE)","v":0.38285000403403185},{"$f":"O22","v":0.38285000403403185},0.38285000403403185,0.38285000403403185,0.38285000403403185,null,22]
[null,null,null,null,null,"Small Non Domestic Two Rate","%",null,null,0.54689906083228135,null,0.57282340650158292,0.58204511871872677,0.58526495371410725,{"$f":"HLOOKUP(F23,'ARP_Load characteristics'!J$5:AP$97,U23,FALSE)","v":0.54689906083228135},{"$f":"O23","v":0.54689906083228135},0.54689906083228135,0.54689906083228135,0.54689906083228135,null,22]
[null,null,null,null,null,"Small Non Domestic Off Peak (related MPAN)","%",null,null,0.19446816400030753,null,0.19988897878867926,0.20149491765434835,0.20227776137551426,{"$f":"HLOOKUP(F24,'ARP_Load characteristics'!J$5:AP$97,U24,FALSE)","v":0.19446816400030753},{"$f":"O24","v":0.19446816400030753},0.19446816400030753,0.19446816400030753,0.19446816400030753,null,22]
[null,null,null,null,null,"LV Medium Non-Domestic","%",null,null,0.51692685973305263,null,0.54885334315588385,0.54243174039390796,0.54243174039390796,{"$f":"HLOOKUP(F25,'ARP_Load characteristics'!J$5:AP$97,U25,FALSE)","v":0.51692685973305263},{"$f":"O25","v":0.51692685973305263},0.51692685973305263,0.51692685973305263,0.51692685973305263,null,22]
[null,null,null,null,null,"LV Sub Medium Non-Domestic","%",null,null,0.51692685973305263,null,0.54885334315588385,0.54243174039390796,0.54243174039390796,{"$f":"HLOOKUP(F26,'ARP_Load characteristics'!J$5:AP$97,U26,FALSE)","v":0.51692685973305263},{"$f":"O26","v":0.51692685973305263},0.51692685973305263,0.51692685973305263,0.51692685973305263,null,22]
[null,null,null,null,null,"HV Medium Non-Domestic","%",null,null,0.35378487279250775,null,0.35631108477336887,0.41577723175121495,0.41577723175121495,{"$f":"HLOOKUP(F27,'ARP_Load characteristics'!J$5:AP$97,U27,FALSE)","v":0.35378487279250775},{"$f":"O27","v":0.35378487279250775},0.35378487279250775,0.35378487279250775,0.35378487279250775,null,22]
[null,null,null,null,null,"LV Network Domestic","%",null,null,0.41318307580770508,null,0.433715974607842,0.42794897095675583,0.42186986078951366,{"$f":"HLOOKUP(F28,'ARP_Load characteristics'!J$5:AP$97,U28,FALSE)","v":0.41318307580770508},{"$f":"O28","v":0.41318307580770508},0.41318307580770508,0.41318307580770508,0.41318307580770508,null,22]
[null,null,null,null,null,"LV Network Non-Domestic Non-CT","%",null,null,0.45494981483091834,null,0.44377223298168228,0.44576748401317584,0.44500460473846437,{"$f":"HLOOKUP(F29,'ARP_Load characteristics'!J$5:AP$97,U29,FALSE)","v":0.45494981483091834},{"$f":"O29","v":0.45494981483091834},0.45494981483091834,0.45494981483091834,0.45494981483091834,null,22]
[null,null,null,null,null,"LV HH Metered","%",null,null,0.57813973589617251,null,0.58987432862419997,0.58775668415038496,0.58775668415038496,{"$f":"HLOOKUP(F30,'ARP_Load characteristics'!J$5:AP$97,U30,FALSE)","v":0.57813973589617251},{"$f":"O30","v":0.57813973589617251},0.57813973589617251,0.57813973589617251,0.57813973589617251,null,22]
[null,null,null,null,null,"LV Sub HH Metered","%",null,null,0.61241862913288092,null,0.58987432862419997,0.58814796912799416,0.59620798018399168,{"$f":"HLOOKUP(F31,'ARP_Load characteristics'!J$5:AP$97,U31,FALSE)","v":0.61241862913288092},{"$f":"O31","v":0.61241862913288092},0.61241862913288092,0.61241862913288092,0.61241862913288092,null,22]
[null,null,null,null,null,"HV HH Metered","%",null,null,0.72831305490483211,null,0.73799331761620912,0.73482947333654136,0.73213913045962242,{"$f":"HLOOKUP(F32,'ARP_Load characteristics'!J$5:AP$97,U32,FALSE)","v":0.72831305490483211},{"$f":"O32","v":0.72831305490483211},0.72831305490483211,0.72831305490483211,0.72831305490483211,null,22]
[null,null,null,null,null,"NHH UMS category A","%",null,null,0.99999999999996481,null,1,1,1,{"$f":"HLOOKUP(F33,'ARP_Load characteristics'!J$5:AP$97,U33,FALSE)","v":0.99999999999996481},{"$f":"O33","v":0.99999999999996481},0.99999999999996481,0.99999999999996481,0.99999999999996481,null,22]
[null,null,null,null,null,"NHH UMS category B","%",null,null,0.47333832682901394,null,0.47518621675820044,0.47496234626804279,0.4753987679091905,{"$f":"HLOOKUP(F34,'ARP_Load characteristics'!J$5:AP$97,U34,FALSE)","v":0.47333832682901394},{"$f":"O34","v":0.47333832682901394},0.47333832682901394,0.47333832682901394,0.47333832682901394,null,22]
[null,null,null,null,null,"NHH UMS category C","%",null,null,0.28177980195230445,null,0.24408376802346718,0.26209481928367823,0.2733634898500597,{"$f":"HLOOKUP(F35,'ARP_Load characteristics'!J$5:AP$97,U35,FALSE)","v":0.28177980195230445},{"$f":"O35","v":0.28177980195230445},0.28177980195230445,0.28177980195230445,0.28177980195230445,null,22]
[null,null,null,null,null,"NHH UMS category D","%",null,null,0.51558955092806569,null,0.51551895355157085,0.51554248601040242,0.515566018469234,{"$f":"HLOOKUP(F36,'ARP_Load characteristics'!J$5:AP$97,U36,FALSE)","v":0.51558955092806569},{"$f":"O36","v":0.51558955092806569},0.51558955092806569,0.51558955092806569,0.51558955092806569,null,22,null,"NHH UMS category D","LV UMS (Pseudo HH Metered)","LV Generation NHH or Aggregate HH","LV Sub Generation NHH","LV Generation Intermittent","LV Generation Intermittent no RP charge","LV Generation Non-Intermittent","LV Generation Non-Intermittent no RP charge","LV Sub Generation Intermittent","LV Sub Generation Intermittent no RP charge","LV Sub Generation Non-Intermittent","LV Sub Generation Non-Intermittent no RP charge","HV Generation Intermittent","HV Generation Intermittent no RP charge","HV Generation Non-Intermittent","HV Generation Non-Intermittent no RP charge"]
[null,null,null,null,null,"LV UMS (Pseudo HH Metered)","%",null,null,0.44064329109655392,null,0.46717956375383923,0.4584492601083543,0.4501908685755347,{"$f":"HLOOKUP(F37,'ARP_Load characteristics'!J$5:AP$97,U37,FALSE)","v":0.44064329109655392},{"$f":"O37","v":0.44064329109655392},0.44064329109655392,0.44064329109655392,0.44064329109655392,null,22]
[null,null,null,null,null,"LV Generation NHH or Aggregate HH","%",null,null,null,null,null,null,null,null,null,null,null,null,null,22]
[null,null,null,null,null,"LV Sub Generation NHH","%",null,null,null,null,null,null,null,null,null,null,null,null,null,22]
[null,null,null,null,null,"LV Generation Intermittent","%",null,null,null,null,null,null,null,null,null,null,null,null,null,22]
[null,null,null,null,null,"LV Generation Intermittent no RP charge","%",null,null,null,null,null,null,null,null,null,null,null,null,null,22]
[null,null,null,null,null,"LV Generation Non-Intermittent","%",null,null,null,null,null,null,null,null,null,null,null,null,null,22]
[null,null,null,null,null,"LV Generation Non-Intermittent no RP charge","%",null,null,null,null,null,null,null,null,null,null,null,null,null,22]
[null,null,null,null,null,"LV Sub Generation Intermittent","%",null,null,null,null,null,null,null,null,null,null,null,null,null,22]
[null,null,null,null,null,"LV Sub Generation Intermittent no RP charge","%",null,null,null,null,null,null,null,null,null,null,null,null,null,22]
[null,null,null,null,null,"LV Sub Generation Non-Intermittent","%",null,null,null,null,null,null,null,null,null,null,null,null,null,22]
[null,null,null,null,null,"LV Sub Generation Non-Intermittent no RP charge","%",null,null,null,null,null,null,null,null,null,null,null,null,null,22]
[null,null,null,null,null,"HV Generation Intermittent","%",null,null,null,null,null,null,null,null,null,null,null,null,null,22]
[null,null,null,null,null,"HV Generation Intermittent no RP charge","%",null,null,null,null,null,null,null,null,null,null,null,null,null,22]
[null,null,null,null,null,"HV Generation Non-Intermittent","%",null,null,null,null,null,null,null,null,null,null,null,null,null,22]
[null,null,null,null,null,"HV Generation Non-Intermittent no RP charge","%",null,null,null,null,null,null,null,null,null,null,null,null,null,22]
[]
[null,null,{"$f":"INDEX('Version control'!$H$34:$H$59,MATCH($A$1,'Version control'!$F$34:$F$59,0),1)&\"-B: Coincidence factor\"","v":"Input 501-B: Coincidence factor"}]
[]
[null,null,null,null,"Coincidence factor",null,null,null,">",null,null,null,null,null,null,null,null,null,null,null,"Paragraphs 42 (b) and 52"]
[null,null,null,null,null,"Domestic Unrestricted","%",null,null,{"$f":"CHOOSE(year_selection, L56,M56,N56,O56,P56,Q56,R56,S56)","v":0.9187565249767945},null,0.88366715453058486,0.89258901112898392,0.91570747527312346,{"$f":"HLOOKUP(F56,'ARP_Load characteristics'!J$5:AP$97,U56,FALSE)","v":0.9187565249767945},{"$f":"O56","v":0.9187565249767945},0.9187565249767945,0.9187565249767945,0.9187565249767945,null,28]
[null,null,null,null,null,"Domestic Two Rate","%",null,null,0.35449717215882698,null,0.31604825984284601,0.33810214851797776,0.3567074091761453,{"$f":"HLOOKUP(F57,'ARP_Load characteristics'!J$5:AP$97,U57,FALSE)","v":0.35449717215882698},{"$f":"O57","v":0.35449717215882698},0.35449717215882698,0.35449717215882698,0.35449717215882698,null,28]
[null,null,null,null,null,"Domestic Off Peak (related MPAN)","%",null,null,null,null,null,null,null,null,null,null,null,null,null,28]
[null,null,null,null,null,"Small Non Domestic Unrestricted","%",null,null,0.45887412596442934,null,0.60479743276662501,0.55766028565102488,0.50922868825789314,{"$f":"HLOOKUP(F59,'ARP_Load characteristics'!J$5:AP$97,U59,FALSE)","v":0.45887412596442934},{"$f":"O59","v":0.45887412596442934},0.45887412596442934,0.45887412596442934,0.45887412596442934,null,28]
[null,null,null,null,null,"Small Non Domestic Two Rate","%",null,null,0.70195927574142802,null,0.74406180647286924,0.73697666785917759,0.73640777009708958,{"$f":"HLOOKUP(F60,'ARP_Load characteristics'!J$5:AP$97,U60,FALSE)","v":0.70195927574142802},{"$f":"O60","v":0.70195927574142802},0.70195927574142802,0.70195927574142802,0.70195927574142802,null,28]
[null,null,null,null,null,"Small Non Domestic Off Peak (related MPAN)","%",null,null,null,null,null,null,null,null,null,null,null,null,null,28]
[null,null,null,null,null,"LV Medium Non-Domestic","%",null,null,0.63783555636781242,null,0.74850665289430829,0.7163545460376568,0.7163545460376568,{"$f":"HLOOKUP(F62,'ARP_Load characteristics'!J$5:AP$97,U62,FALSE)","v":0.63783555636781242},{"$f":"O62","v":0.63783555636781242},0.63783555636781242,0.63783555636781242,0.63783555636781242,null,28]
[null,null,null,null,null,"LV Sub Medium Non-Domestic","%",null,null,0.63783555636781242,null,0.74850665289430829,0.7163545460376568,0.7163545460376568,{"$f":"HLOOKUP(F63,'ARP_Load characteristics'!J$5:AP$97,U63,FALSE)","v":0.63783555636781242},{"$f":"O63","v":0.63783555636781242},0.63783555636781242,0.63783555636781242,0.63783555636781242,null,28]
[null,null,null,null,null,"HV Medium Non-Domestic","%",null,null,0.4007371669768614,null,0.5012726351506539,0.49548311186966715,0.49548311186966715,{"$f":"HLOOKUP(F64,'ARP_Load characteristics'!J$5:AP$97,U64,FALSE)","v":0.4007371669768614},{"$f":"O64","v":0.4007371669768614},0.4007371669768614,0.4007371669768614,0.4007371669768614,null,28]
[null,null,null,null,null,"LV Network Domestic","%",null,null,0.8868093185229472,null,0.85152973771129525,0.86119510301330482,0.88405803883910183,{"$f":"HLOOKUP(F65,'ARP_Load characteristics'!J$5:AP$97,U65,FALSE)","v":0.8868093185229472},{"$f":"O65","v":0.8868093185229472},0.8868093185229472,0.8868093185229472,0.8868093185229472,null,28]
[null,null,null,null,null,"LV Network Non-Domestic Non-CT","%",null,null,0.57308219954297546,null,0.62901309677030937,0.58884030065664406,0.54873119825436623,{"$f":"HLOOKUP(F66,'ARP_Load characteristics'!J$5:AP$97,U66,FALSE)","v":0.57308219954297546},{"$f":"O66","v":0.57308219954297546},0.57308219954297546,0.57308219954297546,0.57308219954297546,null,28]
[null,null,null,null,null,"LV HH Metered","%",null,null,0.71249798958406885,null,0.76028346756525822,0.74023281396323071,0.74023281396323071,{"$f":"HLOOKUP(F67,'ARP_Load characteristics'!J$5:AP$97,U67,FALSE)","v":0.71249798958406885},{"$f":"O67","v":0.71249798958406885},0.71249798958406885,0.71249798958406885,0.71249798958406885,null,28]
[null,null,null,null,null,"LV Sub HH Metered","%",null,null,0.71454624531972177,null,0.76028346756525822,0.74070176869579363,0.71994257839870013,{"$f":"HLOOKUP(F68,'ARP_Load characteristics'!J$5:AP$97,U68,FALSE)","v":0.71454624531972177},{"$f":"O68","v":0.71454624531972177},0.71454624531972177,0.71454624531972177,0.71454624531972177,null,28]
[null,null,null,null,null,"HV HH Metered","%",null,null,0.78101241030218727,null,0.84170464938843281,0.82051476200349971,0.79897895657208151,{"$f":"HLOOKUP(F69,'ARP_Load characteristics'!J$5:AP$97,U69,FALSE)","v":0.78101241030218727},{"$f":"O69","v":0.78101241030218727},0.78101241030218727,0.78101241030218727,0.78101241030218727,null,28]
[null,null,null,null,null,"NHH UMS category A","%",null,null,1,null,1,1,1,{"$f":"HLOOKUP(F70,'ARP_Load characteristics'!J$5:AP$97,U70,FALSE)","v":1},{"$f":"O70","v":1},1,1,1,null,28]
[null,null,null,null,null,"NHH UMS category B","%",null,null,1,null,0.97671820933000442,0.98283467587265061,0.98283467587265061,{"$f":"HLOOKUP(F71,'ARP_Load characteristics'!J$5:AP$97,U71,FALSE)","v":1},{"$f":"O71","v":1},1,1,1,null,28]
[null,null,null,null,null,"NHH UMS category C","%",null,null,1,null,0.53310969765618188,0.74653655136359676,0.78260869565217384,{"$f":"HLOOKUP(F72,'ARP_Load characteristics'!J$5:AP$97,U72,FALSE)","v":1},{"$f":"O72","v":1},1,1,1,null,28]
[null,null,null,null,null,"NHH UMS category D","%",null,null,0,null,0,0,0,{"$f":"HLOOKUP(F73,'ARP_Load characteristics'!J$5:AP$97,U73,FALSE)","v":0},{"$f":"O73","v":0},0,0,0,null,28]
[null,null,null,null,null,"LV UMS (Pseudo HH Metered)","%",null,null,0.93562992081665508,null,0.9653276569200776,0.96163025404650693,0.94771642545076407,{"$f":"HLOOKUP(F74,'ARP_Load characteristics'!J$5:AP$97,U74,FALSE)","v":0.93562992081665508},{"$f":"O74","v":0.93562992081665508},0.93562992081665508,0.93562992081665508,0.93562992081665508,null,28]
[null,null,null,null,null,"LV Generation NHH or Aggregate HH","%",null,null,null,null,null,null,null,null,null,null,null,null,null,28]
[null,null,null,null,null,"LV Sub Generation NHH","%",null,null,null,null,null,null,null,null,null,null,null,null,null,28]
[null,null,null,null,null,"LV Generation Intermittent","%",null,null,null,null,null,null,null,null,null,null,null,null,null,28]
[null,null,null,null,null,"LV Generation Intermittent no RP charge","%",null,null,null,null,null,null,null,null,null,null,null,null,null,28]
[null,null,null,null,null,"LV Generation Non-Intermittent","%",null,null,null,null,null,null,null,null,null,null,null,null,null,28]
[null,null,null,null,null,"LV Generation Non-Intermittent no RP charge","%",null,null,null,null,null,null,null,null,null,null,null,null,null,28]
[null,null,null,null,null,"LV Sub Generation Intermittent","%",null,null,null,null,null,null,null,null,null,null,null,null,null,28]
[null,null,null,null,null,"LV Sub Generation Intermittent no RP charge","%",null,null,null,null,null,null,null,null,null,null,null,null,null,28]
[null,null,null,null,null,"LV Sub Generation Non-Intermittent","%",null,null,null,null,null,null,null,null,null,null,null,null,null,28]
[null,null,null,null,null,"LV Sub Generation Non-Intermittent no RP charge","%",null,null,null,null,null,null,null,null,null,null,null,null,null,28]
[null,null,null,null,null,"HV Generation Intermittent","%",null,null,null,null,null,null,null,null,null,null,null,null,null,28]
[null,null,null,null,null,"HV Generation Intermittent no RP charge","%",null,null,null,null,null,null,null,null,null,null,null,null,null,28]
[null,null,null,null,null,"HV Generation Non-Intermittent","%",null,null,null,null,null,null,null,null,null,null,null,null,null,28]
[null,null,null,null,null,"HV Generation Non-Intermittent no RP charge","%",null,null,null,null,null,null,null,null,null,null,null,null,null,28]
[]
[null,"Volumes"]
[]
[null,null,{"$f":"INDEX('Version control'!$H$34:$H$59,MATCH($A$1,'Version control'!$F$34:$F$59,0),1)&\"-C: All-the-way volumes\"","v":"Input 501-C: All-the-way volumes"}]
[null,null,null,null,null,null,null,null,">",null,null,null,null,null,null,null,null,null,null,null,"Paragraph 52"]
[null,null,null,null,"Rate 1 units"]
[null,null,null,null,null,"Domestic Unrestricted","MWh","All the way customers",null,{"$f":"CHOOSE(year_selection, L95,M95,N95,O95,P95,Q95,R95,S95)","v":3087807.9823275143},null,null,null,null,3087807.9823275143,{"$f":"O95","v":3087807.9823275143},3087807.9823275143,3087807.9823275143,3087807.9823275143,null,17]
[null,null,null,null,null,"Domestic Two Rate","MWh","All the way customers",null,145068.0178269053,null,null,null,null,145068.0178269053,145068.0178269053,145068.0178269053,145068.0178269053,145068.0178269053,null,17]
[null,null,null,null,null,"Domestic Off Peak (related MPAN)","MWh","All the way customers",null,2140.1103146035571,null,null,null,null,2140.1103146035571,2140.1103146035571,2140.1103146035571,2140.1103146035571,2140.1103146035571,null,17]
[null,null,null,null,null,"Small Non Domestic Unrestricted","MWh","All the way customers",null,807524.13000493601,null,null,null,null,807524.13000493601,807524.13000493601,807524.13000493601,807524.13000493601,807524.13000493601,null,17]
[null,null,null,null,null,"Small Non Domestic Two Rate","MWh","All the way customers",null,199376.72592817293,null,null,null,null,199376.72592817293,199376.72592817293,199376.72592817293,199376.72592817293,199376.72592817293,null,17]
[null,null,null,null,null,"Small Non Domestic Off Peak (related MPAN)","MWh","All the way customers",null,1578.3141159411171,null,null,null,null,1578.3141159411171,1578.3141159411171,1578.3141159411171,1578.3141159411171,1578.3141159411171,null,17]
[null,null,null,null,null,"LV Medium Non-Domestic","MWh","All the way customers",null,13881.263349596087,null,null,null,null,13881.263349596087,13881.263349596087,13881.263349596087,13881.263349596087,13881.263349596087,null,17]
[null,null,null,null,null,"LV Sub Medium Non-Domestic","MWh","All the way customers",null,5.8625576095223545E-8,null,null,null,null,5.8625576095223545E-8,5.8625576095223545E-8,5.8625576095223545E-8,5.8625576095223545E-8,5.8625576095223545E-8,null,17]
[null,null,null,null,null,"HV Medium Non-Domestic","MWh","All the way customers",null,62.538955055444347,null,null,null,null,62.538955055444347,62.538955055444347,62.538955055444347,62.538955055444347,62.538955055444347,null,17]
[null,null,null,null,null,"LV Network Domestic","MWh","All the way customers",null,548.49662568994881,null,null,null,null,548.49662568994881,548.49662568994881,548.49662568994881,548.49662568994881,548.49662568994881,null,17]
[null,null,null,null,null,"LV Network Non-Domestic Non-CT","MWh","All the way customers",null,11567.475069845634,null,null,null,null,11567.475069845634,11567.475069845634,11567.475069845634,11567.475069845634,11567.475069845634,null,17]
[null,null,null,null,null,"LV HH Metered","MWh","All the way customers",null,122794.82149659049,null,null,null,null,122794.82149659049,122794.82149659049,122794.82149659049,122794.82149659049,122794.82149659049,null,17]
[null,null,null,null,null,"LV Sub HH Metered","MWh","All the way customers",null,6459.7972719174722,null,null,null,null,6459.7972719174722,6459.7972719174722,6459.7972719174722,6459.7972719174722,6459.7972719174722,null,17]
[null,null,null,null,null,"HV HH Metered","MWh","All the way customers",null,146461.36308182811,null,null,null,null,146461.36308182811,146461.36308182811,146461.36308182811,146461.36308182811,146461.36308182811,null,17]
[null,null,null,null,null,"NHH UMS category A","MWh","All the way customers",null,2064.7386639344641,null,null,null,null,2064.7386639344641,2064.7386639344641,2064.7386639344641,2064.7386639344641,2064.7386639344641,null,17]
[null,null,null,null,null,"NHH UMS category B","MWh","All the way customers",null,5191.6019194014716,null,null,null,null,5191.6019194014716,5191.6019194014716,5191.6019194014716,5191.6019194014716,5191.6019194014716,null,17]
[null,null,null,null,null,"NHH UMS category C","MWh","All the way customers",null,288.93022950400001,null,null,null,null,288.93022950400001,{"$f":"O111","v":288.93022950400001},288.93022950400001,288.93022950400001,288.93022950400001,null,17]
[null,null,null,null,null,"NHH UMS category D","MWh","All the way customers",null,0,null,null,null,null,0,0,0,0,0,null,17]
[null,null,null,null,null,"LV UMS (Pseudo HH Metered)","MWh","All the way customers",null,4786.1918698977543,null,null,null,null,4786.1918698977543,4786.1918698977543,4786.1918698977543,4786.1918698977543,4786.1918698977543,null,17]
[null,null,null,null,null,"LV Generation NHH or Aggregate HH","MWh","All the way customers",null,1535.125,null,null,null,null,1535.125,1535.125,1535.125,1535.125,1535.125,null,17]
[null,null,null,null,null,"LV Sub Generation NHH","MWh","All the way customers",null,0,null,null,null,null,0,0,0,0,0,null,17]
[null,null,null,null,null,"LV Generation Intermittent","MWh","All the way customers",null,31104.631228000009,null,null,null,null,31104.631228000009,31104.631228000009,31104.631228000009,31104.631228000009,31104.631228000009,null,17]
[null,null,null,null,null,"LV Generation Intermittent no RP charge","MWh","All the way customers",null,0,null,null,null,null,0,0,0,0,0,null,17]
[null,null,null,null,null,"LV Generation Non-Intermittent","MWh","All the way customers",null,184.69947550370838,null,null,null,null,184.69947550370838,184.69947550370838,184.69947550370838,184.69947550370838,184.69947550370838,null,17]
[null,null,null,null,null,"LV Generation Non-Intermittent no RP charge","MWh","All the way customers",null,0,null,null,null,null,0,0,0,0,0,null,17]
[null,null,null,null,null,"LV Sub Generation Intermittent","MWh","All the way customers",null,807.10811500000023,null,null,null,null,807.10811500000023,807.10811500000023,807.10811500000023,807.10811500000023,807.10811500000023,null,17]
[null,null,null,null,null,"LV Sub Generation Intermittent no RP charge","MWh","All the way customers",null,0,null,null,null,null,0,0,0,0,0,null,17]
[null,null,null,null,null,"LV Sub Generation Non-Intermittent","MWh","All the way customers",null,36.59019120255607,null,null,null,null,36.59019120255607,36.59019120255607,36.59019120255607,36.59019120255607,36.59019120255607,null,17]
[null,null,null,null,null,"LV Sub Generation Non-Intermittent no RP charge","MWh","All the way customers",null,0,null,null,null,null,0,0,0,0,0,null,17]
[null,null,null,null,null,"HV Generation Intermittent","MWh","All the way customers",null,314604.16542500001,null,null,null,null,314604.16542500001,314604.16542500001,314604.16542500001,314604.16542500001,314604.16542500001,null,17]
[null,null,null,null,null,"HV Generation Intermittent no RP charge","MWh","All the way customers",null,0,null,null,null,null,0,0,0,0,0,null,17]
[null,null,null,null,null,"HV Generation Non-Intermittent","MWh","All the way customers",null,30630.476100086526,null,null,null,null,30630.476100086526,30630.476100086526,30630.476100086526,30630.476100086526,30630.476100086526,null,17]
[null,null,null,null,null,"HV Generation Non-Intermittent no RP charge","MWh","All the way customers",null,0,null,null,null,null,0,{"$f":"O127","v":0},0,0,0,null,17]
[]
[null,null,null,null,"Rate 2 units"]
[null,null,null,null,null,"Domestic Unrestricted","MWh","All the way customers",null,null,null,null,null,null,0,null,null,null,null,null,{"$f":"U95+1","v":18}]
[null,null,null,null,null,"Domestic Two Rate","MWh","All the way customers",null,{"$f":"CHOOSE(year_selection, L131,M131,N131,O131,P131,Q131,R131,S131)","v":121139.40676462813},null,null,null,null,121139.40676462813,{"$f":"O131","v":121139.40676462813},121139.40676462813,121139.40676462813,121139.40676462813,null,{"$f":"U96+1","v":18}]
[null,null,null,null,null,"Domestic Off Peak (related MPAN)","MWh","All the way customers",null,null,null,null,null,null,0,null,null,null,null,null,18]
[null,null,null,null,null,"Small Non Domestic Unrestricted","MWh","All the way customers",null,null,null,null,null,null,0,null,null,null,null,null,18]
[null,null,null,null,null,"Small Non Domestic Two Rate","MWh","All the way customers",null,84177.001775695535,null,null,null,null,84177.001775695535,{"$f":"O134","v":84177.001775695535},84177.001775695535,84177.001775695535,84177.001775695535,null,18]
[null,null,null,null,null,"Small Non Domestic Off Peak (related MPAN)","MWh","All the way customers",null,null,null,null,null,null,0,null,null,null,null,null,18]
[null,null,null,null,null,"LV Medium Non-Domestic","MWh","All the way customers",null,4240.791385004045,null,null,null,null,4240.791385004045,{"$f":"O136","v":4240.791385004045},4240.791385004045,4240.791385004045,4240.791385004045,null,18]
[null,null,null,null,null,"LV Sub Medium Non-Domestic","MWh","All the way customers",null,1.7910389838743126E-8,null,null,null,null,1.7910389838743126E-8,1.7910389838743126E-8,1.7910389838743126E-8,1.7910389838743126E-8,1.7910389838743126E-8,null,18]
[null,null,null,null,null,"HV Medium Non-Domestic","MWh","All the way customers",null,25.753194800564419,null,null,null,null,25.753194800564419,25.753194800564419,25.753194800564419,25.753194800564419,25.753194800564419,null,18]
[null,null,null,null,null,"LV Network Domestic","MWh","All the way customers",null,2703.7423272662454,null,null,null,null,2703.7423272662454,2703.7423272662454,2703.7423272662454,2703.7423272662454,2703.7423272662454,null,18]
[null,null,null,null,null,"LV Network Non-Domestic Non-CT","MWh","All the way customers",null,78199.431178665909,null,null,null,null,78199.431178665909,78199.431178665909,78199.431178665909,78199.431178665909,78199.431178665909,null,18]
[null,null,null,null,null,"LV HH Metered","MWh","All the way customers",null,780163.65778957237,null,null,null,null,780163.65778957237,780163.65778957237,780163.65778957237,780163.65778957237,780163.65778957237,null,18]
[null,null,null,null,null,"LV Sub HH Metered","MWh","All the way customers",null,39047.547510153854,null,null,null,null,39047.547510153854,39047.547510153854,39047.547510153854,39047.547510153854,39047.547510153854,null,18]
[null,null,null,null,null,"HV HH Metered","MWh","All the way customers",null,893163.9883989041,null,null,null,null,893163.9883989041,893163.9883989041,893163.9883989041,893163.9883989041,893163.9883989041,null,18]
[null,null,null,null,null,"NHH UMS category A","MWh","All the way customers",null,null,null,null,null,null,0,null,null,null,null,null,18]
[null,null,null,null,null,"NHH UMS category B","MWh","All the way customers",null,null,null,null,null,null,0,null,null,null,null,null,18]
[null,null,null,null,null,"NHH UMS category C","MWh","All the way customers",null,null,null,null,null,null,0,null,null,null,null,null,18]
[null,null,null,null,null,"NHH UMS category D","MWh","All the way customers",null,null,null,null,null,null,0,null,null,null,null,null,18]
[null,null,null,null,null,"LV UMS (Pseudo HH Metered)","MWh","All the way customers",null,31263.847920010572,null,null,null,null,31263.847920010572,{"$f":"O148","v":31263.847920010572},31263.847920010572,31263.847920010572,31263.847920010572,null,18]
[null,null,null,null,null,"LV Generation NHH or Aggregate HH","MWh","All the way customers",null,null,null,null,null,null,0,null,null,null,null,null,18]
[null,null,null,null,null,"LV Sub Generation NHH","MWh","All the way customers",null,null,null,null,null,null,0,null,null,null,null,null,18]
[null,null,null,null,null,"LV Generation Intermittent","MWh","All the way customers",null,null,null,null,null,null,0,null,null,null,null,null,18]
[null,null,null,null,null,"LV Generation Intermittent no RP charge","MWh","All the way customers",null,null,null,null,null,null,0,null,null,null,null,null,18]
[null,null,null,null,null,"LV Generation Non-Intermittent","MWh","All the way customers",null,1185.0893640362958,null,null,null,null,1185.0893640362958,{"$f":"O153","v":1185.0893640362958},1185.0893640362958,1185.0893640362958,1185.0893640362958,null,18]
[null,null,null,null,null,"LV Generation Non-Intermittent no RP charge","MWh","All the way customers",null,0,null,null,null,null,0,0,0,0,0,null,18]
[null,null,null,null,null,"LV Sub Generation Intermittent","MWh","All the way customers",null,null,null,null,null,null,0,null,null,null,null,null,18]
[null,null,null,null,null,"LV Sub Generation Intermittent no RP charge","MWh","All the way customers",null,null,null,null,null,null,0,null,null,null,null,null,18]
[null,null,null,null,null,"LV Sub Generation Non-Intermittent","MWh","All the way customers",null,148.04789377289072,null,null,null,null,148.04789377289072,{"$f":"O157","v":148.04789377289072},148.04789377289072,148.04789377289072,148.04789377289072,null,18]
[null,null,null,null,null,"LV Sub Generation Non-Intermittent no RP charge","MWh","All the way customers",null,0,null,null,null,null,0,0,0,0,0,null,18]
[null,null,null,null,null,"HV Generation Intermittent","MWh","All the way customers",null,null,null,null,null,null,0,null,null,null,null,null,18]
[null,null,null,null,null,"HV Generation Intermittent no RP charge","MWh","All the way customers",null,null,null,null,null,null,0,null,null,null,null,null,18]
[null,null,null,null,null,"HV Generation Non-Intermittent","MWh","All the way customers",null,70350.709153135162,null,null,null,null,70350.709153135162,{"$f":"O161","v":70350.709153135162},70350.709153135162,70350.709153135162,70350.709153135162,null,18]
[null,null,null,null,null,"HV Generation Non-Intermittent no RP charge","MWh","All the way customers",null,0,null,null,null,null,0,0,0,0,0,null,18]
[]
[null,null,null,null,"Rate 3 units"]
[null,null,null,null,null,"Domestic Unrestricted","MWh","All the way customers",null,null,null,null,null,null,0,null,null,null,null,null,{"$f":"U130+1","v":19}]
[null,null,null,null,null,"Domestic Two Rate","MWh","All the way customers",null,null,null,null,null,null,0,null,null,null,null,null,19]
[null,null,null,null,null,"Domestic Off Peak (related MPAN)","MWh","All the way customers",null,null,null,null,null,null,0,null,null,null,null,null,19]
[null,null,null,null,null,"Small Non Domestic Unrestricted","MWh","All the way customers",null,null,null,null,null,null,0,null,null,null,null,null,19]
[null,null,null,null,null,"Small Non Domestic Two Rate","MWh","All the way customers",null,null,null,null,null,null,0,null,null,null,null,null,19]
[null,null,null,null,null,"Small Non Domestic Off Peak (related MPAN)","MWh","All the way customers",null,null,null,null,null,null,0,null,null,null,null,null,19]
[null,null,null,null,null,"LV Medium Non-Domestic","MWh","All the way customers",null,null,null,null,null,null,0,null,null,null,null,null,19]
[null,null,null,null,null,"LV Sub Medium Non-Domestic","MWh","All the way customers",null,null,null,null,null,null,0,null,null,null,null,null,19]
[null,null,null,null,null,"HV Medium Non-Domestic","MWh","All the way customers",null,null,null,null,null,null,0,null,null,null,null,null,19]
[null,null,null,null,null,"LV Network Domestic","MWh","All the way customers",null,{"$f":"CHOOSE(year_selection, L174,M174,N174,O174,P174,Q174,R174,S174)","v":2374.0081488820574},null,null,null,null,2374.0081488820574,{"$f":"O174","v":2374.0081488820574},2374.0081488820574,2374.0081488820574,2374.0081488820574,null,19]
[null,null,null,null,null,"LV Network Non-Domestic Non-CT","MWh","All the way customers",null,56207.019243093069,null,null,null,null,56207.019243093069,56207.019243093069,56207.019243093069,56207.019243093069,56207.019243093069,null,19]
[null,null,null,null,null,"LV HH Metered","MWh","All the way customers",null,583197.68554353598,null,null,null,null,583197.68554353598,583197.68554353598,583197.68554353598,583197.68554353598,583197.68554353598,null,19]
[null,null,null,null,null,"LV Sub HH Metered","MWh","All the way customers",null,34152.977309556263,null,null,null,null,34152.977309556263,34152.977309556263,34152.977309556263,34152.977309556263,34152.977309556263,null,19]
[null,null,null,null,null,"HV HH Metered","MWh","All the way customers",null,847048.91196364374,null,null,null,null,847048.91196364374,847048.91196364374,847048.91196364374,847048.91196364374,847048.91196364374,null,19]
[null,null,null,null,null,"NHH UMS category A","MWh","All the way customers",null,null,null,null,null,null,0,null,null,null,null,null,19]
[null,null,null,null,null,"NHH UMS category B","MWh","All the way customers",null,null,null,null,null,null,0,null,null,null,null,null,19]
[null,null,null,null,null,"NHH UMS category C","MWh","All the way customers",null,null,null,null,null,null,0,null,null,null,null,null,19]
[null,null,null,null,null,"NHH UMS category D","MWh","All the way customers",null,null,null,null,null,null,0,null,null,null,null,null,19]
[null,null,null,null,null,"LV UMS (Pseudo HH Metered)","MWh","All the way customers",null,73749.776463945847,null,null,null,null,73749.776463945847,{"$f":"O183","v":73749.776463945847},73749.776463945847,73749.776463945847,73749.776463945847,null,19]
[null,null,null,null,null,"LV Generation NHH or Aggregate HH","MWh","All the way customers",null,null,null,null,null,null,0,null,null,null,null,null,19]
[null,null,null,null,null,"LV Sub Generation NHH","MWh","All the way customers",null,null,null,null,null,null,0,null,null,null,null,null,19]
[null,null,null,null,null,"LV Generation Intermittent","MWh","All the way customers",null,null,null,null,null,null,0,null,null,null,null,null,19]
[null,null,null,null,null,"LV Generation Intermittent no RP charge","MWh","All the way customers",null,null,null,null,null,null,0,null,null,null,null,null,19]
[null,null,null,null,null,"LV Generation Non-Intermittent","MWh","All the way customers",null,1145.5607796251077,null,null,null,null,1145.5607796251077,{"$f":"O188","v":1145.5607796251077},1145.5607796251077,1145.5607796251077,1145.5607796251077,null,19]
[null,null,null,null,null,"LV Generation Non-Intermittent no RP charge","MWh","All the way customers",null,0,null,null,null,null,0,0,0,0,0,null,19]
[null,null,null,null,null,"LV Sub Generation Intermittent","MWh","All the way customers",null,null,null,null,null,null,0,null,null,null,null,null,19]
[null,null,null,null,null,"LV Sub Generation Intermittent no RP charge","MWh","All the way customers",null,null,null,null,null,null,0,null,null,null,null,null,19]
[null,null,null,null,null,"LV Sub Generation Non-Intermittent","MWh","All the way customers",null,149.37121031591738,null,null,null,null,149.37121031591738,{"$f":"O192","v":149.37121031591738},149.37121031591738,149.37121031591738,149.37121031591738,null,19]
[null,null,null,null,null,"LV Sub Generation Non-Intermittent no RP charge","MWh","All the way customers",null,0,null,null,null,null,0,0,0,0,0,null,19]
[null,null,null,null,null,"HV Generation Intermittent","MWh","All the way customers",null,null,null,null,null,null,0,null,null,null,null,null,19]
[null,null,null,null,null,"HV Generation Intermittent no RP charge","MWh","All the way customers",null,null,null,null,null,null,0,null,null,null,null,null,19]
[null,null,null,null,null,"HV Generation Non-Intermittent","MWh","All the way customers",null,57893.659515242049,null,null,null,null,57893.659515242049,{"$f":"O196","v":57893.659515242049},57893.659515242049,57893.659515242049,57893.659515242049,null,19]
[null,null,null,null,null,"HV Generation Non-Intermittent no RP charge","MWh","All the way customers",null,0,null,null,null,null,0,0,0,0,0,null,19]
[]
[null,null,null,null,"MPANs"]
[null,null,null,null,null,"Domestic Unrestricted","MPANs","All the way customers",null,{"$f":"CHOOSE(year_selection, L200,M200,N200,O200,P200,Q200,R200,S200)","v":1002009.1843103382},null,null,null,null,1002009.1843103382,{"$f":"O200","v":1002009.1843103382},1002009.1843103382,1002009.1843103382,1002009.1843103382,null,{"$f":"U165+1","v":20}]
[null,null,null,null,null,"Domestic Two Rate","MPANs","All the way customers",null,49248.258600181885,null,null,null,null,49248.258600181885,49248.258600181885,49248.258600181885,49248.258600181885,49248.258600181885,null,20]
[null,null,null,null,null,"Domestic Off Peak (related MPAN)","MPANs","All the way customers",null,0,null,null,null,null,0,0,0,0,0,null,20]
[null,null,null,null,null,"Small Non Domestic Unrestricted","MPANs","All the way customers",null,64828.190112704251,null,null,null,null,64828.190112704251,64828.190112704251,64828.190112704251,64828.190112704251,64828.190112704251,null,20]
[null,null,null,null,null,"Small Non Domestic Two Rate","MPANs","All the way customers",null,13307.031217559954,null,null,null,null,13307.031217559954,13307.031217559954,13307.031217559954,13307.031217559954,13307.031217559954,null,20]
[null,null,null,null,null,"Small Non Domestic Off Peak (related MPAN)","MPANs","All the way customers",null,0,null,null,null,null,0,0,0,0,0,null,20]
[null,null,null,null,null,"LV Medium Non-Domestic","MPANs","All the way customers",null,236.77828473786286,null,null,null,null,236.77828473786286,236.77828473786286,236.77828473786286,236.77828473786286,236.77828473786286,null,20]
[null,null,null,null,null,"LV Sub Medium Non-Domestic","MPANs","All the way customers",null,1.0000000000000001E-9,null,null,null,null,1.0000000000000001E-9,1.0000000000000001E-9,1.0000000000000001E-9,1.0000000000000001E-9,1.0000000000000001E-9,null,20]
[null,null,null,null,null,"HV Medium Non-Domestic","MPANs","All the way customers",null,3.2303097041095885,null,null,null,null,3.2303097041095885,3.2303097041095885,3.2303097041095885,3.2303097041095885,3.2303097041095885,null,20]
[null,null,null,null,null,"LV Network Domestic","MPANs","All the way customers",null,1566.6058158904109,null,null,null,null,1566.6058158904109,1566.6058158904109,1566.6058158904109,1566.6058158904109,1566.6058158904109,null,20]
[null,null,null,null,null,"LV Network Non-Domestic Non-CT","MPANs","All the way customers",null,2242.4057885846305,null,null,null,null,2242.4057885846305,2242.4057885846305,2242.4057885846305,2242.4057885846305,2242.4057885846305,null,20]
[null,null,null,null,null,"LV HH Metered","MPANs","All the way customers",null,6023.93882733802,null,null,null,null,6023.93882733802,6023.93882733802,6023.93882733802,6023.93882733802,6023.93882733802,null,20]
[null,null,null,null,null,"LV Sub HH Metered","MPANs","All the way customers",null,96.625058435595633,null,null,null,null,96.625058435595633,96.625058435595633,96.625058435595633,96.625058435595633,96.625058435595633,null,20]
[null,null,null,null,null,"HV HH Metered","MPANs","All the way customers",null,817.9977558671319,null,null,null,null,817.9977558671319,817.9977558671319,817.9977558671319,817.9977558671319,817.9977558671319,null,20]
[null,null,null,null,null,"NHH UMS category A","MPANs","All the way customers",null,587,null,null,null,null,587,587,587,587,587,null,20]
[null,null,null,null,null,"NHH UMS category B","MPANs","All the way customers",null,772,null,null,null,null,772,772,772,772,772,null,20]
[null,null,null,null,null,"NHH UMS category C","MPANs","All the way customers",null,87,null,null,null,null,87,{"$f":"O216","v":87},87,87,87,null,20]
[null,null,null,null,null,"NHH UMS category D","MPANs","All the way customers",null,0,null,null,null,null,0,0,0,0,0,null,20]
[null,null,null,null,null,"LV UMS (Pseudo HH Metered)","MPANs","All the way customers",null,35.345205479452055,null,null,null,null,35.345205479452055,35.345205479452055,35.345205479452055,35.345205479452055,35.345205479452055,null,20]
[null,null,null,null,null,"LV Generation NHH or Aggregate HH","MPANs","All the way customers",null,0,null,null,null,null,0,0,0,0,0,null,20]
[null,null,null,null,null,"LV Sub Generation NHH","MPANs","All the way customers",null,0,null,null,null,null,0,0,0,0,0,null,20]
[null,null,null,null,null,"LV Generation Intermittent","MPANs","All the way customers",null,386.31110958904111,null,null,null,null,386.31110958904111,386.31110958904111,386.31110958904111,386.31110958904111,386.31110958904111,null,20]
[null,null,null,null,null,"LV Generation Intermittent no RP charge","MPANs","All the way customers",null,0,null,null,null,null,0,0,0,0,0,null,20]
[null,null,null,null,null,"LV Generation Non-Intermittent","MPANs","All the way customers",null,18.312676027397263,null,null,null,null,18.312676027397263,18.312676027397263,18.312676027397263,18.312676027397263,18.312676027397263,null,20]
[null,null,null,null,null,"LV Generation Non-Intermittent no RP charge","MPANs","All the way customers",null,0,null,null,null,null,0,0,0,0,0,null,20]
[null,null,null,null,null,"LV Sub Generation Intermittent","MPANs","All the way customers",null,6.5165732876712346,null,null,null,null,6.5165732876712346,6.5165732876712346,6.5165732876712346,6.5165732876712346,6.5165732876712346,null,20]
[null,null,null,null,null,"LV Sub Generation Intermittent no RP charge","MPANs","All the way customers",null,0,null,null,null,null,0,0,0,0,0,null,20]
[null,null,null,null,null,"LV Sub Generation Non-Intermittent","MPANs","All the way customers",null,2.7530136986301375,null,null,null,null,2.7530136986301375,2.7530136986301375,2.7530136986301375,2.7530136986301375,2.7530136986301375,null,20]
[null,null,null,null,null,"LV Sub Generation Non-Intermittent no RP charge","MPANs","All the way customers",null,0,null,null,null,null,0,0,0,0,0,null,20]
[null,null,null,null,null,"HV Generation Intermittent","MPANs","All the way customers",null,158.62326986301375,null,null,null,null,158.62326986301375,158.62326986301375,158.62326986301375,158.62326986301375,158.62326986301375,null,20]
[null,null,null,null,null,"HV Generation Intermittent no RP charge","MPANs","All the way customers",null,0,null,null,null,null,0,0,0,0,0,null,20]
[null,null,null,null,null,"HV Generation Non-Intermittent","MPANs","All the way customers",null,46.144759931506854,null,null,null,null,46.144759931506854,46.144759931506854,46.144759931506854,46.144759931506854,46.144759931506854,null,20]
[null,null,null,null,null,"HV Generation Non-Intermittent no RP charge","MPANs","All the way customers",null,0,null,null,null,null,0,{"$f":"O232","v":0},0,0,0,null,20]
[]
[null,null,null,null,"Import capacity"]
[null,null,null,null,null,"Domestic Unrestricted","kVA","All the way customers",null,null,null,null,null,null,0,null,null,null,null,null,{"$f":"U200+1","v":21}]
[null,null,null,null,null,"Domestic Two Rate","kVA","All the way customers",null,null,null,null,null,null,0,null,null,null,null,null,21]
[null,null,null,null,null,"Domestic Off Peak (related MPAN)","kVA","All the way customers",null,null,null,null,null,null,0,null,null,null,null,null,21]
[null,null,null,null,null,"Small Non Domestic Unrestricted","kVA","All the way customers",null,null,null,null,null,null,0,null,null,null,null,null,21]
[null,null,null,null,null,"Small Non Domestic Two Rate","kVA","All the way customers",null,null,null,null,null,null,0,null,null,null,null,null,21]
[null,null,null,null,null,"Small Non Domestic Off Peak (related MPAN)","kVA","All the way customers",null,null,null,null,null,null,0,null,null,null,null,null,21]
[null,null,null,null,null,"LV Medium Non-Domestic","kVA","All the way customers",null,null,null,null,null,null,0,null,null,null,null,null,21]
[null,null,null,null,null,"LV Sub Medium Non-Domestic","kVA","All the way customers",null,null,null,null,null,null,0,null,null,null,null,null,21]
[null,null,null,null,null,"HV Medium Non-Domestic","kVA","All the way customers",null,null,null,null,null,null,0,null,null,null,null,null,21]
[null,null,null,null,null,"LV Network Domestic","kVA","All the way customers",null,null,null,null,null,null,0,null,null,null,null,null,21]
[null,null,null,null,null,"LV Network Non-Domestic Non-CT","kVA","All the way customers",null,null,null,null,null,null,0,null,null,null,null,null,21]
[null,null,null,null,null,"LV HH Metered","kVA","All the way customers",null,{"$f":"CHOOSE(year_selection, L246,M246,N246,O246,P246,Q246,R246,S246)","v":752423.62048333464},null,null,null,null,752423.62048333464,{"$f":"O246","v":752423.62048333464},752423.62048333464,752423.62048333464,752423.62048333464,null,21]
[null,null,null,null,null,"LV Sub HH Metered","kVA","All the way customers",null,25935.000000000004,null,null,null,null,25935.000000000004,25935.000000000004,25935.000000000004,25935.000000000004,25935.000000000004,null,21]
[null,null,null,null,null,"HV HH Metered","kVA","All the way customers",null,658098.03008508706,null,null,null,null,658098.03008508706,658098.03008508706,658098.03008508706,658098.03008508706,658098.03008508706,null,21]
[null,null,null,null,null,"NHH UMS category A","kVA","All the way customers",null,null,null,null,null,null,0,null,null,null,null,null,21]
[null,null,null,null,null,"NHH UMS category B","kVA","All the way customers",null,null,null,null,null,null,0,null,null,null,null,null,21]
[null,null,null,null,null,"NHH UMS category C","kVA","All the way customers",null,null,null,null,null,null,0,null,null,null,null,null,21]
[null,null,null,null,null,"NHH UMS category D","kVA","All the way customers",null,null,null,null,null,null,0,null,null,null,null,null,21]
[null,null,null,null,null,"LV UMS (Pseudo HH Metered)","kVA","All the way customers",null,null,null,null,null,null,0,null,null,null,null,null,21]
[null,null,null,null,null,"LV Generation NHH or Aggregate HH","kVA","All the way customers",null,null,null,null,null,null,0,null,null,null,null,null,21]
[null,null,null,null,null,"LV Sub Generation NHH","kVA","All the way customers",null,null,null,null,null,null,0,null,null,null,null,null,21]
[null,null,null,null,null,"LV Generation Intermittent","kVA","All the way customers",null,null,null,null,null,null,0,null,null,null,null,null,21]
[null,null,null,null,null,"LV Generation Intermittent no RP charge","kVA","All the way customers",null,null,null,null,null,null,0,null,null,null,null,null,21]
[null,null,null,null,null,"LV Generation Non-Intermittent","kVA","All the way customers",null,null,null,null,null,null,0,null,null,null,null,null,21]
[null,null,null,null,null,"LV Generation Non-Intermittent no RP charge","kVA","All the way customers",null,null,null,null,null,null,0,null,null,null,null,null,21]
[null,null,null,null,null,"LV Sub Generation Intermittent","kVA","All the way customers",null,null,null,null,null,null,0,null,null,null,null,null,21]
[null,null,null,null,null,"LV Sub Generation Intermittent no RP charge","kVA","All the way customers",null,null,null,null,null,null,0,null,null,null,null,null,21]
[null,null,null,null,null,"LV Sub Generation Non-Intermittent","kVA","All the way customers",null,null,null,null,null,null,0,null,null,null,null,null,21]
[null,null,null,null,null,"LV Sub Generation Non-Intermittent no RP charge","kVA","All the way customers",null,null,null,null,null,null,0,null,null,null,null,null,21]
[null,null,null,null,null,"HV Generation Intermittent","kVA","All the way customers",null,null,null,null,null,null,0,null,null,null,null,null,21]
[null,null,null,null,null,"HV Generation Intermittent no RP charge","kVA","All the way customers",null,null,null,null,null,null,0,null,null,null,null,null,21]
[null,null,null,null,null,"HV Generation Non-Intermittent","kVA","All the way customers",null,null,null,null,null,null,0,null,null,null,null,null,21]
[null,null,null,null,null,"HV Generation Non-Intermittent no RP charge","kVA","All the way customers",null,null,null,null,null,null,0,null,null,null,null,null,21]
[]
[null,null,null,null,"Exceeded capacity"]
[null,null,null,null,null,"Domestic Unrestricted","kVA","All the way customers",null,null,null,null,null,null,0,null,null,null,null,null,{"$f":"U235+1","v":22}]
[null,null,null,null,null,"Domestic Two Rate","kVA","All the way customers",null,null,null,null,null,null,0,null,null,null,null,null,22]
[null,null,null,null,null,"Domestic Off Peak (related MPAN)","kVA","All the way customers",null,null,null,null,null,null,0,null,null,null,null,null,22]
[null,null,null,null,null,"Small Non Domestic Unrestricted","kVA","All the way customers",null,null,null,null,null,null,0,null,null,null,null,null,22]
[null,null,null,null,null,"Small Non Domestic Two Rate","kVA","All the way customers",null,null,null,null,null,null,0,null,null,null,null,null,22]
[null,null,null,null,null,"Small Non Domestic Off Peak (related MPAN)","kVA","All the way customers",null,null,null,null,null,null,0,null,null,null,null,null,22]
[null,null,null,null,null,"LV Medium Non-Domestic","kVA","All the way customers",null,null,null,null,null,null,0,null,null,null,null,null,22]
[null,null,null,null,null,"LV Sub Medium Non-Domestic","kVA","All the way customers",null,null,null,null,null,null,0,null,null,null,null,null,22]
[null,null,null,null,null,"HV Medium Non-Domestic","kVA","All the way customers",null,null,null,null,null,null,0,null,null,null,null,null,22]
[null,null,null,null,null,"LV Network Domestic","kVA","All the way customers",null,null,null,null,null,null,0,null,null,null,null,null,22]
[null,null,null,null,null,"LV Network Non-Domestic Non-CT","kVA","All the way customers",null,null,null,null,null,null,0,null,null,null,null,null,22]
[null,null,null,null,null,"LV HH Metered","kVA","All the way customers",null,{"$f":"CHOOSE(year_selection, L281,M281,N281,O281,P281,Q281,R281,S281)","v":24014.967123287672},null,null,null,null,24014.967123287672,{"$f":"O281","v":24014.967123287672},24014.967123287672,24014.967123287672,24014.967123287672,null,22]
[null,null,null,null,null,"LV Sub HH Metered","kVA","All the way customers",null,1372.9829276493151,null,null,null,null,1372.9829276493151,1372.9829276493151,1372.9829276493151,1372.9829276493151,1372.9829276493151,null,22]
[null,null,null,null,null,"HV HH Metered","kVA","All the way customers",null,19153.332046867399,null,null,null,null,19153.332046867399,19153.332046867399,19153.332046867399,19153.332046867399,19153.332046867399,null,22]
[null,null,null,null,null,"NHH UMS category A","kVA","All the way customers",null,null,null,null,null,null,0,null,null,null,null,null,22]
[null,null,null,null,null,"NHH UMS category B","kVA","All the way customers",null,null,null,null,null,null,0,null,null,null,null,null,22]
[null,null,null,null,null,"NHH UMS category C","kVA","All the way customers",null,null,null,null,null,null,0,null,null,null,null,null,22]
[null,null,null,null,null,"NHH UMS category D","kVA","All the way customers",null,null,null,null,null,null,0,null,null,null,null,null,22]
[null,null,null,null,null,"LV UMS (Pseudo HH Metered)","kVA","All the way customers",null,null,null,null,null,null,0,null,null,null,null,null,22]
[null,null,null,null,null,"LV Generation NHH or Aggregate HH","kVA","All the way customers",null,null,null,null,null,null,0,null,null,null,null,null,22]
[null,null,null,null,null,"LV Sub Generation NHH","kVA","All the way customers",null,null,null,null,null,null,0,null,null,null,null,null,22]
[null,null,null,null,null,"LV Generation Intermittent","kVA","All the way customers",null,null,null,null,null,null,0,null,null,null,null,null,22]
[null,null,null,null,null,"LV Generation Intermittent no RP charge","kVA","All the way customers",null,null,null,null,null,null,0,null,null,null,null,null,22]
[null,null,null,null,null,"LV Generation Non-Intermittent","kVA","All the way customers",null,null,null,null,null,null,0,null,null,null,null,null,22]
[null,null,null,null,null,"LV Generation Non-Intermittent no RP charge","kVA","All the way customers",null,null,null,null,null,null,0,null,null,null,null,null,22]
[null,null,null,null,null,"LV Sub Generation Intermittent","kVA","All the way customers",null,null,null,null,null,null,0,null,null,null,null,null,22]
[null,null,null,null,null,"LV Sub Generation Intermittent no RP charge","kVA","All the way customers",null,null,null,null,null,null,0,null,null,null,null,null,22]
[null,null,null,null,null,"LV Sub Generation Non-Intermittent","kVA","All the way customers",null,null,null,null,null,null,0,null,null,null,null,null,22]
[null,null,null,null,null,"LV Sub Generation Non-Intermittent no RP charge","kVA","All the way customers",null,null,null,null,null,null,0,null,null,null,null,null,22]
[null,null,null,null,null,"HV Generation Intermittent","kVA","All the way customers",null,null,null,null,null,null,0,null,null,null,null,null,22]
[null,null,null,null,null,"HV Generation Intermittent no RP charge","kVA","All the way customers",null,null,null,null,null,null,0,null,null,null,null,null,22]
[null,null,null,null,null,"HV Generation Non-Intermittent","kVA","All the way customers",null,null,null,null,null,null,0,null,null,null,null,null,22]
[null,null,null,null,null,"HV Generation Non-Intermittent no RP charge","kVA","All the way customers",null,null,null,null,null,null,0,null,null,null,null,null,22]
[]
[null,null,null,null,"Reactive power units"]
[null,null,null,null,null,"Domestic Unrestricted","MVArh","All the way customers",null,null,null,null,null,null,0,null,null,null,null,null,{"$f":"U270+1","v":23}]
[null,null,null,null,null,"Domestic Two Rate","MVArh","All the way customers",null,null,null,null,null,null,0,null,null,null,null,null,23]
[null,null,null,null,null,"Domestic Off Peak (related MPAN)","MVArh","All the way customers",null,null,null,null,null,null,0,null,null,null,null,null,23]
[null,null,null,null,null,"Small Non Domestic Unrestricted","MVArh","All the way customers",null,null,null,null,null,null,0,null,null,null,null,null,23]
[null,null,null,null,null,"Small Non Domestic Two Rate","MVArh","All the way customers",null,null,null,null,null,null,0,null,null,null,null,null,23]
[null,null,null,null,null,"Small Non Domestic Off Peak (related MPAN)","MVArh","All the way customers",null,null,null,null,null,null,0,null,null,null,null,null,23]
[null,null,null,null,null,"LV Medium Non-Domestic","MVArh","All the way customers",null,null,null,null,null,null,0,null,null,null,null,null,23]
[null,null,null,null,null,"LV Sub Medium Non-Domestic","MVArh","All the way customers",null,null,null,null,null,null,0,null,null,null,null,null,23]
[null,null,null,null,null,"HV Medium Non-Domestic","MVArh","All the way customers",null,null,null,null,null,null,0,null,null,null,null,null,23]
[null,null,null,null,null,"LV Network Domestic","MVArh","All the way customers",null,null,null,null,null,null,0,null,null,null,null,null,23]
[null,null,null,null,null,"LV Network Non-Domestic Non-CT","MVArh","All the way customers",null,null,null,null,null,null,0,null,null,null,null,null,23]
[null,null,null,null,null,"LV HH Metered","MVArh","All the way customers",null,{"$f":"CHOOSE(year_selection, L316,M316,N316,O316,P316,Q316,R316,S316)","v":126443.34399153598},null,null,null,null,126443.34399153598,{"$f":"O316","v":126443.34399153598},126443.34399153598,126443.34399153598,126443.34399153598,null,23]
[null,null,null,null,null,"LV Sub HH Metered","MVArh","All the way customers",null,6671.1604148720007,null,null,null,null,6671.1604148720007,6671.1604148720007,6671.1604148720007,6671.1604148720007,6671.1604148720007,null,23]
[null,null,null,null,null,"HV HH Metered","MVArh","All the way customers",null,107880.47236750388,null,null,null,null,107880.47236750388,107880.47236750388,107880.47236750388,107880.47236750388,107880.47236750388,null,23]
[null,null,null,null,null,"NHH UMS category A","MVArh","All the way customers",null,null,null,null,null,null,0,null,null,null,null,null,23]
[null,null,null,null,null,"NHH UMS category B","MVArh","All the way customers",null,null,null,null,null,null,0,null,null,null,null,null,23]
[null,null,null,null,null,"NHH UMS category C","MVArh","All the way customers",null,null,null,null,null,null,0,null,null,null,null,null,23]
[null,null,null,null,null,"NHH UMS category D","MVArh","All the way customers",null,null,null,null,null,null,0,null,null,null,null,null,23]
[null,null,null,null,null,"LV UMS (Pseudo HH Metered)","MVArh","All the way customers",null,null,null,null,null,null,0,null,null,null,null,null,23]
[null,null,null,null,null,"LV Generation NHH or Aggregate HH","MVArh","All the way customers",null,null,null,null,null,null,0,null,null,null,null,null,23]
[null,null,null,null,null,"LV Sub Generation NHH","MVArh","All the way customers",null,null,null,null,null,null,0,null,null,null,null,null,23]
[null,null,null,null,null,"LV Generation Intermittent","MVArh","All the way customers",null,{"$f":"CHOOSE(year_selection, L326,M326,N326,O326,P326,Q326,R326,S326)","v":2796.5714810000004},null,null,null,null,2796.5714810000004,{"$f":"O326","v":2796.5714810000004},2796.5714810000004,2796.5714810000004,2796.5714810000004,null,23]
[null,null,null,null,null,"LV Generation Intermittent no RP charge","MVArh","All the way customers",null,null,null,null,null,null,0,null,null,null,null,null,23]
[null,null,null,null,null,"LV Generation Non-Intermittent","MVArh","All the way customers",null,{"$f":"CHOOSE(year_selection, L328,M328,N328,O328,P328,Q328,R328,S328)","v":445.56613500000003},null,null,null,null,445.56613500000003,{"$f":"O328","v":445.56613500000003},445.56613500000003,445.56613500000003,445.56613500000003,null,23]
[null,null,null,null,null,"LV Generation Non-Intermittent no RP charge","MVArh","All the way customers",null,null,null,null,null,null,0,null,null,null,null,null,23]
[null,null,null,null,null,"LV Sub Generation Intermittent","MVArh","All the way customers",null,{"$f":"CHOOSE(year_selection, L330,M330,N330,O330,P330,Q330,R330,S330)","v":4.4529209999999999},null,null,null,null,4.4529209999999999,{"$f":"O330","v":4.4529209999999999},4.4529209999999999,4.4529209999999999,4.4529209999999999,null,23]
[null,null,null,null,null,"LV Sub Generation Intermittent no RP charge","MVArh","All the way customers",null,null,null,null,null,null,0,null,null,null,null,null,23]
[null,null,null,null,null,"LV Sub Generation Non-Intermittent","MVArh","All the way customers",null,{"$f":"CHOOSE(year_selection, L332,M332,N332,O332,P332,Q332,R332,S332)","v":0},null,null,null,null,0,{"$f":"O332","v":0},0,0,0,null,23]
[null,null,null,null,null,"LV Sub Generation Non-Intermittent no RP charge","MVArh","All the way customers",null,null,null,null,null,null,0,null,null,null,null,null,23]
[null,null,null,null,null,"HV Generation Intermittent","MVArh","All the way customers",null,{"$f":"CHOOSE(year_selection, L334,M334,N334,O334,P334,Q334,R334,S334)","v":7489.4041639999996},null,null,null,null,7489.4041639999996,{"$f":"O334","v":7489.4041639999996},7489.4041639999996,7489.4041639999996,7489.4041639999996,null,23]
[null,null,null,null,null,"HV Generation Intermittent no RP charge","MVArh","All the way customers",null,null,null,null,null,null,0,null,null,null,null,null,23]
[null,null,null,null,null,"HV Generation Non-Intermittent","MVArh","All the way customers",null,{"$f":"CHOOSE(year_selection, L336,M336,N336,O336,P336,Q336,R336,S336)","v":1364.77427625},null,null,null,null,1364.77427625,{"$f":"O336","v":1364.77427625},1364.77427625,1364.77427625,1364.77427625,null,23]
[null,null,null,null,null,"HV Generation Non-Intermittent no RP charge","MVArh","All the way customers",null,null,null,null,null,null,0,null,null,null,null,null,23]
[]
[null,null,{"$f":"INDEX('Version control'!$H$34:$H$59,MATCH($A$1,'Version control'!$F$34:$F$59,0),1)&\"-D: LDNO LV volumes\"","v":"Input 501-D: LDNO LV volumes"}]
[]
[null,null,null,null,"Rate 1 units",null,null,null,">",null,null,null,null,null,null,null,null,null,null,null,"Paragraph 52"]
[null,null,null,null,null,"Domestic Unrestricted","MWh","LDNO LV customers",null,{"$f":"CHOOSE(year_selection, L342,M342,N342,O342,P342,Q342,R342,S342)","v":3801.6436730332721},null,null,null,null,3801.6436730332721,{"$f":"O342","v":3801.6436730332721},3801.6436730332721,3801.6436730332721,3801.6436730332721,null,26]
[null,null,null,null,null,"Domestic Two Rate","MWh","LDNO LV customers",null,66.789153280354185,null,null,null,null,66.789153280354185,66.789153280354185,66.789153280354185,66.789153280354185,66.789153280354185,null,26]
[null,null,null,null,null,"Domestic Off Peak (related MPAN)","MWh","LDNO LV customers",null,0,null,null,null,null,0,0,0,0,0,null,26]
[null,null,null,null,null,"Small Non Domestic Unrestricted","MWh","LDNO LV customers",null,90.609526280157723,null,null,null,null,90.609526280157723,90.609526280157723,90.609526280157723,90.609526280157723,90.609526280157723,null,26]
[null,null,null,null,null,"Small Non Domestic Two Rate","MWh","LDNO LV customers",null,0,null,null,null,null,0,0,0,0,0,null,26]
[null,null,null,null,null,"Small Non Domestic Off Peak (related MPAN)","MWh","LDNO LV customers",null,0,null,null,null,null,0,0,0,0,0,null,26]
[null,null,null,null,null,"LV Medium Non-Domestic","MWh","LDNO LV customers",null,0,null,null,null,null,0,0,0,0,0,null,26]
[null,null,null,null,null,"LV Sub Medium Non-Domestic","MWh","LDNO LV customers",null,null,null,null,null,null,0,null,null,null,null,null,26]
[null,null,null,null,null,"HV Medium Non-Domestic","MWh","LDNO LV customers",null,null,null,null,null,null,0,null,null,null,null,null,26]
[null,null,null,null,null,"LV Network Domestic","MWh","LDNO LV customers",null,0,null,null,null,null,0,{"$f":"O351","v":0},0,0,0,null,26]
[null,null,null,null,null,"LV Network Non-Domestic Non-CT","MWh","LDNO LV customers",null,0,null,null,null,null,0,0,0,0,0,null,26]
[null,null,null,null,null,"LV HH Metered","MWh","LDNO LV customers",null,33.757735705319291,null,null,null,null,33.757735705319291,33.757735705319291,33.757735705319291,33.757735705319291,33.757735705319291,null,26]
[null,null,null,null,null,"LV Sub HH Metered","MWh","LDNO LV customers",null,null,null,null,null,null,0,null,null,null,null,null,26]
[null,null,null,null,null,"HV HH Metered","MWh","LDNO LV customers",null,null,null,null,null,null,0,null,null,null,null,null,26]
[null,null,null,null,null,"NHH UMS category A","MWh","LDNO LV customers",null,137.6265837801335,null,null,null,null,137.6265837801335,{"$f":"O356","v":137.6265837801335},137.6265837801335,137.6265837801335,137.6265837801335,null,26]
[null,null,null,null,null,"NHH UMS category B","MWh","LDNO LV customers",null,6.9392159772526094,null,null,null,null,6.9392159772526094,6.9392159772526094,6.9392159772526094,6.9392159772526094,6.9392159772526094,null,26]
[null,null,null,null,null,"NHH UMS category C","MWh","LDNO LV customers",null,0,null,null,null,null,0,0,0,0,0,null,26]
[null,null,null,null,null,"NHH UMS category D","MWh","LDNO LV customers",null,0,null,null,null,null,0,0,0,0,0,null,26]
[null,null,null,null,null,"LV UMS (Pseudo HH Metered)","MWh","LDNO LV customers",null,0,null,null,null,null,0,0,0,0,0,null,26]
[null,null,null,null,null,"LV Generation NHH or Aggregate HH","MWh","LDNO LV customers",null,0,null,null,null,null,0,0,0,0,0,null,26]
[null,null,null,null,null,"LV Sub Generation NHH","MWh","LDNO LV customers",null,null,null,null,null,null,0,null,null,null,null,null,26]
[null,null,null,null,null,"LV Generation Intermittent","MWh","LDNO LV customers",null,0,null,null,null,null,0,{"$f":"O363","v":0},0,0,0,null,26]
[null,null,null,null,null,"LV Generation Intermittent no RP charge","MWh","LDNO LV customers",null,null,null,null,null,null,0,null,null,null,null,null,26]
[null,null,null,null,null,"LV Generation Non-Intermittent","MWh","LDNO LV customers",null,0,null,null,null,null,0,{"$f":"O365","v":0},0,0,0,null,26]
[null,null,null,null,null,"LV Generation Non-Intermittent no RP charge","MWh","LDNO LV customers",null,null,null,null,null,null,0,null,null,null,null,null,26]
[null,null,null,null,null,"LV Sub Generation Intermittent","MWh","LDNO LV customers",null,null,null,null,null,null,0,null,null,null,null,null,26]
[null,null,null,null,null,"LV Sub Generation Intermittent no RP charge","MWh","LDNO LV customers",null,null,null,null,null,null,0,null,null,null,null,null,26]
[null,null,null,null,null,"LV Sub Generation Non-Intermittent","MWh","LDNO LV customers",null,null,null,null,null,null,0,null,null,null,null,null,26]
[null,null,null,null,null,"LV Sub Generation Non-Intermittent no RP charge","MWh","LDNO LV customers",null,null,null,null,null,null,0,null,null,null,null,null,26]
[null,null,null,null,null,"HV Generation Intermittent","MWh","LDNO LV customers",null,null,null,null,null,null,0,null,null,null,null,null,26]
[null,null,null,null,null,"HV Generation Intermittent no RP charge","MWh","LDNO LV customers",null,null,null,null,null,null,0,null,null,null,null,null,26]
[null,null,null,null,null,"HV Generation Non-Intermittent","MWh","LDNO LV customers",null,null,null,null,null,null,0,null,null,null,null,null,26]
[null,null,null,null,null,"HV Generation Non-Intermittent no RP charge","MWh","LDNO LV customers",null,null,null,null,null,null,0,null,null,null,null,null,26]
[]
[null,null,null,null,"Rate 2 units"]
[null,null,null,null,null,"Domestic Unrestricted","MWh","LDNO LV customers",null,null,null,null,null,null,0,null,null,null,null,null,{"$f":"U342+1","v":27}]
[null,null,null,null,null,"Domestic Two Rate","MWh","LDNO LV customers",null,{"$f":"CHOOSE(year_selection, L378,M378,N378,O378,P378,Q378,R378,S378)","v":18.210955250642108},null,null,null,null,18.210955250642108,{"$f":"O378","v":18.210955250642108},18.210955250642108,18.210955250642108,18.210955250642108,null,{"$f":"U343+1","v":27}]
[null,null,null,null,null,"Domestic Off Peak (related MPAN)","MWh","LDNO LV customers",null,null,null,null,null,null,0,null,null,null,null,null,27]
[null,null,null,null,null,"Small Non Domestic Unrestricted","MWh","LDNO LV customers",null,null,null,null,null,null,0,null,null,null,null,null,27]
[null,null,null,null,null,"Small Non Domestic Two Rate","MWh","LDNO LV customers",null,{"$f":"CHOOSE(year_selection, L381,M381,N381,O381,P381,Q381,R381,S381)","v":0},null,null,null,null,0,{"$f":"O381","v":0},0,0,0,null,27]
[null,null,null,null,null,"Small Non Domestic Off Peak (related MPAN)","MWh","LDNO LV customers",null,null,null,null,null,null,0,null,null,null,null,null,27]
[null,null,null,null,null,"LV Medium Non-Domestic","MWh","LDNO LV customers",null,{"$f":"CHOOSE(year_selection, L383,M383,N383,O383,P383,Q383,R383,S383)","v":0},null,null,null,null,0,{"$f":"O383","v":0},0,0,0,null,27]
[null,null,null,null,null,"LV Sub Medium Non-Domestic","MWh","LDNO LV customers",null,null,null,null,null,null,0,null,null,null,null,null,27]
[null,null,null,null,null,"HV Medium Non-Domestic","MWh","LDNO LV customers",null,null,null,null,null,null,0,null,null,null,null,null,27]
[null,null,null,null,null,"LV Network Domestic","MWh","LDNO LV customers",null,0,null,null,null,null,0,{"$f":"O386","v":0},0,0,0,null,27]
[null,null,null,null,null,"LV Network Non-Domestic Non-CT","MWh","LDNO LV customers",null,0,null,null,null,null,0,0,0,0,0,null,27]
[null,null,null,null,null,"LV HH Metered","MWh","LDNO LV customers",null,226.96905231533046,null,null,null,null,226.96905231533046,226.96905231533046,226.96905231533046,226.96905231533046,226.96905231533046,null,27]
[null,null,null,null,null,"LV Sub HH Metered","MWh","LDNO LV customers",null,null,null,null,null,null,0,null,null,null,null,null,27]
[null,null,null,null,null,"HV HH Metered","MWh","LDNO LV customers",null,null,null,null,null,null,0,null,null,null,null,null,27]
[null,null,null,null,null,"NHH UMS category A","MWh","LDNO LV customers",null,null,null,null,null,null,0,null,null,null,null,null,27]
[null,null,null,null,null,"NHH UMS category B","MWh","LDNO LV customers",null,null,null,null,null,null,0,null,null,null,null,null,27]
[null,null,null,null,null,"NHH UMS category C","MWh","LDNO LV customers",null,null,null,null,null,null,0,null,null,null,null,null,27]
[null,null,null,null,null,"NHH UMS category D","MWh","LDNO LV customers",null,null,null,null,null,null,0,null,null,null,null,null,27]
[null,null,null,null,null,"LV UMS (Pseudo HH Metered)","MWh","LDNO LV customers",null,{"$f":"CHOOSE(year_selection, L395,M395,N395,O395,P395,Q395,R395,S395)","v":0},null,null,null,null,0,{"$f":"O395","v":0},0,0,0,null,27]
[null,null,null,null,null,"LV Generation NHH or Aggregate HH","MWh","LDNO LV customers",null,null,null,null,null,null,0,null,null,null,null,null,27]
[null,null,null,null,null,"LV Sub Generation NHH","MWh","LDNO LV customers",null,null,null,null,null,null,0,null,null,null,null,null,27]
[null,null,null,null,null,"LV Generation Intermittent","MWh","LDNO LV customers",null,null,null,null,null,null,0,null,null,null,null,null,27]
[null,null,null,null,null,"LV Generation Intermittent no RP charge","MWh","LDNO LV customers",null,null,null,null,null,null,0,null,null,null,null,null,27]
[null,null,null,null,null,"LV Generation Non-Intermittent","MWh","LDNO LV customers",null,{"$f":"CHOOSE(year_selection, L400,M400,N400,O400,P400,Q400,R400,S400)","v":0},null,null,null,null,0,{"$f":"O400","v":0},0,0,0,null,27]
[null,null,null,null,null,"LV Generation Non-Intermittent no RP charge","MWh","LDNO LV customers",null,null,null,null,null,null,0,null,null,null,null,null,27]
[null,null,null,null,null,"LV Sub Generation Intermittent","MWh","LDNO LV customers",null,null,null,null,null,null,0,null,null,null,null,null,27]
[null,null,null,null,null,"LV Sub Generation Intermittent no RP charge","MWh","LDNO LV customers",null,null,null,null,null,null,0,null,null,null,null,null,27]
[null,null,null,null,null,"LV Sub Generation Non-Intermittent","MWh","LDNO LV customers",null,null,null,null,null,null,0,null,null,null,null,null,27]
[null,null,null,null,null,"LV Sub Generation Non-Intermittent no RP charge","MWh","LDNO LV customers",null,null,null,null,null,null,0,null,null,null,null,null,27]
[null,null,null,null,null,"HV Generation Intermittent","MWh","LDNO LV customers",null,null,null,null,null,null,0,null,null,null,null,null,27]
[null,null,null,null,null,"HV Generation Intermittent no RP charge","MWh","LDNO LV customers",null,null,null,null,null,null,0,null,null,null,null,null,27]
[null,null,null,null,null,"HV Generation Non-Intermittent","MWh","LDNO LV customers",null,null,null,null,null,null,0,null,null,null,null,null,27]
[null,null,null,null,null,"HV Generation Non-Intermittent no RP charge","MWh","LDNO LV customers",null,null,null,null,null,null,0,null,null,null,null,null,27]
[]
[null,null,null,null,"Rate 3 units"]
[null,null,null,null,null,"Domestic Unrestricted","MWh","LDNO LV customers",null,null,null,null,null,null,0,null,null,null,null,null,{"$f":"U377+1","v":28}]
[null,null,null,null,null,"Domestic Two Rate","MWh","LDNO LV customers",null,null,null,null,null,null,0,null,null,null,null,null,{"$f":"U378+1","v":28}]
[null,null,null,null,null,"Domestic Off Peak (related MPAN)","MWh","LDNO LV customers",null,null,null,null,null,null,0,null,null,null,null,null,28]
[null,null,null,null,null,"Small Non Domestic Unrestricted","MWh","LDNO LV customers",null,null,null,null,null,null,0,null,null,null,null,null,28]
[null,null,null,null,null,"Small Non Domestic Two Rate","MWh","LDNO LV customers",null,null,null,null,null,null,0,null,null,null,null,null,28]
[null,null,null,null,null,"Small Non Domestic Off Peak (related MPAN)","MWh","LDNO LV customers",null,null,null,null,null,null,0,null,null,null,null,null,28]
[null,null,null,null,null,"LV Medium Non-Domestic","MWh","LDNO LV customers",null,null,null,null,null,null,0,null,null,null,null,null,28]
[null,null,null,null,null,"LV Sub Medium Non-Domestic","MWh","LDNO LV customers",null,null,null,null,null,null,0,null,null,null,null,null,28]
[null,null,null,null,null,"HV Medium Non-Domestic","MWh","LDNO LV customers",null,null,null,null,null,null,0,null,null,null,null,null,28]
[null,null,null,null,null,"LV Network Domestic","MWh","LDNO LV customers",null,{"$f":"CHOOSE(year_selection, L421,M421,N421,O421,P421,Q421,R421,S421)","v":0},null,null,null,null,0,{"$f":"O421","v":0},0,0,0,null,28]
[null,null,null,null,null,"LV Network Non-Domestic Non-CT","MWh","LDNO LV customers",null,0,null,null,null,null,0,0,0,0,0,null,28]
[null,null,null,null,null,"LV HH Metered","MWh","LDNO LV customers",null,160.07919109496191,null,null,null,null,160.07919109496191,160.07919109496191,160.07919109496191,160.07919109496191,160.07919109496191,null,28]
[null,null,null,null,null,"LV Sub HH Metered","MWh","LDNO LV customers",null,null,null,null,null,null,0,null,null,null,null,null,28]
[null,null,null,null,null,"HV HH Metered","MWh","LDNO LV customers",null,null,null,null,null,null,0,null,null,null,null,null,28]
[null,null,null,null,null,"NHH UMS category A","MWh","LDNO LV customers",null,null,null,null,null,null,0,null,null,null,null,null,28]
[null,null,null,null,null,"NHH UMS category B","MWh","LDNO LV customers",null,null,null,null,null,null,0,null,null,null,null,null,28]
[null,null,null,null,null,"NHH UMS category C","MWh","LDNO LV customers",null,null,null,null,null,null,0,null,null,null,null,null,28]
[null,null,null,null,null,"NHH UMS category D","MWh","LDNO LV customers",null,null,null,null,null,null,0,null,null,null,null,null,28]
[null,null,null,null,null,"LV UMS (Pseudo HH Metered)","MWh","LDNO LV customers",null,{"$f":"CHOOSE(year_selection, L430,M430,N430,O430,P430,Q430,R430,S430)","v":0},null,null,null,null,0,{"$f":"O430","v":0},0,0,0,null,28]
[null,null,null,null,null,"LV Generation NHH or Aggregate HH","MWh","LDNO LV customers",null,null,null,null,null,null,0,null,null,null,null,null,28]
[null,null,null,null,null,"LV Sub Generation NHH","MWh","LDNO LV customers",null,null,null,null,null,null,0,null,null,null,null,null,28]
[null,null,null,null,null,"LV Generation Intermittent","MWh","LDNO LV customers",null,null,null,null,null,null,0,null,null,null,null,null,28]
[null,null,null,null,null,"LV Generation Intermittent no RP charge","MWh","LDNO LV customers",null,null,null,null,null,null,0,null,null,null,null,null,28]
[null,null,null,null,null,"LV Generation Non-Intermittent","MWh","LDNO LV customers",null,{"$f":"CHOOSE(year_selection, L435,M435,N435,O435,P435,Q435,R435,S435)","v":0},null,null,null,null,0,{"$f":"O435","v":0},0,0,0,null,28]
[null,null,null,null,null,"LV Generation Non-Intermittent no RP charge","MWh","LDNO LV customers",null,null,null,null,null,null,0,null,null,null,null,null,28]
[null,null,null,null,null,"LV Sub Generation Intermittent","MWh","LDNO LV customers",null,null,null,null,null,null,0,null,null,null,null,null,28]
[null,null,null,null,null,"LV Sub Generation Intermittent no RP charge","MWh","LDNO LV customers",null,null,null,null,null,null,0,null,null,null,null,null,28]
[null,null,null,null,null,"LV Sub Generation Non-Intermittent","MWh","LDNO LV customers",null,null,null,null,null,null,0,null,null,null,null,null,28]
[null,null,null,null,null,"LV Sub Generation Non-Intermittent no RP charge","MWh","LDNO LV customers",null,null,null,null,null,null,0,null,null,null,null,null,28]
[null,null,null,null,null,"HV Generation Intermittent","MWh","LDNO LV customers",null,null,null,null,null,null,0,null,null,null,null,null,28]
[null,null,null,null,null,"HV Generation Intermittent no RP charge","MWh","LDNO LV customers",null,null,null,null,null,null,0,null,null,null,null,null,28]
[null,null,null,null,null,"HV Generation Non-Intermittent","MWh","LDNO LV customers",null,null,null,null,null,null,0,null,null,null,null,null,28]
[null,null,null,null,null,"HV Generation Non-Intermittent no RP charge","MWh","LDNO LV customers",null,null,null,null,null,null,0,null,null,null,null,null,28]
[]
[null,null,null,null,"MPANs"]
[null,null,null,null,null,"Domestic Unrestricted","MPANs","LDNO LV customers",null,{"$f":"CHOOSE(year_selection, L447,M447,N447,O447,P447,Q447,R447,S447)","v":1401.7154794520548},null,null,null,null,1401.7154794520548,{"$f":"O447","v":1401.7154794520548},1401.7154794520548,1401.7154794520548,1401.7154794520548,null,{"$f":"U412+1","v":29}]
[null,null,null,null,null,"Domestic Two Rate","MPANs","LDNO LV customers",null,31.396179452054799,null,null,null,null,31.396179452054799,31.396179452054799,31.396179452054799,31.396179452054799,31.396179452054799,null,{"$f":"U413+1","v":29}]
[null,null,null,null,null,"Domestic Off Peak (related MPAN)","MPANs","LDNO LV customers",null,0,null,null,null,null,0,0,0,0,0,null,29]
[null,null,null,null,null,"Small Non Domestic Unrestricted","MPANs","LDNO LV customers",null,6.9593424657534246,null,null,null,null,6.9593424657534246,6.9593424657534246,6.9593424657534246,6.9593424657534246,6.9593424657534246,null,29]
[null,null,null,null,null,"Small Non Domestic Two Rate","MPANs","LDNO LV customers",null,0,null,null,null,null,0,0,0,0,0,null,29]
[null,null,null,null,null,"Small Non Domestic Off Peak (related MPAN)","MPANs","LDNO LV customers",null,0,null,null,null,null,0,0,0,0,0,null,29]
[null,null,null,null,null,"LV Medium Non-Domestic","MPANs","LDNO LV customers",null,0,null,null,null,null,0,0,0,0,0,null,29]
[null,null,null,null,null,"LV Sub Medium Non-Domestic","MPANs","LDNO LV customers",null,null,null,null,null,null,0,null,null,null,null,null,29]
[null,null,null,null,null,"HV Medium Non-Domestic","MPANs","LDNO LV customers",null,null,null,null,null,null,0,null,null,null,null,null,29]
[null,null,null,null,null,"LV Network Domestic","MPANs","LDNO LV customers",null,0,null,null,null,null,0,{"$f":"O456","v":0},0,0,0,null,29]
[null,null,null,null,null,"LV Network Non-Domestic Non-CT","MPANs","LDNO LV customers",null,0,null,null,null,null,0,0,0,0,0,null,29]
[null,null,null,null,null,"LV HH Metered","MPANs","LDNO LV customers",null,2.9912486301369867,null,null,null,null,2.9912486301369867,2.9912486301369867,2.9912486301369867,2.9912486301369867,2.9912486301369867,null,29]
[null,null,null,null,null,"LV Sub HH Metered","MPANs","LDNO LV customers",null,null,null,null,null,null,0,null,null,null,null,null,29]
[null,null,null,null,null,"HV HH Metered","MPANs","LDNO LV customers",null,null,null,null,null,null,0,null,null,null,null,null,29]
[null,null,null,null,null,"NHH UMS category A","MPANs","LDNO LV customers",null,0,null,null,null,null,0,{"$f":"O461","v":0},0,0,0,null,29]
[null,null,null,null,null,"NHH UMS category B","MPANs","LDNO LV customers",null,0,null,null,null,null,0,0,0,0,0,null,29]
[null,null,null,null,null,"NHH UMS category C","MPANs","LDNO LV customers",null,0,null,null,null,null,0,0,0,0,0,null,29]
[null,null,null,null,null,"NHH UMS category D","MPANs","LDNO LV customers",null,0,null,null,null,null,0,0,0,0,0,null,29]
[null,null,null,null,null,"LV UMS (Pseudo HH Metered)","MPANs","LDNO LV customers",null,0,null,null,null,null,0,0,0,0,0,null,29]
[null,null,null,null,null,"LV Generation NHH or Aggregate HH","MPANs","LDNO LV customers",null,0,null,null,null,null,0,0,0,0,0,null,29]
[null,null,null,null,null,"LV Sub Generation NHH","MPANs","LDNO LV customers",null,null,null,null,null,null,0,null,null,null,null,null,29]
[null,null,null,null,null,"LV Generation Intermittent","MPANs","LDNO LV customers",null,0,null,null,null,null,0,{"$f":"O468","v":0},0,0,0,null,29]
[null,null,null,null,null,"LV Generation Intermittent no RP charge","MPANs","LDNO LV customers",null,null,null,null,null,null,0,null,null,null,null,null,29]
[null,null,null,null,null,"LV Generation Non-Intermittent","MPANs","LDNO LV customers",null,0,null,null,null,null,0,{"$f":"O470","v":0},0,0,0,null,29]
[null,null,null,null,null,"LV Generation Non-Intermittent no RP charge","MPANs","LDNO LV customers",null,null,null,null,null,null,0,null,null,null,null,null,29]
[null,null,null,null,null,"LV Sub Generation Intermittent","MPANs","LDNO LV customers",null,null,null,null,null,null,0,null,null,null,null,null,29]
[null,null,null,null,null,"LV Sub Generation Intermittent no RP charge","MPANs","LDNO LV customers",null,null,null,null,null,null,0,null,null,null,null,null,29]
[null,null,null,null,null,"LV Sub Generation Non-Intermittent","MPANs","LDNO LV customers",null,null,null,null,null,null,0,null,null,null,null,null,29]
[null,null,null,null,null,"LV Sub Generation Non-Intermittent no RP charge","MPANs","LDNO LV customers",null,null,null,null,null,null,0,null,null,null,null,null,29]
[null,null,null,null,null,"HV Generation Intermittent","MPANs","LDNO LV customers",null,null,null,null,null,null,0,null,null,null,null,null,29]
[null,null,null,null,null,"HV Generation Intermittent no RP charge","MPANs","LDNO LV customers",null,null,null,null,null,null,0,null,null,null,null,null,29]
[null,null,null,null,null,"HV Generation Non-Intermittent","MPANs","LDNO LV customers",null,null,null,null,null,null,0,null,null,null,null,null,29]
[null,null,null,null,null,"HV Generation Non-Intermittent no RP charge","MPANs","LDNO LV customers",null,null,null,null,null,null,0,null,null,null,null,null,29]
[]
[null,null,null,null,"Import capacity"]
[null,null,null,null,null,"Domestic Unrestricted","kVA","LDNO LV customers",null,null,null,null,null,null,0,null,null,null,null,null,{"$f":"U447+1","v":30}]
[null,null,null,null,null,"Domestic Two Rate","kVA","LDNO LV customers",null,null,null,null,null,null,0,null,null,null,null,null,{"$f":"U448+1","v":30}]
[null,null,null,null,null,"Domestic Off Peak (related MPAN)","kVA","LDNO LV customers",null,null,null,null,null,null,0,null,null,null,null,null,30]
[null,null,null,null,null,"Small Non Domestic Unrestricted","kVA","LDNO LV customers",null,null,null,null,null,null,0,null,null,null,null,null,30]
[null,null,null,null,null,"Small Non Domestic Two Rate","kVA","LDNO LV customers",null,null,null,null,null,null,0,null,null,null,null,null,30]
[null,null,null,null,null,"Small Non Domestic Off Peak (related MPAN)","kVA","LDNO LV customers",null,null,null,null,null,null,0,null,null,null,null,null,30]
[null,null,null,null,null,"LV Medium Non-Domestic","kVA","LDNO LV customers",null,null,null,null,null,null,0,null,null,null,null,null,30]
[null,null,null,null,null,"LV Sub Medium Non-Domestic","kVA","LDNO LV customers",null,null,null,null,null,null,0,null,null,null,null,null,30]
[null,null,null,null,null,"HV Medium Non-Domestic","kVA","LDNO LV customers",null,null,null,null,null,null,0,null,null,null,null,null,30]
[null,null,null,null,null,"LV Network Domestic","kVA","LDNO LV customers",null,null,null,null,null,null,0,null,null,null,null,null,30]
[null,null,null,null,null,"LV Network Non-Domestic Non-CT","kVA","LDNO LV customers",null,null,null,null,null,null,0,null,null,null,null,null,30]
[null,null,null,null,null,"LV HH Metered","kVA","LDNO LV customers",null,{"$f":"CHOOSE(year_selection, L493,M493,N493,O493,P493,Q493,R493,S493)","v":306.9103253424658},null,null,null,null,306.9103253424658,{"$f":"O493","v":306.9103253424658},306.9103253424658,306.9103253424658,306.9103253424658,null,30]
[null,null,null,null,null,"LV Sub HH Metered","kVA","LDNO LV customers",null,null,null,null,null,null,0,null,null,null,null,null,30]
[null,null,null,null,null,"HV HH Metered","kVA","LDNO LV customers",null,null,null,null,null,null,0,null,null,null,null,null,30]
[null,null,null,null,null,"NHH UMS category A","kVA","LDNO LV customers",null,null,null,null,null,null,0,null,null,null,null,null,30]
[null,null,null,null,null,"NHH UMS category B","kVA","LDNO LV customers",null,null,null,null,null,null,0,null,null,null,null,null,30]
[null,null,null,null,null,"NHH UMS category C","kVA","LDNO LV customers",null,null,null,null,null,null,0,null,null,null,null,null,30]
[null,null,null,null,null,"NHH UMS category D","kVA","LDNO LV customers",null,null,null,null,null,null,0,null,null,null,null,null,30]
[null,null,null,null,null,"LV UMS (Pseudo HH Metered)","kVA","LDNO LV customers",null,null,null,null,null,null,0,null,null,null,null,null,30]
[null,null,null,null,null,"LV Generation NHH or Aggregate HH","kVA","LDNO LV customers",null,null,null,null,null,null,0,null,null,null,null,null,30]
[null,null,null,null,null,"LV Sub Generation NHH","kVA","LDNO LV customers",null,null,null,null,null,null,0,null,null,null,null,null,30]
[null,null,null,null,null,"LV Generation Intermittent","kVA","LDNO LV customers",null,null,null,null,null,null,0,null,null,null,null,null,30]
[null,null,null,null,null,"LV Generation Intermittent no RP charge","kVA","LDNO LV customers",null,null,null,null,null,null,0,null,null,null,null,null,30]
[null,null,null,null,null,"LV Generation Non-Intermittent","kVA","LDNO LV customers",null,null,null,null,null,null,0,null,null,null,null,null,30]
[null,null,null,null,null,"LV Generation Non-Intermittent no RP charge","kVA","LDNO LV customers",null,null,null,null,null,null,0,null,null,null,null,null,30]
[null,null,null,null,null,"LV Sub Generation Intermittent","kVA","LDNO LV customers",null,null,null,null,null,null,0,null,null,null,null,null,30]
[null,null,null,null,null,"LV Sub Generation Intermittent no RP charge","kVA","LDNO LV customers",null,null,null,null,null,null,0,null,null,null,null,null,30]
[null,null,null,null,null,"LV Sub Generation Non-Intermittent","kVA","LDNO LV customers",null,null,null,null,null,null,0,null,null,null,null,null,30]
[null,null,null,null,null,"LV Sub Generation Non-Intermittent no RP charge","kVA","LDNO LV customers",null,null,null,null,null,null,0,null,null,null,null,null,30]
[null,null,null,null,null,"HV Generation Intermittent","kVA","LDNO LV customers",null,null,null,null,null,null,0,null,null,null,null,null,30]
[null,null,null,null,null,"HV Generation Intermittent no RP charge","kVA","LDNO LV customers",null,null,null,null,null,null,0,null,null,null,null,null,30]
[null,null,null,null,null,"HV Generation Non-Intermittent","kVA","LDNO LV customers",null,null,null,null,null,null,0,null,null,null,null,null,30]
[null,null,null,null,null,"HV Generation Non-Intermittent no RP charge","kVA","LDNO LV customers",null,null,null,null,null,null,0,null,null,null,null,null,30]
[]
[null,null,null,null,"Exceeded capacity"]
[null,null,null,null,null,"Domestic Unrestricted","kVA","LDNO LV customers",null,null,null,null,null,null,0,null,null,null,null,null,{"$f":"U482+1","v":31}]
[null,null,null,null,null,"Domestic Two Rate","kVA","LDNO LV customers",null,null,null,null,null,null,0,null,null,null,null,null,{"$f":"U483+1","v":31}]
[null,null,null,null,null,"Domestic Off Peak (related MPAN)","kVA","LDNO LV customers",null,null,null,null,null,null,0,null,null,null,null,null,31]
[null,null,null,null,null,"Small Non Domestic Unrestricted","kVA","LDNO LV customers",null,null,null,null,null,null,0,null,null,null,null,null,31]
[null,null,null,null,null,"Small Non Domestic Two Rate","kVA","LDNO LV customers",null,null,null,null,null,null,0,null,null,null,null,null,31]
[null,null,null,null,null,"Small Non Domestic Off Peak (related MPAN)","kVA","LDNO LV customers",null,null,null,null,null,null,0,null,null,null,null,null,31]
[null,null,null,null,null,"LV Medium Non-Domestic","kVA","LDNO LV customers",null,null,null,null,null,null,0,null,null,null,null,null,31]
[null,null,null,null,null,"LV Sub Medium Non-Domestic","kVA","LDNO LV customers",null,null,null,null,null,null,0,null,null,null,null,null,31]
[null,null,null,null,null,"HV Medium Non-Domestic","kVA","LDNO LV customers",null,null,null,null,null,null,0,null,null,null,null,null,31]
[null,null,null,null,null,"LV Network Domestic","kVA","LDNO LV customers",null,null,null,null,null,null,0,null,null,null,null,null,31]
[null,null,null,null,null,"LV Network Non-Domestic Non-CT","kVA","LDNO LV customers",null,null,null,null,null,null,0,null,null,null,null,null,31]
[null,null,null,null,null,"LV HH Metered","kVA","LDNO LV customers",null,{"$f":"CHOOSE(year_selection, L528,M528,N528,O528,P528,Q528,R528,S528)","v":33.925284246575352},null,null,null,null,33.925284246575352,{"$f":"O528","v":33.925284246575352},33.925284246575352,33.925284246575352,33.925284246575352,null,31]
[null,null,null,null,null,"LV Sub HH Metered","kVA","LDNO LV customers",null,null,null,null,null,null,0,null,null,null,null,null,31]
[null,null,null,null,null,"HV HH Metered","kVA","LDNO LV customers",null,null,null,null,null,null,0,null,null,null,null,null,31]
[null,null,null,null,null,"NHH UMS category A","kVA","LDNO LV customers",null,null,null,null,null,null,0,null,null,null,null,null,31]
[null,null,null,null,null,"NHH UMS category B","kVA","LDNO LV customers",null,null,null,null,null,null,0,null,null,null,null,null,31]
[null,null,null,null,null,"NHH UMS category C","kVA","LDNO LV customers",null,null,null,null,null,null,0,null,null,null,null,null,31]
[null,null,null,null,null,"NHH UMS category D","kVA","LDNO LV customers",null,null,null,null,null,null,0,null,null,null,null,null,31]
[null,null,null,null,null,"LV UMS (Pseudo HH Metered)","kVA","LDNO LV customers",null,null,null,null,null,null,0,null,null,null,null,null,31]
[null,null,null,null,null,"LV Generation NHH or Aggregate HH","kVA","LDNO LV customers",null,null,null,null,null,null,0,null,null,null,null,null,31]
[null,null,null,null,null,"LV Sub Generation NHH","kVA","LDNO LV customers",null,null,null,null,null,null,0,null,null,null,null,null,31]
[null,null,null,null,null,"LV Generation Intermittent","kVA","LDNO LV customers",null,null,null,null,null,null,0,null,null,null,null,null,31]
[null,null,null,null,null,"LV Generation Intermittent no RP charge","kVA","LDNO LV customers",null,null,null,null,null,null,0,null,null,null,null,null,31]
[null,null,null,null,null,"LV Generation Non-Intermittent","kVA","LDNO LV customers",null,null,null,null,null,null,0,null,null,null,null,null,31]
[null,null,null,null,null,"LV Generation Non-Intermittent no RP charge","kVA","LDNO LV customers",null,null,null,null,null,null,0,null,null,null,null,null,31]
[null,null,null,null,null,"LV Sub Generation Intermittent","kVA","LDNO LV customers",null,null,null,null,null,null,0,null,null,null,null,null,31]
[null,null,null,null,null,"LV Sub Generation Intermittent no RP charge","kVA","LDNO LV customers",null,null,null,null,null,null,0,null,null,null,null,null,31]
[null,null,null,null,null,"LV Sub Generation Non-Intermittent","kVA","LDNO LV customers",null,null,null,null,null,null,0,null,null,null,null,null,31]
[null,null,null,null,null,"LV Sub Generation Non-Intermittent no RP charge","kVA","LDNO LV customers",null,null,null,null,null,null,0,null,null,null,null,null,31]
[null,null,null,null,null,"HV Generation Intermittent","kVA","LDNO LV customers",null,null,null,null,null,null,0,null,null,null,null,null,31]
[null,null,null,null,null,"HV Generation Intermittent no RP charge","kVA","LDNO LV customers",null,null,null,null,null,null,0,null,null,null,null,null,31]
[null,null,null,null,null,"HV Generation Non-Intermittent","kVA","LDNO LV customers",null,null,null,null,null,null,0,null,null,null,null,null,31]
[null,null,null,null,null,"HV Generation Non-Intermittent no RP charge","kVA","LDNO LV customers",null,null,null,null,null,null,0,null,null,null,null,null,31]
[]
[null,null,null,null,"Reactive power units"]
[null,null,null,null,null,"Domestic Unrestricted","MVArh","LDNO LV customers",null,null,null,null,null,null,0,null,null,null,null,null,{"$f":"U517+1","v":32}]
[null,null,null,null,null,"Domestic Two Rate","MVArh","LDNO LV customers",null,null,null,null,null,null,0,null,null,null,null,null,{"$f":"U518+1","v":32}]
[null,null,null,null,null,"Domestic Off Peak (related MPAN)","MVArh","LDNO LV customers",null,null,null,null,null,null,0,null,null,null,null,null,32]
[null,null,null,null,null,"Small Non Domestic Unrestricted","MVArh","LDNO LV customers",null,null,null,null,null,null,0,null,null,null,null,null,32]
[null,null,null,null,null,"Small Non Domestic Two Rate","MVArh","LDNO LV customers",null,null,null,null,null,null,0,null,null,null,null,null,32]
[null,null,null,null,null,"Small Non Domestic Off Peak (related MPAN)","MVArh","LDNO LV customers",null,null,null,null,null,null,0,null,null,null,null,null,32]
[null,null,null,null,null,"LV Medium Non-Domestic","MVArh","LDNO LV customers",null,null,null,null,null,null,0,null,null,null,null,null,32]
[null,null,null,null,null,"LV Sub Medium Non-Domestic","MVArh","LDNO LV customers",null,null,null,null,null,null,0,null,null,null,null,null,32]
[null,null,null,null,null,"HV Medium Non-Domestic","MVArh","LDNO LV customers",null,null,null,null,null,null,0,null,null,null,null,null,32]
[null,null,null,null,null,"LV Network Domestic","MVArh","LDNO LV customers",null,null,null,null,null,null,0,null,null,null,null,null,32]
[null,null,null,null,null,"LV Network Non-Domestic Non-CT","MVArh","LDNO LV customers",null,null,null,null,null,null,0,null,null,null,null,null,32]
[null,null,null,null,null,"LV HH Metered","MVArh","LDNO LV customers",null,{"$f":"CHOOSE(year_selection, L563,M563,N563,O563,P563,Q563,R563,S563)","v":14.834589525000002},null,null,null,null,14.834589525000002,{"$f":"O563","v":14.834589525000002},14.834589525000002,14.834589525000002,14.834589525000002,null,32]
[null,null,null,null,null,"LV Sub HH Metered","MVArh","LDNO LV customers",null,null,null,null,null,null,0,null,null,null,null,null,32]
[null,null,null,null,null,"HV HH Metered","MVArh","LDNO LV customers",null,null,null,null,null,null,0,null,null,null,null,null,32]
[null,null,null,null,null,"NHH UMS category A","MVArh","LDNO LV customers",null,null,null,null,null,null,0,null,null,null,null,null,32]
[null,null,null,null,null,"NHH UMS category B","MVArh","LDNO LV customers",null,null,null,null,null,null,0,null,null,null,null,null,32]
[null,null,null,null,null,"NHH UMS category C","MVArh","LDNO LV customers",null,null,null,null,null,null,0,null,null,null,null,null,32]
[null,null,null,null,null,"NHH UMS category D","MVArh","LDNO LV customers",null,null,null,null,null,null,0,null,null,null,null,null,32]
[null,null,null,null,null,"LV UMS (Pseudo HH Metered)","MVArh","LDNO LV customers",null,null,null,null,null,null,0,null,null,null,null,null,32]
[null,null,null,null,null,"LV Generation NHH or Aggregate HH","MVArh","LDNO LV customers",null,null,null,null,null,null,0,null,null,null,null,null,32]
[null,null,null,null,null,"LV Sub Generation NHH","MVArh","LDNO LV customers",null,null,null,null,null,null,0,null,null,null,null,null,32]
[null,null,null,null,null,"LV Generation Intermittent","MVArh","LDNO LV customers",null,{"$f":"CHOOSE(year_selection, L573,M573,N573,O573,P573,Q573,R573,S573)","v":0},null,null,null,null,0,{"$f":"O573","v":0},0,0,0,null,32]
[null,null,null,null,null,"LV Generation Intermittent no RP charge","MVArh","LDNO LV customers",null,null,null,null,null,null,0,null,null,null,null,null,32]
[null,null,null,null,null,"LV Generation Non-Intermittent","MVArh","LDNO LV customers",null,{"$f":"CHOOSE(year_selection, L575,M575,N575,O575,P575,Q575,R575,S575)","v":0},null,null,null,null,0,{"$f":"O575","v":0},0,0,0,null,32]
[null,null,null,null,null,"LV Generation Non-Intermittent no RP charge","MVArh","LDNO LV customers",null,null,null,null,null,null,0,null,null,null,null,null,32]
[null,null,null,null,null,"LV Sub Generation Intermittent","MVArh","LDNO LV customers",null,null,null,null,null,null,0,null,null,null,null,null,32]
[null,null,null,null,null,"LV Sub Generation Intermittent no RP charge","MVArh","LDNO LV customers",null,null,null,null,null,null,0,null,null,null,null,null,32]
[null,null,null,null,null,"LV Sub Generation Non-Intermittent","MVArh","LDNO LV customers",null,null,null,null,null,null,0,null,null,null,null,null,32]
[null,null,null,null,null,"LV Sub Generation Non-Intermittent no RP charge","MVArh","LDNO LV customers",null,null,null,null,null,null,0,null,null,null,null,null,32]
[null,null,null,null,null,"HV Generation Intermittent","MVArh","LDNO LV customers",null,null,null,null,null,null,0,null,null,null,null,null,32]
[null,null,null,null,null,"HV Generation Intermittent no RP charge","MVArh","LDNO LV customers",null,null,null,null,null,null,0,null,null,null,null,null,32]
[null,null,null,null,null,"HV Generation Non-Intermittent","MVArh","LDNO LV customers",null,null,null,null,null,null,0,null,null,null,null,null,32]
[null,null,null,null,null,"HV Generation Non-Intermittent no RP charge","MVArh","LDNO LV customers",null,null,null,null,null,null,0,null,null,null,null,null,32]
[]
[null,null,{"$f":"INDEX('Version control'!$H$34:$H$59,MATCH($A$1,'Version control'!$F$34:$F$59,0),1)&\"-E: LDNO HV volumes\"","v":"Input 501-E: LDNO HV volumes"}]
[]
[null,null,null,null,"Rate 1 units",null,null,null,">",null,null,null,null,null,null,null,null,null,null,null,"Paragraph 52"]
[null,null,null,null,null,"Domestic Unrestricted","MWh","LDNO HV customers",null,{"$f":"CHOOSE(year_selection, L589,M589,N589,O589,P589,Q589,R589,S589)","v":24564.19531178429},null,null,null,null,24564.19531178429,{"$f":"O589","v":24564.19531178429},24564.19531178429,24564.19531178429,24564.19531178429,null,35]
[null,null,null,null,null,"Domestic Two Rate","MWh","LDNO HV customers",null,464.41594899914463,null,null,null,null,464.41594899914463,464.41594899914463,464.41594899914463,464.41594899914463,464.41594899914463,null,35]
[null,null,null,null,null,"Domestic Off Peak (related MPAN)","MWh","LDNO HV customers",null,0,null,null,null,null,0,0,0,0,0,null,35]
[null,null,null,null,null,"Small Non Domestic Unrestricted","MWh","LDNO HV customers",null,4129.8139227018964,null,null,null,null,4129.8139227018964,4129.8139227018964,4129.8139227018964,4129.8139227018964,4129.8139227018964,null,35]
[null,null,null,null,null,"Small Non Domestic Two Rate","MWh","LDNO HV customers",null,942.61527578815037,null,null,null,null,942.61527578815037,942.61527578815037,942.61527578815037,942.61527578815037,942.61527578815037,null,35]
[null,null,null,null,null,"Small Non Domestic Off Peak (related MPAN)","MWh","LDNO HV customers",null,0,null,null,null,null,0,0,0,0,0,null,35]
[null,null,null,null,null,"LV Medium Non-Domestic","MWh","LDNO HV customers",null,88.743550193145808,null,null,null,null,88.743550193145808,88.743550193145808,88.743550193145808,88.743550193145808,88.743550193145808,null,35]
[null,null,null,null,null,"LV Sub Medium Non-Domestic","MWh","LDNO HV customers",null,null,null,null,null,null,0,null,null,null,null,null,35]
[null,null,null,null,null,"HV Medium Non-Domestic","MWh","LDNO HV customers",null,null,null,null,null,null,0,null,null,null,null,null,35]
[null,null,null,null,null,"LV Network Domestic","MWh","LDNO HV customers",null,0.81137778452211873,null,null,null,null,0.81137778452211873,{"$f":"O598","v":0.81137778452211873},0.81137778452211873,0.81137778452211873,0.81137778452211873,null,35]
[null,null,null,null,null,"LV Network Non-Domestic Non-CT","MWh","LDNO HV customers",null,65.635549277321076,null,null,null,null,65.635549277321076,65.635549277321076,65.635549277321076,65.635549277321076,65.635549277321076,null,35]
[null,null,null,null,null,"LV HH Metered","MWh","LDNO HV customers",null,5542.6185653095554,null,null,null,null,5542.6185653095554,5542.6185653095554,5542.6185653095554,5542.6185653095554,5542.6185653095554,null,35]
[null,null,null,null,null,"LV Sub HH Metered","MWh","LDNO HV customers",null,571.13883890710281,null,null,null,null,571.13883890710281,571.13883890710281,571.13883890710281,571.13883890710281,571.13883890710281,null,35]
[null,null,null,null,null,"HV HH Metered","MWh","LDNO HV customers",null,512.07009985423906,null,null,null,null,512.07009985423906,512.07009985423906,512.07009985423906,512.07009985423906,512.07009985423906,null,35]
[null,null,null,null,null,"NHH UMS category A","MWh","LDNO HV customers",null,10.445584564800001,null,null,null,null,10.445584564800001,10.445584564800001,10.445584564800001,10.445584564800001,10.445584564800001,null,35]
[null,null,null,null,null,"NHH UMS category B","MWh","LDNO HV customers",null,137.93130276599518,null,null,null,null,137.93130276599518,137.93130276599518,137.93130276599518,137.93130276599518,137.93130276599518,null,35]
[null,null,null,null,null,"NHH UMS category C","MWh","LDNO HV customers",null,0,null,null,null,null,0,0,0,0,0,null,35]
[null,null,null,null,null,"NHH UMS category D","MWh","LDNO HV customers",null,0,null,null,null,null,0,0,0,0,0,null,35]
[null,null,null,null,null,"LV UMS (Pseudo HH Metered)","MWh","LDNO HV customers",null,0,null,null,null,null,0,0,0,0,0,null,35]
[null,null,null,null,null,"LV Generation NHH or Aggregate HH","MWh","LDNO HV customers",null,0,null,null,null,null,0,0,0,0,0,null,35]
[null,null,null,null,null,"LV Sub Generation NHH","MWh","LDNO HV customers",null,0,null,null,null,null,0,0,0,0,0,null,35]
[null,null,null,null,null,"LV Generation Intermittent","MWh","LDNO HV customers",null,305.36005342499999,null,null,null,null,305.36005342499999,305.36005342499999,305.36005342499999,305.36005342499999,305.36005342499999,null,35]
[null,null,null,null,null,"LV Generation Intermittent no RP charge","MWh","LDNO HV customers",null,null,null,null,null,null,0,null,null,null,null,null,35]
[null,null,null,null,null,"LV Generation Non-Intermittent","MWh","LDNO HV customers",null,0,null,null,null,null,0,{"$f":"O612","v":0},0,0,0,null,35]
[null,null,null,null,null,"LV Generation Non-Intermittent no RP charge","MWh","LDNO HV customers",null,null,null,null,null,null,0,null,null,null,null,null,35]
[null,null,null,null,null,"LV Sub Generation Intermittent","MWh","LDNO HV customers",null,0,null,null,null,null,0,{"$f":"O614","v":0},0,0,0,null,35]
[null,null,null,null,null,"LV Sub Generation Intermittent no RP charge","MWh","LDNO HV customers",null,null,null,null,null,null,0,null,null,null,null,null,35]
[null,null,null,null,null,"LV Sub Generation Non-Intermittent","MWh","LDNO HV customers",null,0,null,null,null,null,0,{"$f":"O616","v":0},0,0,0,null,35]
[null,null,null,null,null,"LV Sub Generation Non-Intermittent no RP charge","MWh","LDNO HV customers",null,null,null,null,null,null,0,null,null,null,null,null,35]
[null,null,null,null,null,"HV Generation Intermittent","MWh","LDNO HV customers",null,0,null,null,null,null,0,{"$f":"O618","v":0},0,0,0,null,35]
[null,null,null,null,null,"HV Generation Intermittent no RP charge","MWh","LDNO HV customers",null,null,null,null,null,null,0,null,null,null,null,null,35]
[null,null,null,null,null,"HV Generation Non-Intermittent","MWh","LDNO HV customers",null,0,null,null,null,null,0,{"$f":"O620","v":0},0,0,0,null,35]
[null,null,null,null,null,"HV Generation Non-Intermittent no RP charge","MWh","LDNO HV customers",null,null,null,null,null,null,0,null,null,null,null,null,35]
[]
[null,null,null,null,"Rate 2 units"]
[null,null,null,null,null,"Domestic Unrestricted","MWh","LDNO HV customers",null,null,null,null,null,null,0,null,null,null,null,null,{"$f":"U589+1","v":36}]
[null,null,null,null,null,"Domestic Two Rate","MWh","LDNO HV customers",null,{"$f":"CHOOSE(year_selection, L625,M625,N625,O625,P625,Q625,R625,S625)","v":292.2251926548891},null,null,null,null,292.2251926548891,{"$f":"O625","v":292.2251926548891},292.2251926548891,292.2251926548891,292.2251926548891,null,{"$f":"U590+1","v":36}]
[null,null,null,null,null,"Domestic Off Peak (related MPAN)","MWh","LDNO HV customers",null,null,null,null,null,null,0,null,null,null,null,null,36]
[null,null,null,null,null,"Small Non Domestic Unrestricted","MWh","LDNO HV customers",null,null,null,null,null,null,0,null,null,null,null,null,36]
[null,null,null,null,null,"Small Non Domestic Two Rate","MWh","LDNO HV customers",null,{"$f":"CHOOSE(year_selection, L628,M628,N628,O628,P628,Q628,R628,S628)","v":180.18950954978536},null,null,null,null,180.18950954978536,{"$f":"O628","v":180.18950954978536},180.18950954978536,180.18950954978536,180.18950954978536,null,36]
[null,null,null,null,null,"Small Non Domestic Off Peak (related MPAN)","MWh","LDNO HV customers",null,null,null,null,null,null,0,null,null,null,null,null,36]
[null,null,null,null,null,"LV Medium Non-Domestic","MWh","LDNO HV customers",null,{"$f":"CHOOSE(year_selection, L630,M630,N630,O630,P630,Q630,R630,S630)","v":26.469039248688965},null,null,null,null,26.469039248688965,{"$f":"O630","v":26.469039248688965},26.469039248688965,26.469039248688965,26.469039248688965,null,36]
[null,null,null,null,null,"LV Sub Medium Non-Domestic","MWh","LDNO HV customers",null,null,null,null,null,null,0,null,null,null,null,null,36]
[null,null,null,null,null,"HV Medium Non-Domestic","MWh","LDNO HV customers",null,null,null,null,null,null,0,null,null,null,null,null,36]
[null,null,null,null,null,"LV Network Domestic","MWh","LDNO HV customers",null,3.875884997935704,null,null,null,null,3.875884997935704,{"$f":"O633","v":3.875884997935704},3.875884997935704,3.875884997935704,3.875884997935704,null,36]
[null,null,null,null,null,"LV Network Non-Domestic Non-CT","MWh","LDNO HV customers",null,311.91409432517804,null,null,null,null,311.91409432517804,311.91409432517804,311.91409432517804,311.91409432517804,311.91409432517804,null,36]
[null,null,null,null,null,"LV HH Metered","MWh","LDNO HV customers",null,30314.078988702819,null,null,null,null,30314.078988702819,30314.078988702819,30314.078988702819,30314.078988702819,30314.078988702819,null,36]
[null,null,null,null,null,"LV Sub HH Metered","MWh","LDNO HV customers",null,2987.3187525304593,null,null,null,null,2987.3187525304593,2987.3187525304593,2987.3187525304593,2987.3187525304593,2987.3187525304593,null,36]
[null,null,null,null,null,"HV HH Metered","MWh","LDNO HV customers",null,2994.9222426084402,null,null,null,null,2994.9222426084402,2994.9222426084402,2994.9222426084402,2994.9222426084402,2994.9222426084402,null,36]
[null,null,null,null,null,"NHH UMS category A","MWh","LDNO HV customers",null,null,null,null,null,null,0,null,null,null,null,null,36]
[null,null,null,null,null,"NHH UMS category B","MWh","LDNO HV customers",null,null,null,null,null,null,0,null,null,null,null,null,36]
[null,null,null,null,null,"NHH UMS category C","MWh","LDNO HV customers",null,null,null,null,null,null,0,null,null,null,null,null,36]
[null,null,null,null,null,"NHH UMS category D","MWh","LDNO HV customers",null,null,null,null,null,null,0,null,null,null,null,null,36]
[null,null,null,null,null,"LV UMS (Pseudo HH Metered)","MWh","LDNO HV customers",null,{"$f":"CHOOSE(year_selection, L642,M642,N642,O642,P642,Q642,R642,S642)","v":0},null,null,null,null,0,{"$f":"O642","v":0},0,0,0,null,36]
[null,null,null,null,null,"LV Generation NHH or Aggregate HH","MWh","LDNO HV customers",null,null,null,null,null,null,0,null,null,null,null,null,36]
[null,null,null,null,null,"LV Sub Generation NHH","MWh","LDNO HV customers",null,null,null,null,null,null,0,null,null,null,null,null,36]
[null,null,null,null,null,"LV Generation Intermittent","MWh","LDNO HV customers",null,null,null,null,null,null,0,null,null,null,null,null,36]
[null,null,null,null,null,"LV Generation Intermittent no RP charge","MWh","LDNO HV customers",null,null,null,null,null,null,0,null,null,null,null,null,36]
[null,null,null,null,null,"LV Generation Non-Intermittent","MWh","LDNO HV customers",null,{"$f":"CHOOSE(year_selection, L647,M647,N647,O647,P647,Q647,R647,S647)","v":0},null,null,null,null,0,{"$f":"O647","v":0},0,0,0,null,36]
[null,null,null,null,null,"LV Generation Non-Intermittent no RP charge","MWh","LDNO HV customers",null,null,null,null,null,null,0,null,null,null,null,null,36]
[null,null,null,null,null,"LV Sub Generation Intermittent","MWh","LDNO HV customers",null,null,null,null,null,null,0,null,null,null,null,null,36]
[null,null,null,null,null,"LV Sub Generation Intermittent no RP charge","MWh","LDNO HV customers",null,null,null,null,null,null,0,null,null,null,null,null,36]
[null,null,null,null,null,"LV Sub Generation Non-Intermittent","MWh","LDNO HV customers",null,{"$f":"CHOOSE(year_selection, L651,M651,N651,O651,P651,Q651,R651,S651)","v":0},null,null,null,null,0,{"$f":"O651","v":0},0,0,0,null,36]
[null,null,null,null,null,"LV Sub Generation Non-Intermittent no RP charge","MWh","LDNO HV customers",null,null,null,null,null,null,0,null,null,null,null,null,36]
[null,null,null,null,null,"HV Generation Intermittent","MWh","LDNO HV customers",null,null,null,null,null,null,0,null,null,null,null,null,36]
[null,null,null,null,null,"HV Generation Intermittent no RP charge","MWh","LDNO HV customers",null,null,null,null,null,null,0,null,null,null,null,null,36]
[null,null,null,null,null,"HV Generation Non-Intermittent","MWh","LDNO HV customers",null,{"$f":"CHOOSE(year_selection, L655,M655,N655,O655,P655,Q655,R655,S655)","v":0},null,null,null,null,0,{"$f":"O655","v":0},0,0,0,null,36]
[null,null,null,null,null,"HV Generation Non-Intermittent no RP charge","MWh","LDNO HV customers",null,null,null,null,null,null,0,null,null,null,null,null,36]
[]
[null,null,null,null,"Rate 3 units"]
[null,null,null,null,null,"Domestic Unrestricted","MWh","LDNO HV customers",null,null,null,null,null,null,0,null,null,null,null,null,{"$f":"U624+1","v":37}]
[null,null,null,null,null,"Domestic Two Rate","MWh","LDNO HV customers",null,null,null,null,null,null,0,null,null,null,null,null,{"$f":"U625+1","v":37}]
[null,null,null,null,null,"Domestic Off Peak (related MPAN)","MWh","LDNO HV customers",null,null,null,null,null,null,0,null,null,null,null,null,37]
[null,null,null,null,null,"Small Non Domestic Unrestricted","MWh","LDNO HV customers",null,null,null,null,null,null,0,null,null,null,null,null,37]
[null,null,null,null,null,"Small Non Domestic Two Rate","MWh","LDNO HV customers",null,null,null,null,null,null,0,null,null,null,null,null,37]
[null,null,null,null,null,"Small Non Domestic Off Peak (related MPAN)","MWh","LDNO HV customers",null,null,null,null,null,null,0,null,null,null,null,null,37]
[null,null,null,null,null,"LV Medium Non-Domestic","MWh","LDNO HV customers",null,null,null,null,null,null,0,null,null,null,null,null,37]
[null,null,null,null,null,"LV Sub Medium Non-Domestic","MWh","LDNO HV customers",null,null,null,null,null,null,0,null,null,null,null,null,37]
[null,null,null,null,null,"HV Medium Non-Domestic","MWh","LDNO HV customers",null,null,null,null,null,null,0,null,null,null,null,null,37]
[null,null,null,null,null,"LV Network Domestic","MWh","LDNO HV customers",null,{"$f":"CHOOSE(year_selection, L668,M668,N668,O668,P668,Q668,R668,S668)","v":3.3576720164119211},null,null,null,null,3.3576720164119211,{"$f":"O668","v":3.3576720164119211},3.3576720164119211,3.3576720164119211,3.3576720164119211,null,37]
[null,null,null,null,null,"LV Network Non-Domestic Non-CT","MWh","LDNO HV customers",null,164.82166790265748,null,null,null,null,164.82166790265748,164.82166790265748,164.82166790265748,164.82166790265748,164.82166790265748,null,37]
[null,null,null,null,null,"LV HH Metered","MWh","LDNO HV customers",null,27506.219085053363,null,null,null,null,27506.219085053363,27506.219085053363,27506.219085053363,27506.219085053363,27506.219085053363,null,37]
[null,null,null,null,null,"LV Sub HH Metered","MWh","LDNO HV customers",null,2627.1066638693223,null,null,null,null,2627.1066638693223,2627.1066638693223,2627.1066638693223,2627.1066638693223,2627.1066638693223,null,37]
[null,null,null,null,null,"HV HH Metered","MWh","LDNO HV customers",null,2328.4884555701974,null,null,null,null,2328.4884555701974,2328.4884555701974,2328.4884555701974,2328.4884555701974,2328.4884555701974,null,37]
[null,null,null,null,null,"NHH UMS category A","MWh","LDNO HV customers",null,null,null,null,null,null,0,null,null,null,null,null,37]
[null,null,null,null,null,"NHH UMS category B","MWh","LDNO HV customers",null,null,null,null,null,null,0,null,null,null,null,null,37]
[null,null,null,null,null,"NHH UMS category C","MWh","LDNO HV customers",null,null,null,null,null,null,0,null,null,null,null,null,37]
[null,null,null,null,null,"NHH UMS category D","MWh","LDNO HV customers",null,null,null,null,null,null,0,null,null,null,null,null,37]
[null,null,null,null,null,"LV UMS (Pseudo HH Metered)","MWh","LDNO HV customers",null,{"$f":"CHOOSE(year_selection, L677,M677,N677,O677,P677,Q677,R677,S677)","v":0},null,null,null,null,0,{"$f":"O677","v":0},0,0,0,null,37]
[null,null,null,null,null,"LV Generation NHH or Aggregate HH","MWh","LDNO HV customers",null,null,null,null,null,null,0,null,null,null,null,null,37]
[null,null,null,null,null,"LV Sub Generation NHH","MWh","LDNO HV customers",null,null,null,null,null,null,0,null,null,null,null,null,37]
[null,null,null,null,null,"LV Generation Intermittent","MWh","LDNO HV customers",null,null,null,null,null,null,0,null,null,null,null,null,37]
[null,null,null,null,null,"LV Generation Intermittent no RP charge","MWh","LDNO HV customers",null,null,null,null,null,null,0,null,null,null,null,null,37]
[null,null,null,null,null,"LV Generation Non-Intermittent","MWh","LDNO HV customers",null,{"$f":"CHOOSE(year_selection, L682,M682,N682,O682,P682,Q682,R682,S682)","v":0},null,null,null,null,0,{"$f":"O682","v":0},0,0,0,null,37]
[null,null,null,null,null,"LV Generation Non-Intermittent no RP charge","MWh","LDNO HV customers",null,null,null,null,null,null,0,null,null,null,null,null,37]
[null,null,null,null,null,"LV Sub Generation Intermittent","MWh","LDNO HV customers",null,null,null,null,null,null,0,null,null,null,null,null,37]
[null,null,null,null,null,"LV Sub Generation Intermittent no RP charge","MWh","LDNO HV customers",null,null,null,null,null,null,0,null,null,null,null,null,37]
[null,null,null,null,null,"LV Sub Generation Non-Intermittent","MWh","LDNO HV customers",null,{"$f":"CHOOSE(year_selection, L686,M686,N686,O686,P686,Q686,R686,S686)","v":0},null,null,null,null,0,{"$f":"O686","v":0},0,0,0,null,37]
[null,null,null,null,null,"LV Sub Generation Non-Intermittent no RP charge","MWh","LDNO HV customers",null,null,null,null,null,null,0,null,null,null,null,null,37]
[null,null,null,null,null,"HV Generation Intermittent","MWh","LDNO HV customers",null,null,null,null,null,null,0,null,null,null,null,null,37]
[null,null,null,null,null,"HV Generation Intermittent no RP charge","MWh","LDNO HV customers",null,null,null,null,null,null,0,null,null,null,null,null,37]
[null,null,null,null,null,"HV Generation Non-Intermittent","MWh","LDNO HV customers",null,{"$f":"CHOOSE(year_selection, L690,M690,N690,O690,P690,Q690,R690,S690)","v":0},null,null,null,null,0,{"$f":"O690","v":0},0,0,0,null,37]
[null,null,null,null,null,"HV Generation Non-Intermittent no RP charge","MWh","LDNO HV customers",null,null,null,null,null,null,0,null,null,null,null,null,37]
[]
[null,null,null,null,"MPANs"]
[null,null,null,null,null,"Domestic Unrestricted","MPANs","LDNO HV customers",null,{"$f":"CHOOSE(year_selection, L694,M694,N694,O694,P694,Q694,R694,S694)","v":9766.6696294520552},null,null,null,null,9766.6696294520552,{"$f":"O694","v":9766.6696294520552},9766.6696294520552,9766.6696294520552,9766.6696294520552,null,{"$f":"U659+1","v":38}]
[null,null,null,null,null,"Domestic Two Rate","MPANs","LDNO HV customers",null,216.71646164383566,null,null,null,null,216.71646164383566,216.71646164383566,216.71646164383566,216.71646164383566,216.71646164383566,null,{"$f":"U660+1","v":38}]
[null,null,null,null,null,"Domestic Off Peak (related MPAN)","MPANs","LDNO HV customers",null,0,null,null,null,null,0,0,0,0,0,null,38]
[null,null,null,null,null,"Small Non Domestic Unrestricted","MPANs","LDNO HV customers",null,154.91151986301372,null,null,null,null,154.91151986301372,154.91151986301372,154.91151986301372,154.91151986301372,154.91151986301372,null,38]
[null,null,null,null,null,"Small Non Domestic Two Rate","MPANs","LDNO HV customers",null,11.66535616438356,null,null,null,null,11.66535616438356,11.66535616438356,11.66535616438356,11.66535616438356,11.66535616438356,null,38]
[null,null,null,null,null,"Small Non Domestic Off Peak (related MPAN)","MPANs","LDNO HV customers",null,0,null,null,null,null,0,0,0,0,0,null,38]
[null,null,null,null,null,"LV Medium Non-Domestic","MPANs","LDNO HV customers",null,2.4327493150684933,null,null,null,null,2.4327493150684933,2.4327493150684933,2.4327493150684933,2.4327493150684933,2.4327493150684933,null,38]
[null,null,null,null,null,"LV Sub Medium Non-Domestic","MPANs","LDNO HV customers",null,null,null,null,null,null,0,null,null,null,null,null,38]
[null,null,null,null,null,"HV Medium Non-Domestic","MPANs","LDNO HV customers",null,null,null,null,null,null,0,null,null,null,null,null,38]
[null,null,null,null,null,"LV Network Domestic","MPANs","LDNO HV customers",null,4.1562739726027402,null,null,null,null,4.1562739726027402,{"$f":"O703","v":4.1562739726027402},4.1562739726027402,4.1562739726027402,4.1562739726027402,null,38]
[null,null,null,null,null,"LV Network Non-Domestic Non-CT","MPANs","LDNO HV customers",null,5.8326780821917819,null,null,null,null,5.8326780821917819,5.8326780821917819,5.8326780821917819,5.8326780821917819,5.8326780821917819,null,38]
[null,null,null,null,null,"LV HH Metered","MPANs","LDNO HV customers",null,131.47297397260274,null,null,null,null,131.47297397260274,131.47297397260274,131.47297397260274,131.47297397260274,131.47297397260274,null,38]
[null,null,null,null,null,"LV Sub HH Metered","MPANs","LDNO HV customers",null,4.5631417808219181,null,null,null,null,4.5631417808219181,4.5631417808219181,4.5631417808219181,4.5631417808219181,4.5631417808219181,null,38]
[null,null,null,null,null,"HV HH Metered","MPANs","LDNO HV customers",null,6.2591794520547932,null,null,null,null,6.2591794520547932,6.2591794520547932,6.2591794520547932,6.2591794520547932,6.2591794520547932,null,38]
[null,null,null,null,null,"NHH UMS category A","MPANs","LDNO HV customers",null,0,null,null,null,null,0,0,0,0,0,null,38]
[null,null,null,null,null,"NHH UMS category B","MPANs","LDNO HV customers",null,0,null,null,null,null,0,0,0,0,0,null,38]
[null,null,null,null,null,"NHH UMS category C","MPANs","LDNO HV customers",null,0,null,null,null,null,0,0,0,0,0,null,38]
[null,null,null,null,null,"NHH UMS category D","MPANs","LDNO HV customers",null,0,null,null,null,null,0,0,0,0,0,null,38]
[null,null,null,null,null,"LV UMS (Pseudo HH Metered)","MPANs","LDNO HV customers",null,0,null,null,null,null,0,0,0,0,0,null,38]
[null,null,null,null,null,"LV Generation NHH or Aggregate HH","MPANs","LDNO HV customers",null,0,null,null,null,null,0,0,0,0,0,null,38]
[null,null,null,null,null,"LV Sub Generation NHH","MPANs","LDNO HV customers",null,0,null,null,null,null,0,0,0,0,0,null,38]
[null,null,null,null,null,"LV Generation Intermittent","MPANs","LDNO HV customers",null,4.2580664383561651,null,null,null,null,4.2580664383561651,4.2580664383561651,4.2580664383561651,4.2580664383561651,4.2580664383561651,null,38]
[null,null,null,null,null,"LV Generation Intermittent no RP charge","MPANs","LDNO HV customers",null,null,null,null,null,null,0,null,null,null,null,null,38]
[null,null,null,null,null,"LV Generation Non-Intermittent","MPANs","LDNO HV customers",null,0,null,null,null,null,0,{"$f":"O717","v":0},0,0,0,null,38]
[null,null,null,null,null,"LV Generation Non-Intermittent no RP charge","MPANs","LDNO HV customers",null,null,null,null,null,null,0,null,null,null,null,null,38]
[null,null,null,null,null,"LV Sub Generation Intermittent","MPANs","LDNO HV customers",null,0,null,null,null,null,0,{"$f":"O719","v":0},0,0,0,null,38]
[null,null,null,null,null,"LV Sub Generation Intermittent no RP charge","MPANs","LDNO HV customers",null,null,null,null,null,null,0,null,null,null,null,null,38]
[null,null,null,null,null,"LV Sub Generation Non-Intermittent","MPANs","LDNO HV customers",null,0,null,null,null,null,0,{"$f":"O721","v":0},0,0,0,null,38]
[null,null,null,null,null,"LV Sub Generation Non-Intermittent no RP charge","MPANs","LDNO HV customers",null,null,null,null,null,null,0,null,null,null,null,null,38]
[null,null,null,null,null,"HV Generation Intermittent","MPANs","LDNO HV customers",null,0,null,null,null,null,0,{"$f":"O723","v":0},0,0,0,null,38]
[null,null,null,null,null,"HV Generation Intermittent no RP charge","MPANs","LDNO HV customers",null,null,null,null,null,null,0,null,null,null,null,null,38]
[null,null,null,null,null,"HV Generation Non-Intermittent","MPANs","LDNO HV customers",null,0,null,null,null,null,0,{"$f":"O725","v":0},0,0,0,null,38]
[null,null,null,null,null,"HV Generation Non-Intermittent no RP charge","MPANs","LDNO HV customers",null,null,null,null,null,null,0,null,null,null,null,null,38]
[]
[null,null,null,null,"Import capacity"]
[null,null,null,null,null,"Domestic Unrestricted","kVA","LDNO HV customers",null,null,null,null,null,null,0,null,null,null,null,null,{"$f":"U694+1","v":39}]
[null,null,null,null,null,"Domestic Two Rate","kVA","LDNO HV customers",null,null,null,null,null,null,0,null,null,null,null,null,{"$f":"U695+1","v":39}]
[null,null,null,null,null,"Domestic Off Peak (related MPAN)","kVA","LDNO HV customers",null,null,null,null,null,null,0,null,null,null,null,null,39]
[null,null,null,null,null,"Small Non Domestic Unrestricted","kVA","LDNO HV customers",null,null,null,null,null,null,0,null,null,null,null,null,39]
[null,null,null,null,null,"Small Non Domestic Two Rate","kVA","LDNO HV customers",null,null,null,null,null,null,0,null,null,null,null,null,39]
[null,null,null,null,null,"Small Non Domestic Off Peak (related MPAN)","kVA","LDNO HV customers",null,null,null,null,null,null,0,null,null,null,null,null,39]
[null,null,null,null,null,"LV Medium Non-Domestic","kVA","LDNO HV customers",null,null,null,null,null,null,0,null,null,null,null,null,39]
[null,null,null,null,null,"LV Sub Medium Non-Domestic","kVA","LDNO HV customers",null,null,null,null,null,null,0,null,null,null,null,null,39]
[null,null,null,null,null,"HV Medium Non-Domestic","kVA","LDNO HV customers",null,null,null,null,null,null,0,null,null,null,null,null,39]
[null,null,null,null,null,"LV Network Domestic","kVA","LDNO HV customers",null,null,null,null,null,null,0,null,null,null,null,null,39]
[null,null,null,null,null,"LV Network Non-Domestic Non-CT","kVA","LDNO HV customers",null,null,null,null,null,null,0,null,null,null,null,null,39]
[null,null,null,null,null,"LV HH Metered","kVA","LDNO HV customers",null,{"$f":"CHOOSE(year_selection, L740,M740,N740,O740,P740,Q740,R740,S740)","v":40518.199208219179},null,null,null,null,40518.199208219179,{"$f":"O740","v":40518.199208219179},40518.199208219179,40518.199208219179,40518.199208219179,null,39]
[null,null,null,null,null,"LV Sub HH Metered","kVA","LDNO HV customers",null,3166.4392027397257,null,null,null,null,3166.4392027397257,3166.4392027397257,3166.4392027397257,3166.4392027397257,3166.4392027397257,null,39]
[null,null,null,null,null,"HV HH Metered","kVA","LDNO HV customers",null,2548.6042438356171,null,null,null,null,2548.6042438356171,2548.6042438356171,2548.6042438356171,2548.6042438356171,2548.6042438356171,null,39]
[null,null,null,null,null,"NHH UMS category A","kVA","LDNO HV customers",null,null,null,null,null,null,0,null,null,null,null,null,39]
[null,null,null,null,null,"NHH UMS category B","kVA","LDNO HV customers",null,null,null,null,null,null,0,null,null,null,null,null,39]
[null,null,null,null,null,"NHH UMS category C","kVA","LDNO HV customers",null,null,null,null,null,null,0,null,null,null,null,null,39]
[null,null,null,null,null,"NHH UMS category D","kVA","LDNO HV customers",null,null,null,null,null,null,0,null,null,null,null,null,39]
[null,null,null,null,null,"LV UMS (Pseudo HH Metered)","kVA","LDNO HV customers",null,null,null,null,null,null,0,null,null,null,null,null,39]
[null,null,null,null,null,"LV Generation NHH or Aggregate HH","kVA","LDNO HV customers",null,null,null,null,null,null,0,null,null,null,null,null,39]
[null,null,null,null,null,"LV Sub Generation NHH","kVA","LDNO HV customers",null,null,null,null,null,null,0,null,null,null,null,null,39]
[null,null,null,null,null,"LV Generation Intermittent","kVA","LDNO HV customers",null,null,null,null,null,null,0,null,null,null,null,null,39]
[null,null,null,null,null,"LV Generation Intermittent no RP charge","kVA","LDNO HV customers",null,null,null,null,null,null,0,null,null,null,null,null,39]
[null,null,null,null,null,"LV Generation Non-Intermittent","kVA","LDNO HV customers",null,null,null,null,null,null,0,null,null,null,null,null,39]
[null,null,null,null,null,"LV Generation Non-Intermittent no RP charge","kVA","LDNO HV customers",null,null,null,null,null,null,0,null,null,null,null,null,39]
[null,null,null,null,null,"LV Sub Generation Intermittent","kVA","LDNO HV customers",null,null,null,null,null,null,0,null,null,null,null,null,39]
[null,null,null,null,null,"LV Sub Generation Intermittent no RP charge","kVA","LDNO HV customers",null,null,null,null,null,null,0,null,null,null,null,null,39]
[null,null,null,null,null,"LV Sub Generation Non-Intermittent","kVA","LDNO HV customers",null,null,null,null,null,null,0,null,null,null,null,null,39]
[null,null,null,null,null,"LV Sub Generation Non-Intermittent no RP charge","kVA","LDNO HV customers",null,null,null,null,null,null,0,null,null,null,null,null,39]
[null,null,null,null,null,"HV Generation Intermittent","kVA","LDNO HV customers",null,null,null,null,null,null,0,null,null,null,null,null,39]
[null,null,null,null,null,"HV Generation Intermittent no RP charge","kVA","LDNO HV customers",null,null,null,null,null,null,0,null,null,null,null,null,39]
[null,null,null,null,null,"HV Generation Non-Intermittent","kVA","LDNO HV customers",null,null,null,null,null,null,0,null,null,null,null,null,39]
[null,null,null,null,null,"HV Generation Non-Intermittent no RP charge","kVA","LDNO HV customers",null,null,null,null,null,null,0,null,null,null,null,null,39]
[]
[null,null,null,null,"Exceeded capacity"]
[null,null,null,null,null,"Domestic Unrestricted","kVA","LDNO HV customers",null,null,null,null,null,null,0,null,null,null,null,null,{"$f":"U729+1","v":40}]
[null,null,null,null,null,"Domestic Two Rate","kVA","LDNO HV customers",null,null,null,null,null,null,0,null,null,null,null,null,{"$f":"U730+1","v":40}]
[null,null,null,null,null,"Domestic Off Peak (related MPAN)","kVA","LDNO HV customers",null,null,null,null,null,null,0,null,null,null,null,null,40]
[null,null,null,null,null,"Small Non Domestic Unrestricted","kVA","LDNO HV customers",null,null,null,null,null,null,0,null,null,null,null,null,40]
[null,null,null,null,null,"Small Non Domestic Two Rate","kVA","LDNO HV customers",null,null,null,null,null,null,0,null,null,null,null,null,40]
[null,null,null,null,null,"Small Non Domestic Off Peak (related MPAN)","kVA","LDNO HV customers",null,null,null,null,null,null,0,null,null,null,null,null,40]
[null,null,null,null,null,"LV Medium Non-Domestic","kVA","LDNO HV customers",null,null,null,null,null,null,0,null,null,null,null,null,40]
[null,null,null,null,null,"LV Sub Medium Non-Domestic","kVA","LDNO HV customers",null,null,null,null,null,null,0,null,null,null,null,null,40]
[null,null,null,null,null,"HV Medium Non-Domestic","kVA","LDNO HV customers",null,null,null,null,null,null,0,null,null,null,null,null,40]
[null,null,null,null,null,"LV Network Domestic","kVA","LDNO HV customers",null,null,null,null,null,null,0,null,null,null,null,null,40]
[null,null,null,null,null,"LV Network Non-Domestic Non-CT","kVA","LDNO HV customers",null,null,null,null,null,null,0,null,null,null,null,null,40]
[null,null,null,null,null,"LV HH Metered","kVA","LDNO HV customers",null,{"$f":"CHOOSE(year_selection, L775,M775,N775,O775,P775,Q775,R775,S775)","v":118.37315958904112},null,null,null,null,118.37315958904112,{"$f":"O775","v":118.37315958904112},118.37315958904112,118.37315958904112,118.37315958904112,null,40]
[null,null,null,null,null,"LV Sub HH Metered","kVA","LDNO HV customers",null,0,null,null,null,null,0,0,0,0,0,null,40]
[null,null,null,null,null,"HV HH Metered","kVA","LDNO HV customers",null,0,null,null,null,null,0,0,0,0,0,null,40]
[null,null,null,null,null,"NHH UMS category A","kVA","LDNO HV customers",null,null,null,null,null,null,0,null,null,null,null,null,40]
[null,null,null,null,null,"NHH UMS category B","kVA","LDNO HV customers",null,null,null,null,null,null,0,null,null,null,null,null,40]
[null,null,null,null,null,"NHH UMS category C","kVA","LDNO HV customers",null,null,null,null,null,null,0,null,null,null,null,null,40]
[null,null,null,null,null,"NHH UMS category D","kVA","LDNO HV customers",null,null,null,null,null,null,0,null,null,null,null,null,40]
[null,null,null,null,null,"LV UMS (Pseudo HH Metered)","kVA","LDNO HV customers",null,null,null,null,null,null,0,null,null,null,null,null,40]
[null,null,null,null,null,"LV Generation NHH or Aggregate HH","kVA","LDNO HV customers",null,null,null,null,null,null,0,null,null,null,null,null,40]
[null,null,null,null,null,"LV Sub Generation NHH","kVA","LDNO HV customers",null,null,null,null,null,null,0,null,null,null,null,null,40]
[null,null,null,null,null,"LV Generation Intermittent","kVA","LDNO HV customers",null,null,null,null,null,null,0,null,null,null,null,null,40]
[null,null,null,null,null,"LV Generation Intermittent no RP charge","kVA","LDNO HV customers",null,null,null,null,null,null,0,null,null,null,null,null,40]
[null,null,null,null,null,"LV Generation Non-Intermittent","kVA","LDNO HV customers",null,null,null,null,null,null,0,null,null,null,null,null,40]
[null,null,null,null,null,"LV Generation Non-Intermittent no RP charge","kVA","LDNO HV customers",null,null,null,null,null,null,0,null,null,null,null,null,40]
[null,null,null,null,null,"LV Sub Generation Intermittent","kVA","LDNO HV customers",null,null,null,null,null,null,0,null,null,null,null,null,40]
[null,null,null,null,null,"LV Sub Generation Intermittent no RP charge","kVA","LDNO HV customers",null,null,null,null,null,null,0,null,null,null,null,null,40]
[null,null,null,null,null,"LV Sub Generation Non-Intermittent","kVA","LDNO HV customers",null,null,null,null,null,null,0,null,null,null,null,null,40]
[null,null,null,null,null,"LV Sub Generation Non-Intermittent no RP charge","kVA","LDNO HV customers",null,null,null,null,null,null,0,null,null,null,null,null,40]
[null,null,null,null,null,"HV Generation Intermittent","kVA","LDNO HV customers",null,null,null,null,null,null,0,null,null,null,null,null,40]
[null,null,null,null,null,"HV Generation Intermittent no RP charge","kVA","LDNO HV customers",null,null,null,null,null,null,0,null,null,null,null,null,40]
[null,null,null,null,null,"HV Generation Non-Intermittent","kVA","LDNO HV customers",null,null,null,null,null,null,0,null,null,null,null,null,40]
[null,null,null,null,null,"HV Generation Non-Intermittent no RP charge","kVA","LDNO HV customers",null,null,null,null,null,null,0,null,null,null,null,null,40]
[]
[null,null,null,null,"Reactive power units"]
[null,null,null,null,null,"Domestic Unrestricted","MVArh","LDNO HV customers",null,null,null,null,null,null,0,null,null,null,null,null,{"$f":"U764+1","v":41}]
[null,null,null,null,null,"Domestic Two Rate","MVArh","LDNO HV customers",null,null,null,null,null,null,0,null,null,null,null,null,{"$f":"U765+1","v":41}]
[null,null,null,null,null,"Domestic Off Peak (related MPAN)","MVArh","LDNO HV customers",null,null,null,null,null,null,0,null,null,null,null,null,41]
[null,null,null,null,null,"Small Non Domestic Unrestricted","MVArh","LDNO HV customers",null,null,null,null,null,null,0,null,null,null,null,null,41]
[null,null,null,null,null,"Small Non Domestic Two Rate","MVArh","LDNO HV customers",null,null,null,null,null,null,0,null,null,null,null,null,41]
[null,null,null,null,null,"Small Non Domestic Off Peak (related MPAN)","MVArh","LDNO HV customers",null,null,null,null,null,null,0,null,null,null,null,null,41]
[null,null,null,null,null,"LV Medium Non-Domestic","MVArh","LDNO HV customers",null,null,null,null,null,null,0,null,null,null,null,null,41]
[null,null,null,null,null,"LV Sub Medium Non-Domestic","MVArh","LDNO HV customers",null,null,null,null,null,null,0,null,null,null,null,null,41]
[null,null,null,null,null,"HV Medium Non-Domestic","MVArh","LDNO HV customers",null,null,null,null,null,null,0,null,null,null,null,null,41]
[null,null,null,null,null,"LV Network Domestic","MVArh","LDNO HV customers",null,null,null,null,null,null,0,null,null,null,null,null,41]
[null,null,null,null,null,"LV Network Non-Domestic Non-CT","MVArh","LDNO HV customers",null,null,null,null,null,null,0,null,null,null,null,null,41]
[null,null,null,null,null,"LV HH Metered","MVArh","LDNO HV customers",null,{"$f":"CHOOSE(year_selection, L810,M810,N810,O810,P810,Q810,R810,S810)","v":2294.5550166000003},null,null,null,null,2294.5550166000003,{"$f":"O810","v":2294.5550166000003},2294.5550166000003,2294.5550166000003,2294.5550166000003,null,41]
[null,null,null,null,null,"LV Sub HH Metered","MVArh","LDNO HV customers",null,81.343651724999987,null,null,null,null,81.343651724999987,81.343651724999987,81.343651724999987,81.343651724999987,81.343651724999987,null,41]
[null,null,null,null,null,"HV HH Metered","MVArh","LDNO HV customers",null,69.052551750000006,null,null,null,null,69.052551750000006,69.052551750000006,69.052551750000006,69.052551750000006,69.052551750000006,null,41]
[null,null,null,null,null,"NHH UMS category A","MVArh","LDNO HV customers",null,null,null,null,null,null,0,null,null,null,null,null,41]
[null,null,null,null,null,"NHH UMS category B","MVArh","LDNO HV customers",null,null,null,null,null,null,0,null,null,null,null,null,41]
[null,null,null,null,null,"NHH UMS category C","MVArh","LDNO HV customers",null,null,null,null,null,null,0,null,null,null,null,null,41]
[null,null,null,null,null,"NHH UMS category D","MVArh","LDNO HV customers",null,null,null,null,null,null,0,null,null,null,null,null,41]
[null,null,null,null,null,"LV UMS (Pseudo HH Metered)","MVArh","LDNO HV customers",null,null,null,null,null,null,0,null,null,null,null,null,41]
[null,null,null,null,null,"LV Generation NHH or Aggregate HH","MVArh","LDNO HV customers",null,null,null,null,null,null,0,null,null,null,null,null,41]
[null,null,null,null,null,"LV Sub Generation NHH","MVArh","LDNO HV customers",null,null,null,null,null,null,0,null,null,null,null,null,41]
[null,null,null,null,null,"LV Generation Intermittent","MVArh","LDNO HV customers",null,{"$f":"CHOOSE(year_selection, L820,M820,N820,O820,P820,Q820,R820,S820)","v":89.370855000000006},null,null,null,null,89.370855000000006,{"$f":"O820","v":89.370855000000006},89.370855000000006,89.370855000000006,89.370855000000006,null,41]
[null,null,null,null,null,"LV Generation Intermittent no RP charge","MVArh","LDNO HV customers",null,null,null,null,null,null,0,null,null,null,null,null,41]
[null,null,null,null,null,"LV Generation Non-Intermittent","MVArh","LDNO HV customers",null,{"$f":"CHOOSE(year_selection, L822,M822,N822,O822,P822,Q822,R822,S822)","v":0},null,null,null,null,0,{"$f":"O822","v":0},0,0,0,null,41]
[null,null,null,null,null,"LV Generation Non-Intermittent no RP charge","MVArh","LDNO HV customers",null,null,null,null,null,null,0,null,null,null,null,null,41]
[null,null,null,null,null,"LV Sub Generation Intermittent","MVArh","LDNO HV customers",null,{"$f":"CHOOSE(year_selection, L824,M824,N824,O824,P824,Q824,R824,S824)","v":0},null,null,null,null,0,{"$f":"O824","v":0},0,0,0,null,41]
[null,null,null,null,null,"LV Sub Generation Intermittent no RP charge","MVArh","LDNO HV customers",null,null,null,null,null,null,0,null,null,null,null,null,41]
[null,null,null,null,null,"LV Sub Generation Non-Intermittent","MVArh","LDNO HV customers",null,{"$f":"CHOOSE(year_selection, L826,M826,N826,O826,P826,Q826,R826,S826)","v":0},null,null,null,null,0,{"$f":"O826","v":0},0,0,0,null,41]
[null,null,null,null,null,"LV Sub Generation Non-Intermittent no RP charge","MVArh","LDNO HV customers",null,null,null,null,null,null,0,null,null,null,null,null,41]
[null,null,null,null,null,"HV Generation Intermittent","MVArh","LDNO HV customers",null,{"$f":"CHOOSE(year_selection, L828,M828,N828,O828,P828,Q828,R828,S828)","v":0},null,null,null,null,0,{"$f":"O828","v":0},0,0,0,null,41]
[null,null,null,null,null,"HV Generation Intermittent no RP charge","MVArh","LDNO HV customers",null,null,null,null,null,null,0,null,null,null,null,null,41]
[null,null,null,null,null,"HV Generation Non-Intermittent","MVArh","LDNO HV customers",null,{"$f":"CHOOSE(year_selection, L830,M830,N830,O830,P830,Q830,R830,S830)","v":0},null,null,null,null,0,{"$f":"O830","v":0},0,0,0,null,41]
[null,null,null,null,null,"HV Generation Non-Intermittent no RP charge","MVArh","LDNO HV customers",null,null,null,null,null,null,0,null,null,null,null,null,41]
[]
[null,"Split of units by distribution timeband"]
[]
[null,null,null,"UMS customers are under special time band regime (Black & Yellow)"]
[null,null,null,"All other customers are under normal time band regime (Red & Amber)"]
[]
[null,null,{"$f":"INDEX('Version control'!$H$34:$H$59,MATCH($A$1,'Version control'!$F$34:$F$59,0),1)&\"-F: Split of units by distribution timeband - Unit rate 1\"","v":"Input 501-F: Split of units by distribution timeband - Unit rate 1"}]
[]
[null,null,null,null,"Red / Black",null,null,null,">",null,null,null,null,null,null,null,null,null,null,null,"Paragraphs 42 (c) & 45"]
[null,null,null,null,null,"Domestic Unrestricted","%",null,null,{"$f":"CHOOSE(year_selection, L841,M841,N841,O841,P841,Q841,R841,S841)","v":0.11197507769618557},null,0.11267581630309487,0.1126755606114581,0.11239070546657531,{"$f":"HLOOKUP(F841,'ARP_Load characteristics'!J$5:AP$97,U841,FALSE)","v":0.11197507769618557},{"$f":"O841","v":0.11197507769618557},0.11197507769618557,0.11197507769618557,0.11197507769618557,null,41]
[null,null,null,null,null,"Domestic Two Rate","%",null,null,0.13364758522804707,null,0.13259929406414261,0.13358158428751951,0.13384265128607928,{"$f":"HLOOKUP(F842,'ARP_Load characteristics'!J$5:AP$97,U842,FALSE)","v":0.13364758522804707},{"$f":"O842","v":0.13364758522804707},0.13364758522804707,0.13364758522804707,0.13364758522804707,null,41]
[null,null,null,null,null,"Domestic Off Peak (related MPAN)","%",null,null,0,null,2.3089739788377813E-6,2.0252147335181949E-6,2.0252147335181949E-6,{"$f":"HLOOKUP(F843,'ARP_Load characteristics'!J$5:AP$97,U843,FALSE)","v":0},{"$f":"O843","v":0},0,0,0,null,41]
[null,null,null,null,null,"Small Non Domestic Unrestricted","%",null,null,7.2901843200616878E-2,null,7.1293097924037416E-2,7.2006050969378579E-2,7.2521853483485318E-2,{"$f":"HLOOKUP(F844,'ARP_Load characteristics'!J$5:AP$97,U844,FALSE)","v":7.2901843200616878E-2},{"$f":"O844","v":7.2901843200616878E-2},7.2901843200616878E-2,7.2901843200616878E-2,7.2901843200616878E-2,null,41]
[null,null,null,null,null,"Small Non Domestic Two Rate","%",null,null,0.10374465982206056,null,9.9328056909732496E-2,0.10080120763768696,0.1025605464990843,{"$f":"HLOOKUP(F845,'ARP_Load characteristics'!J$5:AP$97,U845,FALSE)","v":0.10374465982206056},{"$f":"O845","v":0.10374465982206056},0.10374465982206056,0.10374465982206056,0.10374465982206056,null,41]
[null,null,null,null,null,"Small Non Domestic Off Peak (related MPAN)","%",null,null,1.2095107556112362E-4,null,1.4952542024077378E-4,1.5350285017887451E-4,1.0495483660186507E-4,{"$f":"HLOOKUP(F846,'ARP_Load characteristics'!J$5:AP$97,U846,FALSE)","v":1.2095107556112362E-4},{"$f":"O846","v":1.2095107556112362E-4},1.2095107556112362E-4,1.2095107556112362E-4,1.2095107556112362E-4,null,41]
[null,null,null,null,null,"LV Medium Non-Domestic","%",null,null,0.1047145643323437,null,0.10403758738186612,0.10472778338984712,0.10492949578536022,{"$f":"HLOOKUP(F847,'ARP_Load characteristics'!J$5:AP$97,U847,FALSE)","v":0.1047145643323437},{"$f":"O847","v":0.1047145643323437},0.1047145643323437,0.1047145643323437,0.1047145643323437,null,41]
[null,null,null,null,null,"LV Sub Medium Non-Domestic","%",null,null,0.10158807426315841,null,0.10045806328551889,9.9662175569840486E-2,0.10023252903079703,{"$f":"HLOOKUP(F848,'ARP_Load characteristics'!J$5:AP$97,U848,FALSE)","v":0.10158807426315841},{"$f":"O848","v":0.10158807426315841},0.10158807426315841,0.10158807426315841,0.10158807426315841,null,41]
[null,null,null,null,null,"HV Medium Non-Domestic","%",null,null,9.9174996915789473E-2,null,9.8811628866608658E-2,9.9347771673810703E-2,9.9796659622522987E-2,{"$f":"HLOOKUP(F849,'ARP_Load characteristics'!J$5:AP$97,U849,FALSE)","v":9.9174996915789473E-2},{"$f":"O849","v":9.9174996915789473E-2},9.9174996915789473E-2,9.9174996915789473E-2,9.9174996915789473E-2,null,41]
[null,null,null,null,null,"LV Network Domestic","%",null,null,1,null,1,1,1,1,1,1,1,1,null,41]
[null,null,null,null,null,"LV Network Non-Domestic Non-CT","%",null,null,1,null,1,1,1,1,1,1,1,1,null,41]
[null,null,null,null,null,"LV HH Metered","%",null,null,1,null,1,1,1,1,1,1,1,1,null,41]
[null,null,null,null,null,"LV Sub HH Metered","%",null,null,1,null,1,1,1,1,1,1,1,1,null,41]
[null,null,null,null,null,"HV HH Metered","%",null,null,1,null,1,1,1,1,1,1,1,1,null,41]
[null,null,null,null,null,"NHH UMS category A","%",null,null,2.1669744075987082E-2,null,2.1879756468797567E-2,2.1669744075987058E-2,2.1574614700035761E-2,{"$f":"HLOOKUP(F855,'ARP_Load characteristics'!J$5:AP$97,U855,FALSE)","v":2.1669744075987082E-2},{"$f":"O855","v":2.1669744075987082E-2},2.1669744075987082E-2,2.1669744075987082E-2,2.1669744075987082E-2,null,41]
[null,null,null,null,null,"NHH UMS category B","%",null,null,4.2410020745840361E-2,null,4.2794381482471215E-2,4.2271492323602562E-2,4.2035120985961461E-2,{"$f":"HLOOKUP(F856,'ARP_Load characteristics'!J$5:AP$97,U856,FALSE)","v":4.2410020745840361E-2},{"$f":"O856","v":4.2410020745840361E-2},4.2410020745840361E-2,4.2410020745840361E-2,4.2410020745840361E-2,null,41]
[null,null,null,null,null,"NHH UMS category C","%",null,null,7.1340446485220546E-2,null,7.2773699982901771E-2,7.0037778604364151E-2,7.1150505503545972E-2,{"$f":"HLOOKUP(F857,'ARP_Load characteristics'!J$5:AP$97,U857,FALSE)","v":7.1340446485220546E-2},{"$f":"O857","v":7.1340446485220546E-2},7.1340446485220546E-2,7.1340446485220546E-2,7.1340446485220546E-2,null,41]
[null,null,null,null,null,"NHH UMS category D","%",null,null,2.2190543690080709E-3,null,2.25671726021784E-3,2.2468167956266661E-3,2.2468167956266661E-3,{"$f":"HLOOKUP(F858,'ARP_Load characteristics'!J$5:AP$97,U858,FALSE)","v":2.2190543690080709E-3},{"$f":"O858","v":2.2190543690080709E-3},2.2190543690080709E-3,2.2190543690080709E-3,2.2190543690080709E-3,null,41]
[null,null,null,null,null,"LV UMS (Pseudo HH Metered)","%",null,null,1,null,1,1,1,1,1,1,1,1,null,41]
[null,null,null,null,null,"LV Generation NHH or Aggregate HH","%",null,null,null,null,null,null,null,null,null,null,null,null,null,41]
[null,null,null,null,null,"LV Sub Generation NHH","%",null,null,null,null,null,null,null,null,null,null,null,null,null,41]
[null,null,null,null,null,"LV Generation Intermittent","%",null,null,null,null,null,null,null,null,null,null,null,null,null,41]
[null,null,null,null,null,"LV Generation Intermittent no RP charge","%",null,null,null,null,null,null,null,null,null,null,null,null,null,41]
[null,null,null,null,null,"LV Generation Non-Intermittent","%",null,null,{"$f":"CHOOSE(year_selection, L864,M864,N864,O864,P864,Q864,R864,S864)","v":1},null,1,1,1,1,1,1,1,1,null,41]
[null,null,null,null,null,"LV Generation Non-Intermittent no RP charge","%",null,null,{"$f":"CHOOSE(year_selection, L865,M865,N865,O865,P865,Q865,R865,S865)","v":1},null,1,1,1,1,1,1,1,1,null,41]
[null,null,null,null,null,"LV Sub Generation Intermittent","%",null,null,null,null,null,null,null,null,null,null,null,null,null,41]
[null,null,null,null,null,"LV Sub Generation Intermittent no RP charge","%",null,null,null,null,null,null,null,null,null,null,null,null,null,41]
[null,null,null,null,null,"LV Sub Generation Non-Intermittent","%",null,null,{"$f":"CHOOSE(year_selection, L868,M868,N868,O868,P868,Q868,R868,S868)","v":1},null,1,1,1,1,1,1,1,1,null,41]
[null,null,null,null,null,"LV Sub Generation Non-Intermittent no RP charge","%",null,null,{"$f":"CHOOSE(year_selection, L869,M869,N869,O869,P869,Q869,R869,S869)","v":1},null,1,1,1,1,1,1,1,1,null,41]
[null,null,null,null,null,"HV Generation Intermittent","%",null,null,null,null,null,null,null,null,null,null,null,null,null,41]
[null,null,null,null,null,"HV Generation Intermittent no RP charge","%",null,null,null,null,null,null,null,null,null,null,null,null,null,41]
[null,null,null,null,null,"HV Generation Non-Intermittent","%",null,null,{"$f":"CHOOSE(year_selection, L872,M872,N872,O872,P872,Q872,R872,S872)","v":1},null,1,1,1,1,1,1,1,1,null,41]
[null,null,null,null,null,"HV Generation Non-Intermittent no RP charge","%",null,null,{"$f":"CHOOSE(year_selection, L873,M873,N873,O873,P873,Q873,R873,S873)","v":1},null,1,1,1,1,1,1,1,1,null,41]
[]
[null,null,null,null,"Amber / Yellow"]
[null,null,null,null,null,"Domestic Unrestricted","%",null,null,{"$f":"CHOOSE(year_selection, L876,M876,N876,O876,P876,Q876,R876,S876)","v":0.50191649625201062},null,0.50365385053111134,0.50330105915064116,0.50219996140536483,{"$f":"HLOOKUP(F876,'ARP_Load characteristics'!J$5:AP$97,U876,FALSE)","v":0.50191649625201062},{"$f":"O876","v":0.50191649625201062},0.50191649625201062,0.50191649625201062,0.50191649625201062,null,47]
[null,null,null,null,null,"Domestic Two Rate","%",null,null,0.58955364170073732,null,0.58217461107296831,0.58572615772879388,0.5885786490594187,{"$f":"HLOOKUP(F877,'ARP_Load characteristics'!J$5:AP$97,U877,FALSE)","v":0.58955364170073732},{"$f":"O877","v":0.58955364170073732},0.58955364170073732,0.58955364170073732,0.58955364170073732,null,47]
[null,null,null,null,null,"Domestic Off Peak (related MPAN)","%",null,null,0.16936876960443484,null,0.17044975755789471,0.16845580378282329,0.16828054775215415,{"$f":"HLOOKUP(F878,'ARP_Load characteristics'!J$5:AP$97,U878,FALSE)","v":0.16936876960443484},{"$f":"O878","v":0.16936876960443484},0.16936876960443484,0.16936876960443484,0.16936876960443484,null,47]
[null,null,null,null,null,"Small Non Domestic Unrestricted","%",null,null,0.5784518528769218,null,0.5816906527573692,0.57986799473594719,0.57867519051758698,{"$f":"HLOOKUP(F879,'ARP_Load characteristics'!J$5:AP$97,U879,FALSE)","v":0.5784518528769218},{"$f":"O879","v":0.5784518528769218},0.5784518528769218,0.5784518528769218,0.5784518528769218,null,47]
[null,null,null,null,null,"Small Non Domestic Two Rate","%",null,null,0.65763950211560829,null,0.66423145403375627,0.66340204965314442,0.66104617018596334,{"$f":"HLOOKUP(F880,'ARP_Load characteristics'!J$5:AP$97,U880,FALSE)","v":0.65763950211560829},{"$f":"O880","v":0.65763950211560829},0.65763950211560829,0.65763950211560829,0.65763950211560829,null,47]
[null,null,null,null,null,"Small Non Domestic Off Peak (related MPAN)","%",null,null,0.17446773823156181,null,0.17552470110382434,0.17779637526276107,0.17569929903996798,{"$f":"HLOOKUP(F881,'ARP_Load characteristics'!J$5:AP$97,U881,FALSE)","v":0.17446773823156181},{"$f":"O881","v":0.17446773823156181},0.17446773823156181,0.17446773823156181,0.17446773823156181,null,47]
[null,null,null,null,null,"LV Medium Non-Domestic","%",null,null,0.67439252598952981,null,0.67506332159275484,0.67426422041149436,0.67367971695660778,{"$f":"HLOOKUP(F882,'ARP_Load characteristics'!J$5:AP$97,U882,FALSE)","v":0.67439252598952981},{"$f":"O882","v":0.67439252598952981},0.67439252598952981,0.67439252598952981,0.67439252598952981,null,47]
[null,null,null,null,null,"LV Sub Medium Non-Domestic","%",null,null,0.68184945153652621,null,0.68489387616652664,0.68781798423025775,0.68542343799495342,{"$f":"HLOOKUP(F883,'ARP_Load characteristics'!J$5:AP$97,U883,FALSE)","v":0.68184945153652621},{"$f":"O883","v":0.68184945153652621},0.68184945153652621,0.68184945153652621,0.68184945153652621,null,47]
[null,null,null,null,null,"HV Medium Non-Domestic","%",null,null,0.70608990295729057,null,0.69433027364657418,0.69392571895692934,0.69385419302265083,{"$f":"HLOOKUP(F884,'ARP_Load characteristics'!J$5:AP$97,U884,FALSE)","v":0.70608990295729057},{"$f":"O884","v":0.70608990295729057},0.70608990295729057,0.70608990295729057,0.70608990295729057,null,47]
[null,null,null,null,null,"LV Network Domestic","%",null,null,null,null,null,null,null,null,null,null,null,null,null,47]
[null,null,null,null,null,"LV Network Non-Domestic Non-CT","%",null,null,null,null,null,null,null,null,null,null,null,null,null,47]
[null,null,null,null,null,"LV HH Metered","%",null,null,null,null,null,null,null,null,null,null,null,null,null,47]
[null,null,null,null,null,"LV Sub HH Metered","%",null,null,null,null,null,null,null,null,null,null,null,null,null,47]
[null,null,null,null,null,"HV HH Metered","%",null,null,null,null,null,null,null,null,null,null,null,null,null,47]
[null,null,null,null,null,"NHH UMS category A","%",null,null,{"$f":"CHOOSE(year_selection, L890,M890,N890,O890,P890,Q890,R890,S890)","v":0.48135214711680002},null,0.48105022831050226,0.4816755869950346,0.4817707163709859,{"$f":"HLOOKUP(F890,'ARP_Load characteristics'!J$5:AP$97,U890,FALSE)","v":0.48135214711680002},{"$f":"O890","v":0.48135214711680002},0.48135214711680002,0.48135214711680002,0.48135214711680002,null,47]
[null,null,null,null,null,"NHH UMS category B","%",null,null,{"$f":"CHOOSE(year_selection, L891,M891,N891,O891,P891,Q891,R891,S891)","v":0.19137173000067045},null,0.19696435339708293,0.19634879693537152,0.1950812857499982,{"$f":"HLOOKUP(F891,'ARP_Load characteristics'!J$5:AP$97,U891,FALSE)","v":0.19137173000067045},{"$f":"O891","v":0.19137173000067045},0.19137173000067045,0.19137173000067045,0.19137173000067045,null,47]
[null,null,null,null,null,"NHH UMS category C","%",null,null,{"$f":"CHOOSE(year_selection, L892,M892,N892,O892,P892,Q892,R892,S892)","v":0.35889796794961448},null,0.30146589153686992,0.32409195613670994,0.34411082897305728,{"$f":"HLOOKUP(F892,'ARP_Load characteristics'!J$5:AP$97,U892,FALSE)","v":0.35889796794961448},{"$f":"O892","v":0.35889796794961448},0.35889796794961448,0.35889796794961448,0.35889796794961448,null,47]
[null,null,null,null,null,"NHH UMS category D","%",null,null,{"$f":"CHOOSE(year_selection, L893,M893,N893,O893,P893,Q893,R893,S893)","v":0.74447455632328197},null,0.74340436934855558,0.74421698186255847,0.74421698186255847,{"$f":"HLOOKUP(F893,'ARP_Load characteristics'!J$5:AP$97,U893,FALSE)","v":0.74447455632328197},{"$f":"O893","v":0.74447455632328197},0.74447455632328197,0.74447455632328197,0.74447455632328197,null,47]
[null,null,null,null,null,"LV UMS (Pseudo HH Metered)","%",null,null,null,null,null,null,null,null,null,null,null,null,null,47]
[null,null,null,null,null,"LV Generation NHH or Aggregate HH","%",null,null,null,null,null,null,null,null,null,null,null,null,null,47]
[null,null,null,null,null,"LV Sub Generation NHH","%",null,null,null,null,null,null,null,null,null,null,null,null,null,47]
[null,null,null,null,null,"LV Generation Intermittent","%",null,null,null,null,null,null,null,null,null,null,null,null,null,47]
[null,null,null,null,null,"LV Generation Intermittent no RP charge","%",null,null,null,null,null,null,null,null,null,null,null,null,null,47]
[null,null,null,null,null,"LV Generation Non-Intermittent","%",null,null,null,null,null,null,null,null,null,null,null,null,null,47]
[null,null,null,null,null,"LV Generation Non-Intermittent no RP charge","%",null,null,null,null,null,null,null,null,null,null,null,null,null,47]
[null,null,null,null,null,"LV Sub Generation Intermittent","%",null,null,null,null,null,null,null,null,null,null,null,null,null,47]
[null,null,null,null,null,"LV Sub Generation Intermittent no RP charge","%",null,null,null,null,null,null,null,null,null,null,null,null,null,47]
[null,null,null,null,null,"LV Sub Generation Non-Intermittent","%",null,null,null,null,null,null,null,null,null,null,null,null,null,47]
[null,null,null,null,null,"LV Sub Generation Non-Intermittent no RP charge","%",null,null,null,null,null,null,null,null,null,null,null,null,null,47]
[null,null,null,null,null,"HV Generation Intermittent","%",null,null,null,null,null,null,null,null,null,null,null,null,null,47]
[null,null,null,null,null,"HV Generation Intermittent no RP charge","%",null,null,null,null,null,null,null,null,null,null,null,null,null,47]
[null,null,null,null,null,"HV Generation Non-Intermittent","%",null,null,null,null,null,null,null,null,null,null,null,null,null,47]
[null,null,null,null,null,"HV Generation Non-Intermittent no RP charge","%",null,null,null,null,null,null,null,null,null,null,null,null,null,47]
[]
[null,null,null,null,"Green"]
[null,null,null,null,null,"Domestic Unrestricted","%",null,null,{"$f":"CHOOSE(year_selection, L911,M911,N911,O911,P911,Q911,R911,S911)","v":0.38610842605180379},null,0.38367033316579385,0.38402338023790089,0.38540933312805986,{"$f":"HLOOKUP(F911,'ARP_Load characteristics'!J$5:AP$97,U911,FALSE)","v":0.38610842605180379},{"$f":"O911","v":0.38610842605180379},0.38610842605180379,0.38610842605180379,0.38610842605180379,null,53]
[null,null,null,null,null,"Domestic Two Rate","%",null,null,0.27679877307121564,null,0.28522609486288908,0.28069225798368663,0.27757869965450205,{"$f":"HLOOKUP(F912,'ARP_Load characteristics'!J$5:AP$97,U912,FALSE)","v":0.27679877307121564},{"$f":"O912","v":0.27679877307121564},0.27679877307121564,0.27679877307121564,0.27679877307121564,null,53]
[null,null,null,null,null,"Domestic Off Peak (related MPAN)","%",null,null,0.83063123039556519,null,0.8295479334681265,0.8315421710024431,0.83171742703311224,{"$f":"HLOOKUP(F913,'ARP_Load characteristics'!J$5:AP$97,U913,FALSE)","v":0.83063123039556519},{"$f":"O913","v":0.83063123039556519},0.83063123039556519,0.83063123039556519,0.83063123039556519,null,53]
[null,null,null,null,null,"Small Non Domestic Unrestricted","%",null,null,0.34864630392246126,null,0.34701624931859337,0.34812595429467424,0.3488029559989278,{"$f":"HLOOKUP(F914,'ARP_Load characteristics'!J$5:AP$97,U914,FALSE)","v":0.34864630392246126},{"$f":"O914","v":0.34864630392246126},0.34864630392246126,0.34864630392246126,0.34864630392246126,null,53]
[null,null,null,null,null,"Small Non Domestic Two Rate","%",null,null,0.23861583806233111,null,0.23644048905651119,0.23579674270916848,0.23639328331495235,{"$f":"HLOOKUP(F915,'ARP_Load characteristics'!J$5:AP$97,U915,FALSE)","v":0.23861583806233111},{"$f":"O915","v":0.23861583806233111},0.23861583806233111,0.23861583806233111,0.23861583806233111,null,53]
[null,null,null,null,null,"Small Non Domestic Off Peak (related MPAN)","%",null,null,0.8254113106928771,null,0.82432577347593483,0.82205012188706006,0.82419574612343016,{"$f":"HLOOKUP(F916,'ARP_Load characteristics'!J$5:AP$97,U916,FALSE)","v":0.8254113106928771},{"$f":"O916","v":0.8254113106928771},0.8254113106928771,0.8254113106928771,0.8254113106928771,null,53]
[null,null,null,null,null,"LV Medium Non-Domestic","%",null,null,0.22089290967812644,null,0.22089909102537905,0.22100799619865844,0.22139078725803196,{"$f":"HLOOKUP(F917,'ARP_Load characteristics'!J$5:AP$97,U917,FALSE)","v":0.22089290967812644},{"$f":"O917","v":0.22089290967812644},0.22089290967812644,0.22089290967812644,0.22089290967812644,null,53]
[null,null,null,null,null,"LV Sub Medium Non-Domestic","%",null,null,0.2165624742003153,null,0.21464806054795446,0.21251984019990169,0.21434403297424945,{"$f":"HLOOKUP(F918,'ARP_Load characteristics'!J$5:AP$97,U918,FALSE)","v":0.2165624742003153},{"$f":"O918","v":0.2165624742003153},0.2165624742003153,0.2165624742003153,0.2165624742003153,null,53]
[null,null,null,null,null,"HV Medium Non-Domestic","%",null,null,0.19473510012692,null,0.20685809748681719,0.20672650936925988,0.20634914735482612,{"$f":"HLOOKUP(F919,'ARP_Load characteristics'!J$5:AP$97,U919,FALSE)","v":0.19473510012692},{"$f":"O919","v":0.19473510012692},0.19473510012692,0.19473510012692,0.19473510012692,null,53]
[null,null,null,null,null,"LV Network Domestic","%",null,null,null,null,null,null,null,null,null,null,null,null,null,53]
[null,null,null,null,null,"LV Network Non-Domestic Non-CT","%",null,null,null,null,null,null,null,null,null,null,null,null,null,53]
[null,null,null,null,null,"LV HH Metered","%",null,null,null,null,null,null,null,null,null,null,null,null,null,53]
[null,null,null,null,null,"LV Sub HH Metered","%",null,null,null,null,null,null,null,null,null,null,null,null,null,53]
[null,null,null,null,null,"HV HH Metered","%",null,null,null,null,null,null,null,null,null,null,null,null,null,53]
[null,null,null,null,null,"NHH UMS category A","%",null,null,{"$f":"CHOOSE(year_selection, L925,M925,N925,O925,P925,Q925,R925,S925)","v":0.49697810880721294},null,0.49707001522070016,0.49665466892897836,0.49665466892897836,{"$f":"HLOOKUP(F925,'ARP_Load characteristics'!J$5:AP$97,U925,FALSE)","v":0.49697810880721294},{"$f":"O925","v":0.49697810880721294},0.49697810880721294,0.49697810880721294,0.49697810880721294,null,53]
[null,null,null,null,null,"NHH UMS category B","%",null,null,{"$f":"CHOOSE(year_selection, L926,M926,N926,O926,P926,Q926,R926,S926)","v":0.76621824925348925},null,0.76024126512044587,0.76137971074102584,0.76288359326404043,{"$f":"HLOOKUP(F926,'ARP_Load characteristics'!J$5:AP$97,U926,FALSE)","v":0.76621824925348925},{"$f":"O926","v":0.76621824925348925},0.76621824925348925,0.76621824925348925,0.76621824925348925,null,53]
[null,null,null,null,null,"NHH UMS category C","%",null,null,{"$f":"CHOOSE(year_selection, L927,M927,N927,O927,P927,Q927,R927,S927)","v":0.56976158556516499},null,0.6257604084802284,0.60587026525892596,0.58473866552339693,{"$f":"HLOOKUP(F927,'ARP_Load characteristics'!J$5:AP$97,U927,FALSE)","v":0.56976158556516499},{"$f":"O927","v":0.56976158556516499},0.56976158556516499,0.56976158556516499,0.56976158556516499,null,53]
[null,null,null,null,null,"NHH UMS category D","%",null,null,{"$f":"CHOOSE(year_selection, L928,M928,N928,O928,P928,Q928,R928,S928)","v":0.25330638930770993},null,0.25433891339122666,0.25353620134181493,0.25353620134181493,{"$f":"HLOOKUP(F928,'ARP_Load characteristics'!J$5:AP$97,U928,FALSE)","v":0.25330638930770993},{"$f":"O928","v":0.25330638930770993},0.25330638930770993,0.25330638930770993,0.25330638930770993,null,53]
[null,null,null,null,null,"LV UMS (Pseudo HH Metered)","%",null,null,null,null,null,null,null,null,null,null,null,null,null,53]
[null,null,null,null,null,"LV Generation NHH or Aggregate HH","%",null,null,null,null,null,null,null,null,null,null,null,null,null,53]
[null,null,null,null,null,"LV Sub Generation NHH","%",null,null,null,null,null,null,null,null,null,null,null,null,null,53]
[null,null,null,null,null,"LV Generation Intermittent","%",null,null,null,null,null,null,null,null,null,null,null,null,null,53]
[null,null,null,null,null,"LV Generation Intermittent no RP charge","%",null,null,null,null,null,null,null,null,null,null,null,null,null,53]
[null,null,null,null,null,"LV Generation Non-Intermittent","%",null,null,null,null,null,null,null,null,null,null,null,null,null,53]
[null,null,null,null,null,"LV Generation Non-Intermittent no RP charge","%",null,null,null,null,null,null,null,null,null,null,null,null,null,53]
[null,null,null,null,null,"LV Sub Generation Intermittent","%",null,null,null,null,null,null,null,null,null,null,null,null,null,53]
[null,null,null,null,null,"LV Sub Generation Intermittent no RP charge","%",null,null,null,null,null,null,null,null,null,null,null,null,null,53]
[null,null,null,null,null,"LV Sub Generation Non-Intermittent","%",null,null,null,null,null,null,null,null,null,null,null,null,null,53]
[null,null,null,null,null,"LV Sub Generation Non-Intermittent no RP charge","%",null,null,null,null,null,null,null,null,null,null,null,null,null,53]
[null,null,null,null,null,"HV Generation Intermittent","%",null,null,null,null,null,null,null,null,null,null,null,null,null,53]
[null,null,null,null,null,"HV Generation Intermittent no RP charge","%",null,null,null,null,null,null,null,null,null,null,null,null,null,53]
[null,null,null,null,null,"HV Generation Non-Intermittent","%",null,null,null,null,null,null,null,null,null,null,null,null,null,53]
[null,null,null,null,null,"HV Generation Non-Intermittent no RP charge","%",null,null,null,null,null,null,null,null,null,null,null,null,null,53]
[]
[null,null,{"$f":"INDEX('Version control'!$H$34:$H$59,MATCH($A$1,'Version control'!$F$34:$F$59,0),1)&\"-G: Split of units by distribution timeband - Unit rate 2\"","v":"Input 501-G: Split of units by distribution timeband - Unit rate 2"}]
[]
[null,null,null,null,"Red / Black",null,null,null,">",null,null,null,null,null,null,null,null,null,null,null,"Paragraphs 42 (c) & 45"]
[null,null,null,null,null,"Domestic Unrestricted","%",null,null,null,null,null,null,null,null,null,null,null,null,null,61]
[null,null,null,null,null,"Domestic Two Rate","%",null,null,{"$f":"CHOOSE(year_selection, L949,M949,N949,O949,P949,Q949,R949,S949)","v":0},null,0,0,0,{"$f":"HLOOKUP(F949,'ARP_Load characteristics'!J$5:AP$97,U949,FALSE)","v":0},{"$f":"O949","v":0},{"$f":"P949","v":0},0,0,null,61]
[null,null,null,null,null,"Domestic Off Peak (related MPAN)","%",null,null,null,null,null,null,null,null,null,null,null,null,null,61]
[null,null,null,null,null,"Small Non Domestic Unrestricted","%",null,null,null,null,null,null,null,null,null,null,null,null,null,61]
[null,null,null,null,null,"Small Non Domestic Two Rate","%",null,null,{"$f":"CHOOSE(year_selection, L952,M952,N952,O952,P952,Q952,R952,S952)","v":0},null,0,0,0,{"$f":"HLOOKUP(F952,'ARP_Load characteristics'!J$5:AP$97,U952,FALSE)","v":0},{"$f":"O952","v":0},{"$f":"P952","v":0},0,0,null,61]
[null,null,null,null,null,"Small Non Domestic Off Peak (related MPAN)","%",null,null,null,null,null,null,null,null,null,null,null,null,null,61]
[null,null,null,null,null,"LV Medium Non-Domestic","%",null,null,{"$f":"CHOOSE(year_selection, L954,M954,N954,O954,P954,Q954,R954,S954)","v":0},null,0,0,0,{"$f":"HLOOKUP(F954,'ARP_Load characteristics'!J$5:AP$97,U954,FALSE)","v":0},{"$f":"O954","v":0},0,0,0,null,61]
[null,null,null,null,null,"LV Sub Medium Non-Domestic","%",null,null,{"$f":"CHOOSE(year_selection, L955,M955,N955,O955,P955,Q955,R955,S955)","v":0},null,0,0,0,{"$f":"HLOOKUP(F955,'ARP_Load characteristics'!J$5:AP$97,U955,FALSE)","v":0},{"$f":"O955","v":0},0,0,0,null,61]
[null,null,null,null,null,"HV Medium Non-Domestic","%",null,null,{"$f":"CHOOSE(year_selection, L956,M956,N956,O956,P956,Q956,R956,S956)","v":0},null,0,0,0,{"$f":"HLOOKUP(F956,'ARP_Load characteristics'!J$5:AP$97,U956,FALSE)","v":0},{"$f":"O956","v":0},0,0,0,null,61]
[null,null,null,null,null,"LV Network Domestic","%",null,null,null,null,null,null,null,null,null,null,null,null,null,61]
[null,null,null,null,null,"LV Network Non-Domestic Non-CT","%",null,null,null,null,null,null,null,null,null,null,null,null,null,61]
[null,null,null,null,null,"LV HH Metered","%",null,null,null,null,null,null,null,null,null,null,null,null,null,61]
[null,null,null,null,null,"LV Sub HH Metered","%",null,null,null,null,null,null,null,null,null,null,null,null,null,61]
[null,null,null,null,null,"HV HH Metered","%",null,null,null,null,null,null,null,null,null,null,null,null,null,61]
[null,null,null,null,null,"NHH UMS category A","%",null,null,null,null,null,null,null,null,null,null,null,null,null,61]
[null,null,null,null,null,"NHH UMS category B","%",null,null,null,null,null,null,null,null,null,null,null,null,null,61]
[null,null,null,null,null,"NHH UMS category C","%",null,null,null,null,null,null,null,null,null,null,null,null,null,61]
[null,null,null,null,null,"NHH UMS category D","%",null,null,null,null,null,null,null,null,null,null,null,null,null,61]
[null,null,null,null,null,"LV UMS (Pseudo HH Metered)","%",null,null,null,null,null,null,null,null,null,null,null,null,null,61]
[null,null,null,null,null,"LV Generation NHH or Aggregate HH","%",null,null,null,null,null,null,null,null,null,null,null,null,null,61]
[null,null,null,null,null,"LV Sub Generation NHH","%",null,null,null,null,null,null,null,null,null,null,null,null,null,61]
[null,null,null,null,null,"LV Generation Intermittent","%",null,null,null,null,null,null,null,null,null,null,null,null,null,61]
[null,null,null,null,null,"LV Generation Intermittent no RP charge","%",null,null,null,null,null,null,null,null,null,null,null,null,null,61]
[null,null,null,null,null,"LV Generation Non-Intermittent","%",null,null,null,null,null,null,null,null,null,null,null,null,null,61]
[null,null,null,null,null,"LV Generation Non-Intermittent no RP charge","%",null,null,null,null,null,null,null,null,null,null,null,null,null,61]
[null,null,null,null,null,"LV Sub Generation Intermittent","%",null,null,null,null,null,null,null,null,null,null,null,null,null,61]
[null,null,null,null,null,"LV Sub Generation Intermittent no RP charge","%",null,null,null,null,null,null,null,null,null,null,null,null,null,61]
[null,null,null,null,null,"LV Sub Generation Non-Intermittent","%",null,null,null,null,null,null,null,null,null,null,null,null,null,61]
[null,null,null,null,null,"LV Sub Generation Non-Intermittent no RP charge","%",null,null,null,null,null,null,null,null,null,null,null,null,null,61]
[null,null,null,null,null,"HV Generation Intermittent","%",null,null,null,null,null,null,null,null,null,null,null,null,null,61]
[null,null,null,null,null,"HV Generation Intermittent no RP charge","%",null,null,null,null,null,null,null,null,null,null,null,null,null,61]
[null,null,null,null,null,"HV Generation Non-Intermittent","%",null,null,null,null,null,null,null,null,null,null,null,null,null,61]
[null,null,null,null,null,"HV Generation Non-Intermittent no RP charge","%",null,null,null,null,null,null,null,null,null,null,null,null,null,61]
[]
[null,null,null,null,"Amber / Yellow"]
[null,null,null,null,null,"Domestic Unrestricted","%",null,null,null,null,null,null,null,null,null,null,null,null,null,67]
[null,null,null,null,null,"Domestic Two Rate","%",null,null,{"$f":"CHOOSE(year_selection, L984,M984,N984,O984,P984,Q984,R984,S984)","v":3.225130677046157E-2},null,2.9699709801727828E-2,3.1465567012246946E-2,3.2141209749072912E-2,{"$f":"HLOOKUP(F984,'ARP_Load characteristics'!J$5:AP$97,U984,FALSE)","v":3.225130677046157E-2},{"$f":"O984","v":3.225130677046157E-2},{"$f":"P984","v":3.225130677046157E-2},3.225130677046157E-2,3.225130677046157E-2,null,67]
[null,null,null,null,null,"Domestic Off Peak (related MPAN)","%",null,null,null,null,null,null,null,null,null,null,null,null,null,67]
[null,null,null,null,null,"Small Non Domestic Unrestricted","%",null,null,null,null,null,null,null,null,null,null,null,null,null,67]
[null,null,null,null,null,"Small Non Domestic Two Rate","%",null,null,{"$f":"CHOOSE(year_selection, L987,M987,N987,O987,P987,Q987,R987,S987)","v":6.4280241541318436E-2},null,6.0969126442189762E-2,6.3313320492526734E-2,6.4256968929830141E-2,{"$f":"HLOOKUP(F987,'ARP_Load characteristics'!J$5:AP$97,U987,FALSE)","v":6.4280241541318436E-2},{"$f":"O987","v":6.4280241541318436E-2},{"$f":"P987","v":6.4280241541318436E-2},6.4280241541318436E-2,6.4280241541318436E-2,null,67]
[null,null,null,null,null,"Small Non Domestic Off Peak (related MPAN)","%",null,null,null,null,null,null,null,null,null,null,null,null,null,67]
[null,null,null,null,null,"LV Medium Non-Domestic","%",null,null,{"$f":"CHOOSE(year_selection, L989,M989,N989,O989,P989,Q989,R989,S989)","v":9.302898512191465E-3},null,6.0293321970575882E-3,7.2461150312571852E-3,8.6731226844968898E-3,{"$f":"HLOOKUP(F989,'ARP_Load characteristics'!J$5:AP$97,U989,FALSE)","v":9.302898512191465E-3},{"$f":"O989","v":9.302898512191465E-3},9.302898512191465E-3,9.302898512191465E-3,9.302898512191465E-3,null,67]
[null,null,null,null,null,"LV Sub Medium Non-Domestic","%",null,null,3.0426290789113994E-3,null,1.699813362606355E-3,0,0,{"$f":"HLOOKUP(F990,'ARP_Load characteristics'!J$5:AP$97,U990,FALSE)","v":3.0426290789113994E-3},{"$f":"O990","v":3.0426290789113994E-3},3.0426290789113994E-3,3.0426290789113994E-3,3.0426290789113994E-3,null,67]
[null,null,null,null,null,"HV Medium Non-Domestic","%",null,null,0,null,0,0,0,{"$f":"HLOOKUP(F991,'ARP_Load characteristics'!J$5:AP$97,U991,FALSE)","v":0},{"$f":"O991","v":0},0,0,0,null,67]
[null,null,null,null,null,"LV Network Domestic","%",null,null,1,null,1,1,1,1,1,1,1,1,null,67]
[null,null,null,null,null,"LV Network Non-Domestic Non-CT","%",null,null,1,null,1,1,1,1,1,1,1,1,null,67]
[null,null,null,null,null,"LV HH Metered","%",null,null,1,null,1,1,1,1,1,1,1,1,null,67]
[null,null,null,null,null,"LV Sub HH Metered","%",null,null,1,null,1,1,1,1,1,1,1,1,null,67]
[null,null,null,null,null,"HV HH Metered","%",null,null,1,null,1,1,1,1,1,1,1,1,null,67]
[null,null,null,null,null,"NHH UMS category A","%",null,null,null,null,null,null,null,null,null,null,null,null,null,67]
[null,null,null,null,null,"NHH UMS category B","%",null,null,null,null,null,null,null,null,null,null,null,null,null,67]
[null,null,null,null,null,"NHH UMS category C","%",null,null,null,null,null,null,null,null,null,null,null,null,null,67]
[null,null,null,null,null,"NHH UMS category D","%",null,null,null,null,null,null,null,null,null,null,null,null,null,67]
[null,null,null,null,null,"LV UMS (Pseudo HH Metered)","%",null,null,{"$f":"CHOOSE(year_selection, L1001,M1001,N1001,O1001,P1001,Q1001,R1001,S1001)","v":1},null,1,1,1,1,1,1,1,1,null,67]
[null,null,null,null,null,"LV Generation NHH or Aggregate HH","%",null,null,null,null,null,null,null,null,null,null,null,null,null,67]
[null,null,null,null,null,"LV Sub Generation NHH","%",null,null,null,null,null,null,null,null,null,null,null,null,null,67]
[null,null,null,null,null,"LV Generation Intermittent","%",null,null,null,null,null,null,null,null,null,null,null,null,null,67]
[null,null,null,null,null,"LV Generation Intermittent no RP charge","%",null,null,null,null,null,null,null,null,null,null,null,null,null,67]
[null,null,null,null,null,"LV Generation Non-Intermittent","%",null,null,{"$f":"CHOOSE(year_selection, L1006,M1006,N1006,O1006,P1006,Q1006,R1006,S1006)","v":1},null,1,1,1,1,1,1,1,1,null,67]
[null,null,null,null,null,"LV Generation Non-Intermittent no RP charge","%",null,null,{"$f":"CHOOSE(year_selection, L1007,M1007,N1007,O1007,P1007,Q1007,R1007,S1007)","v":1},null,1,1,1,1,1,1,1,1,null,67]
[null,null,null,null,null,"LV Sub Generation Intermittent","%",null,null,null,null,null,null,null,null,null,null,null,null,null,67]
[null,null,null,null,null,"LV Sub Generation Intermittent no RP charge","%",null,null,null,null,null,null,null,null,null,null,null,null,null,67]
[null,null,null,null,null,"LV Sub Generation Non-Intermittent","%",null,null,{"$f":"CHOOSE(year_selection, L1010,M1010,N1010,O1010,P1010,Q1010,R1010,S1010)","v":1},null,1,1,1,1,1,1,1,1,null,67]
[null,null,null,null,null,"LV Sub Generation Non-Intermittent no RP charge","%",null,null,{"$f":"CHOOSE(year_selection, L1011,M1011,N1011,O1011,P1011,Q1011,R1011,S1011)","v":1},null,1,1,1,1,1,1,1,1,null,67]
[null,null,null,null,null,"HV Generation Intermittent","%",null,null,null,null,null,null,null,null,null,null,null,null,null,67]
[null,null,null,null,null,"HV Generation Intermittent no RP charge","%",null,null,null,null,null,null,null,null,null,null,null,null,null,67]
[null,null,null,null,null,"HV Generation Non-Intermittent","%",null,null,{"$f":"CHOOSE(year_selection, L1014,M1014,N1014,O1014,P1014,Q1014,R1014,S1014)","v":1},null,1,1,1,1,1,1,1,1,null,67]
[null,null,null,null,null,"HV Generation Non-Intermittent no RP charge","%",null,null,{"$f":"CHOOSE(year_selection, L1015,M1015,N1015,O1015,P1015,Q1015,R1015,S1015)","v":1},null,1,1,1,1,1,1,1,1,null,67]
[]
[null,null,null,null,"Green"]
[null,null,null,null,null,"Domestic Unrestricted","%",null,null,null,null,null,null,null,null,null,null,null,null,null,73]
[null,null,null,null,null,"Domestic Two Rate","%",null,null,{"$f":"CHOOSE(year_selection, L1019,M1019,N1019,O1019,P1019,Q1019,R1019,S1019)","v":0.96774869322953838},null,0.97030029019827213,0.96853443298775288,0.96785879025092703,{"$f":"HLOOKUP(F1019,'ARP_Load characteristics'!J$5:AP$97,U1019,FALSE)","v":0.96774869322953838},{"$f":"O1019","v":0.96774869322953838},{"$f":"P1019","v":0.96774869322953838},0.96774869322953838,0.96774869322953838,null,73]
[null,null,null,null,null,"Domestic Off Peak (related MPAN)","%",null,null,null,null,null,null,null,null,null,null,null,null,null,73]
[null,null,null,null,null,"Small Non Domestic Unrestricted","%",null,null,null,null,null,null,null,null,null,null,null,null,null,73]
[null,null,null,null,null,"Small Non Domestic Two Rate","%",null,null,{"$f":"CHOOSE(year_selection, L1022,M1022,N1022,O1022,P1022,Q1022,R1022,S1022)","v":0.93571975845868149},null,0.93903087355781023,0.93668667950747331,0.93574303107016987,{"$f":"HLOOKUP(F1022,'ARP_Load characteristics'!J$5:AP$97,U1022,FALSE)","v":0.93571975845868149},{"$f":"O1022","v":0.93571975845868149},{"$f":"P1022","v":0.93571975845868149},0.93571975845868149,0.93571975845868149,null,73]
[null,null,null,null,null,"Small Non Domestic Off Peak (related MPAN)","%",null,null,null,null,null,null,null,null,null,null,null,null,null,73]
[null,null,null,null,null,"LV Medium Non-Domestic","%",null,null,{"$f":"CHOOSE(year_selection, L1024,M1024,N1024,O1024,P1024,Q1024,R1024,S1024)","v":0.99069710148780865},null,0.99397066780294241,0.99275388496874284,0.99132687731550317,{"$f":"HLOOKUP(F1024,'ARP_Load characteristics'!J$5:AP$97,U1024,FALSE)","v":0.99069710148780865},{"$f":"O1024","v":0.99069710148780865},0.99069710148780865,0.99069710148780865,0.99069710148780865,null,73]
[null,null,null,null,null,"LV Sub Medium Non-Domestic","%",null,null,{"$f":"CHOOSE(year_selection, L1025,M1025,N1025,O1025,P1025,Q1025,R1025,S1025)","v":0.9969573709210886},null,0.99830018663739362,1,1,{"$f":"HLOOKUP(F1025,'ARP_Load characteristics'!J$5:AP$97,U1025,FALSE)","v":0.9969573709210886},{"$f":"O1025","v":0.9969573709210886},0.9969573709210886,0.9969573709210886,0.9969573709210886,null,73]
[null,null,null,null,null,"HV Medium Non-Domestic","%",null,null,{"$f":"CHOOSE(year_selection, L1026,M1026,N1026,O1026,P1026,Q1026,R1026,S1026)","v":1},null,1,1,1,{"$f":"HLOOKUP(F1026,'ARP_Load characteristics'!J$5:AP$97,U1026,FALSE)","v":1},{"$f":"O1026","v":1},1,1,1,null,73]
[null,null,null,null,null,"LV Network Domestic","%",null,null,null,null,null,null,null,null,null,null,null,null,null,73]
[null,null,null,null,null,"LV Network Non-Domestic Non-CT","%",null,null,null,null,null,null,null,null,null,null,null,null,null,73]
[null,null,null,null,null,"LV HH Metered","%",null,null,null,null,null,null,null,null,null,null,null,null,null,73]
[null,null,null,null,null,"LV Sub HH Metered","%",null,null,null,null,null,null,null,null,null,null,null,null,null,73]
[null,null,null,null,null,"HV HH Metered","%",null,null,null,null,null,null,null,null,null,null,null,null,null,73]
[null,null,null,null,null,"NHH UMS category A","%",null,null,null,null,null,null,null,null,null,null,null,null,null,73]
[null,null,null,null,null,"NHH UMS category B","%",null,null,null,null,null,null,null,null,null,null,null,null,null,73]
[null,null,null,null,null,"NHH UMS category C","%",null,null,null,null,null,null,null,null,null,null,null,null,null,73]
[null,null,null,null,null,"NHH UMS category D","%",null,null,null,null,null,null,null,null,null,null,null,null,null,73]
[null,null,null,null,null,"LV UMS (Pseudo HH Metered)","%",null,null,null,null,null,null,null,null,null,null,null,null,null,73]
[null,null,null,null,null,"LV Generation NHH or Aggregate HH","%",null,null,null,null,null,null,null,null,null,null,null,null,null,73]
[null,null,null,null,null,"LV Sub Generation NHH","%",null,null,null,null,null,null,null,null,null,null,null,null,null,73]
[null,null,null,null,null,"LV Generation Intermittent","%",null,null,null,null,null,null,null,null,null,null,null,null,null,73]
[null,null,null,null,null,"LV Generation Intermittent no RP charge","%",null,null,null,null,null,null,null,null,null,null,null,null,null,73]
[null,null,null,null,null,"LV Generation Non-Intermittent","%",null,null,null,null,null,null,null,null,null,null,null,null,null,73]
[null,null,null,null,null,"LV Generation Non-Intermittent no RP charge","%",null,null,null,null,null,null,null,null,null,null,null,null,null,73]
[null,null,null,null,null,"LV Sub Generation Intermittent","%",null,null,null,null,null,null,null,null,null,null,null,null,null,73]
[null,null,null,null,null,"LV Sub Generation Intermittent no RP charge","%",null,null,null,null,null,null,null,null,null,null,null,null,null,73]
[null,null,null,null,null,"LV Sub Generation Non-Intermittent","%",null,null,null,null,null,null,null,null,null,null,null,null,null,73]
[null,null,null,null,null,"LV Sub Generation Non-Intermittent no RP charge","%",null,null,null,null,null,null,null,null,null,null,null,null,null,73]
[null,null,null,null,null,"HV Generation Intermittent","%",null,null,null,null,null,null,null,null,null,null,null,null,null,73]
[null,null,null,null,null,"HV Generation Intermittent no RP charge","%",null,null,null,null,null,null,null,null,null,null,null,null,null,73]
[null,null,null,null,null,"HV Generation Non-Intermittent","%",null,null,null,null,null,null,null,null,null,null,null,null,null,73]
[null,null,null,null,null,"HV Generation Non-Intermittent no RP charge","%",null,null,null,null,null,null,null,null,null,null,null,null,null,73]
[]
[null,null,{"$f":"INDEX('Version control'!$H$34:$H$59,MATCH($A$1,'Version control'!$F$34:$F$59,0),1)&\"-H: Split of units by distribution timeband - Unit rate 3\"","v":"Input 501-H: Split of units by distribution timeband - Unit rate 3"}]
[]
[null,null,null,null,"Red / Black",null,null,null,">",null,null,null,null,null,null,null,null,null,null,null,"Paragraphs 42 (c) & 45"]
[null,null,null,null,null,"Domestic Unrestricted","%"]
[null,null,null,null,null,"Domestic Two Rate","%"]
[null,null,null,null,null,"Domestic Off Peak (related MPAN)","%"]
[null,null,null,null,null,"Small Non Domestic Unrestricted","%"]
[null,null,null,null,null,"Small Non Domestic Two Rate","%"]
[null,null,null,null,null,"Small Non Domestic Off Peak (related MPAN)","%"]
[null,null,null,null,null,"LV Medium Non-Domestic","%"]
[null,null,null,null,null,"LV Sub Medium Non-Domestic","%"]
[null,null,null,null,null,"HV Medium Non-Domestic","%"]
[null,null,null,null,null,"LV Network Domestic","%"]
[null,null,null,null,null,"LV Network Non-Domestic Non-CT","%"]
[null,null,null,null,null,"LV HH Metered","%"]
[null,null,null,null,null,"LV Sub HH Metered","%"]
[null,null,null,null,null,"HV HH Metered","%"]
[null,null,null,null,null,"NHH UMS category A","%"]
[null,null,null,null,null,"NHH UMS category B","%"]
[null,null,null,null,null,"NHH UMS category C","%"]
[null,null,null,null,null,"NHH UMS category D","%"]
[null,null,null,null,null,"LV UMS (Pseudo HH Metered)","%"]
[null,null,null,null,null,"LV Generation NHH or Aggregate HH","%"]
[null,null,null,null,null,"LV Sub Generation NHH","%"]
[null,null,null,null,null,"LV Generation Intermittent","%"]
[null,null,null,null,null,"LV Generation Intermittent no RP charge","%"]
[null,null,null,null,null,"LV Generation Non-Intermittent","%"]
[null,null,null,null,null,"LV Generation Non-Intermittent no RP charge","%"]
[null,null,null,null,null,"LV Sub Generation Intermittent","%"]
[null,null,null,null,null,"LV Sub Generation Intermittent no RP charge","%"]
[null,null,null,null,null,"LV Sub Generation Non-Intermittent","%"]
[null,null,null,null,null,"LV Sub Generation Non-Intermittent no RP charge","%"]
[null,null,null,null,null,"HV Generation Intermittent","%"]
[null,null,null,null,null,"HV Generation Intermittent no RP charge","%"]
[null,null,null,null,null,"HV Generation Non-Intermittent","%"]
[null,null,null,null,null,"HV Generation Non-Intermittent no RP charge","%"]
[]
[null,null,null,null,"Amber / Yellow"]
[null,null,null,null,null,"Domestic Unrestricted","%"]
[null,null,null,null,null,"Domestic Two Rate","%"]
[null,null,null,null,null,"Domestic Off Peak (related MPAN)","%"]
[null,null,null,null,null,"Small Non Domestic Unrestricted","%"]
[null,null,null,null,null,"Small Non Domestic Two Rate","%"]
[null,null,null,null,null,"Small Non Domestic Off Peak (related MPAN)","%"]
[null,null,null,null,null,"LV Medium Non-Domestic","%"]
[null,null,null,null,null,"LV Sub Medium Non-Domestic","%"]
[null,null,null,null,null,"HV Medium Non-Domestic","%"]
[null,null,null,null,null,"LV Network Domestic","%"]
[null,null,null,null,null,"LV Network Non-Domestic Non-CT","%"]
[null,null,null,null,null,"LV HH Metered","%"]
[null,null,null,null,null,"LV Sub HH Metered","%"]
[null,null,null,null,null,"HV HH Metered","%"]
[null,null,null,null,null,"NHH UMS category A","%"]
[null,null,null,null,null,"NHH UMS category B","%"]
[null,null,null,null,null,"NHH UMS category C","%"]
[null,null,null,null,null,"NHH UMS category D","%"]
[null,null,null,null,null,"LV UMS (Pseudo HH Metered)","%"]
[null,null,null,null,null,"LV Generation NHH or Aggregate HH","%"]
[null,null,null,null,null,"LV Sub Generation NHH","%"]
[null,null,null,null,null,"LV Generation Intermittent","%"]
[null,null,null,null,null,"LV Generation Intermittent no RP charge","%"]
[null,null,null,null,null,"LV Generation Non-Intermittent","%"]
[null,null,null,null,null,"LV Generation Non-Intermittent no RP charge","%"]
[null,null,null,null,null,"LV Sub Generation Intermittent","%"]
[null,null,null,null,null,"LV Sub Generation Intermittent no RP charge","%"]
[null,null,null,null,null,"LV Sub Generation Non-Intermittent","%"]
[null,null,null,null,null,"LV Sub Generation Non-Intermittent no RP charge","%"]
[null,null,null,null,null,"HV Generation Intermittent","%"]
[null,null,null,null,null,"HV Generation Intermittent no RP charge","%"]
[null,null,null,null,null,"HV Generation Non-Intermittent","%"]
[null,null,null,null,null,"HV Generation Non-Intermittent no RP charge","%"]
[]
[null,null,null,null,"Green"]
[null,null,null,null,null,"Domestic Unrestricted","%"]
[null,null,null,null,null,"Domestic Two Rate","%"]
[null,null,null,null,null,"Domestic Off Peak (related MPAN)","%"]
[null,null,null,null,null,"Small Non Domestic Unrestricted","%"]
[null,null,null,null,null,"Small Non Domestic Two Rate","%"]
[null,null,null,null,null,"Small Non Domestic Off Peak (related MPAN)","%"]
[null,null,null,null,null,"LV Medium Non-Domestic","%"]
[null,null,null,null,null,"LV Sub Medium Non-Domestic","%"]
[null,null,null,null,null,"HV Medium Non-Domestic","%"]
[null,null,null,null,null,"LV Network Domestic","%",null,null,{"$f":"CHOOSE(year_selection, L1134,M1134,N1134,O1134,P1134,Q1134,R1134,S1134)","v":1},null,1,1,1,1,1,1,1,1]
[null,null,null,null,null,"LV Network Non-Domestic Non-CT","%",null,null,{"$f":"CHOOSE(year_selection, L1135,M1135,N1135,O1135,P1135,Q1135,R1135,S1135)","v":1},null,1,1,1,1,1,1,1,1]
[null,null,null,null,null,"LV HH Metered","%",null,null,{"$f":"CHOOSE(year_selection, L1136,M1136,N1136,O1136,P1136,Q1136,R1136,S1136)","v":1},null,1,1,1,1,1,1,1,1]
[null,null,null,null,null,"LV Sub HH Metered","%",null,null,{"$f":"CHOOSE(year_selection, L1137,M1137,N1137,O1137,P1137,Q1137,R1137,S1137)","v":1},null,1,1,1,1,1,1,1,1]
[null,null,null,null,null,"HV HH Metered","%",null,null,{"$f":"CHOOSE(year_selection, L1138,M1138,N1138,O1138,P1138,Q1138,R1138,S1138)","v":1},null,1,1,1,1,1,1,1,1]
[null,null,null,null,null,"NHH UMS category A","%"]
[null,null,null,null,null,"NHH UMS category B","%"]
[null,null,null,null,null,"NHH UMS category C","%"]
[null,null,null,null,null,"NHH UMS category D","%"]
[null,null,null,null,null,"LV UMS (Pseudo HH Metered)","%",null,null,{"$f":"CHOOSE(year_selection, L1143,M1143,N1143,O1143,P1143,Q1143,R1143,S1143)","v":1},null,1,1,1,1,1,1,1,1]
[null,null,null,null,null,"LV Generation NHH or Aggregate HH","%"]
[null,null,null,null,null,"LV Sub Generation NHH","%"]
[null,null,null,null,null,"LV Generation Intermittent","%"]
[null,null,null,null,null,"LV Generation Intermittent no RP charge","%"]
[null,null,null,null,null,"LV Generation Non-Intermittent","%",null,null,{"$f":"CHOOSE(year_selection, L1148,M1148,N1148,O1148,P1148,Q1148,R1148,S1148)","v":1},null,1,1,1,1,1,1,1,1]
[null,null,null,null,null,"LV Generation Non-Intermittent no RP charge","%",null,null,{"$f":"CHOOSE(year_selection, L1149,M1149,N1149,O1149,P1149,Q1149,R1149,S1149)","v":1},null,1,1,1,1,1,1,1,1]
[null,null,null,null,null,"LV Sub Generation Intermittent","%"]
[null,null,null,null,null,"LV Sub Generation Intermittent no RP charge","%"]
[null,null,null,null,null,"LV Sub Generation Non-Intermittent","%",null,null,{"$f":"CHOOSE(year_selection, L1152,M1152,N1152,O1152,P1152,Q1152,R1152,S1152)","v":1},null,1,1,1,1,1,1,1,1]
[null,null,null,null,null,"LV Sub Generation Non-Intermittent no RP charge","%",null,null,{"$f":"CHOOSE(year_selection, L1153,M1153,N1153,O1153,P1153,Q1153,R1153,S1153)","v":1},null,1,1,1,1,1,1,1,1]
[null,null,null,null,null,"HV Generation Intermittent","%"]
[null,null,null,null,null,"HV Generation Intermittent no RP charge","%"]
[null,null,null,null,null,"HV Generation Non-Intermittent","%",null,null,{"$f":"CHOOSE(year_selection, L1156,M1156,N1156,O1156,P1156,Q1156,R1156,S1156)","v":1},null,1,1,1,1,1,1,1,1]
[null,null,null,null,null,"HV Generation Non-Intermittent no RP charge","%",null,null,{"$f":"CHOOSE(year_selection, L1157,M1157,N1157,O1157,P1157,Q1157,R1157,S1157)","v":1},null,1,1,1,1,1,1,1,1]
[]
[null,"Service model asset values"]
[]
[null,null,"Service model costs should be entered per customer or per MWh for unmetered customers"]
[]
[null,null,{"$f":"INDEX('Version control'!$H$34:$H$59,MATCH($A$1,'Version control'!$F$34:$F$59,0),1)&\"-I: LV customer service model asset values\"","v":"Input 501-I: LV customer service model asset values"}]
[]
[null,null,null,null,"LV customer service model asset values"]
[null,null,null,null,null,"Domestic Unrestricted","£ per MPAN",null,null,{"$f":"CHOOSE(year_selection, L1166,M1166,N1166,O1166,P1166,Q1166,R1166,S1166)","v":265.56703336591607},null,null,null,null,233.25987618636759,{"$f":"O1166*'ARP_General inputs'!P$46/'ARP_General inputs'!O$46","v":240.9974610760448},{"$f":"P1166*'ARP_General inputs'!Q$46/'ARP_General inputs'!P$46","v":248.92376754839708},{"$f":"Q1166*'ARP_General inputs'!R$46/'ARP_General inputs'!Q$46","v":257.11076695092856},{"$f":"R1166*'ARP_General inputs'!S$46/'ARP_General inputs'!R$46","v":265.56703336591607}]
[null,null,null,null,null,"Domestic Two Rate","£ per MPAN",null,null,265.56703336591607,null,null,null,null,233.25987618636759,{"$f":"O1167*'ARP_General inputs'!P$46/'ARP_General inputs'!O$46","v":240.9974610760448},{"$f":"P1167*'ARP_General inputs'!Q$46/'ARP_General inputs'!P$46","v":248.92376754839708},{"$f":"Q1167*'ARP_General inputs'!R$46/'ARP_General inputs'!Q$46","v":257.11076695092856},{"$f":"R1167*'ARP_General inputs'!S$46/'ARP_General inputs'!R$46","v":265.56703336591607}]
[null,null,null,null,null,"Domestic Off Peak (related MPAN)","£ per MPAN"]
[null,null,null,null,null,"Small Non Domestic Unrestricted","£ per MPAN",null,null,778.6787331173183,null,null,null,null,683.9497454702331,{"$f":"O1169*'ARP_General inputs'!P$46/'ARP_General inputs'!O$46","v":706.63739883939127},{"$f":"P1169*'ARP_General inputs'!Q$46/'ARP_General inputs'!P$46","v":729.87840960779727},{"$f":"Q1169*'ARP_General inputs'!R$46/'ARP_General inputs'!Q$46","v":753.88380757453774},{"$f":"R1169*'ARP_General inputs'!S$46/'ARP_General inputs'!R$46","v":778.6787331173183}]
[null,null,null,null,null,"Small Non Domestic Two Rate","£ per MPAN",null,null,778.6787331173183,null,null,null,null,683.9497454702331,{"$f":"O1170*'ARP_General inputs'!P$46/'ARP_General inputs'!O$46","v":706.63739883939127},{"$f":"P1170*'ARP_General inputs'!Q$46/'ARP_General inputs'!P$46","v":729.87840960779727},{"$f":"Q1170*'ARP_General inputs'!R$46/'ARP_General inputs'!Q$46","v":753.88380757453774},{"$f":"R1170*'ARP_General inputs'!S$46/'ARP_General inputs'!R$46","v":778.6787331173183}]
[null,null,null,null,null,"Small Non Domestic Off Peak (related MPAN)","£ per MPAN"]
[null,null,null,null,null,"LV Medium Non-Domestic","£ per MPAN",null,null,901.60686399247072,null,null,null,null,791.92323986195004,{"$f":"O1172*'ARP_General inputs'!P$46/'ARP_General inputs'!O$46","v":818.19253827161015},{"$f":"P1172*'ARP_General inputs'!Q$46/'ARP_General inputs'!P$46","v":845.10255127662788},{"$f":"Q1172*'ARP_General inputs'!R$46/'ARP_General inputs'!Q$46","v":872.89762344077701},{"$f":"R1172*'ARP_General inputs'!S$46/'ARP_General inputs'!R$46","v":901.60686399247072}]
[null,null,null,null,null,"LV Sub Medium Non-Domestic","£ per MPAN",null,null,649.9994487203694,null,null,null,null,570.92474547023312,{"$f":"O1173*'ARP_General inputs'!P$46/'ARP_General inputs'!O$46","v":589.86318767434284},{"$f":"P1173*'ARP_General inputs'!Q$46/'ARP_General inputs'!P$46","v":609.263543102943},{"$f":"Q1173*'ARP_General inputs'!R$46/'ARP_General inputs'!Q$46","v":629.30196816975865},{"$f":"R1173*'ARP_General inputs'!S$46/'ARP_General inputs'!R$46","v":649.9994487203694}]
[null,null,null,null,null,"HV Medium Non-Domestic","£ per MPAN"]
[null,null,null,null,null,"LV Network Domestic","£ per MPAN",null,null,265.56703336591607,null,null,null,null,233.25987618636759,{"$f":"O1175*'ARP_General inputs'!P$46/'ARP_General inputs'!O$46","v":240.9974610760448},{"$f":"P1175*'ARP_General inputs'!Q$46/'ARP_General inputs'!P$46","v":248.92376754839708},{"$f":"Q1175*'ARP_General inputs'!R$46/'ARP_General inputs'!Q$46","v":257.11076695092856},{"$f":"R1175*'ARP_General inputs'!S$46/'ARP_General inputs'!R$46","v":265.56703336591607}]
[null,null,null,null,null,"LV Network Non-Domestic Non-CT","£ per MPAN",null,null,778.6787331173183,null,null,null,null,683.9497454702331,{"$f":"O1176*'ARP_General inputs'!P$46/'ARP_General inputs'!O$46","v":706.63739883939127},{"$f":"P1176*'ARP_General inputs'!Q$46/'ARP_General inputs'!P$46","v":729.87840960779727},{"$f":"Q1176*'ARP_General inputs'!R$46/'ARP_General inputs'!Q$46","v":753.88380757453774},{"$f":"R1176*'ARP_General inputs'!S$46/'ARP_General inputs'!R$46","v":778.6787331173183}]
[null,null,null,null,null,"LV HH Metered","£ per MPAN",null,null,1553.57127334398,null,null,null,null,1364.5739016393445,{"$f":"O1177*'ARP_General inputs'!P$46/'ARP_General inputs'!O$46","v":1409.8388935222031},{"$f":"P1177*'ARP_General inputs'!Q$46/'ARP_General inputs'!P$46","v":1456.2079095973265},{"$f":"Q1177*'ARP_General inputs'!R$46/'ARP_General inputs'!Q$46","v":1504.1019833663852},{"$f":"R1177*'ARP_General inputs'!S$46/'ARP_General inputs'!R$46","v":1553.57127334398}]
[null,null,null,null,null,"LV Sub HH Metered","£ per MPAN",null,null,1212.7293314605568,null,null,null,null,1065.1965724762726,{"$f":"O1178*'ARP_General inputs'!P$46/'ARP_General inputs'!O$46","v":1100.530762987217},{"$f":"P1178*'ARP_General inputs'!Q$46/'ARP_General inputs'!P$46","v":1136.7267630228184},{"$f":"Q1178*'ARP_General inputs'!R$46/'ARP_General inputs'!Q$46","v":1174.1132344769755},{"$f":"R1178*'ARP_General inputs'!S$46/'ARP_General inputs'!R$46","v":1212.7293314605568}]
[null,null,null,null,null,"HV HH Metered","£ per MPAN"]
[null,null,null,null,null,"NHH UMS category A","£ per MPAN"]
[null,null,null,null,null,"NHH UMS category B","£ per MPAN"]
[null,null,null,null,null,"NHH UMS category C","£ per MPAN"]
[null,null,null,null,null,"NHH UMS category D","£ per MPAN"]
[null,null,null,null,null,"LV UMS (Pseudo HH Metered)","£ per MPAN"]
[null,null,null,null,null,"LV Generation NHH or Aggregate HH","£ per MPAN",null,null,{"$f":"CHOOSE(year_selection, L1185,M1185,N1185,O1185,P1185,Q1185,R1185,S1185)","v":0},null,null,null,null,0,{"$f":"O1185*'ARP_General inputs'!P$46/'ARP_General inputs'!O$46","v":0},{"$f":"P1185*'ARP_General inputs'!Q$46/'ARP_General inputs'!P$46","v":0},{"$f":"Q1185*'ARP_General inputs'!R$46/'ARP_General inputs'!Q$46","v":0},{"$f":"R1185*'ARP_General inputs'!S$46/'ARP_General inputs'!R$46","v":0}]
[null,null,null,null,null,"LV Sub Generation NHH","£ per MPAN",null,null,0,null,null,null,null,0,{"$f":"O1186*'ARP_General inputs'!P$46/'ARP_General inputs'!O$46","v":0},{"$f":"P1186*'ARP_General inputs'!Q$46/'ARP_General inputs'!P$46","v":0},{"$f":"Q1186*'ARP_General inputs'!R$46/'ARP_General inputs'!Q$46","v":0},{"$f":"R1186*'ARP_General inputs'!S$46/'ARP_General inputs'!R$46","v":0}]
[null,null,null,null,null,"LV Generation Intermittent","£ per MPAN",null,null,0,null,null,null,null,0,{"$f":"O1187*'ARP_General inputs'!P$46/'ARP_General inputs'!O$46","v":0},{"$f":"P1187*'ARP_General inputs'!Q$46/'ARP_General inputs'!P$46","v":0},{"$f":"Q1187*'ARP_General inputs'!R$46/'ARP_General inputs'!Q$46","v":0},{"$f":"R1187*'ARP_General inputs'!S$46/'ARP_General inputs'!R$46","v":0}]
[null,null,null,null,null,"LV Generation Intermittent no RP charge","£ per MPAN",null,null,0,null,null,null,null,0,{"$f":"O1188*'ARP_General inputs'!P$46/'ARP_General inputs'!O$46","v":0},{"$f":"P1188*'ARP_General inputs'!Q$46/'ARP_General inputs'!P$46","v":0},{"$f":"Q1188*'ARP_General inputs'!R$46/'ARP_General inputs'!Q$46","v":0},{"$f":"R1188*'ARP_General inputs'!S$46/'ARP_General inputs'!R$46","v":0}]
[null,null,null,null,null,"LV Generation Non-Intermittent","£ per MPAN",null,null,0,null,null,null,null,0,{"$f":"O1189*'ARP_General inputs'!P$46/'ARP_General inputs'!O$46","v":0},{"$f":"P1189*'ARP_General inputs'!Q$46/'ARP_General inputs'!P$46","v":0},{"$f":"Q1189*'ARP_General inputs'!R$46/'ARP_General inputs'!Q$46","v":0},{"$f":"R1189*'ARP_General inputs'!S$46/'ARP_General inputs'!R$46","v":0}]
[null,null,null,null,null,"LV Generation Non-Intermittent no RP charge","£ per MPAN",null,null,0,null,null,null,null,0,{"$f":"O1190*'ARP_General inputs'!P$46/'ARP_General inputs'!O$46","v":0},{"$f":"P1190*'ARP_General inputs'!Q$46/'ARP_General inputs'!P$46","v":0},{"$f":"Q1190*'ARP_General inputs'!R$46/'ARP_General inputs'!Q$46","v":0},{"$f":"R1190*'ARP_General inputs'!S$46/'ARP_General inputs'!R$46","v":0}]
[null,null,null,null,null,"LV Sub Generation Intermittent","£ per MPAN",null,null,0,null,null,null,null,0,{"$f":"O1191*'ARP_General inputs'!P$46/'ARP_General inputs'!O$46","v":0},{"$f":"P1191*'ARP_General inputs'!Q$46/'ARP_General inputs'!P$46","v":0},{"$f":"Q1191*'ARP_General inputs'!R$46/'ARP_General inputs'!Q$46","v":0},{"$f":"R1191*'ARP_General inputs'!S$46/'ARP_General inputs'!R$46","v":0}]
[null,null,null,null,null,"LV Sub Generation Intermittent no RP charge","£ per MPAN",null,null,0,null,null,null,null,0,{"$f":"O1192*'ARP_General inputs'!P$46/'ARP_General inputs'!O$46","v":0},{"$f":"P1192*'ARP_General inputs'!Q$46/'ARP_General inputs'!P$46","v":0},{"$f":"Q1192*'ARP_General inputs'!R$46/'ARP_General inputs'!Q$46","v":0},{"$f":"R1192*'ARP_General inputs'!S$46/'ARP_General inputs'!R$46","v":0}]
[null,null,null,null,null,"LV Sub Generation Non-Intermittent","£ per MPAN",null,null,0,null,null,null,null,0,{"$f":"O1193*'ARP_General inputs'!P$46/'ARP_General inputs'!O$46","v":0},{"$f":"P1193*'ARP_General inputs'!Q$46/'ARP_General inputs'!P$46","v":0},{"$f":"Q1193*'ARP_General inputs'!R$46/'ARP_General inputs'!Q$46","v":0},{"$f":"R1193*'ARP_General inputs'!S$46/'ARP_General inputs'!R$46","v":0}]
[null,null,null,null,null,"LV Sub Generation Non-Intermittent no RP charge","£ per MPAN",null,null,0,null,null,null,null,0,{"$f":"O1194*'ARP_General inputs'!P$46/'ARP_General inputs'!O$46","v":0},{"$f":"P1194*'ARP_General inputs'!Q$46/'ARP_General inputs'!P$46","v":0},{"$f":"Q1194*'ARP_General inputs'!R$46/'ARP_General inputs'!Q$46","v":0},{"$f":"R1194*'ARP_General inputs'!S$46/'ARP_General inputs'!R$46","v":0}]
[null,null,null,null,null,"HV Generation Intermittent","£ per MPAN"]
[null,null,null,null,null,"HV Generation Intermittent no RP charge","£ per MPAN"]
[null,null,null,null,null,"HV Generation Non-Intermittent","£ per MPAN"]
[null,null,null,null,null,"HV Generation Non-Intermittent no RP charge","£ per MPAN"]
[]
[null,null,{"$f":"INDEX('Version control'!$H$34:$H$59,MATCH($A$1,'Version control'!$F$34:$F$59,0),1)&\"-J: HV customer service model asset values\"","v":"Input 501-J: HV customer service model asset values"}]
[]
[null,null,null,null,"HV customer service model asset values"]
[null,null,null,null,null,"Domestic Unrestricted","£ per MPAN"]
[null,null,null,null,null,"Domestic Two Rate","£ per MPAN"]
[null,null,null,null,null,"Domestic Off Peak (related MPAN)","£ per MPAN"]
[null,null,null,null,null,"Small Non Domestic Unrestricted","£ per MPAN"]
[null,null,null,null,null,"Small Non Domestic Two Rate","£ per MPAN"]
[null,null,null,null,null,"Small Non Domestic Off Peak (related MPAN)","£ per MPAN"]
[null,null,null,null,null,"LV Medium Non-Domestic","£ per MPAN"]
[null,null,null,null,null,"LV Sub Medium Non-Domestic","£ per MPAN"]
[null,null,null,null,null,"HV Medium Non-Domestic","£ per MPAN",null,null,{"$f":"CHOOSE(year_selection, L1211,M1211,N1211,O1211,P1211,Q1211,R1211,S1211)","v":11195.717873935706},null,null,null,null,9833.7196902502164,{"$f":"O1211*'ARP_General inputs'!P$46/'ARP_General inputs'!O$46","v":10159.919129813532},{"$f":"P1211*'ARP_General inputs'!Q$46/'ARP_General inputs'!P$46","v":10494.074653268637},{"$f":"Q1211*'ARP_General inputs'!R$46/'ARP_General inputs'!Q$46","v":10839.220413203862},{"$f":"R1211*'ARP_General inputs'!S$46/'ARP_General inputs'!R$46","v":11195.717873935706}]
[null,null,null,null,null,"LV Network Domestic","£ per MPAN"]
[null,null,null,null,null,"LV Network Non-Domestic Non-CT","£ per MPAN"]
[null,null,null,null,null,"LV HH Metered","£ per MPAN"]
[null,null,null,null,null,"LV Sub HH Metered","£ per MPAN"]
[null,null,null,null,null,"HV HH Metered","£ per MPAN",null,null,11195.717873935706,null,null,null,null,9833.7196902502164,{"$f":"O1216*'ARP_General inputs'!P$46/'ARP_General inputs'!O$46","v":10159.919129813532},{"$f":"P1216*'ARP_General inputs'!Q$46/'ARP_General inputs'!P$46","v":10494.074653268637},{"$f":"Q1216*'ARP_General inputs'!R$46/'ARP_General inputs'!Q$46","v":10839.220413203862},{"$f":"R1216*'ARP_General inputs'!S$46/'ARP_General inputs'!R$46","v":11195.717873935706}]
[null,null,null,null,null,"NHH UMS category A","£ per MPAN"]
[null,null,null,null,null,"NHH UMS category B","£ per MPAN"]
[null,null,null,null,null,"NHH UMS category C","£ per MPAN"]
[null,null,null,null,null,"NHH UMS category D","£ per MPAN"]
[null,null,null,null,null,"LV UMS (Pseudo HH Metered)","£ per MPAN"]
[null,null,null,null,null,"LV Generation NHH or Aggregate HH","£ per MPAN"]
[null,null,null,null,null,"LV Sub Generation NHH","£ per MPAN"]
[null,null,null,null,null,"LV Generation Intermittent","£ per MPAN"]
[null,null,null,null,null,"LV Generation Intermittent no RP charge","£ per MPAN"]
[null,null,null,null,null,"LV Generation Non-Intermittent","£ per MPAN"]
[null,null,null,null,null,"LV Generation Non-Intermittent no RP charge","£ per MPAN"]
[null,null,null,null,null,"LV Sub Generation Intermittent","£ per MPAN"]
[null,null,null,null,null,"LV Sub Generation Intermittent no RP charge","£ per MPAN"]
[null,null,null,null,null,"LV Sub Generation Non-Intermittent","£ per MPAN"]
[null,null,null,null,null,"LV Sub Generation Non-Intermittent no RP charge","£ per MPAN"]
[null,null,null,null,null,"HV Generation Intermittent","£ per MPAN",null,null,{"$f":"CHOOSE(year_selection, L1232,M1232,N1232,O1232,P1232,Q1232,R1232,S1232)","v":7006.7581165865458},null,null,null,null,6154.361518550475,{"$f":"O1232*'ARP_General inputs'!P$46/'ARP_General inputs'!O$46","v":6358.5110511237508},{"$f":"P1232*'ARP_General inputs'!Q$46/'ARP_General inputs'!P$46","v":6567.6398405890586},{"$f":"Q1232*'ARP_General inputs'!R$46/'ARP_General inputs'!Q$46","v":6783.6467891440625},{"$f":"R1232*'ARP_General inputs'!S$46/'ARP_General inputs'!R$46","v":7006.7581165865458}]
[null,null,null,null,null,"HV Generation Intermittent no RP charge","£ per MPAN",null,null,7006.7581165865458,null,null,null,null,6154.361518550475,{"$f":"O1233*'ARP_General inputs'!P$46/'ARP_General inputs'!O$46","v":6358.5110511237508},{"$f":"P1233*'ARP_General inputs'!Q$46/'ARP_General inputs'!P$46","v":6567.6398405890586},{"$f":"Q1233*'ARP_General inputs'!R$46/'ARP_General inputs'!Q$46","v":6783.6467891440625},{"$f":"R1233*'ARP_General inputs'!S$46/'ARP_General inputs'!R$46","v":7006.7581165865458}]
[null,null,null,null,null,"HV Generation Non-Intermittent","£ per MPAN",null,null,7006.7581165865458,null,null,null,null,6154.361518550475,{"$f":"O1234*'ARP_General inputs'!P$46/'ARP_General inputs'!O$46","v":6358.5110511237508},{"$f":"P1234*'ARP_General inputs'!Q$46/'ARP_General inputs'!P$46","v":6567.6398405890586},{"$f":"Q1234*'ARP_General inputs'!R$46/'ARP_General inputs'!Q$46","v":6783.6467891440625},{"$f":"R1234*'ARP_General inputs'!S$46/'ARP_General inputs'!R$46","v":7006.7581165865458}]
[null,null,null,null,null,"HV Generation Non-Intermittent no RP charge","£ per MPAN",null,null,7006.7581165865458,null,null,null,null,6154.361518550475,{"$f":"O1235*'ARP_General inputs'!P$46/'ARP_General inputs'!O$46","v":6358.5110511237508},{"$f":"P1235*'ARP_General inputs'!Q$46/'ARP_General inputs'!P$46","v":6567.6398405890586},{"$f":"Q1235*'ARP_General inputs'!R$46/'ARP_General inputs'!Q$46","v":6783.6467891440625},{"$f":"R1235*'ARP_General inputs'!S$46/'ARP_General inputs'!R$46","v":7006.7581165865458}]
[]
[null,null,{"$f":"INDEX('Version control'!$H$34:$H$59,MATCH($A$1,'Version control'!$F$34:$F$59,0),1)&\"-K: LV UMS customer service model asset values\"","v":"Input 501-K: LV UMS customer service model asset values"}]
[]
[null,null,null,null,"LV UMS customer service model asset values"]
[null,null,null,null,null,"Domestic Unrestricted","£/MWh/year"]
[null,null,null,null,null,"Domestic Two Rate","£/MWh/year"]
[null,null,null,null,null,"Domestic Off Peak (related MPAN)","£/MWh/year"]
[null,null,null,null,null,"Small Non Domestic Unrestricted","£/MWh/year"]
[null,null,null,null,null,"Small Non Domestic Two Rate","£/MWh/year"]
[null,null,null,null,null,"Small Non Domestic Off Peak (related MPAN)","£/MWh/year"]
[null,null,null,null,null,"LV Medium Non-Domestic","£/MWh/year"]
[null,null,null,null,null,"LV Sub Medium Non-Domestic","£/MWh/year"]
[null,null,null,null,null,"HV Medium Non-Domestic","£/MWh/year"]
[null,null,null,null,null,"LV Network Domestic","£/MWh/year"]
[null,null,null,null,null,"LV Network Non-Domestic Non-CT","£/MWh/year"]
[null,null,null,null,null,"LV HH Metered","£/MWh/year"]
[null,null,null,null,null,"LV Sub HH Metered","£/MWh/year"]
[null,null,null,null,null,"HV HH Metered","£/MWh/year"]
[null,null,null,null,null,"NHH UMS category A","£/MWh/year",null,null,{"$f":"CHOOSE(year_selection, L1254,M1254,N1254,O1254,P1254,Q1254,R1254,S1254)","v":300.20667715087131},null,null,null,null,263.68548631578949,{"$f":"O1254*'ARP_General inputs'!P$46/'ARP_General inputs'!O$46","v":272.43233497189573},{"$f":"P1254*'ARP_General inputs'!Q$46/'ARP_General inputs'!P$46","v":281.39252140010217},{"$f":"Q1254*'ARP_General inputs'!R$46/'ARP_General inputs'!Q$46","v":290.64740464113919},{"$f":"R1254*'ARP_General inputs'!S$46/'ARP_General inputs'!R$46","v":300.20667715087131}]
[null,null,null,null,null,"NHH UMS category B","£/MWh/year",null,null,{"$f":"CHOOSE(year_selection, L1255,M1255,N1255,O1255,P1255,Q1255,R1255,S1255)","v":300.20667715087131},null,null,null,null,263.68548631578949,{"$f":"O1255*'ARP_General inputs'!P$46/'ARP_General inputs'!O$46","v":272.43233497189573},{"$f":"P1255*'ARP_General inputs'!Q$46/'ARP_General inputs'!P$46","v":281.39252140010217},{"$f":"Q1255*'ARP_General inputs'!R$46/'ARP_General inputs'!Q$46","v":290.64740464113919},{"$f":"R1255*'ARP_General inputs'!S$46/'ARP_General inputs'!R$46","v":300.20667715087131}]
[null,null,null,null,null,"NHH UMS category C","£/MWh/year",null,null,{"$f":"CHOOSE(year_selection, L1256,M1256,N1256,O1256,P1256,Q1256,R1256,S1256)","v":300.20667715087131},null,null,null,null,263.68548631578949,{"$f":"O1256*'ARP_General inputs'!P$46/'ARP_General inputs'!O$46","v":272.43233497189573},{"$f":"P1256*'ARP_General inputs'!Q$46/'ARP_General inputs'!P$46","v":281.39252140010217},{"$f":"Q1256*'ARP_General inputs'!R$46/'ARP_General inputs'!Q$46","v":290.64740464113919},{"$f":"R1256*'ARP_General inputs'!S$46/'ARP_General inputs'!R$46","v":300.20667715087131}]
[null,null,null,null,null,"NHH UMS category D","£/MWh/year",null,null,{"$f":"CHOOSE(year_selection, L1257,M1257,N1257,O1257,P1257,Q1257,R1257,S1257)","v":300.20667715087131},null,null,null,null,263.68548631578949,{"$f":"O1257*'ARP_General inputs'!P$46/'ARP_General inputs'!O$46","v":272.43233497189573},{"$f":"P1257*'ARP_General inputs'!Q$46/'ARP_General inputs'!P$46","v":281.39252140010217},{"$f":"Q1257*'ARP_General inputs'!R$46/'ARP_General inputs'!Q$46","v":290.64740464113919},{"$f":"R1257*'ARP_General inputs'!S$46/'ARP_General inputs'!R$46","v":300.20667715087131}]
[null,null,null,null,null,"LV UMS (Pseudo HH Metered)","£/MWh/year",null,null,{"$f":"CHOOSE(year_selection, L1258,M1258,N1258,O1258,P1258,Q1258,R1258,S1258)","v":300.20667715087131},null,null,null,null,263.68548631578949,{"$f":"O1258*'ARP_General inputs'!P$46/'ARP_General inputs'!O$46","v":272.43233497189573},{"$f":"P1258*'ARP_General inputs'!Q$46/'ARP_General inputs'!P$46","v":281.39252140010217},{"$f":"Q1258*'ARP_General inputs'!R$46/'ARP_General inputs'!Q$46","v":290.64740464113919},{"$f":"R1258*'ARP_General inputs'!S$46/'ARP_General inputs'!R$46","v":300.20667715087131}]
[null,null,null,null,null,"LV Generation NHH or Aggregate HH","£/MWh/year"]
[null,null,null,null,null,"LV Sub Generation NHH","£/MWh/year"]
[null,null,null,null,null,"LV Generation Intermittent","£/MWh/year"]
[null,null,null,null,null,"LV Generation Intermittent no RP charge","£/MWh/year"]
[null,null,null,null,null,"LV Generation Non-Intermittent","£/MWh/year"]
[null,null,null,null,null,"LV Generation Non-Intermittent no RP charge","£/MWh/year"]
[null,null,null,null,null,"LV Sub Generation Intermittent","£/MWh/year"]
[null,null,null,null,null,"LV Sub Generation Intermittent no RP charge","£/MWh/year"]
[null,null,null,null,null,"LV Sub Generation Non-Intermittent","£/MWh/year"]
[null,null,null,null,null,"LV Sub Generation Non-Intermittent no RP charge","£/MWh/year"]
[null,null,null,null,null,"HV Generation Intermittent","£/MWh/year"]
[null,null,null,null,null,"HV Generation Intermittent no RP charge","£/MWh/year"]
[null,null,null,null,null,"HV Generation Non-Intermittent","£/MWh/year"]
[null,null,null,null,null,"HV Generation Non-Intermittent no RP charge","£/MWh/year"]
[]
[null,"Checks"]
[]
[null,null,"Checks are not run for historic years, for which DNOs are not obliged to enter inputs."]
[]
[null,null,null,"Check for error values",null,null,"number of issues",{"$f":"SUM(IF(ISERROR(H19:S1273), 1))","v":0}]
[]
[null,null,null,"Check for split of units by timeband:"]
[null,null,null,null,"Unit rate 1"]
[null,null,null,null,null,"Domestic Unrestricted","number of issues",{"$f":"SUM(L1282:S1282)","v":0},null,null,null,null,null,null,{"$f":"IF(ABS(SUM(O841,O876,O911)-1) < 10^-check_decimals,0,1)","v":0},0,0,0,0]
[null,null,null,null,null,"Domestic Two Rate","number of issues",{"$f":"SUM(L1283:S1283)","v":0},null,null,null,null,null,null,0,0,0,0,0]
[null,null,null,null,null,"Domestic Off Peak (related MPAN)","number of issues",0,null,null,null,null,null,null,0,0,0,0,0]
[null,null,null,null,null,"Small Non Domestic Unrestricted","number of issues",0,null,null,null,null,null,null,0,0,0,0,0]
[null,null,null,null,null,"Small Non Domestic Two Rate","number of issues",0,null,null,null,null,null,null,0,0,0,0,0]
[null,null,null,null,null,"Small Non Domestic Off Peak (related MPAN)","number of issues",0,null,null,null,null,null,null,0,0,0,0,0]
[null,null,null,null,null,"LV Medium Non-Domestic","number of issues",0,null,null,null,null,null,null,0,0,0,0,0]
[null,null,null,null,null,"LV Sub Medium Non-Domestic","number of issues",0,null,null,null,null,null,null,0,0,0,0,0]
[null,null,null,null,null,"HV Medium Non-Domestic","number of issues",0,null,null,null,null,null,null,0,0,0,0,0]
[null,null,null,null,null,"LV Network Domestic","number of issues",0,null,null,null,null,null,null,0,0,0,0,0]
[null,null,null,null,null,"LV Network Non-Domestic Non-CT","number of issues",0,null,null,null,null,null,null,{"$f":"IF(ABS(SUM(O851,O886,O921)-1) < 10^-check_decimals,0,1)","v":0},0,0,0,0]
[null,null,null,null,null,"LV HH Metered","number of issues",0,null,null,null,null,null,null,0,0,0,0,0]
[null,null,null,null,null,"LV Sub HH Metered","number of issues",0,null,null,null,null,null,null,0,0,0,0,0]
[null,null,null,null,null,"HV HH Metered","number of issues",0,null,null,null,null,null,null,0,0,0,0,0]
[null,null,null,null,null,"NHH UMS category A","number of issues",0,null,null,null,null,null,null,0,0,0,0,0]
[null,null,null,null,null,"NHH UMS category B","number of issues",0,null,null,null,null,null,null,0,0,0,0,0]
[null,null,null,null,null,"NHH UMS category C","number of issues",0,null,null,null,null,null,null,0,0,0,0,0]
[null,null,null,null,null,"NHH UMS category D","number of issues",0,null,null,null,null,null,null,0,0,0,0,0]
[null,null,null,null,null,"LV UMS (Pseudo HH Metered)","number of issues",0,null,null,null,null,null,null,0,0,0,0,0]
[null,null,null,null,null,"LV Generation NHH or Aggregate HH","number of issues"]
[null,null,null,null,null,"LV Sub Generation NHH","number of issues"]
[null,null,null,null,null,"LV Generation Intermittent","number of issues"]
[null,null,null,null,null,"LV Generation Intermittent no RP charge","number of issues"]
[null,null,null,null,null,"LV Generation Non-Intermittent","number of issues",0,null,null,null,null,null,null,{"$f":"IF(ABS(SUM(O864,O899,O934)-1) < 10^-check_decimals,0,1)","v":0},0,0,0,0]
[null,null,null,null,null,"LV Generation Non-Intermittent no RP charge","number of issues",0,null,null,null,null,null,null,0,0,0,0,0]
[null,null,null,null,null,"LV Sub Generation Intermittent","number of issues"]
[null,null,null,null,null,"LV Sub Generation Intermittent no RP charge","number of issues"]
[null,null,null,null,null,"LV Sub Generation Non-Intermittent","number of issues",0,null,null,null,null,null,null,{"$f":"IF(ABS(SUM(O868,O903,O938)-1) < 10^-check_decimals,0,1)","v":0},0,0,0,0]
[null,null,null,null,null,"LV Sub Generation Non-Intermittent no RP charge","number of issues",0,null,null,null,null,null,null,0,0,0,0,0]
[null,null,null,null,null,"HV Generation Intermittent","number of issues"]
[null,null,null,null,null,"HV Generation Intermittent no RP charge","number of issues"]
[null,null,null,null,null,"HV Generation Non-Intermittent","number of issues",0,null,null,null,null,null,null,{"$f":"IF(ABS(SUM(O872,O907,O942)-1) < 10^-check_decimals,0,1)","v":0},0,0,0,0]
[null,null,null,null,null,"HV Generation Non-Intermittent no RP charge","number of issues",0,null,null,null,null,null,null,0,0,0,0,0]
[null,null,null,null,"Unit rate 2"]
[null,null,null,null,null,"Domestic Unrestricted","number of issues"]
[null,null,null,null,null,"Domestic Two Rate","number of issues",{"$f":"SUM(L1317:S1317)","v":0},null,null,null,null,null,null,{"$f":"IF(ABS(SUM(O949,O984,O1019)-1) < 10^-check_decimals,0,1)","v":0},{"$f":"IF(ABS(SUM(P949,P984,P1019)-1) < 10^-check_decimals,0,1)","v":0},{"$f":"IF(ABS(SUM(Q949,Q984,Q1019)-1) < 10^-check_decimals,0,1)","v":0},{"$f":"IF(ABS(SUM(R949,R984,R1019)-1) < 10^-check_decimals,0,1)","v":0},{"$f":"IF(ABS(SUM(S949,S984,S1019)-1) < 10^-check_decimals,0,1)","v":0}]
[null,null,null,null,null,"Domestic Off Peak (related MPAN)","number of issues"]
[null,null,null,null,null,"Small Non Domestic Unrestricted","number of issues"]
[null,null,null,null,null,"Small Non Domestic Two Rate","number of issues",0,null,null,null,null,null,null,{"$f":"IF(ABS(SUM(O952,O987,O1022)-1) < 10^-check_decimals,0,1)","v":0},{"$f":"IF(ABS(SUM(P952,P987,P1022)-1) < 10^-check_decimals,0,1)","v":0},{"$f":"IF(ABS(SUM(Q952,Q987,Q1022)-1) < 10^-check_decimals,0,1)","v":0},{"$f":"IF(ABS(SUM(R952,R987,R1022)-1) < 10^-check_decimals,0,1)","v":0},{"$f":"IF(ABS(SUM(S952,S987,S1022)-1) < 10^-check_decimals,0,1)","v":0}]
[null,null,null,null,null,"Small Non Domestic Off Peak (related MPAN)","number of issues"]
[null,null,null,null,null,"LV Medium Non-Domestic","number of issues",0,null,null,null,null,null,null,{"$f":"IF(ABS(SUM(O954,O989,O1024)-1) < 10^-check_decimals,0,1)","v":0},0,0,0,0]
[null,null,null,null,null,"LV Sub Medium Non-Domestic","number of issues",0,null,null,null,null,null,null,0,0,0,0,0]
[null,null,null,null,null,"HV Medium Non-Domestic","number of issues",0,null,null,null,null,null,null,0,0,0,0,0]
[null,null,null,null,null,"LV Network Domestic","number of issues",0,null,null,null,null,null,null,0,0,0,0,0]
[null,null,null,null,null,"LV Network Non-Domestic Non-CT","number of issues",0,null,null,null,null,null,null,0,0,0,0,0]
[null,null,null,null,null,"LV HH Metered","number of issues",0,null,null,null,null,null,null,0,0,0,0,0]
[null,null,null,null,null,"LV Sub HH Metered","number of issues",0,null,null,null,null,null,null,0,0,0,0,0]
[null,null,null,null,null,"HV HH Metered","number of issues",0,null,null,null,null,null,null,0,0,0,0,0]
[null,null,null,null,null,"NHH UMS category A","number of issues"]
[null,null,null,null,null,"NHH UMS category B","number of issues"]
[null,null,null,null,null,"NHH UMS category C","number of issues"]
[null,null,null,null,null,"NHH UMS category D","number of issues"]
[null,null,null,null,null,"LV UMS (Pseudo HH Metered)","number of issues",0,null,null,null,null,null,null,{"$f":"IF(ABS(SUM(O966,O1001,O1036)-1) < 10^-check_decimals,0,1)","v":0},{"$f":"IF(ABS(SUM(P966,P1001,P1036)-1) < 10^-check_decimals,0,1)","v":0},{"$f":"IF(ABS(SUM(Q966,Q1001,Q1036)-1) < 10^-check_decimals,0,1)","v":0},{"$f":"IF(ABS(SUM(R966,R1001,R1036)-1) < 10^-check_decimals,0,1)","v":0},{"$f":"IF(ABS(SUM(S966,S1001,S1036)-1) < 10^-check_decimals,0,1)","v":0}]
[null,null,null,null,null,"LV Generation NHH or Aggregate HH","number of issues"]
[null,null,null,null,null,"LV Sub Generation NHH","number of issues"]
[null,null,null,null,null,"LV Generation Intermittent","number of issues"]
[null,null,null,null,null,"LV Generation Intermittent no RP charge","number of issues"]
[null,null,null,null,null,"LV Generation Non-Intermittent","number of issues",0,null,null,null,null,null,null,{"$f":"IF(ABS(SUM(O971,O1006,O1041)-1) < 10^-check_decimals,0,1)","v":0},0,0,0,0]
[null,null,null,null,null,"LV Generation Non-Intermittent no RP charge","number of issues",0,null,null,null,null,null,null,0,0,0,0,0]
[null,null,null,null,null,"LV Sub Generation Intermittent","number of issues"]
[null,null,null,null,null,"LV Sub Generation Intermittent no RP charge","number of issues"]
[null,null,null,null,null,"LV Sub Generation Non-Intermittent","number of issues",0,null,null,null,null,null,null,{"$f":"IF(ABS(SUM(O975,O1010,O1045)-1) < 10^-check_decimals,0,1)","v":0},0,0,0,0]
[null,null,null,null,null,"LV Sub Generation Non-Intermittent no RP charge","number of issues",0,null,null,null,null,null,null,0,0,0,0,0]
[null,null,null,null,null,"HV Generation Intermittent","number of issues"]
[null,null,null,null,null,"HV Generation Intermittent no RP charge","number of issues"]
[null,null,null,null,null,"HV Generation Non-Intermittent","number of issues",0,null,null,null,null,null,null,{"$f":"IF(ABS(SUM(O979,O1014,O1049)-1) < 10^-check_decimals,0,1)","v":0},0,0,0,0]
[null,null,null,null,null,"HV Generation Non-Intermittent no RP charge","number of issues",0,null,null,null,null,null,null,0,0,0,0,0]
[null,null,null,null,"Unit rate 3"]
[null,null,null,null,null,"Domestic Unrestricted","number of issues"]
[null,null,null,null,null,"Domestic Two Rate","number of issues"]
[null,null,null,null,null,"Domestic Off Peak (related MPAN)","number of issues"]
[null,null,null,null,null,"Small Non Domestic Unrestricted","number of issues"]
[null,null,null,null,null,"Small Non Domestic Two Rate","number of issues"]
[null,null,null,null,null,"Small Non Domestic Off Peak (related MPAN)","number of issues"]
[null,null,null,null,null,"LV Medium Non-Domestic","number of issues"]
[null,null,null,null,null,"LV Sub Medium Non-Domestic","number of issues"]
[null,null,null,null,null,"HV Medium Non-Domestic","number of issues"]
[null,null,null,null,null,"LV Network Domestic","number of issues",{"$f":"SUM(L1359:S1359)","v":0},null,null,null,null,null,null,{"$f":"IF(ABS(SUM(O1064,O1099,O1134)-1) < 10^-check_decimals,0,1)","v":0},0,0,0,0]
[null,null,null,null,null,"LV Network Non-Domestic Non-CT","number of issues",0,null,null,null,null,null,null,0,0,0,0,0]
[null,null,null,null,null,"LV HH Metered","number of issues",0,null,null,null,null,null,null,0,0,0,0,0]
[null,null,null,null,null,"LV Sub HH Metered","number of issues",0,null,null,null,null,null,null,0,0,0,0,0]
[null,null,null,null,null,"HV HH Metered","number of issues",0,null,null,null,null,null,null,0,0,0,0,0]
[null,null,null,null,null,"NHH UMS category A","number of issues"]
[null,null,null,null,null,"NHH UMS category B","number of issues"]
[null,null,null,null,null,"NHH UMS category C","number of issues"]
[null,null,null,null,null,"NHH UMS category D","number of issues"]
[null,null,null,null,null,"LV UMS (Pseudo HH Metered)","number of issues",0,null,null,null,null,null,null,{"$f":"IF(ABS(SUM(O1073,O1108,O1143)-1) < 10^-check_decimals,0,1)","v":0},{"$f":"IF(ABS(SUM(P1073,P1108,P1143)-1) < 10^-check_decimals,0,1)","v":0},{"$f":"IF(ABS(SUM(Q1073,Q1108,Q1143)-1) < 10^-check_decimals,0,1)","v":0},{"$f":"IF(ABS(SUM(R1073,R1108,R1143)-1) < 10^-check_decimals,0,1)","v":0},{"$f":"IF(ABS(SUM(S1073,S1108,S1143)-1) < 10^-check_decimals,0,1)","v":0}]
[null,null,null,null,null,"LV Generation NHH or Aggregate HH","number of issues"]
[null,null,null,null,null,"LV Sub Generation NHH","number of issues"]
[null,null,null,null,null,"LV Generation Intermittent","number of issues"]
[null,null,null,null,null,"LV Generation Intermittent no RP charge","number of issues"]
[null,null,null,null,null,"LV Generation Non-Intermittent","number of issues",0,null,null,null,null,null,null,{"$f":"IF(ABS(SUM(O1078,O1113,O1148)-1) < 10^-check_decimals,0,1)","v":0},0,0,0,0]
[null,null,null,null,null,"LV Generation Non-Intermittent no RP charge","number of issues",0,null,null,null,null,null,null,0,0,0,0,0]
[null,null,null,null,null,"LV Sub Generation Intermittent","number of issues"]
[null,null,null,null,null,"LV Sub Generation Intermittent no RP charge","number of issues"]
[null,null,null,null,null,"LV Sub Generation Non-Intermittent","number of issues",0,null,null,null,null,null,null,{"$f":"IF(ABS(SUM(O1082,O1117,O1152)-1) < 10^-check_decimals,0,1)","v":0},0,0,0,0]
[null,null,null,null,null,"LV Sub Generation Non-Intermittent no RP charge","number of issues",0,null,null,null,null,null,null,0,0,0,0,0]
[null,null,null,null,null,"HV Generation Intermittent","number of issues"]
[null,null,null,null,null,"HV Generation Intermittent no RP charge","number of issues"]
[null,null,null,null,null,"HV Generation Non-Intermittent","number of issues",0,null,null,null,null,null,null,{"$f":"IF(ABS(SUM(O1086,O1121,O1156)-1) < 10^-check_decimals,0,1)","v":0},0,0,0,0]
[null,null,null,null,null,"HV Generation Non-Intermittent no RP charge","number of issues",{"$f":"SUM(L1382:S1382)","v":0},null,null,null,null,null,null,0,0,0,0,0]
[]
[null,null,null,null,"Summary of checks",null,"number of issues",{"$f":"SUM(H1278,H1282:H1382)","v":0}]
[]
[null,"End of sheet"]

{"sheet":"ARP_Inputs by network level","index":11,"n_rows":220,"n_cols":21,"rows_kept":220,"cut":false,"hidden":false,"merged":[]}
[{"$f":"MID(CELL(\"filename\",A1),FIND(\"]\",CELL(\"filename\",A1))+1,255)","v":"ARP_Inputs by network level"}]
[{"$f":"Cover!D21&\" - \"&Cover!D23","v":"[enter DNO name] - [enter data version name]"}]
[{"$f":"Cover!D2&\" - \"&Cover!D8&\" v\"&Cover!D10&\" - \"&Cover!D19","v":"ARP model - Release for charge setting v3 - 2020/21"}]
[{"$f":"H218 & IF(H218 = 1, \" issue\", \" issues\") &\" identified in checks on this sheet\"","v":"0 issues identified in checks on this sheet"}]
[null,null,null,null,null,null,null,null,null,{"$f":"\"Year selected (\"& charging_year_selected &\")\"","v":"Year selected (2024/25)"},null,{"$f":"TRANSPOSE('ARP_User control'!G28:H35)","v":"2017/18"},"2018/19","2019/20","2020/21","2021/22","2022/23","2023/24","2024/25"]
[null,"Click here to return to model map",null,null,null,null,"Units","Constants",null,{"$f":"'ARP_User control'!$H$36","v":"Forecast"},null,"Historic","Historic","Historic","Current","Forecast","Forecast","Forecast","Forecast",null,"Legal text reference"]
[]
[null,"Description"]
[]
[null,null,"This sheet sets out inputs by network level and by year."]
[null,null,"DNOs should populate the inputs for the charging year and the four following years."]
[null,null,"DNOs can also populate the three years preceding the charging year, but are not obliged to do so. "]
[]
[null,"Inputs by network level"]
[]
[null,null,{"$f":"INDEX('Version control'!$H$34:$H$59,MATCH($A$1,'Version control'!$F$34:$F$59,0),1)&\"-A: Diversity allowance between top and bottom of network level\"","v":"Input 502-A: Diversity allowance between top and bottom of network level"}]
[]
[null,null,null,null,"Diversity allowance between top and bottom of network level",null,null,null,">",null,null,null,null,null,null,null,null,null,null,null,"Paragraphs 26 to 28"]
[null,null,null,null,null,"Transmission exit","%"]
[null,null,null,null,null,"GSPs","%",null,null,{"$f":"CHOOSE(year_selection, L20,M20,N20,O20,P20,Q20,R20,S20)","v":6.3829787234042507E-2},null,6.3829787234042507E-2,{"$f":"L20","v":6.3829787234042507E-2},{"$f":"M20","v":6.3829787234042507E-2},6.3829787234042507E-2,6.3829787234042507E-2,6.3829787234042507E-2,6.3829787234042507E-2,6.3829787234042507E-2]
[null,null,null,null,null,"132kV","%",null,null,{"$f":"CHOOSE(year_selection, L21,M21,N21,O21,P21,Q21,R21,S21)","v":5.2999999999999999E-2},null,5.2999999999999999E-2,{"$f":"L21","v":5.2999999999999999E-2},5.2999999999999999E-2,5.2999999999999999E-2,5.2999999999999999E-2,5.2999999999999999E-2,5.2999999999999999E-2,5.2999999999999999E-2]
[null,null,null,null,null,"132kV/EHV","%"]
[null,null,null,null,null,"EHV","%",null,null,{"$f":"CHOOSE(year_selection, L23,M23,N23,O23,P23,Q23,R23,S23)","v":9.9000000000000005E-2},null,9.9000000000000005E-2,{"$f":"L23","v":9.9000000000000005E-2},9.9000000000000005E-2,9.9000000000000005E-2,9.9000000000000005E-2,9.9000000000000005E-2,9.9000000000000005E-2,9.9000000000000005E-2]
[null,null,null,null,null,"EHV/HV","%"]
[null,null,null,null,null,"132kV/HV","%"]
[null,null,null,null,null,"HV","%",null,null,{"$f":"CHOOSE(year_selection, L26,M26,N26,O26,P26,Q26,R26,S26)","v":0.37},null,0.37,{"$f":"L26","v":0.37},{"$f":"M26","v":0.37},0.37,0.37,0.37,0.37,0.37]
[null,null,null,null,null,"HV/LV","%"]
[null,null,null,null,null,"LV circuits","%"]
[]
[null,null,{"$f":"INDEX('Version control'!$H$34:$H$59,MATCH($A$1,'Version control'!$F$34:$F$59,0),1)&\"-B: Proportion of EHV/HV load going through 132kV/HV direct transformation\"","v":"Input 502-B: Proportion of EHV/HV load going through 132kV/HV direct transformation"}]
[]
[null,null,null,null,"Proportion of EHV/HV load going through 132kV/HV direct transformation"]
[null,null,null,null,null,"Transmission exit","%"]
[null,null,null,null,null,"GSPs","%"]
[null,null,null,null,null,"132kV","%"]
[null,null,null,null,null,"132kV/EHV","%",null,null,{"$f":"CHOOSE(year_selection, L36,M36,N36,O36,P36,Q36,R36,S36)","v":0.3},null,0.3,{"$f":"L36","v":0.3},{"$f":"M36","v":0.3},0.3,0.3,0.3,0.3,0.3]
[null,null,null,null,null,"EHV","%"]
[null,null,null,null,null,"EHV/HV","%"]
[null,null,null,null,null,"132kV/HV","%"]
[null,null,null,null,null,"HV","%"]
[null,null,null,null,null,"HV/LV","%"]
[null,null,null,null,null,"LV circuits","%"]
[]
[null,null,{"$f":"INDEX('Version control'!$H$34:$H$59,MATCH($A$1,'Version control'!$F$34:$F$59,0),1)&\"-C: Loss adjustment factors to transmission\"","v":"Input 502-C: Loss adjustment factors to transmission"}]
[]
[null,null,null,null,"Loss adjustment factors to transmission",null,null,null,">",null,null,null,null,null,null,null,null,null,null,null,"Paragraph 47"]
[null,null,null,null,null,"Transmission exit","scalar"]
[null,null,null,null,null,"GSPs","scalar",null,null,{"$f":"CHOOSE(year_selection, L48,M48,N48,O48,P48,Q48,R48,S48)","v":1},null,1,1,1,1,{"$f":"O48","v":1},1,1,1]
[null,null,null,null,null,"132kV","scalar",null,null,{"$f":"CHOOSE(year_selection, L49,M49,N49,O49,P49,Q49,R49,S49)","v":1.0089999999999999},null,1.0089999999999999,1.0089999999999999,1.0089999999999999,1.0089999999999999,{"$f":"O49","v":1.0089999999999999},1.0089999999999999,1.0089999999999999,1.0089999999999999]
[null,null,null,null,null,"132kV/EHV","scalar",null,null,{"$f":"CHOOSE(year_selection, L50,M50,N50,O50,P50,Q50,R50,S50)","v":1.0129999999999999},null,1.014,1.014,1.0129999999999999,1.0129999999999999,{"$f":"O50","v":1.0129999999999999},1.0129999999999999,1.0129999999999999,1.0129999999999999]
[null,null,null,null,null,"EHV","scalar",null,null,{"$f":"CHOOSE(year_selection, L51,M51,N51,O51,P51,Q51,R51,S51)","v":1.024},null,1.026,1.026,1.024,1.024,{"$f":"O51","v":1.024},1.024,1.024,1.024]
[null,null,null,null,null,"EHV/HV","scalar",null,null,{"$f":"CHOOSE(year_selection, L52,M52,N52,O52,P52,Q52,R52,S52)","v":1.032},null,1.0329999999999999,1.0329999999999999,1.032,1.032,{"$f":"O52","v":1.032},1.032,1.032,1.032]
[null,null,null,null,null,"132kV/HV","scalar"]
[null,null,null,null,null,"HV","scalar",null,null,{"$f":"CHOOSE(year_selection, L54,M54,N54,O54,P54,Q54,R54,S54)","v":1.0409999999999999},null,1.0429999999999999,1.0429999999999999,1.0409999999999999,1.0409999999999999,{"$f":"O54","v":1.0409999999999999},1.0409999999999999,1.0409999999999999,1.0409999999999999]
[null,null,null,null,null,"HV/LV","scalar",null,null,{"$f":"CHOOSE(year_selection, L55,M55,N55,O55,P55,Q55,R55,S55)","v":1.0589999999999999},null,1.0629999999999999,1.0629999999999999,1.0589999999999999,1.0589999999999999,{"$f":"O55","v":1.0589999999999999},1.0589999999999999,1.0589999999999999,1.0589999999999999]
[null,null,null,null,null,"LV circuits","scalar",null,null,{"$f":"CHOOSE(year_selection, L56,M56,N56,O56,P56,Q56,R56,S56)","v":1.077},null,1.0840000000000001,1.0840000000000001,1.077,1.077,{"$f":"O56","v":1.077},1.077,1.077,1.077]
[]
[null,null,{"$f":"INDEX('Version control'!$H$34:$H$59,MATCH($A$1,'Version control'!$F$34:$F$59,0),1)&\"-D: Average kVAr by kVA, by network level\"","v":"Input 502-D: Average kVAr by kVA, by network level"}]
[]
[null,null,null,null,"Average kVAr by kVA, by network level",null,null,null,">",null,null,null,null,null,null,null,null,null,null,null,"Paragraphs 50 to 51"]
[null,null,null,null,null,"Transmission exit","kVAr/ kVA"]
[null,null,null,null,null,"GSPs","kVAr/ kVA",null,null,{"$f":"CHOOSE(year_selection, L62,M62,N62,O62,P62,Q62,R62,S62)","v":0.32434395898123136},null,0.27489787150128192,0.25062728778546878,0.25978822435833493,0.32434395898123136,{"$f":"O62","v":0.32434395898123136},0.32434395898123136,0.32434395898123136,0.32434395898123136]
[null,null,null,null,null,"132kV","kVAr/ kVA",null,null,0.32434395898123136,null,0.27489787150128192,0.25062728778546878,0.25978822435833493,0.32434395898123136,{"$f":"O63","v":0.32434395898123136},0.32434395898123136,0.32434395898123136,0.32434395898123136]
[null,null,null,null,null,"132kV/EHV","kVAr/ kVA",null,null,0.32434395898123136,null,0.27489787150128192,0.25062728778546878,0.25978822435833493,0.32434395898123136,{"$f":"O64","v":0.32434395898123136},0.32434395898123136,0.32434395898123136,0.32434395898123136]
[null,null,null,null,null,"EHV","kVAr/ kVA",null,null,0.32434395898123136,null,0.27489787150128192,0.25062728778546878,0.25978822435833493,0.32434395898123136,{"$f":"O65","v":0.32434395898123136},0.32434395898123136,0.32434395898123136,0.32434395898123136]
[null,null,null,null,null,"EHV/HV","kVAr/ kVA",null,null,0.32434395898123136,null,0.27489787150128192,0.25062728778546878,0.25978822435833493,0.32434395898123136,{"$f":"O66","v":0.32434395898123136},0.32434395898123136,0.32434395898123136,0.32434395898123136]
[null,null,null,null,null,"132kV/HV","kVAr/ kVA",null,null,0.32434395898123136,null,0.27489787150128192,0.25062728778546878,0.25978822435833493,0.32434395898123136,{"$f":"O67","v":0.32434395898123136},0.32434395898123136,0.32434395898123136,0.32434395898123136]
[null,null,null,null,null,"HV","kVAr/ kVA",null,null,0.32434395898123136,null,0.27489787150128192,0.25062728778546878,0.25978822435833493,0.32434395898123136,{"$f":"O68","v":0.32434395898123136},0.32434395898123136,0.32434395898123136,0.32434395898123136]
[null,null,null,null,null,"HV/LV","kVAr/ kVA",null,null,0.32434395898123136,null,0.27489787150128192,0.25062728778546878,0.25978822435833493,0.32434395898123136,{"$f":"O69","v":0.32434395898123136},0.32434395898123136,0.32434395898123136,0.32434395898123136]
[null,null,null,null,null,"LV circuits","kVAr/ kVA",null,null,0.32434395898123136,null,0.27489787150128192,0.25062728778546878,0.25978822435833493,0.32434395898123136,{"$f":"O70","v":0.32434395898123136},0.32434395898123136,0.32434395898123136,0.32434395898123136]
[]
[null,null,{"$f":"INDEX('Version control'!$H$34:$H$59,MATCH($A$1,'Version control'!$F$34:$F$59,0),1)&\"-E: Customer contributions under current connection charging policy\"","v":"Input 502-E: Customer contributions under current connection charging policy"}]
[]
[null,null,null,"Customer contributions under current connection charging policy",null,null,null,null,">",null,null,null,null,null,null,null,null,null,null,null,"Paragraphs 29 to 31"]
[null,null,null,null,"LV network"]
[null,null,null,null,null,"Transmission exit","%"]
[null,null,null,null,null,"GSPs","%"]
[null,null,null,null,null,"132kV","%",null,null,{"$f":"CHOOSE(year_selection, L78,M78,N78,O78,P78,Q78,R78,S78)","v":0},null,{"$f":"M78","v":0},0,{"$f":"O78","v":0},0,{"$f":"O78","v":0},0,0,0]
[null,null,null,null,null,"132kV/EHV","%",null,null,0,null,{"$f":"M79","v":0},0,0,0,{"$f":"O79","v":0},0,0,0]
[null,null,null,null,null,"EHV","%",null,null,0,null,{"$f":"M80","v":0},0,0,0,{"$f":"O80","v":0},0,0,0]
[null,null,null,null,null,"EHV/HV","%",null,null,0.75,null,{"$f":"M81","v":0.75},0.75,0.75,0.75,{"$f":"O81","v":0.75},0.75,0.75,0.75]
[null,null,null,null,null,"132kV/HV","%",null,null,0.75,null,{"$f":"M82","v":0.75},0.75,0.75,0.75,{"$f":"O82","v":0.75},0.75,0.75,0.75]
[null,null,null,null,null,"HV","%",null,null,0.75,null,{"$f":"M83","v":0.75},0.75,0.75,0.75,{"$f":"O83","v":0.75},0.75,0.75,0.75]
[null,null,null,null,null,"HV/LV","%",null,null,0.95,null,{"$f":"M84","v":0.95},0.95,0.95,0.95,{"$f":"O84","v":0.95},0.95,0.95,0.95]
[null,null,null,null,null,"LV circuits","%",null,null,0.95,null,{"$f":"M85","v":0.95},0.95,0.95,0.95,{"$f":"O85","v":0.95},0.95,0.95,0.95]
[null,null,null,null,"LV substation"]
[null,null,null,null,null,"Transmission exit","%"]
[null,null,null,null,null,"GSPs","%"]
[null,null,null,null,null,"132kV","%",null,null,{"$f":"CHOOSE(year_selection, L89,M89,N89,O89,P89,Q89,R89,S89)","v":0},null,{"$f":"M89","v":0},0,0,0,{"$f":"O89","v":0},0,0,0]
[null,null,null,null,null,"132kV/EHV","%",null,null,0,null,{"$f":"M90","v":0},0,0,0,{"$f":"O90","v":0},0,0,0]
[null,null,null,null,null,"EHV","%",null,null,0,null,{"$f":"M91","v":0},0,0,0,{"$f":"O91","v":0},0,0,0]
[null,null,null,null,null,"EHV/HV","%",null,null,0.75,null,{"$f":"M92","v":0.75},0.75,0.75,0.75,{"$f":"O92","v":0.75},0.75,0.75,0.75]
[null,null,null,null,null,"132kV/HV","%",null,null,0.75,null,{"$f":"M93","v":0.75},0.75,0.75,0.75,{"$f":"O93","v":0.75},0.75,0.75,0.75]
[null,null,null,null,null,"HV","%",null,null,0.75,null,{"$f":"M94","v":0.75},0.75,0.75,0.75,{"$f":"O94","v":0.75},0.75,0.75,0.75]
[null,null,null,null,null,"HV/LV","%",null,null,0.95,null,{"$f":"M95","v":0.95},0.95,0.95,0.95,{"$f":"O95","v":0.95},0.95,0.95,0.95]
[null,null,null,null,null,"LV circuits","%"]
[null,null,null,null,"HV network"]
[null,null,null,null,null,"Transmission exit","%"]
[null,null,null,null,null,"GSPs","%"]
[null,null,null,null,null,"132kV","%",null,null,{"$f":"CHOOSE(year_selection, L100,M100,N100,O100,P100,Q100,R100,S100)","v":0},null,{"$f":"M100","v":0},0,0,0,{"$f":"O100","v":0},0,0,0]
[null,null,null,null,null,"132kV/EHV","%",null,null,0.36,null,{"$f":"M101","v":0.36},0.36,0.36,0.36,{"$f":"O101","v":0.36},0.36,0.36,0.36]
[null,null,null,null,null,"EHV","%",null,null,0.36,null,{"$f":"M102","v":0.36},0.36,0.36,0.36,{"$f":"O102","v":0.36},0.36,0.36,0.36]
[null,null,null,null,null,"EHV/HV","%",null,null,0.91,null,{"$f":"M103","v":0.91},0.91,0.91,0.91,{"$f":"O103","v":0.91},0.91,0.91,0.91]
[null,null,null,null,null,"132kV/HV","%",null,null,0.91,null,{"$f":"M104","v":0.91},0.91,0.91,0.91,{"$f":"O104","v":0.91},0.91,0.91,0.91]
[null,null,null,null,null,"HV","%",null,null,0.91,null,{"$f":"M105","v":0.91},0.91,0.91,0.91,{"$f":"O105","v":0.91},0.91,0.91,0.91]
[null,null,null,null,null,"HV/LV","%"]
[null,null,null,null,null,"LV circuits","%"]
[null,null,null,null,"HV substation"]
[null,null,null,null,null,"Transmission exit","%"]
[null,null,null,null,null,"GSPs","%"]
[null,null,null,null,null,"132kV","%",null,null,{"$f":"CHOOSE(year_selection, L111,M111,N111,O111,P111,Q111,R111,S111)","v":0},null,{"$f":"M111","v":0},0,0,0,{"$f":"O111","v":0},0,0,0]
[null,null,null,null,null,"132kV/EHV","%",null,null,0.36,null,{"$f":"M112","v":0.36},0.36,0.36,0.36,{"$f":"O112","v":0.36},0.36,0.36,0.36]
[null,null,null,null,null,"EHV","%",null,null,0.36,null,{"$f":"M113","v":0.36},0.36,0.36,0.36,{"$f":"O113","v":0.36},0.36,0.36,0.36]
[null,null,null,null,null,"EHV/HV","%",null,null,0.91,null,{"$f":"M114","v":0.91},0.91,0.91,0.91,{"$f":"O114","v":0.91},0.91,0.91,0.91]
[null,null,null,null,null,"132kV/HV","%"]
[null,null,null,null,null,"HV","%"]
[null,null,null,null,null,"HV/LV","%"]
[null,null,null,null,null,"LV circuits","%"]
[]
[null,null,{"$f":"INDEX('Version control'!$H$34:$H$59,MATCH($A$1,'Version control'!$F$34:$F$59,0),1)&\"-F: Gross asset cost by network level\"","v":"Input 502-F: Gross asset cost by network level"}]
[]
[null,null,null,null,"Gross asset cost by network level"]
[null,null,null,null,null,"Transmission exit","£"]
[null,null,null,null,null,"GSPs","£"]
[null,null,null,null,null,"132kV","£",null,null,{"$f":"CHOOSE(year_selection, L125,M125,N125,O125,P125,Q125,R125,S125)","v":160788860.70266357},null,133758717.89314428,137871798.46835849,134609065.39407229,141228334.19603211,{"$f":"O125*'ARP_General inputs'!P$46/'ARP_General inputs'!O$46","v":145913092.85463834},{"$f":"P125*'ARP_General inputs'!Q$46/'ARP_General inputs'!P$46","v":150712113.91955206},{"$f":"Q125*'ARP_General inputs'!R$46/'ARP_General inputs'!Q$46","v":155668972.79552794},{"$f":"R125*'ARP_General inputs'!S$46/'ARP_General inputs'!R$46","v":160788860.70266357}]
[null,null,null,null,null,"132kV/EHV","£",null,null,14960417.961098382,null,11814327.312391801,12177617.877247849,12891261.173388179,13140430.862492722,{"$f":"O126*'ARP_General inputs'!P$46/'ARP_General inputs'!O$46","v":13576318.94126473},{"$f":"P126*'ARP_General inputs'!Q$46/'ARP_General inputs'!P$46","v":14022838.436592152},{"$f":"Q126*'ARP_General inputs'!R$46/'ARP_General inputs'!Q$46","v":14484043.772799568},{"$f":"R126*'ARP_General inputs'!S$46/'ARP_General inputs'!R$46","v":14960417.961098382}]
[null,null,null,null,null,"EHV","£",null,null,42598544.270825304,null,35057444.526430197,36135460.945617929,33912714.89487204,37416282.572396666,{"$f":"O127*'ARP_General inputs'!P$46/'ARP_General inputs'!O$46","v":38657437.576820828},{"$f":"P127*'ARP_General inputs'!Q$46/'ARP_General inputs'!P$46","v":39928864.654523626},{"$f":"Q127*'ARP_General inputs'!R$46/'ARP_General inputs'!Q$46","v":41242108.441125028},{"$f":"R127*'ARP_General inputs'!S$46/'ARP_General inputs'!R$46","v":42598544.270825304}]
[null,null,null,null,null,"EHV/HV","£",null,null,32727994.194904406,null,30499732.641889557,31437599.420627661,29229119.30978217,28746519.388996392,{"$f":"O128*'ARP_General inputs'!P$46/'ARP_General inputs'!O$46","v":29700085.161608733},{"$f":"P128*'ARP_General inputs'!Q$46/'ARP_General inputs'!P$46","v":30676908.635992106},{"$f":"Q128*'ARP_General inputs'!R$46/'ARP_General inputs'!Q$46","v":31685859.429031786},{"$f":"R128*'ARP_General inputs'!S$46/'ARP_General inputs'!R$46","v":32727994.194904406}]
[null,null,null,null,null,"132kV/HV","£",null,null,13433092.064356627,null,9821372.7848144993,10123379.997947546,10770472.297892975,11798909.495722286,{"$f":"O129*'ARP_General inputs'!P$46/'ARP_General inputs'!O$46","v":12190297.270256761},{"$f":"P129*'ARP_General inputs'!Q$46/'ARP_General inputs'!P$46","v":12591231.088072566},{"$f":"Q129*'ARP_General inputs'!R$46/'ARP_General inputs'!Q$46","v":13005351.452754671},{"$f":"R129*'ARP_General inputs'!S$46/'ARP_General inputs'!R$46","v":13433092.064356627}]
[null,null,null,null,null,"HV","£",null,null,190818960.97253868,null,147122629.81108353,151646650.67777434,152618877.93741199,167605167.87916306,{"$f":"O130*'ARP_General inputs'!P$46/'ARP_General inputs'!O$46","v":173164886.23114178},{"$f":"P130*'ARP_General inputs'!Q$46/'ARP_General inputs'!P$46","v":178860207.46975413},{"$f":"Q130*'ARP_General inputs'!R$46/'ARP_General inputs'!Q$46","v":184742845.46014544},{"$f":"R130*'ARP_General inputs'!S$46/'ARP_General inputs'!R$46","v":190818960.97253868}]
[null,null,null,null,null,"HV/LV","£",null,null,70868380.617299959,null,56838107.740194902,58585879.5532059,57495908.470364198,62246994.586645782,{"$f":"O131*'ARP_General inputs'!P$46/'ARP_General inputs'!O$46","v":64311822.076979496},{"$f":"P131*'ARP_General inputs'!Q$46/'ARP_General inputs'!P$46","v":66427011.213418923},{"$f":"Q131*'ARP_General inputs'!R$46/'ARP_General inputs'!Q$46","v":68611768.042677805},{"$f":"R131*'ARP_General inputs'!S$46/'ARP_General inputs'!R$46","v":70868380.617299959}]
[null,null,null,null,null,"LV circuits","£",null,null,161580476.83135369,null,117060731.64515546,120660349.143244,129636887.92257702,141923647.45771608,{"$f":"O132*'ARP_General inputs'!P$46/'ARP_General inputs'!O$46","v":146631470.71480858},{"$f":"P132*'ARP_General inputs'!Q$46/'ARP_General inputs'!P$46","v":151454118.92939118},{"$f":"Q132*'ARP_General inputs'!R$46/'ARP_General inputs'!Q$46","v":156435382.04218245},{"$f":"R132*'ARP_General inputs'!S$46/'ARP_General inputs'!R$46","v":161580476.83135369}]
[]
[null,null,{"$f":"INDEX('Version control'!$H$34:$H$59,MATCH($A$1,'Version control'!$F$34:$F$59,0),1)&\"-G: Peaking probabilities, by timeband & network level\"","v":"Input 502-G: Peaking probabilities, by timeband & network level"}]
[]
[null,null,"Red, Amber & Green peaking probabilities must sum to 100%, except for unused network levels, which should sum to 0%"]
[]
[null,null,null,null,"Red peaking probabilities, by network level",null,null,null,">",null,null,null,null,null,null,null,null,null,null,null,"Paragraphs 48 to 49"]
[null,null,null,null,null,"Transmission exit","%"]
[null,null,null,null,null,"GSPs","%",null,null,{"$f":"CHOOSE(year_selection, L140,M140,N140,O140,P140,Q140,R140,S140)","v":0.77513261918728082},null,0.56762375683506283,0.64177003245353126,0.67410201337800746,{"$f":"HLOOKUP(F140,'ARP_Peaking probabilities'!K$5:S$45,23,FALSE)","v":0.77513261918728082},{"$f":"O140","v":0.77513261918728082},0.77513261918728082,0.77513261918728082,0.77513261918728082]
[null,null,null,null,null,"132kV","%",null,null,0.56779401321073086,null,0.64295595897706448,0.59838873095843537,0.58954839781869683,{"$f":"HLOOKUP(F141,'ARP_Peaking probabilities'!K$5:S$45,23,FALSE)","v":0.56779401321073086},{"$f":"O141","v":0.56779401321073086},0.56779401321073086,0.56779401321073086,0.56779401321073086]
[null,null,null,null,null,"132kV/EHV","%",null,null,0.56779401321073086,null,0.64295595897706448,0.59838873095843537,0.58954839781869683,{"$f":"HLOOKUP(F142,'ARP_Peaking probabilities'!K$5:S$45,23,FALSE)","v":0.56779401321073086},{"$f":"O142","v":0.56779401321073086},0.56779401321073086,0.56779401321073086,0.56779401321073086]
[null,null,null,null,null,"EHV","%",null,null,0.63580540031951882,null,0.52994203457233025,0.53832013557425951,0.58594309014253887,{"$f":"HLOOKUP(F143,'ARP_Peaking probabilities'!K$5:S$45,23,FALSE)","v":0.63580540031951882},{"$f":"O143","v":0.63580540031951882},0.63580540031951882,0.63580540031951882,0.63580540031951882]
[null,null,null,null,null,"EHV/HV","%",null,null,0.63580540031951882,null,0.52994203457233025,0.53832013557425951,0.58594309014253887,{"$f":"HLOOKUP(F144,'ARP_Peaking probabilities'!K$5:S$45,23,FALSE)","v":0.63580540031951882},{"$f":"O144","v":0.63580540031951882},0.63580540031951882,0.63580540031951882,0.63580540031951882]
[null,null,null,null,null,"132kV/HV","%",null,null,0.56779401321073086,null,0.64295595897706448,0.59838873095843537,0.58954839781869683,{"$f":"HLOOKUP(F145,'ARP_Peaking probabilities'!K$5:S$45,23,FALSE)","v":0.56779401321073086},{"$f":"O145","v":0.56779401321073086},0.56779401321073086,0.56779401321073086,0.56779401321073086]
[null,null,null,null,null,"HV","%",null,null,0.63580540031951882,null,0.52994203457233025,0.53832013557425951,0.58594309014253887,{"$f":"HLOOKUP(F146,'ARP_Peaking probabilities'!K$5:S$45,23,FALSE)","v":0.63580540031951882},{"$f":"O146","v":0.63580540031951882},0.63580540031951882,0.63580540031951882,0.63580540031951882]
[null,null,null,null,null,"HV/LV","%",null,null,0.63580540031951882,null,0.52994203457233025,0.53832013557425951,0.58594309014253887,{"$f":"HLOOKUP(F147,'ARP_Peaking probabilities'!K$5:S$45,23,FALSE)","v":0.63580540031951882},{"$f":"O147","v":0.63580540031951882},0.63580540031951882,0.63580540031951882,0.63580540031951882]
[null,null,null,null,null,"LV circuits","%",null,null,0.63580540031951882,null,0.52994203457233025,0.53832013557425951,0.58594309014253887,{"$f":"HLOOKUP(F148,'ARP_Peaking probabilities'!K$5:S$45,23,FALSE)","v":0.63580540031951882},{"$f":"O148","v":0.63580540031951882},0.63580540031951882,0.63580540031951882,0.63580540031951882]
[]
[null,null,null,null,"Amber peaking probabilities, by network level",null,null,null,">",null,null,null,null,null,null,null,null,null,null,null,"Paragraphs 48 to 49"]
[null,null,null,null,null,"Transmission exit","%"]
[null,null,null,null,null,"GSPs","%",null,null,{"$f":"CHOOSE(year_selection, L152,M152,N152,O152,P152,Q152,R152,S152)","v":0.17378199862228649},null,0.42868067314012476,0.33164598758530256,0.29931400666082636,{"$f":"HLOOKUP(F152,'ARP_Peaking probabilities'!K$5:S$45,29,FALSE)","v":0.17378199862228649},{"$f":"O152","v":0.17378199862228649},0.17378199862228649,0.17378199862228649,0.17378199862228649]
[null,null,null,null,null,"132kV","%",null,null,0.26682449702026062,null,0.29675812280232788,0.29281825838264591,0.27893790039200456,{"$f":"HLOOKUP(F153,'ARP_Peaking probabilities'!K$5:S$45,29,FALSE)","v":0.26682449702026062},{"$f":"O153","v":0.26682449702026062},0.26682449702026062,0.26682449702026062,0.26682449702026062]
[null,null,null,null,null,"132kV/EHV","%",null,null,0.26682449702026062,null,0.29675812280232788,0.29281825838264591,0.27893790039200456,{"$f":"HLOOKUP(F154,'ARP_Peaking probabilities'!K$5:S$45,29,FALSE)","v":0.26682449702026062},{"$f":"O154","v":0.26682449702026062},0.26682449702026062,0.26682449702026062,0.26682449702026062]
[null,null,null,null,null,"EHV","%",null,null,0.31463582744008911,null,0.38962870839196934,0.37356290397320552,0.32964681015583547,{"$f":"HLOOKUP(F155,'ARP_Peaking probabilities'!K$5:S$45,29,FALSE)","v":0.31463582744008911},{"$f":"O155","v":0.31463582744008911},0.31463582744008911,0.31463582744008911,0.31463582744008911]
[null,null,null,null,null,"EHV/HV","%",null,null,0.31463582744008911,null,0.38962870839196934,0.37356290397320552,0.32964681015583547,{"$f":"HLOOKUP(F156,'ARP_Peaking probabilities'!K$5:S$45,29,FALSE)","v":0.31463582744008911},{"$f":"O156","v":0.31463582744008911},0.31463582744008911,0.31463582744008911,0.31463582744008911]
[null,null,null,null,null,"132kV/HV","%",null,null,0.26682449702026062,null,0.29675812280232788,0.29281825838264591,0.27893790039200456,{"$f":"HLOOKUP(F157,'ARP_Peaking probabilities'!K$5:S$45,29,FALSE)","v":0.26682449702026062},{"$f":"O157","v":0.26682449702026062},0.26682449702026062,0.26682449702026062,0.26682449702026062]
[null,null,null,null,null,"HV","%",null,null,0.31463582744008911,null,0.38962870839196934,0.37356290397320552,0.32964681015583547,{"$f":"HLOOKUP(F158,'ARP_Peaking probabilities'!K$5:S$45,29,FALSE)","v":0.31463582744008911},{"$f":"O158","v":0.31463582744008911},0.31463582744008911,0.31463582744008911,0.31463582744008911]
[null,null,null,null,null,"HV/LV","%",null,null,0.31463582744008911,null,0.38962870839196934,0.37356290397320552,0.32964681015583547,{"$f":"HLOOKUP(F159,'ARP_Peaking probabilities'!K$5:S$45,29,FALSE)","v":0.31463582744008911},{"$f":"O159","v":0.31463582744008911},0.31463582744008911,0.31463582744008911,0.31463582744008911]
[null,null,null,null,null,"LV circuits","%",null,null,0.31463582744008911,null,0.38962870839196934,0.37356290397320552,0.32964681015583547,{"$f":"HLOOKUP(F160,'ARP_Peaking probabilities'!K$5:S$45,29,FALSE)","v":0.31463582744008911},{"$f":"O160","v":0.31463582744008911},0.31463582744008911,0.31463582744008911,0.31463582744008911]
[]
[null,null,null,null,"Green peaking probabilities, by network level",null,null,null,">",null,null,null,null,null,null,null,null,null,null,null,"Paragraphs 48 to 49"]
[null,null,null,null,null,"Transmission exit","%"]
[null,null,null,null,null,"GSPs","%",null,null,{"$f":"CHOOSE(year_selection, L164,M164,N164,O164,P164,Q164,R164,S164)","v":5.1085382190432682E-2},null,3.6955700248124754E-3,2.6583979961166224E-2,2.6583979961166224E-2,{"$f":"HLOOKUP(F164,'ARP_Peaking probabilities'!K$5:S$45,35,FALSE)","v":5.1085382190432682E-2},{"$f":"O164","v":5.1085382190432682E-2},5.1085382190432682E-2,5.1085382190432682E-2,5.1085382190432682E-2]
[null,null,null,null,null,"132kV","%",null,null,0.16538148976900843,null,6.0285918220607672E-2,0.10879301065891867,0.13151370178929858,{"$f":"HLOOKUP(F165,'ARP_Peaking probabilities'!K$5:S$45,35,FALSE)","v":0.16538148976900843},{"$f":"O165","v":0.16538148976900843},0.16538148976900843,0.16538148976900843,0.16538148976900843]
[null,null,null,null,null,"132kV/EHV","%",null,null,0.16538148976900843,null,6.0285918220607672E-2,0.10879301065891867,0.13151370178929858,{"$f":"HLOOKUP(F166,'ARP_Peaking probabilities'!K$5:S$45,35,FALSE)","v":0.16538148976900843},{"$f":"O166","v":0.16538148976900843},0.16538148976900843,0.16538148976900843,0.16538148976900843]
[null,null,null,null,null,"EHV","%",null,null,4.9558772240392047E-2,null,8.0429257035700363E-2,8.8116960452534934E-2,8.4410099701625593E-2,{"$f":"HLOOKUP(F167,'ARP_Peaking probabilities'!K$5:S$45,35,FALSE)","v":4.9558772240392047E-2},{"$f":"O167","v":4.9558772240392047E-2},4.9558772240392047E-2,4.9558772240392047E-2,4.9558772240392047E-2]
[null,null,null,null,null,"EHV/HV","%",null,null,4.9558772240392047E-2,null,8.0429257035700363E-2,8.8116960452534934E-2,8.4410099701625593E-2,{"$f":"HLOOKUP(F168,'ARP_Peaking probabilities'!K$5:S$45,35,FALSE)","v":4.9558772240392047E-2},{"$f":"O168","v":4.9558772240392047E-2},4.9558772240392047E-2,4.9558772240392047E-2,4.9558772240392047E-2]
[null,null,null,null,null,"132kV/HV","%",null,null,0.16538148976900843,null,6.0285918220607672E-2,0.10879301065891867,0.13151370178929858,{"$f":"HLOOKUP(F169,'ARP_Peaking probabilities'!K$5:S$45,35,FALSE)","v":0.16538148976900843},{"$f":"O169","v":0.16538148976900843},0.16538148976900843,0.16538148976900843,0.16538148976900843]
[null,null,null,null,null,"HV","%",null,null,4.9558772240392047E-2,null,8.0429257035700363E-2,8.8116960452534934E-2,8.4410099701625593E-2,{"$f":"HLOOKUP(F170,'ARP_Peaking probabilities'!K$5:S$45,35,FALSE)","v":4.9558772240392047E-2},{"$f":"O170","v":4.9558772240392047E-2},4.9558772240392047E-2,4.9558772240392047E-2,4.9558772240392047E-2]
[null,null,null,null,null,"HV/LV","%",null,null,4.9558772240392047E-2,null,8.0429257035700363E-2,8.8116960452534934E-2,8.4410099701625593E-2,{"$f":"HLOOKUP(F171,'ARP_Peaking probabilities'!K$5:S$45,35,FALSE)","v":4.9558772240392047E-2},{"$f":"O171","v":4.9558772240392047E-2},4.9558772240392047E-2,4.9558772240392047E-2,4.9558772240392047E-2]
[null,null,null,null,null,"LV circuits","%",null,null,4.9558772240392047E-2,null,8.0429257035700363E-2,8.8116960452534934E-2,8.4410099701625593E-2,{"$f":"HLOOKUP(F172,'ARP_Peaking probabilities'!K$5:S$45,35,FALSE)","v":4.9558772240392047E-2},{"$f":"O172","v":4.9558772240392047E-2},4.9558772240392047E-2,4.9558772240392047E-2,4.9558772240392047E-2]
[]
[null,null,null,null,"Black peaking probabilities, by network level"]
[null,null,null,null,null,"Transmission exit","%"]
[null,null,null,null,null,"GSPs","%",null,null,{"$f":"CHOOSE(year_selection, L176,M176,N176,O176,P176,Q176,R176,S176)","v":0.60679682585338368},null,0.37569093952497451,0.51218734513378095,0.57245393946059864,{"$f":"HLOOKUP(F176,'ARP_Peaking probabilities'!K$5:S$45,41,FALSE)","v":0.60679682585338368},{"$f":"O176","v":0.60679682585338368},0.60679682585338368,0.60679682585338368,0.60679682585338368]
[null,null,null,null,null,"132kV","%",null,null,0.46666336703292904,null,0.5815885922131746,0.53444126951563697,0.53788777096921614,{"$f":"HLOOKUP(F177,'ARP_Peaking probabilities'!K$5:S$45,41,FALSE)","v":0.46666336703292904},{"$f":"O177","v":0.46666336703292904},0.46666336703292904,0.46666336703292904,0.46666336703292904]
[null,null,null,null,null,"132kV/EHV","%",null,null,0.46666336703292904,null,0.5815885922131746,0.53444126951563697,0.53788777096921614,{"$f":"HLOOKUP(F178,'ARP_Peaking probabilities'!K$5:S$45,41,FALSE)","v":0.46666336703292904},{"$f":"O178","v":0.46666336703292904},0.46666336703292904,0.46666336703292904,0.46666336703292904]
[null,null,null,null,null,"EHV","%",null,null,0.46262985578084642,null,0.48245506719578679,0.49108548954983416,0.50460741503570183,{"$f":"HLOOKUP(F179,'ARP_Peaking probabilities'!K$5:S$45,41,FALSE)","v":0.46262985578084642},{"$f":"O179","v":0.46262985578084642},0.46262985578084642,0.46262985578084642,0.46262985578084642]
[null,null,null,null,null,"EHV/HV","%",null,null,0.46262985578084642,null,0.48245506719578679,0.49108548954983416,0.50460741503570183,{"$f":"HLOOKUP(F180,'ARP_Peaking probabilities'!K$5:S$45,41,FALSE)","v":0.46262985578084642},{"$f":"O180","v":0.46262985578084642},0.46262985578084642,0.46262985578084642,0.46262985578084642]
[null,null,null,null,null,"132kV/HV","%",null,null,0.46666336703292904,null,0.5815885922131746,0.53444126951563697,0.53788777096921614,{"$f":"HLOOKUP(F181,'ARP_Peaking probabilities'!K$5:S$45,41,FALSE)","v":0.46666336703292904},{"$f":"O181","v":0.46666336703292904},0.46666336703292904,0.46666336703292904,0.46666336703292904]
[null,null,null,null,null,"HV","%",null,null,0.46262985578084642,null,0.48245506719578679,0.49108548954983416,0.50460741503570183,{"$f":"HLOOKUP(F182,'ARP_Peaking probabilities'!K$5:S$45,41,FALSE)","v":0.46262985578084642},{"$f":"O182","v":0.46262985578084642},0.46262985578084642,0.46262985578084642,0.46262985578084642]
[null,null,null,null,null,"HV/LV","%",null,null,0.46262985578084642,null,0.48245506719578679,0.49108548954983416,0.50460741503570183,{"$f":"HLOOKUP(F183,'ARP_Peaking probabilities'!K$5:S$45,41,FALSE)","v":0.46262985578084642},{"$f":"O183","v":0.46262985578084642},0.46262985578084642,0.46262985578084642,0.46262985578084642]
[null,null,null,null,null,"LV circuits","%",null,null,0.46262985578084642,null,0.48245506719578679,0.49108548954983416,0.50460741503570183,{"$f":"HLOOKUP(F184,'ARP_Peaking probabilities'!K$5:S$45,41,FALSE)","v":0.46262985578084642},{"$f":"O184","v":0.46262985578084642},0.46262985578084642,0.46262985578084642,0.46262985578084642]
[]
[null,"Checks"]
[]
[null,null,"Checks are not run for historic years, for which DNOs are not obliged to enter inputs."]
[]
[null,null,null,null,"Check for error values",null,"number of issues",{"$f":"SUM(IF(ISERROR(H18:T185), 1))","v":0}]
[]
[null,null,null,null,"Check that loss adjustment factor = 1 at grid supply point",null,"number of issues",{"$f":"SUM(L192:S192)","v":0},null,null,null,null,null,null,{"$f":"IF(O48 = 1, 0, 1)","v":0},{"$f":"IF(P48 = 1, 0, 1)","v":0},{"$f":"IF(Q48 = 1, 0, 1)","v":0},{"$f":"IF(R48 = 1, 0, 1)","v":0},{"$f":"IF(S48 = 1, 0, 1)","v":0}]
[]
[null,null,null,null,"Peaking probabilities check - General"]
[null,null,null,null,null,"Transmission exit","number of issues"]
[null,null,null,null,null,"GSPs","number of issues",{"$f":"SUM(L196:S196)","v":0},null,null,null,null,null,null,{"$f":"IF(ABS(SUM(O140,O152,O164) - 1) < 10^-check_decimals,0,1)","v":0},{"$f":"IF(ABS(SUM(P140,P152,P164) - 1) < 10^-check_decimals,0,1)","v":0},{"$f":"IF(ABS(SUM(Q140,Q152,Q164) - 1) < 10^-check_decimals,0,1)","v":0},{"$f":"IF(ABS(SUM(R140,R152,R164) - 1) < 10^-check_decimals,0,1)","v":0},{"$f":"IF(ABS(SUM(S140,S152,S164) - 1) < 10^-check_decimals,0,1)","v":0}]
[null,null,null,null,null,"132kV","number of issues"]
[null,null,null,null,null,"132kV/EHV","number of issues"]
[null,null,null,null,null,"EHV","number of issues",0,null,null,null,null,null,null,{"$f":"IF(ABS(SUM(O143,O155,O167) - 1) < 10^-check_decimals,0,1)","v":0},0,0,0,0]
[null,null,null,null,null,"EHV/HV","number of issues",0,null,null,null,null,null,null,0,0,0,0,0]
[null,null,null,null,null,"132kV/HV","number of issues"]
[null,null,null,null,null,"HV","number of issues",0,null,null,null,null,null,null,{"$f":"IF(ABS(SUM(O146,O158,O170) - 1) < 10^-check_decimals,0,1)","v":0},0,0,0,0]
[null,null,null,null,null,"HV/LV","number of issues",0,null,null,null,null,null,null,0,0,0,0,0]
[null,null,null,null,null,"LV circuits","number of issues",{"$f":"SUM(L204:S204)","v":0},null,null,null,null,null,null,0,0,0,0,0]
[]
[null,null,null,null,"Peaking probabilities check - 132kV/HV"]
[null,null,null,null,null,"Transmission exit","number of issues"]
[null,null,null,null,null,"GSPs","number of issues"]
[null,null,null,null,null,"132kV","number of issues",{"$f":"SUM(L209:S209)","v":0},null,null,null,null,null,null,{"$f":"IF(OR(ABS(SUM(O141,O153,O165) - 1) < 10^-check_decimals, ABS(SUM(O141,O153,O165) - 0) < 10^-check_decimals),0,1)","v":0},0,0,0,0]
[null,null,null,null,null,"132kV/EHV","number of issues",{"$f":"SUM(L210:S210)","v":0},null,null,null,null,null,null,0,0,0,0,0]
[null,null,null,null,null,"EHV","number of issues"]
[null,null,null,null,null,"EHV/HV","number of issues"]
[null,null,null,null,null,"132kV/HV","number of issues",{"$f":"SUM(L213:S213)","v":0},null,null,null,null,null,null,{"$f":"IF(OR(ABS(SUM(O145,O157,O169) - 1) < 10^-check_decimals, ABS(SUM(O145,O157,O169) - 0) < 10^-check_decimals),0,1)","v":0},{"$f":"IF(OR(ABS(SUM(P145,P157,P169) - 1) < 10^-check_decimals, ABS(SUM(P145,P157,P169) - 0) < 10^-check_decimals),0,1)","v":0},{"$f":"IF(OR(ABS(SUM(Q145,Q157,Q169) - 1) < 10^-check_decimals, ABS(SUM(Q145,Q157,Q169) - 0) < 10^-check_decimals),0,1)","v":0},{"$f":"IF(OR(ABS(SUM(R145,R157,R169) - 1) < 10^-check_decimals, ABS(SUM(R145,R157,R169) - 0) < 10^-check_decimals),0,1)","v":0},{"$f":"IF(OR(ABS(SUM(S145,S157,S169) - 1) < 10^-check_decimals, ABS(SUM(S145,S157,S169) - 0) < 10^-check_decimals),0,1)","v":0}]
[null,null,null,null,null,"HV","number of issues"]
[null,null,null,null,null,"HV/LV","number of issues"]
[null,null,null,null,null,"LV circuits","number of issues"]
[]
[null,null,null,null,"Summary of checks",null,"number of issues",{"$f":"SUM(H190,H192,H195:H204,H207:H216)","v":0}]
[]
[null,"End of sheet"]

{"sheet":"ARP_General inputs","index":12,"n_rows":124,"n_cols":38,"rows_kept":124,"cut":false,"hidden":false,"merged":[]}
[{"$f":"MID(CELL(\"filename\",A1),FIND(\"]\",CELL(\"filename\",A1))+1,255)","v":"ARP_General inputs"}]
[{"$f":"Cover!D21&\" - \"&Cover!D23","v":"[enter DNO name] - [enter data version name]"}]
[{"$f":"Cover!D2&\" - \"&Cover!D8&\" v\"&Cover!D10&\" - \"&Cover!D19","v":"ARP model - Release for charge setting v3 - 2020/21"}]
[{"$f":"H122 & IF(H122 = 1, \" issue\", \" issues\") &\" identified in checks on this sheet\"","v":"0 issues identified in checks on this sheet"}]
[null,null,null,null,null,null,null,null,null,{"$f":"\"Year selected (\"& charging_year_selected &\")\"","v":"Year selected (2024/25)"},null,{"$f":"TRANSPOSE('ARP_User control'!G28:H35)","v":"2017/18"},"2018/19","2019/20","2020/21","2021/22","2022/23","2023/24","2024/25"]
[null,"Click here to return to model map",null,null,null,null,"Units","Constants",null,{"$f":"'ARP_User control'!$H$36","v":"Forecast"},null,"Historic","Historic","Historic","Current","Forecast","Forecast","Forecast","Forecast",null,"Legal text reference"]
[]
[null,"Description"]
[]
[null,null,"This sheet sets out general inputs by year."]
[null,null,"DNOs should populate the inputs for the charging year and the four following years."]
[null,null,"DNOs can also populate the three years preceding the charging year, but are not obliged to do so. "]
[]
[null,"General inputs"]
[]
[null,null,{"$f":"INDEX('Version control'!$H$34:$H$59,MATCH($A$1,'Version control'!$F$34:$F$59,0),1)&\"-A: Split of hours by distribution timeband\"","v":"Input 503-A: Split of hours by distribution timeband"}]
[]
[null,null,null,null,"Typical annual hours by special distribution time band",null,null,null,">",null,null,null,null,null,null,null,null,null,null,null,"Paragraphs 40 to 41"]
[null,null,null,null,null,"Black","hours per year",null,null,{"$f":"CHOOSE(year_selection, L19,M19,N19,O19,P19,Q19,R19,S19)","v":190},null,190,190,190,187.5,190,190,192.5,190]
[null,null,null,null,null,"Yellow","hours per year",null,null,{"$f":"CHOOSE(year_selection, L20,M20,N20,O20,P20,Q20,R20,S20)","v":4218.5},null,4210,4210,4233,4221,4218.5,4218.5,4213.5,4218.5]
[null,null,null,null,null,"Green","hours per year",null,null,{"$f":"CHOOSE(year_selection, L21,M21,N21,O21,P21,Q21,R21,S21)","v":4351.5},null,4360,4360,4361,4351.5,4351.5,4351.5,4378,4351.5]
[]
[null,null,null,null,"Typical annual hours by distribution time band",null,null,null,">",null,null,null,null,null,null,null,null,null,null,null,"Paragraphs 40 to 41"]
[null,null,null,null,null,"Red","hours per year",null,null,{"$f":"CHOOSE(year_selection, L24,M24,N24,O24,P24,Q24,R24,S24)","v":652.5},null,650,650,655,652.5,652.5,652.5,650,652.5]
[null,null,null,null,null,"Amber","hours per year",null,null,{"$f":"CHOOSE(year_selection, L25,M25,N25,O25,P25,Q25,R25,S25)","v":3756},null,3750,3750,3768,3756,3756,3756,3756,3756]
[null,null,null,null,null,"Green","hours per year",null,null,{"$f":"CHOOSE(year_selection, L26,M26,N26,O26,P26,Q26,R26,S26)","v":4351.5},null,4360,4360,4361,4351.5,4351.5,4351.5,4378,4351.5]
[]
[null,null,{"$f":"INDEX('Version control'!$H$34:$H$59,MATCH($A$1,'Version control'!$F$34:$F$59,0),1)&\"-B: Embedded network (LDNO) discount percentages\"","v":"Input 503-B: Embedded network (LDNO) discount percentages"}]
[]
[null,null,null,"Inputs sourced from PCDM"]
[]
[null,null,null,null,"Embedded network (LDNO) discount percentages",null,null,null,">",null,null,null,null,null,null,null,null,null,null,null,"Paragraph 53"]
[null,null,null,null,null,"LDNO LV: LV user","%",null,null,{"$f":"CHOOSE(year_selection, L33,M33,N33,O33,P33,Q33,R33,S33)","v":0.32721850432250099},null,0.32067063310301314,0.32652035190970308,0.31992553007788543,0.32721850432250099,{"$f":"O33","v":0.32721850432250099},{"$f":"P33","v":0.32721850432250099},0.32721850432250099,0.32721850432250099]
[null,null,null,null,null,"LDNO HV: LV user","%",null,null,{"$f":"CHOOSE(year_selection, L34,M34,N34,O34,P34,Q34,R34,S34)","v":0.61947521099660174},null,0.64016124378084038,0.63696517951604736,0.63347612207875947,0.61947521099660174,{"$f":"O34","v":0.61947521099660174},0.61947521099660174,0.61947521099660174,0.61947521099660174,null,null,null,"NHH UMS category D","LV UMS (Pseudo HH Metered)","LV Generation NHH or Aggregate HH","LV Sub Generation NHH","LV Generation Intermittent","LV Generation Intermittent no RP charge","LV Generation Non-Intermittent","LV Generation Non-Intermittent no RP charge","LV Sub Generation Intermittent","LV Sub Generation Intermittent no RP charge","LV Sub Generation Non-Intermittent","LV Sub Generation Non-Intermittent no RP charge","HV Generation Intermittent","HV Generation Intermittent no RP charge","HV Generation Non-Intermittent","HV Generation Non-Intermittent no RP charge"]
[null,null,null,null,null,"LDNO HV: LV Sub user","%",null,null,{"$f":"CHOOSE(year_selection, L35,M35,N35,O35,P35,Q35,R35,S35)","v":0.41493783028785863},null,0.45121969434751508,0.44423374225997514,0.43848857992423512,0.41493783028785863,{"$f":"O35","v":0.41493783028785863},0.41493783028785863,0.41493783028785863,0.41493783028785863]
[null,null,null,null,null,"LDNO HV: HV user","%",null,null,{"$f":"CHOOSE(year_selection, L36,M36,N36,O36,P36,Q36,R36,S36)","v":0.29542429060126774},null,0.34018760917340396,0.32994932311782349,0.3226874527022579,0.29542429060126774,{"$f":"O36","v":0.29542429060126774},0.29542429060126774,0.29542429060126774,0.29542429060126774]
[]
[null,null,{"$f":"INDEX('Version control'!$H$34:$H$59,MATCH($A$1,'Version control'!$F$34:$F$59,0),1)&\"-C: CDCM target revenue\"","v":"Input 503-C: CDCM target revenue"}]
[]
[null,null,null,"The contents of this section are defined in Paragraph 1.5 of Schedule 15 (Table 1).",null,null,null,null,">",null,null,null,null,null,null,null,null,null,null,null,"Paragraph 54 and Schedule 15 Table 1"]
[null,null,null,"\"CDCM Revenue used in Charging Model\" is the only row used as an input to the model itself."]
[]
[null,null,null,null,"Base Demand Revenue before inflation",null,"£",null,null,{"$f":"CHOOSE(year_selection, L43,M43,N43,O43,P43,Q43,R43,S43)","v":218900000},null,208200000,210300000,212400000,214500000,216700000,218900000,{"$f":"Q43","v":218900000},{"$f":"R43","v":218900000}]
[null,null,null,null,"Annual Iteration adjustment before inflation",null,"£",null,null,0,null,-2900000,-4763402.3084484339,-5100676.6869154489,-13345842.741586609,-15600925.734275648,-37631442.139567658,0,0]
[null,null,null,null,"RPI True-up before inflation",null,"£",null,null,0,null,-4381620.3582429867,-801365.71156188613,511602.05731176166,428200.84974845778,0,0,0,0]
[null,null,null,null,"Price index adjustment (RPI index)",null,"scalar",null,null,1.4071895201471245,null,1.121,1.1599999999999999,1.196,1.236,1.2769999999999999,1.319,{"$f":"Q46/P46*Q46","v":1.3623813625685199},{"$f":"R46/Q46*R46","v":1.4071895201471245}]
[null,null,null,null,"Base demand revenue",null,"£",null,null,218900000,null,{"$f":"SUM(L43:L45)","v":200918379.64175701},{"$f":"SUM(M43:M45)","v":204735231.97998968},207810925.37039632,{"$f":"SUM(O43:O45)","v":201582358.10816187},{"$f":"SUM(P43:P45)","v":201099074.26572436},181268557.86043233,{"$f":"SUM(R43:R45)","v":218900000},218900000]
[null,null,null,null,"Inflation adjustment",null,"£",null,null,89133785.960205555,null,{"$f":"L47 * (L46 - 1)","v":24311123.936652597},{"$f":"M47 * (M46 - 1)","v":32757637.116798334},40730941.372597665,{"$f":"O47 * (O46 - 1)","v":47573436.513526201},{"$f":"P47 * (P46 - 1)","v":55704443.57160563},57824669.957477905,{"$f":"R47 * (R46 - 1)","v":79325280.266249016},89133785.960205555]
[]
[null,null,null,null,"Pass-Through Licence Fees",null,"£",null,null,{"$f":"CHOOSE(year_selection, L50,M50,N50,O50,P50,Q50,R50,S50)","v":243543.69416118861},null,172990.71093827533,41550.656225998435,215551.87185860719,221283.47063016862,226975.10175447926,231948.61718360923,237454.20875908519,243543.69416118861]
[null,null,null,null,"Pass-Through Business Rates",null,"£",null,null,-10955321.322069762,null,75261.809156653311,-165753.57022652749,-9439525.0310869124,-9760598.919877531,-10015571.513663974,-10296111.260317659,-10623078.100605888,-10955321.322069762]
[null,null,null,null,"Pass-Through Transmission Connection Point Charges",null,"£",null,null,1011658.2335415984,null,3558170.8443317078,1519671.6870571619,1032933.133260866,1056908.161425824,1079090.756894418,1088884.1240576347,1101312.4315270884,1011658.2335415984]
[null,null,null,null,"Pass-through Smart Meter Communication Licence Costs",null,"£",null,null,1543861.5669464252,null,689.69358423964866,270728.701790502,251881.45788946553,602230.02721132827,718225.80804307829,925689.13486657222,1546015.5648284117,1543861.5669464252]
[null,null,null,null,"Pass-through Smart Meter IT Costs",null,"£",null,null,345925.54860108398,null,-66686.353729368071,-49615.057362203683,166567.65890863515,-73084.232964027004,354430.8035692987,-220898.89363326295,179130.32915278667,345925.54860108398]
[null,null,null,null,"Pass-through Ring Fence Costs",null,"£",null,null,29182.455507073544,null,14706.44687555905,15261.114010357689,25282.591084346408,25979.885879960104,26711.224029770496,27471.287074853197,28292.63779635121,29182.455507073544]
[null,null,null,null,"Pass-Through Others",null,"£",null,null,0]
[null,null,null,null,"Allowed Pass-Through Items",null,"£",null,null,-7781149.8233123925,null,{"$f":"SUM(L50:L56)","v":3755133.1511570672},{"$f":"SUM(M50:M56)","v":1631843.5314952889},-7747308.3180849915,{"$f":"SUM(O50:O56)","v":-7927281.6076942775},{"$f":"SUM(P50:P56)","v":-7610137.8193729296},-8243016.9907682529,{"$f":"SUM(R50:R56)","v":-7530872.9285421669},-7781149.8233123925]
[]
[null,null,null,null,"Broad Measure of Customer Service incentive",null,"£",null,null,{"$f":"CHOOSE(year_selection, L59,M59,N59,O59,P59,Q59,R59,S59)","v":3233566.3440000014},null,2748341.007458875,2656990.0634556054,3095418.5756615917,3037886.6642295793,3134152.4920000015,3233566.3440000014,{"$f":"Q59","v":3233566.3440000014},{"$f":"R59","v":3233566.3440000014}]
[null,null,null,null,"Quality of Service incentive",null,"£",null,null,4384476.7161550038,null,5211250.5332402121,5840251.9446734563,3181879.3526936532,4393791.0201497525,4408334.1309155105,4384476.7161550038,{"$f":"Q60","v":4384476.7161550038},{"$f":"R60","v":4384476.7161550038}]
[null,null,null,null,"Connections Engagement incentive",null,"£",null,null,0,null,0,0,0,0,0,0,0,0]
[null,null,null,null,"Time to Connect incentive",null,"£",null,null,0,null,484670.78491876996,723360.19944824779,833572.06580157357,861187.07579196908,0,0,0,0]
[null,null,null,null,"Losses Discretionary Reward incentive",null,"£",null,null,0,null,44840,0,0,0,0,0,0,0]
[null,null,null,null,"Network Innovation Allowance",null,"£",null,null,547288.2021600001,null,1052039.9999999998,977300.36099999992,977300.36099999992,977300.36099999992,781840.28879999998,547288.2021600001,{"$f":"Q64","v":547288.2021600001},{"$f":"R64","v":547288.2021600001}]
[null,null,null,null,"Low Carbon Network Fund - Tier 1 unrecoverable",null,"£",null,null,0,null,0,0,0,0,0,0,0,0]
[null,null,null,null,"Low Carbon Network Fund - Tier 2 & Discretionary Funding",null,"£",null,null,95446.709646826581,null,118907.33,323131.86,95446.709646826581,95446.709646826581,95446.709646826581,95446.709646826581,{"$f":"Q66","v":95446.709646826581},{"$f":"R66","v":95446.709646826581}]
[null,null,null,null,"Connection Guaranteed Standards Systems & Processes penalty",null,"£",null,null,0,null,0,0,0,0,0,0,0,0]
[null,null,null,null,"Residual Losses and Growth Incentive - Losses",null,"£",null,null,0,null,null,null,null,0,0,0,0,0]
[null,null,null,null,"Residual Losses and Growth Incentive - Growth",null,"£",null,null,0,null,null,null,null,0,0,0,0,0]
[null,null,null,null,"Incentive Revenue and Other Adjustments",null,"£",null,null,8260777.9719618317,null,{"$f":"SUM(L59:L69)","v":9660049.6556178574},{"$f":"SUM(M59:M69)","v":10521034.428577309},8183617.064803645,{"$f":"SUM(O59:O69)","v":9365611.8308181278},{"$f":"SUM(P59:P69)","v":8419773.6213623378},8260777.9719618317,{"$f":"SUM(R59:R69)","v":8260777.9719618317},8260777.9719618317]
[]
[null,null,null,null,"Correction Factor",null,"£",null,null,{"$f":"CHOOSE(year_selection, L72,M72,N72,O72,P72,Q72,R72,S72)","v":0},null,3235115.7673678366,-1601581.3780968392,5576208.1120217871,-2610984.744682516,199292.00637189954,38847.377665656531,0]
[null,null,null,null,"Total allowed Revenue",null,"£",null,null,{"$f":"CHOOSE(year_selection, L73,M73,N73,O73,P73,Q73,R73,S73)","v":308513414.10885501},null,{"$f":"L72 + L70 + L57 + L48 + L47","v":241879802.15255237},{"$f":"M72 + M70 + M57 + M48 + M47","v":248044165.67876378},254554383.60173443,{"$f":"O72 + O70 + O57 + O48 + O47","v":247983140.1001294},{"$f":"P72 + P70 + P57 + P48 + P47","v":257812445.64569131},239149836.17676947,{"$f":"R72 + R70 + R57 + R48 + R47","v":298955185.30966866},308513414.10885501]
[]
[null,null,null,null,"Other 1. Excluded services - Top-up, standby, and enhanced system security",null,"£",null,null,{"$f":"CHOOSE(year_selection, L75,M75,N75,O75,P75,Q75,R75,S75)","v":0}]
[null,null,null,null,"Other 2. Excluded services - Revenue protection services",null,"£",null,null,0]
[null,null,null,null,"Other 3. Excluded services - Miscellaneous",null,"£",null,null,0]
[null,null,null,null,"Other 4. Please describe if used",null,"£",null,null,0]
[null,null,null,null,"Other 5. Please describe if used",null,"£",null,null,0]
[null,null,null,null,"Total other revenue recovered by Use of System Charges",null,"£",null,null,0,null,{"$f":"SUM(L75:L79)","v":0},{"$f":"SUM(M75:M79)","v":0},0,{"$f":"SUM(O75:O79)","v":0},{"$f":"SUM(P75:P79)","v":0},0,{"$f":"SUM(R75:R79)","v":0},0]
[null,null,null,null,"Total Revenue for Use of System Charges",null,"£",null,null,308513414.10885501,null,{"$f":"L73+L80","v":241879802.15255237},{"$f":"M73+M80","v":248044165.67876378},254554383.60173443,{"$f":"O73+O80","v":247983140.1001294},{"$f":"P73+P80","v":257812445.64569131},239149836.17676947,{"$f":"R73+R80","v":298955185.30966866},308513414.10885501]
[]
[null,null,null,null,"1. Revenue raised outside CDCM - EDCM and Certain Interconnector Revenue",null,"£",null,null,{"$f":"CHOOSE(year_selection, L83,M83,N83,O83,P83,Q83,R83,S83)","v":18875975.631406404},null,13993309.162972618,17136094.870319068,18605686.49912075,15172512.7513518,15773905.505983243,14632059.007764118,{"$f":"R81/Q81*Q83","v":18291168.34056624},{"$f":"S81/R81*R83","v":18875975.631406404}]
[null,null,null,null,"2. Revenue raised outside CDCM - Voluntary under-recovery",null,"£",null,null,0]
[null,null,null,null,"3. Revenue raised outside CDCM - Please describe if used",null,"£",null,null,0]
[null,null,null,null,"4. Revenue raised outside CDCM - Please describe if used",null,"£",null,null,0]
[null,null,null,null,"Total Revenue to be raised outside the CDCM",null,"£",null,null,18875975.631406404,null,{"$f":"SUM(L83:L86)","v":13993309.162972618},{"$f":"SUM(M83:M86)","v":17136094.870319068},18605686.49912075,{"$f":"SUM(O83:O86)","v":15172512.7513518},15773905.505983243,14632059.007764118,18291168.34056624,18875975.631406404]
[null,null,null,null,"Latest forecast of CDCM Revenue",null,"£",null,null,289637438.47744858,null,{"$f":"L81-L87","v":227886492.98957974},{"$f":"M81-M87","v":230908070.80844471},235948697.10261369,{"$f":"O81-O87","v":232810627.34877759},242038540.13970807,224517777.16900533,280664016.96910244,289637438.47744858]
[null,null,null,null,"CDCM Revenue Used in Charging Model",null,"£",null,null,{"$f":"CHOOSE(year_selection, L89,M89,N89,O89,P89,Q89,R89,S89)","v":289637438.47744858},null,222242013.02985105,230573805.53501013,239181748,{"$f":"O88","v":232810627.34877759},242038540.13970807,224517777.16900533,280664016.96910244,289637438.47744858]
[]
[null,null,null,null,"Final Collected Revenue Forecast",null,"£",null,null,{"$f":"CHOOSE(year_selection, L91,M91,N91,O91,P91,Q91,R91,S91)","v":0},null,236521083.98999998,250338829.92953813,254780775.73626292,247946522.72086114,257812445.64569131,239149836.1767695,0,0]
[null,null,null,null,"Forecast Over / (Under) Recovery",null,"£",null,null,{"$f":"CHOOSE(year_selection, L92,M92,N92,O92,P92,Q92,R92,S92)","v":-308513414.10885501},null,{"$f":"L91 - L80 - L73 + L84","v":-5358718.1625523865},2294664.2507743537,226392.13452848792,-36617.37926825881,0,2.9802322387695313E-8,-298955185.30966866,-308513414.10885501]
[null,null,null,null,"Forecast overall percentage change to Allowed Revenue",null,"%",null,null,{"$f":"CHOOSE(year_selection, L93,M93,N93,O93,P93,Q93,R93,S93)","v":3.1972112439814682E-2},null,null,{"$f":"IF( L73 <> 0, M73 / L73 - 1, 0)","v":2.5485234696543957E-2},2.6246204602941026E-2,-2.581469393151814E-2,3.9636991214778039E-2,-7.2388318656150696E-2,0.25007480702890228,3.1972112439814682E-2]
[null,null,null,null,"Overall % change to Use of System Charges effective 1st April of Regulatory Year to balance",null,"%",null,null,{"$f":"CHOOSE(year_selection, L94,M94,N94,O94,P94,Q94,R94,S94)","v":0},null,null,{"$f":"IF( L91 <> 0, M91 / L91 - 1, 0)","v":5.8420778843218724E-2},{"$f":"IF( M91 <> 0, N91 / M91 - 1, 0)","v":1.774373479326008E-2},-2.682405293591017E-2,3.9790527475705995E-2,-7.2388318656150585E-2,-1,0]
[]
[null,null,{"$f":"INDEX('Version control'!$H$34:$H$59,MATCH($A$1,'Version control'!$F$34:$F$59,0),1)&\"-D: Financial and general assumptions\"","v":"Input 503-D: Financial and general assumptions"}]
[]
[null,null,null,null,"Real post-tax cost of capital",null,"%",null,">",{"$f":"CHOOSE(year_selection, L98,M98,N98,O98,P98,Q98,R98,S98)","v":3.73E-2},null,4.3099999999999999E-2,4.2099999999999999E-2,4.0800000000000003E-2,3.73E-2,{"$f":"O98","v":3.73E-2},{"$f":"P98","v":3.73E-2},{"$f":"Q98","v":3.73E-2},{"$f":"R98","v":3.73E-2},null,"Paragraph 57"]
[null,null,null,null,"Days in the charging year",null,"days",null,null,{"$f":"CHOOSE(year_selection, L99,M99,N99,O99,P99,Q99,R99,S99)","v":365},null,365,365,366,365,{"$f":"L99","v":365},{"$f":"M99","v":365},366,365]
[]
[null,null,{"$f":"INDEX('Version control'!$H$34:$H$59,MATCH($A$1,'Version control'!$F$34:$F$59,0),1)&\"-E: Transmission exit charges\"","v":"Input 503-E: Transmission exit charges"}]
[]
[null,null,null,null,"Transmission exit charges",null,"£ per year",null,">",{"$f":"CHOOSE(year_selection, L103,M103,N103,O103,P103,Q103,R103,S103)","v":13342798.915754424},null,11444160.8148655,11262189.0553302,11342977.302839,11593241.781150412,11959937.993206263,12506596.672237905,{"$f":"Q103*R46/Q46","v":12917933.446109474},{"$f":"R103*S46/R46","v":13342798.915754424},null,"Paragraph 38"]
[]
[null,null,{"$f":"INDEX('Version control'!$H$34:$H$59,MATCH($A$1,'Version control'!$F$34:$F$59,0),1)&\"-F: Other expenditure\"","v":"Input 503-F: Other expenditure"}]
[]
[null,null,null,null,"Other expenditure",null,null,null,">",null,null,null,null,null,null,null,null,null,null,null,"Paragraph 39"]
[null,null,null,null,null,"Direct cost","£ per year",null,null,{"$f":"CHOOSE(year_selection, L108,M108,N108,O108,P108,Q108,R108,S108)","v":29095555.429631043},null,18253433.830107432,23157412.405882299,24823838.651556499,25555979.486873988,{"$f":"O108*P46/O46","v":26403710.198008157},{"$f":"P108*Q46/P46","v":27272117.267950479},{"$f":"Q108*R46/Q46","v":28169085.886003666},{"$f":"R108*S46/R46","v":29095555.429631043}]
[null,null,null,null,null,"Indirect cost","£ per year",null,null,{"$f":"CHOOSE(year_selection, L109,M109,N109,O109,P109,Q109,R109,S109)","v":75889189.719244808},null,61291884.85526979,65849516.194964699,66956805.208519898,66657004.724693865,{"$f":"O109*P46/O46","v":68868118.959089056},{"$f":"P109*Q46/P46","v":71133162.808957294},{"$f":"Q109*R46/Q46","v":73472703.010974675},{"$f":"R109*S46/R46","v":75889189.719244808}]
[null,null,null,null,null,"Network rates","£ per year",null,null,{"$f":"CHOOSE(year_selection, L110,M110,N110,O110,P110,Q110,R110,S110)","v":16406764.884910895},null,21274811.995499998,13690350.439999999,14127199.321332,14495736.970128,14916141.434775218,15378541.819253249,{"$f":"Q110*R46/Q46","v":15884335.677051712},{"$f":"R110*S46/R46","v":16406764.884910895}]
[]
[null,"Checks"]
[]
[null,null,"Checks are not run for historic years, for which DNOs are not obliged to enter inputs."]
[]
[null,null,null,null,"Check for error values",null,"number of issues",{"$f":"SUM(IF(ISERROR(H15:S111), 1))","v":0}]
[]
[null,null,null,null,"Hours in charging year check"]
[null,null,null,null,null,"Normal distribution timebands","number of issues",{"$f":"SUM(L119:S119)","v":0},null,null,null,null,{"$f":"IF(SUM(M19:M21) = M$99 * hours_in_day, 0, 1)","v":0},0,0,0,0,0,0]
[null,null,null,null,null,"Special distribution timebands","number of issues",{"$f":"SUM(L120:S120)","v":0},null,null,null,null,{"$f":"IF(SUM(M24:M26) = M$99 * hours_in_day, 0, 1)","v":0},0,0,0,0,0,0]
[]
[null,null,null,null,"Summary of checks",null,"number of issues",{"$f":"SUM(H116, H119:H120)","v":0}]
[]
[null,"End of sheet"]

{"sheet":"Fixed inputs","index":13,"n_rows":176,"n_cols":44,"rows_kept":176,"cut":false,"hidden":false,"merged":[]}
[{"$f":"MID(CELL(\"filename\",A1),FIND(\"]\",CELL(\"filename\",A1))+1,255)","v":"Fixed inputs"}]
[{"$f":"Cover!D21&\" - \"&Cover!D23","v":"[enter DNO name] - [enter data version name]"}]
[{"$f":"Cover!D2&\" - \"&Cover!D8&\" v\"&Cover!D10&\" - \"&Cover!D19","v":"ARP model - Release for charge setting v3 - 2020/21"}]
[{"$f":"H174 & IF(H174 = 1, \" issue\", \" issues\") &\" identified in checks on this sheet\"","v":"0 issues identified in checks on this sheet"}]
[null,"Click here to return to model map",null,null,null,null,"Units","Constants",null,"Domestic Unrestricted","Domestic Two Rate","Domestic Off Peak (related MPAN)","Small Non Domestic Unrestricted","Small Non Domestic Two Rate","Small Non Domestic Off Peak (related MPAN)","LV Medium Non-Domestic","LV Sub Medium Non-Domestic","HV Medium Non-Domestic","LV Network Domestic","LV Network Non-Domestic Non-CT","LV HH Metered","LV Sub HH Metered","HV HH Metered","NHH UMS category A","NHH UMS category B","NHH UMS category C","NHH UMS category D","LV UMS (Pseudo HH Metered)","LV Generation NHH or Aggregate HH","LV Sub Generation NHH","LV Generation Intermittent","LV Generation Intermittent no RP charge","LV Generation Non-Intermittent","LV Generation Non-Intermittent no RP charge","LV Sub Generation Intermittent","LV Sub Generation Intermittent no RP charge","LV Sub Generation Non-Intermittent","LV Sub Generation Non-Intermittent no RP charge","HV Generation Intermittent","HV Generation Intermittent no RP charge","HV Generation Non-Intermittent","HV Generation Non-Intermittent no RP charge",null,"Legal text reference"]
[]
[null,"Description"]
[]
[null,null,"This sheet sets out the inputs that should be constant across DNOs"]
[]
[null,"Fixed inputs"]
[]
[null,null,{"$f":"INDEX('Version control'!$H$34:$H$59,MATCH($A$1,'Version control'!$F$34:$F$59,0),1)&\"-A: Conversions and time\"","v":"Input 504-A: Conversions and time"}]
[]
[null,null,null,null,"Hours per day",null,"hours",24]
[null,null,null,null,"Ten",null,"integer",10]
[null,null,null,null,"One hundred",null,"integer",100]
[null,null,null,null,"One thousand",null,"integer",1000]
[]
[null,null,{"$f":"INDEX('Version control'!$H$34:$H$59,MATCH($A$1,'Version control'!$F$34:$F$59,0),1)&\"-B: Input 101-B: Rounding\"","v":"Input 504-B: Input 101-B: Rounding"}]
[]
[null,null,null,"Number of decimal places each final charge should be rounded to, specified in Paragraph 14."]
[]
[null,null,null,null,"Decimal places",null,null,null,">",null,null,null,null,null,null,null,null,null,null,null,null,null,null,null,null,null,null,null,null,null,null,null,null,null,null,null,null,null,null,null,null,null,null,"Paragraph 14"]
[null,null,null,null,null,"Unit rate 1","integer",3]
[null,null,null,null,null,"Unit rate 2","integer",3]
[null,null,null,null,null,"Unit rate 3","integer",3]
[null,null,null,null,null,"Fixed charge","integer",2]
[null,null,null,null,null,"Capacity charge","integer",2]
[null,null,null,null,null,"Exceeded capacity charge","integer",2]
[null,null,null,null,null,"Reactive power charge","integer",3]
[]
[null,null,{"$f":"INDEX('Version control'!$H$34:$H$59,MATCH($A$1,'Version control'!$F$34:$F$59,0),1)&\"-C: Financial and general assumptions\"","v":"Input 504-C: Financial and general assumptions"}]
[]
[null,null,null,null,"Annualisation period",null,"years",40,">",null,null,null,null,null,null,null,null,null,null,null,null,null,null,null,null,null,null,null,null,null,null,null,null,null,null,null,null,null,null,null,null,null,null,"Paragraph 57"]
[]
[null,null,null,null,"Power factor",null,"%",0.95,">",null,null,null,null,null,null,null,null,null,null,null,null,null,null,null,null,null,null,null,null,null,null,null,null,null,null,null,null,null,null,null,null,null,null,"Paragraphs 21 & 79"]
[]
[null,null,null,null,"Indirect cost proportion",null,"%",0.6,">",null,null,null,null,null,null,null,null,null,null,null,null,null,null,null,null,null,null,null,null,null,null,null,null,null,null,null,null,null,null,null,null,null,null,"Paragraph 39"]
[]
[null,null,null,null,"Network model GSP peak demand",null,"MW",500,">",null,null,null,null,null,null,null,null,null,null,null,null,null,null,null,null,null,null,null,null,null,null,null,null,null,null,null,null,null,null,null,null,null,null,"Paragraph 20"]
[]
[null,null,{"$f":"INDEX('Version control'!$H$34:$H$59,MATCH($A$1,'Version control'!$F$34:$F$59,0),1)&\"-D: Mappings\"","v":"Input 504-D: Mappings"}]
[]
[null,null,null,null,"LDNO discount map"]
[null,null,null,null,null,"LDNO LV: LV user","1 or 0",null,null,1,1,1,1,1,1,1,0,0,1,1,1,0,0,1,1,1,1,1]
[null,null,null,null,null,"LDNO HV: LV user","1 or 0",null,null,1,1,1,1,1,1,1,0,0,1,1,1,0,0,1,1,1,1,1]
[null,null,null,null,null,"LDNO HV: LV Sub user","1 or 0",null,null,0,0,0,0,0,0,0,0,0,0,0,0,1,0,0,0,0,0,0]
[null,null,null,null,null,"LDNO HV: HV user","1 or 0",null,null,0,0,0,0,0,0,0,0,0,0,0,0,0,1,0,0,0,0,0]
[]
[null,null,null,null,"Network level at which users are supplied",null,null,null,">",null,null,null,null,null,null,null,null,null,null,null,null,null,null,null,null,null,null,null,null,null,null,null,null,null,null,null,null,null,null,null,null,null,null,"Paragraph 30"]
[null,null,null,null,"Network use factors based on customer contributed assets"]
[null,null,null,null,null,"HV substation","1 or 0",null,null,0,0,0,0,0,0,0,0,0,0,0,0,0,0,0,0,0,0,0,0,0,0,0,0,0,0,0,0,0,0,0,0,0]
[null,null,null,null,null,"HV network","1 or 0",null,null,0,0,0,0,0,0,0,0,1,0,0,0,0,1,0,0,0,0,0,0,0,0,0,0,0,0,0,0,0,1,1,1,1]
[null,null,null,null,null,"LV substation","1 or 0",null,null,0,0,0,0,0,0,0,1,0,0,0,0,1,0,0,0,0,0,0,0,1,0,0,0,0,1,1,1,1,0,0,0,0]
[null,null,null,null,null,"LV network","1 or 0",null,null,1,1,1,1,1,1,1,0,0,1,1,1,0,0,1,1,1,1,1,1,0,1,1,1,1,0,0,0,0,0,0,0,0]
[]
[null,null,null,null,"Network use factors (assuming generation contributes at level of connection)"]
[null,null,null,null,"These assume demand and generation use the network from the point of connection."]
[null,null,null,null,null,"Transmission exit","1, 0 or -1",null,null,1,1,1,1,1,1,1,1,1,1,1,1,1,1,1,1,1,1,1,-1,-1,-1,-1,-1,-1,-1,-1,-1,-1,-1,-1,-1,-1]
[null,null,null,null,null,"GSPs","1, 0 or -1",null,null,1,1,1,1,1,1,1,1,1,1,1,1,1,1,1,1,1,1,1,-1,-1,-1,-1,-1,-1,-1,-1,-1,-1,-1,-1,-1,-1]
[null,null,null,null,null,"132kV","1, 0 or -1",null,null,1,1,1,1,1,1,1,1,1,1,1,1,1,1,1,1,1,1,1,-1,-1,-1,-1,-1,-1,-1,-1,-1,-1,-1,-1,-1,-1]
[null,null,null,null,null,"132kV/EHV","1, 0 or -1",null,null,1,1,1,1,1,1,1,1,1,1,1,1,1,1,1,1,1,1,1,-1,-1,-1,-1,-1,-1,-1,-1,-1,-1,-1,-1,-1,-1]
[null,null,null,null,null,"EHV","1, 0 or -1",null,null,1,1,1,1,1,1,1,1,1,1,1,1,1,1,1,1,1,1,1,-1,-1,-1,-1,-1,-1,-1,-1,-1,-1,-1,-1,-1,-1]
[null,null,null,null,null,"EHV/HV","1, 0 or -1",null,null,1,1,1,1,1,1,1,1,1,1,1,1,1,1,1,1,1,1,1,-1,-1,-1,-1,-1,-1,-1,-1,-1,-1,-1,-1,-1,-1]
[null,null,null,null,null,"132kV/HV","1, 0 or -1",null,null,1,1,1,1,1,1,1,1,1,1,1,1,1,1,1,1,1,1,1,-1,-1,-1,-1,-1,-1,-1,-1,-1,-1,-1,-1,-1,-1]
[null,null,null,null,null,"HV","1, 0 or -1",null,null,1,1,1,1,1,1,1,1,1,1,1,1,1,1,1,1,1,1,1,-1,-1,-1,-1,-1,-1,-1,-1,-1,-1,-1,-1,-1,-1]
[null,null,null,null,null,"HV/LV","1, 0 or -1",null,null,1,1,1,1,1,1,1,1,0,1,1,1,1,0,1,1,1,1,1,-1,-1,-1,-1,-1,-1,-1,-1,-1,-1,0,0,0,0]
[null,null,null,null,null,"LV circuits","1, 0 or -1",null,null,1,1,1,1,1,1,1,0,0,1,1,1,0,0,1,1,1,1,1,-1,0,-1,-1,-1,-1,0,0,0,0,0,0,0,0]
[]
[null,null,null,null,"Network use factors (assuming generation makes no contribution at level of connection)",null,null,null,">",null,null,null,null,null,null,null,null,null,null,null,null,null,null,null,null,null,null,null,null,null,null,null,null,null,null,null,null,null,null,null,null,null,null,"Paragraphs 62 & 71"]
[null,null,null,null,"Equal to 0 for the network level at which generation is connected, otherwise equal to network use factor"]
[null,null,null,null,null,"Transmission exit","1, 0 or -1",null,null,1,1,1,1,1,1,1,1,1,1,1,1,1,1,1,1,1,1,1,-1,-1,-1,-1,-1,-1,-1,-1,-1,-1,-1,-1,-1,-1]
[null,null,null,null,null,"GSPs","1, 0 or -1",null,null,1,1,1,1,1,1,1,1,1,1,1,1,1,1,1,1,1,1,1,-1,-1,-1,-1,-1,-1,-1,-1,-1,-1,-1,-1,-1,-1]
[null,null,null,null,null,"132kV","1, 0 or -1",null,null,1,1,1,1,1,1,1,1,1,1,1,1,1,1,1,1,1,1,1,-1,-1,-1,-1,-1,-1,-1,-1,-1,-1,-1,-1,-1,-1]
[null,null,null,null,null,"132kV/EHV","1, 0 or -1",null,null,1,1,1,1,1,1,1,1,1,1,1,1,1,1,1,1,1,1,1,-1,-1,-1,-1,-1,-1,-1,-1,-1,-1,-1,-1,-1,-1]
[null,null,null,null,null,"EHV","1, 0 or -1",null,null,1,1,1,1,1,1,1,1,1,1,1,1,1,1,1,1,1,1,1,-1,-1,-1,-1,-1,-1,-1,-1,-1,-1,-1,-1,-1,-1]
[null,null,null,null,null,"EHV/HV","1, 0 or -1",null,null,1,1,1,1,1,1,1,1,1,1,1,1,1,1,1,1,1,1,1,-1,-1,-1,-1,-1,-1,-1,-1,-1,-1,-1,-1,-1,-1]
[null,null,null,null,null,"132kV/HV","1, 0 or -1",null,null,1,1,1,1,1,1,1,1,1,1,1,1,1,1,1,1,1,1,1,-1,-1,-1,-1,-1,-1,-1,-1,-1,-1,-1,-1,-1,-1]
[null,null,null,null,null,"HV","1, 0 or -1",null,null,1,1,1,1,1,1,1,1,1,1,1,1,1,1,1,1,1,1,1,-1,-1,-1,-1,-1,-1,-1,-1,-1,-1,0,0,0,0]
[null,null,null,null,null,"HV/LV","1, 0 or -1",null,null,1,1,1,1,1,1,1,1,0,1,1,1,1,0,1,1,1,1,1,-1,0,-1,-1,-1,-1,0,0,0,0,0,0,0,0]
[null,null,null,null,null,"LV circuits","1, 0 or -1",null,null,1,1,1,1,1,1,1,0,0,1,1,1,0,0,1,1,1,1,1,0,0,0,0,0,0,0,0,0,0,0,0,0,0]
[]
[null,null,{"$f":"INDEX('Version control'!$H$34:$H$59,MATCH($A$1,'Version control'!$F$34:$F$59,0),1)&\"-E: Standing charge factors\"","v":"Input 504-E: Standing charge factors"}]
[]
[null,null,null,null,"Equal to 0 for the network level at which generation is connected, otherwise equal to network use factor"]
[]
[null,null,null,null,"Standing charge factors",null,null,null,">",null,null,null,null,null,null,null,null,null,null,null,null,null,null,null,null,null,null,null,null,null,null,null,null,null,null,null,null,null,null,null,null,null,null,"Paragraph 74"]
[null,null,null,null,null,"Transmission exit","%"]
[null,null,null,null,null,"GSPs","%"]
[null,null,null,null,null,"132kV","%"]
[null,null,null,null,null,"132kV/EHV","%"]
[null,null,null,null,null,"EHV","%",null,null,null,null,null,null,null,null,null,null,0.2,null,null,null,null,0.2]
[null,null,null,null,null,"EHV/HV","%",null,null,null,null,null,null,null,null,null,null,1,null,null,null,null,1]
[null,null,null,null,null,"132kV/HV","%"]
[null,null,null,null,null,"HV","%",null,null,null,null,null,null,null,null,null,null,1,null,null,0.2,1,1]
[null,null,null,null,null,"HV/LV","%",null,null,null,null,null,null,null,null,null,1,null,null,null,1,1]
[null,null,null,null,null,"LV circuits","%",null,null,1,1,1,1,1,1,1,null,null,1,1,1,null,null,0,0,0,0,0]
[]
[null,null,{"$f":"INDEX('Version control'!$H$34:$H$59,MATCH($A$1,'Version control'!$F$34:$F$59,0),1)&\"-F: Flags\"","v":"Input 504-F: Flags"}]
[]
[null,null,null,"Override discount rate applied"]
[null,null,null,"See Schedule 16, para 125. This has been interpreted to mean that MPANs are fully discounted, "]
[null,null,null,"and everything else is not"]
[null,null,null,null,"MWh"]
[null,null,null,null,null,"Override discount","TRUE / FALSE",null,">",false,false,false,false,false,false,false,false,false,false,false,false,false,false,false,false,false,false,false,true,true,true,true,true,true,true,true,true,true,true,true,true,true,null,"Paragraph 99"]
[null,null,null,null,null,"Discount %","%",null,null,null,null,null,null,null,null,null,null,null,null,null,null,null,null,null,null,null,null,null,0,0,0,0,0,0,0,0,0,0,0,0,0,0]
[]
[null,null,null,null,"MPANs"]
[null,null,null,null,null,"Override discount","TRUE / FALSE",null,null,false,false,false,false,false,false,false,false,false,false,false,false,false,false,false,false,false,false,false,true,true,true,true,true,true,true,true,true,true,true,true,true,true]
[null,null,null,null,null,"Discount %","%",null,null,null,null,null,null,null,null,null,null,null,null,null,null,null,null,null,null,null,null,null,1,1,1,1,1,1,1,1,1,1,1,1,1,1]
[]
[null,null,null,null,"Import capacity (kVA)"]
[null,null,null,null,null,"Override discount","TRUE / FALSE",null,null,false,false,false,false,false,false,false,false,false,false,false,false,false,false,false,false,false,false,false,true,true,true,true,true,true,true,true,true,true,true,true,true,true]
[null,null,null,null,null,"Discount %","%",null,null,null,null,null,null,null,null,null,null,null,null,null,null,null,null,null,null,null,null,null,0,0,0,0,0,0,0,0,0,0,0,0,0,0]
[]
[null,null,null,null,"Exceeded capacity (kVA)"]
[null,null,null,null,null,"Override discount","TRUE / FALSE",null,null,false,false,false,false,false,false,false,false,false,false,false,false,false,false,false,false,false,false,false,true,true,true,true,true,true,true,true,true,true,true,true,true,true]
[null,null,null,null,null,"Discount %","%",null,null,null,null,null,null,null,null,null,null,null,null,null,null,null,null,null,null,null,null,null,0,0,0,0,0,0,0,0,0,0,0,0,0,0]
[]
[null,null,null,null,"Reactive power units (MVArh)"]
[null,null,null,null,null,"Override discount","TRUE / FALSE",null,null,false,false,false,false,false,false,false,false,false,false,false,false,false,false,false,false,false,false,false,true,true,true,true,true,true,true,true,true,true,true,true,true,true]
[null,null,null,null,null,"Discount %","%",null,null,null,null,null,null,null,null,null,null,null,null,null,null,null,null,null,null,null,null,null,0,0,0,0,0,0,0,0,0,0,0,0,0,0]
[]
[null,null,null,null,"Override to use flat annual load"]
[null,null,null,null,"These are used to identify customers where a flat annual load should be assumed"]
[null,null,null,null,null,"Flag to use flat annual load","TRUE / FALSE",null,null,false,false,false,false,false,false,false,false,false,false,false,false,false,false,false,false,false,false,false,true,true,true,true,false,false,true,true,false,false,true,true,false,false]
[]
[null,null,null,null,"Unmetered supply flags"]
[null,null,null,null,"These are used to flag UMS tariff forecast in the pseudo load coefficient calculations, because UMS"]
[null,null,null,null,"customers are subject to a different timebanding"]
[null,null,null,null,null,"Unmetered supply flags","TRUE / FALSE",null,null,false,false,false,false,false,false,false,false,false,false,false,false,false,false,true,true,true,true,true,false,false,false,false,false,false,false,false,false,false,false,false,false,false]
[]
[null,null,null,null,"Flags used in calculation of LV diversity allowance"]
[null,null,null,null,"FALSE = exclude"]
[null,null,null,null,null,"Flag for customers included in aggregate maximum demand","TRUE / FALSE",null,null,true,true,false,true,true,false,true,true,true,true,true,true,true,true,true,true,true,true,true,true,true,true,true,true,true,true,true,true,true,true,true,true,true]
[]
[null,null,null,null,"Flags for applicability of capacity & reactive charges",null,null,null,">",null,null,null,null,null,null,null,null,null,null,null,null,null,null,null,null,null,null,null,null,null,null,null,null,null,null,null,null,null,null,null,null,null,null,"Paragraphs 141 & 146"]
[null,null,null,null,"0 = charges not applicable to customer type"]
[null,null,null,null,"For fixed charges, 1 = capacity element is allocated to fixed charges"]
[null,null,null,null,null,"Capacity charge","1 or 0",null,null,0,0,0,0,0,0,0,0,0,0,0,1,1,1,0,0,0,0,0,0,0,0,0,0,0,0,0,0,0,0,0,0,0]
[null,null,null,null,null,"Exceeded capacity charge","1 or 0",null,null,0,0,0,0,0,0,0,0,0,0,0,1,1,1,0,0,0,0,0,0,0,0,0,0,0,0,0,0,0,0,0,0,0]
[null,null,null,null,null,"Reactive power","1 or 0",null,null,0,0,0,0,0,0,0,0,0,0,0,1,1,1,0,0,0,0,0,0,0,1,0,1,0,1,0,1,0,1,0,1,0]
[null,null,null,null,null,"Capacity charge allocated to fixed charge","1 or 0",null,null,1,1,0,1,1,0,1,1,1,1,1,0,0,0,0,0,0,0,0,0,0,0,0,0,0,0,0,0,0,0,0,0,0]
[]
[null,null,{"$f":"INDEX('Version control'!$H$34:$H$59,MATCH($A$1,'Version control'!$F$34:$F$59,0),1)&\"-G: Identifiers for customer groupings\"","v":"Input 504-G: Identifiers for customer groupings"}]
[]
[null,null,null,null,"Groupings for fixed charges"]
[null,null,null,null,"Sets out the groups that are aggregated when calculating fixed charges. Each group is given an identifier."]
[null,null,null,null,null,"Groupings for fixed charges","integer",null,null,1,1,null,1,1,null,2,3,4,1,1]
[]
[null,null,null,null,"Groupings for equalising unit rates"]
[null,null,null,null,"Sets out the groups that are equalised for unit rates, as set out in Paragraph 72A."]
[null,null,null,null,null,"Profile class group","text",null,null,"1&2","1&2","1&2","3&4","3&4","3&4",null,null,null,"LV Network Domestic","LV Network Non-Domestic"]
[null,null,null,null,null,"Equalisation group","text",null,null,"Domestic","Domestic","Domestic","Non-domestic","Non-domestic","Non-domestic",null,null,null,"Domestic","Non-domestic"]
[]
[null,null,{"$f":"INDEX('Version control'!$H$34:$H$59,MATCH($A$1,'Version control'!$F$34:$F$59,0),1)&\"-H: Decimal places for error checks\"","v":"Input 504-H: Decimal places for error checks"}]
[]
[null,null,null,null,"Decimals of precision for error checks",null,"integer",5]
[]
[null,"Checks"]
[]
[null,null,null,null,"Check for error values",null,"number of issues",{"$f":"SUM(IF(ISERROR(H15:AP155), 1))","v":0}]
[]
[null,null,null,null,"Check that UMS flags apply only to UMS",null,"number of issues",{"$f":"SUM(J165:AP165)","v":0},null,{"$f":"IF(J132, IF(FIND(\"UMS\", J5) > 0, 0, 1), 0)","v":0},0,0,0,0,0,0,0,0,0,0,0,0,0,0,0,0,0,0,0,0,0,0,0,0,0,0,0,0,0,0,0,0]
[]
[null,null,null,null,"Check that discount overrides are either FALSE, or non-zero"]
[null,null,null,null,null,"MWh override","number of issues",{"$f":"SUM(J168:AP168)","v":0},null,{"$f":"IF( OR( AND(J106 = TRUE, NOT(ISBLANK(J107))), AND(J106 = FALSE, J107 = 0)), 0, 1)","v":0},{"$f":"IF( OR( AND(K106 = TRUE, NOT(ISBLANK(K107))), AND(K106 = FALSE, K107 = 0)), 0, 1)","v":0},0,0,0,0,0,0,0,0,0,0,0,0,0,0,0,0,0,0,0,0,0,0,0,0,0,0,0,0,0,0,0]
[null,null,null,null,null,"MPAN override","number of issues",{"$f":"SUM(J169:AP169)","v":0},null,{"$f":"IF( OR( AND(J110 = TRUE, NOT(ISBLANK(J111))), AND(J110 = FALSE, J111 = 0)), 0, 1)","v":0},{"$f":"IF( OR( AND(K110 = TRUE, NOT(ISBLANK(K111))), AND(K110 = FALSE, K111 = 0)), 0, 1)","v":0},0,0,0,0,0,0,0,0,0,0,0,0,0,0,0,0,0,0,0,0,0,0,0,0,0,0,0,0,0,0,0]
[null,null,null,null,null,"Import capacity override","number of issues",{"$f":"SUM(J170:AP170)","v":0},null,{"$f":"IF( OR( AND(J114 = TRUE, NOT(ISBLANK(J115))), AND(J114 = FALSE, J115 = 0)), 0, 1)","v":0},{"$f":"IF( OR( AND(K114 = TRUE, NOT(ISBLANK(K115))), AND(K114 = FALSE, K115 = 0)), 0, 1)","v":0},0,0,0,0,0,0,0,0,0,0,0,0,0,0,0,0,0,0,0,0,0,0,0,0,0,0,0,0,0,0,0]
[null,null,null,null,null,"Exceeded capacity override","number of issues",{"$f":"SUM(J171:AP171)","v":0},null,{"$f":"IF( OR( AND(J118 = TRUE, NOT(ISBLANK(J119))), AND(J118 = FALSE, J119 = 0)), 0, 1)","v":0},{"$f":"IF( OR( AND(K118 = TRUE, NOT(ISBLANK(K119))), AND(K118 = FALSE, K119 = 0)), 0, 1)","v":0},0,0,0,0,0,0,0,0,0,0,0,0,0,0,0,0,0,0,0,0,0,0,0,0,0,0,0,0,0,0,0]
[null,null,null,null,null,"Reactive power override","number of issues",{"$f":"SUM(J172:AP172)","v":0},null,{"$f":"IF( OR( AND(J122 = TRUE, NOT(ISBLANK(J123))), AND(J122 = FALSE, J123 = 0)), 0, 1)","v":0},{"$f":"IF( OR( AND(K122 = TRUE, NOT(ISBLANK(K123))), AND(K122 = FALSE, K123 = 0)), 0, 1)","v":0},0,0,0,0,0,0,0,0,0,0,0,0,0,0,0,0,0,0,0,0,0,0,0,0,0,0,0,0,0,0,0]
[]
[null,null,null,null,"Summary of checks",null,"number of issues",{"$f":"H163 + H165 + SUM(H168:H172)","v":0}]
[]
[null,"End of sheet"]

{"sheet":"Inputs by customer type","index":14,"n_rows":90,"n_cols":44,"rows_kept":90,"cut":false,"hidden":false,"merged":[]}
[{"$f":"MID(CELL(\"filename\",A1),FIND(\"]\",CELL(\"filename\",A1))+1,255)","v":"Inputs by customer type"}]
[{"$f":"Cover!D21&\" - \"&Cover!D23","v":"[enter DNO name] - [enter data version name]"}]
[{"$f":"Cover!D2&\" - \"&Cover!D8&\" v\"&Cover!D10&\" - \"&Cover!D19","v":"ARP model - Release for charge setting v3 - 2020/21"}]
[{"$f":"H88 & IF(H88 = 1, \" issue\", \" issues\") &\" identified in checks on this sheet\"","v":"0 issues identified in checks on this sheet"}]
[null,"Click here to return to model map",null,null,null,null,"Units","Constants",null,"Domestic Unrestricted","Domestic Two Rate","Domestic Off Peak (related MPAN)","Small Non Domestic Unrestricted","Small Non Domestic Two Rate","Small Non Domestic Off Peak (related MPAN)","LV Medium Non-Domestic","LV Sub Medium Non-Domestic","HV Medium Non-Domestic","LV Network Domestic","LV Network Non-Domestic Non-CT","LV HH Metered","LV Sub HH Metered","HV HH Metered","NHH UMS category A","NHH UMS category B","NHH UMS category C","NHH UMS category D","LV UMS (Pseudo HH Metered)","LV Generation NHH or Aggregate HH","LV Sub Generation NHH","LV Generation Intermittent","LV Generation Intermittent no RP charge","LV Generation Non-Intermittent","LV Generation Non-Intermittent no RP charge","LV Sub Generation Intermittent","LV Sub Generation Intermittent no RP charge","LV Sub Generation Non-Intermittent","LV Sub Generation Non-Intermittent no RP charge","HV Generation Intermittent","HV Generation Intermittent no RP charge","HV Generation Non-Intermittent","HV Generation Non-Intermittent no RP charge",null,"Legal text reference"]
[]
[null,"Description"]
[]
[null,null,"This sheet sets out the inputs by customer type to be filled in by DNOs."]
[]
[null,null,null,null,"Charging year selected",null,"year",{"$f":"charging_year_selected","v":"2024/25"}]
[null,null,null,null,"Historic / current / forecast",null,"text",{"$f":"'ARP_User control'!$H$36","v":"Forecast"}]
[]
[null,"Inputs by customer type"]
[]
[null,null,{"$f":"INDEX('Version control'!$H$34:$H$59,MATCH($A$1,'Version control'!$F$34:$F$59,0),1)&\"-A: Load characteristics\"","v":"Section 501-A: Load characteristics"}]
[]
[null,null,null,null,"Load factor",null,"%",null,">",{"$f":"'ARP_Inputs by customer type'!J19","v":0.42237494697917882},{"$f":"'ARP_Inputs by customer type'!J20","v":0.26398480143431713},{"$f":"'ARP_Inputs by customer type'!J21","v":0.18556835278944098},{"$f":"'ARP_Inputs by customer type'!J22","v":0.38285000403403185},{"$f":"'ARP_Inputs by customer type'!J23","v":0.54689906083228135},{"$f":"'ARP_Inputs by customer type'!J24","v":0.19446816400030753},{"$f":"'ARP_Inputs by customer type'!J25","v":0.51692685973305263},{"$f":"'ARP_Inputs by customer type'!J26","v":0.51692685973305263},{"$f":"'ARP_Inputs by customer type'!J27","v":0.35378487279250775},{"$f":"'ARP_Inputs by customer type'!J28","v":0.41318307580770508},{"$f":"'ARP_Inputs by customer type'!J29","v":0.45494981483091834},{"$f":"'ARP_Inputs by customer type'!J30","v":0.57813973589617251},{"$f":"'ARP_Inputs by customer type'!J31","v":0.61241862913288092},{"$f":"'ARP_Inputs by customer type'!J32","v":0.72831305490483211},{"$f":"'ARP_Inputs by customer type'!J33","v":0.99999999999996481},{"$f":"'ARP_Inputs by customer type'!J34","v":0.47333832682901394},{"$f":"'ARP_Inputs by customer type'!J35","v":0.28177980195230445},{"$f":"'ARP_Inputs by customer type'!J36","v":0.51558955092806569},{"$f":"'ARP_Inputs by customer type'!J37","v":0.44064329109655392},null,null,null,null,null,null,null,null,null,null,null,null,null,null,null,"Paragraph 42 (a)"]
[null,null,null,null,"Coincidence factor",null,"%",null,">",{"$f":"'ARP_Inputs by customer type'!J56","v":0.9187565249767945},{"$f":"'ARP_Inputs by customer type'!J57","v":0.35449717215882698},null,{"$f":"'ARP_Inputs by customer type'!J59","v":0.45887412596442934},{"$f":"'ARP_Inputs by customer type'!J60","v":0.70195927574142802},null,{"$f":"'ARP_Inputs by customer type'!J62","v":0.63783555636781242},{"$f":"'ARP_Inputs by customer type'!J63","v":0.63783555636781242},{"$f":"'ARP_Inputs by customer type'!J64","v":0.4007371669768614},{"$f":"'ARP_Inputs by customer type'!J65","v":0.8868093185229472},{"$f":"'ARP_Inputs by customer type'!J66","v":0.57308219954297546},{"$f":"'ARP_Inputs by customer type'!J67","v":0.71249798958406885},{"$f":"'ARP_Inputs by customer type'!J68","v":0.71454624531972177},{"$f":"'ARP_Inputs by customer type'!J69","v":0.78101241030218727},{"$f":"'ARP_Inputs by customer type'!J70","v":1},{"$f":"'ARP_Inputs by customer type'!J71","v":1},{"$f":"'ARP_Inputs by customer type'!J72","v":1},{"$f":"'ARP_Inputs by customer type'!J73","v":0},{"$f":"'ARP_Inputs by customer type'!J74","v":0.93562992081665508},null,null,null,null,null,null,null,null,null,null,null,null,null,null,null,"Paragraph 42 (b)"]
[]
[null,null,{"$f":"INDEX('Version control'!$H$34:$H$59,MATCH($A$1,'Version control'!$F$34:$F$59,0),1)&\"-B: Volume forecasts for the charging year\"","v":"Section 501-B: Volume forecasts for the charging year"}]
[]
[null,null,null,null,"All the way volume forecast",null,null,null,">",null,null,null,null,null,null,null,null,null,null,null,null,null,null,null,null,null,null,null,null,null,null,null,null,null,null,null,null,null,null,null,null,null,null,"Paragraph 52"]
[null,null,null,null,null,"Rate 1 units","MWh",null,null,{"$f":"'ARP_Inputs by customer type'!J95","v":3087807.9823275143},{"$f":"'ARP_Inputs by customer type'!J96","v":145068.0178269053},{"$f":"'ARP_Inputs by customer type'!J97","v":2140.1103146035571},{"$f":"'ARP_Inputs by customer type'!J98","v":807524.13000493601},{"$f":"'ARP_Inputs by customer type'!J99","v":199376.72592817293},{"$f":"'ARP_Inputs by customer type'!J100","v":1578.3141159411171},{"$f":"'ARP_Inputs by customer type'!J101","v":13881.263349596087},{"$f":"'ARP_Inputs by customer type'!J102","v":5.8625576095223545E-8},{"$f":"'ARP_Inputs by customer type'!J103","v":62.538955055444347},{"$f":"'ARP_Inputs by customer type'!J104","v":548.49662568994881},{"$f":"'ARP_Inputs by customer type'!J105","v":11567.475069845634},{"$f":"'ARP_Inputs by customer type'!J106","v":122794.82149659049},{"$f":"'ARP_Inputs by customer type'!J107","v":6459.7972719174722},{"$f":"'ARP_Inputs by customer type'!J108","v":146461.36308182811},{"$f":"'ARP_Inputs by customer type'!J109","v":2064.7386639344641},{"$f":"'ARP_Inputs by customer type'!J110","v":5191.6019194014716},{"$f":"'ARP_Inputs by customer type'!J111","v":288.93022950400001},{"$f":"'ARP_Inputs by customer type'!J112","v":0},{"$f":"'ARP_Inputs by customer type'!J113","v":4786.1918698977543},{"$f":"'ARP_Inputs by customer type'!J114","v":1535.125},{"$f":"'ARP_Inputs by customer type'!J115","v":0},{"$f":"'ARP_Inputs by customer type'!J116","v":31104.631228000009},{"$f":"'ARP_Inputs by customer type'!J117","v":0},{"$f":"'ARP_Inputs by customer type'!J118","v":184.69947550370838},{"$f":"'ARP_Inputs by customer type'!J119","v":0},{"$f":"'ARP_Inputs by customer type'!J120","v":807.10811500000023},{"$f":"'ARP_Inputs by customer type'!J121","v":0},{"$f":"'ARP_Inputs by customer type'!J122","v":36.59019120255607},{"$f":"'ARP_Inputs by customer type'!J123","v":0},{"$f":"'ARP_Inputs by customer type'!J124","v":314604.16542500001},{"$f":"'ARP_Inputs by customer type'!J125","v":0},{"$f":"'ARP_Inputs by customer type'!J126","v":30630.476100086526},{"$f":"'ARP_Inputs by customer type'!J127","v":0}]
[null,null,null,null,null,"Rate 2 units","MWh",null,null,null,{"$f":"'ARP_Inputs by customer type'!J131","v":121139.40676462813},null,null,{"$f":"'ARP_Inputs by customer type'!J134","v":84177.001775695535},null,{"$f":"'ARP_Inputs by customer type'!J136","v":4240.791385004045},{"$f":"'ARP_Inputs by customer type'!J137","v":1.7910389838743126E-8},{"$f":"'ARP_Inputs by customer type'!J138","v":25.753194800564419},{"$f":"'ARP_Inputs by customer type'!J139","v":2703.7423272662454},{"$f":"'ARP_Inputs by customer type'!J140","v":78199.431178665909},{"$f":"'ARP_Inputs by customer type'!J141","v":780163.65778957237},{"$f":"'ARP_Inputs by customer type'!J142","v":39047.547510153854},{"$f":"'ARP_Inputs by customer type'!J143","v":893163.9883989041},null,null,null,null,{"$f":"'ARP_Inputs by customer type'!J148","v":31263.847920010572},null,null,null,null,{"$f":"'ARP_Inputs by customer type'!J153","v":1185.0893640362958},{"$f":"'ARP_Inputs by customer type'!J154","v":0},null,null,{"$f":"'ARP_Inputs by customer type'!J157","v":148.04789377289072},{"$f":"'ARP_Inputs by customer type'!J158","v":0},null,null,{"$f":"'ARP_Inputs by customer type'!J161","v":70350.709153135162},{"$f":"'ARP_Inputs by customer type'!J162","v":0}]
[null,null,null,null,null,"Rate 3 units","MWh",null,null,null,null,null,null,null,null,null,null,null,{"$f":"'ARP_Inputs by customer type'!J174","v":2374.0081488820574},{"$f":"'ARP_Inputs by customer type'!J175","v":56207.019243093069},{"$f":"'ARP_Inputs by customer type'!J176","v":583197.68554353598},{"$f":"'ARP_Inputs by customer type'!J177","v":34152.977309556263},{"$f":"'ARP_Inputs by customer type'!J178","v":847048.91196364374},null,null,null,null,{"$f":"'ARP_Inputs by customer type'!J183","v":73749.776463945847},null,null,null,null,{"$f":"'ARP_Inputs by customer type'!J188","v":1145.5607796251077},{"$f":"'ARP_Inputs by customer type'!J189","v":0},null,null,{"$f":"'ARP_Inputs by customer type'!J192","v":149.37121031591738},{"$f":"'ARP_Inputs by customer type'!J193","v":0},null,null,{"$f":"'ARP_Inputs by customer type'!J196","v":57893.659515242049},{"$f":"'ARP_Inputs by customer type'!J197","v":0}]
[null,null,null,null,null,"MPANs","MPANs",null,null,{"$f":"'ARP_Inputs by customer type'!J200","v":1002009.1843103382},{"$f":"'ARP_Inputs by customer type'!J201","v":49248.258600181885},{"$f":"'ARP_Inputs by customer type'!J202","v":0},{"$f":"'ARP_Inputs by customer type'!J203","v":64828.190112704251},{"$f":"'ARP_Inputs by customer type'!J204","v":13307.031217559954},{"$f":"'ARP_Inputs by customer type'!J205","v":0},{"$f":"'ARP_Inputs by customer type'!J206","v":236.77828473786286},{"$f":"'ARP_Inputs by customer type'!J207","v":1.0000000000000001E-9},{"$f":"'ARP_Inputs by customer type'!J208","v":3.2303097041095885},{"$f":"'ARP_Inputs by customer type'!J209","v":1566.6058158904109},{"$f":"'ARP_Inputs by customer type'!J210","v":2242.4057885846305},{"$f":"'ARP_Inputs by customer type'!J211","v":6023.93882733802},{"$f":"'ARP_Inputs by customer type'!J212","v":96.625058435595633},{"$f":"'ARP_Inputs by customer type'!J213","v":817.9977558671319},{"$f":"'ARP_Inputs by customer type'!J214","v":587},{"$f":"'ARP_Inputs by customer type'!J215","v":772},{"$f":"'ARP_Inputs by customer type'!J216","v":87},{"$f":"'ARP_Inputs by customer type'!J217","v":0},{"$f":"'ARP_Inputs by customer type'!J218","v":35.345205479452055},{"$f":"'ARP_Inputs by customer type'!J219","v":0},{"$f":"'ARP_Inputs by customer type'!J220","v":0},{"$f":"'ARP_Inputs by customer type'!J221","v":386.31110958904111},{"$f":"'ARP_Inputs by customer type'!J222","v":0},{"$f":"'ARP_Inputs by customer type'!J223","v":18.312676027397263},{"$f":"'ARP_Inputs by customer type'!J224","v":0},{"$f":"'ARP_Inputs by customer type'!J225","v":6.5165732876712346},{"$f":"'ARP_Inputs by customer type'!J226","v":0},{"$f":"'ARP_Inputs by customer type'!J227","v":2.7530136986301375},{"$f":"'ARP_Inputs by customer type'!J228","v":0},{"$f":"'ARP_Inputs by customer type'!J229","v":158.62326986301375},{"$f":"'ARP_Inputs by customer type'!J230","v":0},{"$f":"'ARP_Inputs by customer type'!J231","v":46.144759931506854},{"$f":"'ARP_Inputs by customer type'!J232","v":0}]
[null,null,null,null,null,"Import capacity","kVA",null,null,null,null,null,null,null,null,null,null,null,null,null,{"$f":"'ARP_Inputs by customer type'!J246","v":752423.62048333464},{"$f":"'ARP_Inputs by customer type'!J247","v":25935.000000000004},{"$f":"'ARP_Inputs by customer type'!J248","v":658098.03008508706}]
[null,null,null,null,null,"Exceeded capacity","kVA",null,null,null,null,null,null,null,null,null,null,null,null,null,{"$f":"'ARP_Inputs by customer type'!J281","v":24014.967123287672},{"$f":"'ARP_Inputs by customer type'!J282","v":1372.9829276493151},{"$f":"'ARP_Inputs by customer type'!J283","v":19153.332046867399}]
[null,null,null,null,null,"Reactive power units","MVArh",null,null,null,null,null,null,null,null,null,null,null,null,null,{"$f":"'ARP_Inputs by customer type'!J316","v":126443.34399153598},{"$f":"'ARP_Inputs by customer type'!J317","v":6671.1604148720007},{"$f":"'ARP_Inputs by customer type'!J318","v":107880.47236750388},null,null,null,null,null,null,null,{"$f":"'ARP_Inputs by customer type'!J326","v":2796.5714810000004},null,{"$f":"'ARP_Inputs by customer type'!J328","v":445.56613500000003},null,{"$f":"'ARP_Inputs by customer type'!J330","v":4.4529209999999999},null,{"$f":"'ARP_Inputs by customer type'!J332","v":0},null,{"$f":"'ARP_Inputs by customer type'!J334","v":7489.4041639999996},null,{"$f":"'ARP_Inputs by customer type'!J336","v":1364.77427625}]
[]
[null,null,null,null,"LDNO LV volume forecast",null,null,null,">",null,null,null,null,null,null,null,null,null,null,null,null,null,null,null,null,null,null,null,null,null,null,null,null,null,null,null,null,null,null,null,null,null,null,"Paragraph 52"]
[null,null,null,null,null,"Rate 1 units","MWh",null,null,{"$f":"'ARP_Inputs by customer type'!J342","v":3801.6436730332721},{"$f":"'ARP_Inputs by customer type'!J343","v":66.789153280354185},{"$f":"'ARP_Inputs by customer type'!J344","v":0},{"$f":"'ARP_Inputs by customer type'!J345","v":90.609526280157723},{"$f":"'ARP_Inputs by customer type'!J346","v":0},{"$f":"'ARP_Inputs by customer type'!J347","v":0},{"$f":"'ARP_Inputs by customer type'!J348","v":0},null,null,{"$f":"'ARP_Inputs by customer type'!J351","v":0},{"$f":"'ARP_Inputs by customer type'!J352","v":0},{"$f":"'ARP_Inputs by customer type'!J353","v":33.757735705319291},null,null,{"$f":"'ARP_Inputs by customer type'!J356","v":137.6265837801335},{"$f":"'ARP_Inputs by customer type'!J357","v":6.9392159772526094},{"$f":"'ARP_Inputs by customer type'!J358","v":0},{"$f":"'ARP_Inputs by customer type'!J359","v":0},{"$f":"'ARP_Inputs by customer type'!J360","v":0},{"$f":"'ARP_Inputs by customer type'!J361","v":0},null,{"$f":"'ARP_Inputs by customer type'!J363","v":0},null,{"$f":"'ARP_Inputs by customer type'!J365","v":0}]
[null,null,null,null,null,"Rate 2 units","MWh",null,null,null,{"$f":"'ARP_Inputs by customer type'!J378","v":18.210955250642108},null,null,{"$f":"'ARP_Inputs by customer type'!J381","v":0},null,{"$f":"'ARP_Inputs by customer type'!J383","v":0},null,null,{"$f":"'ARP_Inputs by customer type'!J386","v":0},{"$f":"'ARP_Inputs by customer type'!J387","v":0},{"$f":"'ARP_Inputs by customer type'!J388","v":226.96905231533046},null,null,null,null,null,null,{"$f":"'ARP_Inputs by customer type'!J395","v":0},null,null,null,null,{"$f":"'ARP_Inputs by customer type'!J400","v":0}]
[null,null,null,null,null,"Rate 3 units","MWh",null,null,null,null,null,null,null,null,null,null,null,{"$f":"'ARP_Inputs by customer type'!J421","v":0},{"$f":"'ARP_Inputs by customer type'!J422","v":0},{"$f":"'ARP_Inputs by customer type'!J423","v":160.07919109496191},null,null,null,null,null,null,{"$f":"'ARP_Inputs by customer type'!J430","v":0},null,null,null,null,{"$f":"'ARP_Inputs by customer type'!J435","v":0}]
[null,null,null,null,null,"MPANs","MPANs",null,null,{"$f":"'ARP_Inputs by customer type'!J447","v":1401.7154794520548},{"$f":"'ARP_Inputs by customer type'!J448","v":31.396179452054799},{"$f":"'ARP_Inputs by customer type'!J449","v":0},{"$f":"'ARP_Inputs by customer type'!J450","v":6.9593424657534246},{"$f":"'ARP_Inputs by customer type'!J451","v":0},{"$f":"'ARP_Inputs by customer type'!J452","v":0},{"$f":"'ARP_Inputs by customer type'!J453","v":0},null,null,{"$f":"'ARP_Inputs by customer type'!J456","v":0},{"$f":"'ARP_Inputs by customer type'!J457","v":0},{"$f":"'ARP_Inputs by customer type'!J458","v":2.9912486301369867},null,null,{"$f":"'ARP_Inputs by customer type'!J461","v":0},{"$f":"'ARP_Inputs by customer type'!J462","v":0},{"$f":"'ARP_Inputs by customer type'!J463","v":0},{"$f":"'ARP_Inputs by customer type'!J464","v":0},{"$f":"'ARP_Inputs by customer type'!J465","v":0},{"$f":"'ARP_Inputs by customer type'!J466","v":0},null,{"$f":"'ARP_Inputs by customer type'!J468","v":0},null,{"$f":"'ARP_Inputs by customer type'!J470","v":0}]
[null,null,null,null,null,"Import capacity","kVA",null,null,null,null,null,null,null,null,null,null,null,null,null,{"$f":"'ARP_Inputs by customer type'!J493","v":306.9103253424658}]
[null,null,null,null,null,"Exceeded capacity","kVA",null,null,null,null,null,null,null,null,null,null,null,null,null,{"$f":"'ARP_Inputs by customer type'!J528","v":33.925284246575352}]
[null,null,null,null,null,"Reactive power units","MVArh",null,null,null,null,null,null,null,null,null,null,null,null,null,{"$f":"'ARP_Inputs by customer type'!J563","v":14.834589525000002},null,null,null,null,null,null,null,null,null,{"$f":"'ARP_Inputs by customer type'!J573","v":0},null,{"$f":"'ARP_Inputs by customer type'!J575","v":0}]
[]
[null,null,null,null,"LDNO HV volume forecast",null,null,null,">",null,null,null,null,null,null,null,null,null,null,null,null,null,null,null,null,null,null,null,null,null,null,null,null,null,null,null,null,null,null,null,null,null,null,"Paragraph 52"]
[null,null,null,null,null,"Rate 1 units","MWh",null,null,{"$f":"'ARP_Inputs by customer type'!J589","v":24564.19531178429},{"$f":"'ARP_Inputs by customer type'!J590","v":464.41594899914463},{"$f":"'ARP_Inputs by customer type'!J591","v":0},{"$f":"'ARP_Inputs by customer type'!J592","v":4129.8139227018964},{"$f":"'ARP_Inputs by customer type'!J593","v":942.61527578815037},{"$f":"'ARP_Inputs by customer type'!J594","v":0},{"$f":"'ARP_Inputs by customer type'!J595","v":88.743550193145808},null,null,{"$f":"'ARP_Inputs by customer type'!J598","v":0.81137778452211873},{"$f":"'ARP_Inputs by customer type'!J599","v":65.635549277321076},{"$f":"'ARP_Inputs by customer type'!J600","v":5542.6185653095554},{"$f":"'ARP_Inputs by customer type'!J601","v":571.13883890710281},{"$f":"'ARP_Inputs by customer type'!J602","v":512.07009985423906},{"$f":"'ARP_Inputs by customer type'!J603","v":10.445584564800001},{"$f":"'ARP_Inputs by customer type'!J604","v":137.93130276599518},{"$f":"'ARP_Inputs by customer type'!J605","v":0},{"$f":"'ARP_Inputs by customer type'!J606","v":0},{"$f":"'ARP_Inputs by customer type'!J607","v":0},{"$f":"'ARP_Inputs by customer type'!J608","v":0},{"$f":"'ARP_Inputs by customer type'!J609","v":0},{"$f":"'ARP_Inputs by customer type'!J610","v":305.36005342499999},null,{"$f":"'ARP_Inputs by customer type'!J612","v":0},null,{"$f":"'ARP_Inputs by customer type'!J614","v":0},null,{"$f":"'ARP_Inputs by customer type'!J616","v":0},null,{"$f":"'ARP_Inputs by customer type'!J618","v":0},null,{"$f":"'ARP_Inputs by customer type'!J620","v":0}]
[null,null,null,null,null,"Rate 2 units","MWh",null,null,null,{"$f":"'ARP_Inputs by customer type'!J625","v":292.2251926548891},null,null,{"$f":"'ARP_Inputs by customer type'!J628","v":180.18950954978536},null,{"$f":"'ARP_Inputs by customer type'!J630","v":26.469039248688965},null,null,{"$f":"'ARP_Inputs by customer type'!J633","v":3.875884997935704},{"$f":"'ARP_Inputs by customer type'!J634","v":311.91409432517804},{"$f":"'ARP_Inputs by customer type'!J635","v":30314.078988702819},{"$f":"'ARP_Inputs by customer type'!J636","v":2987.3187525304593},{"$f":"'ARP_Inputs by customer type'!J637","v":2994.9222426084402},null,null,null,null,{"$f":"'ARP_Inputs by customer type'!J642","v":0},null,null,null,null,{"$f":"'ARP_Inputs by customer type'!J647","v":0},null,null,null,{"$f":"'ARP_Inputs by customer type'!J651","v":0},null,null,null,{"$f":"'ARP_Inputs by customer type'!J655","v":0}]
[null,null,null,null,null,"Rate 3 units","MWh",null,null,null,null,null,null,null,null,null,null,null,{"$f":"'ARP_Inputs by customer type'!J668","v":3.3576720164119211},{"$f":"'ARP_Inputs by customer type'!J669","v":164.82166790265748},{"$f":"'ARP_Inputs by customer type'!J670","v":27506.219085053363},{"$f":"'ARP_Inputs by customer type'!J671","v":2627.1066638693223},{"$f":"'ARP_Inputs by customer type'!J672","v":2328.4884555701974},null,null,null,null,{"$f":"'ARP_Inputs by customer type'!J677","v":0},null,null,null,null,{"$f":"'ARP_Inputs by customer type'!J682","v":0},null,null,null,{"$f":"'ARP_Inputs by customer type'!J686","v":0},null,null,null,{"$f":"'ARP_Inputs by customer type'!J690","v":0}]
[null,null,null,null,null,"MPANs","MPANs",null,null,{"$f":"'ARP_Inputs by customer type'!J694","v":9766.6696294520552},{"$f":"'ARP_Inputs by customer type'!J695","v":216.71646164383566},{"$f":"'ARP_Inputs by customer type'!J696","v":0},{"$f":"'ARP_Inputs by customer type'!J697","v":154.91151986301372},{"$f":"'ARP_Inputs by customer type'!J698","v":11.66535616438356},{"$f":"'ARP_Inputs by customer type'!J699","v":0},{"$f":"'ARP_Inputs by customer type'!J700","v":2.4327493150684933},null,null,{"$f":"'ARP_Inputs by customer type'!J703","v":4.1562739726027402},{"$f":"'ARP_Inputs by customer type'!J704","v":5.8326780821917819},{"$f":"'ARP_Inputs by customer type'!J705","v":131.47297397260274},{"$f":"'ARP_Inputs by customer type'!J706","v":4.5631417808219181},{"$f":"'ARP_Inputs by customer type'!J707","v":6.2591794520547932},{"$f":"'ARP_Inputs by customer type'!J708","v":0},{"$f":"'ARP_Inputs by customer type'!J709","v":0},{"$f":"'ARP_Inputs by customer type'!J710","v":0},{"$f":"'ARP_Inputs by customer type'!J711","v":0},{"$f":"'ARP_Inputs by customer type'!J712","v":0},{"$f":"'ARP_Inputs by customer type'!J713","v":0},{"$f":"'ARP_Inputs by customer type'!J714","v":0},{"$f":"'ARP_Inputs by customer type'!J715","v":4.2580664383561651},null,{"$f":"'ARP_Inputs by customer type'!J717","v":0},null,{"$f":"'ARP_Inputs by customer type'!J719","v":0},null,{"$f":"'ARP_Inputs by customer type'!J721","v":0},null,{"$f":"'ARP_Inputs by customer type'!J723","v":0},null,{"$f":"'ARP_Inputs by customer type'!J725","v":0}]
[null,null,null,null,null,"Import capacity","kVA",null,null,null,null,null,null,null,null,null,null,null,null,null,{"$f":"'ARP_Inputs by customer type'!J740","v":40518.199208219179},{"$f":"'ARP_Inputs by customer type'!J741","v":3166.4392027397257},{"$f":"'ARP_Inputs by customer type'!J742","v":2548.6042438356171}]
[null,null,null,null,null,"Exceeded capacity","kVA",null,null,null,null,null,null,null,null,null,null,null,null,null,{"$f":"'ARP_Inputs by customer type'!J775","v":118.37315958904112},{"$f":"'ARP_Inputs by customer type'!J776","v":0},{"$f":"'ARP_Inputs by customer type'!J777","v":0}]
[null,null,null,null,null,"Reactive power units","MVArh",null,null,null,null,null,null,null,null,null,null,null,null,null,{"$f":"'ARP_Inputs by customer type'!J810","v":2294.5550166000003},{"$f":"'ARP_Inputs by customer type'!J811","v":81.343651724999987},{"$f":"'ARP_Inputs by customer type'!J812","v":69.052551750000006},null,null,null,null,null,null,null,{"$f":"'ARP_Inputs by customer type'!J820","v":89.370855000000006},null,{"$f":"'ARP_Inputs by customer type'!J822","v":0},null,{"$f":"'ARP_Inputs by customer type'!J824","v":0},null,{"$f":"'ARP_Inputs by customer type'!J826","v":0},null,{"$f":"'ARP_Inputs by customer type'!J828","v":0},null,{"$f":"'ARP_Inputs by customer type'!J830","v":0}]
[]
[null,null,{"$f":"INDEX('Version control'!$H$34:$H$59,MATCH($A$1,'Version control'!$F$34:$F$59,0),1)&\"-C: Split of units by distribution timeband\"","v":"Section 501-C: Split of units by distribution timeband"}]
[]
[null,null,null,"UMS customers are under special time band regime (Black & Yellow)"]
[null,null,null,"All other customers are under normal time band regime (Red & Amber)"]
[]
[null,null,null,null,"Unit rate 1 split of units by distribution timeband",null,null,null,">",null,null,null,null,null,null,null,null,null,null,null,null,null,null,null,null,null,null,null,null,null,null,null,null,null,null,null,null,null,null,null,null,null,null,"Paragraphs 42 (c) & 45"]
[null,null,null,null,null,"Red / Black","%",null,null,{"$f":"'ARP_Inputs by customer type'!J841","v":0.11197507769618557},{"$f":"'ARP_Inputs by customer type'!J842","v":0.13364758522804707},{"$f":"'ARP_Inputs by customer type'!J843","v":0},{"$f":"'ARP_Inputs by customer type'!J844","v":7.2901843200616878E-2},{"$f":"'ARP_Inputs by customer type'!J845","v":0.10374465982206056},{"$f":"'ARP_Inputs by customer type'!J846","v":1.2095107556112362E-4},{"$f":"'ARP_Inputs by customer type'!J847","v":0.1047145643323437},{"$f":"'ARP_Inputs by customer type'!J848","v":0.10158807426315841},{"$f":"'ARP_Inputs by customer type'!J849","v":9.9174996915789473E-2},{"$f":"'ARP_Inputs by customer type'!J850","v":1},{"$f":"'ARP_Inputs by customer type'!J851","v":1},{"$f":"'ARP_Inputs by customer type'!J852","v":1},{"$f":"'ARP_Inputs by customer type'!J853","v":1},{"$f":"'ARP_Inputs by customer type'!J854","v":1},{"$f":"'ARP_Inputs by customer type'!J855","v":2.1669744075987082E-2},{"$f":"'ARP_Inputs by customer type'!J856","v":4.2410020745840361E-2},{"$f":"'ARP_Inputs by customer type'!J857","v":7.1340446485220546E-2},{"$f":"'ARP_Inputs by customer type'!J858","v":2.2190543690080709E-3},{"$f":"'ARP_Inputs by customer type'!J859","v":1},null,null,null,null,{"$f":"'ARP_Inputs by customer type'!J864","v":1},{"$f":"'ARP_Inputs by customer type'!J865","v":1},null,null,{"$f":"'ARP_Inputs by customer type'!J868","v":1},{"$f":"'ARP_Inputs by customer type'!J869","v":1},null,null,{"$f":"'ARP_Inputs by customer type'!J872","v":1},{"$f":"'ARP_Inputs by customer type'!J873","v":1}]
[null,null,null,null,null,"Amber / Yellow","%",null,null,{"$f":"'ARP_Inputs by customer type'!J876","v":0.50191649625201062},{"$f":"'ARP_Inputs by customer type'!J877","v":0.58955364170073732},{"$f":"'ARP_Inputs by customer type'!J878","v":0.16936876960443484},{"$f":"'ARP_Inputs by customer type'!J879","v":0.5784518528769218},{"$f":"'ARP_Inputs by customer type'!J880","v":0.65763950211560829},{"$f":"'ARP_Inputs by customer type'!J881","v":0.17446773823156181},{"$f":"'ARP_Inputs by customer type'!J882","v":0.67439252598952981},{"$f":"'ARP_Inputs by customer type'!J883","v":0.68184945153652621},{"$f":"'ARP_Inputs by customer type'!J884","v":0.70608990295729057},null,null,null,null,null,{"$f":"'ARP_Inputs by customer type'!J890","v":0.48135214711680002},{"$f":"'ARP_Inputs by customer type'!J891","v":0.19137173000067045},{"$f":"'ARP_Inputs by customer type'!J892","v":0.35889796794961448},{"$f":"'ARP_Inputs by customer type'!J893","v":0.74447455632328197}]
[null,null,null,null,null,"Green","%",null,null,{"$f":"'ARP_Inputs by customer type'!J911","v":0.38610842605180379},{"$f":"'ARP_Inputs by customer type'!J912","v":0.27679877307121564},{"$f":"'ARP_Inputs by customer type'!J913","v":0.83063123039556519},{"$f":"'ARP_Inputs by customer type'!J914","v":0.34864630392246126},{"$f":"'ARP_Inputs by customer type'!J915","v":0.23861583806233111},{"$f":"'ARP_Inputs by customer type'!J916","v":0.8254113106928771},{"$f":"'ARP_Inputs by customer type'!J917","v":0.22089290967812644},{"$f":"'ARP_Inputs by customer type'!J918","v":0.2165624742003153},{"$f":"'ARP_Inputs by customer type'!J919","v":0.19473510012692},null,null,null,null,null,{"$f":"'ARP_Inputs by customer type'!J925","v":0.49697810880721294},{"$f":"'ARP_Inputs by customer type'!J926","v":0.76621824925348925},{"$f":"'ARP_Inputs by customer type'!J927","v":0.56976158556516499},{"$f":"'ARP_Inputs by customer type'!J928","v":0.25330638930770993}]
[]
[null,null,null,null,"Unit rate 2 split of units by distribution timeband",null,null,null,">",null,null,null,null,null,null,null,null,null,null,null,null,null,null,null,null,null,null,null,null,null,null,null,null,null,null,null,null,null,null,null,null,null,null,"Paragraphs 42 (c) & 45"]
[null,null,null,null,null,"Red / Black","%",null,null,null,{"$f":"'ARP_Inputs by customer type'!J949","v":0},null,null,{"$f":"'ARP_Inputs by customer type'!J952","v":0},null,{"$f":"'ARP_Inputs by customer type'!J954","v":0},{"$f":"'ARP_Inputs by customer type'!J955","v":0},{"$f":"'ARP_Inputs by customer type'!J956","v":0}]
[null,null,null,null,null,"Amber / Yellow","%",null,null,null,{"$f":"'ARP_Inputs by customer type'!J984","v":3.225130677046157E-2},null,null,{"$f":"'ARP_Inputs by customer type'!J987","v":6.4280241541318436E-2},null,{"$f":"'ARP_Inputs by customer type'!J989","v":9.302898512191465E-3},{"$f":"'ARP_Inputs by customer type'!J990","v":3.0426290789113994E-3},{"$f":"'ARP_Inputs by customer type'!J991","v":0},{"$f":"'ARP_Inputs by customer type'!J992","v":1},{"$f":"'ARP_Inputs by customer type'!J993","v":1},{"$f":"'ARP_Inputs by customer type'!J994","v":1},{"$f":"'ARP_Inputs by customer type'!J995","v":1},{"$f":"'ARP_Inputs by customer type'!J996","v":1},null,null,null,null,{"$f":"'ARP_Inputs by customer type'!J1001","v":1},null,null,null,null,{"$f":"'ARP_Inputs by customer type'!J1006","v":1},{"$f":"'ARP_Inputs by customer type'!J1007","v":1},null,null,{"$f":"'ARP_Inputs by customer type'!J1010","v":1},{"$f":"'ARP_Inputs by customer type'!J1011","v":1},null,null,{"$f":"'ARP_Inputs by customer type'!J1014","v":1},{"$f":"'ARP_Inputs by customer type'!J1015","v":1}]
[null,null,null,null,null,"Green","%",null,null,null,{"$f":"'ARP_Inputs by customer type'!J1019","v":0.96774869322953838},null,null,{"$f":"'ARP_Inputs by customer type'!J1022","v":0.93571975845868149},null,{"$f":"'ARP_Inputs by customer type'!J1024","v":0.99069710148780865},{"$f":"'ARP_Inputs by customer type'!J1025","v":0.9969573709210886},{"$f":"'ARP_Inputs by customer type'!J1026","v":1}]
[]
[null,null,null,null,"Unit rate 3 split of units by distribution timeband",null,null,null,">",null,null,null,null,null,null,null,null,null,null,null,null,null,null,null,null,null,null,null,null,null,null,null,null,null,null,null,null,null,null,null,null,null,null,"Paragraphs 42 (c) & 45"]
[null,null,null,null,null,"Red / Black","%"]
[null,null,null,null,null,"Amber / Yellow","%"]
[null,null,null,null,null,"Green","%",null,null,null,null,null,null,null,null,null,null,null,{"$f":"'ARP_Inputs by customer type'!J1134","v":1},{"$f":"'ARP_Inputs by customer type'!J1135","v":1},{"$f":"'ARP_Inputs by customer type'!J1136","v":1},{"$f":"'ARP_Inputs by customer type'!J1137","v":1},{"$f":"'ARP_Inputs by customer type'!J1138","v":1},null,null,null,null,{"$f":"'ARP_Inputs by customer type'!J1143","v":1},null,null,null,null,{"$f":"'ARP_Inputs by customer type'!J1148","v":1},{"$f":"'ARP_Inputs by customer type'!J1149","v":1},null,null,{"$f":"'ARP_Inputs by customer type'!J1152","v":1},{"$f":"'ARP_Inputs by customer type'!J1153","v":1},null,null,{"$f":"'ARP_Inputs by customer type'!J1156","v":1},{"$f":"'ARP_Inputs by customer type'!J1157","v":1}]
[]
[null,null,{"$f":"INDEX('Version control'!$H$34:$H$59,MATCH($A$1,'Version control'!$F$34:$F$59,0),1)&\"-D: Service model asset values\"","v":"Section 501-D: Service model asset values"}]
[]
[null,null,null,"Service model costs should be entered per customer or per MWh for unmetered customers"]
[null,null,null,null,null,null,null,null,">",null,null,null,null,null,null,null,null,null,null,null,null,null,null,null,null,null,null,null,null,null,null,null,null,null,null,null,null,null,null,null,null,null,null,"Paragraphs 32 to 37"]
[null,null,null,null,"LV customer service model asset values",null,"£ per MPAN",null,null,{"$f":"'ARP_Inputs by customer type'!J1166","v":265.56703336591607},{"$f":"'ARP_Inputs by customer type'!J1167","v":265.56703336591607},null,{"$f":"'ARP_Inputs by customer type'!J1169","v":778.6787331173183},{"$f":"'ARP_Inputs by customer type'!J1170","v":778.6787331173183},null,{"$f":"'ARP_Inputs by customer type'!J1172","v":901.60686399247072},{"$f":"'ARP_Inputs by customer type'!J1173","v":649.9994487203694},null,{"$f":"'ARP_Inputs by customer type'!J1175","v":265.56703336591607},{"$f":"'ARP_Inputs by customer type'!J1176","v":778.6787331173183},{"$f":"'ARP_Inputs by customer type'!J1177","v":1553.57127334398},{"$f":"'ARP_Inputs by customer type'!J1178","v":1212.7293314605568},null,null,null,null,null,null,{"$f":"'ARP_Inputs by customer type'!J1185","v":0},{"$f":"'ARP_Inputs by customer type'!J1186","v":0},{"$f":"'ARP_Inputs by customer type'!J1187","v":0},{"$f":"'ARP_Inputs by customer type'!J1188","v":0},{"$f":"'ARP_Inputs by customer type'!J1189","v":0},{"$f":"'ARP_Inputs by customer type'!J1190","v":0},{"$f":"'ARP_Inputs by customer type'!J1191","v":0},{"$f":"'ARP_Inputs by customer type'!J1192","v":0},{"$f":"'ARP_Inputs by customer type'!J1193","v":0},{"$f":"'ARP_Inputs by customer type'!J1194","v":0}]
[null,null,null,null,"HV customer service model asset values",null,"£ per MPAN",null,null,null,null,null,null,null,null,null,null,{"$f":"'ARP_Inputs by customer type'!J1211","v":11195.717873935706},null,null,null,null,{"$f":"'ARP_Inputs by customer type'!J1216","v":11195.717873935706},null,null,null,null,null,null,null,null,null,null,null,null,null,null,null,{"$f":"'ARP_Inputs by customer type'!J1232","v":7006.7581165865458},{"$f":"'ARP_Inputs by customer type'!J1233","v":7006.7581165865458},{"$f":"'ARP_Inputs by customer type'!J1234","v":7006.7581165865458},{"$f":"'ARP_Inputs by customer type'!J1235","v":7006.7581165865458}]
[]
[null,null,null,null,"LV UMS customer service model asset values",null,"£/MWh/year",null,">",null,null,null,null,null,null,null,null,null,null,null,null,null,null,{"$f":"'ARP_Inputs by customer type'!J1254","v":300.20667715087131},{"$f":"'ARP_Inputs by customer type'!J1255","v":300.20667715087131},{"$f":"'ARP_Inputs by customer type'!J1256","v":300.20667715087131},{"$f":"'ARP_Inputs by customer type'!J1257","v":300.20667715087131},{"$f":"'ARP_Inputs by customer type'!J1258","v":300.20667715087131},null,null,null,null,null,null,null,null,null,null,null,null,null,null,null,"Paragraph 36"]
[]
[null,"Checks"]
[]
[null,null,null,null,"Check for error values",null,"number of issues",{"$f":"SUM(IF(ISERROR(H16:AP78), 1))","v":0}]
[]
[null,null,null,null,"Check for split of units by timeband"]
[null,null,null,null,null,"Unit rate 1","number of issues",{"$f":"SUM(J84:AP84)","v":0},null,{"$f":"IF(ABS(SUM(J56:J58) - 1) < 10^-check_decimals, 0, 1)","v":0},0,0,0,0,0,0,0,0,0,0,0,0,0,0,0,0,0,0,null,null,null,null,{"$f":"IF(ABS(SUM(AG56:AG58) - 1) < 10^-check_decimals, 0, 1)","v":0},{"$f":"IF(ABS(SUM(AH56:AH58) - 1) < 10^-check_decimals, 0, 1)","v":0},null,null,{"$f":"IF(ABS(SUM(AK56:AK58) - 1) < 10^-check_decimals, 0, 1)","v":0},{"$f":"IF(ABS(SUM(AL56:AL58) - 1) < 10^-check_decimals, 0, 1)","v":0},null,null,{"$f":"IF(ABS(SUM(AO56:AO58) - 1) < 10^-check_decimals, 0, 1)","v":0},{"$f":"IF(ABS(SUM(AP56:AP58) - 1) < 10^-check_decimals, 0, 1)","v":0}]
[null,null,null,null,null,"Unit rate 2","number of issues",{"$f":"SUM(J85:AP85)","v":0},null,null,{"$f":"IF(ABS(SUM(K61:K63) - 1) < 10^-check_decimals, 0, 1)","v":0},null,null,{"$f":"IF(ABS(SUM(N61:N63) - 1) < 10^-check_decimals, 0, 1)","v":0},null,{"$f":"IF(ABS(SUM(P61:P63) - 1) < 10^-check_decimals, 0, 1)","v":0},0,0,0,0,0,0,0,null,null,null,null,{"$f":"IF(ABS(SUM(AB61:AB63) - 1) < 10^-check_decimals, 0, 1)","v":0},null,null,null,null,{"$f":"IF(ABS(SUM(AG61:AG63) - 1) < 10^-check_decimals, 0, 1)","v":0},{"$f":"IF(ABS(SUM(AH61:AH63) - 1) < 10^-check_decimals, 0, 1)","v":0},null,null,{"$f":"IF(ABS(SUM(AK61:AK63) - 1) < 10^-check_decimals, 0, 1)","v":0},{"$f":"IF(ABS(SUM(AL61:AL63) - 1) < 10^-check_decimals, 0, 1)","v":0},null,null,{"$f":"IF(ABS(SUM(AO61:AO63) - 1) < 10^-check_decimals, 0, 1)","v":0},{"$f":"IF(ABS(SUM(AP61:AP63) - 1) < 10^-check_decimals, 0, 1)","v":0}]
[null,null,null,null,null,"Unit rate 3","number of issues",{"$f":"SUM(J86:AP86)","v":0},null,null,null,null,null,null,null,null,null,null,{"$f":"IF(ABS(SUM(S66:S68) - 1) < 10^-check_decimals, 0, 1)","v":0},{"$f":"IF(ABS(SUM(T66:T68) - 1) < 10^-check_decimals, 0, 1)","v":0},{"$f":"IF(ABS(SUM(U66:U68) - 1) < 10^-check_decimals, 0, 1)","v":0},{"$f":"IF(ABS(SUM(V66:V68) - 1) < 10^-check_decimals, 0, 1)","v":0},{"$f":"IF(ABS(SUM(W66:W68) - 1) < 10^-check_decimals, 0, 1)","v":0},null,null,null,null,{"$f":"IF(ABS(SUM(AB66:AB68) - 1) < 10^-check_decimals, 0, 1)","v":0},null,null,null,null,{"$f":"IF(ABS(SUM(AG66:AG68) - 1) < 10^-check_decimals, 0, 1)","v":0},{"$f":"IF(ABS(SUM(AH66:AH68) - 1) < 10^-check_decimals, 0, 1)","v":0},null,null,{"$f":"IF(ABS(SUM(AK66:AK68) - 1) < 10^-check_decimals, 0, 1)","v":0},{"$f":"IF(ABS(SUM(AL66:AL68) - 1) < 10^-check_decimals, 0, 1)","v":0},null,null,{"$f":"IF(ABS(SUM(AO66:AO68) - 1) < 10^-check_decimals, 0, 1)","v":0},{"$f":"IF(ABS(SUM(AP66:AP68) - 1) < 10^-check_decimals, 0, 1)","v":0}]
[]
[null,null,null,null,"Summary of checks",null,"number of issues",{"$f":"SUM(H81, H84:H86)","v":0}]
[]
[null,"End of sheet"]

{"sheet":"Inputs by network level","index":15,"n_rows":61,"n_cols":21,"rows_kept":61,"cut":false,"hidden":false,"merged":[]}
[{"$f":"MID(CELL(\"filename\",A1),FIND(\"]\",CELL(\"filename\",A1))+1,255)","v":"Inputs by network level"}]
[{"$f":"Cover!D21&\" - \"&Cover!D23","v":"[enter DNO name] - [enter data version name]"}]
[{"$f":"Cover!D2&\" - \"&Cover!D8&\" v\"&Cover!D10&\" - \"&Cover!D19","v":"ARP model - Release for charge setting v3 - 2020/21"}]
[{"$f":"H59 & IF(H59 = 1, \" issue\", \" issues\") &\" identified in checks on this sheet\"","v":"0 issues identified in checks on this sheet"}]
[null,"Click here to return to model map",null,null,null,null,"Units","Constants",null,"Transmission exit","GSPs","132kV","132kV/EHV","EHV","EHV/HV","132kV/HV","HV","HV/LV","LV circuits",null,"Legal text reference"]
[]
[null,"Description"]
[]
[null,null,"This sheet sets out the inputs by network level to be filled in by DNOs."]
[]
[null,null,null,null,"Charging year selected",null,"year",{"$f":"charging_year_selected","v":"2024/25"}]
[null,null,null,null,"Historic / current / forecast",null,"text",{"$f":"'ARP_User control'!$H$36","v":"Forecast"}]
[]
[null,"Inputs by network level"]
[]
[null,null,{"$f":"INDEX('Version control'!$H$34:$H$59,MATCH($A$1,'Version control'!$F$34:$F$59,0),1)&\"-A: Network and load inputs\"","v":"Section 502-A: Network and load inputs"}]
[]
[null,null,null,null,"Diversity allowance between top and bottom of network level",null,"%",null,">",null,{"$f":"'ARP_Inputs by network level'!J20","v":6.3829787234042507E-2},{"$f":"'ARP_Inputs by network level'!J21","v":5.2999999999999999E-2},null,{"$f":"'ARP_Inputs by network level'!J23","v":9.9000000000000005E-2},null,null,{"$f":"'ARP_Inputs by network level'!J26","v":0.37},null,null,null,"Paragraphs 26 to 28"]
[]
[null,null,null,null,"Proportion of load going through 132kV/HV direct transformation",null,"%",null,null,null,null,null,null,null,null,{"$f":"'ARP_Inputs by network level'!J36","v":0.3}]
[]
[null,null,null,null,"Loss adjustment factors to transmission",null,"scalar",null,">",null,{"$f":"'ARP_Inputs by network level'!J48","v":1},{"$f":"'ARP_Inputs by network level'!J49","v":1.0089999999999999},{"$f":"'ARP_Inputs by network level'!J50","v":1.0129999999999999},{"$f":"'ARP_Inputs by network level'!J51","v":1.024},{"$f":"'ARP_Inputs by network level'!J52","v":1.032},null,{"$f":"'ARP_Inputs by network level'!J54","v":1.0409999999999999},{"$f":"'ARP_Inputs by network level'!J55","v":1.0589999999999999},{"$f":"'ARP_Inputs by network level'!J56","v":1.077},null,"Paragraph 47"]
[]
[null,null,null,null,"Average kVAr by kVA, by network level",null,"kVAr/kVA",null,">",null,{"$f":"'ARP_Inputs by network level'!J62","v":0.32434395898123136},{"$f":"'ARP_Inputs by network level'!J63","v":0.32434395898123136},{"$f":"'ARP_Inputs by network level'!J64","v":0.32434395898123136},{"$f":"'ARP_Inputs by network level'!J65","v":0.32434395898123136},{"$f":"'ARP_Inputs by network level'!J66","v":0.32434395898123136},{"$f":"'ARP_Inputs by network level'!J67","v":0.32434395898123136},{"$f":"'ARP_Inputs by network level'!J68","v":0.32434395898123136},{"$f":"'ARP_Inputs by network level'!J69","v":0.32434395898123136},{"$f":"'ARP_Inputs by network level'!J70","v":0.32434395898123136},null,"Paragraphs 50 to 51"]
[]
[null,null,{"$f":"INDEX('Version control'!$H$34:$H$59,MATCH($A$1,'Version control'!$F$34:$F$59,0),1)&\"-B: Customer contributions under current connection charging policy\"","v":"Section 502-B: Customer contributions under current connection charging policy"}]
[null,null,null,null,null,null,null,null,">",null,null,null,null,null,null,null,null,null,null,null,"Paragraphs 29 to 31"]
[null,null,null,null,"Customer contributions under current connection charging policy"]
[null,null,null,null,null,"LV network","%",null,null,null,null,{"$f":"'ARP_Inputs by network level'!J78","v":0},{"$f":"'ARP_Inputs by network level'!J79","v":0},{"$f":"'ARP_Inputs by network level'!J80","v":0},{"$f":"'ARP_Inputs by network level'!J81","v":0.75},{"$f":"'ARP_Inputs by network level'!J82","v":0.75},{"$f":"'ARP_Inputs by network level'!J83","v":0.75},{"$f":"'ARP_Inputs by network level'!J84","v":0.95},{"$f":"'ARP_Inputs by network level'!J85","v":0.95}]
[null,null,null,null,null,"LV substation","%",null,null,null,null,{"$f":"'ARP_Inputs by network level'!J89","v":0},{"$f":"'ARP_Inputs by network level'!J90","v":0},{"$f":"'ARP_Inputs by network level'!J91","v":0},{"$f":"'ARP_Inputs by network level'!J92","v":0.75},{"$f":"'ARP_Inputs by network level'!J93","v":0.75},{"$f":"'ARP_Inputs by network level'!J94","v":0.75},{"$f":"'ARP_Inputs by network level'!J95","v":0.95}]
[null,null,null,null,null,"HV network","%",null,null,null,null,{"$f":"'ARP_Inputs by network level'!J100","v":0},{"$f":"'ARP_Inputs by network level'!J101","v":0.36},{"$f":"'ARP_Inputs by network level'!J102","v":0.36},{"$f":"'ARP_Inputs by network level'!J103","v":0.91},{"$f":"'ARP_Inputs by network level'!J104","v":0.91},{"$f":"'ARP_Inputs by network level'!J105","v":0.91}]
[null,null,null,null,null,"HV substation","%",null,null,null,null,{"$f":"'ARP_Inputs by network level'!J111","v":0},{"$f":"'ARP_Inputs by network level'!J112","v":0.36},{"$f":"'ARP_Inputs by network level'!J113","v":0.36},{"$f":"'ARP_Inputs by network level'!J114","v":0.91}]
[]
[null,null,{"$f":"INDEX('Version control'!$H$34:$H$59,MATCH($A$1,'Version control'!$F$34:$F$59,0),1)&\"-C: DRM asset costs\"","v":"Section 502-C: DRM asset costs"}]
[]
[null,null,null,null,"Gross asset cost by network level",null,"£",null,">",null,null,{"$f":"'ARP_Inputs by network level'!J125","v":160788860.70266357},{"$f":"'ARP_Inputs by network level'!J126","v":14960417.961098382},{"$f":"'ARP_Inputs by network level'!J127","v":42598544.270825304},{"$f":"'ARP_Inputs by network level'!J128","v":32727994.194904406},{"$f":"'ARP_Inputs by network level'!J129","v":13433092.064356627},{"$f":"'ARP_Inputs by network level'!J130","v":190818960.97253868},{"$f":"'ARP_Inputs by network level'!J131","v":70868380.617299959},{"$f":"'ARP_Inputs by network level'!J132","v":161580476.83135369}]
[]
[null,null,{"$f":"INDEX('Version control'!$H$34:$H$59,MATCH($A$1,'Version control'!$F$34:$F$59,0),1)&\"-D: Peaking probabilities by network level\"","v":"Section 502-D: Peaking probabilities by network level"}]
[]
[null,null,null,"Red, Amber & Green peaking probabilities must sum to 100%, except for unused network levels, which should sum to 0%"]
[]
[null,null,null,null,"Peaking probabilities by network level",null,null,null,">",null,null,null,null,null,null,null,null,null,null,null,"Paragraphs 48 to 49"]
[null,null,null,null,null,"Red","%",null,null,null,{"$f":"'ARP_Inputs by network level'!J140","v":0.77513261918728082},{"$f":"'ARP_Inputs by network level'!J141","v":0.56779401321073086},{"$f":"'ARP_Inputs by network level'!J142","v":0.56779401321073086},{"$f":"'ARP_Inputs by network level'!J143","v":0.63580540031951882},{"$f":"'ARP_Inputs by network level'!J144","v":0.63580540031951882},{"$f":"'ARP_Inputs by network level'!J145","v":0.56779401321073086},{"$f":"'ARP_Inputs by network level'!J146","v":0.63580540031951882},{"$f":"'ARP_Inputs by network level'!J147","v":0.63580540031951882},{"$f":"'ARP_Inputs by network level'!J148","v":0.63580540031951882}]
[null,null,null,null,null,"Amber","%",null,null,null,{"$f":"'ARP_Inputs by network level'!J152","v":0.17378199862228649},{"$f":"'ARP_Inputs by network level'!J153","v":0.26682449702026062},{"$f":"'ARP_Inputs by network level'!J154","v":0.26682449702026062},{"$f":"'ARP_Inputs by network level'!J155","v":0.31463582744008911},{"$f":"'ARP_Inputs by network level'!J156","v":0.31463582744008911},{"$f":"'ARP_Inputs by network level'!J157","v":0.26682449702026062},{"$f":"'ARP_Inputs by network level'!J158","v":0.31463582744008911},{"$f":"'ARP_Inputs by network level'!J159","v":0.31463582744008911},{"$f":"'ARP_Inputs by network level'!J160","v":0.31463582744008911}]
[null,null,null,null,null,"Green","%",null,null,null,{"$f":"'ARP_Inputs by network level'!J164","v":5.1085382190432682E-2},{"$f":"'ARP_Inputs by network level'!J165","v":0.16538148976900843},{"$f":"'ARP_Inputs by network level'!J166","v":0.16538148976900843},{"$f":"'ARP_Inputs by network level'!J167","v":4.9558772240392047E-2},{"$f":"'ARP_Inputs by network level'!J168","v":4.9558772240392047E-2},{"$f":"'ARP_Inputs by network level'!J169","v":0.16538148976900843},{"$f":"'ARP_Inputs by network level'!J170","v":4.9558772240392047E-2},{"$f":"'ARP_Inputs by network level'!J171","v":4.9558772240392047E-2},{"$f":"'ARP_Inputs by network level'!J172","v":4.9558772240392047E-2}]
[null,null,null,null,null,"Black","%",null,null,null,{"$f":"'ARP_Inputs by network level'!J176","v":0.60679682585338368},{"$f":"'ARP_Inputs by network level'!J177","v":0.46666336703292904},{"$f":"'ARP_Inputs by network level'!J178","v":0.46666336703292904},{"$f":"'ARP_Inputs by network level'!J179","v":0.46262985578084642},{"$f":"'ARP_Inputs by network level'!J180","v":0.46262985578084642},{"$f":"'ARP_Inputs by network level'!J181","v":0.46666336703292904},{"$f":"'ARP_Inputs by network level'!J182","v":0.46262985578084642},{"$f":"'ARP_Inputs by network level'!J183","v":0.46262985578084642},{"$f":"'ARP_Inputs by network level'!J184","v":0.46262985578084642}]
[]
[null,"Checks"]
[]
[null,null,null,null,"Check for error values",null,"number of issues",{"$f":"SUM(IF(ISERROR(H18:AA47), 1))","v":0}]
[]
[null,null,null,null,"Check that loss adjustment factor = 1 at grid supply point",null,"number of issues",{"$f":"IF(K22 = 1, 0, 1)","v":0}]
[]
[null,null,null,null,"Peaking probabilities check"]
[null,null,null,null,"0% peaking probabilities are permitted for 132kV, 132kV/EHV & 132kV/HV network levels, which do not exist for all DNOs"]
[null,null,null,null,null,"General","number of issues",{"$f":"SUM(K56:S56)","v":0},null,null,{"$f":"IF(ABS(SUM(K43:K45) - 1) < 10^-check_decimals, 0, 1)","v":0},null,null,{"$f":"IF(ABS(SUM(N43:N45) - 1) < 10^-check_decimals, 0, 1)","v":0},{"$f":"IF(ABS(SUM(O43:O45) - 1) < 10^-check_decimals, 0, 1)","v":0},null,{"$f":"IF(ABS(SUM(Q43:Q45) - 1) < 10^-check_decimals, 0, 1)","v":0},{"$f":"IF(ABS(SUM(R43:R45) - 1) < 10^-check_decimals, 0, 1)","v":0},{"$f":"IF(ABS(SUM(S43:S45) - 1) < 10^-check_decimals, 0, 1)","v":0}]
[null,null,null,null,null,"132kV","number of issues",{"$f":"SUM(K57:S57)","v":0},null,null,null,{"$f":"IF(OR(ABS(SUM(L43:L45) - 1) < 10^-check_decimals, ABS(SUM(L43:L45) - 0) < 10^-check_decimals), 0, 1)","v":0},{"$f":"IF(OR(ABS(SUM(M43:M45) - 1) < 10^-check_decimals, ABS(SUM(M43:M45) - 0) < 10^-check_decimals), 0, 1)","v":0},null,null,{"$f":"IF(OR(ABS(SUM(P43:P45) - 1) < 10^-check_decimals, ABS(SUM(P43:P45) - 0) < 10^-check_decimals), 0, 1)","v":0}]
[]
[null,null,null,null,"Summary of checks",null,"number of issues",{"$f":"SUM(H50:H57)","v":0}]
[]
[null,"End of sheet"]

{"sheet":"General inputs","index":16,"n_rows":117,"n_cols":10,"rows_kept":117,"cut":false,"hidden":false,"merged":[]}
[{"$f":"MID(CELL(\"filename\",A1),FIND(\"]\",CELL(\"filename\",A1))+1,255)","v":"General inputs"}]
[{"$f":"Cover!D21&\" - \"&Cover!D23","v":"[enter DNO name] - [enter data version name]"}]
[{"$f":"Cover!D2&\" - \"&Cover!D8&\" v\"&Cover!D10&\" - \"&Cover!D19","v":"ARP model - Release for charge setting v3 - 2020/21"}]
[{"$f":"H115 & IF(H115 = 1, \" issue\", \" issues\") &\" identified in checks on this sheet\"","v":"0 issues identified in checks on this sheet"}]
[null,"Click here to return to model map",null,null,null,null,"Units","Constants",null,"Legal text reference"]
[]
[null,"Description"]
[]
[null,null,"This sheet sets out the other inputs to be filled in by DNOs"]
[]
[null,null,null,null,"Charging year selected",null,"year",{"$f":"charging_year_selected","v":"2024/25"}]
[null,null,null,null,"Historic / current / forecast",null,"text",{"$f":"'ARP_User control'!$H$36","v":"Forecast"}]
[]
[null,"General inputs"]
[]
[null,null,{"$f":"INDEX('Version control'!$H$34:$H$59,MATCH($A$1,'Version control'!$F$34:$F$59,0),1)&\"-A: Inputs by distribution timeband\"","v":"Section 503-A: Inputs by distribution timeband"}]
[]
[null,null,null,"Typical annual hours by special distribution time band",null,null,null,null,">","Paragraphs 40 to 41"]
[null,null,null,null,"Black",null,"hours per year",{"$f":"'ARP_General inputs'!J19","v":190}]
[null,null,null,null,"Yellow",null,"hours per year",{"$f":"'ARP_General inputs'!J20","v":4218.5}]
[null,null,null,null,"Green",null,"hours per year",{"$f":"'ARP_General inputs'!J21","v":4351.5}]
[]
[null,null,null,"Typical annual hours by distribution time band",null,null,null,null,">","Paragraphs 40 to 41"]
[null,null,null,null,"Red",null,"hours per year",{"$f":"'ARP_General inputs'!J24","v":652.5}]
[null,null,null,null,"Amber",null,"hours per year",{"$f":"'ARP_General inputs'!J25","v":3756}]
[null,null,null,null,"Green",null,"hours per year",{"$f":"'ARP_General inputs'!J26","v":4351.5}]
[]
[null,null,{"$f":"INDEX('Version control'!$H$34:$H$59,MATCH($A$1,'Version control'!$F$34:$F$59,0),1)&\"-B: LDNO discount inputs\"","v":"Section 503-B: LDNO discount inputs"}]
[]
[null,null,null,"Inputs sourced from the PCDM"]
[]
[null,null,null,"Embedded network (LDNO) discount percentages",null,null,null,null,">","Paragraph 53"]
[null,null,null,null,"LDNO LV: LV user",null,"%",{"$f":"'ARP_General inputs'!J33","v":0.32721850432250099}]
[null,null,null,null,"LDNO HV: LV user",null,"%",{"$f":"'ARP_General inputs'!J34","v":0.61947521099660174}]
[null,null,null,null,"LDNO HV: LV Sub user",null,"%",{"$f":"'ARP_General inputs'!J35","v":0.41493783028785863}]
[null,null,null,null,"LDNO HV: HV user",null,"%",{"$f":"'ARP_General inputs'!J36","v":0.29542429060126774}]
[]
[null,null,{"$f":"INDEX('Version control'!$H$34:$H$59,MATCH($A$1,'Version control'!$F$34:$F$59,0),1)&\"-C: CDCM target revenue\"","v":"Section 503-C: CDCM target revenue"}]
[]
[null,null,null,"The contents of this table are defined in Paragraph 1.5 of Schedule 15 (Table 1)",null,null,null,null,">","Paragraph 54 and Schedule 15 Table 1"]
[null,null,null,"\"CDCM Revenue used in Charging Model\" is the only row used as an input to the model itself"]
[]
[null,null,null,null,"Base Demand Revenue before inflation",null,"£",{"$f":"'ARP_General inputs'!J43","v":218900000}]
[null,null,null,null,"Annual Iteration adjustment before inflation",null,"£",{"$f":"'ARP_General inputs'!J44","v":0}]
[null,null,null,null,"RPI True-up before inflation",null,"£",{"$f":"'ARP_General inputs'!J45","v":0}]
[null,null,null,null,"Price index adjustment (RPI index)",null,"scalar",{"$f":"'ARP_General inputs'!J46","v":1.4071895201471245}]
[null,null,null,null,"Base demand revenue",null,"£",{"$f":"SUM(H43:H45)","v":218900000}]
[null,null,null,null,"Inflation adjustment",null,"£",{"$f":"H47 * (H46 - 1)","v":89133785.960205555}]
[]
[null,null,null,null,"Pass-Through Licence Fees",null,"£",{"$f":"'ARP_General inputs'!J50","v":243543.69416118861}]
[null,null,null,null,"Pass-Through Business Rates",null,"£",{"$f":"'ARP_General inputs'!J51","v":-10955321.322069762}]
[null,null,null,null,"Pass-Through Transmission Connection Point Charges",null,"£",{"$f":"'ARP_General inputs'!J52","v":1011658.2335415984}]
[null,null,null,null,"Pass-through Smart Meter Communication Licence Costs",null,"£",{"$f":"'ARP_General inputs'!J53","v":1543861.5669464252}]
[null,null,null,null,"Pass-through Smart Meter IT Costs",null,"£",{"$f":"'ARP_General inputs'!J54","v":345925.54860108398}]
[null,null,null,null,"Pass-through Ring Fence Costs",null,"£",{"$f":"'ARP_General inputs'!J55","v":29182.455507073544}]
[null,null,null,null,"Pass-Through Others",null,"£",{"$f":"'ARP_General inputs'!J56","v":0}]
[null,null,null,null,"Allowed Pass-Through Items",null,"£",{"$f":"SUM(H50:H56)","v":-7781149.8233123925}]
[]
[null,null,null,null,"Broad Measure of Customer Service incentive",null,"£",{"$f":"'ARP_General inputs'!J59","v":3233566.3440000014}]
[null,null,null,null,"Quality of Service incentive",null,"£",{"$f":"'ARP_General inputs'!J60","v":4384476.7161550038}]
[null,null,null,null,"Connections Engagement incentive",null,"£",{"$f":"'ARP_General inputs'!J61","v":0}]
[null,null,null,null,"Time to Connect incentive",null,"£",{"$f":"'ARP_General inputs'!J62","v":0}]
[null,null,null,null,"Losses Discretionary Reward incentive",null,"£",{"$f":"'ARP_General inputs'!J63","v":0}]
[null,null,null,null,"Network Innovation Allowance",null,"£",{"$f":"'ARP_General inputs'!J64","v":547288.2021600001}]
[null,null,null,null,"Low Carbon Network Fund - Tier 1 unrecoverable",null,"£",{"$f":"'ARP_General inputs'!J65","v":0}]
[null,null,null,null,"Low Carbon Network Fund - Tier 2 & Discretionary Funding",null,"£",{"$f":"'ARP_General inputs'!J66","v":95446.709646826581}]
[null,null,null,null,"Connection Guaranteed Standards Systems & Processes penalty",null,"£",{"$f":"'ARP_General inputs'!J67","v":0}]
[null,null,null,null,"Residual Losses and Growth Incentive - Losses",null,"£",{"$f":"'ARP_General inputs'!J68","v":0}]
[null,null,null,null,"Residual Losses and Growth Incentive - Growth",null,"£",{"$f":"'ARP_General inputs'!J69","v":0}]
[null,null,null,null,"Incentive Revenue and Other Adjustments",null,"£",{"$f":"SUM(H59:H69)","v":8260777.9719618317}]
[]
[null,null,null,null,"Correction Factor",null,"£",{"$f":"'ARP_General inputs'!J72","v":0}]
[null,null,null,null,"Total allowed Revenue",null,"£",{"$f":"H72 + H70 + H57 + H48 + H47","v":308513414.10885501}]
[]
[null,null,null,null,"Other 1. Excluded services - Top-up, standby, and enhanced system security",null,"£",{"$f":"'ARP_General inputs'!J75","v":0}]
[null,null,null,null,"Other 2. Excluded services - Revenue protection services",null,"£",{"$f":"'ARP_General inputs'!J76","v":0}]
[null,null,null,null,"Other 3. Excluded services - Miscellaneous",null,"£",{"$f":"'ARP_General inputs'!J77","v":0}]
[null,null,null,null,"Other 4. Please describe if used",null,"£",{"$f":"'ARP_General inputs'!J78","v":0}]
[null,null,null,null,"Other 5. Please describe if used",null,"£",{"$f":"'ARP_General inputs'!J79","v":0}]
[null,null,null,null,"Total other revenue recovered by Use of System Charges",null,"£",{"$f":"SUM(H75:H79)","v":0}]
[null,null,null,null,"Total Revenue for Use of System Charges",null,"£",{"$f":"H73+H80","v":308513414.10885501}]
[]
[null,null,null,null,"1. Revenue raised outside CDCM - EDCM and Certain Interconnector Revenue",null,"£",{"$f":"'ARP_General inputs'!J83","v":18875975.631406404}]
[null,null,null,null,"2. Revenue raised outside CDCM - Voluntary under-recovery",null,"£",{"$f":"'ARP_General inputs'!J84","v":0}]
[null,null,null,null,"3. Revenue raised outside CDCM - Please describe if used",null,"£",{"$f":"'ARP_General inputs'!J85","v":0}]
[null,null,null,null,"4. Revenue raised outside CDCM - Please describe if used",null,"£",{"$f":"'ARP_General inputs'!J86","v":0}]
[null,null,null,null,"Total Revenue to be raised outside the CDCM",null,"£",{"$f":"SUM(H83:H86)","v":18875975.631406404}]
[null,null,null,null,"Latest forecast of CDCM Revenue",null,"£",{"$f":"H81-H87","v":289637438.47744858}]
[]
[null,null,{"$f":"INDEX('Version control'!$H$34:$H$59,MATCH($A$1,'Version control'!$F$34:$F$59,0),1)&\"-D: Financial and general assumptions\"","v":"Section 503-D: Financial and general assumptions"}]
[]
[null,null,null,null,"Real pre-tax cost of capital",null,"%",{"$f":"'ARP_General inputs'!J98","v":3.73E-2},">","Paragraph 57"]
[null,null,null,null,"Days in the charging year",null,"days",{"$f":"'ARP_General inputs'!J99","v":365}]
[null,null,null,null,"Hours in charging year",null,"hours",{"$f":"days_in_year * hours_in_day","v":8760}]
[]
[null,null,{"$f":"INDEX('Version control'!$H$34:$H$59,MATCH($A$1,'Version control'!$F$34:$F$59,0),1)&\"-E: Transmission exit charges\"","v":"Section 503-E: Transmission exit charges"}]
[]
[null,null,null,null,"Transmission exit charges",null,"£ per year",{"$f":"'ARP_General inputs'!J103","v":13342798.915754424},">","Paragraph 38"]
[]
[null,null,{"$f":"INDEX('Version control'!$H$34:$H$56,MATCH($A$1,'Version control'!$F$34:$F$56,0),1)&\"-F: Other expenditure\"","v":"Section 503-F: Other expenditure"}]
[]
[null,null,null,null,"Other expenditure",null,null,null,">","Paragraph 39"]
[null,null,null,null,null,"Direct cost","£ per year",{"$f":"'ARP_General inputs'!J108","v":29095555.429631043}]
[null,null,null,null,null,"Indirect cost","£ per year",{"$f":"'ARP_General inputs'!J109","v":75889189.719244808}]
[null,null,null,null,null,"Network rates","£ per year",{"$f":"'ARP_General inputs'!J110","v":16406764.884910895}]
[]
[null,"Checks"]
[]
[null,null,null,null,"Check for error values",null,"number of issues",{"$f":"SUM(IF(ISERROR(H6:H106), 1))","v":0}]
[]
[null,null,null,null,"Hours in charging year check"]
[null,null,null,null,null,"Normal distribution timebands","number of issues",{"$f":"IF(SUM(H19:H21) = hours_in_year, 0, 1)","v":0}]
[null,null,null,null,null,"Special distribution timebands","number of issues",{"$f":"IF(SUM(H24:H26) = hours_in_year, 0, 1)","v":0}]
[]
[null,null,null,null,"Summary of checks",null,"number of issues",{"$f":"SUM(H109,H112:H113)","v":0}]
[]
[null,"End of sheet"]

{"sheet":"Standing charge factors","index":17,"n_rows":60,"n_cols":44,"rows_kept":60,"cut":false,"hidden":false,"merged":[]}
[{"$f":"MID(CELL(\"filename\",A1),FIND(\"]\",CELL(\"filename\",A1))+1,255)","v":"Standing charge factors"}]
[{"$f":"Cover!D21&\" - \"&Cover!D23","v":"[enter DNO name] - [enter data version name]"}]
[{"$f":"Cover!D2&\" - \"&Cover!D8&\" v\"&Cover!D10&\" - \"&Cover!D19","v":"ARP model - Release for charge setting v3 - 2020/21"}]
[{"$f":"H58 & IF(H58 = 1, \" issue\", \" issues\") &\" identified in checks on this sheet\"","v":"0 issues identified in checks on this sheet"}]
[null,"Click here to return to model map",null,null,null,null,"Units","Constants",null,"Domestic Unrestricted","Domestic Two Rate","Domestic Off Peak (related MPAN)","Small Non Domestic Unrestricted","Small Non Domestic Two Rate","Small Non Domestic Off Peak (related MPAN)","LV Medium Non-Domestic","LV Sub Medium Non-Domestic","HV Medium Non-Domestic","LV Network Domestic","LV Network Non-Domestic Non-CT","LV HH Metered","LV Sub HH Metered","HV HH Metered","NHH UMS category A","NHH UMS category B","NHH UMS category C","NHH UMS category D","LV UMS (Pseudo HH Metered)","LV Generation NHH or Aggregate HH","LV Sub Generation NHH","LV Generation Intermittent","LV Generation Intermittent no RP charge","LV Generation Non-Intermittent","LV Generation Non-Intermittent no RP charge","LV Sub Generation Intermittent","LV Sub Generation Intermittent no RP charge","LV Sub Generation Non-Intermittent","LV Sub Generation Non-Intermittent no RP charge","HV Generation Intermittent","HV Generation Intermittent no RP charge","HV Generation Non-Intermittent","HV Generation Non-Intermittent no RP charge",null,"Legal text reference"]
[]
[null,"Description"]
[]
[null,null,"This sheet contains standing charge factors, as described in DCUSA Schedule 16, Paragraphs 74-76."]
[null,null,"Standing charge factors are used to split network costs between those to be recovered through unit rate charges "]
[null,null,"and those to be recovered through standing (capacity or fixed) charges, depending on the customer class and "]
[null,null,"the network level at which costs occur."]
[]
[null,null,"Standing charge factors are only applied for demand users."]
[null,null,"A factor of 100% implies that all costs will be allocated to standing charges."]
[]
[null,"Adjustments to standing charges"]
[]
[null,null,{"$f":"INDEX('Version control'!$H$34:$H$59,MATCH($A$1,'Version control'!$F$34:$F$59,0),1)&\"-A: Adjustments to standing charges\"","v":"Section 504-A: Adjustments to standing charges"}]
[]
[null,null,null,"Brings in standing charge factors and adjusts them for share of load going through 132/HV"]
[]
[null,null,null,null,"Raw inputs for standing charge factors, by network level",null,null,null,">",null,null,null,null,null,null,null,null,null,null,null,null,null,null,null,null,null,null,null,null,null,null,null,null,null,null,null,null,null,null,null,null,null,null,"Paragraph 74"]
[null,null,null,null,"Standing charge factors as specified in Paragraph 74"]
[null,null,null,null,null,"Transmission exit","%",null,null,{"$f":"'Fixed inputs'!J89","v":0},{"$f":"'Fixed inputs'!K89","v":0},{"$f":"'Fixed inputs'!L89","v":0},{"$f":"'Fixed inputs'!M89","v":0},{"$f":"'Fixed inputs'!N89","v":0},{"$f":"'Fixed inputs'!O89","v":0},{"$f":"'Fixed inputs'!P89","v":0},{"$f":"'Fixed inputs'!Q89","v":0},{"$f":"'Fixed inputs'!R89","v":0},{"$f":"'Fixed inputs'!S89","v":0},{"$f":"'Fixed inputs'!T89","v":0},{"$f":"'Fixed inputs'!U89","v":0},{"$f":"'Fixed inputs'!V89","v":0},{"$f":"'Fixed inputs'!W89","v":0},{"$f":"'Fixed inputs'!X89","v":0},{"$f":"'Fixed inputs'!Y89","v":0},{"$f":"'Fixed inputs'!Z89","v":0},{"$f":"'Fixed inputs'!AA89","v":0},{"$f":"'Fixed inputs'!AB89","v":0}]
[null,null,null,null,null,"GSPs","%",null,null,{"$f":"'Fixed inputs'!J90","v":0},{"$f":"'Fixed inputs'!K90","v":0},{"$f":"'Fixed inputs'!L90","v":0},{"$f":"'Fixed inputs'!M90","v":0},{"$f":"'Fixed inputs'!N90","v":0},{"$f":"'Fixed inputs'!O90","v":0},{"$f":"'Fixed inputs'!P90","v":0},{"$f":"'Fixed inputs'!Q90","v":0},{"$f":"'Fixed inputs'!R90","v":0},{"$f":"'Fixed inputs'!S90","v":0},{"$f":"'Fixed inputs'!T90","v":0},{"$f":"'Fixed inputs'!U90","v":0},{"$f":"'Fixed inputs'!V90","v":0},{"$f":"'Fixed inputs'!W90","v":0},{"$f":"'Fixed inputs'!X90","v":0},{"$f":"'Fixed inputs'!Y90","v":0},{"$f":"'Fixed inputs'!Z90","v":0},{"$f":"'Fixed inputs'!AA90","v":0},{"$f":"'Fixed inputs'!AB90","v":0}]
[null,null,null,null,null,"132kV","%",null,null,{"$f":"'Fixed inputs'!J91","v":0},{"$f":"'Fixed inputs'!K91","v":0},{"$f":"'Fixed inputs'!L91","v":0},{"$f":"'Fixed inputs'!M91","v":0},{"$f":"'Fixed inputs'!N91","v":0},{"$f":"'Fixed inputs'!O91","v":0},{"$f":"'Fixed inputs'!P91","v":0},{"$f":"'Fixed inputs'!Q91","v":0},{"$f":"'Fixed inputs'!R91","v":0},{"$f":"'Fixed inputs'!S91","v":0},{"$f":"'Fixed inputs'!T91","v":0},{"$f":"'Fixed inputs'!U91","v":0},{"$f":"'Fixed inputs'!V91","v":0},{"$f":"'Fixed inputs'!W91","v":0},{"$f":"'Fixed inputs'!X91","v":0},{"$f":"'Fixed inputs'!Y91","v":0},{"$f":"'Fixed inputs'!Z91","v":0},{"$f":"'Fixed inputs'!AA91","v":0},{"$f":"'Fixed inputs'!AB91","v":0}]
[null,null,null,null,null,"132kV/EHV","%",null,null,{"$f":"'Fixed inputs'!J92","v":0},{"$f":"'Fixed inputs'!K92","v":0},{"$f":"'Fixed inputs'!L92","v":0},{"$f":"'Fixed inputs'!M92","v":0},{"$f":"'Fixed inputs'!N92","v":0},{"$f":"'Fixed inputs'!O92","v":0},{"$f":"'Fixed inputs'!P92","v":0},{"$f":"'Fixed inputs'!Q92","v":0},{"$f":"'Fixed inputs'!R92","v":0},{"$f":"'Fixed inputs'!S92","v":0},{"$f":"'Fixed inputs'!T92","v":0},{"$f":"'Fixed inputs'!U92","v":0},{"$f":"'Fixed inputs'!V92","v":0},{"$f":"'Fixed inputs'!W92","v":0},{"$f":"'Fixed inputs'!X92","v":0},{"$f":"'Fixed inputs'!Y92","v":0},{"$f":"'Fixed inputs'!Z92","v":0},{"$f":"'Fixed inputs'!AA92","v":0},{"$f":"'Fixed inputs'!AB92","v":0}]
[null,null,null,null,null,"EHV","%",null,null,{"$f":"'Fixed inputs'!J93","v":0},{"$f":"'Fixed inputs'!K93","v":0},{"$f":"'Fixed inputs'!L93","v":0},{"$f":"'Fixed inputs'!M93","v":0},{"$f":"'Fixed inputs'!N93","v":0},{"$f":"'Fixed inputs'!O93","v":0},{"$f":"'Fixed inputs'!P93","v":0},{"$f":"'Fixed inputs'!Q93","v":0},{"$f":"'Fixed inputs'!R93","v":0.2},{"$f":"'Fixed inputs'!S93","v":0},{"$f":"'Fixed inputs'!T93","v":0},{"$f":"'Fixed inputs'!U93","v":0},{"$f":"'Fixed inputs'!V93","v":0},{"$f":"'Fixed inputs'!W93","v":0.2},{"$f":"'Fixed inputs'!X93","v":0},{"$f":"'Fixed inputs'!Y93","v":0},{"$f":"'Fixed inputs'!Z93","v":0},{"$f":"'Fixed inputs'!AA93","v":0},{"$f":"'Fixed inputs'!AB93","v":0}]
[null,null,null,null,null,"EHV/HV","%",null,null,{"$f":"'Fixed inputs'!J94","v":0},{"$f":"'Fixed inputs'!K94","v":0},{"$f":"'Fixed inputs'!L94","v":0},{"$f":"'Fixed inputs'!M94","v":0},{"$f":"'Fixed inputs'!N94","v":0},{"$f":"'Fixed inputs'!O94","v":0},{"$f":"'Fixed inputs'!P94","v":0},{"$f":"'Fixed inputs'!Q94","v":0},{"$f":"'Fixed inputs'!R94","v":1},{"$f":"'Fixed inputs'!S94","v":0},{"$f":"'Fixed inputs'!T94","v":0},{"$f":"'Fixed inputs'!U94","v":0},{"$f":"'Fixed inputs'!V94","v":0},{"$f":"'Fixed inputs'!W94","v":1},{"$f":"'Fixed inputs'!X94","v":0},{"$f":"'Fixed inputs'!Y94","v":0},{"$f":"'Fixed inputs'!Z94","v":0},{"$f":"'Fixed inputs'!AA94","v":0},{"$f":"'Fixed inputs'!AB94","v":0}]
[null,null,null,null,null,"132kV/HV","%",null,null,{"$f":"'Fixed inputs'!J95","v":0},{"$f":"'Fixed inputs'!K95","v":0},{"$f":"'Fixed inputs'!L95","v":0},{"$f":"'Fixed inputs'!M95","v":0},{"$f":"'Fixed inputs'!N95","v":0},{"$f":"'Fixed inputs'!O95","v":0},{"$f":"'Fixed inputs'!P95","v":0},{"$f":"'Fixed inputs'!Q95","v":0},{"$f":"'Fixed inputs'!R95","v":0},{"$f":"'Fixed inputs'!S95","v":0},{"$f":"'Fixed inputs'!T95","v":0},{"$f":"'Fixed inputs'!U95","v":0},{"$f":"'Fixed inputs'!V95","v":0},{"$f":"'Fixed inputs'!W95","v":0},{"$f":"'Fixed inputs'!X95","v":0},{"$f":"'Fixed inputs'!Y95","v":0},{"$f":"'Fixed inputs'!Z95","v":0},{"$f":"'Fixed inputs'!AA95","v":0},{"$f":"'Fixed inputs'!AB95","v":0}]
[null,null,null,null,null,"HV","%",null,null,{"$f":"'Fixed inputs'!J96","v":0},{"$f":"'Fixed inputs'!K96","v":0},{"$f":"'Fixed inputs'!L96","v":0},{"$f":"'Fixed inputs'!M96","v":0},{"$f":"'Fixed inputs'!N96","v":0},{"$f":"'Fixed inputs'!O96","v":0},{"$f":"'Fixed inputs'!P96","v":0},{"$f":"'Fixed inputs'!Q96","v":0},{"$f":"'Fixed inputs'!R96","v":1},{"$f":"'Fixed inputs'!S96","v":0},{"$f":"'Fixed inputs'!T96","v":0},{"$f":"'Fixed inputs'!U96","v":0.2},{"$f":"'Fixed inputs'!V96","v":1},{"$f":"'Fixed inputs'!W96","v":1},{"$f":"'Fixed inputs'!X96","v":0},{"$f":"'Fixed inputs'!Y96","v":0},{"$f":"'Fixed inputs'!Z96","v":0},{"$f":"'Fixed inputs'!AA96","v":0},{"$f":"'Fixed inputs'!AB96","v":0}]
[null,null,null,null,null,"HV/LV","%",null,null,{"$f":"'Fixed inputs'!J97","v":0},{"$f":"'Fixed inputs'!K97","v":0},{"$f":"'Fixed inputs'!L97","v":0},{"$f":"'Fixed inputs'!M97","v":0},{"$f":"'Fixed inputs'!N97","v":0},{"$f":"'Fixed inputs'!O97","v":0},{"$f":"'Fixed inputs'!P97","v":0},{"$f":"'Fixed inputs'!Q97","v":1},{"$f":"'Fixed inputs'!R97","v":0},{"$f":"'Fixed inputs'!S97","v":0},{"$f":"'Fixed inputs'!T97","v":0},{"$f":"'Fixed inputs'!U97","v":1},{"$f":"'Fixed inputs'!V97","v":1},{"$f":"'Fixed inputs'!W97","v":0},{"$f":"'Fixed inputs'!X97","v":0},{"$f":"'Fixed inputs'!Y97","v":0},{"$f":"'Fixed inputs'!Z97","v":0},{"$f":"'Fixed inputs'!AA97","v":0},{"$f":"'Fixed inputs'!AB97","v":0}]
[null,null,null,null,null,"LV circuits","%",null,null,{"$f":"'Fixed inputs'!J98","v":1},{"$f":"'Fixed inputs'!K98","v":1},{"$f":"'Fixed inputs'!L98","v":1},{"$f":"'Fixed inputs'!M98","v":1},{"$f":"'Fixed inputs'!N98","v":1},{"$f":"'Fixed inputs'!O98","v":1},{"$f":"'Fixed inputs'!P98","v":1},{"$f":"'Fixed inputs'!Q98","v":0},{"$f":"'Fixed inputs'!R98","v":0},{"$f":"'Fixed inputs'!S98","v":1},{"$f":"'Fixed inputs'!T98","v":1},{"$f":"'Fixed inputs'!U98","v":1},{"$f":"'Fixed inputs'!V98","v":0},{"$f":"'Fixed inputs'!W98","v":0},{"$f":"'Fixed inputs'!X98","v":0},{"$f":"'Fixed inputs'!Y98","v":0},{"$f":"'Fixed inputs'!Z98","v":0},{"$f":"'Fixed inputs'!AA98","v":0},{"$f":"'Fixed inputs'!AB98","v":0}]
[null,null,null,null,null,"LV customers","%"]
[null,null,null,null,null,"HV customers","%"]
[]
[null,null,null,null,"Proportion of load going through 132kV/HV direct transformation"]
[null,null,null,null,null,"Proportion of load going through 132kV/HV direct transformation","%",{"$f":"'Inputs by network level'!P20","v":0.3}]
[]
[null,null,null,null,"Standing charges factors adapted to use 132kV/HV, by network level"]
[null,null,null,null,"Adjustments as described in Paragraph 75 and 76"]
[null,null,null,null,null,"Transmission exit","%"]
[null,null,null,null,null,"GSPs","%"]
[null,null,null,null,null,"132kV","%",null,">",{"$f":"IF($H$39 = 0, J25, J29 * $H$39)","v":0},{"$f":"IF($H$39 = 0, K25, K29 * $H$39)","v":0},0,0,0,0,0,0,0.06,0,0,0,0,0.06,0,0,0,0,0,null,null,null,null,null,null,null,null,null,null,null,null,null,null,null,"Paragraph 76"]
[null,null,null,null,null,"132kV/EHV","%",null,null,{"$f":"J28","v":0},0,0,0,0,0,0,0,0,0,0,0,0,0,0,0,0,0,0]
[null,null,null,null,null,"EHV","%",null,null,{"$f":"J29","v":0},0,0,0,0,0,0,0,0.2,0,0,0,0,0.2,0,0,0,0,0]
[null,null,null,null,null,"EHV/HV","%",null,null,{"$f":"J30","v":0},0,0,0,0,0,0,0,1,0,0,0,0,1,0,0,0,0,0]
[null,null,null,null,null,"132kV/HV","%",null,">",{"$f":"J30","v":0},{"$f":"K30","v":0},0,0,0,0,0,0,1,0,0,0,0,1,0,0,0,0,0,null,null,null,null,null,null,null,null,null,null,null,null,null,null,null,"Paragraph 75"]
[null,null,null,null,null,"HV","%",null,null,{"$f":"J32","v":0},0,0,0,0,0,0,0,1,0,0,0.2,1,1,0,0,0,0,0]
[null,null,null,null,null,"HV/LV","%",null,null,{"$f":"J33","v":0},0,0,0,0,0,0,1,0,0,0,1,1,0,0,0,0,0,0]
[null,null,null,null,null,"LV circuits","%",null,null,{"$f":"J34","v":1},1,1,1,1,1,1,0,0,1,1,1,0,0,0,0,0,0,0]
[null,null,null,null,null,"LV customers","%"]
[null,null,null,null,null,"HV customers","%"]
[]
[null,"Checks"]
[]
[null,null,null,null,"Check for error values",null,"number of issues",{"$f":"SUM(IF(ISERROR(H25:AP54), 1))","v":0}]
[]
[null,"End of sheet"]

{"sheet":"Load & loss characteristics","index":18,"n_rows":304,"n_cols":23,"rows_kept":304,"cut":false,"hidden":false,"merged":[]}
[{"$f":"MID(CELL(\"filename\",A1),FIND(\"]\",CELL(\"filename\",A1))+1,255)","v":"Load & loss characteristics"}]
[{"$f":"Cover!D21&\" - \"&Cover!D23","v":"[enter DNO name] - [enter data version name]"}]
[{"$f":"Cover!D2&\" - \"&Cover!D8&\" v\"&Cover!D10&\" - \"&Cover!D19","v":"ARP model - Release for charge setting v3 - 2020/21"}]
[{"$f":"H302 & IF(H302 = 1, \" issue\", \" issues\") &\" identified in checks on this sheet\"","v":"0 issues identified in checks on this sheet"}]
[null,"Click here to return to model map",null,null,null,null,"Units","Constants",null,"Transmission exit","GSPs","132kV","132kV/EHV","EHV","EHV/HV","132kV/HV","HV","HV/LV","LV circuits","LV customers","HV customers",null,"Legal text reference"]
[]
[null,"Description"]
[]
[null,null,"This sheet adjusts diversity allowances, coincidence factors and loss adjustment factors for use in the model"]
[null,null,"This sheet then uses network use factors and loss adjustment factors to calculate user loss factors"]
[null,null,"Network use factors and user loss factors are also adjusted for the share of load going through 132/HV transformation"]
[]
[null,"Load and loss characteristics"]
[]
[null,null,"Brings in diversity allowances to calculate coincidence and cumulative diversity factors. Also adjusts loss adjustment factors."]
[]
[null,null,{"$f":"INDEX('Version control'!$H$34:$H$59,MATCH($A$1,'Version control'!$F$34:$F$59,0),1)&\"-A: Load characteristics\"","v":"Section 505-A: Load characteristics"}]
[]
[null,null,null,null,"Network model diversity allowances",null,"%",null,null,null,{"$f":"'Inputs by network level'!K18","v":6.3829787234042507E-2},{"$f":"'Inputs by network level'!L18","v":5.2999999999999999E-2},null,{"$f":"'Inputs by network level'!N18","v":9.9000000000000005E-2},null,null,{"$f":"'Inputs by network level'!Q18","v":0.37}]
[null,null,null,null,"Coincidence factor",null,"%",null,null,{"$f":"IF(I20 = \"\", 1, I20 / (1 + J19))","v":1},{"$f":"IF(J20 = \"\", 1, J20 / (1 + K19))","v":0.94000000000000006},{"$f":"IF(K20 = \"\", 1, K20 / (1 + L19))","v":0.89268755935422617},0.89268755935422617,0.81227257448064261,0.81227257448064261,0.81227257448064261,0.59289968940192883,0.59289968940192883,0.59289968940192883]
[null,null,null,null,"Network model cumulative diversity factor",null,"%",null,null,{"$f":"1 / J20 - 1","v":0},{"$f":"1 / K20 - 1","v":6.3829787234042534E-2},0.12021276595744657,0.12021276595744657,0.23111382978723372,0.23111382978723372,0.23111382978723372,0.68662594680851052,0.68662594680851052,0.68662594680851052]
[null,null,null,null,"Adjustment for 132/HV diversity",null,"%",null,null,null,null,null,null,null,null,{"$f":"M21","v":0.12021276595744657}]
[null,null,null,null,"Adjusted network model cumulative diversity factor",null,"%",null,">",{"$f":"IF(J22 = \"\", J21, J22)","v":0},6.3829787234042534E-2,0.12021276595744657,0.12021276595744657,0.23111382978723372,0.23111382978723372,0.12021276595744657,0.68662594680851052,0.68662594680851052,0.68662594680851052,null,null,null,"Paragraphs 42 to 44"]
[]
[null,null,{"$f":"INDEX('Version control'!$H$34:$H$59,MATCH($A$1,'Version control'!$F$34:$F$59,0),1)&\"-B: Loss adjustment factors\"","v":"Section 505-B: Loss adjustment factors"}]
[]
[null,null,null,null,"Loss adjustment factor to transmission",null,"scalar",null,null,null,{"$f":"'Inputs by network level'!K22","v":1},{"$f":"'Inputs by network level'!L22","v":1.0089999999999999},{"$f":"'Inputs by network level'!M22","v":1.0129999999999999},{"$f":"'Inputs by network level'!N22","v":1.024},{"$f":"'Inputs by network level'!O22","v":1.032},null,{"$f":"'Inputs by network level'!Q22","v":1.0409999999999999},{"$f":"'Inputs by network level'!R22","v":1.0589999999999999},{"$f":"'Inputs by network level'!S22","v":1.077}]
[null,null,null,null,"Adjustment for 132/HV transformation & transmission exit",null,"scalar",null,null,{"$f":"K27","v":1},null,null,null,null,null,{"$f":"O27","v":1.032}]
[null,null,null,null,"Loss adjustment factor to transmission for each DRM network level",null,"scalar",null,">",{"$f":"J27 + J28","v":1},1,1.0089999999999999,1.0129999999999999,1.024,1.032,1.032,1.0409999999999999,1.0589999999999999,1.077,null,null,null,"Paragraph 47"]
[]
[null,"User loss factor adjustments"]
[]
[null,null,"Calculates user loss factors and makes adjustments for share of load going through 132kV/HV"]
[]
[null,null,{"$f":"INDEX('Version control'!$H$34:$H$59,MATCH($A$1,'Version control'!$F$34:$F$59,0),1)&\"-C: Proportion of relevant load going through 132kV/HV direct transformation\"","v":"Section 505-C: Proportion of relevant load going through 132kV/HV direct transformation"}]
[]
[null,null,null,null,"132kV/HV",null,"%",{"$f":"'Inputs by network level'!P20","v":0.3}]
[null,null,null,null,"Adjustment to network use factors for 132/HV share",null,"%",null,null,null,null,null,{"$f":"1 - $H$37","v":0.7},{"$f":"1 - $H$37","v":0.7},{"$f":"1 - $H$37","v":0.7},{"$f":"H37","v":0.3}]
[]
[null,null,{"$f":"INDEX('Version control'!$H$34:$H$59,MATCH($A$1,'Version control'!$F$34:$F$59,0),1)&\"-D: Network use factors\"","v":"Section 505-D: Network use factors"}]
[]
[null,null,null,"Network use factors assume demand and generation use the network from the point of connection."]
[]
[null,null,null,null,"Network use factors (assuming generation contributes at level of connection)"]
[null,null,null,null,"These values are drawn from the \"Fixed inputs\" sheet."]
[null,null,null,null,null,"Domestic Unrestricted","1, 0 or -1",null,null,{"$f":"TRANSPOSE('Fixed inputs'!J60:AP69)","v":1},1,1,1,1,1,1,1,1,1]
[null,null,null,null,null,"Domestic Two Rate","1, 0 or -1",null,null,1,1,1,1,1,1,1,1,1,1]
[null,null,null,null,null,"Domestic Off Peak (related MPAN)","1, 0 or -1",null,null,1,1,1,1,1,1,1,1,1,1]
[null,null,null,null,null,"Small Non Domestic Unrestricted","1, 0 or -1",null,null,1,1,1,1,1,1,1,1,1,1]
[null,null,null,null,null,"Small Non Domestic Two Rate","1, 0 or -1",null,null,1,1,1,1,1,1,1,1,1,1]
[null,null,null,null,null,"Small Non Domestic Off Peak (related MPAN)","1, 0 or -1",null,null,1,1,1,1,1,1,1,1,1,1]
[null,null,null,null,null,"LV Medium Non-Domestic","1, 0 or -1",null,null,1,1,1,1,1,1,1,1,1,1]
[null,null,null,null,null,"LV Sub Medium Non-Domestic","1, 0 or -1",null,null,1,1,1,1,1,1,1,1,1,0]
[null,null,null,null,null,"HV Medium Non-Domestic","1, 0 or -1",null,null,1,1,1,1,1,1,1,1,0,0]
[null,null,null,null,null,"LV Network Domestic","1, 0 or -1",null,null,1,1,1,1,1,1,1,1,1,1]
[null,null,null,null,null,"LV Network Non-Domestic Non-CT","1, 0 or -1",null,null,1,1,1,1,1,1,1,1,1,1]
[null,null,null,null,null,"LV HH Metered","1, 0 or -1",null,null,1,1,1,1,1,1,1,1,1,1]
[null,null,null,null,null,"LV Sub HH Metered","1, 0 or -1",null,null,1,1,1,1,1,1,1,1,1,0]
[null,null,null,null,null,"HV HH Metered","1, 0 or -1",null,null,1,1,1,1,1,1,1,1,0,0]
[null,null,null,null,null,"NHH UMS category A","1, 0 or -1",null,null,1,1,1,1,1,1,1,1,1,1]
[null,null,null,null,null,"NHH UMS category B","1, 0 or -1",null,null,1,1,1,1,1,1,1,1,1,1]
[null,null,null,null,null,"NHH UMS category C","1, 0 or -1",null,null,1,1,1,1,1,1,1,1,1,1]
[null,null,null,null,null,"NHH UMS category D","1, 0 or -1",null,null,1,1,1,1,1,1,1,1,1,1]
[null,null,null,null,null,"LV UMS (Pseudo HH Metered)","1, 0 or -1",null,null,1,1,1,1,1,1,1,1,1,1]
[null,null,null,null,null,"LV Generation NHH or Aggregate HH","1, 0 or -1",null,null,-1,-1,-1,-1,-1,-1,-1,-1,-1,-1]
[null,null,null,null,null,"LV Sub Generation NHH","1, 0 or -1",null,null,-1,-1,-1,-1,-1,-1,-1,-1,-1,0]
[null,null,null,null,null,"LV Generation Intermittent","1, 0 or -1",null,null,-1,-1,-1,-1,-1,-1,-1,-1,-1,-1]
[null,null,null,null,null,"LV Generation Intermittent no RP charge","1, 0 or -1",null,null,-1,-1,-1,-1,-1,-1,-1,-1,-1,-1]
[null,null,null,null,null,"LV Generation Non-Intermittent","1, 0 or -1",null,null,-1,-1,-1,-1,-1,-1,-1,-1,-1,-1]
[null,null,null,null,null,"LV Generation Non-Intermittent no RP charge","1, 0 or -1",null,null,-1,-1,-1,-1,-1,-1,-1,-1,-1,-1]
[null,null,null,null,null,"LV Sub Generation Intermittent","1, 0 or -1",null,null,-1,-1,-1,-1,-1,-1,-1,-1,-1,0]
[null,null,null,null,null,"LV Sub Generation Intermittent no RP charge","1, 0 or -1",null,null,-1,-1,-1,-1,-1,-1,-1,-1,-1,0]
[null,null,null,null,null,"LV Sub Generation Non-Intermittent","1, 0 or -1",null,null,-1,-1,-1,-1,-1,-1,-1,-1,-1,0]
[null,null,null,null,null,"LV Sub Generation Non-Intermittent no RP charge","1, 0 or -1",null,null,-1,-1,-1,-1,-1,-1,-1,-1,-1,0]
[null,null,null,null,null,"HV Generation Intermittent","1, 0 or -1",null,null,-1,-1,-1,-1,-1,-1,-1,-1,0,0]
[null,null,null,null,null,"HV Generation Intermittent no RP charge","1, 0 or -1",null,null,-1,-1,-1,-1,-1,-1,-1,-1,0,0]
[null,null,null,null,null,"HV Generation Non-Intermittent","1, 0 or -1",null,null,-1,-1,-1,-1,-1,-1,-1,-1,0,0]
[null,null,null,null,null,"HV Generation Non-Intermittent no RP charge","1, 0 or -1",null,null,-1,-1,-1,-1,-1,-1,-1,-1,0,0]
[]
[null,null,null,null,"Network use factors (assuming generation contributes at level of connection) scaled for 132/HV"]
[null,null,null,null,"These have been adjusted for the share of load going through 132/HV transformation"]
[null,null,null,null,null,"Domestic Unrestricted","1, 0 or -1",null,null,{"$f":"IF(J$38 = \"\", J46, J46 * J$38)","v":1},1,1,0.7,0.7,0.7,0.3,1,1,1]
[null,null,null,null,null,"Domestic Two Rate","1, 0 or -1",null,null,{"$f":"IF(J$38 = \"\", J47, J47 * J$38)","v":1},1,1,0.7,0.7,0.7,0.3,1,1,1]
[null,null,null,null,null,"Domestic Off Peak (related MPAN)","1, 0 or -1",null,null,{"$f":"IF(J$38 = \"\", J48, J48 * J$38)","v":1},1,1,0.7,0.7,0.7,0.3,1,1,1]
[null,null,null,null,null,"Small Non Domestic Unrestricted","1, 0 or -1",null,null,{"$f":"IF(J$38 = \"\", J49, J49 * J$38)","v":1},1,1,0.7,0.7,0.7,0.3,1,1,1]
[null,null,null,null,null,"Small Non Domestic Two Rate","1, 0 or -1",null,null,{"$f":"IF(J$38 = \"\", J50, J50 * J$38)","v":1},1,1,0.7,0.7,0.7,0.3,1,1,1]
[null,null,null,null,null,"Small Non Domestic Off Peak (related MPAN)","1, 0 or -1",null,null,{"$f":"IF(J$38 = \"\", J51, J51 * J$38)","v":1},1,1,0.7,0.7,0.7,0.3,1,1,1]
[null,null,null,null,null,"LV Medium Non-Domestic","1, 0 or -1",null,null,{"$f":"IF(J$38 = \"\", J52, J52 * J$38)","v":1},1,1,0.7,0.7,0.7,0.3,1,1,1]
[null,null,null,null,null,"LV Sub Medium Non-Domestic","1, 0 or -1",null,null,{"$f":"IF(J$38 = \"\", J53, J53 * J$38)","v":1},1,1,0.7,0.7,0.7,0.3,1,1,0]
[null,null,null,null,null,"HV Medium Non-Domestic","1, 0 or -1",null,null,{"$f":"IF(J$38 = \"\", J54, J54 * J$38)","v":1},1,1,0.7,0.7,0.7,0.3,1,0,0]
[null,null,null,null,null,"LV Network Domestic","1, 0 or -1",null,null,{"$f":"IF(J$38 = \"\", J55, J55 * J$38)","v":1},1,1,0.7,0.7,0.7,0.3,1,1,1]
[null,null,null,null,null,"LV Network Non-Domestic Non-CT","1, 0 or -1",null,null,{"$f":"IF(J$38 = \"\", J56, J56 * J$38)","v":1},1,1,0.7,0.7,0.7,0.3,1,1,1]
[null,null,null,null,null,"LV HH Metered","1, 0 or -1",null,null,{"$f":"IF(J$38 = \"\", J57, J57 * J$38)","v":1},1,1,0.7,0.7,0.7,0.3,1,1,1]
[null,null,null,null,null,"LV Sub HH Metered","1, 0 or -1",null,null,{"$f":"IF(J$38 = \"\", J58, J58 * J$38)","v":1},1,1,0.7,0.7,0.7,0.3,1,1,0]
[null,null,null,null,null,"HV HH Metered","1, 0 or -1",null,null,{"$f":"IF(J$38 = \"\", J59, J59 * J$38)","v":1},1,1,0.7,0.7,0.7,0.3,1,0,0]
[null,null,null,null,null,"NHH UMS category A","1, 0 or -1",null,null,{"$f":"IF(J$38 = \"\", J60, J60 * J$38)","v":1},1,1,0.7,0.7,0.7,0.3,1,1,1]
[null,null,null,null,null,"NHH UMS category B","1, 0 or -1",null,null,{"$f":"IF(J$38 = \"\", J61, J61 * J$38)","v":1},1,1,0.7,0.7,0.7,0.3,1,1,1]
[null,null,null,null,null,"NHH UMS category C","1, 0 or -1",null,null,{"$f":"IF(J$38 = \"\", J62, J62 * J$38)","v":1},1,1,0.7,0.7,0.7,0.3,1,1,1]
[null,null,null,null,null,"NHH UMS category D","1, 0 or -1",null,null,{"$f":"IF(J$38 = \"\", J63, J63 * J$38)","v":1},1,1,0.7,0.7,0.7,0.3,1,1,1]
[null,null,null,null,null,"LV UMS (Pseudo HH Metered)","1, 0 or -1",null,null,{"$f":"IF(J$38 = \"\", J64, J64 * J$38)","v":1},1,1,0.7,0.7,0.7,0.3,1,1,1]
[null,null,null,null,null,"LV Generation NHH or Aggregate HH","1, 0 or -1",null,null,{"$f":"IF(J$38 = \"\", J65, J65 * J$38)","v":-1},-1,-1,-0.7,-0.7,-0.7,-0.3,-1,-1,-1]
[null,null,null,null,null,"LV Sub Generation NHH","1, 0 or -1",null,null,{"$f":"IF(J$38 = \"\", J66, J66 * J$38)","v":-1},-1,-1,-0.7,-0.7,-0.7,-0.3,-1,-1,0]
[null,null,null,null,null,"LV Generation Intermittent","1, 0 or -1",null,null,{"$f":"IF(J$38 = \"\", J67, J67 * J$38)","v":-1},-1,-1,-0.7,-0.7,-0.7,-0.3,-1,-1,-1]
[null,null,null,null,null,"LV Generation Intermittent no RP charge","1, 0 or -1",null,null,{"$f":"IF(J$38 = \"\", J68, J68 * J$38)","v":-1},-1,-1,-0.7,-0.7,-0.7,-0.3,-1,-1,-1]
[null,null,null,null,null,"LV Generation Non-Intermittent","1, 0 or -1",null,null,{"$f":"IF(J$38 = \"\", J69, J69 * J$38)","v":-1},-1,-1,-0.7,-0.7,-0.7,-0.3,-1,-1,-1]
[null,null,null,null,null,"LV Generation Non-Intermittent no RP charge","1, 0 or -1",null,null,{"$f":"IF(J$38 = \"\", J70, J70 * J$38)","v":-1},-1,-1,-0.7,-0.7,-0.7,-0.3,-1,-1,-1]
[null,null,null,null,null,"LV Sub Generation Intermittent","1, 0 or -1",null,null,{"$f":"IF(J$38 = \"\", J71, J71 * J$38)","v":-1},-1,-1,-0.7,-0.7,-0.7,-0.3,-1,-1,0]
[null,null,null,null,null,"LV Sub Generation Intermittent no RP charge","1, 0 or -1",null,null,{"$f":"IF(J$38 = \"\", J72, J72 * J$38)","v":-1},-1,-1,-0.7,-0.7,-0.7,-0.3,-1,-1,0]
[null,null,null,null,null,"LV Sub Generation Non-Intermittent","1, 0 or -1",null,null,{"$f":"IF(J$38 = \"\", J73, J73 * J$38)","v":-1},-1,-1,-0.7,-0.7,-0.7,-0.3,-1,-1,0]
[null,null,null,null,null,"LV Sub Generation Non-Intermittent no RP charge","1, 0 or -1",null,null,{"$f":"IF(J$38 = \"\", J74, J74 * J$38)","v":-1},-1,-1,-0.7,-0.7,-0.7,-0.3,-1,-1,0]
[null,null,null,null,null,"HV Generation Intermittent","1, 0 or -1",null,null,{"$f":"IF(J$38 = \"\", J75, J75 * J$38)","v":-1},-1,-1,-0.7,-0.7,-0.7,-0.3,-1,0,0]
[null,null,null,null,null,"HV Generation Intermittent no RP charge","1, 0 or -1",null,null,{"$f":"IF(J$38 = \"\", J76, J76 * J$38)","v":-1},-1,-1,-0.7,-0.7,-0.7,-0.3,-1,0,0]
[null,null,null,null,null,"HV Generation Non-Intermittent","1, 0 or -1",null,null,{"$f":"IF(J$38 = \"\", J77, J77 * J$38)","v":-1},-1,-1,-0.7,-0.7,-0.7,-0.3,-1,0,0]
[null,null,null,null,null,"HV Generation Non-Intermittent no RP charge","1, 0 or -1",null,null,{"$f":"IF(J$38 = \"\", J78, J78 * J$38)","v":-1},-1,-1,-0.7,-0.7,-0.7,-0.3,-1,0,0]
[]
[null,null,null,null,"Network use factors (assuming generation makes no contribution at level of connection)",null,null,null,">",null,null,null,null,null,null,null,null,null,null,null,null,null,"Paragraphs 62 and 71"]
[null,null,null,null,"Equal to 0 for the network level at which generation is connected, otherwise equal to network use factor"]
[null,null,null,null,null,"Domestic Unrestricted","1 or 0",null,null,{"$f":"TRANSPOSE('Fixed inputs'!J73:AP82)","v":1},1,1,1,1,1,1,1,1,1]
[null,null,null,null,null,"Domestic Two Rate","1 or 0",null,null,1,1,1,1,1,1,1,1,1,1]
[null,null,null,null,null,"Domestic Off Peak (related MPAN)","1 or 0",null,null,1,1,1,1,1,1,1,1,1,1]
[null,null,null,null,null,"Small Non Domestic Unrestricted","1 or 0",null,null,1,1,1,1,1,1,1,1,1,1]
[null,null,null,null,null,"Small Non Domestic Two Rate","1 or 0",null,null,1,1,1,1,1,1,1,1,1,1]
[null,null,null,null,null,"Small Non Domestic Off Peak (related MPAN)","1 or 0",null,null,1,1,1,1,1,1,1,1,1,1]
[null,null,null,null,null,"LV Medium Non-Domestic","1 or 0",null,null,1,1,1,1,1,1,1,1,1,1]
[null,null,null,null,null,"LV Sub Medium Non-Domestic","1 or 0",null,null,1,1,1,1,1,1,1,1,1,0]
[null,null,null,null,null,"HV Medium Non-Domestic","1 or 0",null,null,1,1,1,1,1,1,1,1,0,0]
[null,null,null,null,null,"LV Network Domestic","1 or 0",null,null,1,1,1,1,1,1,1,1,1,1]
[null,null,null,null,null,"LV Network Non-Domestic Non-CT","1 or 0",null,null,1,1,1,1,1,1,1,1,1,1]
[null,null,null,null,null,"LV HH Metered","1 or 0",null,null,1,1,1,1,1,1,1,1,1,1]
[null,null,null,null,null,"LV Sub HH Metered","1 or 0",null,null,1,1,1,1,1,1,1,1,1,0]
[null,null,null,null,null,"HV HH Metered","1 or 0",null,null,1,1,1,1,1,1,1,1,0,0]
[null,null,null,null,null,"NHH UMS category A","1 or 0",null,null,1,1,1,1,1,1,1,1,1,1]
[null,null,null,null,null,"NHH UMS category B","1 or 0",null,null,1,1,1,1,1,1,1,1,1,1]
[null,null,null,null,null,"NHH UMS category C","1 or 0",null,null,1,1,1,1,1,1,1,1,1,1]
[null,null,null,null,null,"NHH UMS category D","1 or 0",null,null,1,1,1,1,1,1,1,1,1,1]
[null,null,null,null,null,"LV UMS (Pseudo HH Metered)","1 or 0",null,null,1,1,1,1,1,1,1,1,1,1]
[null,null,null,null,null,"LV Generation NHH or Aggregate HH","1 or 0",null,null,-1,-1,-1,-1,-1,-1,-1,-1,-1,0]
[null,null,null,null,null,"LV Sub Generation NHH","1 or 0",null,null,-1,-1,-1,-1,-1,-1,-1,-1,0,0]
[null,null,null,null,null,"LV Generation Intermittent","1 or 0",null,null,-1,-1,-1,-1,-1,-1,-1,-1,-1,0]
[null,null,null,null,null,"LV Generation Intermittent no RP charge","1 or 0",null,null,-1,-1,-1,-1,-1,-1,-1,-1,-1,0]
[null,null,null,null,null,"LV Generation Non-Intermittent","1 or 0",null,null,-1,-1,-1,-1,-1,-1,-1,-1,-1,0]
[null,null,null,null,null,"LV Generation Non-Intermittent no RP charge","1 or 0",null,null,-1,-1,-1,-1,-1,-1,-1,-1,-1,0]
[null,null,null,null,null,"LV Sub Generation Intermittent","1 or 0",null,null,-1,-1,-1,-1,-1,-1,-1,-1,0,0]
[null,null,null,null,null,"LV Sub Generation Intermittent no RP charge","1 or 0",null,null,-1,-1,-1,-1,-1,-1,-1,-1,0,0]
[null,null,null,null,null,"LV Sub Generation Non-Intermittent","1 or 0",null,null,-1,-1,-1,-1,-1,-1,-1,-1,0,0]
[null,null,null,null,null,"LV Sub Generation Non-Intermittent no RP charge","1 or 0",null,null,-1,-1,-1,-1,-1,-1,-1,-1,0,0]
[null,null,null,null,null,"HV Generation Intermittent","1 or 0",null,null,-1,-1,-1,-1,-1,-1,-1,0,0,0]
[null,null,null,null,null,"HV Generation Intermittent no RP charge","1 or 0",null,null,-1,-1,-1,-1,-1,-1,-1,0,0,0]
[null,null,null,null,null,"HV Generation Non-Intermittent","1 or 0",null,null,-1,-1,-1,-1,-1,-1,-1,0,0,0]
[null,null,null,null,null,"HV Generation Non-Intermittent no RP charge","1 or 0",null,null,-1,-1,-1,-1,-1,-1,-1,0,0,0]
[]
[null,null,null,null,"Network use factors (assuming generation makes no contribution at level of connection), scaled for 132/HV",null,null,null,">",null,null,null,null,null,null,null,null,null,null,null,null,null,"Paragraphs 62 and 71"]
[null,null,null,null,"Equal to 0 for the network level at which generation is connected, otherwise equal to network use factor"]
[null,null,null,null,"These have been adjusted for the share of load going through 132/HV transformation"]
[null,null,null,null,null,"Domestic Unrestricted","1 or 0",null,null,{"$f":"IF(J$38 = \"\", J118, J118 * J$38)","v":1},{"$f":"IF(K$38 = \"\", K118, K118 * K$38)","v":1},1,0.7,0.7,0.7,0.3,1,1,1]
[null,null,null,null,null,"Domestic Two Rate","1 or 0",null,null,{"$f":"IF(J$38 = \"\", J119, J119 * J$38)","v":1},1,1,0.7,0.7,0.7,0.3,1,1,1]
[null,null,null,null,null,"Domestic Off Peak (related MPAN)","1 or 0",null,null,{"$f":"IF(J$38 = \"\", J120, J120 * J$38)","v":1},1,1,0.7,0.7,0.7,0.3,1,1,1]
[null,null,null,null,null,"Small Non Domestic Unrestricted","1 or 0",null,null,{"$f":"IF(J$38 = \"\", J121, J121 * J$38)","v":1},1,1,0.7,0.7,0.7,0.3,1,1,1]
[null,null,null,null,null,"Small Non Domestic Two Rate","1 or 0",null,null,{"$f":"IF(J$38 = \"\", J122, J122 * J$38)","v":1},1,1,0.7,0.7,0.7,0.3,1,1,1]
[null,null,null,null,null,"Small Non Domestic Off Peak (related MPAN)","1 or 0",null,null,{"$f":"IF(J$38 = \"\", J123, J123 * J$38)","v":1},1,1,0.7,0.7,0.7,0.3,1,1,1]
[null,null,null,null,null,"LV Medium Non-Domestic","1 or 0",null,null,{"$f":"IF(J$38 = \"\", J124, J124 * J$38)","v":1},1,1,0.7,0.7,0.7,0.3,1,1,1]
[null,null,null,null,null,"LV Sub Medium Non-Domestic","1 or 0",null,null,{"$f":"IF(J$38 = \"\", J125, J125 * J$38)","v":1},1,1,0.7,0.7,0.7,0.3,1,1,0]
[null,null,null,null,null,"HV Medium Non-Domestic","1 or 0",null,null,{"$f":"IF(J$38 = \"\", J126, J126 * J$38)","v":1},1,1,0.7,0.7,0.7,0.3,1,0,0]
[null,null,null,null,null,"LV Network Domestic","1 or 0",null,null,{"$f":"IF(J$38 = \"\", J127, J127 * J$38)","v":1},1,1,0.7,0.7,0.7,0.3,1,1,1]
[null,null,null,null,null,"LV Network Non-Domestic Non-CT","1 or 0",null,null,{"$f":"IF(J$38 = \"\", J128, J128 * J$38)","v":1},1,1,0.7,0.7,0.7,0.3,1,1,1]
[null,null,null,null,null,"LV HH Metered","1 or 0",null,null,{"$f":"IF(J$38 = \"\", J129, J129 * J$38)","v":1},1,1,0.7,0.7,0.7,0.3,1,1,1]
[null,null,null,null,null,"LV Sub HH Metered","1 or 0",null,null,{"$f":"IF(J$38 = \"\", J130, J130 * J$38)","v":1},1,1,0.7,0.7,0.7,0.3,1,1,0]
[null,null,null,null,null,"HV HH Metered","1 or 0",null,null,{"$f":"IF(J$38 = \"\", J131, J131 * J$38)","v":1},1,1,0.7,0.7,0.7,0.3,1,0,0]
[null,null,null,null,null,"NHH UMS category A","1 or 0",null,null,{"$f":"IF(J$38 = \"\", J132, J132 * J$38)","v":1},1,1,0.7,0.7,0.7,0.3,1,1,1]
[null,null,null,null,null,"NHH UMS category B","1 or 0",null,null,{"$f":"IF(J$38 = \"\", J133, J133 * J$38)","v":1},1,1,0.7,0.7,0.7,0.3,1,1,1]
[null,null,null,null,null,"NHH UMS category C","1 or 0",null,null,{"$f":"IF(J$38 = \"\", J134, J134 * J$38)","v":1},1,1,0.7,0.7,0.7,0.3,1,1,1]
[null,null,null,null,null,"NHH UMS category D","1 or 0",null,null,{"$f":"IF(J$38 = \"\", J135, J135 * J$38)","v":1},1,1,0.7,0.7,0.7,0.3,1,1,1]
[null,null,null,null,null,"LV UMS (Pseudo HH Metered)","1 or 0",null,null,{"$f":"IF(J$38 = \"\", J136, J136 * J$38)","v":1},1,1,0.7,0.7,0.7,0.3,1,1,1]
[null,null,null,null,null,"LV Generation NHH or Aggregate HH","1 or 0",null,null,{"$f":"IF(J$38 = \"\", J137, J137 * J$38)","v":-1},-1,-1,-0.7,-0.7,-0.7,-0.3,-1,-1,0]
[null,null,null,null,null,"LV Sub Generation NHH","1 or 0",null,null,{"$f":"IF(J$38 = \"\", J138, J138 * J$38)","v":-1},-1,-1,-0.7,-0.7,-0.7,-0.3,-1,0,0]
[null,null,null,null,null,"LV Generation Intermittent","1 or 0",null,null,{"$f":"IF(J$38 = \"\", J139, J139 * J$38)","v":-1},-1,-1,-0.7,-0.7,-0.7,-0.3,-1,-1,0]
[null,null,null,null,null,"LV Generation Intermittent no RP charge","1 or 0",null,null,{"$f":"IF(J$38 = \"\", J140, J140 * J$38)","v":-1},-1,-1,-0.7,-0.7,-0.7,-0.3,-1,-1,0]
[null,null,null,null,null,"LV Generation Non-Intermittent","1 or 0",null,null,{"$f":"IF(J$38 = \"\", J141, J141 * J$38)","v":-1},-1,-1,-0.7,-0.7,-0.7,-0.3,-1,-1,0]
[null,null,null,null,null,"LV Generation Non-Intermittent no RP charge","1 or 0",null,null,{"$f":"IF(J$38 = \"\", J142, J142 * J$38)","v":-1},-1,-1,-0.7,-0.7,-0.7,-0.3,-1,-1,0]
[null,null,null,null,null,"LV Sub Generation Intermittent","1 or 0",null,null,{"$f":"IF(J$38 = \"\", J143, J143 * J$38)","v":-1},-1,-1,-0.7,-0.7,-0.7,-0.3,-1,0,0]
[null,null,null,null,null,"LV Sub Generation Intermittent no RP charge","1 or 0",null,null,{"$f":"IF(J$38 = \"\", J144, J144 * J$38)","v":-1},-1,-1,-0.7,-0.7,-0.7,-0.3,-1,0,0]
[null,null,null,null,null,"LV Sub Generation Non-Intermittent","1 or 0",null,null,{"$f":"IF(J$38 = \"\", J145, J145 * J$38)","v":-1},-1,-1,-0.7,-0.7,-0.7,-0.3,-1,0,0]
[null,null,null,null,null,"LV Sub Generation Non-Intermittent no RP charge","1 or 0",null,null,{"$f":"IF(J$38 = \"\", J146, J146 * J$38)","v":-1},-1,-1,-0.7,-0.7,-0.7,-0.3,-1,0,0]
[null,null,null,null,null,"HV Generation Intermittent","1 or 0",null,null,{"$f":"IF(J$38 = \"\", J147, J147 * J$38)","v":-1},-1,-1,-0.7,-0.7,-0.7,-0.3,0,0,0]
[null,null,null,null,null,"HV Generation Intermittent no RP charge","1 or 0",null,null,{"$f":"IF(J$38 = \"\", J148, J148 * J$38)","v":-1},-1,-1,-0.7,-0.7,-0.7,-0.3,0,0,0]
[null,null,null,null,null,"HV Generation Non-Intermittent","1 or 0",null,null,{"$f":"IF(J$38 = \"\", J149, J149 * J$38)","v":-1},-1,-1,-0.7,-0.7,-0.7,-0.3,0,0,0]
[null,null,null,null,null,"HV Generation Non-Intermittent no RP charge","1 or 0",null,null,{"$f":"IF(J$38 = \"\", J150, J150 * J$38)","v":-1},-1,-1,-0.7,-0.7,-0.7,-0.3,0,0,0]
[]
[null,null,{"$f":"INDEX('Version control'!$H$34:$H$59,MATCH($A$1,'Version control'!$F$34:$F$59,0),1)&\"-E: User loss factors\"","v":"Section 505-E: User loss factors"}]
[]
[null,null,null,null,"User loss factor (assuming generation contributes at level of connection)"]
[null,null,null,null,"For demand, it is the loss factor at network level which user is supplied."]
[null,null,null,null,"For generation, it is the loss factor at network level which user is supplied.",null,null,"Maximum"]
[null,null,null,null,null,"Domestic Unrestricted","scalar",{"$f":"MAX(J194:S194)","v":1.077},null,{"$f":"OR(SUM(J82:$S82) = 1, SUM(J82:$S82) = -1) * J$29","v":0},{"$f":"OR(SUM(K82:$S82) = 1, SUM(K82:$S82) = -1) * K$29","v":0},{"$f":"OR(SUM(L82:$S82) = 1, SUM(L82:$S82) = -1) * L$29","v":0},{"$f":"OR(SUM(M82:$S82) = 1, SUM(M82:$S82) = -1) * M$29","v":0},{"$f":"OR(SUM(N82:$S82) = 1, SUM(N82:$S82) = -1) * N$29","v":0},{"$f":"OR(SUM(O82:$S82) = 1, SUM(O82:$S82) = -1) * O$29","v":0},{"$f":"OR(SUM(P82:$S82) = 1, SUM(P82:$S82) = -1) * P$29","v":0},{"$f":"OR(SUM(Q82:$S82) = 1, SUM(Q82:$S82) = -1) * Q$29","v":0},{"$f":"OR(SUM(R82:$S82) = 1, SUM(R82:$S82) = -1) * R$29","v":0},{"$f":"OR(SUM(S82:$S82) = 1, SUM(S82:$S82) = -1) * S$29","v":1.077}]
[null,null,null,null,null,"Domestic Two Rate","scalar",1.077,null,{"$f":"OR(SUM(J83:$S83) = 1, SUM(J83:$S83) = -1) * J$29","v":0},{"$f":"OR(SUM(K83:$S83) = 1, SUM(K83:$S83) = -1) * K$29","v":0},{"$f":"OR(SUM(L83:$S83) = 1, SUM(L83:$S83) = -1) * L$29","v":0},{"$f":"OR(SUM(M83:$S83) = 1, SUM(M83:$S83) = -1) * M$29","v":0},{"$f":"OR(SUM(N83:$S83) = 1, SUM(N83:$S83) = -1) * N$29","v":0},{"$f":"OR(SUM(O83:$S83) = 1, SUM(O83:$S83) = -1) * O$29","v":0},{"$f":"OR(SUM(P83:$S83) = 1, SUM(P83:$S83) = -1) * P$29","v":0},{"$f":"OR(SUM(Q83:$S83) = 1, SUM(Q83:$S83) = -1) * Q$29","v":0},{"$f":"OR(SUM(R83:$S83) = 1, SUM(R83:$S83) = -1) * R$29","v":0},{"$f":"OR(SUM(S83:$S83) = 1, SUM(S83:$S83) = -1) * S$29","v":1.077}]
[null,null,null,null,null,"Domestic Off Peak (related MPAN)","scalar",1.077,null,{"$f":"OR(SUM(J84:$S84) = 1, SUM(J84:$S84) = -1) * J$29","v":0},{"$f":"OR(SUM(K84:$S84) = 1, SUM(K84:$S84) = -1) * K$29","v":0},{"$f":"OR(SUM(L84:$S84) = 1, SUM(L84:$S84) = -1) * L$29","v":0},{"$f":"OR(SUM(M84:$S84) = 1, SUM(M84:$S84) = -1) * M$29","v":0},{"$f":"OR(SUM(N84:$S84) = 1, SUM(N84:$S84) = -1) * N$29","v":0},{"$f":"OR(SUM(O84:$S84) = 1, SUM(O84:$S84) = -1) * O$29","v":0},{"$f":"OR(SUM(P84:$S84) = 1, SUM(P84:$S84) = -1) * P$29","v":0},{"$f":"OR(SUM(Q84:$S84) = 1, SUM(Q84:$S84) = -1) * Q$29","v":0},{"$f":"OR(SUM(R84:$S84) = 1, SUM(R84:$S84) = -1) * R$29","v":0},{"$f":"OR(SUM(S84:$S84) = 1, SUM(S84:$S84) = -1) * S$29","v":1.077}]
[null,null,null,null,null,"Small Non Domestic Unrestricted","scalar",1.077,null,{"$f":"OR(SUM(J85:$S85) = 1, SUM(J85:$S85) = -1) * J$29","v":0},{"$f":"OR(SUM(K85:$S85) = 1, SUM(K85:$S85) = -1) * K$29","v":0},{"$f":"OR(SUM(L85:$S85) = 1, SUM(L85:$S85) = -1) * L$29","v":0},{"$f":"OR(SUM(M85:$S85) = 1, SUM(M85:$S85) = -1) * M$29","v":0},{"$f":"OR(SUM(N85:$S85) = 1, SUM(N85:$S85) = -1) * N$29","v":0},{"$f":"OR(SUM(O85:$S85) = 1, SUM(O85:$S85) = -1) * O$29","v":0},{"$f":"OR(SUM(P85:$S85) = 1, SUM(P85:$S85) = -1) * P$29","v":0},{"$f":"OR(SUM(Q85:$S85) = 1, SUM(Q85:$S85) = -1) * Q$29","v":0},{"$f":"OR(SUM(R85:$S85) = 1, SUM(R85:$S85) = -1) * R$29","v":0},{"$f":"OR(SUM(S85:$S85) = 1, SUM(S85:$S85) = -1) * S$29","v":1.077}]
[null,null,null,null,null,"Small Non Domestic Two Rate","scalar",1.077,null,{"$f":"OR(SUM(J86:$S86) = 1, SUM(J86:$S86) = -1) * J$29","v":0},{"$f":"OR(SUM(K86:$S86) = 1, SUM(K86:$S86) = -1) * K$29","v":0},{"$f":"OR(SUM(L86:$S86) = 1, SUM(L86:$S86) = -1) * L$29","v":0},{"$f":"OR(SUM(M86:$S86) = 1, SUM(M86:$S86) = -1) * M$29","v":0},{"$f":"OR(SUM(N86:$S86) = 1, SUM(N86:$S86) = -1) * N$29","v":0},{"$f":"OR(SUM(O86:$S86) = 1, SUM(O86:$S86) = -1) * O$29","v":0},{"$f":"OR(SUM(P86:$S86) = 1, SUM(P86:$S86) = -1) * P$29","v":0},{"$f":"OR(SUM(Q86:$S86) = 1, SUM(Q86:$S86) = -1) * Q$29","v":0},{"$f":"OR(SUM(R86:$S86) = 1, SUM(R86:$S86) = -1) * R$29","v":0},{"$f":"OR(SUM(S86:$S86) = 1, SUM(S86:$S86) = -1) * S$29","v":1.077}]
[null,null,null,null,null,"Small Non Domestic Off Peak (related MPAN)","scalar",1.077,null,{"$f":"OR(SUM(J87:$S87) = 1, SUM(J87:$S87) = -1) * J$29","v":0},{"$f":"OR(SUM(K87:$S87) = 1, SUM(K87:$S87) = -1) * K$29","v":0},{"$f":"OR(SUM(L87:$S87) = 1, SUM(L87:$S87) = -1) * L$29","v":0},{"$f":"OR(SUM(M87:$S87) = 1, SUM(M87:$S87) = -1) * M$29","v":0},{"$f":"OR(SUM(N87:$S87) = 1, SUM(N87:$S87) = -1) * N$29","v":0},{"$f":"OR(SUM(O87:$S87) = 1, SUM(O87:$S87) = -1) * O$29","v":0},{"$f":"OR(SUM(P87:$S87) = 1, SUM(P87:$S87) = -1) * P$29","v":0},{"$f":"OR(SUM(Q87:$S87) = 1, SUM(Q87:$S87) = -1) * Q$29","v":0},{"$f":"OR(SUM(R87:$S87) = 1, SUM(R87:$S87) = -1) * R$29","v":0},{"$f":"OR(SUM(S87:$S87) = 1, SUM(S87:$S87) = -1) * S$29","v":1.077}]
[null,null,null,null,null,"LV Medium Non-Domestic","scalar",1.077,null,{"$f":"OR(SUM(J88:$S88) = 1, SUM(J88:$S88) = -1) * J$29","v":0},{"$f":"OR(SUM(K88:$S88) = 1, SUM(K88:$S88) = -1) * K$29","v":0},{"$f":"OR(SUM(L88:$S88) = 1, SUM(L88:$S88) = -1) * L$29","v":0},{"$f":"OR(SUM(M88:$S88) = 1, SUM(M88:$S88) = -1) * M$29","v":0},{"$f":"OR(SUM(N88:$S88) = 1, SUM(N88:$S88) = -1) * N$29","v":0},{"$f":"OR(SUM(O88:$S88) = 1, SUM(O88:$S88) = -1) * O$29","v":0},{"$f":"OR(SUM(P88:$S88) = 1, SUM(P88:$S88) = -1) * P$29","v":0},{"$f":"OR(SUM(Q88:$S88) = 1, SUM(Q88:$S88) = -1) * Q$29","v":0},{"$f":"OR(SUM(R88:$S88) = 1, SUM(R88:$S88) = -1) * R$29","v":0},{"$f":"OR(SUM(S88:$S88) = 1, SUM(S88:$S88) = -1) * S$29","v":1.077}]
[null,null,null,null,null,"LV Sub Medium Non-Domestic","scalar",1.0589999999999999,null,{"$f":"OR(SUM(J89:$S89) = 1, SUM(J89:$S89) = -1) * J$29","v":0},{"$f":"OR(SUM(K89:$S89) = 1, SUM(K89:$S89) = -1) * K$29","v":0},{"$f":"OR(SUM(L89:$S89) = 1, SUM(L89:$S89) = -1) * L$29","v":0},{"$f":"OR(SUM(M89:$S89) = 1, SUM(M89:$S89) = -1) * M$29","v":0},{"$f":"OR(SUM(N89:$S89) = 1, SUM(N89:$S89) = -1) * N$29","v":0},{"$f":"OR(SUM(O89:$S89) = 1, SUM(O89:$S89) = -1) * O$29","v":0},{"$f":"OR(SUM(P89:$S89) = 1, SUM(P89:$S89) = -1) * P$29","v":0},{"$f":"OR(SUM(Q89:$S89) = 1, SUM(Q89:$S89) = -1) * Q$29","v":0},{"$f":"OR(SUM(R89:$S89) = 1, SUM(R89:$S89) = -1) * R$29","v":1.0589999999999999},{"$f":"OR(SUM(S89:$S89) = 1, SUM(S89:$S89) = -1) * S$29","v":0}]
[null,null,null,null,null,"HV Medium Non-Domestic","scalar",1.0409999999999999,null,{"$f":"OR(SUM(J90:$S90) = 1, SUM(J90:$S90) = -1) * J$29","v":0},{"$f":"OR(SUM(K90:$S90) = 1, SUM(K90:$S90) = -1) * K$29","v":0},{"$f":"OR(SUM(L90:$S90) = 1, SUM(L90:$S90) = -1) * L$29","v":0},{"$f":"OR(SUM(M90:$S90) = 1, SUM(M90:$S90) = -1) * M$29","v":0},{"$f":"OR(SUM(N90:$S90) = 1, SUM(N90:$S90) = -1) * N$29","v":0},{"$f":"OR(SUM(O90:$S90) = 1, SUM(O90:$S90) = -1) * O$29","v":0},{"$f":"OR(SUM(P90:$S90) = 1, SUM(P90:$S90) = -1) * P$29","v":0},{"$f":"OR(SUM(Q90:$S90) = 1, SUM(Q90:$S90) = -1) * Q$29","v":1.0409999999999999},{"$f":"OR(SUM(R90:$S90) = 1, SUM(R90:$S90) = -1) * R$29","v":0},{"$f":"OR(SUM(S90:$S90) = 1, SUM(S90:$S90) = -1) * S$29","v":0}]
[null,null,null,null,null,"LV Network Domestic","scalar",1.077,null,{"$f":"OR(SUM(J91:$S91) = 1, SUM(J91:$S91) = -1) * J$29","v":0},{"$f":"OR(SUM(K91:$S91) = 1, SUM(K91:$S91) = -1) * K$29","v":0},{"$f":"OR(SUM(L91:$S91) = 1, SUM(L91:$S91) = -1) * L$29","v":0},{"$f":"OR(SUM(M91:$S91) = 1, SUM(M91:$S91) = -1) * M$29","v":0},{"$f":"OR(SUM(N91:$S91) = 1, SUM(N91:$S91) = -1) * N$29","v":0},{"$f":"OR(SUM(O91:$S91) = 1, SUM(O91:$S91) = -1) * O$29","v":0},{"$f":"OR(SUM(P91:$S91) = 1, SUM(P91:$S91) = -1) * P$29","v":0},{"$f":"OR(SUM(Q91:$S91) = 1, SUM(Q91:$S91) = -1) * Q$29","v":0},{"$f":"OR(SUM(R91:$S91) = 1, SUM(R91:$S91) = -1) * R$29","v":0},{"$f":"OR(SUM(S91:$S91) = 1, SUM(S91:$S91) = -1) * S$29","v":1.077}]
[null,null,null,null,null,"LV Network Non-Domestic Non-CT","scalar",1.077,null,{"$f":"OR(SUM(J92:$S92) = 1, SUM(J92:$S92) = -1) * J$29","v":0},{"$f":"OR(SUM(K92:$S92) = 1, SUM(K92:$S92) = -1) * K$29","v":0},{"$f":"OR(SUM(L92:$S92) = 1, SUM(L92:$S92) = -1) * L$29","v":0},{"$f":"OR(SUM(M92:$S92) = 1, SUM(M92:$S92) = -1) * M$29","v":0},{"$f":"OR(SUM(N92:$S92) = 1, SUM(N92:$S92) = -1) * N$29","v":0},{"$f":"OR(SUM(O92:$S92) = 1, SUM(O92:$S92) = -1) * O$29","v":0},{"$f":"OR(SUM(P92:$S92) = 1, SUM(P92:$S92) = -1) * P$29","v":0},{"$f":"OR(SUM(Q92:$S92) = 1, SUM(Q92:$S92) = -1) * Q$29","v":0},{"$f":"OR(SUM(R92:$S92) = 1, SUM(R92:$S92) = -1) * R$29","v":0},{"$f":"OR(SUM(S92:$S92) = 1, SUM(S92:$S92) = -1) * S$29","v":1.077}]
[null,null,null,null,null,"LV HH Metered","scalar",1.077,null,{"$f":"OR(SUM(J93:$S93) = 1, SUM(J93:$S93) = -1) * J$29","v":0},{"$f":"OR(SUM(K93:$S93) = 1, SUM(K93:$S93) = -1) * K$29","v":0},{"$f":"OR(SUM(L93:$S93) = 1, SUM(L93:$S93) = -1) * L$29","v":0},{"$f":"OR(SUM(M93:$S93) = 1, SUM(M93:$S93) = -1) * M$29","v":0},{"$f":"OR(SUM(N93:$S93) = 1, SUM(N93:$S93) = -1) * N$29","v":0},{"$f":"OR(SUM(O93:$S93) = 1, SUM(O93:$S93) = -1) * O$29","v":0},{"$f":"OR(SUM(P93:$S93) = 1, SUM(P93:$S93) = -1) * P$29","v":0},{"$f":"OR(SUM(Q93:$S93) = 1, SUM(Q93:$S93) = -1) * Q$29","v":0},{"$f":"OR(SUM(R93:$S93) = 1, SUM(R93:$S93) = -1) * R$29","v":0},{"$f":"OR(SUM(S93:$S93) = 1, SUM(S93:$S93) = -1) * S$29","v":1.077}]
[null,null,null,null,null,"LV Sub HH Metered","scalar",1.0589999999999999,null,{"$f":"OR(SUM(J94:$S94) = 1, SUM(J94:$S94) = -1) * J$29","v":0},{"$f":"OR(SUM(K94:$S94) = 1, SUM(K94:$S94) = -1) * K$29","v":0},{"$f":"OR(SUM(L94:$S94) = 1, SUM(L94:$S94) = -1) * L$29","v":0},{"$f":"OR(SUM(M94:$S94) = 1, SUM(M94:$S94) = -1) * M$29","v":0},{"$f":"OR(SUM(N94:$S94) = 1, SUM(N94:$S94) = -1) * N$29","v":0},{"$f":"OR(SUM(O94:$S94) = 1, SUM(O94:$S94) = -1) * O$29","v":0},{"$f":"OR(SUM(P94:$S94) = 1, SUM(P94:$S94) = -1) * P$29","v":0},{"$f":"OR(SUM(Q94:$S94) = 1, SUM(Q94:$S94) = -1) * Q$29","v":0},{"$f":"OR(SUM(R94:$S94) = 1, SUM(R94:$S94) = -1) * R$29","v":1.0589999999999999},{"$f":"OR(SUM(S94:$S94) = 1, SUM(S94:$S94) = -1) * S$29","v":0}]
[null,null,null,null,null,"HV HH Metered","scalar",1.0409999999999999,null,{"$f":"OR(SUM(J95:$S95) = 1, SUM(J95:$S95) = -1) * J$29","v":0},{"$f":"OR(SUM(K95:$S95) = 1, SUM(K95:$S95) = -1) * K$29","v":0},{"$f":"OR(SUM(L95:$S95) = 1, SUM(L95:$S95) = -1) * L$29","v":0},{"$f":"OR(SUM(M95:$S95) = 1, SUM(M95:$S95) = -1) * M$29","v":0},{"$f":"OR(SUM(N95:$S95) = 1, SUM(N95:$S95) = -1) * N$29","v":0},{"$f":"OR(SUM(O95:$S95) = 1, SUM(O95:$S95) = -1) * O$29","v":0},{"$f":"OR(SUM(P95:$S95) = 1, SUM(P95:$S95) = -1) * P$29","v":0},{"$f":"OR(SUM(Q95:$S95) = 1, SUM(Q95:$S95) = -1) * Q$29","v":1.0409999999999999},{"$f":"OR(SUM(R95:$S95) = 1, SUM(R95:$S95) = -1) * R$29","v":0},{"$f":"OR(SUM(S95:$S95) = 1, SUM(S95:$S95) = -1) * S$29","v":0}]
[null,null,null,null,null,"NHH UMS category A","scalar",1.077,null,{"$f":"OR(SUM(J96:$S96) = 1, SUM(J96:$S96) = -1) * J$29","v":0},{"$f":"OR(SUM(K96:$S96) = 1, SUM(K96:$S96) = -1) * K$29","v":0},{"$f":"OR(SUM(L96:$S96) = 1, SUM(L96:$S96) = -1) * L$29","v":0},{"$f":"OR(SUM(M96:$S96) = 1, SUM(M96:$S96) = -1) * M$29","v":0},{"$f":"OR(SUM(N96:$S96) = 1, SUM(N96:$S96) = -1) * N$29","v":0},{"$f":"OR(SUM(O96:$S96) = 1, SUM(O96:$S96) = -1) * O$29","v":0},{"$f":"OR(SUM(P96:$S96) = 1, SUM(P96:$S96) = -1) * P$29","v":0},{"$f":"OR(SUM(Q96:$S96) = 1, SUM(Q96:$S96) = -1) * Q$29","v":0},{"$f":"OR(SUM(R96:$S96) = 1, SUM(R96:$S96) = -1) * R$29","v":0},{"$f":"OR(SUM(S96:$S96) = 1, SUM(S96:$S96) = -1) * S$29","v":1.077}]
[null,null,null,null,null,"NHH UMS category B","scalar",1.077,null,{"$f":"OR(SUM(J97:$S97) = 1, SUM(J97:$S97) = -1) * J$29","v":0},{"$f":"OR(SUM(K97:$S97) = 1, SUM(K97:$S97) = -1) * K$29","v":0},{"$f":"OR(SUM(L97:$S97) = 1, SUM(L97:$S97) = -1) * L$29","v":0},{"$f":"OR(SUM(M97:$S97) = 1, SUM(M97:$S97) = -1) * M$29","v":0},{"$f":"OR(SUM(N97:$S97) = 1, SUM(N97:$S97) = -1) * N$29","v":0},{"$f":"OR(SUM(O97:$S97) = 1, SUM(O97:$S97) = -1) * O$29","v":0},{"$f":"OR(SUM(P97:$S97) = 1, SUM(P97:$S97) = -1) * P$29","v":0},{"$f":"OR(SUM(Q97:$S97) = 1, SUM(Q97:$S97) = -1) * Q$29","v":0},{"$f":"OR(SUM(R97:$S97) = 1, SUM(R97:$S97) = -1) * R$29","v":0},{"$f":"OR(SUM(S97:$S97) = 1, SUM(S97:$S97) = -1) * S$29","v":1.077}]
[null,null,null,null,null,"NHH UMS category C","scalar",1.077,null,{"$f":"OR(SUM(J98:$S98) = 1, SUM(J98:$S98) = -1) * J$29","v":0},{"$f":"OR(SUM(K98:$S98) = 1, SUM(K98:$S98) = -1) * K$29","v":0},{"$f":"OR(SUM(L98:$S98) = 1, SUM(L98:$S98) = -1) * L$29","v":0},{"$f":"OR(SUM(M98:$S98) = 1, SUM(M98:$S98) = -1) * M$29","v":0},{"$f":"OR(SUM(N98:$S98) = 1, SUM(N98:$S98) = -1) * N$29","v":0},{"$f":"OR(SUM(O98:$S98) = 1, SUM(O98:$S98) = -1) * O$29","v":0},{"$f":"OR(SUM(P98:$S98) = 1, SUM(P98:$S98) = -1) * P$29","v":0},{"$f":"OR(SUM(Q98:$S98) = 1, SUM(Q98:$S98) = -1) * Q$29","v":0},{"$f":"OR(SUM(R98:$S98) = 1, SUM(R98:$S98) = -1) * R$29","v":0},{"$f":"OR(SUM(S98:$S98) = 1, SUM(S98:$S98) = -1) * S$29","v":1.077}]
[null,null,null,null,null,"NHH UMS category D","scalar",1.077,null,{"$f":"OR(SUM(J99:$S99) = 1, SUM(J99:$S99) = -1) * J$29","v":0},{"$f":"OR(SUM(K99:$S99) = 1, SUM(K99:$S99) = -1) * K$29","v":0},{"$f":"OR(SUM(L99:$S99) = 1, SUM(L99:$S99) = -1) * L$29","v":0},{"$f":"OR(SUM(M99:$S99) = 1, SUM(M99:$S99) = -1) * M$29","v":0},{"$f":"OR(SUM(N99:$S99) = 1, SUM(N99:$S99) = -1) * N$29","v":0},{"$f":"OR(SUM(O99:$S99) = 1, SUM(O99:$S99) = -1) * O$29","v":0},{"$f":"OR(SUM(P99:$S99) = 1, SUM(P99:$S99) = -1) * P$29","v":0},{"$f":"OR(SUM(Q99:$S99) = 1, SUM(Q99:$S99) = -1) * Q$29","v":0},{"$f":"OR(SUM(R99:$S99) = 1, SUM(R99:$S99) = -1) * R$29","v":0},{"$f":"OR(SUM(S99:$S99) = 1, SUM(S99:$S99) = -1) * S$29","v":1.077}]
[null,null,null,null,null,"LV UMS (Pseudo HH Metered)","scalar",1.077,null,{"$f":"OR(SUM(J100:$S100) = 1, SUM(J100:$S100) = -1) * J$29","v":0},{"$f":"OR(SUM(K100:$S100) = 1, SUM(K100:$S100) = -1) * K$29","v":0},{"$f":"OR(SUM(L100:$S100) = 1, SUM(L100:$S100) = -1) * L$29","v":0},{"$f":"OR(SUM(M100:$S100) = 1, SUM(M100:$S100) = -1) * M$29","v":0},{"$f":"OR(SUM(N100:$S100) = 1, SUM(N100:$S100) = -1) * N$29","v":0},{"$f":"OR(SUM(O100:$S100) = 1, SUM(O100:$S100) = -1) * O$29","v":0},{"$f":"OR(SUM(P100:$S100) = 1, SUM(P100:$S100) = -1) * P$29","v":0},{"$f":"OR(SUM(Q100:$S100) = 1, SUM(Q100:$S100) = -1) * Q$29","v":0},{"$f":"OR(SUM(R100:$S100) = 1, SUM(R100:$S100) = -1) * R$29","v":0},{"$f":"OR(SUM(S100:$S100) = 1, SUM(S100:$S100) = -1) * S$29","v":1.077}]
[null,null,null,null,null,"LV Generation NHH or Aggregate HH","scalar",1.077,null,{"$f":"OR(SUM(J101:$S101) = 1, SUM(J101:$S101) = -1) * J$29","v":0},{"$f":"OR(SUM(K101:$S101) = 1, SUM(K101:$S101) = -1) * K$29","v":0},{"$f":"OR(SUM(L101:$S101) = 1, SUM(L101:$S101) = -1) * L$29","v":0},{"$f":"OR(SUM(M101:$S101) = 1, SUM(M101:$S101) = -1) * M$29","v":0},{"$f":"OR(SUM(N101:$S101) = 1, SUM(N101:$S101) = -1) * N$29","v":0},{"$f":"OR(SUM(O101:$S101) = 1, SUM(O101:$S101) = -1) * O$29","v":0},{"$f":"OR(SUM(P101:$S101) = 1, SUM(P101:$S101) = -1) * P$29","v":0},{"$f":"OR(SUM(Q101:$S101) = 1, SUM(Q101:$S101) = -1) * Q$29","v":0},{"$f":"OR(SUM(R101:$S101) = 1, SUM(R101:$S101) = -1) * R$29","v":0},{"$f":"OR(SUM(S101:$S101) = 1, SUM(S101:$S101) = -1) * S$29","v":1.077}]
[null,null,null,null,null,"LV Sub Generation NHH","scalar",1.0589999999999999,null,{"$f":"OR(SUM(J102:$S102) = 1, SUM(J102:$S102) = -1) * J$29","v":0},{"$f":"OR(SUM(K102:$S102) = 1, SUM(K102:$S102) = -1) * K$29","v":0},{"$f":"OR(SUM(L102:$S102) = 1, SUM(L102:$S102) = -1) * L$29","v":0},{"$f":"OR(SUM(M102:$S102) = 1, SUM(M102:$S102) = -1) * M$29","v":0},{"$f":"OR(SUM(N102:$S102) = 1, SUM(N102:$S102) = -1) * N$29","v":0},{"$f":"OR(SUM(O102:$S102) = 1, SUM(O102:$S102) = -1) * O$29","v":0},{"$f":"OR(SUM(P102:$S102) = 1, SUM(P102:$S102) = -1) * P$29","v":0},{"$f":"OR(SUM(Q102:$S102) = 1, SUM(Q102:$S102) = -1) * Q$29","v":0},{"$f":"OR(SUM(R102:$S102) = 1, SUM(R102:$S102) = -1) * R$29","v":1.0589999999999999},{"$f":"OR(SUM(S102:$S102) = 1, SUM(S102:$S102) = -1) * S$29","v":0}]
[null,null,null,null,null,"LV Generation Intermittent","scalar",1.077,null,{"$f":"OR(SUM(J103:$S103) = 1, SUM(J103:$S103) = -1) * J$29","v":0},{"$f":"OR(SUM(K103:$S103) = 1, SUM(K103:$S103) = -1) * K$29","v":0},{"$f":"OR(SUM(L103:$S103) = 1, SUM(L103:$S103) = -1) * L$29","v":0},{"$f":"OR(SUM(M103:$S103) = 1, SUM(M103:$S103) = -1) * M$29","v":0},{"$f":"OR(SUM(N103:$S103) = 1, SUM(N103:$S103) = -1) * N$29","v":0},{"$f":"OR(SUM(O103:$S103) = 1, SUM(O103:$S103) = -1) * O$29","v":0},{"$f":"OR(SUM(P103:$S103) = 1, SUM(P103:$S103) = -1) * P$29","v":0},{"$f":"OR(SUM(Q103:$S103) = 1, SUM(Q103:$S103) = -1) * Q$29","v":0},{"$f":"OR(SUM(R103:$S103) = 1, SUM(R103:$S103) = -1) * R$29","v":0},{"$f":"OR(SUM(S103:$S103) = 1, SUM(S103:$S103) = -1) * S$29","v":1.077}]
[null,null,null,null,null,"LV Generation Intermittent no RP charge","scalar",1.077,null,{"$f":"OR(SUM(J104:$S104) = 1, SUM(J104:$S104) = -1) * J$29","v":0},{"$f":"OR(SUM(K104:$S104) = 1, SUM(K104:$S104) = -1) * K$29","v":0},{"$f":"OR(SUM(L104:$S104) = 1, SUM(L104:$S104) = -1) * L$29","v":0},{"$f":"OR(SUM(M104:$S104) = 1, SUM(M104:$S104) = -1) * M$29","v":0},{"$f":"OR(SUM(N104:$S104) = 1, SUM(N104:$S104) = -1) * N$29","v":0},{"$f":"OR(SUM(O104:$S104) = 1, SUM(O104:$S104) = -1) * O$29","v":0},{"$f":"OR(SUM(P104:$S104) = 1, SUM(P104:$S104) = -1) * P$29","v":0},{"$f":"OR(SUM(Q104:$S104) = 1, SUM(Q104:$S104) = -1) * Q$29","v":0},{"$f":"OR(SUM(R104:$S104) = 1, SUM(R104:$S104) = -1) * R$29","v":0},{"$f":"OR(SUM(S104:$S104) = 1, SUM(S104:$S104) = -1) * S$29","v":1.077}]
[null,null,null,null,null,"LV Generation Non-Intermittent","scalar",1.077,null,{"$f":"OR(SUM(J105:$S105) = 1, SUM(J105:$S105) = -1) * J$29","v":0},{"$f":"OR(SUM(K105:$S105) = 1, SUM(K105:$S105) = -1) * K$29","v":0},{"$f":"OR(SUM(L105:$S105) = 1, SUM(L105:$S105) = -1) * L$29","v":0},{"$f":"OR(SUM(M105:$S105) = 1, SUM(M105:$S105) = -1) * M$29","v":0},{"$f":"OR(SUM(N105:$S105) = 1, SUM(N105:$S105) = -1) * N$29","v":0},{"$f":"OR(SUM(O105:$S105) = 1, SUM(O105:$S105) = -1) * O$29","v":0},{"$f":"OR(SUM(P105:$S105) = 1, SUM(P105:$S105) = -1) * P$29","v":0},{"$f":"OR(SUM(Q105:$S105) = 1, SUM(Q105:$S105) = -1) * Q$29","v":0},{"$f":"OR(SUM(R105:$S105) = 1, SUM(R105:$S105) = -1) * R$29","v":0},{"$f":"OR(SUM(S105:$S105) = 1, SUM(S105:$S105) = -1) * S$29","v":1.077}]
[null,null,null,null,null,"LV Generation Non-Intermittent no RP charge","scalar",1.077,null,{"$f":"OR(SUM(J106:$S106) = 1, SUM(J106:$S106) = -1) * J$29","v":0},{"$f":"OR(SUM(K106:$S106) = 1, SUM(K106:$S106) = -1) * K$29","v":0},{"$f":"OR(SUM(L106:$S106) = 1, SUM(L106:$S106) = -1) * L$29","v":0},{"$f":"OR(SUM(M106:$S106) = 1, SUM(M106:$S106) = -1) * M$29","v":0},{"$f":"OR(SUM(N106:$S106) = 1, SUM(N106:$S106) = -1) * N$29","v":0},{"$f":"OR(SUM(O106:$S106) = 1, SUM(O106:$S106) = -1) * O$29","v":0},{"$f":"OR(SUM(P106:$S106) = 1, SUM(P106:$S106) = -1) * P$29","v":0},{"$f":"OR(SUM(Q106:$S106) = 1, SUM(Q106:$S106) = -1) * Q$29","v":0},{"$f":"OR(SUM(R106:$S106) = 1, SUM(R106:$S106) = -1) * R$29","v":0},{"$f":"OR(SUM(S106:$S106) = 1, SUM(S106:$S106) = -1) * S$29","v":1.077}]
[null,null,null,null,null,"LV Sub Generation Intermittent","scalar",1.0589999999999999,null,{"$f":"OR(SUM(J107:$S107) = 1, SUM(J107:$S107) = -1) * J$29","v":0},{"$f":"OR(SUM(K107:$S107) = 1, SUM(K107:$S107) = -1) * K$29","v":0},{"$f":"OR(SUM(L107:$S107) = 1, SUM(L107:$S107) = -1) * L$29","v":0},{"$f":"OR(SUM(M107:$S107) = 1, SUM(M107:$S107) = -1) * M$29","v":0},{"$f":"OR(SUM(N107:$S107) = 1, SUM(N107:$S107) = -1) * N$29","v":0},{"$f":"OR(SUM(O107:$S107) = 1, SUM(O107:$S107) = -1) * O$29","v":0},{"$f":"OR(SUM(P107:$S107) = 1, SUM(P107:$S107) = -1) * P$29","v":0},{"$f":"OR(SUM(Q107:$S107) = 1, SUM(Q107:$S107) = -1) * Q$29","v":0},{"$f":"OR(SUM(R107:$S107) = 1, SUM(R107:$S107) = -1) * R$29","v":1.0589999999999999},{"$f":"OR(SUM(S107:$S107) = 1, SUM(S107:$S107) = -1) * S$29","v":0}]
[null,null,null,null,null,"LV Sub Generation Intermittent no RP charge","scalar",1.0589999999999999,null,{"$f":"OR(SUM(J108:$S108) = 1, SUM(J108:$S108) = -1) * J$29","v":0},{"$f":"OR(SUM(K108:$S108) = 1, SUM(K108:$S108) = -1) * K$29","v":0},{"$f":"OR(SUM(L108:$S108) = 1, SUM(L108:$S108) = -1) * L$29","v":0},{"$f":"OR(SUM(M108:$S108) = 1, SUM(M108:$S108) = -1) * M$29","v":0},{"$f":"OR(SUM(N108:$S108) = 1, SUM(N108:$S108) = -1) * N$29","v":0},{"$f":"OR(SUM(O108:$S108) = 1, SUM(O108:$S108) = -1) * O$29","v":0},{"$f":"OR(SUM(P108:$S108) = 1, SUM(P108:$S108) = -1) * P$29","v":0},{"$f":"OR(SUM(Q108:$S108) = 1, SUM(Q108:$S108) = -1) * Q$29","v":0},{"$f":"OR(SUM(R108:$S108) = 1, SUM(R108:$S108) = -1) * R$29","v":1.0589999999999999},{"$f":"OR(SUM(S108:$S108) = 1, SUM(S108:$S108) = -1) * S$29","v":0}]
[null,null,null,null,null,"LV Sub Generation Non-Intermittent","scalar",1.0589999999999999,null,{"$f":"OR(SUM(J109:$S109) = 1, SUM(J109:$S109) = -1) * J$29","v":0},{"$f":"OR(SUM(K109:$S109) = 1, SUM(K109:$S109) = -1) * K$29","v":0},{"$f":"OR(SUM(L109:$S109) = 1, SUM(L109:$S109) = -1) * L$29","v":0},{"$f":"OR(SUM(M109:$S109) = 1, SUM(M109:$S109) = -1) * M$29","v":0},{"$f":"OR(SUM(N109:$S109) = 1, SUM(N109:$S109) = -1) * N$29","v":0},{"$f":"OR(SUM(O109:$S109) = 1, SUM(O109:$S109) = -1) * O$29","v":0},{"$f":"OR(SUM(P109:$S109) = 1, SUM(P109:$S109) = -1) * P$29","v":0},{"$f":"OR(SUM(Q109:$S109) = 1, SUM(Q109:$S109) = -1) * Q$29","v":0},{"$f":"OR(SUM(R109:$S109) = 1, SUM(R109:$S109) = -1) * R$29","v":1.0589999999999999},{"$f":"OR(SUM(S109:$S109) = 1, SUM(S109:$S109) = -1) * S$29","v":0}]
[null,null,null,null,null,"LV Sub Generation Non-Intermittent no RP charge","scalar",1.0589999999999999,null,{"$f":"OR(SUM(J110:$S110) = 1, SUM(J110:$S110) = -1) * J$29","v":0},{"$f":"OR(SUM(K110:$S110) = 1, SUM(K110:$S110) = -1) * K$29","v":0},{"$f":"OR(SUM(L110:$S110) = 1, SUM(L110:$S110) = -1) * L$29","v":0},{"$f":"OR(SUM(M110:$S110) = 1, SUM(M110:$S110) = -1) * M$29","v":0},{"$f":"OR(SUM(N110:$S110) = 1, SUM(N110:$S110) = -1) * N$29","v":0},{"$f":"OR(SUM(O110:$S110) = 1, SUM(O110:$S110) = -1) * O$29","v":0},{"$f":"OR(SUM(P110:$S110) = 1, SUM(P110:$S110) = -1) * P$29","v":0},{"$f":"OR(SUM(Q110:$S110) = 1, SUM(Q110:$S110) = -1) * Q$29","v":0},{"$f":"OR(SUM(R110:$S110) = 1, SUM(R110:$S110) = -1) * R$29","v":1.0589999999999999},{"$f":"OR(SUM(S110:$S110) = 1, SUM(S110:$S110) = -1) * S$29","v":0}]
[null,null,null,null,null,"HV Generation Intermittent","scalar",1.0409999999999999,null,{"$f":"OR(SUM(J111:$S111) = 1, SUM(J111:$S111) = -1) * J$29","v":0},{"$f":"OR(SUM(K111:$S111) = 1, SUM(K111:$S111) = -1) * K$29","v":0},{"$f":"OR(SUM(L111:$S111) = 1, SUM(L111:$S111) = -1) * L$29","v":0},{"$f":"OR(SUM(M111:$S111) = 1, SUM(M111:$S111) = -1) * M$29","v":0},{"$f":"OR(SUM(N111:$S111) = 1, SUM(N111:$S111) = -1) * N$29","v":0},{"$f":"OR(SUM(O111:$S111) = 1, SUM(O111:$S111) = -1) * O$29","v":0},{"$f":"OR(SUM(P111:$S111) = 1, SUM(P111:$S111) = -1) * P$29","v":0},{"$f":"OR(SUM(Q111:$S111) = 1, SUM(Q111:$S111) = -1) * Q$29","v":1.0409999999999999},{"$f":"OR(SUM(R111:$S111) = 1, SUM(R111:$S111) = -1) * R$29","v":0},{"$f":"OR(SUM(S111:$S111) = 1, SUM(S111:$S111) = -1) * S$29","v":0}]
[null,null,null,null,null,"HV Generation Intermittent no RP charge","scalar",1.0409999999999999,null,{"$f":"OR(SUM(J112:$S112) = 1, SUM(J112:$S112) = -1) * J$29","v":0},{"$f":"OR(SUM(K112:$S112) = 1, SUM(K112:$S112) = -1) * K$29","v":0},{"$f":"OR(SUM(L112:$S112) = 1, SUM(L112:$S112) = -1) * L$29","v":0},{"$f":"OR(SUM(M112:$S112) = 1, SUM(M112:$S112) = -1) * M$29","v":0},{"$f":"OR(SUM(N112:$S112) = 1, SUM(N112:$S112) = -1) * N$29","v":0},{"$f":"OR(SUM(O112:$S112) = 1, SUM(O112:$S112) = -1) * O$29","v":0},{"$f":"OR(SUM(P112:$S112) = 1, SUM(P112:$S112) = -1) * P$29","v":0},{"$f":"OR(SUM(Q112:$S112) = 1, SUM(Q112:$S112) = -1) * Q$29","v":1.0409999999999999},{"$f":"OR(SUM(R112:$S112) = 1, SUM(R112:$S112) = -1) * R$29","v":0},{"$f":"OR(SUM(S112:$S112) = 1, SUM(S112:$S112) = -1) * S$29","v":0}]
[null,null,null,null,null,"HV Generation Non-Intermittent","scalar",1.0409999999999999,null,{"$f":"OR(SUM(J113:$S113) = 1, SUM(J113:$S113) = -1) * J$29","v":0},{"$f":"OR(SUM(K113:$S113) = 1, SUM(K113:$S113) = -1) * K$29","v":0},{"$f":"OR(SUM(L113:$S113) = 1, SUM(L113:$S113) = -1) * L$29","v":0},{"$f":"OR(SUM(M113:$S113) = 1, SUM(M113:$S113) = -1) * M$29","v":0},{"$f":"OR(SUM(N113:$S113) = 1, SUM(N113:$S113) = -1) * N$29","v":0},{"$f":"OR(SUM(O113:$S113) = 1, SUM(O113:$S113) = -1) * O$29","v":0},{"$f":"OR(SUM(P113:$S113) = 1, SUM(P113:$S113) = -1) * P$29","v":0},{"$f":"OR(SUM(Q113:$S113) = 1, SUM(Q113:$S113) = -1) * Q$29","v":1.0409999999999999},{"$f":"OR(SUM(R113:$S113) = 1, SUM(R113:$S113) = -1) * R$29","v":0},{"$f":"OR(SUM(S113:$S113) = 1, SUM(S113:$S113) = -1) * S$29","v":0}]
[null,null,null,null,null,"HV Generation Non-Intermittent no RP charge","scalar",1.0409999999999999,null,{"$f":"OR(SUM(J114:$S114) = 1, SUM(J114:$S114) = -1) * J$29","v":0},{"$f":"OR(SUM(K114:$S114) = 1, SUM(K114:$S114) = -1) * K$29","v":0},{"$f":"OR(SUM(L114:$S114) = 1, SUM(L114:$S114) = -1) * L$29","v":0},{"$f":"OR(SUM(M114:$S114) = 1, SUM(M114:$S114) = -1) * M$29","v":0},{"$f":"OR(SUM(N114:$S114) = 1, SUM(N114:$S114) = -1) * N$29","v":0},{"$f":"OR(SUM(O114:$S114) = 1, SUM(O114:$S114) = -1) * O$29","v":0},{"$f":"OR(SUM(P114:$S114) = 1, SUM(P114:$S114) = -1) * P$29","v":0},{"$f":"OR(SUM(Q114:$S114) = 1, SUM(Q114:$S114) = -1) * Q$29","v":1.0409999999999999},{"$f":"OR(SUM(R114:$S114) = 1, SUM(R114:$S114) = -1) * R$29","v":0},{"$f":"OR(SUM(S114:$S114) = 1, SUM(S114:$S114) = -1) * S$29","v":0}]
[]
[null,null,null,null,"User loss factor (assuming generation does not contribute at level of connection)",null,null,null,">",null,null,null,null,null,null,null,null,null,null,null,null,null,"Paragraph 70 (a)"]
[null,null,null,null,"These have been adjusted for the share of load going through 132/HV transformation"]
[null,null,null,null,null,"Domestic Unrestricted","scalar",null,null,{"$f":"$H194 * J155","v":1.077},{"$f":"$H194 * K155","v":1.077},1.077,0.7538999999999999,0.7538999999999999,0.7538999999999999,0.3231,1.077,1.077,1.077]
[null,null,null,null,null,"Domestic Two Rate","scalar",null,null,{"$f":"$H195 * J156","v":1.077},1.077,1.077,0.7538999999999999,0.7538999999999999,0.7538999999999999,0.3231,1.077,1.077,1.077]
[null,null,null,null,null,"Domestic Off Peak (related MPAN)","scalar",null,null,{"$f":"$H196 * J157","v":1.077},1.077,1.077,0.7538999999999999,0.7538999999999999,0.7538999999999999,0.3231,1.077,1.077,1.077]
[null,null,null,null,null,"Small Non Domestic Unrestricted","scalar",null,null,{"$f":"$H197 * J158","v":1.077},1.077,1.077,0.7538999999999999,0.7538999999999999,0.7538999999999999,0.3231,1.077,1.077,1.077]
[null,null,null,null,null,"Small Non Domestic Two Rate","scalar",null,null,{"$f":"$H198 * J159","v":1.077},1.077,1.077,0.7538999999999999,0.7538999999999999,0.7538999999999999,0.3231,1.077,1.077,1.077]
[null,null,null,null,null,"Small Non Domestic Off Peak (related MPAN)","scalar",null,null,{"$f":"$H199 * J160","v":1.077},1.077,1.077,0.7538999999999999,0.7538999999999999,0.7538999999999999,0.3231,1.077,1.077,1.077]
[null,null,null,null,null,"LV Medium Non-Domestic","scalar",null,null,{"$f":"$H200 * J161","v":1.077},1.077,1.077,0.7538999999999999,0.7538999999999999,0.7538999999999999,0.3231,1.077,1.077,1.077]
[null,null,null,null,null,"LV Sub Medium Non-Domestic","scalar",null,null,{"$f":"$H201 * J162","v":1.0589999999999999},1.0589999999999999,1.0589999999999999,0.74129999999999996,0.74129999999999996,0.74129999999999996,0.31769999999999998,1.0589999999999999,1.0589999999999999,0]
[null,null,null,null,null,"HV Medium Non-Domestic","scalar",null,null,{"$f":"$H202 * J163","v":1.0409999999999999},1.0409999999999999,1.0409999999999999,0.7286999999999999,0.7286999999999999,0.7286999999999999,0.31229999999999997,1.0409999999999999,0,0]
[null,null,null,null,null,"LV Network Domestic","scalar",null,null,{"$f":"$H203 * J164","v":1.077},1.077,1.077,0.7538999999999999,0.7538999999999999,0.7538999999999999,0.3231,1.077,1.077,1.077]
[null,null,null,null,null,"LV Network Non-Domestic Non-CT","scalar",null,null,{"$f":"$H204 * J165","v":1.077},1.077,1.077,0.7538999999999999,0.7538999999999999,0.7538999999999999,0.3231,1.077,1.077,1.077]
[null,null,null,null,null,"LV HH Metered","scalar",null,null,{"$f":"$H205 * J166","v":1.077},1.077,1.077,0.7538999999999999,0.7538999999999999,0.7538999999999999,0.3231,1.077,1.077,1.077]
[null,null,null,null,null,"LV Sub HH Metered","scalar",null,null,{"$f":"$H206 * J167","v":1.0589999999999999},1.0589999999999999,1.0589999999999999,0.74129999999999996,0.74129999999999996,0.74129999999999996,0.31769999999999998,1.0589999999999999,1.0589999999999999,0]
[null,null,null,null,null,"HV HH Metered","scalar",null,null,{"$f":"$H207 * J168","v":1.0409999999999999},1.0409999999999999,1.0409999999999999,0.7286999999999999,0.7286999999999999,0.7286999999999999,0.31229999999999997,1.0409999999999999,0,0]
[null,null,null,null,null,"NHH UMS category A","scalar",null,null,{"$f":"$H208 * J169","v":1.077},1.077,1.077,0.7538999999999999,0.7538999999999999,0.7538999999999999,0.3231,1.077,1.077,1.077]
[null,null,null,null,null,"NHH UMS category B","scalar",null,null,{"$f":"$H209 * J170","v":1.077},1.077,1.077,0.7538999999999999,0.7538999999999999,0.7538999999999999,0.3231,1.077,1.077,1.077]
[null,null,null,null,null,"NHH UMS category C","scalar",null,null,{"$f":"$H210 * J171","v":1.077},1.077,1.077,0.7538999999999999,0.7538999999999999,0.7538999999999999,0.3231,1.077,1.077,1.077]
[null,null,null,null,null,"NHH UMS category D","scalar",null,null,{"$f":"$H211 * J172","v":1.077},1.077,1.077,0.7538999999999999,0.7538999999999999,0.7538999999999999,0.3231,1.077,1.077,1.077]
[null,null,null,null,null,"LV UMS (Pseudo HH Metered)","scalar",null,null,{"$f":"$H212 * J173","v":1.077},1.077,1.077,0.7538999999999999,0.7538999999999999,0.7538999999999999,0.3231,1.077,1.077,1.077]
[null,null,null,null,null,"LV Generation NHH or Aggregate HH","scalar",null,null,{"$f":"$H213 * J174","v":-1.077},-1.077,-1.077,-0.7538999999999999,-0.7538999999999999,-0.7538999999999999,-0.3231,-1.077,-1.077,0]
[null,null,null,null,null,"LV Sub Generation NHH","scalar",null,null,{"$f":"$H214 * J175","v":-1.0589999999999999},-1.0589999999999999,-1.0589999999999999,-0.74129999999999996,-0.74129999999999996,-0.74129999999999996,-0.31769999999999998,-1.0589999999999999,0,0]
[null,null,null,null,null,"LV Generation Intermittent","scalar",null,null,{"$f":"$H215 * J176","v":-1.077},-1.077,-1.077,-0.7538999999999999,-0.7538999999999999,-0.7538999999999999,-0.3231,-1.077,-1.077,0]
[null,null,null,null,null,"LV Generation Intermittent no RP charge","scalar",null,null,{"$f":"$H216 * J177","v":-1.077},-1.077,-1.077,-0.7538999999999999,-0.7538999999999999,-0.7538999999999999,-0.3231,-1.077,-1.077,0]
[null,null,null,null,null,"LV Generation Non-Intermittent","scalar",null,null,{"$f":"$H217 * J178","v":-1.077},-1.077,-1.077,-0.7538999999999999,-0.7538999999999999,-0.7538999999999999,-0.3231,-1.077,-1.077,0]
[null,null,null,null,null,"LV Generation Non-Intermittent no RP charge","scalar",null,null,{"$f":"$H218 * J179","v":-1.077},-1.077,-1.077,-0.7538999999999999,-0.7538999999999999,-0.7538999999999999,-0.3231,-1.077,-1.077,0]
[null,null,null,null,null,"LV Sub Generation Intermittent","scalar",null,null,{"$f":"$H219 * J180","v":-1.0589999999999999},-1.0589999999999999,-1.0589999999999999,-0.74129999999999996,-0.74129999999999996,-0.74129999999999996,-0.31769999999999998,-1.0589999999999999,0,0]
[null,null,null,null,null,"LV Sub Generation Intermittent no RP charge","scalar",null,null,{"$f":"$H220 * J181","v":-1.0589999999999999},-1.0589999999999999,-1.0589999999999999,-0.74129999999999996,-0.74129999999999996,-0.74129999999999996,-0.31769999999999998,-1.0589999999999999,0,0]
[null,null,null,null,null,"LV Sub Generation Non-Intermittent","scalar",null,null,{"$f":"$H221 * J182","v":-1.0589999999999999},-1.0589999999999999,-1.0589999999999999,-0.74129999999999996,-0.74129999999999996,-0.74129999999999996,-0.31769999999999998,-1.0589999999999999,0,0]
[null,null,null,null,null,"LV Sub Generation Non-Intermittent no RP charge","scalar",null,null,{"$f":"$H222 * J183","v":-1.0589999999999999},-1.0589999999999999,-1.0589999999999999,-0.74129999999999996,-0.74129999999999996,-0.74129999999999996,-0.31769999999999998,-1.0589999999999999,0,0]
[null,null,null,null,null,"HV Generation Intermittent","scalar",null,null,{"$f":"$H223 * J184","v":-1.0409999999999999},-1.0409999999999999,-1.0409999999999999,-0.7286999999999999,-0.7286999999999999,-0.7286999999999999,-0.31229999999999997,0,0,0]
[null,null,null,null,null,"HV Generation Intermittent no RP charge","scalar",null,null,{"$f":"$H224 * J185","v":-1.0409999999999999},-1.0409999999999999,-1.0409999999999999,-0.7286999999999999,-0.7286999999999999,-0.7286999999999999,-0.31229999999999997,0,0,0]
[null,null,null,null,null,"HV Generation Non-Intermittent","scalar",null,null,{"$f":"$H225 * J186","v":-1.0409999999999999},-1.0409999999999999,-1.0409999999999999,-0.7286999999999999,-0.7286999999999999,-0.7286999999999999,-0.31229999999999997,0,0,0]
[null,null,null,null,null,"HV Generation Non-Intermittent no RP charge","scalar",null,null,{"$f":"$H226 * J187","v":-1.0409999999999999},-1.0409999999999999,-1.0409999999999999,-0.7286999999999999,-0.7286999999999999,-0.7286999999999999,-0.31229999999999997,0,0,0]
[]
[null,null,null,null,"User loss factor (assuming generation contributes at level of connection)",null,null,null,">",null,null,null,null,null,null,null,null,null,null,null,null,null,"Paragraph 70 (a)"]
[null,null,null,null,"These have been adjusted for the share of load going through 132/HV transformation"]
[null,null,null,null,null,"Domestic Unrestricted","scalar"]
[null,null,null,null,null,"Domestic Two Rate","scalar"]
[null,null,null,null,null,"Domestic Off Peak (related MPAN)","scalar"]
[null,null,null,null,null,"Small Non Domestic Unrestricted","scalar"]
[null,null,null,null,null,"Small Non Domestic Two Rate","scalar"]
[null,null,null,null,null,"Small Non Domestic Off Peak (related MPAN)","scalar"]
[null,null,null,null,null,"LV Medium Non-Domestic","scalar"]
[null,null,null,null,null,"LV Sub Medium Non-Domestic","scalar"]
[null,null,null,null,null,"HV Medium Non-Domestic","scalar"]
[null,null,null,null,null,"LV Network Domestic","scalar"]
[null,null,null,null,null,"LV Network Non-Domestic Non-CT","scalar"]
[null,null,null,null,null,"LV HH Metered","scalar"]
[null,null,null,null,null,"LV Sub HH Metered","scalar"]
[null,null,null,null,null,"HV HH Metered","scalar"]
[null,null,null,null,null,"NHH UMS category A","scalar"]
[null,null,null,null,null,"NHH UMS category B","scalar"]
[null,null,null,null,null,"NHH UMS category C","scalar"]
[null,null,null,null,null,"NHH UMS category D","scalar"]
[null,null,null,null,null,"LV UMS (Pseudo HH Metered)","scalar"]
[null,null,null,null,null,"LV Generation NHH or Aggregate HH","scalar",null,null,{"$f":"$H213 * J101","v":-1.077},{"$f":"$H213 * K101","v":-1.077},-1.077,-0.7538999999999999,-0.7538999999999999,-0.7538999999999999,-0.3231,-1.077,-1.077,-1.077]
[null,null,null,null,null,"LV Sub Generation NHH","scalar",null,null,{"$f":"$H214 * J102","v":-1.0589999999999999},-1.0589999999999999,-1.0589999999999999,-0.74129999999999996,-0.74129999999999996,-0.74129999999999996,-0.31769999999999998,-1.0589999999999999,-1.0589999999999999,0]
[null,null,null,null,null,"LV Generation Intermittent","scalar",null,null,{"$f":"$H215 * J103","v":-1.077},-1.077,-1.077,-0.7538999999999999,-0.7538999999999999,-0.7538999999999999,-0.3231,-1.077,-1.077,-1.077]
[null,null,null,null,null,"LV Generation Intermittent no RP charge","scalar",null,null,{"$f":"$H216 * J104","v":-1.077},-1.077,-1.077,-0.7538999999999999,-0.7538999999999999,-0.7538999999999999,-0.3231,-1.077,-1.077,-1.077]
[null,null,null,null,null,"LV Generation Non-Intermittent","scalar",null,null,{"$f":"$H217 * J105","v":-1.077},-1.077,-1.077,-0.7538999999999999,-0.7538999999999999,-0.7538999999999999,-0.3231,-1.077,-1.077,-1.077]
[null,null,null,null,null,"LV Generation Non-Intermittent no RP charge","scalar",null,null,{"$f":"$H218 * J106","v":-1.077},-1.077,-1.077,-0.7538999999999999,-0.7538999999999999,-0.7538999999999999,-0.3231,-1.077,-1.077,-1.077]
[null,null,null,null,null,"LV Sub Generation Intermittent","scalar",null,null,{"$f":"$H219 * J107","v":-1.0589999999999999},-1.0589999999999999,-1.0589999999999999,-0.74129999999999996,-0.74129999999999996,-0.74129999999999996,-0.31769999999999998,-1.0589999999999999,-1.0589999999999999,0]
[null,null,null,null,null,"LV Sub Generation Intermittent no RP charge","scalar",null,null,{"$f":"$H220 * J108","v":-1.0589999999999999},-1.0589999999999999,-1.0589999999999999,-0.74129999999999996,-0.74129999999999996,-0.74129999999999996,-0.31769999999999998,-1.0589999999999999,-1.0589999999999999,0]
[null,null,null,null,null,"LV Sub Generation Non-Intermittent","scalar",null,null,{"$f":"$H221 * J109","v":-1.0589999999999999},-1.0589999999999999,-1.0589999999999999,-0.74129999999999996,-0.74129999999999996,-0.74129999999999996,-0.31769999999999998,-1.0589999999999999,-1.0589999999999999,0]
[null,null,null,null,null,"LV Sub Generation Non-Intermittent no RP charge","scalar",null,null,{"$f":"$H222 * J110","v":-1.0589999999999999},-1.0589999999999999,-1.0589999999999999,-0.74129999999999996,-0.74129999999999996,-0.74129999999999996,-0.31769999999999998,-1.0589999999999999,-1.0589999999999999,0]
[null,null,null,null,null,"HV Generation Intermittent","scalar",null,null,{"$f":"$H223 * J111","v":-1.0409999999999999},-1.0409999999999999,-1.0409999999999999,-0.7286999999999999,-0.7286999999999999,-0.7286999999999999,-0.31229999999999997,-1.0409999999999999,0,0]
[null,null,null,null,null,"HV Generation Intermittent no RP charge","scalar",null,null,{"$f":"$H224 * J112","v":-1.0409999999999999},-1.0409999999999999,-1.0409999999999999,-0.7286999999999999,-0.7286999999999999,-0.7286999999999999,-0.31229999999999997,-1.0409999999999999,0,0]
[null,null,null,null,null,"HV Generation Non-Intermittent","scalar",null,null,{"$f":"$H225 * J113","v":-1.0409999999999999},-1.0409999999999999,-1.0409999999999999,-0.7286999999999999,-0.7286999999999999,-0.7286999999999999,-0.31229999999999997,-1.0409999999999999,0,0]
[null,null,null,null,null,"HV Generation Non-Intermittent no RP charge","scalar",null,null,{"$f":"$H226 * J114","v":-1.0409999999999999},-1.0409999999999999,-1.0409999999999999,-0.7286999999999999,-0.7286999999999999,-0.7286999999999999,-0.31229999999999997,-1.0409999999999999,0,0]
[]
[null,"Checks"]
[]
[null,null,null,null,"Check for error values",null,"number of issues",{"$f":"SUM(IF(ISERROR(H19:W300), 1))","v":0}]
[]
[null,"End of sheet"]

{"sheet":"Customer contributions","index":19,"n_rows":106,"n_cols":23,"rows_kept":106,"cut":false,"hidden":false,"merged":[]}
[{"$f":"MID(CELL(\"filename\",A1),FIND(\"]\",CELL(\"filename\",A1))+1,255)","v":"Customer contributions"}]
[{"$f":"Cover!D21&\" - \"&Cover!D23","v":"[enter DNO name] - [enter data version name]"}]
[{"$f":"Cover!D2&\" - \"&Cover!D8&\" v\"&Cover!D10&\" - \"&Cover!D19","v":"ARP model - Release for charge setting v3 - 2020/21"}]
[{"$f":"H104 & IF(H104 = 1, \" issue\", \" issues\") &\" identified in checks on this sheet\"","v":"0 issues identified in checks on this sheet"}]
[null,"Click here to return to model map",null,null,null,null,"Units","Constants",null,null,null,null,null,null,null,null,null,null,null,null,null,null,"Legal text reference"]
[]
[null,"Description"]
[]
[null,null,"This sheet calculates customer contributions towards assets (i.e. assets that are paid for, and should not be "]
[null,null,"recovered under UoS charges)"]
[]
[null,"Customer contributions"]
[]
[null,null,"Maps customer contributions to customer categories"]
[]
[null,null,{"$f":"INDEX('Version control'!$H$34:$H$59,MATCH($A$1,'Version control'!$F$34:$F$59,0),1)&\"-A: Network use factors\"","v":"Section 506-A: Network use factors"}]
[]
[null,null,null,null,"Network level at which users are supplied",null,null,null,">",null,null,null,null,null,null,null,null,null,null,null,null,null,"Paragraph 30"]
[null,null,null,null,"Network use factors based on customer contributed assets"]
[null,null,null,null,null,null,null,null,null,"HV substation","HV network","LV substation","LV network"]
[null,null,null,null,null,"Domestic Unrestricted","1 or 0",null,null,{"$f":"TRANSPOSE('Fixed inputs'!J53:AP56)","v":0},0,0,1]
[null,null,null,null,null,"Domestic Two Rate","1 or 0",null,null,0,0,0,1]
[null,null,null,null,null,"Domestic Off Peak (related MPAN)","1 or 0",null,null,0,0,0,1]
[null,null,null,null,null,"Small Non Domestic Unrestricted","1 or 0",null,null,0,0,0,1]
[null,null,null,null,null,"Small Non Domestic Two Rate","1 or 0",null,null,0,0,0,1]
[null,null,null,null,null,"Small Non Domestic Off Peak (related MPAN)","1 or 0",null,null,0,0,0,1]
[null,null,null,null,null,"LV Medium Non-Domestic","1 or 0",null,null,0,0,0,1]
[null,null,null,null,null,"LV Sub Medium Non-Domestic","1 or 0",null,null,0,0,1,0]
[null,null,null,null,null,"HV Medium Non-Domestic","1 or 0",null,null,0,1,0,0]
[null,null,null,null,null,"LV Network Domestic","1 or 0",null,null,0,0,0,1]
[null,null,null,null,null,"LV Network Non-Domestic Non-CT","1 or 0",null,null,0,0,0,1]
[null,null,null,null,null,"LV HH Metered","1 or 0",null,null,0,0,0,1]
[null,null,null,null,null,"LV Sub HH Metered","1 or 0",null,null,0,0,1,0]
[null,null,null,null,null,"HV HH Metered","1 or 0",null,null,0,1,0,0]
[null,null,null,null,null,"NHH UMS category A","1 or 0",null,null,0,0,0,1]
[null,null,null,null,null,"NHH UMS category B","1 or 0",null,null,0,0,0,1]
[null,null,null,null,null,"NHH UMS category C","1 or 0",null,null,0,0,0,1]
[null,null,null,null,null,"NHH UMS category D","1 or 0",null,null,0,0,0,1]
[null,null,null,null,null,"LV UMS (Pseudo HH Metered)","1 or 0",null,null,0,0,0,1]
[null,null,null,null,null,"LV Generation NHH or Aggregate HH","1 or 0",null,null,0,0,0,1]
[null,null,null,null,null,"LV Sub Generation NHH","1 or 0",null,null,0,0,1,0]
[null,null,null,null,null,"LV Generation Intermittent","1 or 0",null,null,0,0,0,1]
[null,null,null,null,null,"LV Generation Intermittent no RP charge","1 or 0",null,null,0,0,0,1]
[null,null,null,null,null,"LV Generation Non-Intermittent","1 or 0",null,null,0,0,0,1]
[null,null,null,null,null,"LV Generation Non-Intermittent no RP charge","1 or 0",null,null,0,0,0,1]
[null,null,null,null,null,"LV Sub Generation Intermittent","1 or 0",null,null,0,0,1,0]
[null,null,null,null,null,"LV Sub Generation Intermittent no RP charge","1 or 0",null,null,0,0,1,0]
[null,null,null,null,null,"LV Sub Generation Non-Intermittent","1 or 0",null,null,0,0,1,0]
[null,null,null,null,null,"LV Sub Generation Non-Intermittent no RP charge","1 or 0",null,null,0,0,1,0]
[null,null,null,null,null,"HV Generation Intermittent","1 or 0",null,null,0,1,0,0]
[null,null,null,null,null,"HV Generation Intermittent no RP charge","1 or 0",null,null,0,1,0,0]
[null,null,null,null,null,"HV Generation Non-Intermittent","1 or 0",null,null,0,1,0,0]
[null,null,null,null,null,"HV Generation Non-Intermittent no RP charge","1 or 0",null,null,0,1,0,0]
[]
[null,null,{"$f":"INDEX('Version control'!$H$34:$H$59,MATCH($A$1,'Version control'!$F$34:$F$59,0),1)&\"-B: Customer contributions\"","v":"Section 506-B: Customer contributions"}]
[]
[null,null,null,null,"Customer contributions, by network level of supply",null,null,null,">",null,null,null,null,null,null,null,null,null,null,null,null,null,"Paragraph 29"]
[null,null,null,null,"Share of customer contributions by network level and asset type"]
[null,null,null,null,null,null,null,null,null,"Transmission exit","GSPs","132kV","132kV/EHV","EHV","EHV/HV","132kV/HV","HV","HV/LV","LV circuits","LV customers","HV customers"]
[null,null,null,null,null,"LV network","%",null,null,null,null,{"$f":"'Inputs by network level'!L29","v":0},{"$f":"'Inputs by network level'!M29","v":0},{"$f":"'Inputs by network level'!N29","v":0},{"$f":"'Inputs by network level'!O29","v":0.75},{"$f":"'Inputs by network level'!P29","v":0.75},{"$f":"'Inputs by network level'!Q29","v":0.75},{"$f":"'Inputs by network level'!R29","v":0.95},{"$f":"'Inputs by network level'!S29","v":0.95}]
[null,null,null,null,null,"LV substation","%",null,null,null,null,{"$f":"'Inputs by network level'!L30","v":0},{"$f":"'Inputs by network level'!M30","v":0},{"$f":"'Inputs by network level'!N30","v":0},{"$f":"'Inputs by network level'!O30","v":0.75},{"$f":"'Inputs by network level'!P30","v":0.75},{"$f":"'Inputs by network level'!Q30","v":0.75},{"$f":"'Inputs by network level'!R30","v":0.95},{"$f":"'Inputs by network level'!S30","v":0}]
[null,null,null,null,null,"HV network","%",null,null,null,null,{"$f":"'Inputs by network level'!L31","v":0},{"$f":"'Inputs by network level'!M31","v":0.36},{"$f":"'Inputs by network level'!N31","v":0.36},{"$f":"'Inputs by network level'!O31","v":0.91},{"$f":"'Inputs by network level'!P31","v":0.91},{"$f":"'Inputs by network level'!Q31","v":0.91},{"$f":"'Inputs by network level'!R31","v":0},{"$f":"'Inputs by network level'!S31","v":0}]
[null,null,null,null,null,"HV substation","%",null,null,null,null,{"$f":"'Inputs by network level'!L32","v":0},{"$f":"'Inputs by network level'!M32","v":0.36},{"$f":"'Inputs by network level'!N32","v":0.36},{"$f":"'Inputs by network level'!O32","v":0.91},{"$f":"'Inputs by network level'!P32","v":0},{"$f":"'Inputs by network level'!Q32","v":0},{"$f":"'Inputs by network level'!R32","v":0},{"$f":"'Inputs by network level'!S32","v":0}]
[]
[null,null,null,null,"Customer contributions, by network level"]
[null,null,null,null,"Customer contributions by network level and customer type based on mappings above"]
[null,null,null,null,null,null,null,null,null,"Transmission exit","GSPs","132kV","132kV/EHV","EHV","EHV/HV","132kV/HV","HV","HV/LV","LV circuits","LV customers","HV customers"]
[null,null,null,null,null,"Domestic Unrestricted",null,"%",null,null,null,{"$f":"$M21 * L$60 + $L21 * L$61 + $K21 * L$62 + $J21 * L$63","v":0},0,0,0.75,0.75,0.75,0.95,0.95]
[null,null,null,null,null,"Domestic Two Rate",null,"%",null,null,null,0,0,0,0.75,0.75,0.75,0.95,0.95]
[null,null,null,null,null,"Domestic Off Peak (related MPAN)",null,"%",null,null,null,0,0,0,0.75,0.75,0.75,0.95,0.95]
[null,null,null,null,null,"Small Non Domestic Unrestricted",null,"%",null,null,null,0,0,0,0.75,0.75,0.75,0.95,0.95]
[null,null,null,null,null,"Small Non Domestic Two Rate",null,"%",null,null,null,0,0,0,0.75,0.75,0.75,0.95,0.95]
[null,null,null,null,null,"Small Non Domestic Off Peak (related MPAN)",null,"%",null,null,null,0,0,0,0.75,0.75,0.75,0.95,0.95]
[null,null,null,null,null,"LV Medium Non-Domestic",null,"%",null,null,null,0,0,0,0.75,0.75,0.75,0.95,0.95]
[null,null,null,null,null,"LV Sub Medium Non-Domestic",null,"%",null,null,null,0,0,0,0.75,0.75,0.75,0.95,0]
[null,null,null,null,null,"HV Medium Non-Domestic",null,"%",null,null,null,0,0.36,0.36,0.91,0.91,0.91,0,0]
[null,null,null,null,null,"LV Network Domestic",null,"%",null,null,null,0,0,0,0.75,0.75,0.75,0.95,0.95]
[null,null,null,null,null,"LV Network Non-Domestic Non-CT",null,"%",null,null,null,{"$f":"$M31 * L$60 + $L31 * L$61 + $K31 * L$62 + $J31 * L$63","v":0},0,0,0.75,0.75,0.75,0.95,0.95]
[null,null,null,null,null,"LV HH Metered",null,"%",null,null,null,0,0,0,0.75,0.75,0.75,0.95,0.95]
[null,null,null,null,null,"LV Sub HH Metered",null,"%",null,null,null,0,0,0,0.75,0.75,0.75,0.95,0]
[null,null,null,null,null,"HV HH Metered",null,"%",null,null,null,0,0.36,0.36,0.91,0.91,0.91,0,0]
[null,null,null,null,null,"NHH UMS category A",null,"%",null,null,null,0,0,0,0.75,0.75,0.75,0.95,0.95]
[null,null,null,null,null,"NHH UMS category B",null,"%",null,null,null,0,0,0,0.75,0.75,0.75,0.95,0.95]
[null,null,null,null,null,"NHH UMS category C",null,"%",null,null,null,0,0,0,0.75,0.75,0.75,0.95,0.95]
[null,null,null,null,null,"NHH UMS category D",null,"%",null,null,null,0,0,0,0.75,0.75,0.75,0.95,0.95]
[null,null,null,null,null,"LV UMS (Pseudo HH Metered)",null,"%",null,null,null,0,0,0,0.75,0.75,0.75,0.95,0.95]
[null,null,null,null,null,"LV Generation NHH or Aggregate HH",null,"%",null,null,null,0,0,0,0.75,0.75,0.75,0.95,0.95]
[null,null,null,null,null,"LV Sub Generation NHH",null,"%",null,null,null,{"$f":"$M41 * L$60 + $L41 * L$61 + $K41 * L$62 + $J41 * L$63","v":0},0,0,0.75,0.75,0.75,0.95,0]
[null,null,null,null,null,"LV Generation Intermittent",null,"%",null,null,null,0,0,0,0.75,0.75,0.75,0.95,0.95]
[null,null,null,null,null,"LV Generation Intermittent no RP charge",null,"%",null,null,null,0,0,0,0.75,0.75,0.75,0.95,0.95]
[null,null,null,null,null,"LV Generation Non-Intermittent",null,"%",null,null,null,0,0,0,0.75,0.75,0.75,0.95,0.95]
[null,null,null,null,null,"LV Generation Non-Intermittent no RP charge",null,"%",null,null,null,0,0,0,0.75,0.75,0.75,0.95,0.95]
[null,null,null,null,null,"LV Sub Generation Intermittent",null,"%",null,null,null,0,0,0,0.75,0.75,0.75,0.95,0]
[null,null,null,null,null,"LV Sub Generation Intermittent no RP charge",null,"%",null,null,null,0,0,0,0.75,0.75,0.75,0.95,0]
[null,null,null,null,null,"LV Sub Generation Non-Intermittent",null,"%",null,null,null,0,0,0,0.75,0.75,0.75,0.95,0]
[null,null,null,null,null,"LV Sub Generation Non-Intermittent no RP charge",null,"%",null,null,null,0,0,0,0.75,0.75,0.75,0.95,0]
[null,null,null,null,null,"HV Generation Intermittent",null,"%",null,null,null,0,0.36,0.36,0.91,0.91,0.91,0,0]
[null,null,null,null,null,"HV Generation Intermittent no RP charge",null,"%",null,null,null,{"$f":"$M51 * L$60 + $L51 * L$61 + $K51 * L$62 + $J51 * L$63","v":0},0.36,0.36,0.91,0.91,0.91,0,0]
[null,null,null,null,null,"HV Generation Non-Intermittent",null,"%",null,null,null,0,0.36,0.36,0.91,0.91,0.91,0,0]
[null,null,null,null,null,"HV Generation Non-Intermittent no RP charge",null,"%",null,null,null,0,0.36,0.36,0.91,0.91,0.91,0,0]
[]
[null,"Checks"]
[]
[null,null,null,null,"Check for error values",null,"number of issues",{"$f":"SUM(IF(ISERROR(H21:U100), 1))","v":0}]
[]
[null,"End of sheet"]

{"sheet":"Volume adjustments","index":20,"n_rows":142,"n_cols":44,"rows_kept":142,"cut":false,"hidden":false,"merged":[]}
[{"$f":"MID(CELL(\"filename\",A1),FIND(\"]\",CELL(\"filename\",A1))+1,255)","v":"Volume adjustments"}]
[{"$f":"Cover!D21&\" - \"&Cover!D23","v":"[enter DNO name] - [enter data version name]"}]
[{"$f":"Cover!D2&\" - \"&Cover!D8&\" v\"&Cover!D10&\" - \"&Cover!D19","v":"ARP model - Release for charge setting v3 - 2020/21"}]
[{"$f":"H140 & IF(H140 = 1, \" issue\", \" issues\") &\" identified in checks on this sheet\"","v":"0 issues identified in checks on this sheet"}]
[null,"Click here to return to model map",null,null,null,null,"Units","Constants",null,"Domestic Unrestricted","Domestic Two Rate","Domestic Off Peak (related MPAN)","Small Non Domestic Unrestricted","Small Non Domestic Two Rate","Small Non Domestic Off Peak (related MPAN)","LV Medium Non-Domestic","LV Sub Medium Non-Domestic","HV Medium Non-Domestic","LV Network Domestic","LV Network Non-Domestic Non-CT","LV HH Metered","LV Sub HH Metered","HV HH Metered","NHH UMS category A","NHH UMS category B","NHH UMS category C","NHH UMS category D","LV UMS (Pseudo HH Metered)","LV Generation NHH or Aggregate HH","LV Sub Generation NHH","LV Generation Intermittent","LV Generation Intermittent no RP charge","LV Generation Non-Intermittent","LV Generation Non-Intermittent no RP charge","LV Sub Generation Intermittent","LV Sub Generation Intermittent no RP charge","LV Sub Generation Non-Intermittent","LV Sub Generation Non-Intermittent no RP charge","HV Generation Intermittent","HV Generation Intermittent no RP charge","HV Generation Non-Intermittent","HV Generation Non-Intermittent no RP charge",null,"Legal text reference"]
[]
[null,"Description"]
[]
[null,null,"This sheet calculates volumes (kWh, MPAN, import and exceeded capacity) to be used throughout the model."]
[null,null,"This sheet first calculates the discounts to be applied to LDNO volumes, then combines these with volumes for "]
[null,null,"all the way customers."]
[]
[null,"LDNO discounts"]
[]
[null,null,{"$f":"INDEX('Version control'!$H$34:$H$59,MATCH($A$1,'Version control'!$F$34:$F$59,0),1)&\"-A: LDNO discounts\"","v":"Section 507-A: LDNO discounts"}]
[]
[null,null,null,"This section maps the LDNO discounts from the PCDM to different customer categories"]
[null,null,null,"Generation LDNO customers do not receive the standard LDNO discounts, and this adjustment is made in this section"]
[]
[null,null,null,null,"Discounts from PCDM",null,null,null,">"]
[null,null,null,null,"LDNO discounts calculated in the PCDM",null,null,null,null,null,null,null,null,null,null,null,null,null,null,null,null,null,null,null,null,null,null,null,null,null,null,null,null,null,null,null,null,null,null,null,null,null,null,"Paragraph 97"]
[null,null,null,null,null,"LDNO LV: LV user","%",{"$f":"'General inputs'!H33","v":0.32721850432250099}]
[null,null,null,null,null,"LDNO HV: LV user","%",{"$f":"'General inputs'!H34","v":0.61947521099660174}]
[null,null,null,null,null,"LDNO HV: LV Sub user","%",{"$f":"'General inputs'!H35","v":0.41493783028785863}]
[null,null,null,null,null,"LDNO HV: HV user","%",{"$f":"'General inputs'!H36","v":0.29542429060126774}]
[]
[null,null,null,null,"Discount mapping",null,null,null,">",null,null,null,null,null,null,null,null,null,null,null,null,null,null,null,null,null,null,null,null,null,null,null,null,null,null,null,null,null,null,null,null,null,null,"Paragraphs 98 & 99"]
[null,null,null,null,"Maps customer types to LDNO discount categories and calculates the appropriate discount to be applied to "]
[null,null,null,null,"each customer"]
[null,null,null,null,null,"LDNO LV: LV user","1 or 0",null,null,{"$f":"'Fixed inputs'!J46","v":1},{"$f":"'Fixed inputs'!K46","v":1},{"$f":"'Fixed inputs'!L46","v":1},{"$f":"'Fixed inputs'!M46","v":1},{"$f":"'Fixed inputs'!N46","v":1},{"$f":"'Fixed inputs'!O46","v":1},{"$f":"'Fixed inputs'!P46","v":1},{"$f":"'Fixed inputs'!Q46","v":0},{"$f":"'Fixed inputs'!R46","v":0},{"$f":"'Fixed inputs'!S46","v":1},{"$f":"'Fixed inputs'!T46","v":1},{"$f":"'Fixed inputs'!U46","v":1},{"$f":"'Fixed inputs'!V46","v":0},{"$f":"'Fixed inputs'!W46","v":0},{"$f":"'Fixed inputs'!X46","v":1},{"$f":"'Fixed inputs'!Y46","v":1},{"$f":"'Fixed inputs'!Z46","v":1},{"$f":"'Fixed inputs'!AA46","v":1},{"$f":"'Fixed inputs'!AB46","v":1},{"$f":"'Fixed inputs'!AC46","v":0},{"$f":"'Fixed inputs'!AD46","v":0},{"$f":"'Fixed inputs'!AE46","v":0},{"$f":"'Fixed inputs'!AF46","v":0},{"$f":"'Fixed inputs'!AG46","v":0},{"$f":"'Fixed inputs'!AH46","v":0},{"$f":"'Fixed inputs'!AI46","v":0},{"$f":"'Fixed inputs'!AJ46","v":0},{"$f":"'Fixed inputs'!AK46","v":0},{"$f":"'Fixed inputs'!AL46","v":0},{"$f":"'Fixed inputs'!AM46","v":0},{"$f":"'Fixed inputs'!AN46","v":0},{"$f":"'Fixed inputs'!AO46","v":0},{"$f":"'Fixed inputs'!AP46","v":0}]
[null,null,null,null,null,"LDNO HV: LV user","1 or 0",null,null,{"$f":"'Fixed inputs'!J47","v":1},{"$f":"'Fixed inputs'!K47","v":1},{"$f":"'Fixed inputs'!L47","v":1},{"$f":"'Fixed inputs'!M47","v":1},{"$f":"'Fixed inputs'!N47","v":1},{"$f":"'Fixed inputs'!O47","v":1},{"$f":"'Fixed inputs'!P47","v":1},{"$f":"'Fixed inputs'!Q47","v":0},{"$f":"'Fixed inputs'!R47","v":0},{"$f":"'Fixed inputs'!S47","v":1},{"$f":"'Fixed inputs'!T47","v":1},{"$f":"'Fixed inputs'!U47","v":1},{"$f":"'Fixed inputs'!V47","v":0},{"$f":"'Fixed inputs'!W47","v":0},{"$f":"'Fixed inputs'!X47","v":1},{"$f":"'Fixed inputs'!Y47","v":1},{"$f":"'Fixed inputs'!Z47","v":1},{"$f":"'Fixed inputs'!AA47","v":1},{"$f":"'Fixed inputs'!AB47","v":1},{"$f":"'Fixed inputs'!AC47","v":0},{"$f":"'Fixed inputs'!AD47","v":0},{"$f":"'Fixed inputs'!AE47","v":0},{"$f":"'Fixed inputs'!AF47","v":0},{"$f":"'Fixed inputs'!AG47","v":0},{"$f":"'Fixed inputs'!AH47","v":0},{"$f":"'Fixed inputs'!AI47","v":0},{"$f":"'Fixed inputs'!AJ47","v":0},{"$f":"'Fixed inputs'!AK47","v":0},{"$f":"'Fixed inputs'!AL47","v":0},{"$f":"'Fixed inputs'!AM47","v":0},{"$f":"'Fixed inputs'!AN47","v":0},{"$f":"'Fixed inputs'!AO47","v":0},{"$f":"'Fixed inputs'!AP47","v":0}]
[null,null,null,null,null,"LDNO HV: LV Sub user","1 or 0",null,null,{"$f":"'Fixed inputs'!J48","v":0},{"$f":"'Fixed inputs'!K48","v":0},{"$f":"'Fixed inputs'!L48","v":0},{"$f":"'Fixed inputs'!M48","v":0},{"$f":"'Fixed inputs'!N48","v":0},{"$f":"'Fixed inputs'!O48","v":0},{"$f":"'Fixed inputs'!P48","v":0},{"$f":"'Fixed inputs'!Q48","v":0},{"$f":"'Fixed inputs'!R48","v":0},{"$f":"'Fixed inputs'!S48","v":0},{"$f":"'Fixed inputs'!T48","v":0},{"$f":"'Fixed inputs'!U48","v":0},{"$f":"'Fixed inputs'!V48","v":1},{"$f":"'Fixed inputs'!W48","v":0},{"$f":"'Fixed inputs'!X48","v":0},{"$f":"'Fixed inputs'!Y48","v":0},{"$f":"'Fixed inputs'!Z48","v":0},{"$f":"'Fixed inputs'!AA48","v":0},{"$f":"'Fixed inputs'!AB48","v":0},{"$f":"'Fixed inputs'!AC48","v":0},{"$f":"'Fixed inputs'!AD48","v":0},{"$f":"'Fixed inputs'!AE48","v":0},{"$f":"'Fixed inputs'!AF48","v":0},{"$f":"'Fixed inputs'!AG48","v":0},{"$f":"'Fixed inputs'!AH48","v":0},{"$f":"'Fixed inputs'!AI48","v":0},{"$f":"'Fixed inputs'!AJ48","v":0},{"$f":"'Fixed inputs'!AK48","v":0},{"$f":"'Fixed inputs'!AL48","v":0},{"$f":"'Fixed inputs'!AM48","v":0},{"$f":"'Fixed inputs'!AN48","v":0},{"$f":"'Fixed inputs'!AO48","v":0},{"$f":"'Fixed inputs'!AP48","v":0}]
[null,null,null,null,null,"LDNO HV: HV user","1 or 0",null,null,{"$f":"'Fixed inputs'!J49","v":0},{"$f":"'Fixed inputs'!K49","v":0},{"$f":"'Fixed inputs'!L49","v":0},{"$f":"'Fixed inputs'!M49","v":0},{"$f":"'Fixed inputs'!N49","v":0},{"$f":"'Fixed inputs'!O49","v":0},{"$f":"'Fixed inputs'!P49","v":0},{"$f":"'Fixed inputs'!Q49","v":0},{"$f":"'Fixed inputs'!R49","v":0},{"$f":"'Fixed inputs'!S49","v":0},{"$f":"'Fixed inputs'!T49","v":0},{"$f":"'Fixed inputs'!U49","v":0},{"$f":"'Fixed inputs'!V49","v":0},{"$f":"'Fixed inputs'!W49","v":1},{"$f":"'Fixed inputs'!X49","v":0},{"$f":"'Fixed inputs'!Y49","v":0},{"$f":"'Fixed inputs'!Z49","v":0},{"$f":"'Fixed inputs'!AA49","v":0},{"$f":"'Fixed inputs'!AB49","v":0},{"$f":"'Fixed inputs'!AC49","v":0},{"$f":"'Fixed inputs'!AD49","v":0},{"$f":"'Fixed inputs'!AE49","v":0},{"$f":"'Fixed inputs'!AF49","v":0},{"$f":"'Fixed inputs'!AG49","v":0},{"$f":"'Fixed inputs'!AH49","v":0},{"$f":"'Fixed inputs'!AI49","v":0},{"$f":"'Fixed inputs'!AJ49","v":0},{"$f":"'Fixed inputs'!AK49","v":0},{"$f":"'Fixed inputs'!AL49","v":0},{"$f":"'Fixed inputs'!AM49","v":0},{"$f":"'Fixed inputs'!AN49","v":0},{"$f":"'Fixed inputs'!AO49","v":0},{"$f":"'Fixed inputs'!AP49","v":0}]
[null,null,null,null,null,"LV discount","%",null,null,{"$f":"J30 * $H$22","v":0.32721850432250099},{"$f":"K30 * $H$22","v":0.32721850432250099},0.32721850432250099,0.32721850432250099,0.32721850432250099,0.32721850432250099,0.32721850432250099,0,0,0.32721850432250099,0.32721850432250099,0.32721850432250099,{"$f":"V30 * $H$22","v":0},0,0.32721850432250099,0.32721850432250099,0.32721850432250099,0.32721850432250099,0.32721850432250099,0,0,0,0,0,0,0,0,0,0,0,0,0,0]
[null,null,null,null,null,"HV discount","%",null,null,{"$f":"SUMPRODUCT(J31:J33,$H$23:$H$25)","v":0.61947521099660174},{"$f":"SUMPRODUCT(K31:K33,$H$23:$H$25)","v":0.61947521099660174},0.61947521099660174,0.61947521099660174,0.61947521099660174,0.61947521099660174,0.61947521099660174,0,0,0.61947521099660174,0.61947521099660174,0.61947521099660174,{"$f":"SUMPRODUCT(V31:V33,$H$23:$H$25)","v":0.41493783028785863},0.29542429060126774,0.61947521099660174,0.61947521099660174,0.61947521099660174,0.61947521099660174,0.61947521099660174,0,0,0,0,0,0,0,0,0,0,0,0,0,0]
[]
[null,null,null,null,"Discount override",null,null,null,">",null,null,null,null,null,null,null,null,null,null,null,null,null,null,null,null,null,null,null,null,null,null,null,null,null,null,null,null,null,null,null,null,null,null,"Paragraphs 98 & 99"]
[null,null,null,null,"This table overrides discount factors for certain categories of user"]
[null,null,null,null,null,"Flag for overriding MWh discount rate","TRUE / FALSE",null,null,{"$f":"'Fixed inputs'!J106","v":false},{"$f":"'Fixed inputs'!K106","v":false},{"$f":"'Fixed inputs'!L106","v":false},{"$f":"'Fixed inputs'!M106","v":false},{"$f":"'Fixed inputs'!N106","v":false},{"$f":"'Fixed inputs'!O106","v":false},{"$f":"'Fixed inputs'!P106","v":false},{"$f":"'Fixed inputs'!Q106","v":false},{"$f":"'Fixed inputs'!R106","v":false},{"$f":"'Fixed inputs'!S106","v":false},{"$f":"'Fixed inputs'!T106","v":false},{"$f":"'Fixed inputs'!U106","v":false},{"$f":"'Fixed inputs'!V106","v":false},{"$f":"'Fixed inputs'!W106","v":false},{"$f":"'Fixed inputs'!X106","v":false},{"$f":"'Fixed inputs'!Y106","v":false},{"$f":"'Fixed inputs'!Z106","v":false},{"$f":"'Fixed inputs'!AA106","v":false},{"$f":"'Fixed inputs'!AB106","v":false},{"$f":"'Fixed inputs'!AC106","v":true},{"$f":"'Fixed inputs'!AD106","v":true},{"$f":"'Fixed inputs'!AE106","v":true},{"$f":"'Fixed inputs'!AF106","v":true},{"$f":"'Fixed inputs'!AG106","v":true},{"$f":"'Fixed inputs'!AH106","v":true},{"$f":"'Fixed inputs'!AI106","v":true},{"$f":"'Fixed inputs'!AJ106","v":true},{"$f":"'Fixed inputs'!AK106","v":true},{"$f":"'Fixed inputs'!AL106","v":true},{"$f":"'Fixed inputs'!AM106","v":true},{"$f":"'Fixed inputs'!AN106","v":true},{"$f":"'Fixed inputs'!AO106","v":true},{"$f":"'Fixed inputs'!AP106","v":true}]
[null,null,null,null,null,"Flag for overriding MPAN discount rate","TRUE / FALSE",null,null,{"$f":"'Fixed inputs'!J110","v":false},{"$f":"'Fixed inputs'!K110","v":false},{"$f":"'Fixed inputs'!L110","v":false},{"$f":"'Fixed inputs'!M110","v":false},{"$f":"'Fixed inputs'!N110","v":false},{"$f":"'Fixed inputs'!O110","v":false},{"$f":"'Fixed inputs'!P110","v":false},{"$f":"'Fixed inputs'!Q110","v":false},{"$f":"'Fixed inputs'!R110","v":false},{"$f":"'Fixed inputs'!S110","v":false},{"$f":"'Fixed inputs'!T110","v":false},{"$f":"'Fixed inputs'!U110","v":false},{"$f":"'Fixed inputs'!V110","v":false},{"$f":"'Fixed inputs'!W110","v":false},{"$f":"'Fixed inputs'!X110","v":false},{"$f":"'Fixed inputs'!Y110","v":false},{"$f":"'Fixed inputs'!Z110","v":false},{"$f":"'Fixed inputs'!AA110","v":false},{"$f":"'Fixed inputs'!AB110","v":false},{"$f":"'Fixed inputs'!AC110","v":true},{"$f":"'Fixed inputs'!AD110","v":true},{"$f":"'Fixed inputs'!AE110","v":true},{"$f":"'Fixed inputs'!AF110","v":true},{"$f":"'Fixed inputs'!AG110","v":true},{"$f":"'Fixed inputs'!AH110","v":true},{"$f":"'Fixed inputs'!AI110","v":true},{"$f":"'Fixed inputs'!AJ110","v":true},{"$f":"'Fixed inputs'!AK110","v":true},{"$f":"'Fixed inputs'!AL110","v":true},{"$f":"'Fixed inputs'!AM110","v":true},{"$f":"'Fixed inputs'!AN110","v":true},{"$f":"'Fixed inputs'!AO110","v":true},{"$f":"'Fixed inputs'!AP110","v":true}]
[null,null,null,null,null,"Flag for overriding import capacity discount rate","TRUE / FALSE",null,null,{"$f":"'Fixed inputs'!J114","v":false},{"$f":"'Fixed inputs'!K114","v":false},{"$f":"'Fixed inputs'!L114","v":false},{"$f":"'Fixed inputs'!M114","v":false},{"$f":"'Fixed inputs'!N114","v":false},{"$f":"'Fixed inputs'!O114","v":false},{"$f":"'Fixed inputs'!P114","v":false},{"$f":"'Fixed inputs'!Q114","v":false},{"$f":"'Fixed inputs'!R114","v":false},{"$f":"'Fixed inputs'!S114","v":false},{"$f":"'Fixed inputs'!T114","v":false},{"$f":"'Fixed inputs'!U114","v":false},{"$f":"'Fixed inputs'!V114","v":false},{"$f":"'Fixed inputs'!W114","v":false},{"$f":"'Fixed inputs'!X114","v":false},{"$f":"'Fixed inputs'!Y114","v":false},{"$f":"'Fixed inputs'!Z114","v":false},{"$f":"'Fixed inputs'!AA114","v":false},{"$f":"'Fixed inputs'!AB114","v":false},{"$f":"'Fixed inputs'!AC114","v":true},{"$f":"'Fixed inputs'!AD114","v":true},{"$f":"'Fixed inputs'!AE114","v":true},{"$f":"'Fixed inputs'!AF114","v":true},{"$f":"'Fixed inputs'!AG114","v":true},{"$f":"'Fixed inputs'!AH114","v":true},{"$f":"'Fixed inputs'!AI114","v":true},{"$f":"'Fixed inputs'!AJ114","v":true},{"$f":"'Fixed inputs'!AK114","v":true},{"$f":"'Fixed inputs'!AL114","v":true},{"$f":"'Fixed inputs'!AM114","v":true},{"$f":"'Fixed inputs'!AN114","v":true},{"$f":"'Fixed inputs'!AO114","v":true},{"$f":"'Fixed inputs'!AP114","v":true}]
[null,null,null,null,null,"Flag for overriding exceeded capacity discount rate","TRUE / FALSE",null,null,{"$f":"'Fixed inputs'!J118","v":false},{"$f":"'Fixed inputs'!K118","v":false},{"$f":"'Fixed inputs'!L118","v":false},{"$f":"'Fixed inputs'!M118","v":false},{"$f":"'Fixed inputs'!N118","v":false},{"$f":"'Fixed inputs'!O118","v":false},{"$f":"'Fixed inputs'!P118","v":false},{"$f":"'Fixed inputs'!Q118","v":false},{"$f":"'Fixed inputs'!R118","v":false},{"$f":"'Fixed inputs'!S118","v":false},{"$f":"'Fixed inputs'!T118","v":false},{"$f":"'Fixed inputs'!U118","v":false},{"$f":"'Fixed inputs'!V118","v":false},{"$f":"'Fixed inputs'!W118","v":false},{"$f":"'Fixed inputs'!X118","v":false},{"$f":"'Fixed inputs'!Y118","v":false},{"$f":"'Fixed inputs'!Z118","v":false},{"$f":"'Fixed inputs'!AA118","v":false},{"$f":"'Fixed inputs'!AB118","v":false},{"$f":"'Fixed inputs'!AC118","v":true},{"$f":"'Fixed inputs'!AD118","v":true},{"$f":"'Fixed inputs'!AE118","v":true},{"$f":"'Fixed inputs'!AF118","v":true},{"$f":"'Fixed inputs'!AG118","v":true},{"$f":"'Fixed inputs'!AH118","v":true},{"$f":"'Fixed inputs'!AI118","v":true},{"$f":"'Fixed inputs'!AJ118","v":true},{"$f":"'Fixed inputs'!AK118","v":true},{"$f":"'Fixed inputs'!AL118","v":true},{"$f":"'Fixed inputs'!AM118","v":true},{"$f":"'Fixed inputs'!AN118","v":true},{"$f":"'Fixed inputs'!AO118","v":true},{"$f":"'Fixed inputs'!AP118","v":true}]
[null,null,null,null,null,"Flag for overriding reactive power units discount rate","TRUE / FALSE",null,null,{"$f":"'Fixed inputs'!J122","v":false},{"$f":"'Fixed inputs'!K122","v":false},{"$f":"'Fixed inputs'!L122","v":false},{"$f":"'Fixed inputs'!M122","v":false},{"$f":"'Fixed inputs'!N122","v":false},{"$f":"'Fixed inputs'!O122","v":false},{"$f":"'Fixed inputs'!P122","v":false},{"$f":"'Fixed inputs'!Q122","v":false},{"$f":"'Fixed inputs'!R122","v":false},{"$f":"'Fixed inputs'!S122","v":false},{"$f":"'Fixed inputs'!T122","v":false},{"$f":"'Fixed inputs'!U122","v":false},{"$f":"'Fixed inputs'!V122","v":false},{"$f":"'Fixed inputs'!W122","v":false},{"$f":"'Fixed inputs'!X122","v":false},{"$f":"'Fixed inputs'!Y122","v":false},{"$f":"'Fixed inputs'!Z122","v":false},{"$f":"'Fixed inputs'!AA122","v":false},{"$f":"'Fixed inputs'!AB122","v":false},{"$f":"'Fixed inputs'!AC122","v":true},{"$f":"'Fixed inputs'!AD122","v":true},{"$f":"'Fixed inputs'!AE122","v":true},{"$f":"'Fixed inputs'!AF122","v":true},{"$f":"'Fixed inputs'!AG122","v":true},{"$f":"'Fixed inputs'!AH122","v":true},{"$f":"'Fixed inputs'!AI122","v":true},{"$f":"'Fixed inputs'!AJ122","v":true},{"$f":"'Fixed inputs'!AK122","v":true},{"$f":"'Fixed inputs'!AL122","v":true},{"$f":"'Fixed inputs'!AM122","v":true},{"$f":"'Fixed inputs'!AN122","v":true},{"$f":"'Fixed inputs'!AO122","v":true},{"$f":"'Fixed inputs'!AP122","v":true}]
[]
[null,null,null,null,null,"Override MWh discount rate","%",null,null,{"$f":"'Fixed inputs'!J107","v":0},{"$f":"'Fixed inputs'!K107","v":0},{"$f":"'Fixed inputs'!L107","v":0},{"$f":"'Fixed inputs'!M107","v":0},{"$f":"'Fixed inputs'!N107","v":0},{"$f":"'Fixed inputs'!O107","v":0},{"$f":"'Fixed inputs'!P107","v":0},{"$f":"'Fixed inputs'!Q107","v":0},{"$f":"'Fixed inputs'!R107","v":0},{"$f":"'Fixed inputs'!S107","v":0},{"$f":"'Fixed inputs'!T107","v":0},{"$f":"'Fixed inputs'!U107","v":0},{"$f":"'Fixed inputs'!V107","v":0},{"$f":"'Fixed inputs'!W107","v":0},{"$f":"'Fixed inputs'!X107","v":0},{"$f":"'Fixed inputs'!Y107","v":0},{"$f":"'Fixed inputs'!Z107","v":0},{"$f":"'Fixed inputs'!AA107","v":0},{"$f":"'Fixed inputs'!AB107","v":0},{"$f":"'Fixed inputs'!AC107","v":0},{"$f":"'Fixed inputs'!AD107","v":0},{"$f":"'Fixed inputs'!AE107","v":0},{"$f":"'Fixed inputs'!AF107","v":0},{"$f":"'Fixed inputs'!AG107","v":0},{"$f":"'Fixed inputs'!AH107","v":0},{"$f":"'Fixed inputs'!AI107","v":0},{"$f":"'Fixed inputs'!AJ107","v":0},{"$f":"'Fixed inputs'!AK107","v":0},{"$f":"'Fixed inputs'!AL107","v":0},{"$f":"'Fixed inputs'!AM107","v":0},{"$f":"'Fixed inputs'!AN107","v":0},{"$f":"'Fixed inputs'!AO107","v":0},{"$f":"'Fixed inputs'!AP107","v":0}]
[null,null,null,null,null,"Override MPAN discount rate","%",null,null,{"$f":"'Fixed inputs'!J111","v":0},{"$f":"'Fixed inputs'!K111","v":0},{"$f":"'Fixed inputs'!L111","v":0},{"$f":"'Fixed inputs'!M111","v":0},{"$f":"'Fixed inputs'!N111","v":0},{"$f":"'Fixed inputs'!O111","v":0},{"$f":"'Fixed inputs'!P111","v":0},{"$f":"'Fixed inputs'!Q111","v":0},{"$f":"'Fixed inputs'!R111","v":0},{"$f":"'Fixed inputs'!S111","v":0},{"$f":"'Fixed inputs'!T111","v":0},{"$f":"'Fixed inputs'!U111","v":0},{"$f":"'Fixed inputs'!V111","v":0},{"$f":"'Fixed inputs'!W111","v":0},{"$f":"'Fixed inputs'!X111","v":0},{"$f":"'Fixed inputs'!Y111","v":0},{"$f":"'Fixed inputs'!Z111","v":0},{"$f":"'Fixed inputs'!AA111","v":0},{"$f":"'Fixed inputs'!AB111","v":0},{"$f":"'Fixed inputs'!AC111","v":1},{"$f":"'Fixed inputs'!AD111","v":1},{"$f":"'Fixed inputs'!AE111","v":1},{"$f":"'Fixed inputs'!AF111","v":1},{"$f":"'Fixed inputs'!AG111","v":1},{"$f":"'Fixed inputs'!AH111","v":1},{"$f":"'Fixed inputs'!AI111","v":1},{"$f":"'Fixed inputs'!AJ111","v":1},{"$f":"'Fixed inputs'!AK111","v":1},{"$f":"'Fixed inputs'!AL111","v":1},{"$f":"'Fixed inputs'!AM111","v":1},{"$f":"'Fixed inputs'!AN111","v":1},{"$f":"'Fixed inputs'!AO111","v":1},{"$f":"'Fixed inputs'!AP111","v":1}]
[null,null,null,null,null,"Override import capacity discount rate","%",null,null,{"$f":"'Fixed inputs'!J115","v":0},{"$f":"'Fixed inputs'!K115","v":0},{"$f":"'Fixed inputs'!L115","v":0},{"$f":"'Fixed inputs'!M115","v":0},{"$f":"'Fixed inputs'!N115","v":0},{"$f":"'Fixed inputs'!O115","v":0},{"$f":"'Fixed inputs'!P115","v":0},{"$f":"'Fixed inputs'!Q115","v":0},{"$f":"'Fixed inputs'!R115","v":0},{"$f":"'Fixed inputs'!S115","v":0},{"$f":"'Fixed inputs'!T115","v":0},{"$f":"'Fixed inputs'!U115","v":0},{"$f":"'Fixed inputs'!V115","v":0},{"$f":"'Fixed inputs'!W115","v":0},{"$f":"'Fixed inputs'!X115","v":0},{"$f":"'Fixed inputs'!Y115","v":0},{"$f":"'Fixed inputs'!Z115","v":0},{"$f":"'Fixed inputs'!AA115","v":0},{"$f":"'Fixed inputs'!AB115","v":0},{"$f":"'Fixed inputs'!AC115","v":0},{"$f":"'Fixed inputs'!AD115","v":0},{"$f":"'Fixed inputs'!AE115","v":0},{"$f":"'Fixed inputs'!AF115","v":0},{"$f":"'Fixed inputs'!AG115","v":0},{"$f":"'Fixed inputs'!AH115","v":0},{"$f":"'Fixed inputs'!AI115","v":0},{"$f":"'Fixed inputs'!AJ115","v":0},{"$f":"'Fixed inputs'!AK115","v":0},{"$f":"'Fixed inputs'!AL115","v":0},{"$f":"'Fixed inputs'!AM115","v":0},{"$f":"'Fixed inputs'!AN115","v":0},{"$f":"'Fixed inputs'!AO115","v":0},{"$f":"'Fixed inputs'!AP115","v":0}]
[null,null,null,null,null,"Override exceeded capacity discount rate","%",null,null,{"$f":"'Fixed inputs'!J119","v":0},{"$f":"'Fixed inputs'!K119","v":0},{"$f":"'Fixed inputs'!L119","v":0},{"$f":"'Fixed inputs'!M119","v":0},{"$f":"'Fixed inputs'!N119","v":0},{"$f":"'Fixed inputs'!O119","v":0},{"$f":"'Fixed inputs'!P119","v":0},{"$f":"'Fixed inputs'!Q119","v":0},{"$f":"'Fixed inputs'!R119","v":0},{"$f":"'Fixed inputs'!S119","v":0},{"$f":"'Fixed inputs'!T119","v":0},{"$f":"'Fixed inputs'!U119","v":0},{"$f":"'Fixed inputs'!V119","v":0},{"$f":"'Fixed inputs'!W119","v":0},{"$f":"'Fixed inputs'!X119","v":0},{"$f":"'Fixed inputs'!Y119","v":0},{"$f":"'Fixed inputs'!Z119","v":0},{"$f":"'Fixed inputs'!AA119","v":0},{"$f":"'Fixed inputs'!AB119","v":0},{"$f":"'Fixed inputs'!AC119","v":0},{"$f":"'Fixed inputs'!AD119","v":0},{"$f":"'Fixed inputs'!AE119","v":0},{"$f":"'Fixed inputs'!AF119","v":0},{"$f":"'Fixed inputs'!AG119","v":0},{"$f":"'Fixed inputs'!AH119","v":0},{"$f":"'Fixed inputs'!AI119","v":0},{"$f":"'Fixed inputs'!AJ119","v":0},{"$f":"'Fixed inputs'!AK119","v":0},{"$f":"'Fixed inputs'!AL119","v":0},{"$f":"'Fixed inputs'!AM119","v":0},{"$f":"'Fixed inputs'!AN119","v":0},{"$f":"'Fixed inputs'!AO119","v":0},{"$f":"'Fixed inputs'!AP119","v":0}]
[null,null,null,null,null,"Override reactive power units discount rate","%",null,null,{"$f":"'Fixed inputs'!J123","v":0},{"$f":"'Fixed inputs'!K123","v":0},{"$f":"'Fixed inputs'!L123","v":0},{"$f":"'Fixed inputs'!M123","v":0},{"$f":"'Fixed inputs'!N123","v":0},{"$f":"'Fixed inputs'!O123","v":0},{"$f":"'Fixed inputs'!P123","v":0},{"$f":"'Fixed inputs'!Q123","v":0},{"$f":"'Fixed inputs'!R123","v":0},{"$f":"'Fixed inputs'!S123","v":0},{"$f":"'Fixed inputs'!T123","v":0},{"$f":"'Fixed inputs'!U123","v":0},{"$f":"'Fixed inputs'!V123","v":0},{"$f":"'Fixed inputs'!W123","v":0},{"$f":"'Fixed inputs'!X123","v":0},{"$f":"'Fixed inputs'!Y123","v":0},{"$f":"'Fixed inputs'!Z123","v":0},{"$f":"'Fixed inputs'!AA123","v":0},{"$f":"'Fixed inputs'!AB123","v":0},{"$f":"'Fixed inputs'!AC123","v":0},{"$f":"'Fixed inputs'!AD123","v":0},{"$f":"'Fixed inputs'!AE123","v":0},{"$f":"'Fixed inputs'!AF123","v":0},{"$f":"'Fixed inputs'!AG123","v":0},{"$f":"'Fixed inputs'!AH123","v":0},{"$f":"'Fixed inputs'!AI123","v":0},{"$f":"'Fixed inputs'!AJ123","v":0},{"$f":"'Fixed inputs'!AK123","v":0},{"$f":"'Fixed inputs'!AL123","v":0},{"$f":"'Fixed inputs'!AM123","v":0},{"$f":"'Fixed inputs'!AN123","v":0},{"$f":"'Fixed inputs'!AO123","v":0},{"$f":"'Fixed inputs'!AP123","v":0}]
[]
[null,"Volume discounting"]
[]
[null,null,"Applies LDNO discounts and aggregates with volumes from all the way customers"]
[]
[null,null,{"$f":"INDEX('Version control'!$H$34:$H$59,MATCH($A$1,'Version control'!$F$34:$F$59,0),1)&\"-B: Volume discounting\"","v":"Section 507-B: Volume discounting"}]
[]
[null,null,null,null,"Unit rate 1",null,null,null,">",null,null,null,null,null,null,null,null,null,null,null,null,null,null,null,null,null,null,null,null,null,null,null,null,null,null,null,null,null,null,null,null,null,null,"Paragraph 53"]
[]
[null,null,null,null,null,"All the way customers","MWh",null,null,{"$f":"'Inputs by customer type'!J24","v":3087807.9823275143},{"$f":"'Inputs by customer type'!K24","v":145068.0178269053},{"$f":"'Inputs by customer type'!L24","v":2140.1103146035571},{"$f":"'Inputs by customer type'!M24","v":807524.13000493601},{"$f":"'Inputs by customer type'!N24","v":199376.72592817293},{"$f":"'Inputs by customer type'!O24","v":1578.3141159411171},{"$f":"'Inputs by customer type'!P24","v":13881.263349596087},{"$f":"'Inputs by customer type'!Q24","v":5.8625576095223545E-8},{"$f":"'Inputs by customer type'!R24","v":62.538955055444347},{"$f":"'Inputs by customer type'!S24","v":548.49662568994881},{"$f":"'Inputs by customer type'!T24","v":11567.475069845634},{"$f":"'Inputs by customer type'!U24","v":122794.82149659049},{"$f":"'Inputs by customer type'!V24","v":6459.7972719174722},{"$f":"'Inputs by customer type'!W24","v":146461.36308182811},{"$f":"'Inputs by customer type'!X24","v":2064.7386639344641},{"$f":"'Inputs by customer type'!Y24","v":5191.6019194014716},{"$f":"'Inputs by customer type'!Z24","v":288.93022950400001},{"$f":"'Inputs by customer type'!AA24","v":0},{"$f":"'Inputs by customer type'!AB24","v":4786.1918698977543},{"$f":"'Inputs by customer type'!AC24","v":1535.125},{"$f":"'Inputs by customer type'!AD24","v":0},{"$f":"'Inputs by customer type'!AE24","v":31104.631228000009},{"$f":"'Inputs by customer type'!AF24","v":0},{"$f":"'Inputs by customer type'!AG24","v":184.69947550370838},{"$f":"'Inputs by customer type'!AH24","v":0},{"$f":"'Inputs by customer type'!AI24","v":807.10811500000023},{"$f":"'Inputs by customer type'!AJ24","v":0},{"$f":"'Inputs by customer type'!AK24","v":36.59019120255607},{"$f":"'Inputs by customer type'!AL24","v":0},{"$f":"'Inputs by customer type'!AM24","v":314604.16542500001},{"$f":"'Inputs by customer type'!AN24","v":0},{"$f":"'Inputs by customer type'!AO24","v":30630.476100086526},{"$f":"'Inputs by customer type'!AP24","v":0}]
[null,null,null,null,null,"LDNO LV","MWh",null,null,{"$f":"'Inputs by customer type'!J33","v":3801.6436730332721},{"$f":"'Inputs by customer type'!K33","v":66.789153280354185},{"$f":"'Inputs by customer type'!L33","v":0},{"$f":"'Inputs by customer type'!M33","v":90.609526280157723},{"$f":"'Inputs by customer type'!N33","v":0},{"$f":"'Inputs by customer type'!O33","v":0},{"$f":"'Inputs by customer type'!P33","v":0},{"$f":"'Inputs by customer type'!Q33","v":0},{"$f":"'Inputs by customer type'!R33","v":0},{"$f":"'Inputs by customer type'!S33","v":0},{"$f":"'Inputs by customer type'!T33","v":0},{"$f":"'Inputs by customer type'!U33","v":33.757735705319291},{"$f":"'Inputs by customer type'!V33","v":0},{"$f":"'Inputs by customer type'!W33","v":0},{"$f":"'Inputs by customer type'!X33","v":137.6265837801335},{"$f":"'Inputs by customer type'!Y33","v":6.9392159772526094},{"$f":"'Inputs by customer type'!Z33","v":0},{"$f":"'Inputs by customer type'!AA33","v":0},{"$f":"'Inputs by customer type'!AB33","v":0},{"$f":"'Inputs by customer type'!AC33","v":0},{"$f":"'Inputs by customer type'!AD33","v":0},{"$f":"'Inputs by customer type'!AE33","v":0},{"$f":"'Inputs by customer type'!AF33","v":0},{"$f":"'Inputs by customer type'!AG33","v":0},{"$f":"'Inputs by customer type'!AH33","v":0},{"$f":"'Inputs by customer type'!AI33","v":0},{"$f":"'Inputs by customer type'!AJ33","v":0},{"$f":"'Inputs by customer type'!AK33","v":0},{"$f":"'Inputs by customer type'!AL33","v":0},{"$f":"'Inputs by customer type'!AM33","v":0},{"$f":"'Inputs by customer type'!AN33","v":0},{"$f":"'Inputs by customer type'!AO33","v":0},{"$f":"'Inputs by customer type'!AP33","v":0}]
[null,null,null,null,null,"LDNO HV","MWh",null,null,{"$f":"'Inputs by customer type'!J42","v":24564.19531178429},{"$f":"'Inputs by customer type'!K42","v":464.41594899914463},{"$f":"'Inputs by customer type'!L42","v":0},{"$f":"'Inputs by customer type'!M42","v":4129.8139227018964},{"$f":"'Inputs by customer type'!N42","v":942.61527578815037},{"$f":"'Inputs by customer type'!O42","v":0},{"$f":"'Inputs by customer type'!P42","v":88.743550193145808},{"$f":"'Inputs by customer type'!Q42","v":0},{"$f":"'Inputs by customer type'!R42","v":0},{"$f":"'Inputs by customer type'!S42","v":0.81137778452211873},{"$f":"'Inputs by customer type'!T42","v":65.635549277321076},{"$f":"'Inputs by customer type'!U42","v":5542.6185653095554},{"$f":"'Inputs by customer type'!V42","v":571.13883890710281},{"$f":"'Inputs by customer type'!W42","v":512.07009985423906},{"$f":"'Inputs by customer type'!X42","v":10.445584564800001},{"$f":"'Inputs by customer type'!Y42","v":137.93130276599518},{"$f":"'Inputs by customer type'!Z42","v":0},{"$f":"'Inputs by customer type'!AA42","v":0},{"$f":"'Inputs by customer type'!AB42","v":0},{"$f":"'Inputs by customer type'!AC42","v":0},{"$f":"'Inputs by customer type'!AD42","v":0},{"$f":"'Inputs by customer type'!AE42","v":305.36005342499999},{"$f":"'Inputs by customer type'!AF42","v":0},{"$f":"'Inputs by customer type'!AG42","v":0},{"$f":"'Inputs by customer type'!AH42","v":0},{"$f":"'Inputs by customer type'!AI42","v":0},{"$f":"'Inputs by customer type'!AJ42","v":0},{"$f":"'Inputs by customer type'!AK42","v":0},{"$f":"'Inputs by customer type'!AL42","v":0},{"$f":"'Inputs by customer type'!AM42","v":0},{"$f":"'Inputs by customer type'!AN42","v":0},{"$f":"'Inputs by customer type'!AO42","v":0},{"$f":"'Inputs by customer type'!AP42","v":0}]
[null,null,null,null,null,"LDNO LV discount rate applied","%",null,null,{"$f":"IF(J$39, J$45, J$34)","v":0.32721850432250099},0.32721850432250099,0.32721850432250099,0.32721850432250099,0.32721850432250099,0.32721850432250099,0.32721850432250099,0,0,0.32721850432250099,0.32721850432250099,0.32721850432250099,0,0,0.32721850432250099,0.32721850432250099,0.32721850432250099,0.32721850432250099,0.32721850432250099,0,0,0,0,0,0,0,0,0,0,0,0,0,0]
[null,null,null,null,null,"LDNO HV discount rate applied","%",null,null,{"$f":"IF(J$39, J$45, J$35)","v":0.61947521099660174},0.61947521099660174,0.61947521099660174,0.61947521099660174,0.61947521099660174,0.61947521099660174,0.61947521099660174,0,0,0.61947521099660174,0.61947521099660174,0.61947521099660174,0.41493783028785863,0.29542429060126774,0.61947521099660174,0.61947521099660174,0.61947521099660174,0.61947521099660174,0.61947521099660174,0,0,0,0,0,0,0,0,0,0,0,0,0,0]
[null,null,null,null,null,"LDNO LV, discounted","MWh",null,null,{"$f":"J60 * (1 - J62)","v":2557.6755163762259},44.934506438990425,0,60.960412613394169,0,0,0,0,0,0,0,22.711579918510424,0,0,92.592618880582847,4.6685761040052087,0,0,0,0,0,0,0,0,0,0,0,0,0,0,0,0,0]
[null,null,null,null,null,"LDNO HV, discounted","MWh",null,null,{"$f":"J61 * (1 - J63)","v":9347.2852380549812},176.72178100271248,0,1571.4965715594356,358.68847893066595,0,33.769120712659294,0,0,0.30874936025732397,24.975953539874752,2109.1037600907366,334.1517282978628,360.79215386668017,3.9748038625376738,52.486279881994157,0,0,0,0,0,305.36005342499999,0,0,0,0,0,0,0,0,0,0,0]
[null,null,null,null,null,"Total after discounting","MWh",null,null,{"$f":"J59 + J64 + J65","v":3099712.9430819456},145289.674114347,2140.1103146035571,809156.58698910882,199735.41440710361,1578.3141159411171,13915.032470308746,5.8625576095223545E-8,62.538955055444347,548.80537505020618,11592.451023385509,124926.63683659973,6793.9490002153352,146822.15523569478,2161.3060866775845,5248.756775387471,288.93022950400001,0,4786.1918698977543,1535.125,0,31409.991281425009,0,184.69947550370838,0,807.10811500000023,0,36.59019120255607,0,314604.16542500001,0,30630.476100086526,0]
[]
[null,null,null,null,"Unit rate 2",null,null,null,">",null,null,null,null,null,null,null,null,null,null,null,null,null,null,null,null,null,null,null,null,null,null,null,null,null,null,null,null,null,null,null,null,null,null,"Paragraph 53"]
[]
[null,null,null,null,null,"All the way customers","MWh",null,null,{"$f":"'Inputs by customer type'!J25","v":0},{"$f":"'Inputs by customer type'!K25","v":121139.40676462813},{"$f":"'Inputs by customer type'!L25","v":0},{"$f":"'Inputs by customer type'!M25","v":0},{"$f":"'Inputs by customer type'!N25","v":84177.001775695535},{"$f":"'Inputs by customer type'!O25","v":0},{"$f":"'Inputs by customer type'!P25","v":4240.791385004045},{"$f":"'Inputs by customer type'!Q25","v":1.7910389838743126E-8},{"$f":"'Inputs by customer type'!R25","v":25.753194800564419},{"$f":"'Inputs by customer type'!S25","v":2703.7423272662454},{"$f":"'Inputs by customer type'!T25","v":78199.431178665909},{"$f":"'Inputs by customer type'!U25","v":780163.65778957237},{"$f":"'Inputs by customer type'!V25","v":39047.547510153854},{"$f":"'Inputs by customer type'!W25","v":893163.9883989041},{"$f":"'Inputs by customer type'!X25","v":0},{"$f":"'Inputs by customer type'!Y25","v":0},{"$f":"'Inputs by customer type'!Z25","v":0},{"$f":"'Inputs by customer type'!AA25","v":0},{"$f":"'Inputs by customer type'!AB25","v":31263.847920010572},{"$f":"'Inputs by customer type'!AC25","v":0},{"$f":"'Inputs by customer type'!AD25","v":0},{"$f":"'Inputs by customer type'!AE25","v":0},{"$f":"'Inputs by customer type'!AF25","v":0},{"$f":"'Inputs by customer type'!AG25","v":1185.0893640362958},{"$f":"'Inputs by customer type'!AH25","v":0},{"$f":"'Inputs by customer type'!AI25","v":0},{"$f":"'Inputs by customer type'!AJ25","v":0},{"$f":"'Inputs by customer type'!AK25","v":148.04789377289072},{"$f":"'Inputs by customer type'!AL25","v":0},{"$f":"'Inputs by customer type'!AM25","v":0},{"$f":"'Inputs by customer type'!AN25","v":0},{"$f":"'Inputs by customer type'!AO25","v":70350.709153135162},{"$f":"'Inputs by customer type'!AP25","v":0}]
[null,null,null,null,null,"LDNO LV","MWh",null,null,{"$f":"'Inputs by customer type'!J34","v":0},{"$f":"'Inputs by customer type'!K34","v":18.210955250642108},{"$f":"'Inputs by customer type'!L34","v":0},{"$f":"'Inputs by customer type'!M34","v":0},{"$f":"'Inputs by customer type'!N34","v":0},{"$f":"'Inputs by customer type'!O34","v":0},{"$f":"'Inputs by customer type'!P34","v":0},{"$f":"'Inputs by customer type'!Q34","v":0},{"$f":"'Inputs by customer type'!R34","v":0},{"$f":"'Inputs by customer type'!S34","v":0},{"$f":"'Inputs by customer type'!T34","v":0},{"$f":"'Inputs by customer type'!U34","v":226.96905231533046},{"$f":"'Inputs by customer type'!V34","v":0},{"$f":"'Inputs by customer type'!W34","v":0},{"$f":"'Inputs by customer type'!X34","v":0},{"$f":"'Inputs by customer type'!Y34","v":0},{"$f":"'Inputs by customer type'!Z34","v":0},{"$f":"'Inputs by customer type'!AA34","v":0},{"$f":"'Inputs by customer type'!AB34","v":0},{"$f":"'Inputs by customer type'!AC34","v":0},{"$f":"'Inputs by customer type'!AD34","v":0},{"$f":"'Inputs by customer type'!AE34","v":0},{"$f":"'Inputs by customer type'!AF34","v":0},{"$f":"'Inputs by customer type'!AG34","v":0},{"$f":"'Inputs by customer type'!AH34","v":0},{"$f":"'Inputs by customer type'!AI34","v":0},{"$f":"'Inputs by customer type'!AJ34","v":0},{"$f":"'Inputs by customer type'!AK34","v":0},{"$f":"'Inputs by customer type'!AL34","v":0},{"$f":"'Inputs by customer type'!AM34","v":0},{"$f":"'Inputs by customer type'!AN34","v":0},{"$f":"'Inputs by customer type'!AO34","v":0},{"$f":"'Inputs by customer type'!AP34","v":0}]
[null,null,null,null,null,"LDNO HV","MWh",null,null,{"$f":"'Inputs by customer type'!J43","v":0},{"$f":"'Inputs by customer type'!K43","v":292.2251926548891},{"$f":"'Inputs by customer type'!L43","v":0},{"$f":"'Inputs by customer type'!M43","v":0},{"$f":"'Inputs by customer type'!N43","v":180.18950954978536},{"$f":"'Inputs by customer type'!O43","v":0},{"$f":"'Inputs by customer type'!P43","v":26.469039248688965},{"$f":"'Inputs by customer type'!Q43","v":0},{"$f":"'Inputs by customer type'!R43","v":0},{"$f":"'Inputs by customer type'!S43","v":3.875884997935704},{"$f":"'Inputs by customer type'!T43","v":311.91409432517804},{"$f":"'Inputs by customer type'!U43","v":30314.078988702819},{"$f":"'Inputs by customer type'!V43","v":2987.3187525304593},{"$f":"'Inputs by customer type'!W43","v":2994.9222426084402},{"$f":"'Inputs by customer type'!X43","v":0},{"$f":"'Inputs by customer type'!Y43","v":0},{"$f":"'Inputs by customer type'!Z43","v":0},{"$f":"'Inputs by customer type'!AA43","v":0},{"$f":"'Inputs by customer type'!AB43","v":0},{"$f":"'Inputs by customer type'!AC43","v":0},{"$f":"'Inputs by customer type'!AD43","v":0},{"$f":"'Inputs by customer type'!AE43","v":0},{"$f":"'Inputs by customer type'!AF43","v":0},{"$f":"'Inputs by customer type'!AG43","v":0},{"$f":"'Inputs by customer type'!AH43","v":0},{"$f":"'Inputs by customer type'!AI43","v":0},{"$f":"'Inputs by customer type'!AJ43","v":0},{"$f":"'Inputs by customer type'!AK43","v":0},{"$f":"'Inputs by customer type'!AL43","v":0},{"$f":"'Inputs by customer type'!AM43","v":0},{"$f":"'Inputs by customer type'!AN43","v":0},{"$f":"'Inputs by customer type'!AO43","v":0},{"$f":"'Inputs by customer type'!AP43","v":0}]
[null,null,null,null,null,"LDNO LV discount rate applied","%",null,null,{"$f":"IF(J$39, J$45, J$34)","v":0.32721850432250099},0.32721850432250099,0.32721850432250099,0.32721850432250099,0.32721850432250099,0.32721850432250099,0.32721850432250099,0,0,0.32721850432250099,0.32721850432250099,0.32721850432250099,0,0,0.32721850432250099,0.32721850432250099,0.32721850432250099,0.32721850432250099,0.32721850432250099,0,0,0,0,0,0,0,0,0,0,0,0,0,0]
[null,null,null,null,null,"LDNO HV discount rate applied","%",null,null,{"$f":"IF(J$39, J$45, J$35)","v":0.61947521099660174},0.61947521099660174,0.61947521099660174,0.61947521099660174,0.61947521099660174,0.61947521099660174,0.61947521099660174,0,0,0.61947521099660174,0.61947521099660174,0.61947521099660174,0.41493783028785863,0.29542429060126774,0.61947521099660174,0.61947521099660174,0.61947521099660174,0.61947521099660174,0.61947521099660174,0,0,0,0,0,0,0,0,0,0,0,0,0,0]
[null,null,null,null,null,"LDNO LV, discounted","MWh",null,null,{"$f":"J71 * (1 - J73)","v":0},12.251993711243001,0,0,0,0,0,0,0,0,0,152.70057848921255,0,0,0,0,0,0,0,0,0,0,0,0,0,0,0,0,0,0,0,0,0]
[null,null,null,null,null,"LDNO HV, discounted","MWh",null,null,{"$f":"J72 * (1 - J74)","v":0},111.19892977647908,0,0,68.566575102057882,0,10.072125575230036,0,0,1.4748703210409204,118.69104493027443,11535.258511008489,1747.7671909772382,2110.1494636798839,0,0,0,0,0,0,0,0,0,0,0,0,0,0,0,0,0,0,0]
[null,null,null,null,null,"Total after discounting","MWh",null,null,{"$f":"J70 + J75 + J76","v":0},121262.85768811585,0,0,84245.568350797592,0,4250.8635105792746,1.7910389838743126E-8,25.753194800564419,2705.2171975872861,78318.12222359619,791851.61687907006,40795.314701131094,895274.13786258397,0,0,0,0,31263.847920010572,0,0,0,0,1185.0893640362958,0,0,0,148.04789377289072,0,0,0,70350.709153135162,0]
[]
[null,null,null,null,"Unit rate 3",null,null,null,">",null,null,null,null,null,null,null,null,null,null,null,null,null,null,null,null,null,null,null,null,null,null,null,null,null,null,null,null,null,null,null,null,null,null,"Paragraph 53"]
[]
[null,null,null,null,null,"All the way customers","MWh",null,null,{"$f":"'Inputs by customer type'!J26","v":0},{"$f":"'Inputs by customer type'!K26","v":0},{"$f":"'Inputs by customer type'!L26","v":0},{"$f":"'Inputs by customer type'!M26","v":0},{"$f":"'Inputs by customer type'!N26","v":0},{"$f":"'Inputs by customer type'!O26","v":0},{"$f":"'Inputs by customer type'!P26","v":0},{"$f":"'Inputs by customer type'!Q26","v":0},{"$f":"'Inputs by customer type'!R26","v":0},{"$f":"'Inputs by customer type'!S26","v":2374.0081488820574},{"$f":"'Inputs by customer type'!T26","v":56207.019243093069},{"$f":"'Inputs by customer type'!U26","v":583197.68554353598},{"$f":"'Inputs by customer type'!V26","v":34152.977309556263},{"$f":"'Inputs by customer type'!W26","v":847048.91196364374},{"$f":"'Inputs by customer type'!X26","v":0},{"$f":"'Inputs by customer type'!Y26","v":0},{"$f":"'Inputs by customer type'!Z26","v":0},{"$f":"'Inputs by customer type'!AA26","v":0},{"$f":"'Inputs by customer type'!AB26","v":73749.776463945847},{"$f":"'Inputs by customer type'!AC26","v":0},{"$f":"'Inputs by customer type'!AD26","v":0},{"$f":"'Inputs by customer type'!AE26","v":0},{"$f":"'Inputs by customer type'!AF26","v":0},{"$f":"'Inputs by customer type'!AG26","v":1145.5607796251077},{"$f":"'Inputs by customer type'!AH26","v":0},{"$f":"'Inputs by customer type'!AI26","v":0},{"$f":"'Inputs by customer type'!AJ26","v":0},{"$f":"'Inputs by customer type'!AK26","v":149.37121031591738},{"$f":"'Inputs by customer type'!AL26","v":0},{"$f":"'Inputs by customer type'!AM26","v":0},{"$f":"'Inputs by customer type'!AN26","v":0},{"$f":"'Inputs by customer type'!AO26","v":57893.659515242049},{"$f":"'Inputs by customer type'!AP26","v":0}]
[null,null,null,null,null,"LDNO LV","MWh",null,null,{"$f":"'Inputs by customer type'!J35","v":0},{"$f":"'Inputs by customer type'!K35","v":0},{"$f":"'Inputs by customer type'!L35","v":0},{"$f":"'Inputs by customer type'!M35","v":0},{"$f":"'Inputs by customer type'!N35","v":0},{"$f":"'Inputs by customer type'!O35","v":0},{"$f":"'Inputs by customer type'!P35","v":0},{"$f":"'Inputs by customer type'!Q35","v":0},{"$f":"'Inputs by customer type'!R35","v":0},{"$f":"'Inputs by customer type'!S35","v":0},{"$f":"'Inputs by customer type'!T35","v":0},{"$f":"'Inputs by customer type'!U35","v":160.07919109496191},{"$f":"'Inputs by customer type'!V35","v":0},{"$f":"'Inputs by customer type'!W35","v":0},{"$f":"'Inputs by customer type'!X35","v":0},{"$f":"'Inputs by customer type'!Y35","v":0},{"$f":"'Inputs by customer type'!Z35","v":0},{"$f":"'Inputs by customer type'!AA35","v":0},{"$f":"'Inputs by customer type'!AB35","v":0},{"$f":"'Inputs by customer type'!AC35","v":0},{"$f":"'Inputs by customer type'!AD35","v":0},{"$f":"'Inputs by customer type'!AE35","v":0},{"$f":"'Inputs by customer type'!AF35","v":0},{"$f":"'Inputs by customer type'!AG35","v":0},{"$f":"'Inputs by customer type'!AH35","v":0},{"$f":"'Inputs by customer type'!AI35","v":0},{"$f":"'Inputs by customer type'!AJ35","v":0},{"$f":"'Inputs by customer type'!AK35","v":0},{"$f":"'Inputs by customer type'!AL35","v":0},{"$f":"'Inputs by customer type'!AM35","v":0},{"$f":"'Inputs by customer type'!AN35","v":0},{"$f":"'Inputs by customer type'!AO35","v":0},{"$f":"'Inputs by customer type'!AP35","v":0}]
[null,null,null,null,null,"LDNO HV","MWh",null,null,{"$f":"'Inputs by customer type'!J44","v":0},{"$f":"'Inputs by customer type'!K44","v":0},{"$f":"'Inputs by customer type'!L44","v":0},{"$f":"'Inputs by customer type'!M44","v":0},{"$f":"'Inputs by customer type'!N44","v":0},{"$f":"'Inputs by customer type'!O44","v":0},{"$f":"'Inputs by customer type'!P44","v":0},{"$f":"'Inputs by customer type'!Q44","v":0},{"$f":"'Inputs by customer type'!R44","v":0},{"$f":"'Inputs by customer type'!S44","v":3.3576720164119211},{"$f":"'Inputs by customer type'!T44","v":164.82166790265748},{"$f":"'Inputs by customer type'!U44","v":27506.219085053363},{"$f":"'Inputs by customer type'!V44","v":2627.1066638693223},{"$f":"'Inputs by customer type'!W44","v":2328.4884555701974},{"$f":"'Inputs by customer type'!X44","v":0},{"$f":"'Inputs by customer type'!Y44","v":0},{"$f":"'Inputs by customer type'!Z44","v":0},{"$f":"'Inputs by customer type'!AA44","v":0},{"$f":"'Inputs by customer type'!AB44","v":0},{"$f":"'Inputs by customer type'!AC44","v":0},{"$f":"'Inputs by customer type'!AD44","v":0},{"$f":"'Inputs by customer type'!AE44","v":0},{"$f":"'Inputs by customer type'!AF44","v":0},{"$f":"'Inputs by customer type'!AG44","v":0},{"$f":"'Inputs by customer type'!AH44","v":0},{"$f":"'Inputs by customer type'!AI44","v":0},{"$f":"'Inputs by customer type'!AJ44","v":0},{"$f":"'Inputs by customer type'!AK44","v":0},{"$f":"'Inputs by customer type'!AL44","v":0},{"$f":"'Inputs by customer type'!AM44","v":0},{"$f":"'Inputs by customer type'!AN44","v":0},{"$f":"'Inputs by customer type'!AO44","v":0},{"$f":"'Inputs by customer type'!AP44","v":0}]
[null,null,null,null,null,"LDNO LV discount rate applied","%",null,null,{"$f":"IF(J$39, J$45, J$34)","v":0.32721850432250099},0.32721850432250099,0.32721850432250099,0.32721850432250099,0.32721850432250099,0.32721850432250099,0.32721850432250099,0,0,0.32721850432250099,0.32721850432250099,0.32721850432250099,0,0,0.32721850432250099,0.32721850432250099,0.32721850432250099,0.32721850432250099,0.32721850432250099,0,0,0,0,0,0,0,0,0,0,0,0,0,0]
[null,null,null,null,null,"LDNO HV discount rate applied","%",null,null,{"$f":"IF(J$39, J$45, J$35)","v":0.61947521099660174},0.61947521099660174,0.61947521099660174,0.61947521099660174,0.61947521099660174,0.61947521099660174,0.61947521099660174,0,0,0.61947521099660174,0.61947521099660174,0.61947521099660174,0.41493783028785863,0.29542429060126774,0.61947521099660174,0.61947521099660174,0.61947521099660174,0.61947521099660174,0.61947521099660174,0,0,0,0,0,0,0,0,0,0,0,0,0,0]
[null,null,null,null,null,"LDNO LV, discounted","MWh",null,null,{"$f":"J82 * (1 - J84)","v":0},0,0,0,0,0,0,0,0,0,0,107.69831761171265,0,0,0,0,0,0,0,0,0,0,0,0,0,0,0,0,0,0,0,0,0]
[null,null,null,null,null,"LDNO HV, discounted","MWh",null,null,{"$f":"J83 * (1 - J85)","v":0},0,0,0,0,0,0,0,0,1.2776774355877611,62.718730401846919,10466.798213621178,1537.020724828611,1640.5964054101303,0,0,0,0,0,0,0,0,0,0,0,0,0,0,0,0,0,0,0]
[null,null,null,null,null,"Total after discounting","MWh",null,null,{"$f":"J81 + J86 + J87","v":0},0,0,0,0,0,0,0,0,2375.2858263176454,56269.737973494914,593772.18207476882,35689.998034384873,848689.50836905383,0,0,0,0,73749.776463945847,0,0,0,0,1145.5607796251077,0,0,0,149.37121031591738,0,0,0,57893.659515242049,0]
[]
[null,null,null,null,"Total units",null,null,null,">"]
[]
[null,null,null,null,null,"Total after discounting","MWh",null,null,{"$f":"J88 + J77 + J66","v":3099712.9430819456},266552.53180246288,2140.1103146035571,809156.58698910882,283980.98275790119,1578.3141159411171,18165.895980888021,7.6535965933966675E-8,88.292149856008763,5629.3083989551378,146180.31122047661,1510550.4357904387,83279.261735731299,1890785.8014673325,2161.3060866775845,5248.756775387471,288.93022950400001,0,109799.81625385418,1535.125,0,31409.991281425009,0,2515.349619165112,0,807.10811500000023,0,334.0092952913642,0,314604.16542500001,0,158874.84476846375,0]
[]
[null,null,null,null,"MPANs",null,null,null,">",null,null,null,null,null,null,null,null,null,null,null,null,null,null,null,null,null,null,null,null,null,null,null,null,null,null,null,null,null,null,null,null,null,null,"Paragraph 53"]
[]
[null,null,null,null,null,"All the way customers","MPANs",null,null,{"$f":"'Inputs by customer type'!J27","v":1002009.1843103382},{"$f":"'Inputs by customer type'!K27","v":49248.258600181885},{"$f":"'Inputs by customer type'!L27","v":0},{"$f":"'Inputs by customer type'!M27","v":64828.190112704251},{"$f":"'Inputs by customer type'!N27","v":13307.031217559954},{"$f":"'Inputs by customer type'!O27","v":0},{"$f":"'Inputs by customer type'!P27","v":236.77828473786286},{"$f":"'Inputs by customer type'!Q27","v":1.0000000000000001E-9},{"$f":"'Inputs by customer type'!R27","v":3.2303097041095885},{"$f":"'Inputs by customer type'!S27","v":1566.6058158904109},{"$f":"'Inputs by customer type'!T27","v":2242.4057885846305},{"$f":"'Inputs by customer type'!U27","v":6023.93882733802},{"$f":"'Inputs by customer type'!V27","v":96.625058435595633},{"$f":"'Inputs by customer type'!W27","v":817.9977558671319},{"$f":"'Inputs by customer type'!X27","v":587},{"$f":"'Inputs by customer type'!Y27","v":772},{"$f":"'Inputs by customer type'!Z27","v":87},{"$f":"'Inputs by customer type'!AA27","v":0},{"$f":"'Inputs by customer type'!AB27","v":35.345205479452055},{"$f":"'Inputs by customer type'!AC27","v":0},{"$f":"'Inputs by customer type'!AD27","v":0},{"$f":"'Inputs by customer type'!AE27","v":386.31110958904111},{"$f":"'Inputs by customer type'!AF27","v":0},{"$f":"'Inputs by customer type'!AG27","v":18.312676027397263},{"$f":"'Inputs by customer type'!AH27","v":0},{"$f":"'Inputs by customer type'!AI27","v":6.5165732876712346},{"$f":"'Inputs by customer type'!AJ27","v":0},{"$f":"'Inputs by customer type'!AK27","v":2.7530136986301375},{"$f":"'Inputs by customer type'!AL27","v":0},{"$f":"'Inputs by customer type'!AM27","v":158.62326986301375},{"$f":"'Inputs by customer type'!AN27","v":0},{"$f":"'Inputs by customer type'!AO27","v":46.144759931506854},{"$f":"'Inputs by customer type'!AP27","v":0}]
[null,null,null,null,null,"LDNO LV","MPANs",null,null,{"$f":"'Inputs by customer type'!J36","v":1401.7154794520548},{"$f":"'Inputs by customer type'!K36","v":31.396179452054799},{"$f":"'Inputs by customer type'!L36","v":0},{"$f":"'Inputs by customer type'!M36","v":6.9593424657534246},{"$f":"'Inputs by customer type'!N36","v":0},{"$f":"'Inputs by customer type'!O36","v":0},{"$f":"'Inputs by customer type'!P36","v":0},{"$f":"'Inputs by customer type'!Q36","v":0},{"$f":"'Inputs by customer type'!R36","v":0},{"$f":"'Inputs by customer type'!S36","v":0},{"$f":"'Inputs by customer type'!T36","v":0},{"$f":"'Inputs by customer type'!U36","v":2.9912486301369867},{"$f":"'Inputs by customer type'!V36","v":0},{"$f":"'Inputs by customer type'!W36","v":0},{"$f":"'Inputs by customer type'!X36","v":0},{"$f":"'Inputs by customer type'!Y36","v":0},{"$f":"'Inputs by customer type'!Z36","v":0},{"$f":"'Inputs by customer type'!AA36","v":0},{"$f":"'Inputs by customer type'!AB36","v":0},{"$f":"'Inputs by customer type'!AC36","v":0},{"$f":"'Inputs by customer type'!AD36","v":0},{"$f":"'Inputs by customer type'!AE36","v":0},{"$f":"'Inputs by customer type'!AF36","v":0},{"$f":"'Inputs by customer type'!AG36","v":0},{"$f":"'Inputs by customer type'!AH36","v":0},{"$f":"'Inputs by customer type'!AI36","v":0},{"$f":"'Inputs by customer type'!AJ36","v":0},{"$f":"'Inputs by customer type'!AK36","v":0},{"$f":"'Inputs by customer type'!AL36","v":0},{"$f":"'Inputs by customer type'!AM36","v":0},{"$f":"'Inputs by customer type'!AN36","v":0},{"$f":"'Inputs by customer type'!AO36","v":0},{"$f":"'Inputs by customer type'!AP36","v":0}]
[null,null,null,null,null,"LDNO HV","MPANs",null,null,{"$f":"'Inputs by customer type'!J45","v":9766.6696294520552},{"$f":"'Inputs by customer type'!K45","v":216.71646164383566},{"$f":"'Inputs by customer type'!L45","v":0},{"$f":"'Inputs by customer type'!M45","v":154.91151986301372},{"$f":"'Inputs by customer type'!N45","v":11.66535616438356},{"$f":"'Inputs by customer type'!O45","v":0},{"$f":"'Inputs by customer type'!P45","v":2.4327493150684933},{"$f":"'Inputs by customer type'!Q45","v":0},{"$f":"'Inputs by customer type'!R45","v":0},{"$f":"'Inputs by customer type'!S45","v":4.1562739726027402},{"$f":"'Inputs by customer type'!T45","v":5.8326780821917819},{"$f":"'Inputs by customer type'!U45","v":131.47297397260274},{"$f":"'Inputs by customer type'!V45","v":4.5631417808219181},{"$f":"'Inputs by customer type'!W45","v":6.2591794520547932},{"$f":"'Inputs by customer type'!X45","v":0},{"$f":"'Inputs by customer type'!Y45","v":0},{"$f":"'Inputs by customer type'!Z45","v":0},{"$f":"'Inputs by customer type'!AA45","v":0},{"$f":"'Inputs by customer type'!AB45","v":0},{"$f":"'Inputs by customer type'!AC45","v":0},{"$f":"'Inputs by customer type'!AD45","v":0},{"$f":"'Inputs by customer type'!AE45","v":4.2580664383561651},{"$f":"'Inputs by customer type'!AF45","v":0},{"$f":"'Inputs by customer type'!AG45","v":0},{"$f":"'Inputs by customer type'!AH45","v":0},{"$f":"'Inputs by customer type'!AI45","v":0},{"$f":"'Inputs by customer type'!AJ45","v":0},{"$f":"'Inputs by customer type'!AK45","v":0},{"$f":"'Inputs by customer type'!AL45","v":0},{"$f":"'Inputs by customer type'!AM45","v":0},{"$f":"'Inputs by customer type'!AN45","v":0},{"$f":"'Inputs by customer type'!AO45","v":0},{"$f":"'Inputs by customer type'!AP45","v":0}]
[null,null,null,null,null,"LDNO LV discount rate applied","%",null,null,{"$f":"IF(J$40, J$46, J$34)","v":0.32721850432250099},0.32721850432250099,0.32721850432250099,0.32721850432250099,0.32721850432250099,0.32721850432250099,0.32721850432250099,0,0,0.32721850432250099,0.32721850432250099,0.32721850432250099,0,0,0.32721850432250099,0.32721850432250099,0.32721850432250099,0.32721850432250099,0.32721850432250099,1,1,1,1,1,1,1,1,1,1,1,1,1,1]
[null,null,null,null,null,"LDNO HV discount rate applied","%",null,null,{"$f":"IF(J$40, J$46, J$35)","v":0.61947521099660174},0.61947521099660174,0.61947521099660174,0.61947521099660174,0.61947521099660174,0.61947521099660174,0.61947521099660174,0,0,0.61947521099660174,0.61947521099660174,0.61947521099660174,0.41493783028785863,0.29542429060126774,0.61947521099660174,0.61947521099660174,0.61947521099660174,0.61947521099660174,0.61947521099660174,1,1,1,1,1,1,1,1,1,1,1,1,1,1]
[null,null,null,null,null,"LDNO LV, discounted","MPANs",null,null,{"$f":"J97 * (1 - J99)","v":943.04823678005607},21.122768570312591,0,4.6821168330415226,0,0,0,0,0,0,0,2.0124567273268319,0,0,0,0,0,0,0,0,0,0,0,0,0,0,0,0,0,0,0,0,0]
[null,null,null,null,null,"LDNO HV, discounted","MPANs",null,null,{"$f":"J98 * (1 - J100)","v":3716.4599000131411},82.465985840583613,0,58.947673410069036,4.4389571931015457,0,0.9257214198146001,0,0,1.5815652764649737,2.2194785965507733,50.028725680573928,2.6697216309917962,4.410065802685474,0,0,0,0,0,0,0,0,0,0,0,0,0,0,0,0,0,0,0]
[null,null,null,null,null,"Total after discounting","MPANs",null,null,{"$f":"J96 + J101 + J102","v":1006668.6924471315},49351.847354592785,0,64891.819902947362,13311.470174753056,0,237.70400615767747,1.0000000000000001E-9,3.2303097041095885,1568.1873811668759,2244.6252671811812,6075.9800097459211,99.294780066587435,822.40782166981739,587,772,87,0,35.345205479452055,0,0,386.31110958904111,0,18.312676027397263,0,6.5165732876712346,0,2.7530136986301375,0,158.62326986301375,0,46.144759931506854,0]
[]
[null,null,null,null,"Import capacity",null,null,null,">",null,null,null,null,null,null,null,null,null,null,null,null,null,null,null,null,null,null,null,null,null,null,null,null,null,null,null,null,null,null,null,null,null,null,"Paragraph 53"]
[]
[null,null,null,null,null,"All the way customers","kVA",null,null,{"$f":"'Inputs by customer type'!J28","v":0},{"$f":"'Inputs by customer type'!K28","v":0},{"$f":"'Inputs by customer type'!L28","v":0},{"$f":"'Inputs by customer type'!M28","v":0},{"$f":"'Inputs by customer type'!N28","v":0},{"$f":"'Inputs by customer type'!O28","v":0},{"$f":"'Inputs by customer type'!P28","v":0},{"$f":"'Inputs by customer type'!Q28","v":0},{"$f":"'Inputs by customer type'!R28","v":0},{"$f":"'Inputs by customer type'!S28","v":0},{"$f":"'Inputs by customer type'!T28","v":0},{"$f":"'Inputs by customer type'!U28","v":752423.62048333464},{"$f":"'Inputs by customer type'!V28","v":25935.000000000004},{"$f":"'Inputs by customer type'!W28","v":658098.03008508706},{"$f":"'Inputs by customer type'!X28","v":0},{"$f":"'Inputs by customer type'!Y28","v":0},{"$f":"'Inputs by customer type'!Z28","v":0},{"$f":"'Inputs by customer type'!AA28","v":0},{"$f":"'Inputs by customer type'!AB28","v":0},{"$f":"'Inputs by customer type'!AC28","v":0},{"$f":"'Inputs by customer type'!AD28","v":0},{"$f":"'Inputs by customer type'!AE28","v":0},{"$f":"'Inputs by customer type'!AF28","v":0},{"$f":"'Inputs by customer type'!AG28","v":0},{"$f":"'Inputs by customer type'!AH28","v":0},{"$f":"'Inputs by customer type'!AI28","v":0},{"$f":"'Inputs by customer type'!AJ28","v":0},{"$f":"'Inputs by customer type'!AK28","v":0},{"$f":"'Inputs by customer type'!AL28","v":0},{"$f":"'Inputs by customer type'!AM28","v":0},{"$f":"'Inputs by customer type'!AN28","v":0},{"$f":"'Inputs by customer type'!AO28","v":0},{"$f":"'Inputs by customer type'!AP28","v":0}]
[null,null,null,null,null,"LDNO LV","kVA",null,null,{"$f":"'Inputs by customer type'!J37","v":0},{"$f":"'Inputs by customer type'!K37","v":0},{"$f":"'Inputs by customer type'!L37","v":0},{"$f":"'Inputs by customer type'!M37","v":0},{"$f":"'Inputs by customer type'!N37","v":0},{"$f":"'Inputs by customer type'!O37","v":0},{"$f":"'Inputs by customer type'!P37","v":0},{"$f":"'Inputs by customer type'!Q37","v":0},{"$f":"'Inputs by customer type'!R37","v":0},{"$f":"'Inputs by customer type'!S37","v":0},{"$f":"'Inputs by customer type'!T37","v":0},{"$f":"'Inputs by customer type'!U37","v":306.9103253424658},{"$f":"'Inputs by customer type'!V37","v":0},{"$f":"'Inputs by customer type'!W37","v":0},{"$f":"'Inputs by customer type'!X37","v":0},{"$f":"'Inputs by customer type'!Y37","v":0},{"$f":"'Inputs by customer type'!Z37","v":0},{"$f":"'Inputs by customer type'!AA37","v":0},{"$f":"'Inputs by customer type'!AB37","v":0},{"$f":"'Inputs by customer type'!AC37","v":0},{"$f":"'Inputs by customer type'!AD37","v":0},{"$f":"'Inputs by customer type'!AE37","v":0},{"$f":"'Inputs by customer type'!AF37","v":0},{"$f":"'Inputs by customer type'!AG37","v":0},{"$f":"'Inputs by customer type'!AH37","v":0},{"$f":"'Inputs by customer type'!AI37","v":0},{"$f":"'Inputs by customer type'!AJ37","v":0},{"$f":"'Inputs by customer type'!AK37","v":0},{"$f":"'Inputs by customer type'!AL37","v":0},{"$f":"'Inputs by customer type'!AM37","v":0},{"$f":"'Inputs by customer type'!AN37","v":0},{"$f":"'Inputs by customer type'!AO37","v":0},{"$f":"'Inputs by customer type'!AP37","v":0}]
[null,null,null,null,null,"LDNO HV","kVA",null,null,{"$f":"'Inputs by customer type'!J46","v":0},{"$f":"'Inputs by customer type'!K46","v":0},{"$f":"'Inputs by customer type'!L46","v":0},{"$f":"'Inputs by customer type'!M46","v":0},{"$f":"'Inputs by customer type'!N46","v":0},{"$f":"'Inputs by customer type'!O46","v":0},{"$f":"'Inputs by customer type'!P46","v":0},{"$f":"'Inputs by customer type'!Q46","v":0},{"$f":"'Inputs by customer type'!R46","v":0},{"$f":"'Inputs by customer type'!S46","v":0},{"$f":"'Inputs by customer type'!T46","v":0},{"$f":"'Inputs by customer type'!U46","v":40518.199208219179},{"$f":"'Inputs by customer type'!V46","v":3166.4392027397257},{"$f":"'Inputs by customer type'!W46","v":2548.6042438356171},{"$f":"'Inputs by customer type'!X46","v":0},{"$f":"'Inputs by customer type'!Y46","v":0},{"$f":"'Inputs by customer type'!Z46","v":0},{"$f":"'Inputs by customer type'!AA46","v":0},{"$f":"'Inputs by customer type'!AB46","v":0},{"$f":"'Inputs by customer type'!AC46","v":0},{"$f":"'Inputs by customer type'!AD46","v":0},{"$f":"'Inputs by customer type'!AE46","v":0},{"$f":"'Inputs by customer type'!AF46","v":0},{"$f":"'Inputs by customer type'!AG46","v":0},{"$f":"'Inputs by customer type'!AH46","v":0},{"$f":"'Inputs by customer type'!AI46","v":0},{"$f":"'Inputs by customer type'!AJ46","v":0},{"$f":"'Inputs by customer type'!AK46","v":0},{"$f":"'Inputs by customer type'!AL46","v":0},{"$f":"'Inputs by customer type'!AM46","v":0},{"$f":"'Inputs by customer type'!AN46","v":0},{"$f":"'Inputs by customer type'!AO46","v":0},{"$f":"'Inputs by customer type'!AP46","v":0}]
[null,null,null,null,null,"LDNO LV discount rate applied","%",null,null,{"$f":"IF(J$41, J$47, J$34)","v":0.32721850432250099},0.32721850432250099,0.32721850432250099,0.32721850432250099,0.32721850432250099,0.32721850432250099,0.32721850432250099,0,0,0.32721850432250099,0.32721850432250099,0.32721850432250099,0,0,0.32721850432250099,0.32721850432250099,0.32721850432250099,0.32721850432250099,0.32721850432250099,0,0,0,0,0,0,0,0,0,0,0,0,0,0]
[null,null,null,null,null,"LDNO HV discount rate applied","%",null,null,{"$f":"IF(J$41, J$47, J$35)","v":0.61947521099660174},0.61947521099660174,0.61947521099660174,0.61947521099660174,0.61947521099660174,0.61947521099660174,0.61947521099660174,0,0,0.61947521099660174,0.61947521099660174,0.61947521099660174,0.41493783028785863,0.29542429060126774,0.61947521099660174,0.61947521099660174,0.61947521099660174,0.61947521099660174,0.61947521099660174,0,0,0,0,0,0,0,0,0,0,0,0,0,0]
[null,null,null,null,null,"LDNO LV, discounted","kVA",null,null,{"$f":"J108 * (1 - J110)","v":0},0,0,0,0,0,0,0,0,0,0,206.48358772277197,0,0,0,0,0,0,0,0,0,0,0,0,0,0,0,0,0,0,0,0,0]
[null,null,null,null,null,"LDNO HV, discounted","kVA",null,null,{"$f":"J109 * (1 - J111)","v":0},0,0,0,0,0,0,0,0,0,0,15418.179204505261,1852.5637902164872,1795.6846430770995,0,0,0,0,0,0,0,0,0,0,0,0,0,0,0,0,0,0,0]
[null,null,null,null,null,"Total after discounting","kVA",null,null,{"$f":"J107 + J112 + J113","v":0},0,0,0,0,0,0,0,0,0,0,768048.28327556269,27787.563790216489,659893.71472816414,0,0,0,0,0,0,0,0,0,0,0,0,0,0,0,0,0,0,0]
[]
[null,null,null,null,"Exceeded capacity",null,null,null,">",null,null,null,null,null,null,null,null,null,null,null,null,null,null,null,null,null,null,null,null,null,null,null,null,null,null,null,null,null,null,null,null,null,null,"Paragraph 53"]
[]
[null,null,null,null,null,"All the way customers","kVA",null,null,{"$f":"'Inputs by customer type'!J29","v":0},{"$f":"'Inputs by customer type'!K29","v":0},{"$f":"'Inputs by customer type'!L29","v":0},{"$f":"'Inputs by customer type'!M29","v":0},{"$f":"'Inputs by customer type'!N29","v":0},{"$f":"'Inputs by customer type'!O29","v":0},{"$f":"'Inputs by customer type'!P29","v":0},{"$f":"'Inputs by customer type'!Q29","v":0},{"$f":"'Inputs by customer type'!R29","v":0},{"$f":"'Inputs by customer type'!S29","v":0},{"$f":"'Inputs by customer type'!T29","v":0},{"$f":"'Inputs by customer type'!U29","v":24014.967123287672},{"$f":"'Inputs by customer type'!V29","v":1372.9829276493151},{"$f":"'Inputs by customer type'!W29","v":19153.332046867399},{"$f":"'Inputs by customer type'!X29","v":0},{"$f":"'Inputs by customer type'!Y29","v":0},{"$f":"'Inputs by customer type'!Z29","v":0},{"$f":"'Inputs by customer type'!AA29","v":0},{"$f":"'Inputs by customer type'!AB29","v":0},{"$f":"'Inputs by customer type'!AC29","v":0},{"$f":"'Inputs by customer type'!AD29","v":0},{"$f":"'Inputs by customer type'!AE29","v":0},{"$f":"'Inputs by customer type'!AF29","v":0},{"$f":"'Inputs by customer type'!AG29","v":0},{"$f":"'Inputs by customer type'!AH29","v":0},{"$f":"'Inputs by customer type'!AI29","v":0},{"$f":"'Inputs by customer type'!AJ29","v":0},{"$f":"'Inputs by customer type'!AK29","v":0},{"$f":"'Inputs by customer type'!AL29","v":0},{"$f":"'Inputs by customer type'!AM29","v":0},{"$f":"'Inputs by customer type'!AN29","v":0},{"$f":"'Inputs by customer type'!AO29","v":0},{"$f":"'Inputs by customer type'!AP29","v":0}]
[null,null,null,null,null,"LDNO LV","kVA",null,null,{"$f":"'Inputs by customer type'!J38","v":0},{"$f":"'Inputs by customer type'!K38","v":0},{"$f":"'Inputs by customer type'!L38","v":0},{"$f":"'Inputs by customer type'!M38","v":0},{"$f":"'Inputs by customer type'!N38","v":0},{"$f":"'Inputs by customer type'!O38","v":0},{"$f":"'Inputs by customer type'!P38","v":0},{"$f":"'Inputs by customer type'!Q38","v":0},{"$f":"'Inputs by customer type'!R38","v":0},{"$f":"'Inputs by customer type'!S38","v":0},{"$f":"'Inputs by customer type'!T38","v":0},{"$f":"'Inputs by customer type'!U38","v":33.925284246575352},{"$f":"'Inputs by customer type'!V38","v":0},{"$f":"'Inputs by customer type'!W38","v":0},{"$f":"'Inputs by customer type'!X38","v":0},{"$f":"'Inputs by customer type'!Y38","v":0},{"$f":"'Inputs by customer type'!Z38","v":0},{"$f":"'Inputs by customer type'!AA38","v":0},{"$f":"'Inputs by customer type'!AB38","v":0},{"$f":"'Inputs by customer type'!AC38","v":0},{"$f":"'Inputs by customer type'!AD38","v":0},{"$f":"'Inputs by customer type'!AE38","v":0},{"$f":"'Inputs by customer type'!AF38","v":0},{"$f":"'Inputs by customer type'!AG38","v":0},{"$f":"'Inputs by customer type'!AH38","v":0},{"$f":"'Inputs by customer type'!AI38","v":0},{"$f":"'Inputs by customer type'!AJ38","v":0},{"$f":"'Inputs by customer type'!AK38","v":0},{"$f":"'Inputs by customer type'!AL38","v":0},{"$f":"'Inputs by customer type'!AM38","v":0},{"$f":"'Inputs by customer type'!AN38","v":0},{"$f":"'Inputs by customer type'!AO38","v":0},{"$f":"'Inputs by customer type'!AP38","v":0}]
[null,null,null,null,null,"LDNO HV","kVA",null,null,{"$f":"'Inputs by customer type'!J47","v":0},{"$f":"'Inputs by customer type'!K47","v":0},{"$f":"'Inputs by customer type'!L47","v":0},{"$f":"'Inputs by customer type'!M47","v":0},{"$f":"'Inputs by customer type'!N47","v":0},{"$f":"'Inputs by customer type'!O47","v":0},{"$f":"'Inputs by customer type'!P47","v":0},{"$f":"'Inputs by customer type'!Q47","v":0},{"$f":"'Inputs by customer type'!R47","v":0},{"$f":"'Inputs by customer type'!S47","v":0},{"$f":"'Inputs by customer type'!T47","v":0},{"$f":"'Inputs by customer type'!U47","v":118.37315958904112},{"$f":"'Inputs by customer type'!V47","v":0},{"$f":"'Inputs by customer type'!W47","v":0},{"$f":"'Inputs by customer type'!X47","v":0},{"$f":"'Inputs by customer type'!Y47","v":0},{"$f":"'Inputs by customer type'!Z47","v":0},{"$f":"'Inputs by customer type'!AA47","v":0},{"$f":"'Inputs by customer type'!AB47","v":0},{"$f":"'Inputs by customer type'!AC47","v":0},{"$f":"'Inputs by customer type'!AD47","v":0},{"$f":"'Inputs by customer type'!AE47","v":0},{"$f":"'Inputs by customer type'!AF47","v":0},{"$f":"'Inputs by customer type'!AG47","v":0},{"$f":"'Inputs by customer type'!AH47","v":0},{"$f":"'Inputs by customer type'!AI47","v":0},{"$f":"'Inputs by customer type'!AJ47","v":0},{"$f":"'Inputs by customer type'!AK47","v":0},{"$f":"'Inputs by customer type'!AL47","v":0},{"$f":"'Inputs by customer type'!AM47","v":0},{"$f":"'Inputs by customer type'!AN47","v":0},{"$f":"'Inputs by customer type'!AO47","v":0},{"$f":"'Inputs by customer type'!AP47","v":0}]
[null,null,null,null,null,"LDNO LV discount rate applied","%",null,null,{"$f":"IF(J$42, J$48, J$34)","v":0.32721850432250099},0.32721850432250099,0.32721850432250099,0.32721850432250099,0.32721850432250099,0.32721850432250099,0.32721850432250099,0,0,0.32721850432250099,0.32721850432250099,0.32721850432250099,0,0,0.32721850432250099,0.32721850432250099,0.32721850432250099,0.32721850432250099,0.32721850432250099,0,0,0,0,0,0,0,0,0,0,0,0,0,0]
[null,null,null,null,null,"LDNO HV discount rate applied","%",null,null,{"$f":"IF(J$42, J$48, J$35)","v":0.61947521099660174},0.61947521099660174,0.61947521099660174,0.61947521099660174,0.61947521099660174,0.61947521099660174,0.61947521099660174,0,0,0.61947521099660174,0.61947521099660174,0.61947521099660174,0.41493783028785863,0.29542429060126774,0.61947521099660174,0.61947521099660174,0.61947521099660174,0.61947521099660174,0.61947521099660174,0,0,0,0,0,0,0,0,0,0,0,0,0,0]
[null,null,null,null,null,"LDNO LV, discounted","kVA",null,null,{"$f":"J119 * (1 - J121)","v":0},0,0,0,0,0,0,0,0,0,0,22.82430347669526,0,0,0,0,0,0,0,0,0,0,0,0,0,0,0,0,0,0,0,0,0]
[null,null,null,null,null,"LDNO HV, discounted","kVA",null,null,{"$f":"J120 * (1 - J122)","v":0},0,0,0,0,0,0,0,0,0,0,45.043921576285463,0,0,0,0,0,0,0,0,0,0,0,0,0,0,0,0,0,0,0,0,0]
[null,null,null,null,null,"Total after discounting","kVA",null,null,{"$f":"J118 + J123 + J124","v":0},0,0,0,0,0,0,0,0,0,0,24082.835348340654,1372.9829276493151,19153.332046867399,0,0,0,0,0,0,0,0,0,0,0,0,0,0,0,0,0,0,0]
[]
[null,null,null,null,"Reactive power units",null,null,null,">",null,null,null,null,null,null,null,null,null,null,null,null,null,null,null,null,null,null,null,null,null,null,null,null,null,null,null,null,null,null,null,null,null,null,"Paragraph 53"]
[]
[null,null,null,null,null,"All the way customers","MVArh",null,null,{"$f":"'Inputs by customer type'!J30","v":0},{"$f":"'Inputs by customer type'!K30","v":0},{"$f":"'Inputs by customer type'!L30","v":0},{"$f":"'Inputs by customer type'!M30","v":0},{"$f":"'Inputs by customer type'!N30","v":0},{"$f":"'Inputs by customer type'!O30","v":0},{"$f":"'Inputs by customer type'!P30","v":0},{"$f":"'Inputs by customer type'!Q30","v":0},{"$f":"'Inputs by customer type'!R30","v":0},{"$f":"'Inputs by customer type'!S30","v":0},{"$f":"'Inputs by customer type'!T30","v":0},{"$f":"'Inputs by customer type'!U30","v":126443.34399153598},{"$f":"'Inputs by customer type'!V30","v":6671.1604148720007},{"$f":"'Inputs by customer type'!W30","v":107880.47236750388},{"$f":"'Inputs by customer type'!X30","v":0},{"$f":"'Inputs by customer type'!Y30","v":0},{"$f":"'Inputs by customer type'!Z30","v":0},{"$f":"'Inputs by customer type'!AA30","v":0},{"$f":"'Inputs by customer type'!AB30","v":0},{"$f":"'Inputs by customer type'!AC30","v":0},{"$f":"'Inputs by customer type'!AD30","v":0},{"$f":"'Inputs by customer type'!AE30","v":2796.5714810000004},{"$f":"'Inputs by customer type'!AF30","v":0},{"$f":"'Inputs by customer type'!AG30","v":445.56613500000003},{"$f":"'Inputs by customer type'!AH30","v":0},{"$f":"'Inputs by customer type'!AI30","v":4.4529209999999999},{"$f":"'Inputs by customer type'!AJ30","v":0},{"$f":"'Inputs by customer type'!AK30","v":0},{"$f":"'Inputs by customer type'!AL30","v":0},{"$f":"'Inputs by customer type'!AM30","v":7489.4041639999996},{"$f":"'Inputs by customer type'!AN30","v":0},{"$f":"'Inputs by customer type'!AO30","v":1364.77427625},{"$f":"'Inputs by customer type'!AP30","v":0}]
[null,null,null,null,null,"LDNO LV","MVArh",null,null,{"$f":"'Inputs by customer type'!J39","v":0},{"$f":"'Inputs by customer type'!K39","v":0},{"$f":"'Inputs by customer type'!L39","v":0},{"$f":"'Inputs by customer type'!M39","v":0},{"$f":"'Inputs by customer type'!N39","v":0},{"$f":"'Inputs by customer type'!O39","v":0},{"$f":"'Inputs by customer type'!P39","v":0},{"$f":"'Inputs by customer type'!Q39","v":0},{"$f":"'Inputs by customer type'!R39","v":0},{"$f":"'Inputs by customer type'!S39","v":0},{"$f":"'Inputs by customer type'!T39","v":0},{"$f":"'Inputs by customer type'!U39","v":14.834589525000002},{"$f":"'Inputs by customer type'!V39","v":0},{"$f":"'Inputs by customer type'!W39","v":0},{"$f":"'Inputs by customer type'!X39","v":0},{"$f":"'Inputs by customer type'!Y39","v":0},{"$f":"'Inputs by customer type'!Z39","v":0},{"$f":"'Inputs by customer type'!AA39","v":0},{"$f":"'Inputs by customer type'!AB39","v":0},{"$f":"'Inputs by customer type'!AC39","v":0},{"$f":"'Inputs by customer type'!AD39","v":0},{"$f":"'Inputs by customer type'!AE39","v":0},{"$f":"'Inputs by customer type'!AF39","v":0},{"$f":"'Inputs by customer type'!AG39","v":0},{"$f":"'Inputs by customer type'!AH39","v":0},{"$f":"'Inputs by customer type'!AI39","v":0},{"$f":"'Inputs by customer type'!AJ39","v":0},{"$f":"'Inputs by customer type'!AK39","v":0},{"$f":"'Inputs by customer type'!AL39","v":0},{"$f":"'Inputs by customer type'!AM39","v":0},{"$f":"'Inputs by customer type'!AN39","v":0},{"$f":"'Inputs by customer type'!AO39","v":0},{"$f":"'Inputs by customer type'!AP39","v":0}]
[null,null,null,null,null,"LDNO HV","MVArh",null,null,{"$f":"'Inputs by customer type'!J48","v":0},{"$f":"'Inputs by customer type'!K48","v":0},{"$f":"'Inputs by customer type'!L48","v":0},{"$f":"'Inputs by customer type'!M48","v":0},{"$f":"'Inputs by customer type'!N48","v":0},{"$f":"'Inputs by customer type'!O48","v":0},{"$f":"'Inputs by customer type'!P48","v":0},{"$f":"'Inputs by customer type'!Q48","v":0},{"$f":"'Inputs by customer type'!R48","v":0},{"$f":"'Inputs by customer type'!S48","v":0},{"$f":"'Inputs by customer type'!T48","v":0},{"$f":"'Inputs by customer type'!U48","v":2294.5550166000003},{"$f":"'Inputs by customer type'!V48","v":81.343651724999987},{"$f":"'Inputs by customer type'!W48","v":69.052551750000006},{"$f":"'Inputs by customer type'!X48","v":0},{"$f":"'Inputs by customer type'!Y48","v":0},{"$f":"'Inputs by customer type'!Z48","v":0},{"$f":"'Inputs by customer type'!AA48","v":0},{"$f":"'Inputs by customer type'!AB48","v":0},{"$f":"'Inputs by customer type'!AC48","v":0},{"$f":"'Inputs by customer type'!AD48","v":0},{"$f":"'Inputs by customer type'!AE48","v":89.370855000000006},{"$f":"'Inputs by customer type'!AF48","v":0},{"$f":"'Inputs by customer type'!AG48","v":0},{"$f":"'Inputs by customer type'!AH48","v":0},{"$f":"'Inputs by customer type'!AI48","v":0},{"$f":"'Inputs by customer type'!AJ48","v":0},{"$f":"'Inputs by customer type'!AK48","v":0},{"$f":"'Inputs by customer type'!AL48","v":0},{"$f":"'Inputs by customer type'!AM48","v":0},{"$f":"'Inputs by customer type'!AN48","v":0},{"$f":"'Inputs by customer type'!AO48","v":0},{"$f":"'Inputs by customer type'!AP48","v":0}]
[null,null,null,null,null,"LDNO LV discount rate applied","%",null,null,{"$f":"IF(J$43, J$49, J$34)","v":0.32721850432250099},0.32721850432250099,0.32721850432250099,0.32721850432250099,0.32721850432250099,0.32721850432250099,0.32721850432250099,0,0,0.32721850432250099,0.32721850432250099,0.32721850432250099,0,0,0.32721850432250099,0.32721850432250099,0.32721850432250099,0.32721850432250099,0.32721850432250099,0,0,0,0,0,0,0,0,0,0,0,0,0,0]
[null,null,null,null,null,"LDNO HV discount rate applied","%",null,null,{"$f":"IF(J$43, J$49, J$35)","v":0.61947521099660174},0.61947521099660174,0.61947521099660174,0.61947521099660174,0.61947521099660174,0.61947521099660174,0.61947521099660174,0,0,0.61947521099660174,0.61947521099660174,0.61947521099660174,0.41493783028785863,0.29542429060126774,0.61947521099660174,0.61947521099660174,0.61947521099660174,0.61947521099660174,0.61947521099660174,0,0,0,0,0,0,0,0,0,0,0,0,0,0]
[null,null,null,null,null,"LDNO LV, discounted","MVArh",null,null,{"$f":"J130 * (1 - J132)","v":0},0,0,0,0,0,0,0,0,0,0,9.9804373283912611,0,0,0,0,0,0,0,0,0,0,0,0,0,0,0,0,0,0,0,0,0]
[null,null,null,null,null,"LDNO HV, discounted","MVArh",null,null,{"$f":"J131 * (1 - J133)","v":0},0,0,0,0,0,0,0,0,0,0,873.1350635484041,47.591093370537266,48.652750635048925,0,0,0,0,0,0,0,89.370855000000006,0,0,0,0,0,0,0,0,0,0,0]
[null,null,null,null,null,"Total after discounting","MVArh",null,null,{"$f":"J129 + J134 + J135","v":0},0,0,0,0,0,0,0,0,0,0,127326.45949241276,6718.751508242538,107929.12511813894,0,0,0,0,0,0,0,2885.9423360000005,0,445.56613500000003,0,4.4529209999999999,0,0,0,7489.4041639999996,0,1364.77427625,0]
[]
[null,"Checks"]
[]
[null,null,null,null,"Check for error values",null,"number of issues",{"$f":"SUM(IF(ISERROR(H22:AP137), 1))","v":0}]
[]
[null,"End of sheet"]

{"sheet":"Pseudo-load coefficients","index":21,"n_rows":545,"n_cols":44,"rows_kept":545,"cut":false,"hidden":false,"merged":[]}
[{"$f":"MID(CELL(\"filename\",A1),FIND(\"]\",CELL(\"filename\",A1))+1,255)","v":"Pseudo-load coefficients"}]
[{"$f":"Cover!D21&\" - \"&Cover!D23","v":"[enter DNO name] - [enter data version name]"}]
[{"$f":"Cover!D2&\" - \"&Cover!D8&\" v\"&Cover!D10&\" - \"&Cover!D19","v":"ARP model - Release for charge setting v3 - 2020/21"}]
[{"$f":"H543 & IF(H543 = 1, \" issue\", \" issues\") &\" identified in checks on this sheet\"","v":"0 issues identified in checks on this sheet"}]
[null,"Click here to return to model map",null,null,null,null,"Units","Constants",null,"Domestic Unrestricted","Domestic Two Rate","Domestic Off Peak (related MPAN)","Small Non Domestic Unrestricted","Small Non Domestic Two Rate","Small Non Domestic Off Peak (related MPAN)","LV Medium Non-Domestic","LV Sub Medium Non-Domestic","HV Medium Non-Domestic","LV Network Domestic","LV Network Non-Domestic Non-CT","LV HH Metered","LV Sub HH Metered","HV HH Metered","NHH UMS category A","NHH UMS category B","NHH UMS category C","NHH UMS category D","LV UMS (Pseudo HH Metered)","LV Generation NHH or Aggregate HH","LV Sub Generation NHH","LV Generation Intermittent","LV Generation Intermittent no RP charge","LV Generation Non-Intermittent","LV Generation Non-Intermittent no RP charge","LV Sub Generation Intermittent","LV Sub Generation Intermittent no RP charge","LV Sub Generation Non-Intermittent","LV Sub Generation Non-Intermittent no RP charge","HV Generation Intermittent","HV Generation Intermittent no RP charge","HV Generation Non-Intermittent","HV Generation Non-Intermittent no RP charge",null,"Legal text reference"]
[]
[null,"Description"]
[]
[null,null,"This sheet calculates the pseudo load coefficients used in the calculation of unit rates and system simultaneous "]
[null,null,"peak demand."]
[null,null,"The pseudo load coefficient is specified by customer category, network level and unit rate."]
[null,null,"The calculations in this sheet follow the steps set out in Paragraph 70."]
[null,null,"UMS customers are treated slightly differently, as the values calculated up to step 2 are aggregated values."]
[]
[null,"Step 1: Ratio of coincidence to load factor assuming units evenly spread within time bands, and peak falls in Red period"]
[null,null,null,null,null,null,null,null,">",null,null,null,null,null,null,null,null,null,null,null,null,null,null,null,null,null,null,null,null,null,null,null,null,null,null,null,null,null,null,null,null,null,null,"Paragraph 70 (c) i"]
[null,null,"This section first calculates the split of MWh by unit rate and distribution timeband for all customers."]
[null,null,"Aggregated splits of MWh are then calculated for UMS customers."]
[null,null,"The last part of this section then calculates the ratio of coincidence to load factor based on a simplified load profile."]
[]
[null,null,{"$f":"INDEX('Version control'!$H$34:$H$59,MATCH($A$1,'Version control'!$F$34:$F$59,0),1)&\"-A: Flags and hours in timebands\"","v":"Section 508-A: Flags and hours in timebands"}]
[]
[null,null,null,null,"Flags"]
[null,null,null,null,null,"Flag for unmetered customers","TRUE/FALSE",null,null,{"$f":"'Fixed inputs'!J132","v":false},{"$f":"'Fixed inputs'!K132","v":false},{"$f":"'Fixed inputs'!L132","v":false},{"$f":"'Fixed inputs'!M132","v":false},{"$f":"'Fixed inputs'!N132","v":false},{"$f":"'Fixed inputs'!O132","v":false},{"$f":"'Fixed inputs'!P132","v":false},{"$f":"'Fixed inputs'!Q132","v":false},{"$f":"'Fixed inputs'!R132","v":false},{"$f":"'Fixed inputs'!S132","v":false},{"$f":"'Fixed inputs'!T132","v":false},{"$f":"'Fixed inputs'!U132","v":false},{"$f":"'Fixed inputs'!V132","v":false},{"$f":"'Fixed inputs'!W132","v":false},{"$f":"'Fixed inputs'!X132","v":true},{"$f":"'Fixed inputs'!Y132","v":true},{"$f":"'Fixed inputs'!Z132","v":true},{"$f":"'Fixed inputs'!AA132","v":true},{"$f":"'Fixed inputs'!AB132","v":true},{"$f":"'Fixed inputs'!AC132","v":false},{"$f":"'Fixed inputs'!AD132","v":false},{"$f":"'Fixed inputs'!AE132","v":false},{"$f":"'Fixed inputs'!AF132","v":false},{"$f":"'Fixed inputs'!AG132","v":false},{"$f":"'Fixed inputs'!AH132","v":false},{"$f":"'Fixed inputs'!AI132","v":false},{"$f":"'Fixed inputs'!AJ132","v":false},{"$f":"'Fixed inputs'!AK132","v":false},{"$f":"'Fixed inputs'!AL132","v":false},{"$f":"'Fixed inputs'!AM132","v":false},{"$f":"'Fixed inputs'!AN132","v":false},{"$f":"'Fixed inputs'!AO132","v":false},{"$f":"'Fixed inputs'!AP132","v":false}]
[null,null,null,null,null,"Override to use flat annual load (unit rate 1 only)","TRUE/FALSE",null,null,{"$f":"'Fixed inputs'!J127","v":false},{"$f":"'Fixed inputs'!K127","v":false},{"$f":"'Fixed inputs'!L127","v":false},{"$f":"'Fixed inputs'!M127","v":false},{"$f":"'Fixed inputs'!N127","v":false},{"$f":"'Fixed inputs'!O127","v":false},{"$f":"'Fixed inputs'!P127","v":false},{"$f":"'Fixed inputs'!Q127","v":false},{"$f":"'Fixed inputs'!R127","v":false},{"$f":"'Fixed inputs'!S127","v":false},{"$f":"'Fixed inputs'!T127","v":false},{"$f":"'Fixed inputs'!U127","v":false},{"$f":"'Fixed inputs'!V127","v":false},{"$f":"'Fixed inputs'!W127","v":false},{"$f":"'Fixed inputs'!X127","v":false},{"$f":"'Fixed inputs'!Y127","v":false},{"$f":"'Fixed inputs'!Z127","v":false},{"$f":"'Fixed inputs'!AA127","v":false},{"$f":"'Fixed inputs'!AB127","v":false},{"$f":"'Fixed inputs'!AC127","v":true},{"$f":"'Fixed inputs'!AD127","v":true},{"$f":"'Fixed inputs'!AE127","v":true},{"$f":"'Fixed inputs'!AF127","v":true},{"$f":"'Fixed inputs'!AG127","v":false},{"$f":"'Fixed inputs'!AH127","v":false},{"$f":"'Fixed inputs'!AI127","v":true},{"$f":"'Fixed inputs'!AJ127","v":true},{"$f":"'Fixed inputs'!AK127","v":false},{"$f":"'Fixed inputs'!AL127","v":false},{"$f":"'Fixed inputs'!AM127","v":true},{"$f":"'Fixed inputs'!AN127","v":true},{"$f":"'Fixed inputs'!AO127","v":false},{"$f":"'Fixed inputs'!AP127","v":false},null,"Paragraph 145"]
[]
[null,null,null,null,"Hours per timeband",null,null,null,">",null,null,null,null,null,null,null,null,null,null,null,null,null,null,null,null,null,null,null,null,null,null,null,null,null,null,null,null,null,null,null,null,null,null,"Paragraph 40"]
[null,null,null,null,"UMS customers use Black & Yellow timebands, other customers use Red & Amber"]
[null,null,null,null,null,"Red or Black","hours",null,null,{"$f":"IF(J$24, 'General inputs'!$H19, 'General inputs'!$H24)","v":652.5},{"$f":"IF(K$24, 'General inputs'!$H19, 'General inputs'!$H24)","v":652.5},{"$f":"IF(L$24, 'General inputs'!$H19, 'General inputs'!$H24)","v":652.5},{"$f":"IF(M$24, 'General inputs'!$H19, 'General inputs'!$H24)","v":652.5},{"$f":"IF(N$24, 'General inputs'!$H19, 'General inputs'!$H24)","v":652.5},{"$f":"IF(O$24, 'General inputs'!$H19, 'General inputs'!$H24)","v":652.5},{"$f":"IF(P$24, 'General inputs'!$H19, 'General inputs'!$H24)","v":652.5},{"$f":"IF(Q$24, 'General inputs'!$H19, 'General inputs'!$H24)","v":652.5},{"$f":"IF(R$24, 'General inputs'!$H19, 'General inputs'!$H24)","v":652.5},{"$f":"IF(S$24, 'General inputs'!$H19, 'General inputs'!$H24)","v":652.5},{"$f":"IF(T$24, 'General inputs'!$H19, 'General inputs'!$H24)","v":652.5},{"$f":"IF(U$24, 'General inputs'!$H19, 'General inputs'!$H24)","v":652.5},{"$f":"IF(V$24, 'General inputs'!$H19, 'General inputs'!$H24)","v":652.5},{"$f":"IF(W$24, 'General inputs'!$H19, 'General inputs'!$H24)","v":652.5},{"$f":"IF(X$24, 'General inputs'!$H19, 'General inputs'!$H24)","v":190},{"$f":"IF(Y$24, 'General inputs'!$H19, 'General inputs'!$H24)","v":190},{"$f":"IF(Z$24, 'General inputs'!$H19, 'General inputs'!$H24)","v":190},{"$f":"IF(AA$24, 'General inputs'!$H19, 'General inputs'!$H24)","v":190},{"$f":"IF(AB$24, 'General inputs'!$H19, 'General inputs'!$H24)","v":190},{"$f":"IF(AC$24, 'General inputs'!$H19, 'General inputs'!$H24)","v":652.5},{"$f":"IF(AD$24, 'General inputs'!$H19, 'General inputs'!$H24)","v":652.5},{"$f":"IF(AE$24, 'General inputs'!$H19, 'General inputs'!$H24)","v":652.5},{"$f":"IF(AF$24, 'General inputs'!$H19, 'General inputs'!$H24)","v":652.5},{"$f":"IF(AG$24, 'General inputs'!$H19, 'General inputs'!$H24)","v":652.5},{"$f":"IF(AH$24, 'General inputs'!$H19, 'General inputs'!$H24)","v":652.5},{"$f":"IF(AI$24, 'General inputs'!$H19, 'General inputs'!$H24)","v":652.5},{"$f":"IF(AJ$24, 'General inputs'!$H19, 'General inputs'!$H24)","v":652.5},{"$f":"IF(AK$24, 'General inputs'!$H19, 'General inputs'!$H24)","v":652.5},{"$f":"IF(AL$24, 'General inputs'!$H19, 'General inputs'!$H24)","v":652.5},{"$f":"IF(AM$24, 'General inputs'!$H19, 'General inputs'!$H24)","v":652.5},{"$f":"IF(AN$24, 'General inputs'!$H19, 'General inputs'!$H24)","v":652.5},{"$f":"IF(AO$24, 'General inputs'!$H19, 'General inputs'!$H24)","v":652.5},{"$f":"IF(AP$24, 'General inputs'!$H19, 'General inputs'!$H24)","v":652.5}]
[null,null,null,null,null,"Amber or Yellow","hours",null,null,{"$f":"IF(J$24, 'General inputs'!$H20, 'General inputs'!$H25)","v":3756},{"$f":"IF(K$24, 'General inputs'!$H20, 'General inputs'!$H25)","v":3756},{"$f":"IF(L$24, 'General inputs'!$H20, 'General inputs'!$H25)","v":3756},{"$f":"IF(M$24, 'General inputs'!$H20, 'General inputs'!$H25)","v":3756},{"$f":"IF(N$24, 'General inputs'!$H20, 'General inputs'!$H25)","v":3756},{"$f":"IF(O$24, 'General inputs'!$H20, 'General inputs'!$H25)","v":3756},{"$f":"IF(P$24, 'General inputs'!$H20, 'General inputs'!$H25)","v":3756},{"$f":"IF(Q$24, 'General inputs'!$H20, 'General inputs'!$H25)","v":3756},{"$f":"IF(R$24, 'General inputs'!$H20, 'General inputs'!$H25)","v":3756},{"$f":"IF(S$24, 'General inputs'!$H20, 'General inputs'!$H25)","v":3756},{"$f":"IF(T$24, 'General inputs'!$H20, 'General inputs'!$H25)","v":3756},{"$f":"IF(U$24, 'General inputs'!$H20, 'General inputs'!$H25)","v":3756},{"$f":"IF(V$24, 'General inputs'!$H20, 'General inputs'!$H25)","v":3756},{"$f":"IF(W$24, 'General inputs'!$H20, 'General inputs'!$H25)","v":3756},{"$f":"IF(X$24, 'General inputs'!$H20, 'General inputs'!$H25)","v":4218.5},{"$f":"IF(Y$24, 'General inputs'!$H20, 'General inputs'!$H25)","v":4218.5},{"$f":"IF(Z$24, 'General inputs'!$H20, 'General inputs'!$H25)","v":4218.5},{"$f":"IF(AA$24, 'General inputs'!$H20, 'General inputs'!$H25)","v":4218.5},{"$f":"IF(AB$24, 'General inputs'!$H20, 'General inputs'!$H25)","v":4218.5},{"$f":"IF(AC$24, 'General inputs'!$H20, 'General inputs'!$H25)","v":3756},{"$f":"IF(AD$24, 'General inputs'!$H20, 'General inputs'!$H25)","v":3756},{"$f":"IF(AE$24, 'General inputs'!$H20, 'General inputs'!$H25)","v":3756},{"$f":"IF(AF$24, 'General inputs'!$H20, 'General inputs'!$H25)","v":3756},{"$f":"IF(AG$24, 'General inputs'!$H20, 'General inputs'!$H25)","v":3756},{"$f":"IF(AH$24, 'General inputs'!$H20, 'General inputs'!$H25)","v":3756},{"$f":"IF(AI$24, 'General inputs'!$H20, 'General inputs'!$H25)","v":3756},{"$f":"IF(AJ$24, 'General inputs'!$H20, 'General inputs'!$H25)","v":3756},{"$f":"IF(AK$24, 'General inputs'!$H20, 'General inputs'!$H25)","v":3756},{"$f":"IF(AL$24, 'General inputs'!$H20, 'General inputs'!$H25)","v":3756},{"$f":"IF(AM$24, 'General inputs'!$H20, 'General inputs'!$H25)","v":3756},{"$f":"IF(AN$24, 'General inputs'!$H20, 'General inputs'!$H25)","v":3756},{"$f":"IF(AO$24, 'General inputs'!$H20, 'General inputs'!$H25)","v":3756},{"$f":"IF(AP$24, 'General inputs'!$H20, 'General inputs'!$H25)","v":3756}]
[null,null,null,null,null,"Green","hours",null,null,{"$f":"IF(J$24, 'General inputs'!$H21, 'General inputs'!$H26)","v":4351.5},{"$f":"IF(K$24, 'General inputs'!$H21, 'General inputs'!$H26)","v":4351.5},{"$f":"IF(L$24, 'General inputs'!$H21, 'General inputs'!$H26)","v":4351.5},{"$f":"IF(M$24, 'General inputs'!$H21, 'General inputs'!$H26)","v":4351.5},{"$f":"IF(N$24, 'General inputs'!$H21, 'General inputs'!$H26)","v":4351.5},{"$f":"IF(O$24, 'General inputs'!$H21, 'General inputs'!$H26)","v":4351.5},{"$f":"IF(P$24, 'General inputs'!$H21, 'General inputs'!$H26)","v":4351.5},{"$f":"IF(Q$24, 'General inputs'!$H21, 'General inputs'!$H26)","v":4351.5},{"$f":"IF(R$24, 'General inputs'!$H21, 'General inputs'!$H26)","v":4351.5},{"$f":"IF(S$24, 'General inputs'!$H21, 'General inputs'!$H26)","v":4351.5},{"$f":"IF(T$24, 'General inputs'!$H21, 'General inputs'!$H26)","v":4351.5},{"$f":"IF(U$24, 'General inputs'!$H21, 'General inputs'!$H26)","v":4351.5},{"$f":"IF(V$24, 'General inputs'!$H21, 'General inputs'!$H26)","v":4351.5},{"$f":"IF(W$24, 'General inputs'!$H21, 'General inputs'!$H26)","v":4351.5},{"$f":"IF(X$24, 'General inputs'!$H21, 'General inputs'!$H26)","v":4351.5},{"$f":"IF(Y$24, 'General inputs'!$H21, 'General inputs'!$H26)","v":4351.5},{"$f":"IF(Z$24, 'General inputs'!$H21, 'General inputs'!$H26)","v":4351.5},{"$f":"IF(AA$24, 'General inputs'!$H21, 'General inputs'!$H26)","v":4351.5},{"$f":"IF(AB$24, 'General inputs'!$H21, 'General inputs'!$H26)","v":4351.5},{"$f":"IF(AC$24, 'General inputs'!$H21, 'General inputs'!$H26)","v":4351.5},{"$f":"IF(AD$24, 'General inputs'!$H21, 'General inputs'!$H26)","v":4351.5},{"$f":"IF(AE$24, 'General inputs'!$H21, 'General inputs'!$H26)","v":4351.5},{"$f":"IF(AF$24, 'General inputs'!$H21, 'General inputs'!$H26)","v":4351.5},{"$f":"IF(AG$24, 'General inputs'!$H21, 'General inputs'!$H26)","v":4351.5},{"$f":"IF(AH$24, 'General inputs'!$H21, 'General inputs'!$H26)","v":4351.5},{"$f":"IF(AI$24, 'General inputs'!$H21, 'General inputs'!$H26)","v":4351.5},{"$f":"IF(AJ$24, 'General inputs'!$H21, 'General inputs'!$H26)","v":4351.5},{"$f":"IF(AK$24, 'General inputs'!$H21, 'General inputs'!$H26)","v":4351.5},{"$f":"IF(AL$24, 'General inputs'!$H21, 'General inputs'!$H26)","v":4351.5},{"$f":"IF(AM$24, 'General inputs'!$H21, 'General inputs'!$H26)","v":4351.5},{"$f":"IF(AN$24, 'General inputs'!$H21, 'General inputs'!$H26)","v":4351.5},{"$f":"IF(AO$24, 'General inputs'!$H21, 'General inputs'!$H26)","v":4351.5},{"$f":"IF(AP$24, 'General inputs'!$H21, 'General inputs'!$H26)","v":4351.5}]
[]
[null,null,{"$f":"INDEX('Version control'!$H$34:$H$59,MATCH($A$1,'Version control'!$F$34:$F$59,0),1)&\"-B: Average load by timeband\"","v":"Section 508-B: Average load by timeband"}]
[]
[null,null,null,null,"Split of units by time pattern regime"]
[null,null,null,null,null,"Unit rate 1","MWh",null,null,{"$f":"'Volume adjustments'!J66","v":3099712.9430819456},{"$f":"'Volume adjustments'!K66","v":145289.674114347},{"$f":"'Volume adjustments'!L66","v":2140.1103146035571},{"$f":"'Volume adjustments'!M66","v":809156.58698910882},{"$f":"'Volume adjustments'!N66","v":199735.41440710361},{"$f":"'Volume adjustments'!O66","v":1578.3141159411171},{"$f":"'Volume adjustments'!P66","v":13915.032470308746},{"$f":"'Volume adjustments'!Q66","v":5.8625576095223545E-8},{"$f":"'Volume adjustments'!R66","v":62.538955055444347},{"$f":"'Volume adjustments'!S66","v":548.80537505020618},{"$f":"'Volume adjustments'!T66","v":11592.451023385509},{"$f":"'Volume adjustments'!U66","v":124926.63683659973},{"$f":"'Volume adjustments'!V66","v":6793.9490002153352},{"$f":"'Volume adjustments'!W66","v":146822.15523569478},{"$f":"'Volume adjustments'!X66","v":2161.3060866775845},{"$f":"'Volume adjustments'!Y66","v":5248.756775387471},{"$f":"'Volume adjustments'!Z66","v":288.93022950400001},{"$f":"'Volume adjustments'!AA66","v":0},{"$f":"'Volume adjustments'!AB66","v":4786.1918698977543},{"$f":"'Volume adjustments'!AC66","v":1535.125},{"$f":"'Volume adjustments'!AD66","v":0},{"$f":"'Volume adjustments'!AE66","v":31409.991281425009},{"$f":"'Volume adjustments'!AF66","v":0},{"$f":"'Volume adjustments'!AG66","v":184.69947550370838},{"$f":"'Volume adjustments'!AH66","v":0},{"$f":"'Volume adjustments'!AI66","v":807.10811500000023},{"$f":"'Volume adjustments'!AJ66","v":0},{"$f":"'Volume adjustments'!AK66","v":36.59019120255607},{"$f":"'Volume adjustments'!AL66","v":0},{"$f":"'Volume adjustments'!AM66","v":314604.16542500001},{"$f":"'Volume adjustments'!AN66","v":0},{"$f":"'Volume adjustments'!AO66","v":30630.476100086526},{"$f":"'Volume adjustments'!AP66","v":0}]
[null,null,null,null,null,"Unit rate 2","MWh",null,null,{"$f":"'Volume adjustments'!J77","v":0},{"$f":"'Volume adjustments'!K77","v":121262.85768811585},{"$f":"'Volume adjustments'!L77","v":0},{"$f":"'Volume adjustments'!M77","v":0},{"$f":"'Volume adjustments'!N77","v":84245.568350797592},{"$f":"'Volume adjustments'!O77","v":0},{"$f":"'Volume adjustments'!P77","v":4250.8635105792746},{"$f":"'Volume adjustments'!Q77","v":1.7910389838743126E-8},{"$f":"'Volume adjustments'!R77","v":25.753194800564419},{"$f":"'Volume adjustments'!S77","v":2705.2171975872861},{"$f":"'Volume adjustments'!T77","v":78318.12222359619},{"$f":"'Volume adjustments'!U77","v":791851.61687907006},{"$f":"'Volume adjustments'!V77","v":40795.314701131094},{"$f":"'Volume adjustments'!W77","v":895274.13786258397},{"$f":"'Volume adjustments'!X77","v":0},{"$f":"'Volume adjustments'!Y77","v":0},{"$f":"'Volume adjustments'!Z77","v":0},{"$f":"'Volume adjustments'!AA77","v":0},{"$f":"'Volume adjustments'!AB77","v":31263.847920010572},{"$f":"'Volume adjustments'!AC77","v":0},{"$f":"'Volume adjustments'!AD77","v":0},{"$f":"'Volume adjustments'!AE77","v":0},{"$f":"'Volume adjustments'!AF77","v":0},{"$f":"'Volume adjustments'!AG77","v":1185.0893640362958},{"$f":"'Volume adjustments'!AH77","v":0},{"$f":"'Volume adjustments'!AI77","v":0},{"$f":"'Volume adjustments'!AJ77","v":0},{"$f":"'Volume adjustments'!AK77","v":148.04789377289072},{"$f":"'Volume adjustments'!AL77","v":0},{"$f":"'Volume adjustments'!AM77","v":0},{"$f":"'Volume adjustments'!AN77","v":0},{"$f":"'Volume adjustments'!AO77","v":70350.709153135162},{"$f":"'Volume adjustments'!AP77","v":0}]
[null,null,null,null,null,"Unit rate 3","MWh",null,null,{"$f":"'Volume adjustments'!J88","v":0},{"$f":"'Volume adjustments'!K88","v":0},{"$f":"'Volume adjustments'!L88","v":0},{"$f":"'Volume adjustments'!M88","v":0},{"$f":"'Volume adjustments'!N88","v":0},{"$f":"'Volume adjustments'!O88","v":0},{"$f":"'Volume adjustments'!P88","v":0},{"$f":"'Volume adjustments'!Q88","v":0},{"$f":"'Volume adjustments'!R88","v":0},{"$f":"'Volume adjustments'!S88","v":2375.2858263176454},{"$f":"'Volume adjustments'!T88","v":56269.737973494914},{"$f":"'Volume adjustments'!U88","v":593772.18207476882},{"$f":"'Volume adjustments'!V88","v":35689.998034384873},{"$f":"'Volume adjustments'!W88","v":848689.50836905383},{"$f":"'Volume adjustments'!X88","v":0},{"$f":"'Volume adjustments'!Y88","v":0},{"$f":"'Volume adjustments'!Z88","v":0},{"$f":"'Volume adjustments'!AA88","v":0},{"$f":"'Volume adjustments'!AB88","v":73749.776463945847},{"$f":"'Volume adjustments'!AC88","v":0},{"$f":"'Volume adjustments'!AD88","v":0},{"$f":"'Volume adjustments'!AE88","v":0},{"$f":"'Volume adjustments'!AF88","v":0},{"$f":"'Volume adjustments'!AG88","v":1145.5607796251077},{"$f":"'Volume adjustments'!AH88","v":0},{"$f":"'Volume adjustments'!AI88","v":0},{"$f":"'Volume adjustments'!AJ88","v":0},{"$f":"'Volume adjustments'!AK88","v":149.37121031591738},{"$f":"'Volume adjustments'!AL88","v":0},{"$f":"'Volume adjustments'!AM88","v":0},{"$f":"'Volume adjustments'!AN88","v":0},{"$f":"'Volume adjustments'!AO88","v":57893.659515242049},{"$f":"'Volume adjustments'!AP88","v":0}]
[null,null,null,null,null,"Total units","MWh",null,null,{"$f":"SUM(J36:J38)","v":3099712.9430819456},266552.53180246288,2140.1103146035571,809156.58698910882,283980.98275790119,1578.3141159411171,18165.895980888021,7.6535965933966675E-8,88.292149856008763,5629.3083989551378,146180.31122047661,1510550.4357904387,83279.261735731299,1890785.8014673325,2161.3060866775845,5248.756775387471,288.93022950400001,0,109799.81625385417,1535.125,0,31409.991281425009,0,2515.349619165112,0,807.10811500000023,0,334.0092952913642,0,314604.16542500001,0,158874.84476846375,0]
[]
[null,null,null,null,"Unit rate 1 split of units by distribution timeband"]
[null,null,null,null,"UMS customers use Black & Yellow timebands, other customers use Red & Amber"]
[null,null,null,null,null,"Red or Black","%",null,null,{"$f":"IF(J$25, J29 / hours_in_year, 'Inputs by customer type'!J56)","v":0.11197507769618557},{"$f":"IF(K$25, K29 / hours_in_year, 'Inputs by customer type'!K56)","v":0.13364758522804707},{"$f":"IF(L$25, L29 / hours_in_year, 'Inputs by customer type'!L56)","v":0},{"$f":"IF(M$25, M29 / hours_in_year, 'Inputs by customer type'!M56)","v":7.2901843200616878E-2},{"$f":"IF(N$25, N29 / hours_in_year, 'Inputs by customer type'!N56)","v":0.10374465982206056},{"$f":"IF(O$25, O29 / hours_in_year, 'Inputs by customer type'!O56)","v":1.2095107556112362E-4},{"$f":"IF(P$25, P29 / hours_in_year, 'Inputs by customer type'!P56)","v":0.1047145643323437},{"$f":"IF(Q$25, Q29 / hours_in_year, 'Inputs by customer type'!Q56)","v":0.10158807426315841},{"$f":"IF(R$25, R29 / hours_in_year, 'Inputs by customer type'!R56)","v":9.9174996915789473E-2},{"$f":"IF(S$25, S29 / hours_in_year, 'Inputs by customer type'!S56)","v":1},{"$f":"IF(T$25, T29 / hours_in_year, 'Inputs by customer type'!T56)","v":1},{"$f":"IF(U$25, U29 / hours_in_year, 'Inputs by customer type'!U56)","v":1},{"$f":"IF(V$25, V29 / hours_in_year, 'Inputs by customer type'!V56)","v":1},{"$f":"IF(W$25, W29 / hours_in_year, 'Inputs by customer type'!W56)","v":1},{"$f":"IF(X$25, X29 / hours_in_year, 'Inputs by customer type'!X56)","v":2.1669744075987082E-2},{"$f":"IF(Y$25, Y29 / hours_in_year, 'Inputs by customer type'!Y56)","v":4.2410020745840361E-2},{"$f":"IF(Z$25, Z29 / hours_in_year, 'Inputs by customer type'!Z56)","v":7.1340446485220546E-2},{"$f":"IF(AA$25, AA29 / hours_in_year, 'Inputs by customer type'!AA56)","v":2.2190543690080709E-3},{"$f":"IF(AB$25, AB29 / hours_in_year, 'Inputs by customer type'!AB56)","v":1},{"$f":"IF(AC$25, AC29 / hours_in_year, 'Inputs by customer type'!AC56)","v":7.448630136986302E-2},{"$f":"IF(AD$25, AD29 / hours_in_year, 'Inputs by customer type'!AD56)","v":7.448630136986302E-2},{"$f":"IF(AE$25, AE29 / hours_in_year, 'Inputs by customer type'!AE56)","v":7.448630136986302E-2},{"$f":"IF(AF$25, AF29 / hours_in_year, 'Inputs by customer type'!AF56)","v":7.448630136986302E-2},{"$f":"IF(AG$25, AG29 / hours_in_year, 'Inputs by customer type'!AG56)","v":1},{"$f":"IF(AH$25, AH29 / hours_in_year, 'Inputs by customer type'!AH56)","v":1},{"$f":"IF(AI$25, AI29 / hours_in_year, 'Inputs by customer type'!AI56)","v":7.448630136986302E-2},{"$f":"IF(AJ$25, AJ29 / hours_in_year, 'Inputs by customer type'!AJ56)","v":7.448630136986302E-2},{"$f":"IF(AK$25, AK29 / hours_in_year, 'Inputs by customer type'!AK56)","v":1},{"$f":"IF(AL$25, AL29 / hours_in_year, 'Inputs by customer type'!AL56)","v":1},{"$f":"IF(AM$25, AM29 / hours_in_year, 'Inputs by customer type'!AM56)","v":7.448630136986302E-2},{"$f":"IF(AN$25, AN29 / hours_in_year, 'Inputs by customer type'!AN56)","v":7.448630136986302E-2},{"$f":"IF(AO$25, AO29 / hours_in_year, 'Inputs by customer type'!AO56)","v":1},{"$f":"IF(AP$25, AP29 / hours_in_year, 'Inputs by customer type'!AP56)","v":1}]
[null,null,null,null,null,"Amber or Yellow","%",null,null,{"$f":"IF(J$25, J30 / hours_in_year, 'Inputs by customer type'!J57)","v":0.50191649625201062},{"$f":"IF(K$25, K30 / hours_in_year, 'Inputs by customer type'!K57)","v":0.58955364170073732},{"$f":"IF(L$25, L30 / hours_in_year, 'Inputs by customer type'!L57)","v":0.16936876960443484},{"$f":"IF(M$25, M30 / hours_in_year, 'Inputs by customer type'!M57)","v":0.5784518528769218},{"$f":"IF(N$25, N30 / hours_in_year, 'Inputs by customer type'!N57)","v":0.65763950211560829},{"$f":"IF(O$25, O30 / hours_in_year, 'Inputs by customer type'!O57)","v":0.17446773823156181},{"$f":"IF(P$25, P30 / hours_in_year, 'Inputs by customer type'!P57)","v":0.67439252598952981},{"$f":"IF(Q$25, Q30 / hours_in_year, 'Inputs by customer type'!Q57)","v":0.68184945153652621},{"$f":"IF(R$25, R30 / hours_in_year, 'Inputs by customer type'!R57)","v":0.70608990295729057},{"$f":"IF(S$25, S30 / hours_in_year, 'Inputs by customer type'!S57)","v":0},{"$f":"IF(T$25, T30 / hours_in_year, 'Inputs by customer type'!T57)","v":0},{"$f":"IF(U$25, U30 / hours_in_year, 'Inputs by customer type'!U57)","v":0},{"$f":"IF(V$25, V30 / hours_in_year, 'Inputs by customer type'!V57)","v":0},{"$f":"IF(W$25, W30 / hours_in_year, 'Inputs by customer type'!W57)","v":0},{"$f":"IF(X$25, X30 / hours_in_year, 'Inputs by customer type'!X57)","v":0.48135214711680002},{"$f":"IF(Y$25, Y30 / hours_in_year, 'Inputs by customer type'!Y57)","v":0.19137173000067045},{"$f":"IF(Z$25, Z30 / hours_in_year, 'Inputs by customer type'!Z57)","v":0.35889796794961448},{"$f":"IF(AA$25, AA30 / hours_in_year, 'Inputs by customer type'!AA57)","v":0.74447455632328197},{"$f":"IF(AB$25, AB30 / hours_in_year, 'Inputs by customer type'!AB57)","v":0},{"$f":"IF(AC$25, AC30 / hours_in_year, 'Inputs by customer type'!AC57)","v":0.42876712328767125},{"$f":"IF(AD$25, AD30 / hours_in_year, 'Inputs by customer type'!AD57)","v":0.42876712328767125},{"$f":"IF(AE$25, AE30 / hours_in_year, 'Inputs by customer type'!AE57)","v":0.42876712328767125},{"$f":"IF(AF$25, AF30 / hours_in_year, 'Inputs by customer type'!AF57)","v":0.42876712328767125},{"$f":"IF(AG$25, AG30 / hours_in_year, 'Inputs by customer type'!AG57)","v":0},{"$f":"IF(AH$25, AH30 / hours_in_year, 'Inputs by customer type'!AH57)","v":0},{"$f":"IF(AI$25, AI30 / hours_in_year, 'Inputs by customer type'!AI57)","v":0.42876712328767125},{"$f":"IF(AJ$25, AJ30 / hours_in_year, 'Inputs by customer type'!AJ57)","v":0.42876712328767125},{"$f":"IF(AK$25, AK30 / hours_in_year, 'Inputs by customer type'!AK57)","v":0},{"$f":"IF(AL$25, AL30 / hours_in_year, 'Inputs by customer type'!AL57)","v":0},{"$f":"IF(AM$25, AM30 / hours_in_year, 'Inputs by customer type'!AM57)","v":0.42876712328767125},{"$f":"IF(AN$25, AN30 / hours_in_year, 'Inputs by customer type'!AN57)","v":0.42876712328767125},{"$f":"IF(AO$25, AO30 / hours_in_year, 'Inputs by customer type'!AO57)","v":0},{"$f":"IF(AP$25, AP30 / hours_in_year, 'Inputs by customer type'!AP57)","v":0}]
[null,null,null,null,null,"Green","%",null,null,{"$f":"IF(J$25, J31 / hours_in_year, 'Inputs by customer type'!J58)","v":0.38610842605180379},{"$f":"IF(K$25, K31 / hours_in_year, 'Inputs by customer type'!K58)","v":0.27679877307121564},{"$f":"IF(L$25, L31 / hours_in_year, 'Inputs by customer type'!L58)","v":0.83063123039556519},{"$f":"IF(M$25, M31 / hours_in_year, 'Inputs by customer type'!M58)","v":0.34864630392246126},{"$f":"IF(N$25, N31 / hours_in_year, 'Inputs by customer type'!N58)","v":0.23861583806233111},{"$f":"IF(O$25, O31 / hours_in_year, 'Inputs by customer type'!O58)","v":0.8254113106928771},{"$f":"IF(P$25, P31 / hours_in_year, 'Inputs by customer type'!P58)","v":0.22089290967812644},{"$f":"IF(Q$25, Q31 / hours_in_year, 'Inputs by customer type'!Q58)","v":0.2165624742003153},{"$f":"IF(R$25, R31 / hours_in_year, 'Inputs by customer type'!R58)","v":0.19473510012692},{"$f":"IF(S$25, S31 / hours_in_year, 'Inputs by customer type'!S58)","v":0},{"$f":"IF(T$25, T31 / hours_in_year, 'Inputs by customer type'!T58)","v":0},{"$f":"IF(U$25, U31 / hours_in_year, 'Inputs by customer type'!U58)","v":0},{"$f":"IF(V$25, V31 / hours_in_year, 'Inputs by customer type'!V58)","v":0},{"$f":"IF(W$25, W31 / hours_in_year, 'Inputs by customer type'!W58)","v":0},{"$f":"IF(X$25, X31 / hours_in_year, 'Inputs by customer type'!X58)","v":0.49697810880721294},{"$f":"IF(Y$25, Y31 / hours_in_year, 'Inputs by customer type'!Y58)","v":0.76621824925348925},{"$f":"IF(Z$25, Z31 / hours_in_year, 'Inputs by customer type'!Z58)","v":0.56976158556516499},{"$f":"IF(AA$25, AA31 / hours_in_year, 'Inputs by customer type'!AA58)","v":0.25330638930770993},{"$f":"IF(AB$25, AB31 / hours_in_year, 'Inputs by customer type'!AB58)","v":0},{"$f":"IF(AC$25, AC31 / hours_in_year, 'Inputs by customer type'!AC58)","v":0.49674657534246575},{"$f":"IF(AD$25, AD31 / hours_in_year, 'Inputs by customer type'!AD58)","v":0.49674657534246575},{"$f":"IF(AE$25, AE31 / hours_in_year, 'Inputs by customer type'!AE58)","v":0.49674657534246575},{"$f":"IF(AF$25, AF31 / hours_in_year, 'Inputs by customer type'!AF58)","v":0.49674657534246575},{"$f":"IF(AG$25, AG31 / hours_in_year, 'Inputs by customer type'!AG58)","v":0},{"$f":"IF(AH$25, AH31 / hours_in_year, 'Inputs by customer type'!AH58)","v":0},{"$f":"IF(AI$25, AI31 / hours_in_year, 'Inputs by customer type'!AI58)","v":0.49674657534246575},{"$f":"IF(AJ$25, AJ31 / hours_in_year, 'Inputs by customer type'!AJ58)","v":0.49674657534246575},{"$f":"IF(AK$25, AK31 / hours_in_year, 'Inputs by customer type'!AK58)","v":0},{"$f":"IF(AL$25, AL31 / hours_in_year, 'Inputs by customer type'!AL58)","v":0},{"$f":"IF(AM$25, AM31 / hours_in_year, 'Inputs by customer type'!AM58)","v":0.49674657534246575},{"$f":"IF(AN$25, AN31 / hours_in_year, 'Inputs by customer type'!AN58)","v":0.49674657534246575},{"$f":"IF(AO$25, AO31 / hours_in_year, 'Inputs by customer type'!AO58)","v":0},{"$f":"IF(AP$25, AP31 / hours_in_year, 'Inputs by customer type'!AP58)","v":0}]
[null,null,null,null,null,"Red or Black","MWh",null,null,{"$f":"J$36 * J43","v":347090.59763747291},19417.614103952375,0,58989.006629426323,20721.482622083258,0.19089878989638207,1457.1065627987969,5.9556593780820145E-9,6.2023006747403899,548.80537505020618,11592.451023385509,124926.63683659973,6793.9490002153352,146822.15523569478,46.834949768176408,222.59988373405281,20.612411575892605,0,4786.1918698977543,114.34578339041097,0,2339.6140766129934,0,184.69947550370838,0,60.118498291952079,0,36.59019120255607,0,23433.700678060792,0,30630.476100086526,0]
[null,null,null,null,null,"Amber or Yellow","MWh",null,null,{"$f":"J$36 * J44","v":1555797.0597786983},85656.056475626625,362.46785080216443,468058.12701141613,131353.8984855423,275.36489402719371,9384.1938968778431,3.9973816906541054E-8,44.158124706149053,0,0,0,0,0,1040.349325398864,1004.4636644586408,103.69647224820135,0,0,658.2111301369863,0,13467.571604227436,0,0,0,346.06142465068501,0,0,0,134891.9229835959,0,0,0]
[null,null,null,null,null,"Green","MWh",null,null,{"$f":"J$36 * J45","v":1196825.2856657745},40216.00353476801,1777.6424638013928,282109.45334826631,47660.033299478033,1302.7583231240269,3073.7320106321067,1.269609981060047E-8,12.178529674554904,0,0,0,0,0,1074.1218115105441,4021.6932271947776,164.62134567990606,0,0,762.56808647260277,0,15602.805600584581,0,0,0,400.92819205736311,0,0,0,156278.54176334332,0,0,0]
[]
[null,null,null,null,"Unit rate 2 split of units by distribution timeband"]
[null,null,null,null,"UMS customers use Black & Yellow timebands, other customers use Red & Amber"]
[null,null,null,null,null,"Red or Black","%",null,null,{"$f":"'Inputs by customer type'!J61","v":0},{"$f":"'Inputs by customer type'!K61","v":0},{"$f":"'Inputs by customer type'!L61","v":0},{"$f":"'Inputs by customer type'!M61","v":0},{"$f":"'Inputs by customer type'!N61","v":0},{"$f":"'Inputs by customer type'!O61","v":0},{"$f":"'Inputs by customer type'!P61","v":0},{"$f":"'Inputs by customer type'!Q61","v":0},{"$f":"'Inputs by customer type'!R61","v":0},{"$f":"'Inputs by customer type'!S61","v":0},{"$f":"'Inputs by customer type'!T61","v":0},{"$f":"'Inputs by customer type'!U61","v":0},{"$f":"'Inputs by customer type'!V61","v":0},{"$f":"'Inputs by customer type'!W61","v":0},{"$f":"'Inputs by customer type'!X61","v":0},{"$f":"'Inputs by customer type'!Y61","v":0},{"$f":"'Inputs by customer type'!Z61","v":0},{"$f":"'Inputs by customer type'!AA61","v":0},{"$f":"'Inputs by customer type'!AB61","v":0},{"$f":"'Inputs by customer type'!AC61","v":0},{"$f":"'Inputs by customer type'!AD61","v":0},{"$f":"'Inputs by customer type'!AE61","v":0},{"$f":"'Inputs by customer type'!AF61","v":0},{"$f":"'Inputs by customer type'!AG61","v":0},{"$f":"'Inputs by customer type'!AH61","v":0},{"$f":"'Inputs by customer type'!AI61","v":0},{"$f":"'Inputs by customer type'!AJ61","v":0},{"$f":"'Inputs by customer type'!AK61","v":0},{"$f":"'Inputs by customer type'!AL61","v":0},{"$f":"'Inputs by customer type'!AM61","v":0},{"$f":"'Inputs by customer type'!AN61","v":0},{"$f":"'Inputs by customer type'!AO61","v":0},{"$f":"'Inputs by customer type'!AP61","v":0}]
[null,null,null,null,null,"Amber or Yellow","%",null,null,{"$f":"'Inputs by customer type'!J62","v":0},{"$f":"'Inputs by customer type'!K62","v":3.225130677046157E-2},{"$f":"'Inputs by customer type'!L62","v":0},{"$f":"'Inputs by customer type'!M62","v":0},{"$f":"'Inputs by customer type'!N62","v":6.4280241541318436E-2},{"$f":"'Inputs by customer type'!O62","v":0},{"$f":"'Inputs by customer type'!P62","v":9.302898512191465E-3},{"$f":"'Inputs by customer type'!Q62","v":3.0426290789113994E-3},{"$f":"'Inputs by customer type'!R62","v":0},{"$f":"'Inputs by customer type'!S62","v":1},{"$f":"'Inputs by customer type'!T62","v":1},{"$f":"'Inputs by customer type'!U62","v":1},{"$f":"'Inputs by customer type'!V62","v":1},{"$f":"'Inputs by customer type'!W62","v":1},{"$f":"'Inputs by customer type'!X62","v":0},{"$f":"'Inputs by customer type'!Y62","v":0},{"$f":"'Inputs by customer type'!Z62","v":0},{"$f":"'Inputs by customer type'!AA62","v":0},{"$f":"'Inputs by customer type'!AB62","v":1},{"$f":"'Inputs by customer type'!AC62","v":0},{"$f":"'Inputs by customer type'!AD62","v":0},{"$f":"'Inputs by customer type'!AE62","v":0},{"$f":"'Inputs by customer type'!AF62","v":0},{"$f":"'Inputs by customer type'!AG62","v":1},{"$f":"'Inputs by customer type'!AH62","v":1},{"$f":"'Inputs by customer type'!AI62","v":0},{"$f":"'Inputs by customer type'!AJ62","v":0},{"$f":"'Inputs by customer type'!AK62","v":1},{"$f":"'Inputs by customer type'!AL62","v":1},{"$f":"'Inputs by customer type'!AM62","v":0},{"$f":"'Inputs by customer type'!AN62","v":0},{"$f":"'Inputs by customer type'!AO62","v":1},{"$f":"'Inputs by customer type'!AP62","v":1}]
[null,null,null,null,null,"Green","%",null,null,{"$f":"'Inputs by customer type'!J63","v":0},{"$f":"'Inputs by customer type'!K63","v":0.96774869322953838},{"$f":"'Inputs by customer type'!L63","v":0},{"$f":"'Inputs by customer type'!M63","v":0},{"$f":"'Inputs by customer type'!N63","v":0.93571975845868149},{"$f":"'Inputs by customer type'!O63","v":0},{"$f":"'Inputs by customer type'!P63","v":0.99069710148780865},{"$f":"'Inputs by customer type'!Q63","v":0.9969573709210886},{"$f":"'Inputs by customer type'!R63","v":1},{"$f":"'Inputs by customer type'!S63","v":0},{"$f":"'Inputs by customer type'!T63","v":0},{"$f":"'Inputs by customer type'!U63","v":0},{"$f":"'Inputs by customer type'!V63","v":0},{"$f":"'Inputs by customer type'!W63","v":0},{"$f":"'Inputs by customer type'!X63","v":0},{"$f":"'Inputs by customer type'!Y63","v":0},{"$f":"'Inputs by customer type'!Z63","v":0},{"$f":"'Inputs by customer type'!AA63","v":0},{"$f":"'Inputs by customer type'!AB63","v":0},{"$f":"'Inputs by customer type'!AC63","v":0},{"$f":"'Inputs by customer type'!AD63","v":0},{"$f":"'Inputs by customer type'!AE63","v":0},{"$f":"'Inputs by customer type'!AF63","v":0},{"$f":"'Inputs by customer type'!AG63","v":0},{"$f":"'Inputs by customer type'!AH63","v":0},{"$f":"'Inputs by customer type'!AI63","v":0},{"$f":"'Inputs by customer type'!AJ63","v":0},{"$f":"'Inputs by customer type'!AK63","v":0},{"$f":"'Inputs by customer type'!AL63","v":0},{"$f":"'Inputs by customer type'!AM63","v":0},{"$f":"'Inputs by customer type'!AN63","v":0},{"$f":"'Inputs by customer type'!AO63","v":0},{"$f":"'Inputs by customer type'!AP63","v":0}]
[null,null,null,null,null,"Red or Black","MWh",null,null,{"$f":"J$37 * J52","v":0},0,0,0,0,0,0,0,0,0,0,0,0,0,0,0,0,0,0,0,0,0,0,0,0,0,0,0,0,0,0,0,0]
[null,null,null,null,null,"Amber or Yellow","MWh",null,null,{"$f":"J$37 * J53","v":0},3910.8856231622485,0,0,5415.3254823749212,0,39.545351828096919,5.4494672937999085E-11,0,2705.2171975872861,78318.12222359619,791851.61687907006,40795.314701131094,895274.13786258397,0,0,0,0,31263.847920010572,0,0,0,0,1185.0893640362958,0,0,0,148.04789377289072,0,0,0,70350.709153135162,0]
[null,null,null,null,null,"Green","MWh",null,null,{"$f":"J$37 * J54","v":0},117351.9720649536,0,0,78830.242868422662,0,4211.3181587511781,1.7855895165805129E-8,25.753194800564419,0,0,0,0,0,0,0,0,0,0,0,0,0,0,0,0,0,0,0,0,0,0,0,0]
[]
[null,null,null,null,"Unit rate 3 split of units by distribution timeband"]
[null,null,null,null,"UMS customers use Black & Yellow timebands, other customers use Red & Amber"]
[null,null,null,null,null,"Red or Black","%",null,null,{"$f":"'Inputs by customer type'!J66","v":0},{"$f":"'Inputs by customer type'!K66","v":0},{"$f":"'Inputs by customer type'!L66","v":0},{"$f":"'Inputs by customer type'!M66","v":0},{"$f":"'Inputs by customer type'!N66","v":0},{"$f":"'Inputs by customer type'!O66","v":0},{"$f":"'Inputs by customer type'!P66","v":0},{"$f":"'Inputs by customer type'!Q66","v":0},{"$f":"'Inputs by customer type'!R66","v":0},{"$f":"'Inputs by customer type'!S66","v":0},{"$f":"'Inputs by customer type'!T66","v":0},{"$f":"'Inputs by customer type'!U66","v":0},{"$f":"'Inputs by customer type'!V66","v":0},{"$f":"'Inputs by customer type'!W66","v":0},{"$f":"'Inputs by customer type'!X66","v":0},{"$f":"'Inputs by customer type'!Y66","v":0},{"$f":"'Inputs by customer type'!Z66","v":0},{"$f":"'Inputs by customer type'!AA66","v":0},{"$f":"'Inputs by customer type'!AB66","v":0},{"$f":"'Inputs by customer type'!AC66","v":0},{"$f":"'Inputs by customer type'!AD66","v":0},{"$f":"'Inputs by customer type'!AE66","v":0},{"$f":"'Inputs by customer type'!AF66","v":0},{"$f":"'Inputs by customer type'!AG66","v":0},{"$f":"'Inputs by customer type'!AH66","v":0},{"$f":"'Inputs by customer type'!AI66","v":0},{"$f":"'Inputs by customer type'!AJ66","v":0},{"$f":"'Inputs by customer type'!AK66","v":0},{"$f":"'Inputs by customer type'!AL66","v":0},{"$f":"'Inputs by customer type'!AM66","v":0},{"$f":"'Inputs by customer type'!AN66","v":0},{"$f":"'Inputs by customer type'!AO66","v":0},{"$f":"'Inputs by customer type'!AP66","v":0}]
[null,null,null,null,null,"Amber or Yellow","%",null,null,{"$f":"'Inputs by customer type'!J67","v":0},{"$f":"'Inputs by customer type'!K67","v":0},{"$f":"'Inputs by customer type'!L67","v":0},{"$f":"'Inputs by customer type'!M67","v":0},{"$f":"'Inputs by customer type'!N67","v":0},{"$f":"'Inputs by customer type'!O67","v":0},{"$f":"'Inputs by customer type'!P67","v":0},{"$f":"'Inputs by customer type'!Q67","v":0},{"$f":"'Inputs by customer type'!R67","v":0},{"$f":"'Inputs by customer type'!S67","v":0},{"$f":"'Inputs by customer type'!T67","v":0},{"$f":"'Inputs by customer type'!U67","v":0},{"$f":"'Inputs by customer type'!V67","v":0},{"$f":"'Inputs by customer type'!W67","v":0},{"$f":"'Inputs by customer type'!X67","v":0},{"$f":"'Inputs by customer type'!Y67","v":0},{"$f":"'Inputs by customer type'!Z67","v":0},{"$f":"'Inputs by customer type'!AA67","v":0},{"$f":"'Inputs by customer type'!AB67","v":0},{"$f":"'Inputs by customer type'!AC67","v":0},{"$f":"'Inputs by customer type'!AD67","v":0},{"$f":"'Inputs by customer type'!AE67","v":0},{"$f":"'Inputs by customer type'!AF67","v":0},{"$f":"'Inputs by customer type'!AG67","v":0},{"$f":"'Inputs by customer type'!AH67","v":0},{"$f":"'Inputs by customer type'!AI67","v":0},{"$f":"'Inputs by customer type'!AJ67","v":0},{"$f":"'Inputs by customer type'!AK67","v":0},{"$f":"'Inputs by customer type'!AL67","v":0},{"$f":"'Inputs by customer type'!AM67","v":0},{"$f":"'Inputs by customer type'!AN67","v":0},{"$f":"'Inputs by customer type'!AO67","v":0},{"$f":"'Inputs by customer type'!AP67","v":0}]
[null,null,null,null,null,"Green","%",null,null,{"$f":"'Inputs by customer type'!J68","v":0},{"$f":"'Inputs by customer type'!K68","v":0},{"$f":"'Inputs by customer type'!L68","v":0},{"$f":"'Inputs by customer type'!M68","v":0},{"$f":"'Inputs by customer type'!N68","v":0},{"$f":"'Inputs by customer type'!O68","v":0},{"$f":"'Inputs by customer type'!P68","v":0},{"$f":"'Inputs by customer type'!Q68","v":0},{"$f":"'Inputs by customer type'!R68","v":0},{"$f":"'Inputs by customer type'!S68","v":1},{"$f":"'Inputs by customer type'!T68","v":1},{"$f":"'Inputs by customer type'!U68","v":1},{"$f":"'Inputs by customer type'!V68","v":1},{"$f":"'Inputs by customer type'!W68","v":1},{"$f":"'Inputs by customer type'!X68","v":0},{"$f":"'Inputs by customer type'!Y68","v":0},{"$f":"'Inputs by customer type'!Z68","v":0},{"$f":"'Inputs by customer type'!AA68","v":0},{"$f":"'Inputs by customer type'!AB68","v":1},{"$f":"'Inputs by customer type'!AC68","v":0},{"$f":"'Inputs by customer type'!AD68","v":0},{"$f":"'Inputs by customer type'!AE68","v":0},{"$f":"'Inputs by customer type'!AF68","v":0},{"$f":"'Inputs by customer type'!AG68","v":1},{"$f":"'Inputs by customer type'!AH68","v":1},{"$f":"'Inputs by customer type'!AI68","v":0},{"$f":"'Inputs by customer type'!AJ68","v":0},{"$f":"'Inputs by customer type'!AK68","v":1},{"$f":"'Inputs by customer type'!AL68","v":1},{"$f":"'Inputs by customer type'!AM68","v":0},{"$f":"'Inputs by customer type'!AN68","v":0},{"$f":"'Inputs by customer type'!AO68","v":1},{"$f":"'Inputs by customer type'!AP68","v":1}]
[null,null,null,null,null,"Red or Black","MWh",null,null,{"$f":"J$38 * J61","v":0},0,0,0,0,0,0,0,0,0,0,0,0,0,0,0,0,0,0,0,0,0,0,0,0,0,0,0,0,0,0,0,0]
[null,null,null,null,null,"Amber or Yellow","MWh",null,null,{"$f":"J$38 * J62","v":0},0,0,0,0,0,0,0,0,0,0,0,0,0,0,0,0,0,0,0,0,0,0,0,0,0,0,0,0,0,0,0,0]
[null,null,null,null,null,"Green","MWh",null,null,{"$f":"J$38 * J63","v":0},0,0,0,0,0,0,0,0,2375.2858263176454,56269.737973494914,593772.18207476882,35689.998034384873,848689.50836905383,0,0,0,0,73749.776463945847,0,0,0,0,1145.5607796251077,0,0,0,149.37121031591738,0,0,0,57893.659515242049,0]
[]
[null,null,null,null,"Total units split by distribution timeband"]
[null,null,null,null,"UMS customers use Black & Yellow timebands, other customers use Red & Amber"]
[null,null,null,null,null,"Red or Black","%",null,null,{"$f":"IF(J$39 = 0, 0, (J64+  J55 + J46) / J$39)","v":0.11197507769618557},{"$f":"IF(K$39 = 0, 0, (K64+  K55 + K46) / K$39)","v":7.2847231923283351E-2},0,7.2901843200616878E-2,7.2967853061304072E-2,1.2095107556112362E-4,8.0211103505810552E-2,7.7815172323302345E-2,7.0247475963099895E-2,{"$f":"IF(S$39 = 0, 0, (S64+  S55 + S46) / S$39)","v":9.7490728195326906E-2},7.9302410335555948E-2,8.2702724699972238E-2,8.1580322142797812E-2,7.7651395055830422E-2,2.1669744075987082E-2,4.2410020745840361E-2,7.1340446485220546E-2,0,4.3590162836267501E-2,7.448630136986302E-2,0,7.448630136986302E-2,0,7.3428947648642703E-2,0,7.448630136986302E-2,0,0.10954842191034708,0,7.448630136986302E-2,0,0.19279626138880482,0]
[null,null,null,null,null,"Amber or Yellow","%",null,null,{"$f":"IF(J$39 = 0, 0, (J65+  J56 + J47) / J$39)","v":0.50191649625201062},0.33601985129582362,0.16936876960443484,0.5784518528769218,0.48161402443104939,0.17446773823156181,0.51875994768551303,0.52300001823997988,0.50013647621180735,{"$f":"IF(S$39 = 0, 0, (S65+  S56 + S47) / S$39)","v":0.48055942326581441},0.53576382188346006,0.52421395414361727,0.48986162762328739,0.47349315674351483,0.48135214711680002,0.19137173000067045,0.35889796794961448,0,0.28473497485395982,0.42876712328767125,0,0.42876712328767125,0,0.47114299936946635,0,0.42876712328767119,0,0.44324483138633924,0,0.42876712328767125,0,0.44280584038121812,0]
[null,null,null,null,null,"Green","%",null,null,{"$f":"IF(J$39 = 0, 0, (J66+  J57 + J48) / J$39)","v":0.38610842605180379},0.59113291678089286,0.83063123039556519,0.34864630392246126,0.44541812250764656,0.82541131069287699,0.40102894880867651,0.39918480943671758,0.42961604782509283,{"$f":"IF(S$39 = 0, 0, (S66+  S57 + S48) / S$39)","v":0.42194984853885864},0.38493376778098398,0.39308332115641048,0.4285580502339148,0.44885544820065482,0.49697810880721294,0.76621824925348925,0.56976158556516499,0,0.6716748623097728,0.4967465753424658,0,0.49674657534246575,0,0.45542805298189087,0,0.49674657534246575,0,0.44720674670331356,0,0.49674657534246575,0,0.36439789822997698,0]
[null,null,null,null,null,"Red or Black","MWh",null,null,{"$f":"J64+  J55 + J46","v":347090.59763747291},19417.614103952375,0,58989.006629426323,20721.482622083258,0.19089878989638207,1457.1065627987969,5.9556593780820145E-9,6.2023006747403899,548.80537505020618,11592.451023385509,124926.63683659973,6793.9490002153352,146822.15523569478,46.834949768176408,222.59988373405281,20.612411575892605,0,4786.1918698977543,114.34578339041097,0,2339.6140766129934,0,184.69947550370838,0,60.118498291952079,0,36.59019120255607,0,23433.700678060792,0,30630.476100086526,0]
[null,null,null,null,null,"Amber or Yellow","MWh",null,null,{"$f":"J65+  J56 + J47","v":1555797.0597786983},89566.942098788873,362.46785080216443,468058.12701141613,136769.22396791723,275.36489402719371,9423.7392487059406,4.0028311579479051E-8,44.158124706149053,2705.2171975872861,78318.12222359619,791851.61687907006,40795.314701131094,895274.13786258397,1040.349325398864,1004.4636644586408,103.69647224820135,0,31263.847920010572,658.2111301369863,0,13467.571604227436,0,1185.0893640362958,0,346.06142465068501,0,148.04789377289072,0,134891.9229835959,0,70350.709153135162,0]
[null,null,null,null,null,"Green","MWh",null,null,{"$f":"J66+  J57 + J48","v":1196825.2856657745},157567.9755997216,1777.6424638013928,282109.45334826631,126490.27616790069,1302.7583231240269,7285.0501693832848,3.0551994976405596E-8,37.931724475119324,2375.2858263176454,56269.737973494914,593772.18207476882,35689.998034384873,848689.50836905383,1074.1218115105441,4021.6932271947776,164.62134567990606,0,73749.776463945847,762.56808647260277,0,15602.805600584581,0,1145.5607796251077,0,400.92819205736311,0,149.37121031591738,0,156278.54176334332,0,57893.659515242049,0]
[]
[null,null,{"$f":"INDEX('Version control'!$H$34:$H$59,MATCH($A$1,'Version control'!$F$34:$F$59,0),1)&\"-C: Aggregated values for UMS customers\"","v":"Section 508-C: Aggregated values for UMS customers"}]
[]
[null,null,null,null,"Split of units by timeband for UMS group"]
[null,null,null,null,null,"Red or Black","%",{"$f":"SUM(X73:AB73) / SUM($X$73:$AB$75)","v":4.3202472801683781E-2}]
[null,null,null,null,null,"Amber or Yellow","%",{"$f":"SUM(X74:AB74) / SUM($X$73:$AB$75)","v":0.28436336987799221}]
[null,null,null,null,null,"Green","%",{"$f":"SUM(X75:AB75) / SUM($X$73:$AB$75)","v":0.67243415732032397}]
[]
[null,null,null,null,"Hours in black timeband",null,"hours",{"$f":"X29","v":190}]
[]
[null,null,{"$f":"INDEX('Version control'!$H$34:$H$59,MATCH($A$1,'Version control'!$F$34:$F$59,0),1)&\"-D: Ratio of coincidence to load factor assuming units evenly spread within time bands, and peak falls in Red period\"","v":"Section 508-D: Ratio of coincidence to load factor assuming units evenly spread within time bands, and peak falls in Red period"}]
[]
[null,null,null,null,"Ratio of coincidence to load factor",null,"scalar",null,null,{"$f":"J70 * hours_in_year / J29","v":1.5032975948177556},0.97799502168270058,0,0.97872819377379894,0.97961439512187531,1.6238029454642801E-3,1.0768571137331806,1.044691049122036,0.94309255086092725,1.3088410405993312,1.0646576468037856,1.1103078442479033,1.095239267388366,1.0424922922437923,0.99908925318761499,1.955325167018745,3.2891700590027999,0,2.0097359286615961,1,0,1,0,0.98580472245534112,0,1,0,1.4707190435779931,0,1,0,2.5883452103692415,0]
[null,null,null,null,"Aggregated ratio for UMS customers",null,"scalar",{"$f":"H80 * hours_in_year / H84","v":1.9918613775934209},">",null,null,null,null,null,null,null,null,null,null,null,null,null,null,null,null,null,null,null,null,null,null,null,null,null,null,null,null,null,null,null,null,null,null,"Paragraph 70 (c) iv"]
[null,null,null,null,"Ratio of coincidence to load factor, adjusted for UMS customers",null,"scalar",null,null,{"$f":"IF(J24, $H89, J88)","v":1.5032975948177556},0.97799502168270058,0,0.97872819377379894,0.97961439512187531,1.6238029454642801E-3,1.0768571137331806,1.044691049122036,0.94309255086092725,1.3088410405993312,1.0646576468037856,1.1103078442479033,1.095239267388366,1.0424922922437923,1.9918613775934209,1.9918613775934209,1.9918613775934209,1.9918613775934209,1.9918613775934209,1,0,1,0,0.98580472245534112,0,1,0,1.4707190435779931,0,1,0,2.5883452103692415,0]
[]
[null,"Step 2: Calculate correction factor"]
[]
[null,null,"This section calculates the correction factor described in Paragraph 70 (c) ii"]
[]
[null,null,{"$f":"INDEX('Version control'!$H$34:$H$59,MATCH($A$1,'Version control'!$F$34:$F$59,0),1)&\"-E: Load characteristics for all customers\"","v":"Section 508-E: Load characteristics for all customers"}]
[]
[null,null,null,null,"Load factor",null,"%",null,null,{"$f":"'Inputs by customer type'!J18","v":0.42237494697917882},{"$f":"'Inputs by customer type'!K18","v":0.26398480143431713},{"$f":"'Inputs by customer type'!L18","v":0.18556835278944098},{"$f":"'Inputs by customer type'!M18","v":0.38285000403403185},{"$f":"'Inputs by customer type'!N18","v":0.54689906083228135},{"$f":"'Inputs by customer type'!O18","v":0.19446816400030753},{"$f":"'Inputs by customer type'!P18","v":0.51692685973305263},{"$f":"'Inputs by customer type'!Q18","v":0.51692685973305263},{"$f":"'Inputs by customer type'!R18","v":0.35378487279250775},{"$f":"'Inputs by customer type'!S18","v":0.41318307580770508},{"$f":"'Inputs by customer type'!T18","v":0.45494981483091834},{"$f":"'Inputs by customer type'!U18","v":0.57813973589617251},{"$f":"'Inputs by customer type'!V18","v":0.61241862913288092},{"$f":"'Inputs by customer type'!W18","v":0.72831305490483211},{"$f":"'Inputs by customer type'!X18","v":0.99999999999996481},{"$f":"'Inputs by customer type'!Y18","v":0.47333832682901394},{"$f":"'Inputs by customer type'!Z18","v":0.28177980195230445},{"$f":"'Inputs by customer type'!AA18","v":0.51558955092806569},{"$f":"'Inputs by customer type'!AB18","v":0.44064329109655392},{"$f":"'Inputs by customer type'!AC18","v":0},{"$f":"'Inputs by customer type'!AD18","v":0},{"$f":"'Inputs by customer type'!AE18","v":0},{"$f":"'Inputs by customer type'!AF18","v":0},{"$f":"'Inputs by customer type'!AG18","v":0},{"$f":"'Inputs by customer type'!AH18","v":0},{"$f":"'Inputs by customer type'!AI18","v":0},{"$f":"'Inputs by customer type'!AJ18","v":0},{"$f":"'Inputs by customer type'!AK18","v":0},{"$f":"'Inputs by customer type'!AL18","v":0},{"$f":"'Inputs by customer type'!AM18","v":0},{"$f":"'Inputs by customer type'!AN18","v":0},{"$f":"'Inputs by customer type'!AO18","v":0},{"$f":"'Inputs by customer type'!AP18","v":0}]
[null,null,null,null,"Coincidence factor",null,"%",null,null,{"$f":"'Inputs by customer type'!J19","v":0.9187565249767945},{"$f":"'Inputs by customer type'!K19","v":0.35449717215882698},{"$f":"'Inputs by customer type'!L19","v":0},{"$f":"'Inputs by customer type'!M19","v":0.45887412596442934},{"$f":"'Inputs by customer type'!N19","v":0.70195927574142802},{"$f":"'Inputs by customer type'!O19","v":0},{"$f":"'Inputs by customer type'!P19","v":0.63783555636781242},{"$f":"'Inputs by customer type'!Q19","v":0.63783555636781242},{"$f":"'Inputs by customer type'!R19","v":0.4007371669768614},{"$f":"'Inputs by customer type'!S19","v":0.8868093185229472},{"$f":"'Inputs by customer type'!T19","v":0.57308219954297546},{"$f":"'Inputs by customer type'!U19","v":0.71249798958406885},{"$f":"'Inputs by customer type'!V19","v":0.71454624531972177},{"$f":"'Inputs by customer type'!W19","v":0.78101241030218727},{"$f":"'Inputs by customer type'!X19","v":1},{"$f":"'Inputs by customer type'!Y19","v":1},{"$f":"'Inputs by customer type'!Z19","v":1},{"$f":"'Inputs by customer type'!AA19","v":0},{"$f":"'Inputs by customer type'!AB19","v":0.93562992081665508},{"$f":"'Inputs by customer type'!AC19","v":0},{"$f":"'Inputs by customer type'!AD19","v":0},{"$f":"'Inputs by customer type'!AE19","v":0},{"$f":"'Inputs by customer type'!AF19","v":0},{"$f":"'Inputs by customer type'!AG19","v":0},{"$f":"'Inputs by customer type'!AH19","v":0},{"$f":"'Inputs by customer type'!AI19","v":0},{"$f":"'Inputs by customer type'!AJ19","v":0},{"$f":"'Inputs by customer type'!AK19","v":0},{"$f":"'Inputs by customer type'!AL19","v":0},{"$f":"'Inputs by customer type'!AM19","v":0},{"$f":"'Inputs by customer type'!AN19","v":0},{"$f":"'Inputs by customer type'!AO19","v":0},{"$f":"'Inputs by customer type'!AP19","v":0}]
[]
[null,null,{"$f":"INDEX('Version control'!$H$34:$H$59,MATCH($A$1,'Version control'!$F$34:$F$59,0),1)&\"-F: Aggregated load characteristics for UMS customers\"","v":"Section 508-F: Aggregated load characteristics for UMS customers"}]
[]
[null,null,null,"Calculation of maximum load"]
[]
[null,null,null,null,"Average load",null,"MW",null,null,null,null,null,null,null,null,null,null,null,null,null,null,null,null,{"$f":"X39 / hours_in_year","v":0.24672443911844572},{"$f":"Y39 / hours_in_year","v":0.59917314787528209},{"$f":"Z39 / hours_in_year","v":3.2982902911415528E-2},{"$f":"AA39 / hours_in_year","v":0},{"$f":"AB39 / hours_in_year","v":12.534225599755041}]
[null,null,null,null,"Maximum load",null,"MW",null,null,null,null,null,null,null,null,null,null,null,null,null,null,null,null,{"$f":"IF(X98 = 0, 0, X39 / (X98 * hours_in_year))","v":0.24672443911845438},{"$f":"IF(Y98 = 0, 0, Y39 / (Y98 * hours_in_year))","v":1.2658454089050006},{"$f":"IF(Z98 = 0, 0, Z39 / (Z98 * hours_in_year))","v":0.11705204802790793},{"$f":"IF(AA98 = 0, 0, AA39 / (AA98 * hours_in_year))","v":0},{"$f":"IF(AB98 = 0, 0, AB39 / (AB98 * hours_in_year))","v":28.445288633722864}]
[null,null,null,null,"System peak load",null,"MW",null,null,null,null,null,null,null,null,null,null,null,null,null,null,null,null,{"$f":"X106 * X99","v":0.24672443911845438},{"$f":"Y106 * Y99","v":1.2658454089050006},{"$f":"Z106 * Z99","v":0.11705204802790793},{"$f":"AA106 * AA99","v":0},{"$f":"AB106 * AB99","v":26.614263151977021}]
[]
[null,null,null,"Load and coincidence factor for UMS group"]
[]
[null,null,null,null,"Load factor",null,"%",{"$f":"SUM(X105:AB105) / SUM(X106:AB106)","v":0.44598989168666614}]
[null,null,null,null,"Coincidence factor",null,"%",{"$f":"SUM(X107:AB107) / SUM(X106:AB106)","v":0.9391178411010358}]
[]
[null,null,{"$f":"INDEX('Version control'!$H$34:$H$59,MATCH($A$1,'Version control'!$F$34:$F$59,0),1)&\"-G: Calculation of correction factor\"","v":"Section 508-G: Calculation of correction factor"}]
[]
[null,null,null,null,"Load coefficient",null,"scalar",null,null,{"$f":"IF(AND(J98 = 0, J99 = 0), 1, J99 / J98)","v":2.1752154846013747},1.3428696282237691,0,1.1985741703783281,1.2835262044026425,0,1.2338990407602315,1.2338990407602315,1.132714250368446,2.1462866473641995,1.2596602545183162,1.2323975422302154,1.1667611194836489,1.0723581089786196,1.0000000000000351,2.1126537686039404,3.5488704054425635,0,2.1233272801869107,1,1,1,1,1,1,1,1,1,1,1,1,1,1]
[null,null,null,null,"Aggregated load coefficient for UMS customers",null,"scalar",{"$f":"H112 / H111","v":2.1056931078626793},">",null,null,null,null,null,null,null,null,null,null,null,null,null,null,null,null,null,null,null,null,null,null,null,null,null,null,null,null,null,null,null,null,null,null,"Paragraph 70 (c.iv)"]
[null,null,null,null,"Load coefficient, adjusted for UMS customers",null,"scalar",null,null,{"$f":"IF(J$24, $H117, J116)","v":2.1752154846013747},1.3428696282237691,0,1.1985741703783281,1.2835262044026425,0,1.2338990407602315,1.2338990407602315,1.132714250368446,2.1462866473641995,1.2596602545183162,1.2323975422302154,1.1667611194836489,1.0723581089786196,2.1056931078626793,2.1056931078626793,2.1056931078626793,2.1056931078626793,2.1056931078626793,1,1,1,1,1,1,1,1,1,1,1,1,1,1]
[]
[null,null,null,null,"Correction factor",null,"scalar",null,null,{"$f":"IF(OR(J90 = 0, J99 = 0), 1, J118 / J90)","v":1.4469626586910596},{"$f":"IF(OR(K90 = 0, K99 = 0), 1, K118 / K90)","v":1.3730843188887396},1,1.2246241377361808,1.3102361610794389,1,1.1458335790554679,1.1811138247974911,1.2010637231037584,1.639837520973054,1.1831599184018908,1.1099602228470364,1.0653024907204334,1.0286484772664803,1.0571484198397334,1.0571484198397334,1.0571484198397334,1,1.0571484198397334,1,1,1,1,1,1,1,1,1,1,1,1,1,1]
[null,null,null,null,"Correction factor, for UMS customers",null,"scalar",{"$f":"H117 / H89","v":1.0571484198397334}]
[null,null,null,null,"Correction factor, adjusted for UMS customers",null,"scalar",null,">",{"$f":"IF(J$24, $H121, J120)","v":1.4469626586910596},1.3730843188887396,1,1.2246241377361808,1.3102361610794389,1,1.1458335790554679,1.1811138247974911,1.2010637231037584,1.639837520973054,1.1831599184018908,1.1099602228470364,1.0653024907204334,1.0286484772664803,1.0571484198397334,1.0571484198397334,1.0571484198397334,1.0571484198397334,1.0571484198397334,1,1,1,1,1,1,1,1,1,1,1,1,1,1,null,"Paragraph 70 (c.ii)"]
[]
[null,"Step 3: Ratio of coincidence factor (to network asset peak) to load factor, given peaking probabilities, multiplied by correction factor"]
[null,null,null,null,null,null,null,null,">",null,null,null,null,null,null,null,null,null,null,null,null,null,null,null,null,null,null,null,null,null,null,null,null,null,null,null,null,null,null,null,null,null,null,"Paragraph 70 (c.iii)"]
[null,null,"This section calculates the pseudo load coefficient in line with Paragraph 70 (c) iii"]
[null,null,"Mathematical simplifications have been used to avoid errors when estimated volumes are zero"]
[]
[null,null,{"$f":"INDEX('Version control'!$H$34:$H$59,MATCH($A$1,'Version control'!$F$34:$F$59,0),1)&\"-H: Peaking probabilities, by network level\"","v":"Section 508-H: Peaking probabilities, by network level"}]
[]
[null,null,null,null,"GSPs peaking probabilities"]
[null,null,null,null,null,"Red","%",{"$f":"'Inputs by network level'!K43","v":0.77513261918728082}]
[null,null,null,null,null,"Amber","%",{"$f":"'Inputs by network level'!K44","v":0.17378199862228649}]
[null,null,null,null,null,"Green","%",{"$f":"'Inputs by network level'!K45","v":5.1085382190432682E-2}]
[null,null,null,null,null,"Black","%",{"$f":"'Inputs by network level'!K46","v":0.60679682585338368}]
[null,null,null,null,null,"Yellow","%",{"$f":"SUM(H132:H133) - H135","v":0.34211779195618364}]
[null,null,null,null,null,"Green","%",{"$f":"H134","v":5.1085382190432682E-2}]
[]
[null,null,null,null,"132kV peaking probabilities"]
[null,null,null,null,null,"Red or Black","%",{"$f":"'Inputs by network level'!L43","v":0.56779401321073086}]
[null,null,null,null,null,"Amber or Yellow","%",{"$f":"'Inputs by network level'!L44","v":0.26682449702026062}]
[null,null,null,null,null,"Green","%",{"$f":"'Inputs by network level'!L45","v":0.16538148976900843}]
[null,null,null,null,null,"Black","%",{"$f":"'Inputs by network level'!L46","v":0.46666336703292904}]
[null,null,null,null,null,"Yellow","%",{"$f":"SUM(H140:H141) - H143","v":0.3679551431980625}]
[null,null,null,null,null,"Green","%",{"$f":"H142","v":0.16538148976900843}]
[]
[null,null,null,null,"132kV/EHV peaking probabilities"]
[null,null,null,null,null,"Red or Black","%",{"$f":"'Inputs by network level'!M43","v":0.56779401321073086}]
[null,null,null,null,null,"Amber or Yellow","%",{"$f":"'Inputs by network level'!M44","v":0.26682449702026062}]
[null,null,null,null,null,"Green","%",{"$f":"'Inputs by network level'!M45","v":0.16538148976900843}]
[null,null,null,null,null,"Black","%",{"$f":"'Inputs by network level'!M46","v":0.46666336703292904}]
[null,null,null,null,null,"Yellow","%",{"$f":"SUM(H148:H149) - H151","v":0.3679551431980625}]
[null,null,null,null,null,"Green","%",{"$f":"H150","v":0.16538148976900843}]
[]
[null,null,null,null,"EHV peaking probabilities"]
[null,null,null,null,null,"Red or Black","%",{"$f":"'Inputs by network level'!N43","v":0.63580540031951882}]
[null,null,null,null,null,"Amber or Yellow","%",{"$f":"'Inputs by network level'!N44","v":0.31463582744008911}]
[null,null,null,null,null,"Green","%",{"$f":"'Inputs by network level'!N45","v":4.9558772240392047E-2}]
[null,null,null,null,null,"Black","%",{"$f":"'Inputs by network level'!N46","v":0.46262985578084642}]
[null,null,null,null,null,"Yellow","%",{"$f":"SUM(H156:H157) - H159","v":0.48781137197876151}]
[null,null,null,null,null,"Green","%",{"$f":"H158","v":4.9558772240392047E-2}]
[]
[null,null,null,null,"EHV/HV peaking probabilities"]
[null,null,null,null,null,"Red or Black","%",{"$f":"'Inputs by network level'!O43","v":0.63580540031951882}]
[null,null,null,null,null,"Amber or Yellow","%",{"$f":"'Inputs by network level'!O44","v":0.31463582744008911}]
[null,null,null,null,null,"Green","%",{"$f":"'Inputs by network level'!O45","v":4.9558772240392047E-2}]
[null,null,null,null,null,"Black","%",{"$f":"'Inputs by network level'!O46","v":0.46262985578084642}]
[null,null,null,null,null,"Yellow","%",{"$f":"SUM(H164:H165) - H167","v":0.48781137197876151}]
[null,null,null,null,null,"Green","%",{"$f":"H166","v":4.9558772240392047E-2}]
[]
[null,null,null,null,"132kV/HV peaking probabilities"]
[null,null,null,null,null,"Red or Black","%",{"$f":"'Inputs by network level'!P43","v":0.56779401321073086}]
[null,null,null,null,null,"Amber or Yellow","%",{"$f":"'Inputs by network level'!P44","v":0.26682449702026062}]
[null,null,null,null,null,"Green","%",{"$f":"'Inputs by network level'!P45","v":0.16538148976900843}]
[null,null,null,null,null,"Black","%",{"$f":"'Inputs by network level'!P46","v":0.46666336703292904}]
[null,null,null,null,null,"Yellow","%",{"$f":"SUM(H172:H173) - H175","v":0.3679551431980625}]
[null,null,null,null,null,"Green","%",{"$f":"H174","v":0.16538148976900843}]
[]
[null,null,null,null,"HV peaking probabilities"]
[null,null,null,null,null,"Red or Black","%",{"$f":"'Inputs by network level'!Q43","v":0.63580540031951882}]
[null,null,null,null,null,"Amber or Yellow","%",{"$f":"'Inputs by network level'!Q44","v":0.31463582744008911}]
[null,null,null,null,null,"Green","%",{"$f":"'Inputs by network level'!Q45","v":4.9558772240392047E-2}]
[null,null,null,null,null,"Black","%",{"$f":"'Inputs by network level'!Q46","v":0.46262985578084642}]
[null,null,null,null,null,"Yellow","%",{"$f":"SUM(H180:H181) - H183","v":0.48781137197876151}]
[null,null,null,null,null,"Green","%",{"$f":"H182","v":4.9558772240392047E-2}]
[]
[null,null,null,null,"HV/LV peaking probabilities"]
[null,null,null,null,null,"Red or Black","%",{"$f":"'Inputs by network level'!R43","v":0.63580540031951882}]
[null,null,null,null,null,"Amber or Yellow","%",{"$f":"'Inputs by network level'!R44","v":0.31463582744008911}]
[null,null,null,null,null,"Green","%",{"$f":"'Inputs by network level'!R45","v":4.9558772240392047E-2}]
[null,null,null,null,null,"Black","%",{"$f":"'Inputs by network level'!R46","v":0.46262985578084642}]
[null,null,null,null,null,"Yellow","%",{"$f":"SUM(H188:H189) - H191","v":0.48781137197876151}]
[null,null,null,null,null,"Green","%",{"$f":"H190","v":4.9558772240392047E-2}]
[]
[null,null,null,null,"LV circuits peaking probabilities"]
[null,null,null,null,null,"Red or Black","%",{"$f":"'Inputs by network level'!S43","v":0.63580540031951882}]
[null,null,null,null,null,"Amber or Yellow","%",{"$f":"'Inputs by network level'!S44","v":0.31463582744008911}]
[null,null,null,null,null,"Green","%",{"$f":"'Inputs by network level'!S45","v":4.9558772240392047E-2}]
[null,null,null,null,null,"Black","%",{"$f":"'Inputs by network level'!S46","v":0.46262985578084642}]
[null,null,null,null,null,"Yellow","%",{"$f":"SUM(H196:H197) - H199","v":0.48781137197876151}]
[null,null,null,null,null,"Green","%",{"$f":"H198","v":4.9558772240392047E-2}]
[]
[null,null,{"$f":"INDEX('Version control'!$H$34:$H$59,MATCH($A$1,'Version control'!$F$34:$F$59,0),1)&\"-I: Peaking probabilities, by network level and customer type\"","v":"Section 508-I: Peaking probabilities, by network level and customer type"}]
[]
[null,null,null,null,"GSPs peaking probabilities"]
[null,null,null,null,null,"Red or Black","%",null,null,{"$f":"IF(J$24, $H135, $H132)","v":0.77513261918728082},0.77513261918728082,0.77513261918728082,0.77513261918728082,0.77513261918728082,0.77513261918728082,0.77513261918728082,0.77513261918728082,0.77513261918728082,0.77513261918728082,0.77513261918728082,0.77513261918728082,0.77513261918728082,0.77513261918728082,0.60679682585338368,0.60679682585338368,0.60679682585338368,0.60679682585338368,0.60679682585338368,0.77513261918728082,0.77513261918728082,0.77513261918728082,0.77513261918728082,0.77513261918728082,0.77513261918728082,0.77513261918728082,0.77513261918728082,0.77513261918728082,0.77513261918728082,0.77513261918728082,0.77513261918728082,0.77513261918728082,0.77513261918728082]
[null,null,null,null,null,"Amber or Yellow","%",null,null,{"$f":"IF(J$24, $H136, $H133)","v":0.17378199862228649},0.17378199862228649,0.17378199862228649,0.17378199862228649,0.17378199862228649,0.17378199862228649,0.17378199862228649,0.17378199862228649,0.17378199862228649,0.17378199862228649,0.17378199862228649,0.17378199862228649,0.17378199862228649,0.17378199862228649,0.34211779195618364,0.34211779195618364,0.34211779195618364,0.34211779195618364,0.34211779195618364,0.17378199862228649,0.17378199862228649,0.17378199862228649,0.17378199862228649,0.17378199862228649,0.17378199862228649,0.17378199862228649,0.17378199862228649,0.17378199862228649,0.17378199862228649,0.17378199862228649,0.17378199862228649,0.17378199862228649,0.17378199862228649]
[null,null,null,null,null,"Green","%",null,null,{"$f":"IF(J$24, $H137, $H134)","v":5.1085382190432682E-2},5.1085382190432682E-2,5.1085382190432682E-2,5.1085382190432682E-2,5.1085382190432682E-2,5.1085382190432682E-2,5.1085382190432682E-2,5.1085382190432682E-2,5.1085382190432682E-2,5.1085382190432682E-2,5.1085382190432682E-2,5.1085382190432682E-2,5.1085382190432682E-2,5.1085382190432682E-2,5.1085382190432682E-2,5.1085382190432682E-2,5.1085382190432682E-2,5.1085382190432682E-2,5.1085382190432682E-2,5.1085382190432682E-2,5.1085382190432682E-2,5.1085382190432682E-2,5.1085382190432682E-2,5.1085382190432682E-2,5.1085382190432682E-2,5.1085382190432682E-2,5.1085382190432682E-2,5.1085382190432682E-2,5.1085382190432682E-2,5.1085382190432682E-2,5.1085382190432682E-2,5.1085382190432682E-2,5.1085382190432682E-2]
[]
[null,null,null,null,"132kV peaking probabilities"]
[null,null,null,null,null,"Red or Black","%",null,null,{"$f":"IF(J$24, $H143, $H140)","v":0.56779401321073086},0.56779401321073086,0.56779401321073086,0.56779401321073086,0.56779401321073086,0.56779401321073086,0.56779401321073086,0.56779401321073086,0.56779401321073086,0.56779401321073086,0.56779401321073086,0.56779401321073086,0.56779401321073086,0.56779401321073086,0.46666336703292904,0.46666336703292904,0.46666336703292904,0.46666336703292904,0.46666336703292904,0.56779401321073086,0.56779401321073086,0.56779401321073086,0.56779401321073086,0.56779401321073086,0.56779401321073086,0.56779401321073086,0.56779401321073086,0.56779401321073086,0.56779401321073086,0.56779401321073086,0.56779401321073086,0.56779401321073086,0.56779401321073086]
[null,null,null,null,null,"Amber or Yellow","%",null,null,{"$f":"IF(J$24, $H144, $H141)","v":0.26682449702026062},0.26682449702026062,0.26682449702026062,0.26682449702026062,0.26682449702026062,0.26682449702026062,0.26682449702026062,0.26682449702026062,0.26682449702026062,0.26682449702026062,0.26682449702026062,0.26682449702026062,0.26682449702026062,0.26682449702026062,0.3679551431980625,0.3679551431980625,0.3679551431980625,0.3679551431980625,0.3679551431980625,0.26682449702026062,0.26682449702026062,0.26682449702026062,0.26682449702026062,0.26682449702026062,0.26682449702026062,0.26682449702026062,0.26682449702026062,0.26682449702026062,0.26682449702026062,0.26682449702026062,0.26682449702026062,0.26682449702026062,0.26682449702026062]
[null,null,null,null,null,"Green","%",null,null,{"$f":"IF(J$24, $H145, $H142)","v":0.16538148976900843},0.16538148976900843,0.16538148976900843,0.16538148976900843,0.16538148976900843,0.16538148976900843,0.16538148976900843,0.16538148976900843,0.16538148976900843,0.16538148976900843,0.16538148976900843,0.16538148976900843,0.16538148976900843,0.16538148976900843,0.16538148976900843,0.16538148976900843,0.16538148976900843,0.16538148976900843,0.16538148976900843,0.16538148976900843,0.16538148976900843,0.16538148976900843,0.16538148976900843,0.16538148976900843,0.16538148976900843,0.16538148976900843,0.16538148976900843,0.16538148976900843,0.16538148976900843,0.16538148976900843,0.16538148976900843,0.16538148976900843,0.16538148976900843]
[]
[null,null,null,null,"132kV/EHV peaking probabilities"]
[null,null,null,null,null,"Red or Black","%",null,null,{"$f":"IF(J$24, $H151, $H148)","v":0.56779401321073086},0.56779401321073086,0.56779401321073086,0.56779401321073086,0.56779401321073086,0.56779401321073086,0.56779401321073086,0.56779401321073086,0.56779401321073086,0.56779401321073086,0.56779401321073086,0.56779401321073086,0.56779401321073086,0.56779401321073086,0.46666336703292904,0.46666336703292904,0.46666336703292904,0.46666336703292904,0.46666336703292904,0.56779401321073086,0.56779401321073086,0.56779401321073086,0.56779401321073086,0.56779401321073086,0.56779401321073086,0.56779401321073086,0.56779401321073086,0.56779401321073086,0.56779401321073086,0.56779401321073086,0.56779401321073086,0.56779401321073086,0.56779401321073086]
[null,null,null,null,null,"Amber or Yellow","%",null,null,{"$f":"IF(J$24, $H152, $H149)","v":0.26682449702026062},0.26682449702026062,0.26682449702026062,0.26682449702026062,0.26682449702026062,0.26682449702026062,0.26682449702026062,0.26682449702026062,0.26682449702026062,0.26682449702026062,0.26682449702026062,0.26682449702026062,0.26682449702026062,0.26682449702026062,0.3679551431980625,0.3679551431980625,0.3679551431980625,0.3679551431980625,0.3679551431980625,0.26682449702026062,0.26682449702026062,0.26682449702026062,0.26682449702026062,0.26682449702026062,0.26682449702026062,0.26682449702026062,0.26682449702026062,0.26682449702026062,0.26682449702026062,0.26682449702026062,0.26682449702026062,0.26682449702026062,0.26682449702026062]
[null,null,null,null,null,"Green","%",null,null,{"$f":"IF(J$24, $H153, $H150)","v":0.16538148976900843},0.16538148976900843,0.16538148976900843,0.16538148976900843,0.16538148976900843,0.16538148976900843,0.16538148976900843,0.16538148976900843,0.16538148976900843,0.16538148976900843,0.16538148976900843,0.16538148976900843,0.16538148976900843,0.16538148976900843,0.16538148976900843,0.16538148976900843,0.16538148976900843,0.16538148976900843,0.16538148976900843,0.16538148976900843,0.16538148976900843,0.16538148976900843,0.16538148976900843,0.16538148976900843,0.16538148976900843,0.16538148976900843,0.16538148976900843,0.16538148976900843,0.16538148976900843,0.16538148976900843,0.16538148976900843,0.16538148976900843,0.16538148976900843]
[]
[null,null,null,null,"EHV peaking probabilities"]
[null,null,null,null,null,"Red or Black","%",null,null,{"$f":"IF(J$24, $H159, $H156)","v":0.63580540031951882},0.63580540031951882,0.63580540031951882,0.63580540031951882,0.63580540031951882,0.63580540031951882,0.63580540031951882,0.63580540031951882,0.63580540031951882,0.63580540031951882,0.63580540031951882,0.63580540031951882,0.63580540031951882,0.63580540031951882,0.46262985578084642,0.46262985578084642,0.46262985578084642,0.46262985578084642,0.46262985578084642,0.63580540031951882,0.63580540031951882,0.63580540031951882,0.63580540031951882,0.63580540031951882,0.63580540031951882,0.63580540031951882,0.63580540031951882,0.63580540031951882,0.63580540031951882,0.63580540031951882,0.63580540031951882,0.63580540031951882,0.63580540031951882]
[null,null,null,null,null,"Amber or Yellow","%",null,null,{"$f":"IF(J$24, $H160, $H157)","v":0.31463582744008911},0.31463582744008911,0.31463582744008911,0.31463582744008911,0.31463582744008911,0.31463582744008911,0.31463582744008911,0.31463582744008911,0.31463582744008911,0.31463582744008911,0.31463582744008911,0.31463582744008911,0.31463582744008911,0.31463582744008911,0.48781137197876151,0.48781137197876151,0.48781137197876151,0.48781137197876151,0.48781137197876151,0.31463582744008911,0.31463582744008911,0.31463582744008911,0.31463582744008911,0.31463582744008911,0.31463582744008911,0.31463582744008911,0.31463582744008911,0.31463582744008911,0.31463582744008911,0.31463582744008911,0.31463582744008911,0.31463582744008911,0.31463582744008911]
[null,null,null,null,null,"Green","%",null,null,{"$f":"IF(J$24, $H161, $H158)","v":4.9558772240392047E-2},4.9558772240392047E-2,4.9558772240392047E-2,4.9558772240392047E-2,4.9558772240392047E-2,4.9558772240392047E-2,4.9558772240392047E-2,4.9558772240392047E-2,4.9558772240392047E-2,4.9558772240392047E-2,4.9558772240392047E-2,4.9558772240392047E-2,4.9558772240392047E-2,4.9558772240392047E-2,4.9558772240392047E-2,4.9558772240392047E-2,4.9558772240392047E-2,4.9558772240392047E-2,4.9558772240392047E-2,4.9558772240392047E-2,4.9558772240392047E-2,4.9558772240392047E-2,4.9558772240392047E-2,4.9558772240392047E-2,4.9558772240392047E-2,4.9558772240392047E-2,4.9558772240392047E-2,4.9558772240392047E-2,4.9558772240392047E-2,4.9558772240392047E-2,4.9558772240392047E-2,4.9558772240392047E-2,4.9558772240392047E-2]
[]
[null,null,null,null,"EHV/HV peaking probabilities"]
[null,null,null,null,null,"Red or Black","%",null,null,{"$f":"IF(J$24, $H167, $H164)","v":0.63580540031951882},0.63580540031951882,0.63580540031951882,0.63580540031951882,0.63580540031951882,0.63580540031951882,0.63580540031951882,0.63580540031951882,0.63580540031951882,0.63580540031951882,0.63580540031951882,0.63580540031951882,0.63580540031951882,0.63580540031951882,0.46262985578084642,0.46262985578084642,0.46262985578084642,0.46262985578084642,0.46262985578084642,0.63580540031951882,0.63580540031951882,0.63580540031951882,0.63580540031951882,0.63580540031951882,0.63580540031951882,0.63580540031951882,0.63580540031951882,0.63580540031951882,0.63580540031951882,0.63580540031951882,0.63580540031951882,0.63580540031951882,0.63580540031951882]
[null,null,null,null,null,"Amber or Yellow","%",null,null,{"$f":"IF(J$24, $H168, $H165)","v":0.31463582744008911},0.31463582744008911,0.31463582744008911,0.31463582744008911,0.31463582744008911,0.31463582744008911,0.31463582744008911,0.31463582744008911,0.31463582744008911,0.31463582744008911,0.31463582744008911,0.31463582744008911,0.31463582744008911,0.31463582744008911,0.48781137197876151,0.48781137197876151,0.48781137197876151,0.48781137197876151,0.48781137197876151,0.31463582744008911,0.31463582744008911,0.31463582744008911,0.31463582744008911,0.31463582744008911,0.31463582744008911,0.31463582744008911,0.31463582744008911,0.31463582744008911,0.31463582744008911,0.31463582744008911,0.31463582744008911,0.31463582744008911,0.31463582744008911]
[null,null,null,null,null,"Green","%",null,null,{"$f":"IF(J$24, $H169, $H166)","v":4.9558772240392047E-2},4.9558772240392047E-2,4.9558772240392047E-2,4.9558772240392047E-2,4.9558772240392047E-2,4.9558772240392047E-2,4.9558772240392047E-2,4.9558772240392047E-2,4.9558772240392047E-2,4.9558772240392047E-2,4.9558772240392047E-2,4.9558772240392047E-2,4.9558772240392047E-2,4.9558772240392047E-2,4.9558772240392047E-2,4.9558772240392047E-2,4.9558772240392047E-2,4.9558772240392047E-2,4.9558772240392047E-2,4.9558772240392047E-2,4.9558772240392047E-2,4.9558772240392047E-2,4.9558772240392047E-2,4.9558772240392047E-2,4.9558772240392047E-2,4.9558772240392047E-2,4.9558772240392047E-2,4.9558772240392047E-2,4.9558772240392047E-2,4.9558772240392047E-2,4.9558772240392047E-2,4.9558772240392047E-2,4.9558772240392047E-2]
[]
[null,null,null,null,"132kV/HV peaking probabilities"]
[null,null,null,null,null,"Red or Black","%",null,null,{"$f":"IF(J$24, $H175, $H172)","v":0.56779401321073086},0.56779401321073086,0.56779401321073086,0.56779401321073086,0.56779401321073086,0.56779401321073086,0.56779401321073086,0.56779401321073086,0.56779401321073086,0.56779401321073086,0.56779401321073086,0.56779401321073086,0.56779401321073086,0.56779401321073086,0.46666336703292904,0.46666336703292904,0.46666336703292904,0.46666336703292904,0.46666336703292904,0.56779401321073086,0.56779401321073086,0.56779401321073086,0.56779401321073086,0.56779401321073086,0.56779401321073086,0.56779401321073086,0.56779401321073086,0.56779401321073086,0.56779401321073086,0.56779401321073086,0.56779401321073086,0.56779401321073086,0.56779401321073086]
[null,null,null,null,null,"Amber or Yellow","%",null,null,{"$f":"IF(J$24, $H176, $H173)","v":0.26682449702026062},0.26682449702026062,0.26682449702026062,0.26682449702026062,0.26682449702026062,0.26682449702026062,0.26682449702026062,0.26682449702026062,0.26682449702026062,0.26682449702026062,0.26682449702026062,0.26682449702026062,0.26682449702026062,0.26682449702026062,0.3679551431980625,0.3679551431980625,0.3679551431980625,0.3679551431980625,0.3679551431980625,0.26682449702026062,0.26682449702026062,0.26682449702026062,0.26682449702026062,0.26682449702026062,0.26682449702026062,0.26682449702026062,0.26682449702026062,0.26682449702026062,0.26682449702026062,0.26682449702026062,0.26682449702026062,0.26682449702026062,0.26682449702026062]
[null,null,null,null,null,"Green","%",null,null,{"$f":"IF(J$24, $H177, $H174)","v":0.16538148976900843},0.16538148976900843,0.16538148976900843,0.16538148976900843,0.16538148976900843,0.16538148976900843,0.16538148976900843,0.16538148976900843,0.16538148976900843,0.16538148976900843,0.16538148976900843,0.16538148976900843,0.16538148976900843,0.16538148976900843,0.16538148976900843,0.16538148976900843,0.16538148976900843,0.16538148976900843,0.16538148976900843,0.16538148976900843,0.16538148976900843,0.16538148976900843,0.16538148976900843,0.16538148976900843,0.16538148976900843,0.16538148976900843,0.16538148976900843,0.16538148976900843,0.16538148976900843,0.16538148976900843,0.16538148976900843,0.16538148976900843,0.16538148976900843]
[]
[null,null,null,null,"HV peaking probabilities"]
[null,null,null,null,null,"Red or Black","%",null,null,{"$f":"IF(J$24, $H183, $H180)","v":0.63580540031951882},0.63580540031951882,0.63580540031951882,0.63580540031951882,0.63580540031951882,0.63580540031951882,0.63580540031951882,0.63580540031951882,0.63580540031951882,0.63580540031951882,0.63580540031951882,0.63580540031951882,0.63580540031951882,0.63580540031951882,0.46262985578084642,0.46262985578084642,0.46262985578084642,0.46262985578084642,0.46262985578084642,0.63580540031951882,0.63580540031951882,0.63580540031951882,0.63580540031951882,0.63580540031951882,0.63580540031951882,0.63580540031951882,0.63580540031951882,0.63580540031951882,0.63580540031951882,0.63580540031951882,0.63580540031951882,0.63580540031951882,0.63580540031951882]
[null,null,null,null,null,"Amber or Yellow","%",null,null,{"$f":"IF(J$24, $H184, $H181)","v":0.31463582744008911},0.31463582744008911,0.31463582744008911,0.31463582744008911,0.31463582744008911,0.31463582744008911,0.31463582744008911,0.31463582744008911,0.31463582744008911,0.31463582744008911,0.31463582744008911,0.31463582744008911,0.31463582744008911,0.31463582744008911,0.48781137197876151,0.48781137197876151,0.48781137197876151,0.48781137197876151,0.48781137197876151,0.31463582744008911,0.31463582744008911,0.31463582744008911,0.31463582744008911,0.31463582744008911,0.31463582744008911,0.31463582744008911,0.31463582744008911,0.31463582744008911,0.31463582744008911,0.31463582744008911,0.31463582744008911,0.31463582744008911,0.31463582744008911]
[null,null,null,null,null,"Green","%",null,null,{"$f":"IF(J$24, $H185, $H182)","v":4.9558772240392047E-2},4.9558772240392047E-2,4.9558772240392047E-2,4.9558772240392047E-2,4.9558772240392047E-2,4.9558772240392047E-2,4.9558772240392047E-2,4.9558772240392047E-2,4.9558772240392047E-2,4.9558772240392047E-2,4.9558772240392047E-2,4.9558772240392047E-2,4.9558772240392047E-2,4.9558772240392047E-2,4.9558772240392047E-2,4.9558772240392047E-2,4.9558772240392047E-2,4.9558772240392047E-2,4.9558772240392047E-2,4.9558772240392047E-2,4.9558772240392047E-2,4.9558772240392047E-2,4.9558772240392047E-2,4.9558772240392047E-2,4.9558772240392047E-2,4.9558772240392047E-2,4.9558772240392047E-2,4.9558772240392047E-2,4.9558772240392047E-2,4.9558772240392047E-2,4.9558772240392047E-2,4.9558772240392047E-2,4.9558772240392047E-2]
[]
[null,null,null,null,"HV/LV peaking probabilities"]
[null,null,null,null,null,"Red or Black","%",null,null,{"$f":"IF(J$24, $H191, $H188)","v":0.63580540031951882},0.63580540031951882,0.63580540031951882,0.63580540031951882,0.63580540031951882,0.63580540031951882,0.63580540031951882,0.63580540031951882,0.63580540031951882,0.63580540031951882,0.63580540031951882,0.63580540031951882,0.63580540031951882,0.63580540031951882,0.46262985578084642,0.46262985578084642,0.46262985578084642,0.46262985578084642,0.46262985578084642,0.63580540031951882,0.63580540031951882,0.63580540031951882,0.63580540031951882,0.63580540031951882,0.63580540031951882,0.63580540031951882,0.63580540031951882,0.63580540031951882,0.63580540031951882,0.63580540031951882,0.63580540031951882,0.63580540031951882,0.63580540031951882]
[null,null,null,null,null,"Amber or Yellow","%",null,null,{"$f":"IF(J$24, $H192, $H189)","v":0.31463582744008911},0.31463582744008911,0.31463582744008911,0.31463582744008911,0.31463582744008911,0.31463582744008911,0.31463582744008911,0.31463582744008911,0.31463582744008911,0.31463582744008911,0.31463582744008911,0.31463582744008911,0.31463582744008911,0.31463582744008911,0.48781137197876151,0.48781137197876151,0.48781137197876151,0.48781137197876151,0.48781137197876151,0.31463582744008911,0.31463582744008911,0.31463582744008911,0.31463582744008911,0.31463582744008911,0.31463582744008911,0.31463582744008911,0.31463582744008911,0.31463582744008911,0.31463582744008911,0.31463582744008911,0.31463582744008911,0.31463582744008911,0.31463582744008911]
[null,null,null,null,null,"Green","%",null,null,{"$f":"IF(J$24, $H193, $H190)","v":4.9558772240392047E-2},4.9558772240392047E-2,4.9558772240392047E-2,4.9558772240392047E-2,4.9558772240392047E-2,4.9558772240392047E-2,4.9558772240392047E-2,4.9558772240392047E-2,4.9558772240392047E-2,4.9558772240392047E-2,4.9558772240392047E-2,4.9558772240392047E-2,4.9558772240392047E-2,4.9558772240392047E-2,4.9558772240392047E-2,4.9558772240392047E-2,4.9558772240392047E-2,4.9558772240392047E-2,4.9558772240392047E-2,4.9558772240392047E-2,4.9558772240392047E-2,4.9558772240392047E-2,4.9558772240392047E-2,4.9558772240392047E-2,4.9558772240392047E-2,4.9558772240392047E-2,4.9558772240392047E-2,4.9558772240392047E-2,4.9558772240392047E-2,4.9558772240392047E-2,4.9558772240392047E-2,4.9558772240392047E-2,4.9558772240392047E-2]
[]
[null,null,null,null,"LV circuits peaking probabilities"]
[null,null,null,null,null,"Red or Black","%",null,null,{"$f":"IF(J$24, $H199, $H196)","v":0.63580540031951882},0.63580540031951882,0.63580540031951882,0.63580540031951882,0.63580540031951882,0.63580540031951882,0.63580540031951882,0.63580540031951882,0.63580540031951882,0.63580540031951882,0.63580540031951882,0.63580540031951882,0.63580540031951882,0.63580540031951882,0.46262985578084642,0.46262985578084642,0.46262985578084642,0.46262985578084642,0.46262985578084642,0.63580540031951882,0.63580540031951882,0.63580540031951882,0.63580540031951882,0.63580540031951882,0.63580540031951882,0.63580540031951882,0.63580540031951882,0.63580540031951882,0.63580540031951882,0.63580540031951882,0.63580540031951882,0.63580540031951882,0.63580540031951882]
[null,null,null,null,null,"Amber or Yellow","%",null,null,{"$f":"IF(J$24, $H200, $H197)","v":0.31463582744008911},0.31463582744008911,0.31463582744008911,0.31463582744008911,0.31463582744008911,0.31463582744008911,0.31463582744008911,0.31463582744008911,0.31463582744008911,0.31463582744008911,0.31463582744008911,0.31463582744008911,0.31463582744008911,0.31463582744008911,0.48781137197876151,0.48781137197876151,0.48781137197876151,0.48781137197876151,0.48781137197876151,0.31463582744008911,0.31463582744008911,0.31463582744008911,0.31463582744008911,0.31463582744008911,0.31463582744008911,0.31463582744008911,0.31463582744008911,0.31463582744008911,0.31463582744008911,0.31463582744008911,0.31463582744008911,0.31463582744008911,0.31463582744008911]
[null,null,null,null,null,"Green","%",null,null,{"$f":"IF(J$24, $H201, $H198)","v":4.9558772240392047E-2},4.9558772240392047E-2,4.9558772240392047E-2,4.9558772240392047E-2,4.9558772240392047E-2,4.9558772240392047E-2,4.9558772240392047E-2,4.9558772240392047E-2,4.9558772240392047E-2,4.9558772240392047E-2,4.9558772240392047E-2,4.9558772240392047E-2,4.9558772240392047E-2,4.9558772240392047E-2,4.9558772240392047E-2,4.9558772240392047E-2,4.9558772240392047E-2,4.9558772240392047E-2,4.9558772240392047E-2,4.9558772240392047E-2,4.9558772240392047E-2,4.9558772240392047E-2,4.9558772240392047E-2,4.9558772240392047E-2,4.9558772240392047E-2,4.9558772240392047E-2,4.9558772240392047E-2,4.9558772240392047E-2,4.9558772240392047E-2,4.9558772240392047E-2,4.9558772240392047E-2,4.9558772240392047E-2,4.9558772240392047E-2]
[]
[null,null,{"$f":"INDEX('Version control'!$H$34:$H$59,MATCH($A$1,'Version control'!$F$34:$F$59,0),1)&\"-J: Ratio of coincidence factor to load factor, based on uniform distribution in timebands and peaking probabilities\"","v":"Section 508-J: Ratio of coincidence factor to load factor, based on uniform distribution in timebands and peaking probabilities"}]
[]
[null,null,null,null,"Inverse of hours in timeband"]
[null,null,null,null,null,"Red or Black","1 / hours",null,null,{"$f":"1 / J29","v":1.5325670498084292E-3},1.5325670498084292E-3,1.5325670498084292E-3,1.5325670498084292E-3,1.5325670498084292E-3,1.5325670498084292E-3,1.5325670498084292E-3,1.5325670498084292E-3,1.5325670498084292E-3,1.5325670498084292E-3,1.5325670498084292E-3,1.5325670498084292E-3,1.5325670498084292E-3,1.5325670498084292E-3,5.263157894736842E-3,5.263157894736842E-3,5.263157894736842E-3,5.263157894736842E-3,5.263157894736842E-3,1.5325670498084292E-3,1.5325670498084292E-3,1.5325670498084292E-3,1.5325670498084292E-3,1.5325670498084292E-3,1.5325670498084292E-3,1.5325670498084292E-3,1.5325670498084292E-3,1.5325670498084292E-3,1.5325670498084292E-3,1.5325670498084292E-3,1.5325670498084292E-3,1.5325670498084292E-3,1.5325670498084292E-3]
[null,null,null,null,null,"Amber or Yellow","1 / hours",null,null,{"$f":"1 / J30","v":2.6624068157614486E-4},2.6624068157614486E-4,2.6624068157614486E-4,2.6624068157614486E-4,2.6624068157614486E-4,2.6624068157614486E-4,2.6624068157614486E-4,2.6624068157614486E-4,2.6624068157614486E-4,2.6624068157614486E-4,2.6624068157614486E-4,2.6624068157614486E-4,2.6624068157614486E-4,2.6624068157614486E-4,2.3705108450871164E-4,2.3705108450871164E-4,2.3705108450871164E-4,2.3705108450871164E-4,2.3705108450871164E-4,2.6624068157614486E-4,2.6624068157614486E-4,2.6624068157614486E-4,2.6624068157614486E-4,2.6624068157614486E-4,2.6624068157614486E-4,2.6624068157614486E-4,2.6624068157614486E-4,2.6624068157614486E-4,2.6624068157614486E-4,2.6624068157614486E-4,2.6624068157614486E-4,2.6624068157614486E-4,2.6624068157614486E-4]
[null,null,null,null,null,"Green","1 / hours",null,null,{"$f":"1 / J31","v":2.298058140870964E-4},2.298058140870964E-4,2.298058140870964E-4,2.298058140870964E-4,2.298058140870964E-4,2.298058140870964E-4,2.298058140870964E-4,2.298058140870964E-4,2.298058140870964E-4,2.298058140870964E-4,2.298058140870964E-4,2.298058140870964E-4,2.298058140870964E-4,2.298058140870964E-4,2.298058140870964E-4,2.298058140870964E-4,2.298058140870964E-4,2.298058140870964E-4,2.298058140870964E-4,2.298058140870964E-4,2.298058140870964E-4,2.298058140870964E-4,2.298058140870964E-4,2.298058140870964E-4,2.298058140870964E-4,2.298058140870964E-4,2.298058140870964E-4,2.298058140870964E-4,2.298058140870964E-4,2.298058140870964E-4,2.298058140870964E-4,2.298058140870964E-4,2.298058140870964E-4]
[]
[null,null,null,null,"Unit rate 1"]
[null,null,null,null,null,"GSPs","scalar",null,null,{"$f":"SUMPRODUCT(J206:J208,J$43:J$45,J$253:J$255) * hours_in_year","v":1.4083922622490594},1.6582030578004854,0.15406827853630387,1.028949065575776,1.3706908032405087,0.15685676889635486,1.3857514770908219,1.3557930360642085,1.3382617217693797,10.406378151847633,10.406378151847633,10.406378151847633,10.406378151847633,10.406378151847633,0.99932071772403686,1.4012392844895318,2.3094243224112461,0.61702901741982741,27.976527339345481,1,1,1,1,10.406378151847633,10.406378151847633,1,1,10.406378151847633,10.406378151847633,1,1,10.406378151847633,10.406378151847633]
[null,null,null,null,null,"132kV","scalar",null,null,{"$f":"SUMPRODUCT(J211:J213,J$43:J$45,J$253:J$255) * hours_in_year","v":1.2944559977579029},1.4778059047005316,0.38194073262568107,1.0317648314940673,1.2795199955208685,0.38429797448050151,1.29143841221384,1.2708045737878306,1.2602281872273378,7.622797786553261,7.622797786553261,7.622797786553261,7.622797786553261,7.622797786553261,0.99949025459076291,1.3137991496978854,1.9988535848918492,0.70091835555411974,21.51563734320241,1,1,1,1,7.622797786553261,7.622797786553261,1,1,7.622797786553261,7.622797786553261,1,1,7.622797786553261,7.622797786553261]
[null,null,null,null,null,"132kV/EHV","scalar",null,null,{"$f":"SUMPRODUCT(J216:J218,J$43:J$45,J$253:J$255) * hours_in_year","v":1.2944559977579029},1.4778059047005316,0.38194073262568107,1.0317648314940673,1.2795199955208685,0.38429797448050151,1.29143841221384,1.2708045737878306,1.2602281872273378,7.622797786553261,7.622797786553261,7.622797786553261,7.622797786553261,7.622797786553261,0.99949025459076291,1.3137991496978854,1.9988535848918492,0.70091835555411974,21.51563734320241,1,1,1,1,7.622797786553261,7.622797786553261,1,1,7.622797786553261,7.622797786553261,1,1,7.622797786553261,7.622797786553261]
[null,null,null,null,null,"EHV","scalar",null,null,{"$f":"SUMPRODUCT(J221:J223,J$43:J$45,J$253:J$255) * hours_in_year","v":1.3626394453562261},1.6010371604091493,0.20715472188484876,1.081540721757887,1.3919427231261343,0.21140807096868997,1.4107471672259133,1.3890998257274481,1.3841124768033317,8.5358702019907824,8.5358702019907824,8.5358702019907824,8.5358702019907824,8.5358702019907824,0.99938723337129742,1.1748893166318919,1.9420655476303774,0.82673605001800687,21.329671245474813,1.0000000000000002,1.0000000000000002,1.0000000000000002,1.0000000000000002,8.5358702019907824,8.5358702019907824,1.0000000000000002,1.0000000000000002,8.5358702019907824,8.5358702019907824,1.0000000000000002,1.0000000000000002,8.5358702019907824,8.5358702019907824]
[null,null,null,null,null,"EHV/HV","scalar",null,null,{"$f":"SUMPRODUCT(J226:J228,J$43:J$45,J$253:J$255) * hours_in_year","v":1.3626394453562261},1.6010371604091493,0.20715472188484876,1.081540721757887,1.3919427231261343,0.21140807096868997,1.4107471672259133,1.3890998257274481,1.3841124768033317,8.5358702019907824,8.5358702019907824,8.5358702019907824,8.5358702019907824,8.5358702019907824,0.99938723337129742,1.1748893166318919,1.9420655476303774,0.82673605001800687,21.329671245474813,1.0000000000000002,1.0000000000000002,1.0000000000000002,1.0000000000000002,8.5358702019907824,8.5358702019907824,1.0000000000000002,1.0000000000000002,8.5358702019907824,8.5358702019907824,1.0000000000000002,1.0000000000000002,8.5358702019907824,8.5358702019907824]
[null,null,null,null,null,"132kV/HV","scalar",null,null,{"$f":"SUMPRODUCT(J231:J233,J$43:J$45,J$253:J$255) * hours_in_year","v":1.2944559977579029},1.4778059047005316,0.38194073262568107,1.0317648314940673,1.2795199955208685,0.38429797448050151,1.29143841221384,1.2708045737878306,1.2602281872273378,7.622797786553261,7.622797786553261,7.622797786553261,7.622797786553261,7.622797786553261,0.99949025459076291,1.3137991496978854,1.9988535848918492,0.70091835555411974,21.51563734320241,1,1,1,1,7.622797786553261,7.622797786553261,1,1,7.622797786553261,7.622797786553261,1,1,7.622797786553261,7.622797786553261]
[null,null,null,null,null,"HV","scalar",null,null,{"$f":"SUMPRODUCT(J236:J238,J$43:J$45,J$253:J$255) * hours_in_year","v":1.3626394453562261},1.6010371604091493,0.20715472188484876,1.081540721757887,1.3919427231261343,0.21140807096868997,1.4107471672259133,1.3890998257274481,1.3841124768033317,8.5358702019907824,8.5358702019907824,8.5358702019907824,8.5358702019907824,8.5358702019907824,0.99938723337129742,1.1748893166318919,1.9420655476303774,0.82673605001800687,21.329671245474813,1.0000000000000002,1.0000000000000002,1.0000000000000002,1.0000000000000002,8.5358702019907824,8.5358702019907824,1.0000000000000002,1.0000000000000002,8.5358702019907824,8.5358702019907824,1.0000000000000002,1.0000000000000002,8.5358702019907824,8.5358702019907824]
[null,null,null,null,null,"HV/LV","scalar",null,null,{"$f":"SUMPRODUCT(J241:J243,J$43:J$45,J$253:J$255) * hours_in_year","v":1.3626394453562261},1.6010371604091493,0.20715472188484876,1.081540721757887,1.3919427231261343,0.21140807096868997,1.4107471672259133,1.3890998257274481,1.3841124768033317,8.5358702019907824,8.5358702019907824,8.5358702019907824,8.5358702019907824,8.5358702019907824,0.99938723337129742,1.1748893166318919,1.9420655476303774,0.82673605001800687,21.329671245474813,1.0000000000000002,1.0000000000000002,1.0000000000000002,1.0000000000000002,8.5358702019907824,8.5358702019907824,1.0000000000000002,1.0000000000000002,8.5358702019907824,8.5358702019907824,1.0000000000000002,1.0000000000000002,8.5358702019907824,8.5358702019907824]
[null,null,null,null,null,"LV circuits","scalar",null,null,{"$f":"SUMPRODUCT(J246:J248,J$43:J$45,J$253:J$255) * hours_in_year","v":1.3626394453562261},1.6010371604091493,0.20715472188484876,1.081540721757887,1.3919427231261343,0.21140807096868997,1.4107471672259133,1.3890998257274481,1.3841124768033317,8.5358702019907824,8.5358702019907824,8.5358702019907824,8.5358702019907824,8.5358702019907824,0.99938723337129742,1.1748893166318919,1.9420655476303774,0.82673605001800687,21.329671245474813,1.0000000000000002,1.0000000000000002,1.0000000000000002,1.0000000000000002,8.5358702019907824,8.5358702019907824,1.0000000000000002,1.0000000000000002,8.5358702019907824,8.5358702019907824,1.0000000000000002,1.0000000000000002,8.5358702019907824,8.5358702019907824]
[]
[null,null,null,null,"Unit rate 2"]
[null,null,null,null,null,"GSPs","scalar",null,null,{"$f":"SUMPRODUCT(J206:J208,J$52:J$54,J$253:J$255) * hours_in_year","v":0},0.11259486270958813,0,0,0.12228253707858455,0,0.10565374187358723,0.10376022115035098,0.10283992829787207,0.4053062587676331,0.4053062587676331,0.4053062587676331,0.4053062587676331,0.4053062587676331,0,0,0,0,0.71043068804934661,0,0,0,0,0.4053062587676331,0.4053062587676331,0,0,0.4053062587676331,0.4053062587676331,0,0,0.4053062587676331,0.4053062587676331]
[null,null,null,null,null,"132kV","scalar",null,null,{"$f":"SUMPRODUCT(J211:J213,J$52:J$54,J$253:J$255) * hours_in_year","v":0},0.34226208784224732,0,0,0.35153052600685519,0,0.33562134551223749,0.33380976730799022,0.3329293003278212,0.6223063349034833,0.6223063349034833,0.6223063349034833,0.6223063349034833,0.6223063349034833,0,0,0,0,0.7640836919319729,0,0,0,0,0.6223063349034833,0.6223063349034833,0,0,0.6223063349034833,0.6223063349034833,0,0,0.6223063349034833,0.6223063349034833]
[null,null,null,null,null,"132kV/EHV","scalar",null,null,{"$f":"SUMPRODUCT(J216:J218,J$52:J$54,J$253:J$255) * hours_in_year","v":0},0.34226208784224732,0,0,0.35153052600685519,0,0.33562134551223749,0.33380976730799022,0.3329293003278212,0.6223063349034833,0.6223063349034833,0.6223063349034833,0.6223063349034833,0.6223063349034833,0,0,0,0,0.7640836919319729,0,0,0,0,0.6223063349034833,0.6223063349034833,0,0,0.6223063349034833,0.6223063349034833,0,0,0.6223063349034833,0.6223063349034833]
[null,null,null,null,null,"EHV","scalar",null,null,{"$f":"SUMPRODUCT(J221:J223,J$52:J$54,J$253:J$255) * hours_in_year","v":0},0.12021560338299164,0,0,0.14052350069949487,0,0.10566520007360064,0.10169588577282117,9.9766711438776134E-2,0.73381518859829098,0.73381518859829098,0.73381518859829098,0.73381518859829098,0.73381518859829098,0,0,0,0,1.0129732413260522,0,0,0,0,0.73381518859829098,0.73381518859829098,0,0,0.73381518859829098,0.73381518859829098,0,0,0.73381518859829098,0.73381518859829098]
[null,null,null,null,null,"EHV/HV","scalar",null,null,{"$f":"SUMPRODUCT(J226:J228,J$52:J$54,J$253:J$255) * hours_in_year","v":0},0.12021560338299164,0,0,0.14052350069949487,0,0.10566520007360064,0.10169588577282117,9.9766711438776134E-2,0.73381518859829098,0.73381518859829098,0.73381518859829098,0.73381518859829098,0.73381518859829098,0,0,0,0,1.0129732413260522,0,0,0,0,0.73381518859829098,0.73381518859829098,0,0,0.73381518859829098,0.73381518859829098,0,0,0.73381518859829098,0.73381518859829098]
[null,null,null,null,null,"132kV/HV","scalar",null,null,{"$f":"SUMPRODUCT(J231:J233,J$52:J$54,J$253:J$255) * hours_in_year","v":0},0.34226208784224732,0,0,0.35153052600685519,0,0.33562134551223749,0.33380976730799022,0.3329293003278212,0.6223063349034833,0.6223063349034833,0.6223063349034833,0.6223063349034833,0.6223063349034833,0,0,0,0,0.7640836919319729,0,0,0,0,0.6223063349034833,0.6223063349034833,0,0,0.6223063349034833,0.6223063349034833,0,0,0.6223063349034833,0.6223063349034833]
[null,null,null,null,null,"HV","scalar",null,null,{"$f":"SUMPRODUCT(J236:J238,J$52:J$54,J$253:J$255) * hours_in_year","v":0},0.12021560338299164,0,0,0.14052350069949487,0,0.10566520007360064,0.10169588577282117,9.9766711438776134E-2,0.73381518859829098,0.73381518859829098,0.73381518859829098,0.73381518859829098,0.73381518859829098,0,0,0,0,1.0129732413260522,0,0,0,0,0.73381518859829098,0.73381518859829098,0,0,0.73381518859829098,0.73381518859829098,0,0,0.73381518859829098,0.73381518859829098]
[null,null,null,null,null,"HV/LV","scalar",null,null,{"$f":"SUMPRODUCT(J241:J243,J$52:J$54,J$253:J$255) * hours_in_year","v":0},0.12021560338299164,0,0,0.14052350069949487,0,0.10566520007360064,0.10169588577282117,9.9766711438776134E-2,0.73381518859829098,0.73381518859829098,0.73381518859829098,0.73381518859829098,0.73381518859829098,0,0,0,0,1.0129732413260522,0,0,0,0,0.73381518859829098,0.73381518859829098,0,0,0.73381518859829098,0.73381518859829098,0,0,0.73381518859829098,0.73381518859829098]
[null,null,null,null,null,"LV circuits","scalar",null,null,{"$f":"SUMPRODUCT(J246:J248,J$52:J$54,J$253:J$255) * hours_in_year","v":0},0.12021560338299164,0,0,0.14052350069949487,0,0.10566520007360064,0.10169588577282117,9.9766711438776134E-2,0.73381518859829098,0.73381518859829098,0.73381518859829098,0.73381518859829098,0.73381518859829098,0,0,0,0,1.0129732413260522,0,0,0,0,0.73381518859829098,0.73381518859829098,0,0,0.73381518859829098,0.73381518859829098,0,0,0.73381518859829098,0.73381518859829098]
[]
[null,null,null,null,"Unit rate 3"]
[null,null,null,null,null,"GSPs","scalar",null,null,{"$f":"SUMPRODUCT(J206:J208,J$61:J$63,J$253:J$255) * hours_in_year","v":0},0,0,0,0,0,0,0,0,0.10283992829787207,0.10283992829787207,0.10283992829787207,0.10283992829787207,0.10283992829787207,0,0,0,0,0.10283992829787207,0,0,0,0,0.10283992829787207,0.10283992829787207,0,0,0.10283992829787207,0.10283992829787207,0,0,0.10283992829787207,0.10283992829787207]
[null,null,null,null,null,"132kV","scalar",null,null,{"$f":"SUMPRODUCT(J211:J213,J$61:J$63,J$253:J$255) * hours_in_year","v":0},0,0,0,0,0,0,0,0,0.3329293003278212,0.3329293003278212,0.3329293003278212,0.3329293003278212,0.3329293003278212,0,0,0,0,0.3329293003278212,0,0,0,0,0.3329293003278212,0.3329293003278212,0,0,0.3329293003278212,0.3329293003278212,0,0,0.3329293003278212,0.3329293003278212]
[null,null,null,null,null,"132kV/EHV","scalar",null,null,{"$f":"SUMPRODUCT(J216:J218,J$61:J$63,J$253:J$255) * hours_in_year","v":0},0,0,0,0,0,0,0,0,0.3329293003278212,0.3329293003278212,0.3329293003278212,0.3329293003278212,0.3329293003278212,0,0,0,0,0.3329293003278212,0,0,0,0,0.3329293003278212,0.3329293003278212,0,0,0.3329293003278212,0.3329293003278212,0,0,0.3329293003278212,0.3329293003278212]
[null,null,null,null,null,"EHV","scalar",null,null,{"$f":"SUMPRODUCT(J221:J223,J$61:J$63,J$253:J$255) * hours_in_year","v":0},0,0,0,0,0,0,0,0,9.9766711438776134E-2,9.9766711438776134E-2,9.9766711438776134E-2,9.9766711438776134E-2,9.9766711438776134E-2,0,0,0,0,9.9766711438776134E-2,0,0,0,0,9.9766711438776134E-2,9.9766711438776134E-2,0,0,9.9766711438776134E-2,9.9766711438776134E-2,0,0,9.9766711438776134E-2,9.9766711438776134E-2]
[null,null,null,null,null,"EHV/HV","scalar",null,null,{"$f":"SUMPRODUCT(J226:J228,J$61:J$63,J$253:J$255) * hours_in_year","v":0},0,0,0,0,0,0,0,0,9.9766711438776134E-2,9.9766711438776134E-2,9.9766711438776134E-2,9.9766711438776134E-2,9.9766711438776134E-2,0,0,0,0,9.9766711438776134E-2,0,0,0,0,9.9766711438776134E-2,9.9766711438776134E-2,0,0,9.9766711438776134E-2,9.9766711438776134E-2,0,0,9.9766711438776134E-2,9.9766711438776134E-2]
[null,null,null,null,null,"132kV/HV","scalar",null,null,{"$f":"SUMPRODUCT(J231:J233,J$61:J$63,J$253:J$255) * hours_in_year","v":0},0,0,0,0,0,0,0,0,0.3329293003278212,0.3329293003278212,0.3329293003278212,0.3329293003278212,0.3329293003278212,0,0,0,0,0.3329293003278212,0,0,0,0,0.3329293003278212,0.3329293003278212,0,0,0.3329293003278212,0.3329293003278212,0,0,0.3329293003278212,0.3329293003278212]
[null,null,null,null,null,"HV","scalar",null,null,{"$f":"SUMPRODUCT(J236:J238,J$61:J$63,J$253:J$255) * hours_in_year","v":0},0,0,0,0,0,0,0,0,9.9766711438776134E-2,9.9766711438776134E-2,9.9766711438776134E-2,9.9766711438776134E-2,9.9766711438776134E-2,0,0,0,0,9.9766711438776134E-2,0,0,0,0,9.9766711438776134E-2,9.9766711438776134E-2,0,0,9.9766711438776134E-2,9.9766711438776134E-2,0,0,9.9766711438776134E-2,9.9766711438776134E-2]
[null,null,null,null,null,"HV/LV","scalar",null,null,{"$f":"SUMPRODUCT(J241:J243,J$61:J$63,J$253:J$255) * hours_in_year","v":0},0,0,0,0,0,0,0,0,9.9766711438776134E-2,9.9766711438776134E-2,9.9766711438776134E-2,9.9766711438776134E-2,9.9766711438776134E-2,0,0,0,0,9.9766711438776134E-2,0,0,0,0,9.9766711438776134E-2,9.9766711438776134E-2,0,0,9.9766711438776134E-2,9.9766711438776134E-2,0,0,9.9766711438776134E-2,9.9766711438776134E-2]
[null,null,null,null,null,"LV circuits","scalar",null,null,{"$f":"SUMPRODUCT(J246:J248,J$61:J$63,J$253:J$255) * hours_in_year","v":0},0,0,0,0,0,0,0,0,9.9766711438776134E-2,9.9766711438776134E-2,9.9766711438776134E-2,9.9766711438776134E-2,9.9766711438776134E-2,0,0,0,0,9.9766711438776134E-2,0,0,0,0,9.9766711438776134E-2,9.9766711438776134E-2,0,0,9.9766711438776134E-2,9.9766711438776134E-2,0,0,9.9766711438776134E-2,9.9766711438776134E-2]
[]
[null,null,{"$f":"INDEX('Version control'!$H$34:$H$59,MATCH($A$1,'Version control'!$F$34:$F$59,0),1)&\"-K: Pseudo load coefficients, by unit rate\"","v":"Section 508-K: Pseudo load coefficients, by unit rate"}]
[]
[null,null,null,null,"Unit rate 1"]
[null,null,null,null,null,"GSPs","scalar",null,null,{"$f":"J258 * J$122","v":2.037891012263815},2.2768526161992049,0.15406827853630387,1.2600758622051837,1.7959286560647367,0.15685676889635486,1.5878405746763777,1.6013458984596001,1.6073376060355773,17.064769350833974,12.312409524999266,11.55066581245533,11.085940564541984,10.704505039757239,1.0564303176550738,1.4813178954154673,2.441404273176496,0.65229125076063388,29.575341669392177,1,1,1,1,10.406378151847633,10.406378151847633,1,1,10.406378151847633,10.406378151847633,1,1,10.406378151847633,10.406378151847633]
[null,null,null,null,null,"132kV","scalar",null,null,{"$f":"J259 * J$122","v":1.8730294920743633},2.0291521141054871,0.38194073262568107,1.2635241171149381,1.6764733669556435,0.38429797448050151,1.479773497996695,1.5009648507166902,1.5136143585115667,12.500149825180383,9.0189888071324695,8.4610023298805537,8.1205854682733953,7.8411793356483086,1.0566095432858378,1.3888806950899049,2.1130849087594048,0.74097473201070208,22.745222019211187,1,1,1,1,7.622797786553261,7.622797786553261,1,1,7.622797786553261,7.622797786553261,1,1,7.622797786553261,7.622797786553261]
[null,null,null,null,null,"132kV/EHV","scalar",null,null,{"$f":"J260 * J$122","v":1.8730294920743633},2.0291521141054871,0.38194073262568107,1.2635241171149381,1.6764733669556435,0.38429797448050151,1.479773497996695,1.5009648507166902,1.5136143585115667,12.500149825180383,9.0189888071324695,8.4610023298805537,8.1205854682733953,7.8411793356483086,1.0566095432858378,1.3888806950899049,2.1130849087594048,0.74097473201070208,22.745222019211187,1,1,1,1,7.622797786553261,7.622797786553261,1,1,7.622797786553261,7.622797786553261,1,1,7.622797786553261,7.622797786553261]
[null,null,null,null,null,"EHV","scalar",null,null,{"$f":"J261 * J$122","v":1.9716883946899557},2.1983590189159585,0.20715472188484876,1.324480873809319,1.8237736899912464,0.21140807096868997,1.6164814757648309,1.6406850081904745,1.6624072845837741,13.997440231380326,10.099299491676545,9.4744763915950667,9.0932837866471097,8.7804098854221415,1.05650063456647,1.2420323845639887,2.05305152490264,0.87398270890107876,22.548628252854698,1.0000000000000002,1.0000000000000002,1.0000000000000002,1.0000000000000002,8.5358702019907824,8.5358702019907824,1.0000000000000002,1.0000000000000002,8.5358702019907824,8.5358702019907824,1.0000000000000002,1.0000000000000002,8.5358702019907824,8.5358702019907824]
[null,null,null,null,null,"EHV/HV","scalar",null,null,{"$f":"J262 * J$122","v":1.9716883946899557},2.1983590189159585,0.20715472188484876,1.324480873809319,1.8237736899912464,0.21140807096868997,1.6164814757648309,1.6406850081904745,1.6624072845837741,13.997440231380326,10.099299491676545,9.4744763915950667,9.0932837866471097,8.7804098854221415,1.05650063456647,1.2420323845639887,2.05305152490264,0.87398270890107876,22.548628252854698,1.0000000000000002,1.0000000000000002,1.0000000000000002,1.0000000000000002,8.5358702019907824,8.5358702019907824,1.0000000000000002,1.0000000000000002,8.5358702019907824,8.5358702019907824,1.0000000000000002,1.0000000000000002,8.5358702019907824,8.5358702019907824]
[null,null,null,null,null,"132kV/HV","scalar",null,null,{"$f":"J263 * J$122","v":1.8730294920743633},2.0291521141054871,0.38194073262568107,1.2635241171149381,1.6764733669556435,0.38429797448050151,1.479773497996695,1.5009648507166902,1.5136143585115667,12.500149825180383,9.0189888071324695,8.4610023298805537,8.1205854682733953,7.8411793356483086,1.0566095432858378,1.3888806950899049,2.1130849087594048,0.74097473201070208,22.745222019211187,1,1,1,1,7.622797786553261,7.622797786553261,1,1,7.622797786553261,7.622797786553261,1,1,7.622797786553261,7.622797786553261]
[null,null,null,null,null,"HV","scalar",null,null,{"$f":"J264 * J$122","v":1.9716883946899557},2.1983590189159585,0.20715472188484876,1.324480873809319,1.8237736899912464,0.21140807096868997,1.6164814757648309,1.6406850081904745,1.6624072845837741,13.997440231380326,10.099299491676545,9.4744763915950667,9.0932837866471097,8.7804098854221415,1.05650063456647,1.2420323845639887,2.05305152490264,0.87398270890107876,22.548628252854698,1.0000000000000002,1.0000000000000002,1.0000000000000002,1.0000000000000002,8.5358702019907824,8.5358702019907824,1.0000000000000002,1.0000000000000002,8.5358702019907824,8.5358702019907824,1.0000000000000002,1.0000000000000002,8.5358702019907824,8.5358702019907824]
[null,null,null,null,null,"HV/LV","scalar",null,null,{"$f":"J265 * J$122","v":1.9716883946899557},2.1983590189159585,0.20715472188484876,1.324480873809319,1.8237736899912464,0.21140807096868997,1.6164814757648309,1.6406850081904745,1.6624072845837741,13.997440231380326,10.099299491676545,9.4744763915950667,9.0932837866471097,8.7804098854221415,1.05650063456647,1.2420323845639887,2.05305152490264,0.87398270890107876,22.548628252854698,1.0000000000000002,1.0000000000000002,1.0000000000000002,1.0000000000000002,8.5358702019907824,8.5358702019907824,1.0000000000000002,1.0000000000000002,8.5358702019907824,8.5358702019907824,1.0000000000000002,1.0000000000000002,8.5358702019907824,8.5358702019907824]
[null,null,null,null,null,"LV circuits","scalar",null,null,{"$f":"J266 * J$122","v":1.9716883946899557},2.1983590189159585,0.20715472188484876,1.324480873809319,1.8237736899912464,0.21140807096868997,1.6164814757648309,1.6406850081904745,1.6624072845837741,13.997440231380326,10.099299491676545,9.4744763915950667,9.0932837866471097,8.7804098854221415,1.05650063456647,1.2420323845639887,2.05305152490264,0.87398270890107876,22.548628252854698,1.0000000000000002,1.0000000000000002,1.0000000000000002,1.0000000000000002,8.5358702019907824,8.5358702019907824,1.0000000000000002,1.0000000000000002,8.5358702019907824,8.5358702019907824,1.0000000000000002,1.0000000000000002,8.5358702019907824,8.5358702019907824]
[]
[null,null,null,null,"Unit rate 2"]
[null,null,null,null,null,"GSPs","scalar",null,null,{"$f":"J269 * J$122","v":0},0.15460224037396597,0,0,0.16021900194889876,0,0.121061605191615,0.12255263166472458,0.12351730716516579,0.66463641061237855,0.47954212005128843,0.44987382530302067,0.43177376696974001,0.41691766590789986,0,0,0,0,0.75103067927702138,0,0,0,0,0.4053062587676331,0.4053062587676331,0,0,0.4053062587676331,0.4053062587676331,0,0,0.4053062587676331,0.4053062587676331]
[null,null,null,null,null,"132kV","scalar",null,null,{"$f":"J270 * J$122","v":0},0.4699547057663101,0,0,0.46058800689745777,0,0.38456620753569887,0.3942673310199008,0.39986930498206225,1.0204812775139551,0.73628791242538505,0.69073527816859281,0.66294448856378496,0.64013446379175243,0,0,0,0,0.80774986755119482,0,0,0,0,0.6223063349034833,0.6223063349034833,0,0,0.6223063349034833,0.6223063349034833,0,0,0.6223063349034833,0.6223063349034833]
[null,null,null,null,null,"132kV/EHV","scalar",null,null,{"$f":"J271 * J$122","v":0},0.4699547057663101,0,0,0.46058800689745777,0,0.38456620753569887,0.3942673310199008,0.39986930498206225,1.0204812775139551,0.73628791242538505,0.69073527816859281,0.66294448856378496,0.64013446379175243,0,0,0,0,0.80774986755119482,0,0,0,0,0.6223063349034833,0.6223063349034833,0,0,0.6223063349034833,0.6223063349034833,0,0,0.6223063349034833,0.6223063349034833]
[null,null,null,null,null,"EHV","scalar",null,null,{"$f":"J272 * J$122","v":0},0.16506615989093393,0,0,0.18411897209795,0,0.12107473438194591,0.12011441661130556,0.11982617788247479,1.2033376797233957,0.86822071866402206,0.81450567026509912,0.78173514814224399,0.75483787634664712,0,0,0,0,1.070863061407769,0,0,0,0,0.73381518859829098,0.73381518859829098,0,0,0.73381518859829098,0.73381518859829098,0,0,0.73381518859829098,0.73381518859829098]
[null,null,null,null,null,"EHV/HV","scalar",null,null,{"$f":"J273 * J$122","v":0},0.16506615989093393,0,0,0.18411897209795,0,0.12107473438194591,0.12011441661130556,0.11982617788247479,1.2033376797233957,0.86822071866402206,0.81450567026509912,0.78173514814224399,0.75483787634664712,0,0,0,0,1.070863061407769,0,0,0,0,0.73381518859829098,0.73381518859829098,0,0,0.73381518859829098,0.73381518859829098,0,0,0.73381518859829098,0.73381518859829098]
[null,null,null,null,null,"132kV/HV","scalar",null,null,{"$f":"J274 * J$122","v":0},0.4699547057663101,0,0,0.46058800689745777,0,0.38456620753569887,0.3942673310199008,0.39986930498206225,1.0204812775139551,0.73628791242538505,0.69073527816859281,0.66294448856378496,0.64013446379175243,0,0,0,0,0.80774986755119482,0,0,0,0,0.6223063349034833,0.6223063349034833,0,0,0.6223063349034833,0.6223063349034833,0,0,0.6223063349034833,0.6223063349034833]
[null,null,null,null,null,"HV","scalar",null,null,{"$f":"J275 * J$122","v":0},0.16506615989093393,0,0,0.18411897209795,0,0.12107473438194591,0.12011441661130556,0.11982617788247479,1.2033376797233957,0.86822071866402206,0.81450567026509912,0.78173514814224399,0.75483787634664712,0,0,0,0,1.070863061407769,0,0,0,0,0.73381518859829098,0.73381518859829098,0,0,0.73381518859829098,0.73381518859829098,0,0,0.73381518859829098,0.73381518859829098]
[null,null,null,null,null,"HV/LV","scalar",null,null,{"$f":"J276 * J$122","v":0},0.16506615989093393,0,0,0.18411897209795,0,0.12107473438194591,0.12011441661130556,0.11982617788247479,1.2033376797233957,0.86822071866402206,0.81450567026509912,0.78173514814224399,0.75483787634664712,0,0,0,0,1.070863061407769,0,0,0,0,0.73381518859829098,0.73381518859829098,0,0,0.73381518859829098,0.73381518859829098,0,0,0.73381518859829098,0.73381518859829098]
[null,null,null,null,null,"LV circuits","scalar",null,null,{"$f":"J277 * J$122","v":0},0.16506615989093393,0,0,0.18411897209795,0,0.12107473438194591,0.12011441661130556,0.11982617788247479,1.2033376797233957,0.86822071866402206,0.81450567026509912,0.78173514814224399,0.75483787634664712,0,0,0,0,1.070863061407769,0,0,0,0,0.73381518859829098,0.73381518859829098,0,0,0.73381518859829098,0.73381518859829098,0,0,0.73381518859829098,0.73381518859829098]
[]
[null,null,null,null,"Unit rate 3"]
[null,null,null,null,null,"GSPs","scalar",null,null,{"$f":"J280 * J$122","v":0},{"$f":"K280 * K$122","v":0},0,0,0,0,0,0,0,0.16864077307702915,0.12167608117336662,0.11414822973107934,0.1095556317612339,0.10578613564580013,0,0,0,0,0.10871706769652695,0,0,0,0,0.10283992829787207,0.10283992829787207,0,0,0.10283992829787207,0.10283992829787207,0,0,0.10283992829787207,0.10283992829787207]
[null,null,null,null,null,"132kV","scalar",null,null,{"$f":"J281 * J$122","v":0},0,0,0,0,0,0,0,0,0.54594995850886774,0.39390860380946352,0.36953828038417635,0.35467041287303913,0.34246721781960798,0,0,0,0,0.35195568375990421,0,0,0,0,0.3329293003278212,0.3329293003278212,0,0,0.3329293003278212,0.3329293003278212,0,0,0.3329293003278212,0.3329293003278212]
[null,null,null,null,null,"132kV/EHV","scalar",null,null,{"$f":"J282 * J$122","v":0},0,0,0,0,0,0,0,0,0.54594995850886774,0.39390860380946352,0.36953828038417635,0.35467041287303913,0.34246721781960798,0,0,0,0,0.35195568375990421,0,0,0,0,0.3329293003278212,0.3329293003278212,0,0,0.3329293003278212,0.3329293003278212,0,0,0.3329293003278212,0.3329293003278212]
[null,null,null,null,null,"EHV","scalar",null,null,{"$f":"J283 * J$122","v":0},0,0,0,0,0,0,0,0,0.1636011967613967,0.11803997416512736,0.11073708126129994,0.10628172618671497,0.10262487580338142,0,0,0,0,0.10546822135010885,0,0,0,0,9.9766711438776134E-2,9.9766711438776134E-2,0,0,9.9766711438776134E-2,9.9766711438776134E-2,0,0,9.9766711438776134E-2,9.9766711438776134E-2]
[null,null,null,null,null,"EHV/HV","scalar",null,null,{"$f":"J284 * J$122","v":0},0,0,0,0,0,0,0,0,0.1636011967613967,0.11803997416512736,0.11073708126129994,0.10628172618671497,0.10262487580338142,0,0,0,0,0.10546822135010885,0,0,0,0,9.9766711438776134E-2,9.9766711438776134E-2,0,0,9.9766711438776134E-2,9.9766711438776134E-2,0,0,9.9766711438776134E-2,9.9766711438776134E-2]
[null,null,null,null,null,"132kV/HV","scalar",null,null,{"$f":"J285 * J$122","v":0},0,0,0,0,0,0,0,0,0.54594995850886774,0.39390860380946352,0.36953828038417635,0.35467041287303913,0.34246721781960798,0,0,0,0,0.35195568375990421,0,0,0,0,0.3329293003278212,0.3329293003278212,0,0,0.3329293003278212,0.3329293003278212,0,0,0.3329293003278212,0.3329293003278212]
[null,null,null,null,null,"HV","scalar",null,null,{"$f":"J286 * J$122","v":0},0,0,0,0,0,0,0,0,0.1636011967613967,0.11803997416512736,0.11073708126129994,0.10628172618671497,0.10262487580338142,0,0,0,0,0.10546822135010885,0,0,0,0,9.9766711438776134E-2,9.9766711438776134E-2,0,0,9.9766711438776134E-2,9.9766711438776134E-2,0,0,9.9766711438776134E-2,9.9766711438776134E-2]
[null,null,null,null,null,"HV/LV","scalar",null,null,{"$f":"J287 * J$122","v":0},0,0,0,0,0,0,0,0,0.1636011967613967,0.11803997416512736,0.11073708126129994,0.10628172618671497,0.10262487580338142,0,0,0,0,0.10546822135010885,0,0,0,0,9.9766711438776134E-2,9.9766711438776134E-2,0,0,9.9766711438776134E-2,9.9766711438776134E-2,0,0,9.9766711438776134E-2,9.9766711438776134E-2]
[null,null,null,null,null,"LV circuits","scalar",null,null,{"$f":"J288 * J$122","v":0},0,0,0,0,0,0,0,0,0.1636011967613967,0.11803997416512736,0.11073708126129994,0.10628172618671497,0.10262487580338142,0,0,0,0,0.10546822135010885,0,0,0,0,9.9766711438776134E-2,9.9766711438776134E-2,0,0,9.9766711438776134E-2,9.9766711438776134E-2,0,0,9.9766711438776134E-2,9.9766711438776134E-2]
[]
[null,"Adjustment for domestic and non-domestic charge equalisation"]
[]
[null,null,"Calculates adjustments to the pseudo load coefficient required by Paragraph 72A",null,null,null,null,null,">",null,null,null,null,null,null,null,null,null,null,null,null,null,null,null,null,null,null,null,null,null,null,null,null,null,null,null,null,null,null,null,null,null,null,"Paragraph 72A"]
[null,null,"This adjustment equalises the weighted average unit rates for the following groups:"]
[null,null,null,"- weighted average (Domestic unrestricted, Domestic Two Rate, Domestic Off Peak) = "]
[null,null,null,"   average(LV Network Domestic)"]
[null,null,null,"- weighted average (Small Non Domestic Unrestricted, Small Non Domestic Two Rate, "]
[null,null,null,"   Small Non Domestic Off Peak) = average(LV Network Non-Domestic Non-CT)"]
[null,null,"The model user guide contains additional detail on this adjustment"]
[]
[null,null,{"$f":"INDEX('Version control'!$H$34:$H$59,MATCH($A$1,'Version control'!$F$34:$F$59,0),1)&\"-L: Peak load based on average pseudo load coefficient\"","v":"Section 508-L: Peak load based on average pseudo load coefficient"}]
[]
[null,null,null,null,"Aggregated pseudo load coefficient by network level, pre-normalisation"]
[null,null,null,null,null,"GSPs","scalar",null,null,{"$f":"SUMPRODUCT(J206:J208,J$70:J$72,J$253:J$255) * hours_in_year * J$122","v":2.037891012263815},1.3113763419278213,0.15406827853630387,1.2600758622051837,1.3106803548242509,0.15685676889635486,null,null,null,{"$f":"SUMPRODUCT(S206:S208,S$70:S$72,S$253:S$255) * hours_in_year * S$122","v":2.0542120293207744},{"$f":"SUMPRODUCT(T206:T208,T$70:T$72,T$253:T$255) * hours_in_year * T$122","v":1.2801623037385632}]
[null,null,null,null,null,"132kV","scalar",null,null,{"$f":"SUMPRODUCT(J211:J213,J$70:J$72,J$253:J$255) * hours_in_year * J$122","v":1.8730294920743633},1.3198257679755956,0.38194073262568107,1.2635241171149381,1.3157698007776155,0.38429797448050146,null,null,null,{"$f":"SUMPRODUCT(S211:S213,S$70:S$72,S$253:S$255) * hours_in_year * S$122","v":1.9394141054858047},{"$f":"SUMPRODUCT(T211:T213,T$70:T$72,T$253:T$255) * hours_in_year * T$122","v":1.2613327001883476}]
[null,null,null,null,null,"132kV/EHV","scalar",null,null,{"$f":"SUMPRODUCT(J216:J218,J$70:J$72,J$253:J$255) * hours_in_year * J$122","v":1.8730294920743633},1.3198257679755956,0.38194073262568107,1.2635241171149381,1.3157698007776155,0.38429797448050146,null,null,null,{"$f":"SUMPRODUCT(S216:S218,S$70:S$72,S$253:S$255) * hours_in_year * S$122","v":1.9394141054858047},{"$f":"SUMPRODUCT(T216:T218,T$70:T$72,T$253:T$255) * hours_in_year * T$122","v":1.2613327001883476}]
[null,null,null,null,null,"EHV","scalar",null,null,{"$f":"SUMPRODUCT(J221:J223,J$70:J$72,J$253:J$255) * hours_in_year * J$122","v":1.9716883946899557},1.273352225940017,0.20715472188484876,1.324480873809319,1.3373550493256186,0.21140807096868997,null,null,null,{"$f":"SUMPRODUCT(S221:S223,S$70:S$72,S$253:S$255) * hours_in_year * S$122","v":2.0119274025839786},{"$f":"SUMPRODUCT(T221:T223,T$70:T$72,T$253:T$255) * hours_in_year * T$122","v":1.3114976148645985}]
[null,null,null,null,null,"EHV/HV","scalar",null,null,{"$f":"SUMPRODUCT(J226:J228,J$70:J$72,J$253:J$255) * hours_in_year * J$122","v":1.9716883946899557},1.273352225940017,0.20715472188484876,1.324480873809319,1.3373550493256186,0.21140807096868997,null,null,null,{"$f":"SUMPRODUCT(S226:S228,S$70:S$72,S$253:S$255) * hours_in_year * S$122","v":2.0119274025839786},{"$f":"SUMPRODUCT(T226:T228,T$70:T$72,T$253:T$255) * hours_in_year * T$122","v":1.3114976148645985}]
[null,null,null,null,null,"132kV/HV","scalar",null,null,{"$f":"SUMPRODUCT(J231:J233,J$70:J$72,J$253:J$255) * hours_in_year * J$122","v":1.8730294920743633},1.3198257679755956,0.38194073262568107,1.2635241171149381,1.3157698007776155,0.38429797448050146,null,null,null,{"$f":"SUMPRODUCT(S231:S233,S$70:S$72,S$253:S$255) * hours_in_year * S$122","v":1.9394141054858047},{"$f":"SUMPRODUCT(T231:T233,T$70:T$72,T$253:T$255) * hours_in_year * T$122","v":1.2613327001883476}]
[null,null,null,null,null,"HV","scalar",null,null,{"$f":"SUMPRODUCT(J236:J238,J$70:J$72,J$253:J$255) * hours_in_year * J$122","v":1.9716883946899557},1.273352225940017,0.20715472188484876,1.324480873809319,1.3373550493256186,0.21140807096868997,null,null,null,{"$f":"SUMPRODUCT(S236:S238,S$70:S$72,S$253:S$255) * hours_in_year * S$122","v":2.0119274025839786},{"$f":"SUMPRODUCT(T236:T238,T$70:T$72,T$253:T$255) * hours_in_year * T$122","v":1.3114976148645985}]
[null,null,null,null,null,"HV/LV","scalar",null,null,{"$f":"SUMPRODUCT(J241:J243,J$70:J$72,J$253:J$255) * hours_in_year * J$122","v":1.9716883946899557},1.273352225940017,0.20715472188484876,1.324480873809319,1.3373550493256186,0.21140807096868997,null,null,null,{"$f":"SUMPRODUCT(S241:S243,S$70:S$72,S$253:S$255) * hours_in_year * S$122","v":2.0119274025839786},{"$f":"SUMPRODUCT(T241:T243,T$70:T$72,T$253:T$255) * hours_in_year * T$122","v":1.3114976148645985}]
[null,null,null,null,null,"LV circuits","scalar",null,null,{"$f":"SUMPRODUCT(J246:J248,J$70:J$72,J$253:J$255) * hours_in_year * J$122","v":1.9716883946899557},1.273352225940017,0.20715472188484876,1.324480873809319,1.3373550493256186,0.21140807096868997,null,null,null,{"$f":"SUMPRODUCT(S246:S248,S$70:S$72,S$253:S$255) * hours_in_year * S$122","v":2.0119274025839786},{"$f":"SUMPRODUCT(T246:T248,T$70:T$72,T$253:T$255) * hours_in_year * T$122","v":1.3114976148645985}]
[]
[null,null,null,null,"Peak load based on average pseudo load coefficient"]
[null,null,null,null,null,"GSPs","MW",null,null,{"$f":"J338 * J$39","v":6316877.1473045154},349550.68408671301,329.72311204875774,1019598.6840093051,372208.29524446541,247.56925253003044,null,null,null,{"$f":"S338 * S$39","v":11563.793029890114},187134.52397322547]
[null,null,null,null,null,"132kV","MW",null,null,5805853.7593571069,351802.89999202493,817.39530145945935,1022388.8621831503,373653.60110799514,606.54291785015459,null,null,null,10917.560113063306,184382.00666609677]
[null,null,null,null,null,"132kV/EHV","MW",null,null,5805853.7593571069,351802.89999202493,817.39530145945935,1022388.8621831503,373653.60110799514,606.54291785015459,null,null,null,10917.560113063306,184382.00666609677]
[null,null,null,null,null,"EHV","MW",null,null,6111668.0367449196,339415.25970061327,443.33395702459603,1071712.4233839011,379783.40120373055,333.66834263376484,null,null,null,11325.759825453986,191715.12950581979]
[null,null,null,null,null,"EHV/HV","MW",null,null,6111668.0367449196,339415.25970061327,443.33395702459603,1071712.4233839011,379783.40120373055,333.66834263376484,null,null,null,11325.759825453986,191715.12950581979]
[null,null,null,null,null,"132kV/HV","MW",null,null,5805853.7593571069,351802.89999202493,817.39530145945935,1022388.8621831503,373653.60110799514,606.54291785015459,null,null,null,10917.560113063306,184382.00666609677]
[null,null,null,null,null,"HV","MW",null,null,6111668.0367449196,339415.25970061327,443.33395702459603,1071712.4233839011,379783.40120373055,333.66834263376484,null,null,null,11325.759825453986,191715.12950581979]
[null,null,null,null,null,"HV/LV","MW",null,null,6111668.0367449196,339415.25970061327,443.33395702459603,1071712.4233839011,379783.40120373055,333.66834263376484,null,null,null,11325.759825453986,191715.12950581979]
[null,null,null,null,null,"LV circuits","MW",null,null,6111668.0367449196,339415.25970061327,443.33395702459603,1071712.4233839011,379783.40120373055,333.66834263376484,null,null,null,11325.759825453986,191715.12950581979]
[]
[null,null,{"$f":"INDEX('Version control'!$H$34:$H$59,MATCH($A$1,'Version control'!$F$34:$F$59,0),1)&\"-M: Adjustment group flags\"","v":"Section 508-M: Adjustment group flags"}]
[]
[null,null,null,null,"Adjustment group flags",null,null,null,">",null,null,null,null,null,null,null,null,null,null,null,null,null,null,null,null,null,null,null,null,null,null,null,null,null,null,null,null,null,null,null,null,null,null,"Paragraph 72A"]
[null,null,null,null,null,"Profile class group","Flag",null,null,{"$f":"'Fixed inputs'!J154","v":"1&2"},{"$f":"'Fixed inputs'!K154","v":"1&2"},{"$f":"'Fixed inputs'!L154","v":"1&2"},{"$f":"'Fixed inputs'!M154","v":"3&4"},{"$f":"'Fixed inputs'!N154","v":"3&4"},{"$f":"'Fixed inputs'!O154","v":"3&4"},{"$f":"'Fixed inputs'!P154","v":0},{"$f":"'Fixed inputs'!Q154","v":0},{"$f":"'Fixed inputs'!R154","v":0},{"$f":"'Fixed inputs'!S154","v":"LV Network Domestic"},{"$f":"'Fixed inputs'!T154","v":"LV Network Non-Domestic"},{"$f":"'Fixed inputs'!U154","v":0},{"$f":"'Fixed inputs'!V154","v":0},{"$f":"'Fixed inputs'!W154","v":0},{"$f":"'Fixed inputs'!X154","v":0},{"$f":"'Fixed inputs'!Y154","v":0},{"$f":"'Fixed inputs'!Z154","v":0},{"$f":"'Fixed inputs'!AA154","v":0},{"$f":"'Fixed inputs'!AB154","v":0},{"$f":"'Fixed inputs'!AC154","v":0},{"$f":"'Fixed inputs'!AD154","v":0},{"$f":"'Fixed inputs'!AE154","v":0},{"$f":"'Fixed inputs'!AF154","v":0},{"$f":"'Fixed inputs'!AG154","v":0},{"$f":"'Fixed inputs'!AH154","v":0},{"$f":"'Fixed inputs'!AI154","v":0},{"$f":"'Fixed inputs'!AJ154","v":0},{"$f":"'Fixed inputs'!AK154","v":0},{"$f":"'Fixed inputs'!AL154","v":0},{"$f":"'Fixed inputs'!AM154","v":0},{"$f":"'Fixed inputs'!AN154","v":0},{"$f":"'Fixed inputs'!AO154","v":0},{"$f":"'Fixed inputs'!AP154","v":0}]
[null,null,null,null,null,"Equalisation group","Flag",null,null,{"$f":"'Fixed inputs'!J155","v":"Domestic"},{"$f":"'Fixed inputs'!K155","v":"Domestic"},{"$f":"'Fixed inputs'!L155","v":"Domestic"},{"$f":"'Fixed inputs'!M155","v":"Non-domestic"},{"$f":"'Fixed inputs'!N155","v":"Non-domestic"},{"$f":"'Fixed inputs'!O155","v":"Non-domestic"},{"$f":"'Fixed inputs'!P155","v":0},{"$f":"'Fixed inputs'!Q155","v":0},{"$f":"'Fixed inputs'!R155","v":0},{"$f":"'Fixed inputs'!S155","v":"Domestic"},{"$f":"'Fixed inputs'!T155","v":"Non-domestic"},{"$f":"'Fixed inputs'!U155","v":0},{"$f":"'Fixed inputs'!V155","v":0},{"$f":"'Fixed inputs'!W155","v":0},{"$f":"'Fixed inputs'!X155","v":0},{"$f":"'Fixed inputs'!Y155","v":0},{"$f":"'Fixed inputs'!Z155","v":0},{"$f":"'Fixed inputs'!AA155","v":0},{"$f":"'Fixed inputs'!AB155","v":0},{"$f":"'Fixed inputs'!AC155","v":0},{"$f":"'Fixed inputs'!AD155","v":0},{"$f":"'Fixed inputs'!AE155","v":0},{"$f":"'Fixed inputs'!AF155","v":0},{"$f":"'Fixed inputs'!AG155","v":0},{"$f":"'Fixed inputs'!AH155","v":0},{"$f":"'Fixed inputs'!AI155","v":0},{"$f":"'Fixed inputs'!AJ155","v":0},{"$f":"'Fixed inputs'!AK155","v":0},{"$f":"'Fixed inputs'!AL155","v":0},{"$f":"'Fixed inputs'!AM155","v":0},{"$f":"'Fixed inputs'!AN155","v":0},{"$f":"'Fixed inputs'!AO155","v":0},{"$f":"'Fixed inputs'!AP155","v":0}]
[]
[null,null,{"$f":"INDEX('Version control'!$H$34:$H$59,MATCH($A$1,'Version control'!$F$34:$F$59,0),1)&\"-N: Average pseudo load coefficient for HH tariff forecast, based on average split of units for NHH tariff forecast\"","v":"Section 508-N: Average pseudo load coefficient for HH tariff forecast, based on average split of units for NHH tariff forecast"}]
[]
[null,null,null,null,"Profile class 1 and 2 split of units by timeband",null,null,"Profile class"]
[null,null,null,null,null,"Red","%","1&2",null,null,null,null,null,null,null,null,null,null,{"$f":"IF(SUMIF($J$362:$AP$362, $H368, $J$39:$AP$39) <> 0, SUMIF($J$362:$AP$362, $H368, $J73:$AP73) / SUMIF($J$362:$AP$362, $H368, $J$39:$AP$39), 0)","v":0.10880762499382071}]
[null,null,null,null,null,"Amber","%","1&2",null,null,null,null,null,null,null,null,null,null,{"$f":"IF(SUMIF($J$362:$AP$362, $H369, $J$39:$AP$39) <> 0, SUMIF($J$362:$AP$362, $H369, $J74:$AP74) / SUMIF($J$362:$AP$362, $H369, $J$39:$AP$39), 0)","v":0.4885772891957299}]
[null,null,null,null,null,"Green","%","1&2",null,null,null,null,null,null,null,null,null,null,{"$f":"IF(SUMIF($J$362:$AP$362, $H370, $J$39:$AP$39) <> 0, SUMIF($J$362:$AP$362, $H370, $J75:$AP75) / SUMIF($J$362:$AP$362, $H370, $J$39:$AP$39), 0)","v":0.40261508581044947}]
[]
[null,null,null,null,"Profile class 3 and 4 split of units by timeband",null,null,"Profile class"]
[null,null,null,null,null,"Red","%","3&4",null,null,null,null,null,null,null,null,null,null,null,{"$f":"IF(SUMIF($J$362:$AP$362, $H373, $J$39:$AP$39) <> 0, SUMIF($J$362:$AP$362, $H373, $J73:$AP73) / SUMIF($J$362:$AP$362, $H373, $J$39:$AP$39), 0)","v":7.2814034513706355E-2}]
[null,null,null,null,null,"Amber","%","3&4",null,null,null,null,null,null,null,null,null,null,null,{"$f":"IF(SUMIF($J$362:$AP$362, $H374, $J$39:$AP$39) <> 0, SUMIF($J$362:$AP$362, $H374, $J74:$AP74) / SUMIF($J$362:$AP$362, $H374, $J$39:$AP$39), 0)","v":0.55274863989195044}]
[null,null,null,null,null,"Green","%","3&4",null,null,null,null,null,null,null,null,null,null,null,{"$f":"IF(SUMIF($J$362:$AP$362, $H375, $J$39:$AP$39) <> 0, SUMIF($J$362:$AP$362, $H375, $J75:$AP75) / SUMIF($J$362:$AP$362, $H375, $J$39:$AP$39), 0)","v":0.37443732559434323}]
[]
[null,null,null,null,"Combined split of units by timeband by profile class"]
[null,null,null,null,null,"Red","%",null,null,null,null,null,null,null,null,null,null,null,{"$f":"S368 + S373","v":0.10880762499382071},{"$f":"T368 + T373","v":7.2814034513706355E-2}]
[null,null,null,null,null,"Amber","%",null,null,null,null,null,null,null,null,null,null,null,{"$f":"S369 + S374","v":0.4885772891957299},0.55274863989195044]
[null,null,null,null,null,"Green","%",null,null,null,null,null,null,null,null,null,null,null,0.40261508581044947,0.37443732559434323]
[]
[null,null,null,null,"Aggregated half hourly tariff pseudo load coefficient, using average non half hourly unit mix"]
[null,null,null,null,null,"GSPs","scalar",null,null,null,null,null,null,null,null,null,null,null,{"$f":"SUMPRODUCT(S206:S208,S$378:S$380,S$253:S$255) * hours_in_year * S$122","v":2.2494005992529127},{"$f":"SUMPRODUCT(T206:T208,T$378:T$380,T$253:T$255) * hours_in_year * T$122","v":1.2071425331527907}]
[null,null,null,null,null,"132kV","scalar",null,null,null,null,null,null,null,null,null,null,null,{"$f":"SUMPRODUCT(S211:S213,S$378:S$380,S$253:S$255) * hours_in_year * S$122","v":2.078503280180823},{"$f":"SUMPRODUCT(T211:T213,T$378:T$380,T$253:T$255) * hours_in_year * T$122","v":1.2111851885823073}]
[null,null,null,null,null,"132kV/EHV","scalar",null,null,null,null,null,null,null,null,null,null,null,{"$f":"SUMPRODUCT(S216:S218,S$378:S$380,S$253:S$255) * hours_in_year * S$122","v":2.078503280180823},{"$f":"SUMPRODUCT(T216:T218,T$378:T$380,T$253:T$255) * hours_in_year * T$122","v":1.2111851885823073}]
[null,null,null,null,null,"EHV","scalar",null,null,null,null,null,null,null,null,null,null,null,{"$f":"SUMPRODUCT(S221:S223,S$378:S$380,S$253:S$255) * hours_in_year * S$122","v":2.1768199989885675},{"$f":"SUMPRODUCT(T221:T223,T$378:T$380,T$253:T$255) * hours_in_year * T$122","v":1.2594771353583585}]
[null,null,null,null,null,"EHV/HV","scalar",null,null,null,null,null,null,null,null,null,null,null,{"$f":"SUMPRODUCT(S226:S228,S$378:S$380,S$253:S$255) * hours_in_year * S$122","v":2.1768199989885675},{"$f":"SUMPRODUCT(T226:T228,T$378:T$380,T$253:T$255) * hours_in_year * T$122","v":1.2594771353583585}]
[null,null,null,null,null,"132kV/HV","scalar",null,null,null,null,null,null,null,null,null,null,null,{"$f":"SUMPRODUCT(S231:S233,S$378:S$380,S$253:S$255) * hours_in_year * S$122","v":2.078503280180823},{"$f":"SUMPRODUCT(T231:T233,T$378:T$380,T$253:T$255) * hours_in_year * T$122","v":1.2111851885823073}]
[null,null,null,null,null,"HV","scalar",null,null,null,null,null,null,null,null,null,null,null,{"$f":"SUMPRODUCT(S236:S238,S$378:S$380,S$253:S$255) * hours_in_year * S$122","v":2.1768199989885675},{"$f":"SUMPRODUCT(T236:T238,T$378:T$380,T$253:T$255) * hours_in_year * T$122","v":1.2594771353583585}]
[null,null,null,null,null,"HV/LV","scalar",null,null,null,null,null,null,null,null,null,null,null,{"$f":"SUMPRODUCT(S241:S243,S$378:S$380,S$253:S$255) * hours_in_year * S$122","v":2.1768199989885675},{"$f":"SUMPRODUCT(T241:T243,T$378:T$380,T$253:T$255) * hours_in_year * T$122","v":1.2594771353583585}]
[null,null,null,null,null,"LV circuits","scalar",null,null,null,null,null,null,null,null,null,null,null,{"$f":"SUMPRODUCT(S246:S248,S$378:S$380,S$253:S$255) * hours_in_year * S$122","v":2.1768199989885675},{"$f":"SUMPRODUCT(T246:T248,T$378:T$380,T$253:T$255) * hours_in_year * T$122","v":1.2594771353583585}]
[]
[null,null,{"$f":"INDEX('Version control'!$H$34:$H$59,MATCH($A$1,'Version control'!$F$34:$F$59,0),1)&\"-O: Volume weighted average pseudo load coefficient by profile class\"","v":"Section 508-O: Volume weighted average pseudo load coefficient by profile class"}]
[]
[null,null,null,null,"Profile class 1 and 2"]
[null,null,null,null,null,"GSPs","scalar",{"$f":"IF(SUM($J$39:$L$39) <> 0, SUMPRODUCT($J338:$L338,$J$39:$L$39) / SUM($J$39:$L$39), 0)","v":1.9792027372824201}]
[null,null,null,null,null,"132kV","scalar",1.8283053803589795]
[null,null,null,null,null,"132kV/EHV","scalar",1.8283053803589795]
[null,null,null,null,null,"EHV","scalar",1.9153057632818848]
[null,null,null,null,null,"EHV/HV","scalar",1.9153057632818848]
[null,null,null,null,null,"132kV/HV","scalar",1.8283053803589795]
[null,null,null,null,null,"HV","scalar",1.9153057632818848]
[null,null,null,null,null,"HV/LV","scalar",1.9153057632818848]
[null,null,null,null,null,"LV circuits","scalar",1.9153057632818848]
[]
[null,null,null,null,"Profile class 3 and 4"]
[null,null,null,null,null,"GSPs","scalar",{"$f":"IF(SUM($M$39:$O$39) <> 0, SUMPRODUCT($M338:$O338,$M$39:$O$39) / SUM($M$39:$O$39), 0)","v":1.2716126339503939}]
[null,null,null,null,null,"132kV","scalar",1.2758095747004288]
[null,null,null,null,null,"132kV/EHV","scalar",1.2758095747004288]
[null,null,null,null,null,"EHV","scalar",1.3262157919981565]
[null,null,null,null,null,"EHV/HV","scalar",1.3262157919981565]
[null,null,null,null,null,"132kV/HV","scalar",1.2758095747004288]
[null,null,null,null,null,"HV","scalar",1.3262157919981565]
[null,null,null,null,null,"HV/LV","scalar",1.3262157919981565]
[null,null,null,null,null,"LV circuits","scalar",1.3262157919981565]
[]
[null,null,{"$f":"INDEX('Version control'!$H$34:$H$59,MATCH($A$1,'Version control'!$F$34:$F$59,0),1)&\"-P: Relative correction factors\"","v":"Section 508-P: Relative correction factors"}]
[]
[null,null,null,null,"Unadjusted correction factor for domestic tariff forecast"]
[null,null,null,null,null,"GSPs","scalar",null,null,null,null,null,null,null,null,null,null,null,{"$f":"IF(S383 <> 0, H396 / S383, 0)","v":0.87988006135490826}]
[null,null,null,null,null,"132kV","scalar",null,null,null,null,null,null,null,null,null,null,null,{"$f":"IF(S384 <> 0, H397 / S384, 0)","v":0.87962592976996545}]
[null,null,null,null,null,"132kV/EHV","scalar",null,null,null,null,null,null,null,null,null,null,null,0.87962592976996545]
[null,null,null,null,null,"EHV","scalar",null,null,null,null,null,null,null,null,null,null,null,0.87986409724819137]
[null,null,null,null,null,"EHV/HV","scalar",null,null,null,null,null,null,null,null,null,null,null,0.87986409724819137]
[null,null,null,null,null,"132kV/HV","scalar",null,null,null,null,null,null,null,null,null,null,null,0.87962592976996545]
[null,null,null,null,null,"HV","scalar",null,null,null,null,null,null,null,null,null,null,null,0.87986409724819137]
[null,null,null,null,null,"HV/LV","scalar",null,null,null,null,null,null,null,null,null,null,null,0.87986409724819137]
[null,null,null,null,null,"LV circuits","scalar",null,null,null,null,null,null,null,null,null,null,null,0.87986409724819137]
[]
[null,null,null,null,"Unadjusted correction factor for domestic tariff forecast"]
[null,null,null,null,null,"GSPs","scalar",null,null,null,null,null,null,null,null,null,null,null,null,{"$f":"IF(T383 <> 0, H407 / T383, 0)","v":1.053407198426868}]
[null,null,null,null,null,"132kV","scalar",null,null,null,null,null,null,null,null,null,null,null,null,1.0533563213349433]
[null,null,null,null,null,"132kV/EHV","scalar",null,null,null,null,null,null,null,null,null,null,null,null,{"$f":"IF(T385 <> 0, H409 / T385, 0)","v":1.0533563213349433}]
[null,null,null,null,null,"EHV","scalar",null,null,null,null,null,null,null,null,null,null,null,null,{"$f":"IF(T386 <> 0, H410 / T386, 0)","v":1.052989176830756}]
[null,null,null,null,null,"EHV/HV","scalar",null,null,null,null,null,null,null,null,null,null,null,null,1.052989176830756]
[null,null,null,null,null,"132kV/HV","scalar",null,null,null,null,null,null,null,null,null,null,null,null,1.0533563213349433]
[null,null,null,null,null,"HV","scalar",null,null,null,null,null,null,null,null,null,null,null,null,1.052989176830756]
[null,null,null,null,null,"HV/LV","scalar",null,null,null,null,null,null,null,null,null,null,null,null,1.052989176830756]
[null,null,null,null,null,"LV circuits","scalar",null,null,null,null,null,null,null,null,null,null,null,null,1.052989176830756]
[]
[null,null,null,null,"Correction factor for non half hourly tariff forecast"]
[null,null,null,null,null,"GSPs","scalar",null,null,null,null,null,null,null,null,null,null,null,{"$f":"IF(SUM($J349:$L349,$S349 * ($S420 + S431)) <> 0, SUM($J349:$L349,$S349) / SUM($J349:$L349,$S349 * ($S420 + S431)), 0)","v":1.0002080359730661},{"$f":"IF(SUM($M349:$O349,$T349 * ($T420 + T431)) <> 0, SUM($M349:$O349,$T349) / SUM($M349:$O349,$T349 * ($T420 + T431)), 0)","v":0.99371102754115936}]
[null,null,null,null,null,"132kV","scalar",null,null,null,null,null,null,null,null,null,null,null,{"$f":"IF(SUM($J350:$L350,$S350 * ($S421 + S432)) <> 0, SUM($J350:$L350,$S350) / SUM($J350:$L350,$S350 * ($S421 + S432)), 0)","v":1.0002130633352231},{"$f":"IF(SUM($M350:$O350,$T350 * ($T421 + T432)) <> 0, SUM($M350:$O350,$T350) / SUM($M350:$O350,$T350 * ($T421 + T432)), 0)","v":0.99381599248406205}]
[null,null,null,null,null,"132kV/EHV","scalar",null,null,null,null,null,null,null,null,null,null,null,1.0002130633352231,0.99381599248406205]
[null,null,null,null,null,"EHV","scalar",null,null,null,null,null,null,null,null,null,null,null,1.0002105752714006,0.99385692343896204]
[null,null,null,null,null,"EHV/HV","scalar",null,null,null,null,null,null,null,null,null,null,null,1.0002105752714006,0.99385692343896204]
[null,null,null,null,null,"132kV/HV","scalar",null,null,null,null,null,null,null,null,null,null,null,1.0002130633352231,0.99381599248406205]
[null,null,null,null,null,"HV","scalar",null,null,null,null,null,null,null,null,null,null,null,1.0002105752714006,0.99385692343896204]
[null,null,null,null,null,"HV/LV","scalar",null,null,null,null,null,null,null,null,null,null,null,1.0002105752714006,0.99385692343896204]
[null,null,null,null,null,"LV circuits","scalar",null,null,null,null,null,null,null,null,null,null,null,1.0002105752714006,0.99385692343896204]
[]
[null,null,null,null,"Correction factor for profile classes 1&2"]
[null,null,null,null,null,"GSPs","scalar",null,null,{"$f":"$S442","v":1.0002080359730661},{"$f":"$S442","v":1.0002080359730661},1.0002080359730661]
[null,null,null,null,null,"132kV","scalar",null,null,{"$f":"$S443","v":1.0002130633352231},1.0002130633352231,1.0002130633352231]
[null,null,null,null,null,"132kV/EHV","scalar",null,null,1.0002130633352231,1.0002130633352231,1.0002130633352231]
[null,null,null,null,null,"EHV","scalar",null,null,1.0002105752714006,1.0002105752714006,1.0002105752714006]
[null,null,null,null,null,"EHV/HV","scalar",null,null,1.0002105752714006,1.0002105752714006,1.0002105752714006]
[null,null,null,null,null,"132kV/HV","scalar",null,null,1.0002130633352231,1.0002130633352231,1.0002130633352231]
[null,null,null,null,null,"HV","scalar",null,null,1.0002105752714006,1.0002105752714006,1.0002105752714006]
[null,null,null,null,null,"HV/LV","scalar",null,null,1.0002105752714006,1.0002105752714006,1.0002105752714006]
[null,null,null,null,null,"LV circuits","scalar",null,null,1.0002105752714006,1.0002105752714006,1.0002105752714006]
[]
[null,null,null,null,"Correction factor for profile classes 3&4"]
[null,null,null,null,null,"GSPs","scalar",null,null,null,null,null,{"$f":"$T442","v":0.99371102754115936},{"$f":"$T442","v":0.99371102754115936},0.99371102754115936]
[null,null,null,null,null,"132kV","scalar",null,null,null,null,null,{"$f":"$T443","v":0.99381599248406205},0.99381599248406205,0.99381599248406205]
[null,null,null,null,null,"132kV/EHV","scalar",null,null,null,null,null,{"$f":"$T444","v":0.99381599248406205},0.99381599248406205,0.99381599248406205]
[null,null,null,null,null,"EHV","scalar",null,null,null,null,null,{"$f":"$T445","v":0.99385692343896204},0.99385692343896204,0.99385692343896204]
[null,null,null,null,null,"EHV/HV","scalar",null,null,null,null,null,{"$f":"$T446","v":0.99385692343896204},0.99385692343896204,0.99385692343896204]
[null,null,null,null,null,"132kV/HV","scalar",null,null,null,null,null,{"$f":"$T447","v":0.99381599248406205},0.99381599248406205,0.99381599248406205]
[null,null,null,null,null,"HV","scalar",null,null,null,null,null,{"$f":"$T448","v":0.99385692343896204},0.99385692343896204,0.99385692343896204]
[null,null,null,null,null,"HV/LV","scalar",null,null,null,null,null,{"$f":"$T449","v":0.99385692343896204},0.99385692343896204,0.99385692343896204]
[null,null,null,null,null,"LV circuits","scalar",null,null,null,null,null,{"$f":"$T450","v":0.99385692343896204},0.99385692343896204,0.99385692343896204]
[]
[null,null,null,null,"Adjusted correction factor for HH tariff forecast"]
[null,null,null,null,null,"GSPs","scalar",null,null,null,null,null,null,null,null,null,null,null,{"$f":"S442 * (S420 + S431)","v":0.88006310805965371},{"$f":"T442 * (T420 + T431)","v":1.0467823495680171}]
[null,null,null,null,null,"132kV","scalar",null,null,null,null,null,null,null,null,null,null,null,{"$f":"S443 * (S421 + S432)","v":0.87981334580431092},1.0468423579268473]
[null,null,null,null,null,"132kV/EHV","scalar",null,null,null,null,null,null,null,null,null,null,null,{"$f":"S444 * (S422 + S433)","v":0.87981334580431092},1.0468423579268473]
[null,null,null,null,null,"EHV","scalar",null,null,null,null,null,null,null,null,null,null,null,{"$f":"S445 * (S423 + S434)","v":0.88004937486926504},1.0465205836995404]
[null,null,null,null,null,"EHV/HV","scalar",null,null,null,null,null,null,null,null,null,null,null,{"$f":"S446 * (S424 + S435)","v":0.88004937486926504},1.0465205836995404]
[null,null,null,null,null,"132kV/HV","scalar",null,null,null,null,null,null,null,null,null,null,null,{"$f":"S447 * (S425 + S436)","v":0.87981334580431092},1.0468423579268473]
[null,null,null,null,null,"HV","scalar",null,null,null,null,null,null,null,null,null,null,null,{"$f":"S448 * (S426 + S437)","v":0.88004937486926504},1.0465205836995404]
[null,null,null,null,null,"HV/LV","scalar",null,null,null,null,null,null,null,null,null,null,null,{"$f":"S449 * (S427 + S438)","v":0.88004937486926504},1.0465205836995404]
[null,null,null,null,null,"LV circuits","scalar",null,null,null,null,null,null,null,null,null,null,null,{"$f":"S450 * (S428 + S439)","v":0.88004937486926504},1.0465205836995404]
[]
[null,null,{"$f":"INDEX('Version control'!$H$34:$H$59,MATCH($A$1,'Version control'!$F$34:$F$59,0),1)&\"-Q: Final correction factors for Paragraph 72A adjustment\"","v":"Section 508-Q: Final correction factors for Paragraph 72A adjustment"}]
[]
[null,null,null,null,"Final correction factors for Paragraph 72A adjustment"]
[null,null,null,null,null,"GSPs","scalar",null,null,{"$f":"IF(J453 + J464 + J475 = 0, 1, J453 + J464 + J475)","v":1.0002080359730661},{"$f":"IF(K453 + K464 + K475 = 0, 1, K453 + K464 + K475)","v":1.0002080359730661},1.0002080359730661,0.99371102754115936,0.99371102754115936,0.99371102754115936,1,1,1,0.88006310805965371,1.0467823495680171,1,1,1,1,1,1,1,1,1,1,1,1,1,1,1,1,1,1,1,1,1,1]
[null,null,null,null,null,"132kV","scalar",null,null,{"$f":"IF(J454 + J465 + J476 = 0, 1, J454 + J465 + J476)","v":1.0002130633352231},1.0002130633352231,1.0002130633352231,0.99381599248406205,0.99381599248406205,0.99381599248406205,1,1,1,0.87981334580431092,1.0468423579268473,1,1,1,1,1,1,1,1,1,1,1,1,1,1,1,1,1,1,1,1,1,1]
[null,null,null,null,null,"132kV/EHV","scalar",null,null,{"$f":"IF(J455 + J466 + J477 = 0, 1, J455 + J466 + J477)","v":1.0002130633352231},1.0002130633352231,1.0002130633352231,0.99381599248406205,0.99381599248406205,0.99381599248406205,1,1,1,0.87981334580431092,1.0468423579268473,1,1,1,1,1,1,1,1,1,1,1,1,1,1,1,1,1,1,1,1,1,1]
[null,null,null,null,null,"EHV","scalar",null,null,{"$f":"IF(J456 + J467 + J478 = 0, 1, J456 + J467 + J478)","v":1.0002105752714006},1.0002105752714006,1.0002105752714006,0.99385692343896204,0.99385692343896204,0.99385692343896204,1,1,1,0.88004937486926504,1.0465205836995404,1,1,1,1,1,1,1,1,1,1,1,1,1,1,1,1,1,1,1,1,1,1]
[null,null,null,null,null,"EHV/HV","scalar",null,null,{"$f":"IF(J457 + J468 + J479 = 0, 1, J457 + J468 + J479)","v":1.0002105752714006},1.0002105752714006,1.0002105752714006,0.99385692343896204,0.99385692343896204,0.99385692343896204,1,1,1,0.88004937486926504,1.0465205836995404,1,1,1,1,1,1,1,1,1,1,1,1,1,1,1,1,1,1,1,1,1,1]
[null,null,null,null,null,"132kV/HV","scalar",null,null,{"$f":"IF(J458 + J469 + J480 = 0, 1, J458 + J469 + J480)","v":1.0002130633352231},1.0002130633352231,1.0002130633352231,0.99381599248406205,0.99381599248406205,0.99381599248406205,1,1,1,0.87981334580431092,1.0468423579268473,1,1,1,1,1,1,1,1,1,1,1,1,1,1,1,1,1,1,1,1,1,1]
[null,null,null,null,null,"HV","scalar",null,null,{"$f":"IF(J459 + J470 + J481 = 0, 1, J459 + J470 + J481)","v":1.0002105752714006},1.0002105752714006,1.0002105752714006,0.99385692343896204,0.99385692343896204,0.99385692343896204,1,1,1,0.88004937486926504,1.0465205836995404,1,1,1,1,1,1,1,1,1,1,1,1,1,1,1,1,1,1,1,1,1,1]
[null,null,null,null,null,"HV/LV","scalar",null,null,{"$f":"IF(J460 + J471 + J482 = 0, 1, J460 + J471 + J482)","v":1.0002105752714006},1.0002105752714006,1.0002105752714006,0.99385692343896204,0.99385692343896204,0.99385692343896204,1,1,1,0.88004937486926504,1.0465205836995404,1,1,1,1,1,1,1,1,1,1,1,1,1,1,1,1,1,1,1,1,1,1]
[null,null,null,null,null,"LV circuits","scalar",null,null,{"$f":"IF(J461 + J472 + J483 = 0, 1, J461 + J472 + J483)","v":1.0002105752714006},1.0002105752714006,1.0002105752714006,0.99385692343896204,0.99385692343896204,0.99385692343896204,1,1,1,0.88004937486926504,1.0465205836995404,1,1,1,1,1,1,1,1,1,1,1,1,1,1,1,1,1,1,1,1,1,1]
[]
[null,"Step 4: Results of Step 3, including aggregated values for UMS customers & Paragraph 72A adjustment"]
[]
[null,null,"This section summarises the load coefficient, and pseudo load coefficients"]
[]
[null,null,{"$f":"INDEX('Version control'!$H$34:$H$59,MATCH($A$1,'Version control'!$F$34:$F$59,0),1)&\"-R: Load coefficient\"","v":"Section 508-R: Load coefficient"}]
[]
[null,null,null,null,"Load coefficient",null,"scalar",null,null,{"$f":"J116","v":2.1752154846013747},1.3428696282237691,0,1.1985741703783281,1.2835262044026425,0,1.2338990407602315,1.2338990407602315,1.132714250368446,2.1462866473641995,1.2596602545183162,1.2323975422302154,1.1667611194836489,1.0723581089786196,1.0000000000000351,2.1126537686039404,3.5488704054425635,0,2.1233272801869107,1,1,1,1,1,1,1,1,1,1,1,1,1,1]
[]
[null,null,{"$f":"INDEX('Version control'!$H$34:$H$59,MATCH($A$1,'Version control'!$F$34:$F$59,0),1)&\"-S: Pseudo load coefficients, by unit rate\"","v":"Section 508-S: Pseudo load coefficients, by unit rate"}]
[]
[null,null,null,null,"Unit rate 1"]
[null,null,null,null,null,"GSPs","scalar",null,null,{"$f":"J293 * J488","v":2.0383149669035538},2.277326283448744,0.15410033028054779,1.2521512798117256,1.7846341102087029,0.15587030099678295,1.5878405746763777,1.6013458984596001,1.6073376060355773,15.018073953216065,12.888412971422365,11.55066581245533,11.085940564541984,10.704505039757239,1.0564303176550738,1.4813178954154673,2.441404273176496,0.65229125076063388,29.575341669392177,1,1,1,1,10.406378151847633,10.406378151847633,1,1,10.406378151847633,10.406378151847633,1,1,10.406378151847633,10.406378151847633]
[null,null,null,null,null,"132kV","scalar",null,null,{"$f":"J294 * J489","v":1.8734285659849159},2.0295844520225934,0.38202211019203186,1.2557104744781304,1.6661060430541201,0.38192147291795436,1.479773497996695,1.5009648507166902,1.5136143585115667,10.997798640747124,9.4414595089743987,8.4610023298805537,8.1205854682733953,7.8411793356483086,1.0566095432858378,1.3888806950899049,2.1130849087594048,0.74097473201070208,22.745222019211187,1,1,1,1,7.622797786553261,7.622797786553261,1,1,7.622797786553261,7.622797786553261,1,1,7.622797786553261,7.622797786553261]
[null,null,null,null,null,"132kV/EHV","scalar",null,null,{"$f":"J295 * J490","v":1.8734285659849159},2.0295844520225934,0.38202211019203186,1.2557104744781304,1.6661060430541201,0.38192147291795436,1.479773497996695,1.5009648507166902,1.5136143585115667,10.997798640747124,9.4414595089743987,8.4610023298805537,8.1205854682733953,7.8411793356483086,1.0566095432858378,1.3888806950899049,2.1130849087594048,0.74097473201070208,22.745222019211187,1,1,1,1,7.622797786553261,7.622797786553261,1,1,7.622797786553261,7.622797786553261,1,1,7.622797786553261,7.622797786553261]
[null,null,null,null,null,"EHV","scalar",null,null,{"$f":"J296 * J491","v":1.9721035835087848},2.1988219389630026,0.20719834354663158,1.3163444863978779,1.8125701085836234,0.21010937500310795,1.6164814757648309,1.6406850081904745,1.6624072845837741,12.318438525396155,10.569124798985809,9.4744763915950667,9.0932837866471097,8.7804098854221415,1.05650063456647,1.2420323845639887,2.05305152490264,0.87398270890107876,22.548628252854698,1.0000000000000002,1.0000000000000002,1.0000000000000002,1.0000000000000002,8.5358702019907824,8.5358702019907824,1.0000000000000002,1.0000000000000002,8.5358702019907824,8.5358702019907824,1.0000000000000002,1.0000000000000002,8.5358702019907824,8.5358702019907824]
[null,null,null,null,null,"EHV/HV","scalar",null,null,{"$f":"J297 * J492","v":1.9721035835087848},2.1988219389630026,0.20719834354663158,1.3163444863978779,1.8125701085836234,0.21010937500310795,1.6164814757648309,1.6406850081904745,1.6624072845837741,12.318438525396155,10.569124798985809,9.4744763915950667,9.0932837866471097,8.7804098854221415,1.05650063456647,1.2420323845639887,2.05305152490264,0.87398270890107876,22.548628252854698,1.0000000000000002,1.0000000000000002,1.0000000000000002,1.0000000000000002,8.5358702019907824,8.5358702019907824,1.0000000000000002,1.0000000000000002,8.5358702019907824,8.5358702019907824,1.0000000000000002,1.0000000000000002,8.5358702019907824,8.5358702019907824]
[null,null,null,null,null,"132kV/HV","scalar",null,null,{"$f":"J298 * J493","v":1.8734285659849159},2.0295844520225934,0.38202211019203186,1.2557104744781304,1.6661060430541201,0.38192147291795436,1.479773497996695,1.5009648507166902,1.5136143585115667,10.997798640747124,9.4414595089743987,8.4610023298805537,8.1205854682733953,7.8411793356483086,1.0566095432858378,1.3888806950899049,2.1130849087594048,0.74097473201070208,22.745222019211187,1,1,1,1,7.622797786553261,7.622797786553261,1,1,7.622797786553261,7.622797786553261,1,1,7.622797786553261,7.622797786553261]
[null,null,null,null,null,"HV","scalar",null,null,{"$f":"J299 * J494","v":1.9721035835087848},2.1988219389630026,0.20719834354663158,1.3163444863978779,1.8125701085836234,0.21010937500310795,1.6164814757648309,1.6406850081904745,1.6624072845837741,12.318438525396155,10.569124798985809,9.4744763915950667,9.0932837866471097,8.7804098854221415,1.05650063456647,1.2420323845639887,2.05305152490264,0.87398270890107876,22.548628252854698,1.0000000000000002,1.0000000000000002,1.0000000000000002,1.0000000000000002,8.5358702019907824,8.5358702019907824,1.0000000000000002,1.0000000000000002,8.5358702019907824,8.5358702019907824,1.0000000000000002,1.0000000000000002,8.5358702019907824,8.5358702019907824]
[null,null,null,null,null,"HV/LV","scalar",null,null,{"$f":"J300 * J495","v":1.9721035835087848},2.1988219389630026,0.20719834354663158,1.3163444863978779,1.8125701085836234,0.21010937500310795,1.6164814757648309,1.6406850081904745,1.6624072845837741,12.318438525396155,10.569124798985809,9.4744763915950667,9.0932837866471097,8.7804098854221415,1.05650063456647,1.2420323845639887,2.05305152490264,0.87398270890107876,22.548628252854698,1.0000000000000002,1.0000000000000002,1.0000000000000002,1.0000000000000002,8.5358702019907824,8.5358702019907824,1.0000000000000002,1.0000000000000002,8.5358702019907824,8.5358702019907824,1.0000000000000002,1.0000000000000002,8.5358702019907824,8.5358702019907824]
[null,null,null,null,null,"LV circuits","scalar",null,null,{"$f":"J301 * J496","v":1.9721035835087848},2.1988219389630026,0.20719834354663158,1.3163444863978779,1.8125701085836234,0.21010937500310795,1.6164814757648309,1.6406850081904745,1.6624072845837741,12.318438525396155,10.569124798985809,9.4744763915950667,9.0932837866471097,8.7804098854221415,1.05650063456647,1.2420323845639887,2.05305152490264,0.87398270890107876,22.548628252854698,1.0000000000000002,1.0000000000000002,1.0000000000000002,1.0000000000000002,8.5358702019907824,8.5358702019907824,1.0000000000000002,1.0000000000000002,8.5358702019907824,8.5358702019907824,1.0000000000000002,1.0000000000000002,8.5358702019907824,8.5358702019907824]
[]
[null,null,null,null,"Unit rate 2"]
[null,null,null,null,null,"GSPs","scalar",null,null,{"$f":"J304 * J488","v":0},0.15463440320148036,0,0,0.15921138905825921,0,0.121061605191615,0.12255263166472458,0.12351730716516579,0.5849219852531421,0.50197622714411583,0.44987382530302067,0.43177376696974001,0.41691766590789986,0,0,0,0,0.75103067927702138,0,0,0,0,0.4053062587676331,0.4053062587676331,0,0,0.4053062587676331,0.4053062587676331,0,0,0.4053062587676331,0.4053062587676331]
[null,null,null,null,null,"132kV","scalar",null,null,{"$f":"J305 * J489","v":0},0.47005483588332447,0,0,0.45773972720105299,0,0.38456620753569887,0.3942673310199008,0.39986930498206225,0.89783304710021039,0.77077737435642613,0.69073527816859281,0.66294448856378496,0.64013446379175243,0,0,0,0,0.80774986755119482,0,0,0,0,0.6223063349034833,0.6223063349034833,0,0,0.6223063349034833,0.6223063349034833,0,0,0.6223063349034833,0.6223063349034833]
[null,null,null,null,null,"132kV/EHV","scalar",null,null,{"$f":"J306 * J490","v":0},0.47005483588332447,0,0,0.45773972720105299,0,0.38456620753569887,0.3942673310199008,0.39986930498206225,0.89783304710021039,0.77077737435642613,0.69073527816859281,0.66294448856378496,0.64013446379175243,0,0,0,0,0.80774986755119482,0,0,0,0,0.6223063349034833,0.6223063349034833,0,0,0.6223063349034833,0.6223063349034833,0,0,0.6223063349034833,0.6223063349034833]
[null,null,null,null,null,"EHV","scalar",null,null,{"$f":"J307 * J491","v":0},0.165100918742352,0,0,0.18298791515601268,0,0.12107473438194591,0.12011441661130556,0.11982617788247479,1.0589965727972062,0.90861085327630675,0.81450567026509912,0.78173514814224399,0.75483787634664712,0,0,0,0,1.070863061407769,0,0,0,0,0.73381518859829098,0.73381518859829098,0,0,0.73381518859829098,0.73381518859829098,0,0,0.73381518859829098,0.73381518859829098]
[null,null,null,null,null,"EHV/HV","scalar",null,null,{"$f":"J308 * J492","v":0},0.165100918742352,0,0,0.18298791515601268,0,0.12107473438194591,0.12011441661130556,0.11982617788247479,1.0589965727972062,0.90861085327630675,0.81450567026509912,0.78173514814224399,0.75483787634664712,0,0,0,0,1.070863061407769,0,0,0,0,0.73381518859829098,0.73381518859829098,0,0,0.73381518859829098,0.73381518859829098,0,0,0.73381518859829098,0.73381518859829098]
[null,null,null,null,null,"132kV/HV","scalar",null,null,{"$f":"J309 * J493","v":0},0.47005483588332447,0,0,0.45773972720105299,0,0.38456620753569887,0.3942673310199008,0.39986930498206225,0.89783304710021039,0.77077737435642613,0.69073527816859281,0.66294448856378496,0.64013446379175243,0,0,0,0,0.80774986755119482,0,0,0,0,0.6223063349034833,0.6223063349034833,0,0,0.6223063349034833,0.6223063349034833,0,0,0.6223063349034833,0.6223063349034833]
[null,null,null,null,null,"HV","scalar",null,null,{"$f":"J310 * J494","v":0},0.165100918742352,0,0,0.18298791515601268,0,0.12107473438194591,0.12011441661130556,0.11982617788247479,1.0589965727972062,0.90861085327630675,0.81450567026509912,0.78173514814224399,0.75483787634664712,0,0,0,0,1.070863061407769,0,0,0,0,0.73381518859829098,0.73381518859829098,0,0,0.73381518859829098,0.73381518859829098,0,0,0.73381518859829098,0.73381518859829098]
[null,null,null,null,null,"HV/LV","scalar",null,null,{"$f":"J311 * J495","v":0},0.165100918742352,0,0,0.18298791515601268,0,0.12107473438194591,0.12011441661130556,0.11982617788247479,1.0589965727972062,0.90861085327630675,0.81450567026509912,0.78173514814224399,0.75483787634664712,0,0,0,0,1.070863061407769,0,0,0,0,0.73381518859829098,0.73381518859829098,0,0,0.73381518859829098,0.73381518859829098,0,0,0.73381518859829098,0.73381518859829098]
[null,null,null,null,null,"LV circuits","scalar",null,null,{"$f":"J312 * J496","v":0},0.165100918742352,0,0,0.18298791515601268,0,0.12107473438194591,0.12011441661130556,0.11982617788247479,1.0589965727972062,0.90861085327630675,0.81450567026509912,0.78173514814224399,0.75483787634664712,0,0,0,0,1.070863061407769,0,0,0,0,0.73381518859829098,0.73381518859829098,0,0,0.73381518859829098,0.73381518859829098,0,0,0.73381518859829098,0.73381518859829098]
[]
[null,null,null,null,"Unit rate 3"]
[null,null,null,null,null,"GSPs","scalar",null,null,{"$f":"J315 * J488","v":0},0,0,0,0,0,0,0,0,0.14841452289975304,0.12736837413688548,0.11414822973107934,0.1095556317612339,0.10578613564580013,0,0,0,0,0.10871706769652695,0,0,0,0,0.10283992829787207,0.10283992829787207,0,0,0.10283992829787207,0.10283992829787207,0,0,0.10283992829787207,0.10283992829787207]
[null,null,null,null,null,"132kV","scalar",null,null,{"$f":"J316 * J489","v":0},0,0,0,0,0,0,0,0,0.48033405963741166,0.41236021161957109,0.36953828038417635,0.35467041287303913,0.34246721781960798,0,0,0,0,0.35195568375990421,0,0,0,0,0.3329293003278212,0.3329293003278212,0,0,0.3329293003278212,0.3329293003278212,0,0,0.3329293003278212,0.3329293003278212]
[null,null,null,null,null,"132kV/EHV","scalar",null,null,{"$f":"J317 * J490","v":0},0,0,0,0,0,0,0,0,0.48033405963741166,0.41236021161957109,0.36953828038417635,0.35467041287303913,0.34246721781960798,0,0,0,0,0.35195568375990421,0,0,0,0,0.3329293003278212,0.3329293003278212,0,0,0.3329293003278212,0.3329293003278212,0,0,0.3329293003278212,0.3329293003278212]
[null,null,null,null,null,"EHV","scalar",null,null,{"$f":"J318 * J491","v":0},0,0,0,0,0,0,0,0,0.14397713093773079,0.12353126266316776,0.11073708126129994,0.10628172618671497,0.10262487580338142,0,0,0,0,0.10546822135010885,0,0,0,0,9.9766711438776134E-2,9.9766711438776134E-2,0,0,9.9766711438776134E-2,9.9766711438776134E-2,0,0,9.9766711438776134E-2,9.9766711438776134E-2]
[null,null,null,null,null,"EHV/HV","scalar",null,null,{"$f":"J319 * J492","v":0},0,0,0,0,0,0,0,0,0.14397713093773079,0.12353126266316776,0.11073708126129994,0.10628172618671497,0.10262487580338142,0,0,0,0,0.10546822135010885,0,0,0,0,9.9766711438776134E-2,9.9766711438776134E-2,0,0,9.9766711438776134E-2,9.9766711438776134E-2,0,0,9.9766711438776134E-2,9.9766711438776134E-2]
[null,null,null,null,null,"132kV/HV","scalar",null,null,{"$f":"J320 * J493","v":0},0,0,0,0,0,0,0,0,0.48033405963741166,0.41236021161957109,0.36953828038417635,0.35467041287303913,0.34246721781960798,0,0,0,0,0.35195568375990421,0,0,0,0,0.3329293003278212,0.3329293003278212,0,0,0.3329293003278212,0.3329293003278212,0,0,0.3329293003278212,0.3329293003278212]
[null,null,null,null,null,"HV","scalar",null,null,{"$f":"J321 * J494","v":0},0,0,0,0,0,0,0,0,0.14397713093773079,0.12353126266316776,0.11073708126129994,0.10628172618671497,0.10262487580338142,0,0,0,0,0.10546822135010885,0,0,0,0,9.9766711438776134E-2,9.9766711438776134E-2,0,0,9.9766711438776134E-2,9.9766711438776134E-2,0,0,9.9766711438776134E-2,9.9766711438776134E-2]
[null,null,null,null,null,"HV/LV","scalar",null,null,{"$f":"J322 * J495","v":0},0,0,0,0,0,0,0,0,0.14397713093773079,0.12353126266316776,0.11073708126129994,0.10628172618671497,0.10262487580338142,0,0,0,0,0.10546822135010885,0,0,0,0,9.9766711438776134E-2,9.9766711438776134E-2,0,0,9.9766711438776134E-2,9.9766711438776134E-2,0,0,9.9766711438776134E-2,9.9766711438776134E-2]
[null,null,null,null,null,"LV circuits","scalar",null,null,{"$f":"J323 * J496","v":0},0,0,0,0,0,0,0,0,0.14397713093773079,0.12353126266316776,0.11073708126129994,0.10628172618671497,0.10262487580338142,0,0,0,0,0.10546822135010885,0,0,0,0,9.9766711438776134E-2,9.9766711438776134E-2,0,0,9.9766711438776134E-2,9.9766711438776134E-2,0,0,9.9766711438776134E-2,9.9766711438776134E-2]
[]
[null,"Checks"]
[]
[null,null,null,null,"Check for error values",null,"number of issues",{"$f":"SUM(IF(ISERROR(H24:AP539), 1))","v":0}]
[]
[null,"End of sheet"]

{"sheet":"System peak demand","index":22,"n_rows":283,"n_cols":44,"rows_kept":283,"cut":false,"hidden":false,"merged":[]}
[{"$f":"MID(CELL(\"filename\",A1),FIND(\"]\",CELL(\"filename\",A1))+1,255)","v":"System peak demand"}]
[{"$f":"Cover!D21&\" - \"&Cover!D23","v":"[enter DNO name] - [enter data version name]"}]
[{"$f":"Cover!D2&\" - \"&Cover!D8&\" v\"&Cover!D10&\" - \"&Cover!D19","v":"ARP model - Release for charge setting v3 - 2020/21"}]
[{"$f":"H281 & IF(H281 = 1, \" issue\", \" issues\") &\" identified in checks on this sheet\"","v":"0 issues identified in checks on this sheet"}]
[null,"Click here to return to model map",null,null,null,null,"Units","Constants",null,"Domestic Unrestricted","Domestic Two Rate","Domestic Off Peak (related MPAN)","Small Non Domestic Unrestricted","Small Non Domestic Two Rate","Small Non Domestic Off Peak (related MPAN)","LV Medium Non-Domestic","LV Sub Medium Non-Domestic","HV Medium Non-Domestic","LV Network Domestic","LV Network Non-Domestic Non-CT","LV HH Metered","LV Sub HH Metered","HV HH Metered","NHH UMS category A","NHH UMS category B","NHH UMS category C","NHH UMS category D","LV UMS (Pseudo HH Metered)","LV Generation NHH or Aggregate HH","LV Sub Generation NHH","LV Generation Intermittent","LV Generation Intermittent no RP charge","LV Generation Non-Intermittent","LV Generation Non-Intermittent no RP charge","LV Sub Generation Intermittent","LV Sub Generation Intermittent no RP charge","LV Sub Generation Non-Intermittent","LV Sub Generation Non-Intermittent no RP charge","HV Generation Intermittent","HV Generation Intermittent no RP charge","HV Generation Non-Intermittent","HV Generation Non-Intermittent no RP charge",null,"Legal text reference"]
[]
[null,"Description"]
[]
[null,null,"This sheet calculates load at system peak based on chargeable load."]
[null,null,"This is used to calculate notional asset values used in the allocation of other operating costs in the 'Unit costs' tab."]
[null,null,"Chargeable volumes are made up of three components:"]
[null,null,null,"1. Load charged to unit rates"]
[null,null,null,"2.  Import and exceeded capacity charged to capacity charges."]
[null,null,null,"3. Estimated maximum load (i.e. capacity) used to calculate fixed charges."]
[]
[null,"Common inputs for chargeable load calculations"]
[]
[null,null,{"$f":"INDEX('Version control'!$H$34:$H$59,MATCH($A$1,'Version control'!$F$34:$F$59,0),1)&\"-A: Common inputs for chargeable load calculations\"","v":"Section 509-A: Common inputs for chargeable load calculations"}]
[]
[null,null,null,"This section brings in common inputs used for the three elements of chargeable load"]
[]
[null,null,null,null,"Standing charges factors adapted to use 132kV/HV, by network level"]
[null,null,null,null,null,"GSPs","%",null,null,{"$f":"'Standing charge factors'!J44","v":0},{"$f":"'Standing charge factors'!K44","v":0},{"$f":"'Standing charge factors'!L44","v":0},{"$f":"'Standing charge factors'!M44","v":0},{"$f":"'Standing charge factors'!N44","v":0},{"$f":"'Standing charge factors'!O44","v":0},{"$f":"'Standing charge factors'!P44","v":0},{"$f":"'Standing charge factors'!Q44","v":0},{"$f":"'Standing charge factors'!R44","v":0},{"$f":"'Standing charge factors'!S44","v":0},{"$f":"'Standing charge factors'!T44","v":0},{"$f":"'Standing charge factors'!U44","v":0},{"$f":"'Standing charge factors'!V44","v":0},{"$f":"'Standing charge factors'!W44","v":0},{"$f":"'Standing charge factors'!X44","v":0},{"$f":"'Standing charge factors'!Y44","v":0},{"$f":"'Standing charge factors'!Z44","v":0},{"$f":"'Standing charge factors'!AA44","v":0},{"$f":"'Standing charge factors'!AB44","v":0},{"$f":"'Standing charge factors'!AC44","v":0},{"$f":"'Standing charge factors'!AD44","v":0},{"$f":"'Standing charge factors'!AE44","v":0},{"$f":"'Standing charge factors'!AF44","v":0},{"$f":"'Standing charge factors'!AG44","v":0},{"$f":"'Standing charge factors'!AH44","v":0},{"$f":"'Standing charge factors'!AI44","v":0},{"$f":"'Standing charge factors'!AJ44","v":0},{"$f":"'Standing charge factors'!AK44","v":0},{"$f":"'Standing charge factors'!AL44","v":0},{"$f":"'Standing charge factors'!AM44","v":0},{"$f":"'Standing charge factors'!AN44","v":0},{"$f":"'Standing charge factors'!AO44","v":0},{"$f":"'Standing charge factors'!AP44","v":0}]
[null,null,null,null,null,"132kV","%",null,null,{"$f":"'Standing charge factors'!J45","v":0},{"$f":"'Standing charge factors'!K45","v":0},{"$f":"'Standing charge factors'!L45","v":0},{"$f":"'Standing charge factors'!M45","v":0},{"$f":"'Standing charge factors'!N45","v":0},{"$f":"'Standing charge factors'!O45","v":0},{"$f":"'Standing charge factors'!P45","v":0},{"$f":"'Standing charge factors'!Q45","v":0},{"$f":"'Standing charge factors'!R45","v":0.06},{"$f":"'Standing charge factors'!S45","v":0},{"$f":"'Standing charge factors'!T45","v":0},{"$f":"'Standing charge factors'!U45","v":0},{"$f":"'Standing charge factors'!V45","v":0},{"$f":"'Standing charge factors'!W45","v":0.06},{"$f":"'Standing charge factors'!X45","v":0},{"$f":"'Standing charge factors'!Y45","v":0},{"$f":"'Standing charge factors'!Z45","v":0},{"$f":"'Standing charge factors'!AA45","v":0},{"$f":"'Standing charge factors'!AB45","v":0},{"$f":"'Standing charge factors'!AC45","v":0},{"$f":"'Standing charge factors'!AD45","v":0},{"$f":"'Standing charge factors'!AE45","v":0},{"$f":"'Standing charge factors'!AF45","v":0},{"$f":"'Standing charge factors'!AG45","v":0},{"$f":"'Standing charge factors'!AH45","v":0},{"$f":"'Standing charge factors'!AI45","v":0},{"$f":"'Standing charge factors'!AJ45","v":0},{"$f":"'Standing charge factors'!AK45","v":0},{"$f":"'Standing charge factors'!AL45","v":0},{"$f":"'Standing charge factors'!AM45","v":0},{"$f":"'Standing charge factors'!AN45","v":0},{"$f":"'Standing charge factors'!AO45","v":0},{"$f":"'Standing charge factors'!AP45","v":0}]
[null,null,null,null,null,"132kV/EHV","%",null,null,{"$f":"'Standing charge factors'!J46","v":0},{"$f":"'Standing charge factors'!K46","v":0},{"$f":"'Standing charge factors'!L46","v":0},{"$f":"'Standing charge factors'!M46","v":0},{"$f":"'Standing charge factors'!N46","v":0},{"$f":"'Standing charge factors'!O46","v":0},{"$f":"'Standing charge factors'!P46","v":0},{"$f":"'Standing charge factors'!Q46","v":0},{"$f":"'Standing charge factors'!R46","v":0},{"$f":"'Standing charge factors'!S46","v":0},{"$f":"'Standing charge factors'!T46","v":0},{"$f":"'Standing charge factors'!U46","v":0},{"$f":"'Standing charge factors'!V46","v":0},{"$f":"'Standing charge factors'!W46","v":0},{"$f":"'Standing charge factors'!X46","v":0},{"$f":"'Standing charge factors'!Y46","v":0},{"$f":"'Standing charge factors'!Z46","v":0},{"$f":"'Standing charge factors'!AA46","v":0},{"$f":"'Standing charge factors'!AB46","v":0},{"$f":"'Standing charge factors'!AC46","v":0},{"$f":"'Standing charge factors'!AD46","v":0},{"$f":"'Standing charge factors'!AE46","v":0},{"$f":"'Standing charge factors'!AF46","v":0},{"$f":"'Standing charge factors'!AG46","v":0},{"$f":"'Standing charge factors'!AH46","v":0},{"$f":"'Standing charge factors'!AI46","v":0},{"$f":"'Standing charge factors'!AJ46","v":0},{"$f":"'Standing charge factors'!AK46","v":0},{"$f":"'Standing charge factors'!AL46","v":0},{"$f":"'Standing charge factors'!AM46","v":0},{"$f":"'Standing charge factors'!AN46","v":0},{"$f":"'Standing charge factors'!AO46","v":0},{"$f":"'Standing charge factors'!AP46","v":0}]
[null,null,null,null,null,"EHV","%",null,null,{"$f":"'Standing charge factors'!J47","v":0},{"$f":"'Standing charge factors'!K47","v":0},{"$f":"'Standing charge factors'!L47","v":0},{"$f":"'Standing charge factors'!M47","v":0},{"$f":"'Standing charge factors'!N47","v":0},{"$f":"'Standing charge factors'!O47","v":0},{"$f":"'Standing charge factors'!P47","v":0},{"$f":"'Standing charge factors'!Q47","v":0},{"$f":"'Standing charge factors'!R47","v":0.2},{"$f":"'Standing charge factors'!S47","v":0},{"$f":"'Standing charge factors'!T47","v":0},{"$f":"'Standing charge factors'!U47","v":0},{"$f":"'Standing charge factors'!V47","v":0},{"$f":"'Standing charge factors'!W47","v":0.2},{"$f":"'Standing charge factors'!X47","v":0},{"$f":"'Standing charge factors'!Y47","v":0},{"$f":"'Standing charge factors'!Z47","v":0},{"$f":"'Standing charge factors'!AA47","v":0},{"$f":"'Standing charge factors'!AB47","v":0},{"$f":"'Standing charge factors'!AC47","v":0},{"$f":"'Standing charge factors'!AD47","v":0},{"$f":"'Standing charge factors'!AE47","v":0},{"$f":"'Standing charge factors'!AF47","v":0},{"$f":"'Standing charge factors'!AG47","v":0},{"$f":"'Standing charge factors'!AH47","v":0},{"$f":"'Standing charge factors'!AI47","v":0},{"$f":"'Standing charge factors'!AJ47","v":0},{"$f":"'Standing charge factors'!AK47","v":0},{"$f":"'Standing charge factors'!AL47","v":0},{"$f":"'Standing charge factors'!AM47","v":0},{"$f":"'Standing charge factors'!AN47","v":0},{"$f":"'Standing charge factors'!AO47","v":0},{"$f":"'Standing charge factors'!AP47","v":0}]
[null,null,null,null,null,"EHV/HV","%",null,null,{"$f":"'Standing charge factors'!J48","v":0},{"$f":"'Standing charge factors'!K48","v":0},{"$f":"'Standing charge factors'!L48","v":0},{"$f":"'Standing charge factors'!M48","v":0},{"$f":"'Standing charge factors'!N48","v":0},{"$f":"'Standing charge factors'!O48","v":0},{"$f":"'Standing charge factors'!P48","v":0},{"$f":"'Standing charge factors'!Q48","v":0},{"$f":"'Standing charge factors'!R48","v":1},{"$f":"'Standing charge factors'!S48","v":0},{"$f":"'Standing charge factors'!T48","v":0},{"$f":"'Standing charge factors'!U48","v":0},{"$f":"'Standing charge factors'!V48","v":0},{"$f":"'Standing charge factors'!W48","v":1},{"$f":"'Standing charge factors'!X48","v":0},{"$f":"'Standing charge factors'!Y48","v":0},{"$f":"'Standing charge factors'!Z48","v":0},{"$f":"'Standing charge factors'!AA48","v":0},{"$f":"'Standing charge factors'!AB48","v":0},{"$f":"'Standing charge factors'!AC48","v":0},{"$f":"'Standing charge factors'!AD48","v":0},{"$f":"'Standing charge factors'!AE48","v":0},{"$f":"'Standing charge factors'!AF48","v":0},{"$f":"'Standing charge factors'!AG48","v":0},{"$f":"'Standing charge factors'!AH48","v":0},{"$f":"'Standing charge factors'!AI48","v":0},{"$f":"'Standing charge factors'!AJ48","v":0},{"$f":"'Standing charge factors'!AK48","v":0},{"$f":"'Standing charge factors'!AL48","v":0},{"$f":"'Standing charge factors'!AM48","v":0},{"$f":"'Standing charge factors'!AN48","v":0},{"$f":"'Standing charge factors'!AO48","v":0},{"$f":"'Standing charge factors'!AP48","v":0}]
[null,null,null,null,null,"132kV/HV","%",null,null,{"$f":"'Standing charge factors'!J49","v":0},{"$f":"'Standing charge factors'!K49","v":0},{"$f":"'Standing charge factors'!L49","v":0},{"$f":"'Standing charge factors'!M49","v":0},{"$f":"'Standing charge factors'!N49","v":0},{"$f":"'Standing charge factors'!O49","v":0},{"$f":"'Standing charge factors'!P49","v":0},{"$f":"'Standing charge factors'!Q49","v":0},{"$f":"'Standing charge factors'!R49","v":1},{"$f":"'Standing charge factors'!S49","v":0},{"$f":"'Standing charge factors'!T49","v":0},{"$f":"'Standing charge factors'!U49","v":0},{"$f":"'Standing charge factors'!V49","v":0},{"$f":"'Standing charge factors'!W49","v":1},{"$f":"'Standing charge factors'!X49","v":0},{"$f":"'Standing charge factors'!Y49","v":0},{"$f":"'Standing charge factors'!Z49","v":0},{"$f":"'Standing charge factors'!AA49","v":0},{"$f":"'Standing charge factors'!AB49","v":0},{"$f":"'Standing charge factors'!AC49","v":0},{"$f":"'Standing charge factors'!AD49","v":0},{"$f":"'Standing charge factors'!AE49","v":0},{"$f":"'Standing charge factors'!AF49","v":0},{"$f":"'Standing charge factors'!AG49","v":0},{"$f":"'Standing charge factors'!AH49","v":0},{"$f":"'Standing charge factors'!AI49","v":0},{"$f":"'Standing charge factors'!AJ49","v":0},{"$f":"'Standing charge factors'!AK49","v":0},{"$f":"'Standing charge factors'!AL49","v":0},{"$f":"'Standing charge factors'!AM49","v":0},{"$f":"'Standing charge factors'!AN49","v":0},{"$f":"'Standing charge factors'!AO49","v":0},{"$f":"'Standing charge factors'!AP49","v":0}]
[null,null,null,null,null,"HV","%",null,null,{"$f":"'Standing charge factors'!J50","v":0},{"$f":"'Standing charge factors'!K50","v":0},{"$f":"'Standing charge factors'!L50","v":0},{"$f":"'Standing charge factors'!M50","v":0},{"$f":"'Standing charge factors'!N50","v":0},{"$f":"'Standing charge factors'!O50","v":0},{"$f":"'Standing charge factors'!P50","v":0},{"$f":"'Standing charge factors'!Q50","v":0},{"$f":"'Standing charge factors'!R50","v":1},{"$f":"'Standing charge factors'!S50","v":0},{"$f":"'Standing charge factors'!T50","v":0},{"$f":"'Standing charge factors'!U50","v":0.2},{"$f":"'Standing charge factors'!V50","v":1},{"$f":"'Standing charge factors'!W50","v":1},{"$f":"'Standing charge factors'!X50","v":0},{"$f":"'Standing charge factors'!Y50","v":0},{"$f":"'Standing charge factors'!Z50","v":0},{"$f":"'Standing charge factors'!AA50","v":0},{"$f":"'Standing charge factors'!AB50","v":0},{"$f":"'Standing charge factors'!AC50","v":0},{"$f":"'Standing charge factors'!AD50","v":0},{"$f":"'Standing charge factors'!AE50","v":0},{"$f":"'Standing charge factors'!AF50","v":0},{"$f":"'Standing charge factors'!AG50","v":0},{"$f":"'Standing charge factors'!AH50","v":0},{"$f":"'Standing charge factors'!AI50","v":0},{"$f":"'Standing charge factors'!AJ50","v":0},{"$f":"'Standing charge factors'!AK50","v":0},{"$f":"'Standing charge factors'!AL50","v":0},{"$f":"'Standing charge factors'!AM50","v":0},{"$f":"'Standing charge factors'!AN50","v":0},{"$f":"'Standing charge factors'!AO50","v":0},{"$f":"'Standing charge factors'!AP50","v":0}]
[null,null,null,null,null,"HV/LV","%",null,null,{"$f":"'Standing charge factors'!J51","v":0},{"$f":"'Standing charge factors'!K51","v":0},{"$f":"'Standing charge factors'!L51","v":0},{"$f":"'Standing charge factors'!M51","v":0},{"$f":"'Standing charge factors'!N51","v":0},{"$f":"'Standing charge factors'!O51","v":0},{"$f":"'Standing charge factors'!P51","v":0},{"$f":"'Standing charge factors'!Q51","v":1},{"$f":"'Standing charge factors'!R51","v":0},{"$f":"'Standing charge factors'!S51","v":0},{"$f":"'Standing charge factors'!T51","v":0},{"$f":"'Standing charge factors'!U51","v":1},{"$f":"'Standing charge factors'!V51","v":1},{"$f":"'Standing charge factors'!W51","v":0},{"$f":"'Standing charge factors'!X51","v":0},{"$f":"'Standing charge factors'!Y51","v":0},{"$f":"'Standing charge factors'!Z51","v":0},{"$f":"'Standing charge factors'!AA51","v":0},{"$f":"'Standing charge factors'!AB51","v":0},{"$f":"'Standing charge factors'!AC51","v":0},{"$f":"'Standing charge factors'!AD51","v":0},{"$f":"'Standing charge factors'!AE51","v":0},{"$f":"'Standing charge factors'!AF51","v":0},{"$f":"'Standing charge factors'!AG51","v":0},{"$f":"'Standing charge factors'!AH51","v":0},{"$f":"'Standing charge factors'!AI51","v":0},{"$f":"'Standing charge factors'!AJ51","v":0},{"$f":"'Standing charge factors'!AK51","v":0},{"$f":"'Standing charge factors'!AL51","v":0},{"$f":"'Standing charge factors'!AM51","v":0},{"$f":"'Standing charge factors'!AN51","v":0},{"$f":"'Standing charge factors'!AO51","v":0},{"$f":"'Standing charge factors'!AP51","v":0}]
[null,null,null,null,null,"LV circuits","%",null,null,{"$f":"'Standing charge factors'!J52","v":1},{"$f":"'Standing charge factors'!K52","v":1},{"$f":"'Standing charge factors'!L52","v":1},{"$f":"'Standing charge factors'!M52","v":1},{"$f":"'Standing charge factors'!N52","v":1},{"$f":"'Standing charge factors'!O52","v":1},{"$f":"'Standing charge factors'!P52","v":1},{"$f":"'Standing charge factors'!Q52","v":0},{"$f":"'Standing charge factors'!R52","v":0},{"$f":"'Standing charge factors'!S52","v":1},{"$f":"'Standing charge factors'!T52","v":1},{"$f":"'Standing charge factors'!U52","v":1},{"$f":"'Standing charge factors'!V52","v":0},{"$f":"'Standing charge factors'!W52","v":0},{"$f":"'Standing charge factors'!X52","v":0},{"$f":"'Standing charge factors'!Y52","v":0},{"$f":"'Standing charge factors'!Z52","v":0},{"$f":"'Standing charge factors'!AA52","v":0},{"$f":"'Standing charge factors'!AB52","v":0},{"$f":"'Standing charge factors'!AC52","v":0},{"$f":"'Standing charge factors'!AD52","v":0},{"$f":"'Standing charge factors'!AE52","v":0},{"$f":"'Standing charge factors'!AF52","v":0},{"$f":"'Standing charge factors'!AG52","v":0},{"$f":"'Standing charge factors'!AH52","v":0},{"$f":"'Standing charge factors'!AI52","v":0},{"$f":"'Standing charge factors'!AJ52","v":0},{"$f":"'Standing charge factors'!AK52","v":0},{"$f":"'Standing charge factors'!AL52","v":0},{"$f":"'Standing charge factors'!AM52","v":0},{"$f":"'Standing charge factors'!AN52","v":0},{"$f":"'Standing charge factors'!AO52","v":0},{"$f":"'Standing charge factors'!AP52","v":0}]
[]
[null,null,null,null,"User loss factor",null,null,null,">",null,null,null,null,null,null,null,null,null,null,null,null,null,null,null,null,null,null,null,null,null,null,null,null,null,null,null,null,null,null,null,null,null,null,"Paragraph 61 (b)"]
[null,null,null,null,null,"GSPs","scalar",null,null,{"$f":"TRANSPOSE('Load & loss characteristics'!K230:S262)","v":1.077},{"$f":"'Load & loss characteristics'!K231","v":1.077},{"$f":"'Load & loss characteristics'!K232","v":1.077},{"$f":"'Load & loss characteristics'!K233","v":1.077},{"$f":"'Load & loss characteristics'!K234","v":1.077},{"$f":"'Load & loss characteristics'!K235","v":1.077},{"$f":"'Load & loss characteristics'!K236","v":1.077},{"$f":"'Load & loss characteristics'!K237","v":1.0589999999999999},{"$f":"'Load & loss characteristics'!K238","v":1.0409999999999999},{"$f":"'Load & loss characteristics'!K239","v":1.077},{"$f":"'Load & loss characteristics'!K240","v":1.077},{"$f":"'Load & loss characteristics'!K241","v":1.077},{"$f":"'Load & loss characteristics'!K242","v":1.0589999999999999},{"$f":"'Load & loss characteristics'!K243","v":1.0409999999999999},{"$f":"'Load & loss characteristics'!K244","v":1.077},{"$f":"'Load & loss characteristics'!K245","v":1.077},{"$f":"'Load & loss characteristics'!K246","v":1.077},{"$f":"'Load & loss characteristics'!K247","v":1.077},{"$f":"'Load & loss characteristics'!K248","v":1.077},{"$f":"'Load & loss characteristics'!K249","v":-1.077},{"$f":"'Load & loss characteristics'!K250","v":-1.0589999999999999},{"$f":"'Load & loss characteristics'!K251","v":-1.077},{"$f":"'Load & loss characteristics'!K252","v":-1.077},{"$f":"'Load & loss characteristics'!K253","v":-1.077},{"$f":"'Load & loss characteristics'!K254","v":-1.077},{"$f":"'Load & loss characteristics'!K255","v":-1.0589999999999999},{"$f":"'Load & loss characteristics'!K256","v":-1.0589999999999999},{"$f":"'Load & loss characteristics'!K257","v":-1.0589999999999999},{"$f":"'Load & loss characteristics'!K258","v":-1.0589999999999999},{"$f":"'Load & loss characteristics'!K259","v":-1.0409999999999999},{"$f":"'Load & loss characteristics'!K260","v":-1.0409999999999999},{"$f":"'Load & loss characteristics'!K261","v":-1.0409999999999999},{"$f":"'Load & loss characteristics'!K262","v":-1.0409999999999999}]
[null,null,null,null,null,"132kV","scalar",null,null,{"$f":"'Load & loss characteristics'!L230","v":1.077},{"$f":"'Load & loss characteristics'!L231","v":1.077},{"$f":"'Load & loss characteristics'!L232","v":1.077},{"$f":"'Load & loss characteristics'!L233","v":1.077},{"$f":"'Load & loss characteristics'!L234","v":1.077},{"$f":"'Load & loss characteristics'!L235","v":1.077},{"$f":"'Load & loss characteristics'!L236","v":1.077},{"$f":"'Load & loss characteristics'!L237","v":1.0589999999999999},{"$f":"'Load & loss characteristics'!L238","v":1.0409999999999999},{"$f":"'Load & loss characteristics'!L239","v":1.077},{"$f":"'Load & loss characteristics'!L240","v":1.077},{"$f":"'Load & loss characteristics'!L241","v":1.077},{"$f":"'Load & loss characteristics'!L242","v":1.0589999999999999},{"$f":"'Load & loss characteristics'!L243","v":1.0409999999999999},{"$f":"'Load & loss characteristics'!L244","v":1.077},{"$f":"'Load & loss characteristics'!L245","v":1.077},{"$f":"'Load & loss characteristics'!L246","v":1.077},{"$f":"'Load & loss characteristics'!L247","v":1.077},{"$f":"'Load & loss characteristics'!L248","v":1.077},{"$f":"'Load & loss characteristics'!L249","v":-1.077},{"$f":"'Load & loss characteristics'!L250","v":-1.0589999999999999},{"$f":"'Load & loss characteristics'!L251","v":-1.077},{"$f":"'Load & loss characteristics'!L252","v":-1.077},{"$f":"'Load & loss characteristics'!L253","v":-1.077},{"$f":"'Load & loss characteristics'!L254","v":-1.077},{"$f":"'Load & loss characteristics'!L255","v":-1.0589999999999999},{"$f":"'Load & loss characteristics'!L256","v":-1.0589999999999999},{"$f":"'Load & loss characteristics'!L257","v":-1.0589999999999999},{"$f":"'Load & loss characteristics'!L258","v":-1.0589999999999999},{"$f":"'Load & loss characteristics'!L259","v":-1.0409999999999999},{"$f":"'Load & loss characteristics'!L260","v":-1.0409999999999999},{"$f":"'Load & loss characteristics'!L261","v":-1.0409999999999999},{"$f":"'Load & loss characteristics'!L262","v":-1.0409999999999999}]
[null,null,null,null,null,"132kV/EHV","scalar",null,null,{"$f":"'Load & loss characteristics'!M230","v":0.7538999999999999},{"$f":"'Load & loss characteristics'!M231","v":0.7538999999999999},{"$f":"'Load & loss characteristics'!M232","v":0.7538999999999999},{"$f":"'Load & loss characteristics'!M233","v":0.7538999999999999},{"$f":"'Load & loss characteristics'!M234","v":0.7538999999999999},{"$f":"'Load & loss characteristics'!M235","v":0.7538999999999999},{"$f":"'Load & loss characteristics'!M236","v":0.7538999999999999},{"$f":"'Load & loss characteristics'!M237","v":0.74129999999999996},{"$f":"'Load & loss characteristics'!M238","v":0.7286999999999999},{"$f":"'Load & loss characteristics'!M239","v":0.7538999999999999},{"$f":"'Load & loss characteristics'!M240","v":0.7538999999999999},{"$f":"'Load & loss characteristics'!M241","v":0.7538999999999999},{"$f":"'Load & loss characteristics'!M242","v":0.74129999999999996},{"$f":"'Load & loss characteristics'!M243","v":0.7286999999999999},{"$f":"'Load & loss characteristics'!M244","v":0.7538999999999999},{"$f":"'Load & loss characteristics'!M245","v":0.7538999999999999},{"$f":"'Load & loss characteristics'!M246","v":0.7538999999999999},{"$f":"'Load & loss characteristics'!M247","v":0.7538999999999999},{"$f":"'Load & loss characteristics'!M248","v":0.7538999999999999},{"$f":"'Load & loss characteristics'!M249","v":-0.7538999999999999},{"$f":"'Load & loss characteristics'!M250","v":-0.74129999999999996},{"$f":"'Load & loss characteristics'!M251","v":-0.7538999999999999},{"$f":"'Load & loss characteristics'!M252","v":-0.7538999999999999},{"$f":"'Load & loss characteristics'!M253","v":-0.7538999999999999},{"$f":"'Load & loss characteristics'!M254","v":-0.7538999999999999},{"$f":"'Load & loss characteristics'!M255","v":-0.74129999999999996},{"$f":"'Load & loss characteristics'!M256","v":-0.74129999999999996},{"$f":"'Load & loss characteristics'!M257","v":-0.74129999999999996},{"$f":"'Load & loss characteristics'!M258","v":-0.74129999999999996},{"$f":"'Load & loss characteristics'!M259","v":-0.7286999999999999},{"$f":"'Load & loss characteristics'!M260","v":-0.7286999999999999},{"$f":"'Load & loss characteristics'!M261","v":-0.7286999999999999},{"$f":"'Load & loss characteristics'!M262","v":-0.7286999999999999}]
[null,null,null,null,null,"EHV","scalar",null,null,{"$f":"'Load & loss characteristics'!N230","v":0.7538999999999999},{"$f":"'Load & loss characteristics'!N231","v":0.7538999999999999},{"$f":"'Load & loss characteristics'!N232","v":0.7538999999999999},{"$f":"'Load & loss characteristics'!N233","v":0.7538999999999999},{"$f":"'Load & loss characteristics'!N234","v":0.7538999999999999},{"$f":"'Load & loss characteristics'!N235","v":0.7538999999999999},{"$f":"'Load & loss characteristics'!N236","v":0.7538999999999999},{"$f":"'Load & loss characteristics'!N237","v":0.74129999999999996},{"$f":"'Load & loss characteristics'!N238","v":0.7286999999999999},{"$f":"'Load & loss characteristics'!N239","v":0.7538999999999999},{"$f":"'Load & loss characteristics'!N240","v":0.7538999999999999},{"$f":"'Load & loss characteristics'!N241","v":0.7538999999999999},{"$f":"'Load & loss characteristics'!N242","v":0.74129999999999996},{"$f":"'Load & loss characteristics'!N243","v":0.7286999999999999},{"$f":"'Load & loss characteristics'!N244","v":0.7538999999999999},{"$f":"'Load & loss characteristics'!N245","v":0.7538999999999999},{"$f":"'Load & loss characteristics'!N246","v":0.7538999999999999},{"$f":"'Load & loss characteristics'!N247","v":0.7538999999999999},{"$f":"'Load & loss characteristics'!N248","v":0.7538999999999999},{"$f":"'Load & loss characteristics'!N249","v":-0.7538999999999999},{"$f":"'Load & loss characteristics'!N250","v":-0.74129999999999996},{"$f":"'Load & loss characteristics'!N251","v":-0.7538999999999999},{"$f":"'Load & loss characteristics'!N252","v":-0.7538999999999999},{"$f":"'Load & loss characteristics'!N253","v":-0.7538999999999999},{"$f":"'Load & loss characteristics'!N254","v":-0.7538999999999999},{"$f":"'Load & loss characteristics'!N255","v":-0.74129999999999996},{"$f":"'Load & loss characteristics'!N256","v":-0.74129999999999996},{"$f":"'Load & loss characteristics'!N257","v":-0.74129999999999996},{"$f":"'Load & loss characteristics'!N258","v":-0.74129999999999996},{"$f":"'Load & loss characteristics'!N259","v":-0.7286999999999999},{"$f":"'Load & loss characteristics'!N260","v":-0.7286999999999999},{"$f":"'Load & loss characteristics'!N261","v":-0.7286999999999999},{"$f":"'Load & loss characteristics'!N262","v":-0.7286999999999999}]
[null,null,null,null,null,"EHV/HV","scalar",null,null,{"$f":"'Load & loss characteristics'!O230","v":0.7538999999999999},{"$f":"'Load & loss characteristics'!O231","v":0.7538999999999999},{"$f":"'Load & loss characteristics'!O232","v":0.7538999999999999},{"$f":"'Load & loss characteristics'!O233","v":0.7538999999999999},{"$f":"'Load & loss characteristics'!O234","v":0.7538999999999999},{"$f":"'Load & loss characteristics'!O235","v":0.7538999999999999},{"$f":"'Load & loss characteristics'!O236","v":0.7538999999999999},{"$f":"'Load & loss characteristics'!O237","v":0.74129999999999996},{"$f":"'Load & loss characteristics'!O238","v":0.7286999999999999},{"$f":"'Load & loss characteristics'!O239","v":0.7538999999999999},{"$f":"'Load & loss characteristics'!O240","v":0.7538999999999999},{"$f":"'Load & loss characteristics'!O241","v":0.7538999999999999},{"$f":"'Load & loss characteristics'!O242","v":0.74129999999999996},{"$f":"'Load & loss characteristics'!O243","v":0.7286999999999999},{"$f":"'Load & loss characteristics'!O244","v":0.7538999999999999},{"$f":"'Load & loss characteristics'!O245","v":0.7538999999999999},{"$f":"'Load & loss characteristics'!O246","v":0.7538999999999999},{"$f":"'Load & loss characteristics'!O247","v":0.7538999999999999},{"$f":"'Load & loss characteristics'!O248","v":0.7538999999999999},{"$f":"'Load & loss characteristics'!O249","v":-0.7538999999999999},{"$f":"'Load & loss characteristics'!O250","v":-0.74129999999999996},{"$f":"'Load & loss characteristics'!O251","v":-0.7538999999999999},{"$f":"'Load & loss characteristics'!O252","v":-0.7538999999999999},{"$f":"'Load & loss characteristics'!O253","v":-0.7538999999999999},{"$f":"'Load & loss characteristics'!O254","v":-0.7538999999999999},{"$f":"'Load & loss characteristics'!O255","v":-0.74129999999999996},{"$f":"'Load & loss characteristics'!O256","v":-0.74129999999999996},{"$f":"'Load & loss characteristics'!O257","v":-0.74129999999999996},{"$f":"'Load & loss characteristics'!O258","v":-0.74129999999999996},{"$f":"'Load & loss characteristics'!O259","v":-0.7286999999999999},{"$f":"'Load & loss characteristics'!O260","v":-0.7286999999999999},{"$f":"'Load & loss characteristics'!O261","v":-0.7286999999999999},{"$f":"'Load & loss characteristics'!O262","v":-0.7286999999999999}]
[null,null,null,null,null,"132kV/HV","scalar",null,null,{"$f":"'Load & loss characteristics'!P230","v":0.3231},{"$f":"'Load & loss characteristics'!P231","v":0.3231},{"$f":"'Load & loss characteristics'!P232","v":0.3231},{"$f":"'Load & loss characteristics'!P233","v":0.3231},{"$f":"'Load & loss characteristics'!P234","v":0.3231},{"$f":"'Load & loss characteristics'!P235","v":0.3231},{"$f":"'Load & loss characteristics'!P236","v":0.3231},{"$f":"'Load & loss characteristics'!P237","v":0.31769999999999998},{"$f":"'Load & loss characteristics'!P238","v":0.31229999999999997},{"$f":"'Load & loss characteristics'!P239","v":0.3231},{"$f":"'Load & loss characteristics'!P240","v":0.3231},{"$f":"'Load & loss characteristics'!P241","v":0.3231},{"$f":"'Load & loss characteristics'!P242","v":0.31769999999999998},{"$f":"'Load & loss characteristics'!P243","v":0.31229999999999997},{"$f":"'Load & loss characteristics'!P244","v":0.3231},{"$f":"'Load & loss characteristics'!P245","v":0.3231},{"$f":"'Load & loss characteristics'!P246","v":0.3231},{"$f":"'Load & loss characteristics'!P247","v":0.3231},{"$f":"'Load & loss characteristics'!P248","v":0.3231},{"$f":"'Load & loss characteristics'!P249","v":-0.3231},{"$f":"'Load & loss characteristics'!P250","v":-0.31769999999999998},{"$f":"'Load & loss characteristics'!P251","v":-0.3231},{"$f":"'Load & loss characteristics'!P252","v":-0.3231},{"$f":"'Load & loss characteristics'!P253","v":-0.3231},{"$f":"'Load & loss characteristics'!P254","v":-0.3231},{"$f":"'Load & loss characteristics'!P255","v":-0.31769999999999998},{"$f":"'Load & loss characteristics'!P256","v":-0.31769999999999998},{"$f":"'Load & loss characteristics'!P257","v":-0.31769999999999998},{"$f":"'Load & loss characteristics'!P258","v":-0.31769999999999998},{"$f":"'Load & loss characteristics'!P259","v":-0.31229999999999997},{"$f":"'Load & loss characteristics'!P260","v":-0.31229999999999997},{"$f":"'Load & loss characteristics'!P261","v":-0.31229999999999997},{"$f":"'Load & loss characteristics'!P262","v":-0.31229999999999997}]
[null,null,null,null,null,"HV","scalar",null,null,{"$f":"'Load & loss characteristics'!Q230","v":1.077},{"$f":"'Load & loss characteristics'!Q231","v":1.077},{"$f":"'Load & loss characteristics'!Q232","v":1.077},{"$f":"'Load & loss characteristics'!Q233","v":1.077},{"$f":"'Load & loss characteristics'!Q234","v":1.077},{"$f":"'Load & loss characteristics'!Q235","v":1.077},{"$f":"'Load & loss characteristics'!Q236","v":1.077},{"$f":"'Load & loss characteristics'!Q237","v":1.0589999999999999},{"$f":"'Load & loss characteristics'!Q238","v":1.0409999999999999},{"$f":"'Load & loss characteristics'!Q239","v":1.077},{"$f":"'Load & loss characteristics'!Q240","v":1.077},{"$f":"'Load & loss characteristics'!Q241","v":1.077},{"$f":"'Load & loss characteristics'!Q242","v":1.0589999999999999},{"$f":"'Load & loss characteristics'!Q243","v":1.0409999999999999},{"$f":"'Load & loss characteristics'!Q244","v":1.077},{"$f":"'Load & loss characteristics'!Q245","v":1.077},{"$f":"'Load & loss characteristics'!Q246","v":1.077},{"$f":"'Load & loss characteristics'!Q247","v":1.077},{"$f":"'Load & loss characteristics'!Q248","v":1.077},{"$f":"'Load & loss characteristics'!Q249","v":-1.077},{"$f":"'Load & loss characteristics'!Q250","v":-1.0589999999999999},{"$f":"'Load & loss characteristics'!Q251","v":-1.077},{"$f":"'Load & loss characteristics'!Q252","v":-1.077},{"$f":"'Load & loss characteristics'!Q253","v":-1.077},{"$f":"'Load & loss characteristics'!Q254","v":-1.077},{"$f":"'Load & loss characteristics'!Q255","v":-1.0589999999999999},{"$f":"'Load & loss characteristics'!Q256","v":-1.0589999999999999},{"$f":"'Load & loss characteristics'!Q257","v":-1.0589999999999999},{"$f":"'Load & loss characteristics'!Q258","v":-1.0589999999999999},{"$f":"'Load & loss characteristics'!Q259","v":0},{"$f":"'Load & loss characteristics'!Q260","v":0},{"$f":"'Load & loss characteristics'!Q261","v":0},{"$f":"'Load & loss characteristics'!Q262","v":0}]
[null,null,null,null,null,"HV/LV","scalar",null,null,{"$f":"'Load & loss characteristics'!R230","v":1.077},{"$f":"'Load & loss characteristics'!R231","v":1.077},{"$f":"'Load & loss characteristics'!R232","v":1.077},{"$f":"'Load & loss characteristics'!R233","v":1.077},{"$f":"'Load & loss characteristics'!R234","v":1.077},{"$f":"'Load & loss characteristics'!R235","v":1.077},{"$f":"'Load & loss characteristics'!R236","v":1.077},{"$f":"'Load & loss characteristics'!R237","v":1.0589999999999999},{"$f":"'Load & loss characteristics'!R238","v":0},{"$f":"'Load & loss characteristics'!R239","v":1.077},{"$f":"'Load & loss characteristics'!R240","v":1.077},{"$f":"'Load & loss characteristics'!R241","v":1.077},{"$f":"'Load & loss characteristics'!R242","v":1.0589999999999999},{"$f":"'Load & loss characteristics'!R243","v":0},{"$f":"'Load & loss characteristics'!R244","v":1.077},{"$f":"'Load & loss characteristics'!R245","v":1.077},{"$f":"'Load & loss characteristics'!R246","v":1.077},{"$f":"'Load & loss characteristics'!R247","v":1.077},{"$f":"'Load & loss characteristics'!R248","v":1.077},{"$f":"'Load & loss characteristics'!R249","v":-1.077},{"$f":"'Load & loss characteristics'!R250","v":0},{"$f":"'Load & loss characteristics'!R251","v":-1.077},{"$f":"'Load & loss characteristics'!R252","v":-1.077},{"$f":"'Load & loss characteristics'!R253","v":-1.077},{"$f":"'Load & loss characteristics'!R254","v":-1.077},{"$f":"'Load & loss characteristics'!R255","v":0},{"$f":"'Load & loss characteristics'!R256","v":0},{"$f":"'Load & loss characteristics'!R257","v":0},{"$f":"'Load & loss characteristics'!R258","v":0},{"$f":"'Load & loss characteristics'!R259","v":0},{"$f":"'Load & loss characteristics'!R260","v":0},{"$f":"'Load & loss characteristics'!R261","v":0},{"$f":"'Load & loss characteristics'!R262","v":0}]
[null,null,null,null,null,"LV circuits","scalar",null,null,{"$f":"'Load & loss characteristics'!S230","v":1.077},{"$f":"'Load & loss characteristics'!S231","v":1.077},{"$f":"'Load & loss characteristics'!S232","v":1.077},{"$f":"'Load & loss characteristics'!S233","v":1.077},{"$f":"'Load & loss characteristics'!S234","v":1.077},{"$f":"'Load & loss characteristics'!S235","v":1.077},{"$f":"'Load & loss characteristics'!S236","v":1.077},{"$f":"'Load & loss characteristics'!S237","v":0},{"$f":"'Load & loss characteristics'!S238","v":0},{"$f":"'Load & loss characteristics'!S239","v":1.077},{"$f":"'Load & loss characteristics'!S240","v":1.077},{"$f":"'Load & loss characteristics'!S241","v":1.077},{"$f":"'Load & loss characteristics'!S242","v":0},{"$f":"'Load & loss characteristics'!S243","v":0},{"$f":"'Load & loss characteristics'!S244","v":1.077},{"$f":"'Load & loss characteristics'!S245","v":1.077},{"$f":"'Load & loss characteristics'!S246","v":1.077},{"$f":"'Load & loss characteristics'!S247","v":1.077},{"$f":"'Load & loss characteristics'!S248","v":1.077},{"$f":"'Load & loss characteristics'!S249","v":0},{"$f":"'Load & loss characteristics'!S250","v":0},{"$f":"'Load & loss characteristics'!S251","v":0},{"$f":"'Load & loss characteristics'!S252","v":0},{"$f":"'Load & loss characteristics'!S253","v":0},{"$f":"'Load & loss characteristics'!S254","v":0},{"$f":"'Load & loss characteristics'!S255","v":0},{"$f":"'Load & loss characteristics'!S256","v":0},{"$f":"'Load & loss characteristics'!S257","v":0},{"$f":"'Load & loss characteristics'!S258","v":0},{"$f":"'Load & loss characteristics'!S259","v":0},{"$f":"'Load & loss characteristics'!S260","v":0},{"$f":"'Load & loss characteristics'!S261","v":0},{"$f":"'Load & loss characteristics'!S262","v":0}]
[]
[null,null,null,null,"Network loss factor"]
[null,null,null,null,null,"GSPs","scalar",{"$f":"'Load & loss characteristics'!K29","v":1}]
[null,null,null,null,null,"132kV","scalar",{"$f":"'Load & loss characteristics'!L29","v":1.0089999999999999}]
[null,null,null,null,null,"132kV/EHV","scalar",{"$f":"'Load & loss characteristics'!M29","v":1.0129999999999999}]
[null,null,null,null,null,"EHV","scalar",{"$f":"'Load & loss characteristics'!N29","v":1.024}]
[null,null,null,null,null,"EHV/HV","scalar",{"$f":"'Load & loss characteristics'!O29","v":1.032}]
[null,null,null,null,null,"132kV/HV","scalar",{"$f":"'Load & loss characteristics'!P29","v":1.032}]
[null,null,null,null,null,"HV","scalar",{"$f":"'Load & loss characteristics'!Q29","v":1.0409999999999999}]
[null,null,null,null,null,"HV/LV","scalar",{"$f":"'Load & loss characteristics'!R29","v":1.0589999999999999}]
[null,null,null,null,null,"LV circuits","scalar",{"$f":"'Load & loss characteristics'!S29","v":1.077}]
[]
[null,null,null,null,"Discounted volumes (MWh)",null,null,null,">",null,null,null,null,null,null,null,null,null,null,null,null,null,null,null,null,null,null,null,null,null,null,null,null,null,null,null,null,null,null,null,null,null,null,"Paragraph 61 (a)"]
[null,null,null,null,null,"Unit rate 1","MWh",null,null,{"$f":"'Volume adjustments'!J66","v":3099712.9430819456},{"$f":"'Volume adjustments'!K66","v":145289.674114347},{"$f":"'Volume adjustments'!L66","v":2140.1103146035571},{"$f":"'Volume adjustments'!M66","v":809156.58698910882},{"$f":"'Volume adjustments'!N66","v":199735.41440710361},{"$f":"'Volume adjustments'!O66","v":1578.3141159411171},{"$f":"'Volume adjustments'!P66","v":13915.032470308746},{"$f":"'Volume adjustments'!Q66","v":5.8625576095223545E-8},{"$f":"'Volume adjustments'!R66","v":62.538955055444347},{"$f":"'Volume adjustments'!S66","v":548.80537505020618},{"$f":"'Volume adjustments'!T66","v":11592.451023385509},{"$f":"'Volume adjustments'!U66","v":124926.63683659973},{"$f":"'Volume adjustments'!V66","v":6793.9490002153352},{"$f":"'Volume adjustments'!W66","v":146822.15523569478},{"$f":"'Volume adjustments'!X66","v":2161.3060866775845},{"$f":"'Volume adjustments'!Y66","v":5248.756775387471},{"$f":"'Volume adjustments'!Z66","v":288.93022950400001},{"$f":"'Volume adjustments'!AA66","v":0},{"$f":"'Volume adjustments'!AB66","v":4786.1918698977543},{"$f":"'Volume adjustments'!AC66","v":1535.125},{"$f":"'Volume adjustments'!AD66","v":0},{"$f":"'Volume adjustments'!AE66","v":31409.991281425009},{"$f":"'Volume adjustments'!AF66","v":0},{"$f":"'Volume adjustments'!AG66","v":184.69947550370838},{"$f":"'Volume adjustments'!AH66","v":0},{"$f":"'Volume adjustments'!AI66","v":807.10811500000023},{"$f":"'Volume adjustments'!AJ66","v":0},{"$f":"'Volume adjustments'!AK66","v":36.59019120255607},{"$f":"'Volume adjustments'!AL66","v":0},{"$f":"'Volume adjustments'!AM66","v":314604.16542500001},{"$f":"'Volume adjustments'!AN66","v":0},{"$f":"'Volume adjustments'!AO66","v":30630.476100086526},{"$f":"'Volume adjustments'!AP66","v":0}]
[null,null,null,null,null,"Unit rate 2","MWh",null,null,{"$f":"'Volume adjustments'!J77","v":0},{"$f":"'Volume adjustments'!K77","v":121262.85768811585},{"$f":"'Volume adjustments'!L77","v":0},{"$f":"'Volume adjustments'!M77","v":0},{"$f":"'Volume adjustments'!N77","v":84245.568350797592},{"$f":"'Volume adjustments'!O77","v":0},{"$f":"'Volume adjustments'!P77","v":4250.8635105792746},{"$f":"'Volume adjustments'!Q77","v":1.7910389838743126E-8},{"$f":"'Volume adjustments'!R77","v":25.753194800564419},{"$f":"'Volume adjustments'!S77","v":2705.2171975872861},{"$f":"'Volume adjustments'!T77","v":78318.12222359619},{"$f":"'Volume adjustments'!U77","v":791851.61687907006},{"$f":"'Volume adjustments'!V77","v":40795.314701131094},{"$f":"'Volume adjustments'!W77","v":895274.13786258397},{"$f":"'Volume adjustments'!X77","v":0},{"$f":"'Volume adjustments'!Y77","v":0},{"$f":"'Volume adjustments'!Z77","v":0},{"$f":"'Volume adjustments'!AA77","v":0},{"$f":"'Volume adjustments'!AB77","v":31263.847920010572},{"$f":"'Volume adjustments'!AC77","v":0},{"$f":"'Volume adjustments'!AD77","v":0},{"$f":"'Volume adjustments'!AE77","v":0},{"$f":"'Volume adjustments'!AF77","v":0},{"$f":"'Volume adjustments'!AG77","v":1185.0893640362958},{"$f":"'Volume adjustments'!AH77","v":0},{"$f":"'Volume adjustments'!AI77","v":0},{"$f":"'Volume adjustments'!AJ77","v":0},{"$f":"'Volume adjustments'!AK77","v":148.04789377289072},{"$f":"'Volume adjustments'!AL77","v":0},{"$f":"'Volume adjustments'!AM77","v":0},{"$f":"'Volume adjustments'!AN77","v":0},{"$f":"'Volume adjustments'!AO77","v":70350.709153135162},{"$f":"'Volume adjustments'!AP77","v":0}]
[null,null,null,null,null,"Unit rate 3","MWh",null,null,{"$f":"'Volume adjustments'!J88","v":0},{"$f":"'Volume adjustments'!K88","v":0},{"$f":"'Volume adjustments'!L88","v":0},{"$f":"'Volume adjustments'!M88","v":0},{"$f":"'Volume adjustments'!N88","v":0},{"$f":"'Volume adjustments'!O88","v":0},{"$f":"'Volume adjustments'!P88","v":0},{"$f":"'Volume adjustments'!Q88","v":0},{"$f":"'Volume adjustments'!R88","v":0},{"$f":"'Volume adjustments'!S88","v":2375.2858263176454},{"$f":"'Volume adjustments'!T88","v":56269.737973494914},{"$f":"'Volume adjustments'!U88","v":593772.18207476882},{"$f":"'Volume adjustments'!V88","v":35689.998034384873},{"$f":"'Volume adjustments'!W88","v":848689.50836905383},{"$f":"'Volume adjustments'!X88","v":0},{"$f":"'Volume adjustments'!Y88","v":0},{"$f":"'Volume adjustments'!Z88","v":0},{"$f":"'Volume adjustments'!AA88","v":0},{"$f":"'Volume adjustments'!AB88","v":73749.776463945847},{"$f":"'Volume adjustments'!AC88","v":0},{"$f":"'Volume adjustments'!AD88","v":0},{"$f":"'Volume adjustments'!AE88","v":0},{"$f":"'Volume adjustments'!AF88","v":0},{"$f":"'Volume adjustments'!AG88","v":1145.5607796251077},{"$f":"'Volume adjustments'!AH88","v":0},{"$f":"'Volume adjustments'!AI88","v":0},{"$f":"'Volume adjustments'!AJ88","v":0},{"$f":"'Volume adjustments'!AK88","v":149.37121031591738},{"$f":"'Volume adjustments'!AL88","v":0},{"$f":"'Volume adjustments'!AM88","v":0},{"$f":"'Volume adjustments'!AN88","v":0},{"$f":"'Volume adjustments'!AO88","v":57893.659515242049},{"$f":"'Volume adjustments'!AP88","v":0}]
[null,null,null,null,null,"Total discounted MWh","MWh",null,null,{"$f":"SUM(J56:J58)","v":3099712.9430819456},266552.53180246288,2140.1103146035571,809156.58698910882,283980.98275790119,1578.3141159411171,18165.895980888021,7.6535965933966675E-8,88.292149856008763,5629.3083989551378,146180.31122047661,1510550.4357904387,83279.261735731299,1890785.8014673325,2161.3060866775845,5248.756775387471,288.93022950400001,0,109799.81625385417,1535.125,0,31409.991281425009,0,2515.349619165112,0,807.10811500000023,0,334.0092952913642,0,314604.16542500001,0,158874.84476846375,0]
[]
[null,null,null,null,"Load factor",null,"%",null,">",{"$f":"'Inputs by customer type'!J18","v":0.42237494697917882},{"$f":"'Inputs by customer type'!K18","v":0.26398480143431713},{"$f":"'Inputs by customer type'!L18","v":0.18556835278944098},{"$f":"'Inputs by customer type'!M18","v":0.38285000403403185},{"$f":"'Inputs by customer type'!N18","v":0.54689906083228135},{"$f":"'Inputs by customer type'!O18","v":0.19446816400030753},{"$f":"'Inputs by customer type'!P18","v":0.51692685973305263},{"$f":"'Inputs by customer type'!Q18","v":0.51692685973305263},{"$f":"'Inputs by customer type'!R18","v":0.35378487279250775},{"$f":"'Inputs by customer type'!S18","v":0.41318307580770508},{"$f":"'Inputs by customer type'!T18","v":0.45494981483091834},{"$f":"'Inputs by customer type'!U18","v":0.57813973589617251},{"$f":"'Inputs by customer type'!V18","v":0.61241862913288092},{"$f":"'Inputs by customer type'!W18","v":0.72831305490483211},{"$f":"'Inputs by customer type'!X18","v":0.99999999999996481},{"$f":"'Inputs by customer type'!Y18","v":0.47333832682901394},{"$f":"'Inputs by customer type'!Z18","v":0.28177980195230445},{"$f":"'Inputs by customer type'!AA18","v":0.51558955092806569},{"$f":"'Inputs by customer type'!AB18","v":0.44064329109655392},null,null,null,null,null,null,null,null,null,null,null,null,null,null,null,"Paragraph 61 (c) "]
[]
[null,"Load at system peak charged to unit rates"]
[]
[null,null,"This section calculates the system peak load based on load charged to unit rates"]
[]
[null,null,{"$f":"INDEX('Version control'!$H$34:$H$59,MATCH($A$1,'Version control'!$F$34:$F$59,0),1)&\"-B: System peak load, by unit rate\"","v":"Section 509-B: System peak load, by unit rate"}]
[]
[null,null,null,null,"Pseudo load coefficient, unit rate 1"]
[null,null,null,null,null,"GSPs","scalar",null,null,{"$f":"'Pseudo-load coefficients'!J509","v":2.0383149669035538},{"$f":"'Pseudo-load coefficients'!K509","v":2.277326283448744},{"$f":"'Pseudo-load coefficients'!L509","v":0.15410033028054779},{"$f":"'Pseudo-load coefficients'!M509","v":1.2521512798117256},{"$f":"'Pseudo-load coefficients'!N509","v":1.7846341102087029},{"$f":"'Pseudo-load coefficients'!O509","v":0.15587030099678295},{"$f":"'Pseudo-load coefficients'!P509","v":1.5878405746763777},{"$f":"'Pseudo-load coefficients'!Q509","v":1.6013458984596001},{"$f":"'Pseudo-load coefficients'!R509","v":1.6073376060355773},{"$f":"'Pseudo-load coefficients'!S509","v":15.018073953216065},{"$f":"'Pseudo-load coefficients'!T509","v":12.888412971422365},{"$f":"'Pseudo-load coefficients'!U509","v":11.55066581245533},{"$f":"'Pseudo-load coefficients'!V509","v":11.085940564541984},{"$f":"'Pseudo-load coefficients'!W509","v":10.704505039757239},{"$f":"'Pseudo-load coefficients'!X509","v":1.0564303176550738},{"$f":"'Pseudo-load coefficients'!Y509","v":1.4813178954154673},{"$f":"'Pseudo-load coefficients'!Z509","v":2.441404273176496},{"$f":"'Pseudo-load coefficients'!AA509","v":0.65229125076063388},{"$f":"'Pseudo-load coefficients'!AB509","v":29.575341669392177},{"$f":"'Pseudo-load coefficients'!AC509","v":1},{"$f":"'Pseudo-load coefficients'!AD509","v":1},{"$f":"'Pseudo-load coefficients'!AE509","v":1},{"$f":"'Pseudo-load coefficients'!AF509","v":1},{"$f":"'Pseudo-load coefficients'!AG509","v":10.406378151847633},{"$f":"'Pseudo-load coefficients'!AH509","v":10.406378151847633},{"$f":"'Pseudo-load coefficients'!AI509","v":1},{"$f":"'Pseudo-load coefficients'!AJ509","v":1},{"$f":"'Pseudo-load coefficients'!AK509","v":10.406378151847633},{"$f":"'Pseudo-load coefficients'!AL509","v":10.406378151847633},{"$f":"'Pseudo-load coefficients'!AM509","v":1},{"$f":"'Pseudo-load coefficients'!AN509","v":1},{"$f":"'Pseudo-load coefficients'!AO509","v":10.406378151847633},{"$f":"'Pseudo-load coefficients'!AP509","v":10.406378151847633}]
[null,null,null,null,null,"132kV","scalar",null,null,{"$f":"'Pseudo-load coefficients'!J510","v":1.8734285659849159},{"$f":"'Pseudo-load coefficients'!K510","v":2.0295844520225934},{"$f":"'Pseudo-load coefficients'!L510","v":0.38202211019203186},{"$f":"'Pseudo-load coefficients'!M510","v":1.2557104744781304},{"$f":"'Pseudo-load coefficients'!N510","v":1.6661060430541201},{"$f":"'Pseudo-load coefficients'!O510","v":0.38192147291795436},{"$f":"'Pseudo-load coefficients'!P510","v":1.479773497996695},{"$f":"'Pseudo-load coefficients'!Q510","v":1.5009648507166902},{"$f":"'Pseudo-load coefficients'!R510","v":1.5136143585115667},{"$f":"'Pseudo-load coefficients'!S510","v":10.997798640747124},{"$f":"'Pseudo-load coefficients'!T510","v":9.4414595089743987},{"$f":"'Pseudo-load coefficients'!U510","v":8.4610023298805537},{"$f":"'Pseudo-load coefficients'!V510","v":8.1205854682733953},{"$f":"'Pseudo-load coefficients'!W510","v":7.8411793356483086},{"$f":"'Pseudo-load coefficients'!X510","v":1.0566095432858378},{"$f":"'Pseudo-load coefficients'!Y510","v":1.3888806950899049},{"$f":"'Pseudo-load coefficients'!Z510","v":2.1130849087594048},{"$f":"'Pseudo-load coefficients'!AA510","v":0.74097473201070208},{"$f":"'Pseudo-load coefficients'!AB510","v":22.745222019211187},{"$f":"'Pseudo-load coefficients'!AC510","v":1},{"$f":"'Pseudo-load coefficients'!AD510","v":1},{"$f":"'Pseudo-load coefficients'!AE510","v":1},{"$f":"'Pseudo-load coefficients'!AF510","v":1},{"$f":"'Pseudo-load coefficients'!AG510","v":7.622797786553261},{"$f":"'Pseudo-load coefficients'!AH510","v":7.622797786553261},{"$f":"'Pseudo-load coefficients'!AI510","v":1},{"$f":"'Pseudo-load coefficients'!AJ510","v":1},{"$f":"'Pseudo-load coefficients'!AK510","v":7.622797786553261},{"$f":"'Pseudo-load coefficients'!AL510","v":7.622797786553261},{"$f":"'Pseudo-load coefficients'!AM510","v":1},{"$f":"'Pseudo-load coefficients'!AN510","v":1},{"$f":"'Pseudo-load coefficients'!AO510","v":7.622797786553261},{"$f":"'Pseudo-load coefficients'!AP510","v":7.622797786553261}]
[null,null,null,null,null,"132kV/EHV","scalar",null,null,{"$f":"'Pseudo-load coefficients'!J511","v":1.8734285659849159},{"$f":"'Pseudo-load coefficients'!K511","v":2.0295844520225934},{"$f":"'Pseudo-load coefficients'!L511","v":0.38202211019203186},{"$f":"'Pseudo-load coefficients'!M511","v":1.2557104744781304},{"$f":"'Pseudo-load coefficients'!N511","v":1.6661060430541201},{"$f":"'Pseudo-load coefficients'!O511","v":0.38192147291795436},{"$f":"'Pseudo-load coefficients'!P511","v":1.479773497996695},{"$f":"'Pseudo-load coefficients'!Q511","v":1.5009648507166902},{"$f":"'Pseudo-load coefficients'!R511","v":1.5136143585115667},{"$f":"'Pseudo-load coefficients'!S511","v":10.997798640747124},{"$f":"'Pseudo-load coefficients'!T511","v":9.4414595089743987},{"$f":"'Pseudo-load coefficients'!U511","v":8.4610023298805537},{"$f":"'Pseudo-load coefficients'!V511","v":8.1205854682733953},{"$f":"'Pseudo-load coefficients'!W511","v":7.8411793356483086},{"$f":"'Pseudo-load coefficients'!X511","v":1.0566095432858378},{"$f":"'Pseudo-load coefficients'!Y511","v":1.3888806950899049},{"$f":"'Pseudo-load coefficients'!Z511","v":2.1130849087594048},{"$f":"'Pseudo-load coefficients'!AA511","v":0.74097473201070208},{"$f":"'Pseudo-load coefficients'!AB511","v":22.745222019211187},{"$f":"'Pseudo-load coefficients'!AC511","v":1},{"$f":"'Pseudo-load coefficients'!AD511","v":1},{"$f":"'Pseudo-load coefficients'!AE511","v":1},{"$f":"'Pseudo-load coefficients'!AF511","v":1},{"$f":"'Pseudo-load coefficients'!AG511","v":7.622797786553261},{"$f":"'Pseudo-load coefficients'!AH511","v":7.622797786553261},{"$f":"'Pseudo-load coefficients'!AI511","v":1},{"$f":"'Pseudo-load coefficients'!AJ511","v":1},{"$f":"'Pseudo-load coefficients'!AK511","v":7.622797786553261},{"$f":"'Pseudo-load coefficients'!AL511","v":7.622797786553261},{"$f":"'Pseudo-load coefficients'!AM511","v":1},{"$f":"'Pseudo-load coefficients'!AN511","v":1},{"$f":"'Pseudo-load coefficients'!AO511","v":7.622797786553261},{"$f":"'Pseudo-load coefficients'!AP511","v":7.622797786553261}]
[null,null,null,null,null,"EHV","scalar",null,null,{"$f":"'Pseudo-load coefficients'!J512","v":1.9721035835087848},{"$f":"'Pseudo-load coefficients'!K512","v":2.1988219389630026},{"$f":"'Pseudo-load coefficients'!L512","v":0.20719834354663158},{"$f":"'Pseudo-load coefficients'!M512","v":1.3163444863978779},{"$f":"'Pseudo-load coefficients'!N512","v":1.8125701085836234},{"$f":"'Pseudo-load coefficients'!O512","v":0.21010937500310795},{"$f":"'Pseudo-load coefficients'!P512","v":1.6164814757648309},{"$f":"'Pseudo-load coefficients'!Q512","v":1.6406850081904745},{"$f":"'Pseudo-load coefficients'!R512","v":1.6624072845837741},{"$f":"'Pseudo-load coefficients'!S512","v":12.318438525396155},{"$f":"'Pseudo-load coefficients'!T512","v":10.569124798985809},{"$f":"'Pseudo-load coefficients'!U512","v":9.4744763915950667},{"$f":"'Pseudo-load coefficients'!V512","v":9.0932837866471097},{"$f":"'Pseudo-load coefficients'!W512","v":8.7804098854221415},{"$f":"'Pseudo-load coefficients'!X512","v":1.05650063456647},{"$f":"'Pseudo-load coefficients'!Y512","v":1.2420323845639887},{"$f":"'Pseudo-load coefficients'!Z512","v":2.05305152490264},{"$f":"'Pseudo-load coefficients'!AA512","v":0.87398270890107876},{"$f":"'Pseudo-load coefficients'!AB512","v":22.548628252854698},{"$f":"'Pseudo-load coefficients'!AC512","v":1.0000000000000002},{"$f":"'Pseudo-load coefficients'!AD512","v":1.0000000000000002},{"$f":"'Pseudo-load coefficients'!AE512","v":1.0000000000000002},{"$f":"'Pseudo-load coefficients'!AF512","v":1.0000000000000002},{"$f":"'Pseudo-load coefficients'!AG512","v":8.5358702019907824},{"$f":"'Pseudo-load coefficients'!AH512","v":8.5358702019907824},{"$f":"'Pseudo-load coefficients'!AI512","v":1.0000000000000002},{"$f":"'Pseudo-load coefficients'!AJ512","v":1.0000000000000002},{"$f":"'Pseudo-load coefficients'!AK512","v":8.5358702019907824},{"$f":"'Pseudo-load coefficients'!AL512","v":8.5358702019907824},{"$f":"'Pseudo-load coefficients'!AM512","v":1.0000000000000002},{"$f":"'Pseudo-load coefficients'!AN512","v":1.0000000000000002},{"$f":"'Pseudo-load coefficients'!AO512","v":8.5358702019907824},{"$f":"'Pseudo-load coefficients'!AP512","v":8.5358702019907824}]
[null,null,null,null,null,"EHV/HV","scalar",null,null,{"$f":"'Pseudo-load coefficients'!J513","v":1.9721035835087848},{"$f":"'Pseudo-load coefficients'!K513","v":2.1988219389630026},{"$f":"'Pseudo-load coefficients'!L513","v":0.20719834354663158},{"$f":"'Pseudo-load coefficients'!M513","v":1.3163444863978779},{"$f":"'Pseudo-load coefficients'!N513","v":1.8125701085836234},{"$f":"'Pseudo-load coefficients'!O513","v":0.21010937500310795},{"$f":"'Pseudo-load coefficients'!P513","v":1.6164814757648309},{"$f":"'Pseudo-load coefficients'!Q513","v":1.6406850081904745},{"$f":"'Pseudo-load coefficients'!R513","v":1.6624072845837741},{"$f":"'Pseudo-load coefficients'!S513","v":12.318438525396155},{"$f":"'Pseudo-load coefficients'!T513","v":10.569124798985809},{"$f":"'Pseudo-load coefficients'!U513","v":9.4744763915950667},{"$f":"'Pseudo-load coefficients'!V513","v":9.0932837866471097},{"$f":"'Pseudo-load coefficients'!W513","v":8.7804098854221415},{"$f":"'Pseudo-load coefficients'!X513","v":1.05650063456647},{"$f":"'Pseudo-load coefficients'!Y513","v":1.2420323845639887},{"$f":"'Pseudo-load coefficients'!Z513","v":2.05305152490264},{"$f":"'Pseudo-load coefficients'!AA513","v":0.87398270890107876},{"$f":"'Pseudo-load coefficients'!AB513","v":22.548628252854698},{"$f":"'Pseudo-load coefficients'!AC513","v":1.0000000000000002},{"$f":"'Pseudo-load coefficients'!AD513","v":1.0000000000000002},{"$f":"'Pseudo-load coefficients'!AE513","v":1.0000000000000002},{"$f":"'Pseudo-load coefficients'!AF513","v":1.0000000000000002},{"$f":"'Pseudo-load coefficients'!AG513","v":8.5358702019907824},{"$f":"'Pseudo-load coefficients'!AH513","v":8.5358702019907824},{"$f":"'Pseudo-load coefficients'!AI513","v":1.0000000000000002},{"$f":"'Pseudo-load coefficients'!AJ513","v":1.0000000000000002},{"$f":"'Pseudo-load coefficients'!AK513","v":8.5358702019907824},{"$f":"'Pseudo-load coefficients'!AL513","v":8.5358702019907824},{"$f":"'Pseudo-load coefficients'!AM513","v":1.0000000000000002},{"$f":"'Pseudo-load coefficients'!AN513","v":1.0000000000000002},{"$f":"'Pseudo-load coefficients'!AO513","v":8.5358702019907824},{"$f":"'Pseudo-load coefficients'!AP513","v":8.5358702019907824}]
[null,null,null,null,null,"132kV/HV","scalar",null,null,{"$f":"'Pseudo-load coefficients'!J514","v":1.8734285659849159},{"$f":"'Pseudo-load coefficients'!K514","v":2.0295844520225934},{"$f":"'Pseudo-load coefficients'!L514","v":0.38202211019203186},{"$f":"'Pseudo-load coefficients'!M514","v":1.2557104744781304},{"$f":"'Pseudo-load coefficients'!N514","v":1.6661060430541201},{"$f":"'Pseudo-load coefficients'!O514","v":0.38192147291795436},{"$f":"'Pseudo-load coefficients'!P514","v":1.479773497996695},{"$f":"'Pseudo-load coefficients'!Q514","v":1.5009648507166902},{"$f":"'Pseudo-load coefficients'!R514","v":1.5136143585115667},{"$f":"'Pseudo-load coefficients'!S514","v":10.997798640747124},{"$f":"'Pseudo-load coefficients'!T514","v":9.4414595089743987},{"$f":"'Pseudo-load coefficients'!U514","v":8.4610023298805537},{"$f":"'Pseudo-load coefficients'!V514","v":8.1205854682733953},{"$f":"'Pseudo-load coefficients'!W514","v":7.8411793356483086},{"$f":"'Pseudo-load coefficients'!X514","v":1.0566095432858378},{"$f":"'Pseudo-load coefficients'!Y514","v":1.3888806950899049},{"$f":"'Pseudo-load coefficients'!Z514","v":2.1130849087594048},{"$f":"'Pseudo-load coefficients'!AA514","v":0.74097473201070208},{"$f":"'Pseudo-load coefficients'!AB514","v":22.745222019211187},{"$f":"'Pseudo-load coefficients'!AC514","v":1},{"$f":"'Pseudo-load coefficients'!AD514","v":1},{"$f":"'Pseudo-load coefficients'!AE514","v":1},{"$f":"'Pseudo-load coefficients'!AF514","v":1},{"$f":"'Pseudo-load coefficients'!AG514","v":7.622797786553261},{"$f":"'Pseudo-load coefficients'!AH514","v":7.622797786553261},{"$f":"'Pseudo-load coefficients'!AI514","v":1},{"$f":"'Pseudo-load coefficients'!AJ514","v":1},{"$f":"'Pseudo-load coefficients'!AK514","v":7.622797786553261},{"$f":"'Pseudo-load coefficients'!AL514","v":7.622797786553261},{"$f":"'Pseudo-load coefficients'!AM514","v":1},{"$f":"'Pseudo-load coefficients'!AN514","v":1},{"$f":"'Pseudo-load coefficients'!AO514","v":7.622797786553261},{"$f":"'Pseudo-load coefficients'!AP514","v":7.622797786553261}]
[null,null,null,null,null,"HV","scalar",null,null,{"$f":"'Pseudo-load coefficients'!J515","v":1.9721035835087848},{"$f":"'Pseudo-load coefficients'!K515","v":2.1988219389630026},{"$f":"'Pseudo-load coefficients'!L515","v":0.20719834354663158},{"$f":"'Pseudo-load coefficients'!M515","v":1.3163444863978779},{"$f":"'Pseudo-load coefficients'!N515","v":1.8125701085836234},{"$f":"'Pseudo-load coefficients'!O515","v":0.21010937500310795},{"$f":"'Pseudo-load coefficients'!P515","v":1.6164814757648309},{"$f":"'Pseudo-load coefficients'!Q515","v":1.6406850081904745},{"$f":"'Pseudo-load coefficients'!R515","v":1.6624072845837741},{"$f":"'Pseudo-load coefficients'!S515","v":12.318438525396155},{"$f":"'Pseudo-load coefficients'!T515","v":10.569124798985809},{"$f":"'Pseudo-load coefficients'!U515","v":9.4744763915950667},{"$f":"'Pseudo-load coefficients'!V515","v":9.0932837866471097},{"$f":"'Pseudo-load coefficients'!W515","v":8.7804098854221415},{"$f":"'Pseudo-load coefficients'!X515","v":1.05650063456647},{"$f":"'Pseudo-load coefficients'!Y515","v":1.2420323845639887},{"$f":"'Pseudo-load coefficients'!Z515","v":2.05305152490264},{"$f":"'Pseudo-load coefficients'!AA515","v":0.87398270890107876},{"$f":"'Pseudo-load coefficients'!AB515","v":22.548628252854698},{"$f":"'Pseudo-load coefficients'!AC515","v":1.0000000000000002},{"$f":"'Pseudo-load coefficients'!AD515","v":1.0000000000000002},{"$f":"'Pseudo-load coefficients'!AE515","v":1.0000000000000002},{"$f":"'Pseudo-load coefficients'!AF515","v":1.0000000000000002},{"$f":"'Pseudo-load coefficients'!AG515","v":8.5358702019907824},{"$f":"'Pseudo-load coefficients'!AH515","v":8.5358702019907824},{"$f":"'Pseudo-load coefficients'!AI515","v":1.0000000000000002},{"$f":"'Pseudo-load coefficients'!AJ515","v":1.0000000000000002},{"$f":"'Pseudo-load coefficients'!AK515","v":8.5358702019907824},{"$f":"'Pseudo-load coefficients'!AL515","v":8.5358702019907824},{"$f":"'Pseudo-load coefficients'!AM515","v":1.0000000000000002},{"$f":"'Pseudo-load coefficients'!AN515","v":1.0000000000000002},{"$f":"'Pseudo-load coefficients'!AO515","v":8.5358702019907824},{"$f":"'Pseudo-load coefficients'!AP515","v":8.5358702019907824}]
[null,null,null,null,null,"HV/LV","scalar",null,null,{"$f":"'Pseudo-load coefficients'!J516","v":1.9721035835087848},{"$f":"'Pseudo-load coefficients'!K516","v":2.1988219389630026},{"$f":"'Pseudo-load coefficients'!L516","v":0.20719834354663158},{"$f":"'Pseudo-load coefficients'!M516","v":1.3163444863978779},{"$f":"'Pseudo-load coefficients'!N516","v":1.8125701085836234},{"$f":"'Pseudo-load coefficients'!O516","v":0.21010937500310795},{"$f":"'Pseudo-load coefficients'!P516","v":1.6164814757648309},{"$f":"'Pseudo-load coefficients'!Q516","v":1.6406850081904745},{"$f":"'Pseudo-load coefficients'!R516","v":1.6624072845837741},{"$f":"'Pseudo-load coefficients'!S516","v":12.318438525396155},{"$f":"'Pseudo-load coefficients'!T516","v":10.569124798985809},{"$f":"'Pseudo-load coefficients'!U516","v":9.4744763915950667},{"$f":"'Pseudo-load coefficients'!V516","v":9.0932837866471097},{"$f":"'Pseudo-load coefficients'!W516","v":8.7804098854221415},{"$f":"'Pseudo-load coefficients'!X516","v":1.05650063456647},{"$f":"'Pseudo-load coefficients'!Y516","v":1.2420323845639887},{"$f":"'Pseudo-load coefficients'!Z516","v":2.05305152490264},{"$f":"'Pseudo-load coefficients'!AA516","v":0.87398270890107876},{"$f":"'Pseudo-load coefficients'!AB516","v":22.548628252854698},{"$f":"'Pseudo-load coefficients'!AC516","v":1.0000000000000002},{"$f":"'Pseudo-load coefficients'!AD516","v":1.0000000000000002},{"$f":"'Pseudo-load coefficients'!AE516","v":1.0000000000000002},{"$f":"'Pseudo-load coefficients'!AF516","v":1.0000000000000002},{"$f":"'Pseudo-load coefficients'!AG516","v":8.5358702019907824},{"$f":"'Pseudo-load coefficients'!AH516","v":8.5358702019907824},{"$f":"'Pseudo-load coefficients'!AI516","v":1.0000000000000002},{"$f":"'Pseudo-load coefficients'!AJ516","v":1.0000000000000002},{"$f":"'Pseudo-load coefficients'!AK516","v":8.5358702019907824},{"$f":"'Pseudo-load coefficients'!AL516","v":8.5358702019907824},{"$f":"'Pseudo-load coefficients'!AM516","v":1.0000000000000002},{"$f":"'Pseudo-load coefficients'!AN516","v":1.0000000000000002},{"$f":"'Pseudo-load coefficients'!AO516","v":8.5358702019907824},{"$f":"'Pseudo-load coefficients'!AP516","v":8.5358702019907824}]
[null,null,null,null,null,"LV circuits","scalar",null,null,{"$f":"'Pseudo-load coefficients'!J517","v":1.9721035835087848},{"$f":"'Pseudo-load coefficients'!K517","v":2.1988219389630026},{"$f":"'Pseudo-load coefficients'!L517","v":0.20719834354663158},{"$f":"'Pseudo-load coefficients'!M517","v":1.3163444863978779},{"$f":"'Pseudo-load coefficients'!N517","v":1.8125701085836234},{"$f":"'Pseudo-load coefficients'!O517","v":0.21010937500310795},{"$f":"'Pseudo-load coefficients'!P517","v":1.6164814757648309},{"$f":"'Pseudo-load coefficients'!Q517","v":1.6406850081904745},{"$f":"'Pseudo-load coefficients'!R517","v":1.6624072845837741},{"$f":"'Pseudo-load coefficients'!S517","v":12.318438525396155},{"$f":"'Pseudo-load coefficients'!T517","v":10.569124798985809},{"$f":"'Pseudo-load coefficients'!U517","v":9.4744763915950667},{"$f":"'Pseudo-load coefficients'!V517","v":9.0932837866471097},{"$f":"'Pseudo-load coefficients'!W517","v":8.7804098854221415},{"$f":"'Pseudo-load coefficients'!X517","v":1.05650063456647},{"$f":"'Pseudo-load coefficients'!Y517","v":1.2420323845639887},{"$f":"'Pseudo-load coefficients'!Z517","v":2.05305152490264},{"$f":"'Pseudo-load coefficients'!AA517","v":0.87398270890107876},{"$f":"'Pseudo-load coefficients'!AB517","v":22.548628252854698},{"$f":"'Pseudo-load coefficients'!AC517","v":1.0000000000000002},{"$f":"'Pseudo-load coefficients'!AD517","v":1.0000000000000002},{"$f":"'Pseudo-load coefficients'!AE517","v":1.0000000000000002},{"$f":"'Pseudo-load coefficients'!AF517","v":1.0000000000000002},{"$f":"'Pseudo-load coefficients'!AG517","v":8.5358702019907824},{"$f":"'Pseudo-load coefficients'!AH517","v":8.5358702019907824},{"$f":"'Pseudo-load coefficients'!AI517","v":1.0000000000000002},{"$f":"'Pseudo-load coefficients'!AJ517","v":1.0000000000000002},{"$f":"'Pseudo-load coefficients'!AK517","v":8.5358702019907824},{"$f":"'Pseudo-load coefficients'!AL517","v":8.5358702019907824},{"$f":"'Pseudo-load coefficients'!AM517","v":1.0000000000000002},{"$f":"'Pseudo-load coefficients'!AN517","v":1.0000000000000002},{"$f":"'Pseudo-load coefficients'!AO517","v":8.5358702019907824},{"$f":"'Pseudo-load coefficients'!AP517","v":8.5358702019907824}]
[]
[null,null,null,null,"System peak load, based on unit rate 1 MWh"]
[null,null,null,null,"This is the load charged to unit rate 1, before application of standing charge factors"]
[null,null,null,null,null,"GSPs","MW",null,null,{"$f":"J$56 * J34 * J70 / hours_in_year / $H45","v":776.79132579140582},40.679125237388874,4.0546309098589126E-2,124.56641701779921,43.824388168069873,3.0246032321437525E-2,2.7164562610931791,1.1349170724724602E-11,1.1945500466803496E-2,1.0133143477140769,18.369033669313875,177.40818976345861,9.1051411402964284,186.76900675752549,0.28071701026568951,0.95590848119287919,8.6724994318141901E-2,0,17.403294618236309,-0.1887362585616438,0,-3.8617078322025953,0,-0.23630715019441209,0,-9.757163171061646E-2,0,-4.6031606953657205E-2,0,-37.386179932354445,0,-37.879128113772303,0]
[null,null,null,null,null,"132kV","MW",null,null,{"$f":"J$56 * J35 * J71 / hours_in_year / $H46","v":707.58569716331056},35.930421154902128,9.9619668047796428E-2,123.80623641924606,40.548812999123768,7.3449348543786597E-2,2.5089956019537061,1.054285742101815E-11,1.1148625228208397E-2,0.73543543444157145,13.336284006949665,128.79449304090645,6.6101347338809431,135.59024289217891,0.27826029187150042,0.88826350792264197,7.4392706954565235E-2,0,13.264800296626628,-0.18705278351005333,0,-3.8272624699728399,0,-0.17155385922042396,0,-9.6701319832127319E-2,0,-3.3417946991958318E-2,0,-37.052705582115408,0,-27.499424399457556,0]
[null,null,null,null,null,"132kV/EHV","MW",null,null,{"$f":"J$56 * J36 * J72 / hours_in_year / $H47","v":493.35417364900911},25.051980712445573,6.9458412183769608E-2,86.322156745225556,28.272089458322913,5.1211525050815845E-2,1.7493618891015819,7.3508590290869878E-12,7.7732221112375051E-3,0.51277201120047566,9.2985364206402235,89.800148504237129,4.6088234575914209,94.538389491358302,0.19401307418444291,0.61932923558318065,5.1869268432388378E-2,0,9.2486954091879436,-0.13041992200705893,0,-2.6685049186000165,0,-0.11961351507145651,0,-6.7423634943170316E-2,0,-2.3300193445627015E-2,0,-25.83447774200209,0,-19.173586824616855,0]
[null,null,null,null,null,"EHV","MW",null,null,{"$f":"J$56 * J37 * J73 / hours_in_year / $H48","v":513.76069945582969},26.849394229145854,3.7267659579034731E-2,89.51829731458686,30.427030453795062,2.7870743353000382E-2,1.8904475684997895,7.9488128237313016E-12,8.4456437924672733E-3,0.56817706268668,10.297314479259093,99.476374097094507,5.105437508192944,104.72517424774027,0.19190916652547688,0.54789715897052016,4.9854287280330284E-2,0,9.0702636668174392,-0.12901892675112372,0,-2.6398393384197427,0,-0.13250221709550103,0,-6.6699357614679239E-2,0,-2.5810856644880698E-2,0,-25.556958938132929,0,-21.23959623138834,0]
[null,null,null,null,null,"EHV/HV","MW",null,null,{"$f":"J$56 * J38 * J74 / hours_in_year / $H49","v":509.77805837477672},26.641259390160226,3.6978762993150741E-2,88.824357025326506,30.191162000664868,2.7654691078946116E-2,1.8757929361858376,7.8871941196713699E-12,8.3801736855489226E-3,0.56377258933251961,10.217490336009021,98.705239414171288,5.0658604732457118,103.91335119155625,0.19042149856791504,0.54364989417229914,4.9467819937071909E-2,0,8.9999515453692425,-0.12801878003212278,0,-2.6193754675792795,0,-0.13147506812576845,0,-6.6182308330844514E-2,0,-2.5610772484842861E-2,0,-25.358842977372209,0,-21.074948198586881,0]
[null,null,null,null,null,"132kV/HV","MW",null,null,{"$f":"J$56 * J39 * J75 / hours_in_year / $H50","v":207.54475826679661},10.538893879446581,2.9219838680298434E-2,36.314096670645135,11.893532650033686,2.1543718802523447E-2,0.73592341929397942,3.0923671912230552E-12,3.2700473416460095E-3,0.21571347481149575,3.9117181869221538,37.777221941358889,1.9388447518854275,39.770510197153627,8.1617626307658106E-2,0.26054008124824002,2.1820418987545442E-2,0,3.890751017237287,-5.4865191442338326E-2,0,-1.1225894861054058,0,-5.0319140684130167E-2,0,-2.8363846427504783E-2,0,-9.8019501496761485E-3,0,-10.868075561730944,0,-8.0659648892594973,0]
[null,null,null,null,null,"HV","MW",null,null,{"$f":"J$56 * J40 * J76 / hours_in_year / $H51","v":721.95822182347968},37.729902141684313,5.2370088388817862E-2,125.7948901470248,42.757347584309244,3.9165145043875943E-2,2.656536723128565,1.1170007316455128E-11,1.1868175166030585E-2,0.79842639246762781,14.470220978127232,139.78839999372141,7.1743762980507428,147.16423552859345,0.26967886170178168,0.7699282157071673,7.0057348943403638E-2,0,12.74591738002067,-0.1813028420380825,0,-3.709613671664358,0,-0.18619770866720609,0,-9.3728752844011998E-2,0,-3.6270505289361654E-2,0,0,0,0,0]
[null,null,null,null,null,"HV/LV","MW",null,null,{"$f":"J$56 * J41 * J77 / hours_in_year / $H52","v":709.68697725990774},37.088600688851152,5.1479945243398856E-2,123.65673337398755,42.030593801006532,3.849944852754944E-2,2.6113831244351613,1.0980148835155608E-11,0,0.78485540562681833,14.224268213626486,137.41239319496125,7.052432224996056,0,0.26509508501563239,0.75684161713990661,6.8866572474110654E-2,0,12.529272891974992,-0.17822120732921989,0,-3.6465607480666633,0,-0.1830328750921261,0,0,0,0,0,0,0,0,0]
[null,null,null,null,null,"LV circuits","MW",null,null,{"$f":"J$56 * J42 * J78 / hours_in_year / $H53","v":697.82591357311264},36.46873549627982,5.0619556186406116E-2,121.59004702233317,41.328132623273831,3.7856003705361983E-2,2.5677388382329025,0,0,0.77173804508709432,13.986536711448885,135.11580723627111,0,0,0.26066452649169425,0.74419245362224795,6.7715599117997377E-2,0,12.319870002415522,0,0,0,0,0,0,0,0,0,0,0,0,0,0]
[]
[null,null,null,null,"Pseudo load coefficient, unit rate 2"]
[null,null,null,null,null,"GSPs","scalar",null,null,{"$f":"'Pseudo-load coefficients'!J520","v":0},{"$f":"'Pseudo-load coefficients'!K520","v":0.15463440320148036},{"$f":"'Pseudo-load coefficients'!L520","v":0},{"$f":"'Pseudo-load coefficients'!M520","v":0},{"$f":"'Pseudo-load coefficients'!N520","v":0.15921138905825921},{"$f":"'Pseudo-load coefficients'!O520","v":0},{"$f":"'Pseudo-load coefficients'!P520","v":0.121061605191615},{"$f":"'Pseudo-load coefficients'!Q520","v":0.12255263166472458},{"$f":"'Pseudo-load coefficients'!R520","v":0.12351730716516579},{"$f":"'Pseudo-load coefficients'!S520","v":0.5849219852531421},{"$f":"'Pseudo-load coefficients'!T520","v":0.50197622714411583},{"$f":"'Pseudo-load coefficients'!U520","v":0.44987382530302067},{"$f":"'Pseudo-load coefficients'!V520","v":0.43177376696974001},{"$f":"'Pseudo-load coefficients'!W520","v":0.41691766590789986},{"$f":"'Pseudo-load coefficients'!X520","v":0},{"$f":"'Pseudo-load coefficients'!Y520","v":0},{"$f":"'Pseudo-load coefficients'!Z520","v":0},{"$f":"'Pseudo-load coefficients'!AA520","v":0},{"$f":"'Pseudo-load coefficients'!AB520","v":0.75103067927702138},{"$f":"'Pseudo-load coefficients'!AC520","v":0},{"$f":"'Pseudo-load coefficients'!AD520","v":0},{"$f":"'Pseudo-load coefficients'!AE520","v":0},{"$f":"'Pseudo-load coefficients'!AF520","v":0},{"$f":"'Pseudo-load coefficients'!AG520","v":0.4053062587676331},{"$f":"'Pseudo-load coefficients'!AH520","v":0.4053062587676331},{"$f":"'Pseudo-load coefficients'!AI520","v":0},{"$f":"'Pseudo-load coefficients'!AJ520","v":0},{"$f":"'Pseudo-load coefficients'!AK520","v":0.4053062587676331},{"$f":"'Pseudo-load coefficients'!AL520","v":0.4053062587676331},{"$f":"'Pseudo-load coefficients'!AM520","v":0},{"$f":"'Pseudo-load coefficients'!AN520","v":0},{"$f":"'Pseudo-load coefficients'!AO520","v":0.4053062587676331},{"$f":"'Pseudo-load coefficients'!AP520","v":0.4053062587676331}]
[null,null,null,null,null,"132kV","scalar",null,null,{"$f":"'Pseudo-load coefficients'!J521","v":0},{"$f":"'Pseudo-load coefficients'!K521","v":0.47005483588332447},{"$f":"'Pseudo-load coefficients'!L521","v":0},{"$f":"'Pseudo-load coefficients'!M521","v":0},{"$f":"'Pseudo-load coefficients'!N521","v":0.45773972720105299},{"$f":"'Pseudo-load coefficients'!O521","v":0},{"$f":"'Pseudo-load coefficients'!P521","v":0.38456620753569887},{"$f":"'Pseudo-load coefficients'!Q521","v":0.3942673310199008},{"$f":"'Pseudo-load coefficients'!R521","v":0.39986930498206225},{"$f":"'Pseudo-load coefficients'!S521","v":0.89783304710021039},{"$f":"'Pseudo-load coefficients'!T521","v":0.77077737435642613},{"$f":"'Pseudo-load coefficients'!U521","v":0.69073527816859281},{"$f":"'Pseudo-load coefficients'!V521","v":0.66294448856378496},{"$f":"'Pseudo-load coefficients'!W521","v":0.64013446379175243},{"$f":"'Pseudo-load coefficients'!X521","v":0},{"$f":"'Pseudo-load coefficients'!Y521","v":0},{"$f":"'Pseudo-load coefficients'!Z521","v":0},{"$f":"'Pseudo-load coefficients'!AA521","v":0},{"$f":"'Pseudo-load coefficients'!AB521","v":0.80774986755119482},{"$f":"'Pseudo-load coefficients'!AC521","v":0},{"$f":"'Pseudo-load coefficients'!AD521","v":0},{"$f":"'Pseudo-load coefficients'!AE521","v":0},{"$f":"'Pseudo-load coefficients'!AF521","v":0},{"$f":"'Pseudo-load coefficients'!AG521","v":0.6223063349034833},{"$f":"'Pseudo-load coefficients'!AH521","v":0.6223063349034833},{"$f":"'Pseudo-load coefficients'!AI521","v":0},{"$f":"'Pseudo-load coefficients'!AJ521","v":0},{"$f":"'Pseudo-load coefficients'!AK521","v":0.6223063349034833},{"$f":"'Pseudo-load coefficients'!AL521","v":0.6223063349034833},{"$f":"'Pseudo-load coefficients'!AM521","v":0},{"$f":"'Pseudo-load coefficients'!AN521","v":0},{"$f":"'Pseudo-load coefficients'!AO521","v":0.6223063349034833},{"$f":"'Pseudo-load coefficients'!AP521","v":0.6223063349034833}]
[null,null,null,null,null,"132kV/EHV","scalar",null,null,{"$f":"'Pseudo-load coefficients'!J522","v":0},{"$f":"'Pseudo-load coefficients'!K522","v":0.47005483588332447},{"$f":"'Pseudo-load coefficients'!L522","v":0},{"$f":"'Pseudo-load coefficients'!M522","v":0},{"$f":"'Pseudo-load coefficients'!N522","v":0.45773972720105299},{"$f":"'Pseudo-load coefficients'!O522","v":0},{"$f":"'Pseudo-load coefficients'!P522","v":0.38456620753569887},{"$f":"'Pseudo-load coefficients'!Q522","v":0.3942673310199008},{"$f":"'Pseudo-load coefficients'!R522","v":0.39986930498206225},{"$f":"'Pseudo-load coefficients'!S522","v":0.89783304710021039},{"$f":"'Pseudo-load coefficients'!T522","v":0.77077737435642613},{"$f":"'Pseudo-load coefficients'!U522","v":0.69073527816859281},{"$f":"'Pseudo-load coefficients'!V522","v":0.66294448856378496},{"$f":"'Pseudo-load coefficients'!W522","v":0.64013446379175243},{"$f":"'Pseudo-load coefficients'!X522","v":0},{"$f":"'Pseudo-load coefficients'!Y522","v":0},{"$f":"'Pseudo-load coefficients'!Z522","v":0},{"$f":"'Pseudo-load coefficients'!AA522","v":0},{"$f":"'Pseudo-load coefficients'!AB522","v":0.80774986755119482},{"$f":"'Pseudo-load coefficients'!AC522","v":0},{"$f":"'Pseudo-load coefficients'!AD522","v":0},{"$f":"'Pseudo-load coefficients'!AE522","v":0},{"$f":"'Pseudo-load coefficients'!AF522","v":0},{"$f":"'Pseudo-load coefficients'!AG522","v":0.6223063349034833},{"$f":"'Pseudo-load coefficients'!AH522","v":0.6223063349034833},{"$f":"'Pseudo-load coefficients'!AI522","v":0},{"$f":"'Pseudo-load coefficients'!AJ522","v":0},{"$f":"'Pseudo-load coefficients'!AK522","v":0.6223063349034833},{"$f":"'Pseudo-load coefficients'!AL522","v":0.6223063349034833},{"$f":"'Pseudo-load coefficients'!AM522","v":0},{"$f":"'Pseudo-load coefficients'!AN522","v":0},{"$f":"'Pseudo-load coefficients'!AO522","v":0.6223063349034833},{"$f":"'Pseudo-load coefficients'!AP522","v":0.6223063349034833}]
[null,null,null,null,null,"EHV","scalar",null,null,{"$f":"'Pseudo-load coefficients'!J523","v":0},{"$f":"'Pseudo-load coefficients'!K523","v":0.165100918742352},{"$f":"'Pseudo-load coefficients'!L523","v":0},{"$f":"'Pseudo-load coefficients'!M523","v":0},{"$f":"'Pseudo-load coefficients'!N523","v":0.18298791515601268},{"$f":"'Pseudo-load coefficients'!O523","v":0},{"$f":"'Pseudo-load coefficients'!P523","v":0.12107473438194591},{"$f":"'Pseudo-load coefficients'!Q523","v":0.12011441661130556},{"$f":"'Pseudo-load coefficients'!R523","v":0.11982617788247479},{"$f":"'Pseudo-load coefficients'!S523","v":1.0589965727972062},{"$f":"'Pseudo-load coefficients'!T523","v":0.90861085327630675},{"$f":"'Pseudo-load coefficients'!U523","v":0.81450567026509912},{"$f":"'Pseudo-load coefficients'!V523","v":0.78173514814224399},{"$f":"'Pseudo-load coefficients'!W523","v":0.75483787634664712},{"$f":"'Pseudo-load coefficients'!X523","v":0},{"$f":"'Pseudo-load coefficients'!Y523","v":0},{"$f":"'Pseudo-load coefficients'!Z523","v":0},{"$f":"'Pseudo-load coefficients'!AA523","v":0},{"$f":"'Pseudo-load coefficients'!AB523","v":1.070863061407769},{"$f":"'Pseudo-load coefficients'!AC523","v":0},{"$f":"'Pseudo-load coefficients'!AD523","v":0},{"$f":"'Pseudo-load coefficients'!AE523","v":0},{"$f":"'Pseudo-load coefficients'!AF523","v":0},{"$f":"'Pseudo-load coefficients'!AG523","v":0.73381518859829098},{"$f":"'Pseudo-load coefficients'!AH523","v":0.73381518859829098},{"$f":"'Pseudo-load coefficients'!AI523","v":0},{"$f":"'Pseudo-load coefficients'!AJ523","v":0},{"$f":"'Pseudo-load coefficients'!AK523","v":0.73381518859829098},{"$f":"'Pseudo-load coefficients'!AL523","v":0.73381518859829098},{"$f":"'Pseudo-load coefficients'!AM523","v":0},{"$f":"'Pseudo-load coefficients'!AN523","v":0},{"$f":"'Pseudo-load coefficients'!AO523","v":0.73381518859829098},{"$f":"'Pseudo-load coefficients'!AP523","v":0.73381518859829098}]
[null,null,null,null,null,"EHV/HV","scalar",null,null,{"$f":"'Pseudo-load coefficients'!J524","v":0},{"$f":"'Pseudo-load coefficients'!K524","v":0.165100918742352},{"$f":"'Pseudo-load coefficients'!L524","v":0},{"$f":"'Pseudo-load coefficients'!M524","v":0},{"$f":"'Pseudo-load coefficients'!N524","v":0.18298791515601268},{"$f":"'Pseudo-load coefficients'!O524","v":0},{"$f":"'Pseudo-load coefficients'!P524","v":0.12107473438194591},{"$f":"'Pseudo-load coefficients'!Q524","v":0.12011441661130556},{"$f":"'Pseudo-load coefficients'!R524","v":0.11982617788247479},{"$f":"'Pseudo-load coefficients'!S524","v":1.0589965727972062},{"$f":"'Pseudo-load coefficients'!T524","v":0.90861085327630675},{"$f":"'Pseudo-load coefficients'!U524","v":0.81450567026509912},{"$f":"'Pseudo-load coefficients'!V524","v":0.78173514814224399},{"$f":"'Pseudo-load coefficients'!W524","v":0.75483787634664712},{"$f":"'Pseudo-load coefficients'!X524","v":0},{"$f":"'Pseudo-load coefficients'!Y524","v":0},{"$f":"'Pseudo-load coefficients'!Z524","v":0},{"$f":"'Pseudo-load coefficients'!AA524","v":0},{"$f":"'Pseudo-load coefficients'!AB524","v":1.070863061407769},{"$f":"'Pseudo-load coefficients'!AC524","v":0},{"$f":"'Pseudo-load coefficients'!AD524","v":0},{"$f":"'Pseudo-load coefficients'!AE524","v":0},{"$f":"'Pseudo-load coefficients'!AF524","v":0},{"$f":"'Pseudo-load coefficients'!AG524","v":0.73381518859829098},{"$f":"'Pseudo-load coefficients'!AH524","v":0.73381518859829098},{"$f":"'Pseudo-load coefficients'!AI524","v":0},{"$f":"'Pseudo-load coefficients'!AJ524","v":0},{"$f":"'Pseudo-load coefficients'!AK524","v":0.73381518859829098},{"$f":"'Pseudo-load coefficients'!AL524","v":0.73381518859829098},{"$f":"'Pseudo-load coefficients'!AM524","v":0},{"$f":"'Pseudo-load coefficients'!AN524","v":0},{"$f":"'Pseudo-load coefficients'!AO524","v":0.73381518859829098},{"$f":"'Pseudo-load coefficients'!AP524","v":0.73381518859829098}]
[null,null,null,null,null,"132kV/HV","scalar",null,null,{"$f":"'Pseudo-load coefficients'!J525","v":0},{"$f":"'Pseudo-load coefficients'!K525","v":0.47005483588332447},{"$f":"'Pseudo-load coefficients'!L525","v":0},{"$f":"'Pseudo-load coefficients'!M525","v":0},{"$f":"'Pseudo-load coefficients'!N525","v":0.45773972720105299},{"$f":"'Pseudo-load coefficients'!O525","v":0},{"$f":"'Pseudo-load coefficients'!P525","v":0.38456620753569887},{"$f":"'Pseudo-load coefficients'!Q525","v":0.3942673310199008},{"$f":"'Pseudo-load coefficients'!R525","v":0.39986930498206225},{"$f":"'Pseudo-load coefficients'!S525","v":0.89783304710021039},{"$f":"'Pseudo-load coefficients'!T525","v":0.77077737435642613},{"$f":"'Pseudo-load coefficients'!U525","v":0.69073527816859281},{"$f":"'Pseudo-load coefficients'!V525","v":0.66294448856378496},{"$f":"'Pseudo-load coefficients'!W525","v":0.64013446379175243},{"$f":"'Pseudo-load coefficients'!X525","v":0},{"$f":"'Pseudo-load coefficients'!Y525","v":0},{"$f":"'Pseudo-load coefficients'!Z525","v":0},{"$f":"'Pseudo-load coefficients'!AA525","v":0},{"$f":"'Pseudo-load coefficients'!AB525","v":0.80774986755119482},{"$f":"'Pseudo-load coefficients'!AC525","v":0},{"$f":"'Pseudo-load coefficients'!AD525","v":0},{"$f":"'Pseudo-load coefficients'!AE525","v":0},{"$f":"'Pseudo-load coefficients'!AF525","v":0},{"$f":"'Pseudo-load coefficients'!AG525","v":0.6223063349034833},{"$f":"'Pseudo-load coefficients'!AH525","v":0.6223063349034833},{"$f":"'Pseudo-load coefficients'!AI525","v":0},{"$f":"'Pseudo-load coefficients'!AJ525","v":0},{"$f":"'Pseudo-load coefficients'!AK525","v":0.6223063349034833},{"$f":"'Pseudo-load coefficients'!AL525","v":0.6223063349034833},{"$f":"'Pseudo-load coefficients'!AM525","v":0},{"$f":"'Pseudo-load coefficients'!AN525","v":0},{"$f":"'Pseudo-load coefficients'!AO525","v":0.6223063349034833},{"$f":"'Pseudo-load coefficients'!AP525","v":0.6223063349034833}]
[null,null,null,null,null,"HV","scalar",null,null,{"$f":"'Pseudo-load coefficients'!J526","v":0},{"$f":"'Pseudo-load coefficients'!K526","v":0.165100918742352},{"$f":"'Pseudo-load coefficients'!L526","v":0},{"$f":"'Pseudo-load coefficients'!M526","v":0},{"$f":"'Pseudo-load coefficients'!N526","v":0.18298791515601268},{"$f":"'Pseudo-load coefficients'!O526","v":0},{"$f":"'Pseudo-load coefficients'!P526","v":0.12107473438194591},{"$f":"'Pseudo-load coefficients'!Q526","v":0.12011441661130556},{"$f":"'Pseudo-load coefficients'!R526","v":0.11982617788247479},{"$f":"'Pseudo-load coefficients'!S526","v":1.0589965727972062},{"$f":"'Pseudo-load coefficients'!T526","v":0.90861085327630675},{"$f":"'Pseudo-load coefficients'!U526","v":0.81450567026509912},{"$f":"'Pseudo-load coefficients'!V526","v":0.78173514814224399},{"$f":"'Pseudo-load coefficients'!W526","v":0.75483787634664712},{"$f":"'Pseudo-load coefficients'!X526","v":0},{"$f":"'Pseudo-load coefficients'!Y526","v":0},{"$f":"'Pseudo-load coefficients'!Z526","v":0},{"$f":"'Pseudo-load coefficients'!AA526","v":0},{"$f":"'Pseudo-load coefficients'!AB526","v":1.070863061407769},{"$f":"'Pseudo-load coefficients'!AC526","v":0},{"$f":"'Pseudo-load coefficients'!AD526","v":0},{"$f":"'Pseudo-load coefficients'!AE526","v":0},{"$f":"'Pseudo-load coefficients'!AF526","v":0},{"$f":"'Pseudo-load coefficients'!AG526","v":0.73381518859829098},{"$f":"'Pseudo-load coefficients'!AH526","v":0.73381518859829098},{"$f":"'Pseudo-load coefficients'!AI526","v":0},{"$f":"'Pseudo-load coefficients'!AJ526","v":0},{"$f":"'Pseudo-load coefficients'!AK526","v":0.73381518859829098},{"$f":"'Pseudo-load coefficients'!AL526","v":0.73381518859829098},{"$f":"'Pseudo-load coefficients'!AM526","v":0},{"$f":"'Pseudo-load coefficients'!AN526","v":0},{"$f":"'Pseudo-load coefficients'!AO526","v":0.73381518859829098},{"$f":"'Pseudo-load coefficients'!AP526","v":0.73381518859829098}]
[null,null,null,null,null,"HV/LV","scalar",null,null,{"$f":"'Pseudo-load coefficients'!J527","v":0},{"$f":"'Pseudo-load coefficients'!K527","v":0.165100918742352},{"$f":"'Pseudo-load coefficients'!L527","v":0},{"$f":"'Pseudo-load coefficients'!M527","v":0},{"$f":"'Pseudo-load coefficients'!N527","v":0.18298791515601268},{"$f":"'Pseudo-load coefficients'!O527","v":0},{"$f":"'Pseudo-load coefficients'!P527","v":0.12107473438194591},{"$f":"'Pseudo-load coefficients'!Q527","v":0.12011441661130556},{"$f":"'Pseudo-load coefficients'!R527","v":0.11982617788247479},{"$f":"'Pseudo-load coefficients'!S527","v":1.0589965727972062},{"$f":"'Pseudo-load coefficients'!T527","v":0.90861085327630675},{"$f":"'Pseudo-load coefficients'!U527","v":0.81450567026509912},{"$f":"'Pseudo-load coefficients'!V527","v":0.78173514814224399},{"$f":"'Pseudo-load coefficients'!W527","v":0.75483787634664712},{"$f":"'Pseudo-load coefficients'!X527","v":0},{"$f":"'Pseudo-load coefficients'!Y527","v":0},{"$f":"'Pseudo-load coefficients'!Z527","v":0},{"$f":"'Pseudo-load coefficients'!AA527","v":0},{"$f":"'Pseudo-load coefficients'!AB527","v":1.070863061407769},{"$f":"'Pseudo-load coefficients'!AC527","v":0},{"$f":"'Pseudo-load coefficients'!AD527","v":0},{"$f":"'Pseudo-load coefficients'!AE527","v":0},{"$f":"'Pseudo-load coefficients'!AF527","v":0},{"$f":"'Pseudo-load coefficients'!AG527","v":0.73381518859829098},{"$f":"'Pseudo-load coefficients'!AH527","v":0.73381518859829098},{"$f":"'Pseudo-load coefficients'!AI527","v":0},{"$f":"'Pseudo-load coefficients'!AJ527","v":0},{"$f":"'Pseudo-load coefficients'!AK527","v":0.73381518859829098},{"$f":"'Pseudo-load coefficients'!AL527","v":0.73381518859829098},{"$f":"'Pseudo-load coefficients'!AM527","v":0},{"$f":"'Pseudo-load coefficients'!AN527","v":0},{"$f":"'Pseudo-load coefficients'!AO527","v":0.73381518859829098},{"$f":"'Pseudo-load coefficients'!AP527","v":0.73381518859829098}]
[null,null,null,null,null,"LV circuits","scalar",null,null,{"$f":"'Pseudo-load coefficients'!J528","v":0},{"$f":"'Pseudo-load coefficients'!K528","v":0.165100918742352},{"$f":"'Pseudo-load coefficients'!L528","v":0},{"$f":"'Pseudo-load coefficients'!M528","v":0},{"$f":"'Pseudo-load coefficients'!N528","v":0.18298791515601268},{"$f":"'Pseudo-load coefficients'!O528","v":0},{"$f":"'Pseudo-load coefficients'!P528","v":0.12107473438194591},{"$f":"'Pseudo-load coefficients'!Q528","v":0.12011441661130556},{"$f":"'Pseudo-load coefficients'!R528","v":0.11982617788247479},{"$f":"'Pseudo-load coefficients'!S528","v":1.0589965727972062},{"$f":"'Pseudo-load coefficients'!T528","v":0.90861085327630675},{"$f":"'Pseudo-load coefficients'!U528","v":0.81450567026509912},{"$f":"'Pseudo-load coefficients'!V528","v":0.78173514814224399},{"$f":"'Pseudo-load coefficients'!W528","v":0.75483787634664712},{"$f":"'Pseudo-load coefficients'!X528","v":0},{"$f":"'Pseudo-load coefficients'!Y528","v":0},{"$f":"'Pseudo-load coefficients'!Z528","v":0},{"$f":"'Pseudo-load coefficients'!AA528","v":0},{"$f":"'Pseudo-load coefficients'!AB528","v":1.070863061407769},{"$f":"'Pseudo-load coefficients'!AC528","v":0},{"$f":"'Pseudo-load coefficients'!AD528","v":0},{"$f":"'Pseudo-load coefficients'!AE528","v":0},{"$f":"'Pseudo-load coefficients'!AF528","v":0},{"$f":"'Pseudo-load coefficients'!AG528","v":0.73381518859829098},{"$f":"'Pseudo-load coefficients'!AH528","v":0.73381518859829098},{"$f":"'Pseudo-load coefficients'!AI528","v":0},{"$f":"'Pseudo-load coefficients'!AJ528","v":0},{"$f":"'Pseudo-load coefficients'!AK528","v":0.73381518859829098},{"$f":"'Pseudo-load coefficients'!AL528","v":0.73381518859829098},{"$f":"'Pseudo-load coefficients'!AM528","v":0},{"$f":"'Pseudo-load coefficients'!AN528","v":0},{"$f":"'Pseudo-load coefficients'!AO528","v":0.73381518859829098},{"$f":"'Pseudo-load coefficients'!AP528","v":0.73381518859829098}]
[]
[null,null,null,null,"System peak load, based on unit rate 2 MWh"]
[null,null,null,null,"This is the load charged to unit rate 2, before application of standing charge factors"]
[null,null,null,null,null,"GSPs","MW",null,null,{"$f":"J$57 * J34 * J93 / hours_in_year / $H45","v":0},2.3053959098800392,0,0,1.6490460860714891,0,6.3269614128351873E-2,2.653502703199749E-13,3.7801196904622812E-4,0.19454124107451276,4.8334475850622276,43.797178229054502,2.1294056117252933,44.356059779166237,0,0,0,0,2.8867668183302304,0,0,0,0,-5.9053549651708365E-2,0,0,0,-7.2539974294732737E-3,0,0,0,-3.3884291804082061,0]
[null,null,null,null,null,"132kV","MW",null,null,{"$f":"J$57 * J35 * J94 / hours_in_year / $H46","v":0},6.945391873240002,0,0,4.6987907148846126,0,0.1991905408808782,8.4605095392639641E-13,1.2128431448373428E-3,0.29594987253363186,7.3554907692814204,66.646274291752306,3.2403217790705656,67.496725727014805,0,0,0,0,3.0770868610362885,0,0,0,0,-8.9861932369388942E-2,0,0,0,-1.1038425806063141E-2,0,0,0,-5.1561810533686971,0]
[null,null,null,null,null,"132kV/EHV","MW",null,null,{"$f":"J$57 * J36 * J95 / hours_in_year / $H47","v":0},4.8425767819046523,0,0,3.276165727465945,0,0.13888280259048791,5.89897126118671E-13,8.4563782151886974E-4,0.20634688545953028,5.1285124682561367,46.468177228296788,2.2592687784378476,47.061142528124918,0,0,0,0,2.1454555280848275,0,0,0,0,-6.2654968245310375E-2,0,0,0,-7.6963871143360275E-3,0,0,0,-3.5950747068058342,0]
[null,null,null,null,null,"EHV","MW",null,null,{"$f":"J$57 * J37 * J96 / hours_in_year / $H48","v":0},1.6826235737456765,0,0,1.2956245069025556,0,4.3255403344021365E-2,1.7778295169788518E-13,2.5068452559964669E-4,0.24077221870065071,5.9806703732889108,54.206029909129825,2.635480844774551,54.897735430946298,0,0,0,0,2.8137534994434494,0,0,0,0,-7.3088235546125757E-2,0,0,0,-8.9779848273861696E-3,0,0,0,-4.1937243659302439,0]
[null,null,null,null,null,"EHV/HV","MW",null,null,{"$f":"J$57 * J38 * J97 / hours_in_year / $H49","v":0},1.6695799801507487,0,0,1.2855809060738534,0,4.2920090139804148E-2,1.7640478928162251E-13,2.4874123470352536E-4,0.23890576739289371,5.9343085874494612,53.785828126888504,2.6150507607065312,54.472171590396329,0,0,0,0,2.7919414568121046,0,0,0,0,-7.2521660076775948E-2,0,0,0,-8.9083880457785248E-3,0,0,0,-4.1612148747214821,0]
[null,null,null,null,null,"132kV/HV","MW",null,null,{"$f":"J$57 * J39 * J98 / hours_in_year / $H50","v":0},2.0371803488660354,0,0,1.3782208811972601,0,5.8425365043257585E-2,2.4815855014875988E-13,3.5574381777351123E-4,8.6806227147219348E-2,2.1574680773851602,19.548282197784324,0.95043159159366264,19.797731470511025,0,0,0,0,0.90255251243767887,0,0,0,0,-2.6357758651370189E-2,0,0,0,-3.2377243134644501E-3,0,0,0,-1.5123798496654108,0]
[null,null,null,null,null,"HV","MW",null,null,{"$f":"J$57 * J40 * J99 / hours_in_year / $H51","v":0},2.3644936730006489,0,0,1.8206662482066927,0,6.078431868296677E-2,2.4982810832802858E-13,3.5227247730758646E-4,0.33834328523324597,8.4042904655521404,76.172601381842938,3.7034889324127089,77.144615179482685,0,0,0,0,3.9540051920270236,0,0,0,0,-0.10270667380160943,0,0,0,-1.2616243259562836E-2,0,0,0,0,0]
[null,null,null,null,null,"HV/LV","MW",null,null,{"$f":"J$57 * J41 * J100 / hours_in_year / $H52","v":0},2.3243039788419977,0,0,1.789720079681933,0,5.9751157458893679E-2,2.455817382148043E-13,0,0.33259240786384237,8.2614413358260421,74.877882944757786,3.640540112031756,0,0,0,0,0,3.8867983049104171,0,0,0,0,-0.10096095130073221,0,0,0,0,0,0,0,0,0]
[null,null,null,null,null,"LV circuits","MW",null,null,{"$f":"J$57 * J42 * J101 / hours_in_year / $H53","v":0},2.2854576727889282,0,0,1.7598083234755497,0,5.8752530871836954E-2,0,0,0.32703376037865278,8.1233671073721254,73.62644200417688,0,0,0,0,0,0,3.821837887558154,0,0,0,0,0,0,0,0,0,0,0,0,0,0]
[]
[null,null,null,null,"Pseudo load coefficient, unit rate 3"]
[null,null,null,null,null,"GSPs","scalar",null,null,{"$f":"'Pseudo-load coefficients'!J531","v":0},{"$f":"'Pseudo-load coefficients'!K531","v":0},{"$f":"'Pseudo-load coefficients'!L531","v":0},{"$f":"'Pseudo-load coefficients'!M531","v":0},{"$f":"'Pseudo-load coefficients'!N531","v":0},{"$f":"'Pseudo-load coefficients'!O531","v":0},{"$f":"'Pseudo-load coefficients'!P531","v":0},{"$f":"'Pseudo-load coefficients'!Q531","v":0},{"$f":"'Pseudo-load coefficients'!R531","v":0},{"$f":"'Pseudo-load coefficients'!S531","v":0.14841452289975304},{"$f":"'Pseudo-load coefficients'!T531","v":0.12736837413688548},{"$f":"'Pseudo-load coefficients'!U531","v":0.11414822973107934},{"$f":"'Pseudo-load coefficients'!V531","v":0.1095556317612339},{"$f":"'Pseudo-load coefficients'!W531","v":0.10578613564580013},{"$f":"'Pseudo-load coefficients'!X531","v":0},{"$f":"'Pseudo-load coefficients'!Y531","v":0},{"$f":"'Pseudo-load coefficients'!Z531","v":0},{"$f":"'Pseudo-load coefficients'!AA531","v":0},{"$f":"'Pseudo-load coefficients'!AB531","v":0.10871706769652695},{"$f":"'Pseudo-load coefficients'!AC531","v":0},{"$f":"'Pseudo-load coefficients'!AD531","v":0},{"$f":"'Pseudo-load coefficients'!AE531","v":0},{"$f":"'Pseudo-load coefficients'!AF531","v":0},{"$f":"'Pseudo-load coefficients'!AG531","v":0.10283992829787207},{"$f":"'Pseudo-load coefficients'!AH531","v":0.10283992829787207},{"$f":"'Pseudo-load coefficients'!AI531","v":0},{"$f":"'Pseudo-load coefficients'!AJ531","v":0},{"$f":"'Pseudo-load coefficients'!AK531","v":0.10283992829787207},{"$f":"'Pseudo-load coefficients'!AL531","v":0.10283992829787207},{"$f":"'Pseudo-load coefficients'!AM531","v":0},{"$f":"'Pseudo-load coefficients'!AN531","v":0},{"$f":"'Pseudo-load coefficients'!AO531","v":0.10283992829787207},{"$f":"'Pseudo-load coefficients'!AP531","v":0.10283992829787207}]
[null,null,null,null,null,"132kV","scalar",null,null,{"$f":"'Pseudo-load coefficients'!J532","v":0},{"$f":"'Pseudo-load coefficients'!K532","v":0},{"$f":"'Pseudo-load coefficients'!L532","v":0},{"$f":"'Pseudo-load coefficients'!M532","v":0},{"$f":"'Pseudo-load coefficients'!N532","v":0},{"$f":"'Pseudo-load coefficients'!O532","v":0},{"$f":"'Pseudo-load coefficients'!P532","v":0},{"$f":"'Pseudo-load coefficients'!Q532","v":0},{"$f":"'Pseudo-load coefficients'!R532","v":0},{"$f":"'Pseudo-load coefficients'!S532","v":0.48033405963741166},{"$f":"'Pseudo-load coefficients'!T532","v":0.41236021161957109},{"$f":"'Pseudo-load coefficients'!U532","v":0.36953828038417635},{"$f":"'Pseudo-load coefficients'!V532","v":0.35467041287303913},{"$f":"'Pseudo-load coefficients'!W532","v":0.34246721781960798},{"$f":"'Pseudo-load coefficients'!X532","v":0},{"$f":"'Pseudo-load coefficients'!Y532","v":0},{"$f":"'Pseudo-load coefficients'!Z532","v":0},{"$f":"'Pseudo-load coefficients'!AA532","v":0},{"$f":"'Pseudo-load coefficients'!AB532","v":0.35195568375990421},{"$f":"'Pseudo-load coefficients'!AC532","v":0},{"$f":"'Pseudo-load coefficients'!AD532","v":0},{"$f":"'Pseudo-load coefficients'!AE532","v":0},{"$f":"'Pseudo-load coefficients'!AF532","v":0},{"$f":"'Pseudo-load coefficients'!AG532","v":0.3329293003278212},{"$f":"'Pseudo-load coefficients'!AH532","v":0.3329293003278212},{"$f":"'Pseudo-load coefficients'!AI532","v":0},{"$f":"'Pseudo-load coefficients'!AJ532","v":0},{"$f":"'Pseudo-load coefficients'!AK532","v":0.3329293003278212},{"$f":"'Pseudo-load coefficients'!AL532","v":0.3329293003278212},{"$f":"'Pseudo-load coefficients'!AM532","v":0},{"$f":"'Pseudo-load coefficients'!AN532","v":0},{"$f":"'Pseudo-load coefficients'!AO532","v":0.3329293003278212},{"$f":"'Pseudo-load coefficients'!AP532","v":0.3329293003278212}]
[null,null,null,null,null,"132kV/EHV","scalar",null,null,{"$f":"'Pseudo-load coefficients'!J533","v":0},{"$f":"'Pseudo-load coefficients'!K533","v":0},{"$f":"'Pseudo-load coefficients'!L533","v":0},{"$f":"'Pseudo-load coefficients'!M533","v":0},{"$f":"'Pseudo-load coefficients'!N533","v":0},{"$f":"'Pseudo-load coefficients'!O533","v":0},{"$f":"'Pseudo-load coefficients'!P533","v":0},{"$f":"'Pseudo-load coefficients'!Q533","v":0},{"$f":"'Pseudo-load coefficients'!R533","v":0},{"$f":"'Pseudo-load coefficients'!S533","v":0.48033405963741166},{"$f":"'Pseudo-load coefficients'!T533","v":0.41236021161957109},{"$f":"'Pseudo-load coefficients'!U533","v":0.36953828038417635},{"$f":"'Pseudo-load coefficients'!V533","v":0.35467041287303913},{"$f":"'Pseudo-load coefficients'!W533","v":0.34246721781960798},{"$f":"'Pseudo-load coefficients'!X533","v":0},{"$f":"'Pseudo-load coefficients'!Y533","v":0},{"$f":"'Pseudo-load coefficients'!Z533","v":0},{"$f":"'Pseudo-load coefficients'!AA533","v":0},{"$f":"'Pseudo-load coefficients'!AB533","v":0.35195568375990421},{"$f":"'Pseudo-load coefficients'!AC533","v":0},{"$f":"'Pseudo-load coefficients'!AD533","v":0},{"$f":"'Pseudo-load coefficients'!AE533","v":0},{"$f":"'Pseudo-load coefficients'!AF533","v":0},{"$f":"'Pseudo-load coefficients'!AG533","v":0.3329293003278212},{"$f":"'Pseudo-load coefficients'!AH533","v":0.3329293003278212},{"$f":"'Pseudo-load coefficients'!AI533","v":0},{"$f":"'Pseudo-load coefficients'!AJ533","v":0},{"$f":"'Pseudo-load coefficients'!AK533","v":0.3329293003278212},{"$f":"'Pseudo-load coefficients'!AL533","v":0.3329293003278212},{"$f":"'Pseudo-load coefficients'!AM533","v":0},{"$f":"'Pseudo-load coefficients'!AN533","v":0},{"$f":"'Pseudo-load coefficients'!AO533","v":0.3329293003278212},{"$f":"'Pseudo-load coefficients'!AP533","v":0.3329293003278212}]
[null,null,null,null,null,"EHV","scalar",null,null,{"$f":"'Pseudo-load coefficients'!J534","v":0},{"$f":"'Pseudo-load coefficients'!K534","v":0},{"$f":"'Pseudo-load coefficients'!L534","v":0},{"$f":"'Pseudo-load coefficients'!M534","v":0},{"$f":"'Pseudo-load coefficients'!N534","v":0},{"$f":"'Pseudo-load coefficients'!O534","v":0},{"$f":"'Pseudo-load coefficients'!P534","v":0},{"$f":"'Pseudo-load coefficients'!Q534","v":0},{"$f":"'Pseudo-load coefficients'!R534","v":0},{"$f":"'Pseudo-load coefficients'!S534","v":0.14397713093773079},{"$f":"'Pseudo-load coefficients'!T534","v":0.12353126266316776},{"$f":"'Pseudo-load coefficients'!U534","v":0.11073708126129994},{"$f":"'Pseudo-load coefficients'!V534","v":0.10628172618671497},{"$f":"'Pseudo-load coefficients'!W534","v":0.10262487580338142},{"$f":"'Pseudo-load coefficients'!X534","v":0},{"$f":"'Pseudo-load coefficients'!Y534","v":0},{"$f":"'Pseudo-load coefficients'!Z534","v":0},{"$f":"'Pseudo-load coefficients'!AA534","v":0},{"$f":"'Pseudo-load coefficients'!AB534","v":0.10546822135010885},{"$f":"'Pseudo-load coefficients'!AC534","v":0},{"$f":"'Pseudo-load coefficients'!AD534","v":0},{"$f":"'Pseudo-load coefficients'!AE534","v":0},{"$f":"'Pseudo-load coefficients'!AF534","v":0},{"$f":"'Pseudo-load coefficients'!AG534","v":9.9766711438776134E-2},{"$f":"'Pseudo-load coefficients'!AH534","v":9.9766711438776134E-2},{"$f":"'Pseudo-load coefficients'!AI534","v":0},{"$f":"'Pseudo-load coefficients'!AJ534","v":0},{"$f":"'Pseudo-load coefficients'!AK534","v":9.9766711438776134E-2},{"$f":"'Pseudo-load coefficients'!AL534","v":9.9766711438776134E-2},{"$f":"'Pseudo-load coefficients'!AM534","v":0},{"$f":"'Pseudo-load coefficients'!AN534","v":0},{"$f":"'Pseudo-load coefficients'!AO534","v":9.9766711438776134E-2},{"$f":"'Pseudo-load coefficients'!AP534","v":9.9766711438776134E-2}]
[null,null,null,null,null,"EHV/HV","scalar",null,null,{"$f":"'Pseudo-load coefficients'!J535","v":0},{"$f":"'Pseudo-load coefficients'!K535","v":0},{"$f":"'Pseudo-load coefficients'!L535","v":0},{"$f":"'Pseudo-load coefficients'!M535","v":0},{"$f":"'Pseudo-load coefficients'!N535","v":0},{"$f":"'Pseudo-load coefficients'!O535","v":0},{"$f":"'Pseudo-load coefficients'!P535","v":0},{"$f":"'Pseudo-load coefficients'!Q535","v":0},{"$f":"'Pseudo-load coefficients'!R535","v":0},{"$f":"'Pseudo-load coefficients'!S535","v":0.14397713093773079},{"$f":"'Pseudo-load coefficients'!T535","v":0.12353126266316776},{"$f":"'Pseudo-load coefficients'!U535","v":0.11073708126129994},{"$f":"'Pseudo-load coefficients'!V535","v":0.10628172618671497},{"$f":"'Pseudo-load coefficients'!W535","v":0.10262487580338142},{"$f":"'Pseudo-load coefficients'!X535","v":0},{"$f":"'Pseudo-load coefficients'!Y535","v":0},{"$f":"'Pseudo-load coefficients'!Z535","v":0},{"$f":"'Pseudo-load coefficients'!AA535","v":0},{"$f":"'Pseudo-load coefficients'!AB535","v":0.10546822135010885},{"$f":"'Pseudo-load coefficients'!AC535","v":0},{"$f":"'Pseudo-load coefficients'!AD535","v":0},{"$f":"'Pseudo-load coefficients'!AE535","v":0},{"$f":"'Pseudo-load coefficients'!AF535","v":0},{"$f":"'Pseudo-load coefficients'!AG535","v":9.9766711438776134E-2},{"$f":"'Pseudo-load coefficients'!AH535","v":9.9766711438776134E-2},{"$f":"'Pseudo-load coefficients'!AI535","v":0},{"$f":"'Pseudo-load coefficients'!AJ535","v":0},{"$f":"'Pseudo-load coefficients'!AK535","v":9.9766711438776134E-2},{"$f":"'Pseudo-load coefficients'!AL535","v":9.9766711438776134E-2},{"$f":"'Pseudo-load coefficients'!AM535","v":0},{"$f":"'Pseudo-load coefficients'!AN535","v":0},{"$f":"'Pseudo-load coefficients'!AO535","v":9.9766711438776134E-2},{"$f":"'Pseudo-load coefficients'!AP535","v":9.9766711438776134E-2}]
[null,null,null,null,null,"132kV/HV","scalar",null,null,{"$f":"'Pseudo-load coefficients'!J536","v":0},{"$f":"'Pseudo-load coefficients'!K536","v":0},{"$f":"'Pseudo-load coefficients'!L536","v":0},{"$f":"'Pseudo-load coefficients'!M536","v":0},{"$f":"'Pseudo-load coefficients'!N536","v":0},{"$f":"'Pseudo-load coefficients'!O536","v":0},{"$f":"'Pseudo-load coefficients'!P536","v":0},{"$f":"'Pseudo-load coefficients'!Q536","v":0},{"$f":"'Pseudo-load coefficients'!R536","v":0},{"$f":"'Pseudo-load coefficients'!S536","v":0.48033405963741166},{"$f":"'Pseudo-load coefficients'!T536","v":0.41236021161957109},{"$f":"'Pseudo-load coefficients'!U536","v":0.36953828038417635},{"$f":"'Pseudo-load coefficients'!V536","v":0.35467041287303913},{"$f":"'Pseudo-load coefficients'!W536","v":0.34246721781960798},{"$f":"'Pseudo-load coefficients'!X536","v":0},{"$f":"'Pseudo-load coefficients'!Y536","v":0},{"$f":"'Pseudo-load coefficients'!Z536","v":0},{"$f":"'Pseudo-load coefficients'!AA536","v":0},{"$f":"'Pseudo-load coefficients'!AB536","v":0.35195568375990421},{"$f":"'Pseudo-load coefficients'!AC536","v":0},{"$f":"'Pseudo-load coefficients'!AD536","v":0},{"$f":"'Pseudo-load coefficients'!AE536","v":0},{"$f":"'Pseudo-load coefficients'!AF536","v":0},{"$f":"'Pseudo-load coefficients'!AG536","v":0.3329293003278212},{"$f":"'Pseudo-load coefficients'!AH536","v":0.3329293003278212},{"$f":"'Pseudo-load coefficients'!AI536","v":0},{"$f":"'Pseudo-load coefficients'!AJ536","v":0},{"$f":"'Pseudo-load coefficients'!AK536","v":0.3329293003278212},{"$f":"'Pseudo-load coefficients'!AL536","v":0.3329293003278212},{"$f":"'Pseudo-load coefficients'!AM536","v":0},{"$f":"'Pseudo-load coefficients'!AN536","v":0},{"$f":"'Pseudo-load coefficients'!AO536","v":0.3329293003278212},{"$f":"'Pseudo-load coefficients'!AP536","v":0.3329293003278212}]
[null,null,null,null,null,"HV","scalar",null,null,{"$f":"'Pseudo-load coefficients'!J537","v":0},{"$f":"'Pseudo-load coefficients'!K537","v":0},{"$f":"'Pseudo-load coefficients'!L537","v":0},{"$f":"'Pseudo-load coefficients'!M537","v":0},{"$f":"'Pseudo-load coefficients'!N537","v":0},{"$f":"'Pseudo-load coefficients'!O537","v":0},{"$f":"'Pseudo-load coefficients'!P537","v":0},{"$f":"'Pseudo-load coefficients'!Q537","v":0},{"$f":"'Pseudo-load coefficients'!R537","v":0},{"$f":"'Pseudo-load coefficients'!S537","v":0.14397713093773079},{"$f":"'Pseudo-load coefficients'!T537","v":0.12353126266316776},{"$f":"'Pseudo-load coefficients'!U537","v":0.11073708126129994},{"$f":"'Pseudo-load coefficients'!V537","v":0.10628172618671497},{"$f":"'Pseudo-load coefficients'!W537","v":0.10262487580338142},{"$f":"'Pseudo-load coefficients'!X537","v":0},{"$f":"'Pseudo-load coefficients'!Y537","v":0},{"$f":"'Pseudo-load coefficients'!Z537","v":0},{"$f":"'Pseudo-load coefficients'!AA537","v":0},{"$f":"'Pseudo-load coefficients'!AB537","v":0.10546822135010885},{"$f":"'Pseudo-load coefficients'!AC537","v":0},{"$f":"'Pseudo-load coefficients'!AD537","v":0},{"$f":"'Pseudo-load coefficients'!AE537","v":0},{"$f":"'Pseudo-load coefficients'!AF537","v":0},{"$f":"'Pseudo-load coefficients'!AG537","v":9.9766711438776134E-2},{"$f":"'Pseudo-load coefficients'!AH537","v":9.9766711438776134E-2},{"$f":"'Pseudo-load coefficients'!AI537","v":0},{"$f":"'Pseudo-load coefficients'!AJ537","v":0},{"$f":"'Pseudo-load coefficients'!AK537","v":9.9766711438776134E-2},{"$f":"'Pseudo-load coefficients'!AL537","v":9.9766711438776134E-2},{"$f":"'Pseudo-load coefficients'!AM537","v":0},{"$f":"'Pseudo-load coefficients'!AN537","v":0},{"$f":"'Pseudo-load coefficients'!AO537","v":9.9766711438776134E-2},{"$f":"'Pseudo-load coefficients'!AP537","v":9.9766711438776134E-2}]
[null,null,null,null,null,"HV/LV","scalar",null,null,{"$f":"'Pseudo-load coefficients'!J538","v":0},{"$f":"'Pseudo-load coefficients'!K538","v":0},{"$f":"'Pseudo-load coefficients'!L538","v":0},{"$f":"'Pseudo-load coefficients'!M538","v":0},{"$f":"'Pseudo-load coefficients'!N538","v":0},{"$f":"'Pseudo-load coefficients'!O538","v":0},{"$f":"'Pseudo-load coefficients'!P538","v":0},{"$f":"'Pseudo-load coefficients'!Q538","v":0},{"$f":"'Pseudo-load coefficients'!R538","v":0},{"$f":"'Pseudo-load coefficients'!S538","v":0.14397713093773079},{"$f":"'Pseudo-load coefficients'!T538","v":0.12353126266316776},{"$f":"'Pseudo-load coefficients'!U538","v":0.11073708126129994},{"$f":"'Pseudo-load coefficients'!V538","v":0.10628172618671497},{"$f":"'Pseudo-load coefficients'!W538","v":0.10262487580338142},{"$f":"'Pseudo-load coefficients'!X538","v":0},{"$f":"'Pseudo-load coefficients'!Y538","v":0},{"$f":"'Pseudo-load coefficients'!Z538","v":0},{"$f":"'Pseudo-load coefficients'!AA538","v":0},{"$f":"'Pseudo-load coefficients'!AB538","v":0.10546822135010885},{"$f":"'Pseudo-load coefficients'!AC538","v":0},{"$f":"'Pseudo-load coefficients'!AD538","v":0},{"$f":"'Pseudo-load coefficients'!AE538","v":0},{"$f":"'Pseudo-load coefficients'!AF538","v":0},{"$f":"'Pseudo-load coefficients'!AG538","v":9.9766711438776134E-2},{"$f":"'Pseudo-load coefficients'!AH538","v":9.9766711438776134E-2},{"$f":"'Pseudo-load coefficients'!AI538","v":0},{"$f":"'Pseudo-load coefficients'!AJ538","v":0},{"$f":"'Pseudo-load coefficients'!AK538","v":9.9766711438776134E-2},{"$f":"'Pseudo-load coefficients'!AL538","v":9.9766711438776134E-2},{"$f":"'Pseudo-load coefficients'!AM538","v":0},{"$f":"'Pseudo-load coefficients'!AN538","v":0},{"$f":"'Pseudo-load coefficients'!AO538","v":9.9766711438776134E-2},{"$f":"'Pseudo-load coefficients'!AP538","v":9.9766711438776134E-2}]
[null,null,null,null,null,"LV circuits","scalar",null,null,{"$f":"'Pseudo-load coefficients'!J539","v":0},{"$f":"'Pseudo-load coefficients'!K539","v":0},{"$f":"'Pseudo-load coefficients'!L539","v":0},{"$f":"'Pseudo-load coefficients'!M539","v":0},{"$f":"'Pseudo-load coefficients'!N539","v":0},{"$f":"'Pseudo-load coefficients'!O539","v":0},{"$f":"'Pseudo-load coefficients'!P539","v":0},{"$f":"'Pseudo-load coefficients'!Q539","v":0},{"$f":"'Pseudo-load coefficients'!R539","v":0},{"$f":"'Pseudo-load coefficients'!S539","v":0.14397713093773079},{"$f":"'Pseudo-load coefficients'!T539","v":0.12353126266316776},{"$f":"'Pseudo-load coefficients'!U539","v":0.11073708126129994},{"$f":"'Pseudo-load coefficients'!V539","v":0.10628172618671497},{"$f":"'Pseudo-load coefficients'!W539","v":0.10262487580338142},{"$f":"'Pseudo-load coefficients'!X539","v":0},{"$f":"'Pseudo-load coefficients'!Y539","v":0},{"$f":"'Pseudo-load coefficients'!Z539","v":0},{"$f":"'Pseudo-load coefficients'!AA539","v":0},{"$f":"'Pseudo-load coefficients'!AB539","v":0.10546822135010885},{"$f":"'Pseudo-load coefficients'!AC539","v":0},{"$f":"'Pseudo-load coefficients'!AD539","v":0},{"$f":"'Pseudo-load coefficients'!AE539","v":0},{"$f":"'Pseudo-load coefficients'!AF539","v":0},{"$f":"'Pseudo-load coefficients'!AG539","v":9.9766711438776134E-2},{"$f":"'Pseudo-load coefficients'!AH539","v":9.9766711438776134E-2},{"$f":"'Pseudo-load coefficients'!AI539","v":0},{"$f":"'Pseudo-load coefficients'!AJ539","v":0},{"$f":"'Pseudo-load coefficients'!AK539","v":9.9766711438776134E-2},{"$f":"'Pseudo-load coefficients'!AL539","v":9.9766711438776134E-2},{"$f":"'Pseudo-load coefficients'!AM539","v":0},{"$f":"'Pseudo-load coefficients'!AN539","v":0},{"$f":"'Pseudo-load coefficients'!AO539","v":9.9766711438776134E-2},{"$f":"'Pseudo-load coefficients'!AP539","v":9.9766711438776134E-2}]
[]
[null,null,null,null,"System peak load, based on unit rate 3 MWh"]
[null,null,null,null,"This is the load charged to unit rate 3, before application of standing charge factors"]
[null,null,null,null,null,"GSPs","MW",null,null,{"$f":"J$58 * J34 * J116 / hours_in_year / $H45","v":0},0,0,0,0,0,0,0,0,4.3341493714448273E-2,0.88114644826251631,8.3329854786352033,0.47268637658274776,10.669012143275056,0,0,0,0,0.98575737640958783,0,0,0,0,-1.4484099468857082E-2,0,0,0,-1.8570368387689467E-3,0,0,0,-0.70752109189273016,0]
[null,null,null,null,null,"132kV","MW",null,null,{"$f":"J$58 * J35 * J117 / hours_in_year / $H46","v":0},0,0,0,0,0,0,0,0,0.1390207704182273,2.8273012001614295,26.736201870253126,1.5166039132117495,34.231292392159858,0,0,0,0,3.1627810078812697,0,0,0,0,-4.6471916733930717E-2,0,0,0,-5.9582621293557186E-3,0,0,0,-2.2700659672101247,0]
[null,null,null,null,null,"132kV/EHV","MW",null,null,{"$f":"J$58 * J36 * J118 / hours_in_year / $H47","v":0},0,0,0,0,0,0,0,0,9.6930276551227976E-2,1.9712959898065325,18.64144065247757,1.0574307442265138,23.867287084484211,0,0,0,0,2.2052045665020144,0,0,0,0,-3.2401890216362549E-2,0,0,0,-4.154314454061149E-3,0,0,0,-1.5827715623302181,0]
[null,null,null,null,null,"EHV","MW",null,null,{"$f":"J$58 * J37 * J119 / hours_in_year / $H48","v":0},0,0,0,0,0,0,0,0,2.8742138169389201E-2,0.58419986713195804,5.5261491238256193,0.31346933370930102,7.0753215949802328,0,0,0,0,0.65372035939785178,0,0,0,0,-9.6053561829003743E-3,0,0,0,-1.2315229068604705E-3,0,0,0,-0.46920363320872172,0]
[null,null,null,null,null,"EHV/HV","MW",null,null,{"$f":"J$58 * J38 * J120 / hours_in_year / $H49","v":0},0,0,0,0,0,0,0,0,2.8519330896758278E-2,0.57967118599140022,5.4833107585246452,0.31103933887434521,7.0204741407555806,0,0,0,0,0.64865275971259706,0,0,0,0,-9.5308960574515336E-3,0,0,0,-1.2219762176600018E-3,0,0,0,-0.46556639574198744,0]
[null,null,null,null,null,"132kV/HV","MW",null,null,{"$f":"J$58 * J39 * J121 / hours_in_year / $H50","v":0},0,0,0,0,0,0,0,0,4.0776731788369575E-2,0.82928689272176792,7.8421010718271518,0.44484108966007413,10.040515704560841,0,0,0,0,0.92768780143959328,0,0,0,0,-1.3630861623411655E-2,0,0,0,-1.7476414210813719E-3,0,0,0,-0.66584202352180677,0]
[null,null,null,null,null,"HV","MW",null,null,{"$f":"J$58 * J40 * J122 / hours_in_year / $H51","v":0},0,0,0,0,0,0,0,0,4.0389665823321735E-2,0.82094231363129544,7.7655780194832387,0.44050033994555277,9.9425405698638123,0,0,0,0,0.91863544397337749,0,0,0,0,-1.3497851971030581E-2,0,0,0,-1.7305879739606446E-3,0,0,0,0,0]
[null,null,null,null,null,"HV/LV","MW",null,null,{"$f":"J$58 * J41 * J123 / hours_in_year / $H52","v":0},0,0,0,0,0,0,0,0,3.970315592264205E-2,0.80698861991518278,7.6335851919566116,0.43301308204279548,0,0,0,0,0,0.90302124379252691,0,0,0,0,-1.3268426725064054E-2,0,0,0,0,0,0,0,0,0]
[null,null,null,null,null,"LV circuits","MW",null,null,{"$f":"J$58 * J42 * J124 / hours_in_year / $H53","v":0},0,0,0,0,0,0,0,0,3.9039593428113209E-2,0.79350134493052793,7.5060043809489798,0,0,0,0,0,0,0.88792896673749855,0,0,0,0,0,0,0,0,0,0,0,0,0,0]
[]
[null,null,{"$f":"INDEX('Version control'!$H$34:$H$59,MATCH($A$1,'Version control'!$F$34:$F$59,0),1)&\"-C: System peak load, all unit rates\"","v":"Section 509-C: System peak load, all unit rates"}]
[]
[null,null,null,null,"System peak load, all unit rates, by customer category"]
[null,null,null,null,"This is the load charged to unit rates, before application of standing charge factors"]
[null,null,null,null,null,"GSPs","MW",null,null,{"$f":"J82 + J105 + J128","v":776.79132579140582},42.984521147268914,4.0546309098589126E-2,124.56641701779921,45.47343425414136,3.0246032321437525E-2,2.7797258752215308,1.1614520995044577E-11,1.2323512435849724E-2,1.2511970825030381,24.083627702638619,229.53835347114833,11.70723312860447,241.79407867996679,0.28071701026568951,0.95590848119287919,8.6724994318141901E-2,0,21.275818812976127,-0.1887362585616438,0,-3.8617078322025953,0,-0.30984479931497755,0,-9.757163171061646E-2,0,-5.5142641221899429E-2,0,-37.386179932354445,0,-41.975078386073235,0]
[null,null,null,null,null,"132kV","MW",null,null,{"$f":"J83 + J106 + J129","v":707.58569716331056},42.875813028142133,9.9619668047796428E-2,123.80623641924606,45.247603714008378,7.3449348543786597E-2,2.7081861428345841,1.1388908374944546E-11,1.2361468373045741E-2,1.1704060773934306,23.519075976392514,222.17696920291189,11.367060426163258,237.31826101135357,0.27826029187150042,0.88826350792264197,7.4392706954565235E-2,0,19.504668165544189,-0.18705278351005333,0,-3.8272624699728399,0,-0.30788770832374357,0,-9.6701319832127319E-2,0,-5.0414634927377182E-2,0,-37.052705582115408,0,-34.925671420036373,0]
[null,null,null,null,null,"132kV/EHV","MW",null,null,{"$f":"J84 + J107 + J130","v":493.35417364900911},29.894557494350224,6.9458412183769608E-2,86.322156745225556,31.548255185788857,5.1211525050815845E-2,1.8882446916920697,7.9407561552056584E-12,8.6188599327563752E-3,0.81604917321123394,16.398344878702893,154.90976638501149,7.9255229802557814,165.46681910396742,0.19401307418444291,0.61932923558318065,5.1869268432388378E-2,0,13.599355503774785,-0.13041992200705893,0,-2.6685049186000165,0,-0.21467037353312943,0,-6.7423634943170316E-2,0,-3.5150895014024193E-2,0,-25.83447774200209,0,-24.35143309375291,0]
[null,null,null,null,null,"EHV","MW",null,null,{"$f":"J85 + J108 + J131","v":513.76069945582969},28.532017802891531,3.7267659579034731E-2,89.51829731458686,31.722654960697618,2.7870743353000382E-2,1.9337029718438108,8.1265957754291861E-12,8.6963283180669197E-3,0.83769141955671989,16.862184719679959,159.20855313004995,8.0543876866767956,166.69823127366681,0.19190916652547688,0.54789715897052016,4.9854287280330284E-2,0,12.537737525658741,-0.12901892675112372,0,-2.6398393384197427,0,-0.21519580882452716,0,-6.6699357614679239E-2,0,-3.6020364379127333E-2,0,-25.556958938132929,0,-25.902524230527305,0]
[null,null,null,null,null,"EHV/HV","MW",null,null,{"$f":"J86 + J109 + J132","v":509.77805837477672},28.310839370310973,3.6978762993150741E-2,88.824357025326506,31.476742906738721,2.7654691078946116E-2,1.9187130263256418,8.0635989089529916E-12,8.6289149202524486E-3,0.83119768762217161,16.731470109449884,157.97437829958446,7.9919505728265881,165.40599692270814,0.19042149856791504,0.54364989417229914,4.9467819937071909E-2,0,12.440545761893944,-0.12801878003212278,0,-2.6193754675792795,0,-0.21352762425999591,0,-6.6182308330844514E-2,0,-3.5741136748281388E-2,0,-25.358842977372209,0,-25.701729469050349,0]
[null,null,null,null,null,"132kV/HV","MW",null,null,{"$f":"J87 + J110 + J133","v":207.54475826679661},12.576074228312617,2.9219838680298434E-2,36.314096670645135,13.271753531230946,2.1543718802523447E-2,0.79434878433723699,3.3405257413718152E-12,3.6257911594195207E-3,0.34329643374708463,6.8984731570290823,65.167605210970365,3.3341174331391645,69.608757372225497,8.1617626307658106E-2,0.26054008124824002,2.1820418987545442E-2,0,5.7209913311145595,-5.4865191442338326E-2,0,-1.1225894861054058,0,-9.0307760958912006E-2,0,-2.8363846427504783E-2,0,-1.478731588422197E-2,0,-10.868075561730944,0,-10.244186762446715,0]
[null,null,null,null,null,"HV","MW",null,null,{"$f":"J88 + J111 + J134","v":721.95822182347968},40.094395814684965,5.2370088388817862E-2,125.7948901470248,44.578013832515936,3.9165145043875943E-2,2.7173210418115317,1.1419835424783156E-11,1.2220447643338172E-2,1.1771593435241956,23.69545375731067,223.72657939504759,11.318365570409005,234.25139127793994,0.26967886170178168,0.7699282157071673,7.0057348943403638E-2,0,17.618558016021073,-0.1813028420380825,0,-3.709613671664358,0,-0.3024022344398461,0,-9.3728752844011998E-2,0,-5.0617336522885137E-2,0,0,0,0,0]
[null,null,null,null,null,"HV/LV","MW",null,null,{"$f":"J89 + J112 + J135","v":709.68697725990774},39.412904667693148,5.1479945243398856E-2,123.65673337398755,43.820313880688467,3.849944852754944E-2,2.6711342818940551,1.1225730573370412E-11,0,1.1571509694133026,23.292698169367711,219.92386133167562,11.125985419070606,0,0.26509508501563239,0.75684161713990661,6.8866572474110654E-2,0,17.319092440677935,-0.17822120732921989,0,-3.6465607480666633,0,-0.29726225311792237,0,0,0,0,0,0,0,0,0]
[null,null,null,null,null,"LV circuits","MW",null,null,{"$f":"J90 + J113 + J136","v":697.82591357311264},38.754193169068749,5.0619556186406116E-2,121.59004702233317,43.087940946749377,3.7856003705361983E-2,2.6264913691047393,0,0,1.1378113988938603,22.90340516375154,216.24825362139697,0,0,0.26066452649169425,0.74419245362224795,6.7715599117997377E-2,0,17.029636856711175,0,0,0,0,0,0,0,0,0,0,0,0,0,0]
[]
[null,null,null,null,"System peak load, all unit rates, total"]
[null,null,null,null,"This step sums system peak load by network level in kW, which is an input to the EDCM model"]
[null,null,null,null,null,"GSPs","kW",{"$f":"SUM(J142:AP142) * thousand","v":1439777.9378218788}]
[null,null,null,null,null,"132kV","kW",1362258.6284003074]
[null,null,null,null,null,"132kV/EHV","kW",949815.66558651242]
[null,null,null,null,null,"EHV","kW",975983.39664052357]
[null,null,null,null,null,"EHV/HV","kW",968417.63387586863]
[null,null,null,null,null,"132kV/HV","kW",399569.46396974119]
[null,null,null,null,null,"HV","kW",1443806.1052897]
[null,null,null,null,null,"HV/LV","kW",1189125.590254274]
[null,null,null,null,null,"LV circuits","kW",1162364.7412602459]
[]
[null,null,{"$f":"INDEX('Version control'!$H$34:$H$59,MATCH($A$1,'Version control'!$F$34:$F$59,0),1)&\"-D: Unit rate contributions to chargeable peak load\"","v":"Section 509-D: Unit rate contributions to chargeable peak load"}]
[]
[null,null,null,null,"Unit rate contributions to chargeable peak load"]
[null,null,null,null,"This is the load charged to unit rates (adjusted for standing charge factors)"]
[null,null,null,null,null,"GSPs","MW",null,null,{"$f":"J142 * (1 - J23)","v":776.79132579140582},42.984521147268914,4.0546309098589126E-2,124.56641701779921,45.47343425414136,3.0246032321437525E-2,2.7797258752215308,1.1614520995044577E-11,1.2323512435849724E-2,1.2511970825030381,24.083627702638619,229.53835347114833,11.70723312860447,241.79407867996679,0.28071701026568951,0.95590848119287919,8.6724994318141901E-2,0,21.275818812976127,-0.1887362585616438,0,-3.8617078322025953,0,-0.30984479931497755,0,-9.757163171061646E-2,0,-5.5142641221899429E-2,0,-37.386179932354445,0,-41.975078386073235,0]
[null,null,null,null,null,"132kV","MW",null,null,{"$f":"J143 * (1 - J24)","v":707.58569716331056},42.875813028142133,9.9619668047796428E-2,123.80623641924606,45.247603714008378,7.3449348543786597E-2,2.7081861428345841,1.1388908374944546E-11,1.1619780270662995E-2,1.1704060773934306,23.519075976392514,222.17696920291189,11.367060426163258,223.07916535067235,0.27826029187150042,0.88826350792264197,7.4392706954565235E-2,0,19.504668165544189,-0.18705278351005333,0,-3.8272624699728399,0,-0.30788770832374357,0,-9.6701319832127319E-2,0,-5.0414634927377182E-2,0,-37.052705582115408,0,-34.925671420036373,0]
[null,null,null,null,null,"132kV/EHV","MW",null,null,{"$f":"J144 * (1 - J25)","v":493.35417364900911},29.894557494350224,6.9458412183769608E-2,86.322156745225556,31.548255185788857,5.1211525050815845E-2,1.8882446916920697,7.9407561552056584E-12,8.6188599327563752E-3,0.81604917321123394,16.398344878702893,154.90976638501149,7.9255229802557814,165.46681910396742,0.19401307418444291,0.61932923558318065,5.1869268432388378E-2,0,13.599355503774785,-0.13041992200705893,0,-2.6685049186000165,0,-0.21467037353312943,0,-6.7423634943170316E-2,0,-3.5150895014024193E-2,0,-25.83447774200209,0,-24.35143309375291,0]
[null,null,null,null,null,"EHV","MW",null,null,{"$f":"J145 * (1 - J26)","v":513.76069945582969},28.532017802891531,3.7267659579034731E-2,89.51829731458686,31.722654960697618,2.7870743353000382E-2,1.9337029718438108,8.1265957754291861E-12,6.9570626544535365E-3,0.83769141955671989,16.862184719679959,159.20855313004995,8.0543876866767956,133.35858501893344,0.19190916652547688,0.54789715897052016,4.9854287280330284E-2,0,12.537737525658741,-0.12901892675112372,0,-2.6398393384197427,0,-0.21519580882452716,0,-6.6699357614679239E-2,0,-3.6020364379127333E-2,0,-25.556958938132929,0,-25.902524230527305,0]
[null,null,null,null,null,"EHV/HV","MW",null,null,{"$f":"J146 * (1 - J27)","v":509.77805837477672},28.310839370310973,3.6978762993150741E-2,88.824357025326506,31.476742906738721,2.7654691078946116E-2,1.9187130263256418,8.0635989089529916E-12,0,0.83119768762217161,16.731470109449884,157.97437829958446,7.9919505728265881,0,0.19042149856791504,0.54364989417229914,4.9467819937071909E-2,0,12.440545761893944,-0.12801878003212278,0,-2.6193754675792795,0,-0.21352762425999591,0,-6.6182308330844514E-2,0,-3.5741136748281388E-2,0,-25.358842977372209,0,-25.701729469050349,0]
[null,null,null,null,null,"132kV/HV","MW",null,null,{"$f":"J147 * (1 - J28)","v":207.54475826679661},12.576074228312617,2.9219838680298434E-2,36.314096670645135,13.271753531230946,2.1543718802523447E-2,0.79434878433723699,3.3405257413718152E-12,0,0.34329643374708463,6.8984731570290823,65.167605210970365,3.3341174331391645,0,8.1617626307658106E-2,0.26054008124824002,2.1820418987545442E-2,0,5.7209913311145595,-5.4865191442338326E-2,0,-1.1225894861054058,0,-9.0307760958912006E-2,0,-2.8363846427504783E-2,0,-1.478731588422197E-2,0,-10.868075561730944,0,-10.244186762446715,0]
[null,null,null,null,null,"HV","MW",null,null,{"$f":"J148 * (1 - J29)","v":721.95822182347968},40.094395814684965,5.2370088388817862E-2,125.7948901470248,44.578013832515936,3.9165145043875943E-2,2.7173210418115317,1.1419835424783156E-11,0,1.1771593435241956,23.69545375731067,178.9812635160381,0,0,0.26967886170178168,0.7699282157071673,7.0057348943403638E-2,0,17.618558016021073,-0.1813028420380825,0,-3.709613671664358,0,-0.3024022344398461,0,-9.3728752844011998E-2,0,-5.0617336522885137E-2,0,0,0,0,0]
[null,null,null,null,null,"HV/LV","MW",null,null,{"$f":"J149 * (1 - J30)","v":709.68697725990774},39.412904667693148,5.1479945243398856E-2,123.65673337398755,43.820313880688467,3.849944852754944E-2,2.6711342818940551,0,0,1.1571509694133026,23.292698169367711,0,0,0,0.26509508501563239,0.75684161713990661,6.8866572474110654E-2,0,17.319092440677935,-0.17822120732921989,0,-3.6465607480666633,0,-0.29726225311792237,0,0,0,0,0,0,0,0,0]
[null,null,null,null,null,"LV circuits","MW",null,null,{"$f":"J150 * (1 - J31)","v":0},0,0,0,0,0,0,0,0,0,0,0,0,0,0.26066452649169425,0.74419245362224795,6.7715599117997377E-2,0,17.029636856711175,0,0,0,0,0,0,0,0,0,0,0,0,0,0]
[null,null,null,null,null,"Total","MW",null,null,{"$f":"SUM(J168:J176)","v":4640.4599117845155},264.68112355365452,0.41694068421485575,798.80318471384169,287.13877226581025,0.30964065272193525,17.411376815960459,6.1894741375731939E-11,3.9519215293722626E-2,7.5841481869711771,151.48132847057133,1167.9568892157145,50.380272227666055,763.69864815354003,2.0123771409317914,6.0865506455590834,0.54076901644555486,0,137.04640441437252,-1.1776359116716435,0,-24.095453932610898,0,-1.9510985627730539,0,-0.51667085170295457,0,-0.27787432469781664,0,-162.05724073370803,0,-163.1006233618869,0]
[]
[null,"Load at system peak charged to standing charges"]
[]
[null,null,"This section calculates load subject to fixed and capacity charges"]
[null,null,"As part of this, it also calculates the LV diversity factor in line with Paragraph 80"]
[]
[null,null,{"$f":"INDEX('Version control'!$H$34:$H$59,MATCH($A$1,'Version control'!$F$34:$F$59,0),1)&\"-E: Adjustment of import and exceeded capacity\"","v":"Section 509-E: Adjustment of import and exceeded capacity"}]
[]
[null,null,null,"This brings in import and exceeded capacity (in kVA), and converts it to MW"]
[]
[null,null,null,null,"Import capacity",null,"kVA",null,null,{"$f":"'Volume adjustments'!J114","v":0},{"$f":"'Volume adjustments'!K114","v":0},{"$f":"'Volume adjustments'!L114","v":0},{"$f":"'Volume adjustments'!M114","v":0},{"$f":"'Volume adjustments'!N114","v":0},{"$f":"'Volume adjustments'!O114","v":0},{"$f":"'Volume adjustments'!P114","v":0},{"$f":"'Volume adjustments'!Q114","v":0},{"$f":"'Volume adjustments'!R114","v":0},{"$f":"'Volume adjustments'!S114","v":0},{"$f":"'Volume adjustments'!T114","v":0},{"$f":"'Volume adjustments'!U114","v":768048.28327556269},{"$f":"'Volume adjustments'!V114","v":27787.563790216489},{"$f":"'Volume adjustments'!W114","v":659893.71472816414},{"$f":"'Volume adjustments'!X114","v":0},{"$f":"'Volume adjustments'!Y114","v":0},{"$f":"'Volume adjustments'!Z114","v":0},{"$f":"'Volume adjustments'!AA114","v":0},{"$f":"'Volume adjustments'!AB114","v":0},{"$f":"'Volume adjustments'!AC114","v":0},{"$f":"'Volume adjustments'!AD114","v":0},{"$f":"'Volume adjustments'!AE114","v":0},{"$f":"'Volume adjustments'!AF114","v":0},{"$f":"'Volume adjustments'!AG114","v":0},{"$f":"'Volume adjustments'!AH114","v":0},{"$f":"'Volume adjustments'!AI114","v":0},{"$f":"'Volume adjustments'!AJ114","v":0},{"$f":"'Volume adjustments'!AK114","v":0},{"$f":"'Volume adjustments'!AL114","v":0},{"$f":"'Volume adjustments'!AM114","v":0},{"$f":"'Volume adjustments'!AN114","v":0},{"$f":"'Volume adjustments'!AO114","v":0},{"$f":"'Volume adjustments'!AP114","v":0}]
[null,null,null,null,"Exceeded capacity",null,"kVA",null,null,{"$f":"'Volume adjustments'!J125","v":0},{"$f":"'Volume adjustments'!K125","v":0},{"$f":"'Volume adjustments'!L125","v":0},{"$f":"'Volume adjustments'!M125","v":0},{"$f":"'Volume adjustments'!N125","v":0},{"$f":"'Volume adjustments'!O125","v":0},{"$f":"'Volume adjustments'!P125","v":0},{"$f":"'Volume adjustments'!Q125","v":0},{"$f":"'Volume adjustments'!R125","v":0},{"$f":"'Volume adjustments'!S125","v":0},{"$f":"'Volume adjustments'!T125","v":0},{"$f":"'Volume adjustments'!U125","v":24082.835348340654},{"$f":"'Volume adjustments'!V125","v":1372.9829276493151},{"$f":"'Volume adjustments'!W125","v":19153.332046867399},{"$f":"'Volume adjustments'!X125","v":0},{"$f":"'Volume adjustments'!Y125","v":0},{"$f":"'Volume adjustments'!Z125","v":0},{"$f":"'Volume adjustments'!AA125","v":0},{"$f":"'Volume adjustments'!AB125","v":0},{"$f":"'Volume adjustments'!AC125","v":0},{"$f":"'Volume adjustments'!AD125","v":0},{"$f":"'Volume adjustments'!AE125","v":0},{"$f":"'Volume adjustments'!AF125","v":0},{"$f":"'Volume adjustments'!AG125","v":0},{"$f":"'Volume adjustments'!AH125","v":0},{"$f":"'Volume adjustments'!AI125","v":0},{"$f":"'Volume adjustments'!AJ125","v":0},{"$f":"'Volume adjustments'!AK125","v":0},{"$f":"'Volume adjustments'!AL125","v":0},{"$f":"'Volume adjustments'!AM125","v":0},{"$f":"'Volume adjustments'!AN125","v":0},{"$f":"'Volume adjustments'!AO125","v":0},{"$f":"'Volume adjustments'!AP125","v":0}]
[]
[null,null,null,null,"Import and exceeded capacity",null,"kVA",null,null,{"$f":"SUM(J188:J189)","v":0},{"$f":"SUM(K188:K189)","v":0},0,0,0,0,0,0,0,0,0,792131.11862390337,29160.546717865804,679047.04677503149,0,0,0,0,0,0,0,0,0,0,0,0,0,0,0,0,0,0,0]
[null,null,null,null,"Adjusted import capacities and exceeded capacity",null,"MW",null,null,{"$f":"J191 * PowerFactor / thousand","v":0},0,0,0,0,0,0,0,0,0,0,752.52456269270817,27.702519381972515,645.09469443627984,0,0,0,0,0,0,0,0,0,0,0,0,0,0,0,0,0,0,0]
[]
[null,null,{"$f":"INDEX('Version control'!$H$34:$H$59,MATCH($A$1,'Version control'!$F$34:$F$59,0),1)&\"-F: Calculation of LV circuit diversity factor\"","v":"Section 509-F: Calculation of LV circuit diversity factor"}]
[]
[null,null,null,"Recalculates LV diversity factor in line with Paragraph 80. See the User Guide for additional detail."]
[]
[null,null,null,null,"Flag for customers included in aggregate maximum demand",null,"TRUE / FALSE",null,">",{"$f":"'Fixed inputs'!J136","v":true},{"$f":"'Fixed inputs'!K136","v":true},{"$f":"'Fixed inputs'!L136","v":false},{"$f":"'Fixed inputs'!M136","v":true},{"$f":"'Fixed inputs'!N136","v":true},{"$f":"'Fixed inputs'!O136","v":false},{"$f":"'Fixed inputs'!P136","v":true},{"$f":"'Fixed inputs'!Q136","v":true},{"$f":"'Fixed inputs'!R136","v":true},{"$f":"'Fixed inputs'!S136","v":true},{"$f":"'Fixed inputs'!T136","v":true},{"$f":"'Fixed inputs'!U136","v":true},{"$f":"'Fixed inputs'!V136","v":true},{"$f":"'Fixed inputs'!W136","v":true},{"$f":"'Fixed inputs'!X136","v":true},{"$f":"'Fixed inputs'!Y136","v":true},{"$f":"'Fixed inputs'!Z136","v":true},{"$f":"'Fixed inputs'!AA136","v":true},{"$f":"'Fixed inputs'!AB136","v":true},{"$f":"'Fixed inputs'!AC136","v":true},{"$f":"'Fixed inputs'!AD136","v":true},{"$f":"'Fixed inputs'!AE136","v":true},{"$f":"'Fixed inputs'!AF136","v":true},{"$f":"'Fixed inputs'!AG136","v":true},{"$f":"'Fixed inputs'!AH136","v":true},{"$f":"'Fixed inputs'!AI136","v":true},{"$f":"'Fixed inputs'!AJ136","v":true},{"$f":"'Fixed inputs'!AK136","v":true},{"$f":"'Fixed inputs'!AL136","v":true},{"$f":"'Fixed inputs'!AM136","v":true},{"$f":"'Fixed inputs'!AN136","v":true},{"$f":"'Fixed inputs'!AO136","v":true},{"$f":"'Fixed inputs'!AP136","v":true},null,"Paragraph 80"]
[]
[null,null,null,null,"Estimated capacity (maximum load)",null,"MW",null,">",{"$f":"J59 / (hours_in_year * J61)","v":837.75922794417897},115.2656177363218,1.3165220618808942,241.26804865430381,59.275875070655445,0.9264901800853671,4.011655379990299,1.6901776814354659E-11,2.8489099777173166E-2,1.5552793704818806,36.679320653258458,298.26226023427483,15.523311320209265,296.36037218856251,0.24672443911845438,1.2658454089050006,0.11705204802790793,0,28.445288633722864,null,null,null,null,null,null,null,null,null,null,null,null,null,null,null,"Paragraph 80"]
[]
[null,null,null,null,"Import + exceeded capacity, LV circuits",null,"MW",null,">",{"$f":"J192 * J42 / $H53","v":0},0,0,0,0,0,0,0,0,0,0,752.52456269270817,0,0,0,0,0,0,0,0,0,0,0,0,0,0,0,0,0,0,0,0,0,null,"Paragraph 80"]
[]
[null,null,null,null,"Estimated capacity, LV circuits, excluding related MPANs",null,"MW",null,null,{"$f":"IF(J198, J$200 * J42 / $H53, 0)","v":837.75922794417897},115.2656177363218,0,241.26804865430384,59.275875070655445,0,4.011655379990299,0,0,1.5552793704818806,36.679320653258458,298.26226023427483,0,0,0.24672443911845438,1.2658454089050006,0.11705204802790793,0,28.445288633722864,0,0,0,0,0,0,0,0,0,0,0,0,0,0]
[]
[null,null,null,null,"Aggregate maximum load, LV circuits",null,"MW",null,null,{"$f":"IF(J202 = 0, J204, J202)","v":837.75922794417897},115.2656177363218,0,241.26804865430384,59.275875070655445,0,4.011655379990299,0,0,1.5552793704818806,36.679320653258458,752.52456269270817,0,0,0.24672443911845438,1.2658454089050006,0.11705204802790793,0,28.445288633722864,0,0,0,0,0,0,0,0,0,0,0,0,0,0]
[]
[null,null,null,null,"LV peak load",null,"MW",null,">",{"$f":"J150","v":697.82591357311264},38.754193169068749,5.0619556186406116E-2,121.59004702233317,43.087940946749377,3.7856003705361983E-2,2.6264913691047393,0,0,1.1378113988938603,22.90340516375154,216.24825362139697,0,0,0.26066452649169425,0.74419245362224795,6.7715599117997377E-2,0,17.029636856711175,0,0,0,0,0,0,0,0,0,0,0,0,0,0,null,"Paragraph 80"]
[]
[null,null,null,null,"Calculated LV diversity factor",null,"%",{"$f":"SUM(J206:AP206) / SUM(J208:AP208) - 1","v":0.78809148647974192}]
[]
[null,null,null,null,"Adjusted network model cumulative diversity factor",null,null,null,null,null,null,null,null,null,null,null,null,null,null,null,null,null,null,null,null,null,null,null,null,null,null,null,null,null,null,null,null,null,null,null,null,null,null,"Paragraph 80"]
[null,null,null,null,"Cumulative diversity factor from the network model"]
[null,null,null,null,null,"GSPs","%",{"$f":"TRANSPOSE('Load & loss characteristics'!K23:S23)","v":6.3829787234042534E-2}]
[null,null,null,null,null,"132kV","%",0.12021276595744657]
[null,null,null,null,null,"132kV/EHV","%",0.12021276595744657]
[null,null,null,null,null,"EHV","%",0.23111382978723372]
[null,null,null,null,null,"EHV/HV","%",0.23111382978723372]
[null,null,null,null,null,"132kV/HV","%",0.12021276595744657]
[null,null,null,null,null,"HV","%",0.68662594680851052]
[null,null,null,null,null,"HV/LV","%",0.68662594680851052]
[null,null,null,null,null,"LV circuits","%",0.68662594680851052]
[]
[null,null,null,null,"Network model diversity factor, with calculated LV value",null,null,null,null,null,null,null,null,null,null,null,null,null,null,null,null,null,null,null,null,null,null,null,null,null,null,null,null,null,null,null,null,null,null,null,null,null,null,"Paragraph 80"]
[null,null,null,null,"Substitutes the calculated LV diversity factor for the LV diversity factor from the network model"]
[null,null,null,null,null,"GSPs","%",{"$f":"IF(F226 = $F$234, $H$210, H214)","v":6.3829787234042534E-2}]
[null,null,null,null,null,"132kV","%",0.12021276595744657]
[null,null,null,null,null,"132kV/EHV","%",0.12021276595744657]
[null,null,null,null,null,"EHV","%",0.23111382978723372]
[null,null,null,null,null,"EHV/HV","%",0.23111382978723372]
[null,null,null,null,null,"132kV/HV","%",0.12021276595744657]
[null,null,null,null,null,"HV","%",0.68662594680851052]
[null,null,null,null,null,"HV/LV","%",0.68662594680851052]
[null,null,null,null,null,"LV circuits","%",0.78809148647974192]
[]
[null,null,{"$f":"INDEX('Version control'!$H$34:$H$59,MATCH($A$1,'Version control'!$F$34:$F$59,0),1)&\"-G: Import/exceeded capacity contribution to system peak\"","v":"Section 509-G: Import/exceeded capacity contribution to system peak"}]
[]
[null,null,null,null,"System peak load based on load charged to import & exceeded capacity charges"]
[null,null,null,null,null,"GSPs","MW",null,null,{"$f":"J$192 * J23 * J34 / (1 + $H226) / $H45","v":0},0,0,0,0,0,0,0,0,0,0,0,0,0,0,0,0,0,0,0,0,0,0,0,0,0,0,0,0,0,0,0,0]
[null,null,null,null,null,"132kV","MW",null,null,{"$f":"J$192 * J24 * J35 / (1 + $H227) / $H46","v":0},0,0,0,0,0,0,0,0,0,0,0,0,35.647884836679424,0,0,0,0,0,0,0,0,0,0,0,0,0,0,0,0,0,0,0]
[null,null,null,null,null,"132kV/EHV","MW",null,null,{"$f":"J$192 * J25 * J36 / (1 + $H228) / $H47","v":0},0,0,0,0,0,0,0,0,0,0,0,0,0,0,0,0,0,0,0,0,0,0,0,0,0,0,0,0,0,0,0,0]
[null,null,null,null,null,"EHV","MW",null,null,{"$f":"J$192 * J26 * J37 / (1 + $H229) / $H48","v":0},0,0,0,0,0,0,0,0,0,0,0,0,74.57685567652257,0,0,0,0,0,0,0,0,0,0,0,0,0,0,0,0,0,0,0]
[null,null,null,null,null,"EHV/HV","MW",null,null,{"$f":"J$192 * J27 * J38 / (1 + $H230) / $H49","v":0},0,0,0,0,0,0,0,0,0,0,0,0,369.99370258119717,0,0,0,0,0,0,0,0,0,0,0,0,0,0,0,0,0,0,0]
[null,null,null,null,null,"132kV/HV","MW",null,null,{"$f":"J$192 * J28 * J39 / (1 + $H231) / $H50","v":0},0,0,0,0,0,0,0,0,0,0,0,0,174.26703391574384,0,0,0,0,0,0,0,0,0,0,0,0,0,0,0,0,0,0,0]
[null,null,null,null,null,"HV","MW",null,null,{"$f":"J$192 * J29 * J40 / (1 + $H232) / $H51","v":0},0,0,0,0,0,0,0,0,0,0,92.320228839268381,16.708817704436637,382.47644396610247,0,0,0,0,0,0,0,0,0,0,0,0,0,0,0,0,0,0,0]
[null,null,null,null,null,"HV/LV","MW",null,null,{"$f":"J$192 * J30 * J41 / (1 + $H233) / $H52","v":0},0,0,0,0,0,0,0,0,0,0,453.7552323969706,16.424815137222417,0,0,0,0,0,0,0,0,0,0,0,0,0,0,0,0,0,0,0,0]
[null,null,null,null,null,"LV circuits","MW",null,null,{"$f":"J$192 * J31 * J42 / (1 + $H234) / $H53","v":0},0,0,0,0,0,0,0,0,0,0,420.85350127930042,0,0,0,0,0,0,0,0,0,0,0,0,0,0,0,0,0,0,0,0,0]
[]
[null,null,{"$f":"INDEX('Version control'!$H$34:$H$59,MATCH($A$1,'Version control'!$F$34:$F$59,0),1)&\"-H: Estimated capacity contribution to system peak\"","v":"Section 509-H: Estimated capacity contribution to system peak"}]
[]
[null,null,null,null,"System peak load based on load used to determine fixed charges"]
[null,null,null,null,null,"GSPs","MW",null,null,{"$f":"IF(AND(J$192 = 0, J$198), J$200 * J23 * J34 / (1 + $H226) / $H45, 0)","v":0},0,0,0,0,0,0,0,0,0,0,0,0,0,0,0,0,0,0,0,0,0,0,0,0,0,0,0,0,0,0,0,0]
[null,null,null,null,null,"132kV","MW",null,null,{"$f":"IF(AND(J$192 = 0, J$198), J$200 * J24 * J35 / (1 + $H227) / $H46, 0)","v":0},0,0,0,0,0,0,0,1.5743055348560976E-3,0,0,0,0,0,0,0,0,0,0,0,0,0,0,0,0,0,0,0,0,0,0,0,0]
[null,null,null,null,null,"132kV/EHV","MW",null,null,{"$f":"IF(AND(J$192 = 0, J$198), J$200 * J25 * J36 / (1 + $H228) / $H47, 0)","v":0},0,0,0,0,0,0,0,0,0,0,0,0,0,0,0,0,0,0,0,0,0,0,0,0,0,0,0,0,0,0,0,0]
[null,null,null,null,null,"EHV","MW",null,null,{"$f":"IF(AND(J$192 = 0, J$198), J$200 * J26 * J37 / (1 + $H229) / $H48, 0)","v":0},0,0,0,0,0,0,0,3.2935125660782465E-3,0,0,0,0,0,0,0,0,0,0,0,0,0,0,0,0,0,0,0,0,0,0,0,0]
[null,null,null,null,null,"EHV/HV","MW",null,null,{"$f":"IF(AND(J$192 = 0, J$198), J$200 * J27 * J38 / (1 + $H230) / $H49, 0)","v":0},0,0,0,0,0,0,0,1.6339907304574245E-2,0,0,0,0,0,0,0,0,0,0,0,0,0,0,0,0,0,0,0,0,0,0,0,0]
[null,null,null,null,null,"132kV/HV","MW",null,null,{"$f":"IF(AND(J$192 = 0, J$198), J$200 * J28 * J39 / (1 + $H231) / $H50, 0)","v":0},0,0,0,0,0,0,0,7.6960963404544688E-3,0,0,0,0,0,0,0,0,0,0,0,0,0,0,0,0,0,0,0,0,0,0,0,0]
[null,null,null,null,null,"HV","MW",null,null,{"$f":"IF(AND(J$192 = 0, J$198), J$200 * J29 * J40 / (1 + $H232) / $H51, 0)","v":0},0,0,0,0,0,0,0,1.6891178409226531E-2,0,0,0,0,0,0,0,0,0,0,0,0,0,0,0,0,0,0,0,0,0,0,0,0]
[null,null,null,null,null,"HV/LV","MW",null,null,{"$f":"IF(AND(J$192 = 0, J$198), J$200 * J30 * J41 / (1 + $H233) / $H52, 0)","v":0},0,0,0,0,0,0,1.00210582235716E-11,0,0,0,0,0,0,0,0,0,0,0,0,0,0,0,0,0,0,0,0,0,0,0,0,0]
[null,null,null,null,null,"LV circuits","MW",null,null,{"$f":"IF(AND(J$192 = 0, J$198), J$200 * J31 * J42 / (1 + $H234) / $H53, 0)","v":468.52145669207084},64.46293078842848,0,134.93048341127891,33.150359206369956,0,2.2435403391401079,0,0,0.86979854344242524,20.513111846122541,0,0,0,0,0,0,0,0,0,0,0,0,0,0,0,0,0,0,0,0,0,0]
[]
[null,"System peak based on chargeable load"]
[]
[null,null,"This section aggregates the system peak load charged to unit rates, capacity charges, and fixed charges"]
[]
[null,null,{"$f":"INDEX('Version control'!$H$34:$H$59,MATCH($A$1,'Version control'!$F$34:$F$59,0),1)&\"-I: System peak based on chargeable load\"","v":"Section 509-I: System peak based on chargeable load"}]
[]
[null,null,null,null,"System peak load charged to unit rates, capacity charges, and fixed charges",null,null,"Sum"]
[null,null,null,null,null,"GSPs","MW",{"$f":"SUM(J269:AP269)","v":1439.7779378218788},null,{"$f":"J239 + J252 + J168","v":776.79132579140582},42.984521147268914,4.0546309098589126E-2,124.56641701779921,45.47343425414136,3.0246032321437525E-2,2.7797258752215308,1.1614520995044577E-11,1.2323512435849724E-2,1.2511970825030381,24.083627702638619,229.53835347114833,11.70723312860447,241.79407867996679,0.28071701026568951,0.95590848119287919,8.6724994318141901E-2,0,21.275818812976127,-0.1887362585616438,0,-3.8617078322025953,0,-0.30984479931497755,0,-9.757163171061646E-2,0,-5.5142641221899429E-2,0,-37.386179932354445,0,-41.975078386073235,0]
[null,null,null,null,null,"132kV","MW",1383.668250193738,null,{"$f":"J240 + J253 + J169","v":707.58569716331056},42.875813028142133,9.9619668047796428E-2,123.80623641924606,45.247603714008378,7.3449348543786597E-2,2.7081861428345841,1.1388908374944546E-11,1.3194085805519094E-2,1.1704060773934306,23.519075976392514,222.17696920291189,11.367060426163258,258.72705018735178,0.27826029187150042,0.88826350792264197,7.4392706954565235E-2,0,19.504668165544189,-0.18705278351005333,0,-3.8272624699728399,0,-0.30788770832374357,0,-9.6701319832127319E-2,0,-5.0414634927377182E-2,0,-37.052705582115408,0,-34.925671420036373,0]
[null,null,null,null,null,"132kV/EHV","MW",949.81566558651241,null,{"$f":"J241 + J254 + J170","v":493.35417364900911},29.894557494350224,6.9458412183769608E-2,86.322156745225556,31.548255185788857,5.1211525050815845E-2,1.8882446916920697,7.9407561552056584E-12,8.6188599327563752E-3,0.81604917321123394,16.398344878702893,154.90976638501149,7.9255229802557814,165.46681910396742,0.19401307418444291,0.61932923558318065,5.1869268432388378E-2,0,13.599355503774785,-0.13041992200705893,0,-2.6685049186000165,0,-0.21467037353312943,0,-6.7423634943170316E-2,0,-3.5150895014024193E-2,0,-25.83447774200209,0,-24.35143309375291,0]
[null,null,null,null,null,"EHV","MW",1017.2221603092152,null,{"$f":"J242 + J255 + J171","v":513.76069945582969},28.532017802891531,3.7267659579034731E-2,89.51829731458686,31.722654960697618,2.7870743353000382E-2,1.9337029718438108,8.1265957754291861E-12,1.0250575220531783E-2,0.83769141955671989,16.862184719679959,159.20855313004995,8.0543876866767956,207.93544069545601,0.19190916652547688,0.54789715897052016,4.9854287280330284E-2,0,12.537737525658741,-0.12901892675112372,0,-2.6398393384197427,0,-0.21519580882452716,0,-6.6699357614679239E-2,0,-3.6020364379127333E-2,0,-25.556958938132929,0,-25.902524230527305,0]
[null,null,null,null,null,"EHV/HV","MW",1173.0130505267421,null,{"$f":"J243 + J256 + J172","v":509.77805837477672},28.310839370310973,3.6978762993150741E-2,88.824357025326506,31.476742906738721,2.7654691078946116E-2,1.9187130263256418,8.0635989089529916E-12,1.6339907304574245E-2,0.83119768762217161,16.731470109449884,157.97437829958446,7.9919505728265881,369.99370258119717,0.19042149856791504,0.54364989417229914,4.9467819937071909E-2,0,12.440545761893944,-0.12801878003212278,0,-2.6193754675792795,0,-0.21352762425999591,0,-6.6182308330844514E-2,0,-3.5741136748281388E-2,0,-25.358842977372209,0,-25.701729469050349,0]
[null,null,null,null,null,"132kV/HV","MW",504.23181081844064,null,{"$f":"J244 + J257 + J173","v":207.54475826679661},12.576074228312617,2.9219838680298434E-2,36.314096670645135,13.271753531230946,2.1543718802523447E-2,0.79434878433723699,3.3405257413718152E-12,7.6960963404544688E-3,0.34329643374708463,6.8984731570290823,65.167605210970365,3.3341174331391645,174.26703391574384,8.1617626307658106E-2,0.26054008124824002,2.1820418987545442E-2,0,5.7209913311145595,-5.4865191442338326E-2,0,-1.1225894861054058,0,-9.0307760958912006E-2,0,-2.8363846427504783E-2,0,-1.478731588422197E-2,0,-10.868075561730944,0,-10.244186762446715,0]
[null,null,null,null,null,"HV","MW",1645.0011938029147,null,{"$f":"J245 + J258 + J174","v":721.95822182347968},40.094395814684965,5.2370088388817862E-2,125.7948901470248,44.578013832515936,3.9165145043875943E-2,2.7173210418115317,1.1419835424783156E-11,1.6891178409226531E-2,1.1771593435241956,23.69545375731067,271.30149235530649,16.708817704436637,382.47644396610247,0.26967886170178168,0.7699282157071673,7.0057348943403638E-2,0,17.618558016021073,-0.1813028420380825,0,-3.709613671664358,0,-0.3024022344398461,0,-9.3728752844011998E-2,0,-5.0617336522885137E-2,0,0,0,0,0]
[null,null,null,null,null,"HV/LV","MW",1428.2557910377195,null,{"$f":"J246 + J259 + J175","v":709.68697725990774},39.412904667693148,5.1479945243398856E-2,123.65673337398755,43.820313880688467,3.849944852754944E-2,2.6711342818940551,1.00210582235716E-11,0,1.1571509694133026,23.292698169367711,453.7552323969706,16.424815137222417,0,0.26509508501563239,0.75684161713990661,6.8866572474110654E-2,0,17.319092440677935,-0.17822120732921989,0,-3.6465607480666633,0,-0.29726225311792237,0,0,0,0,0,0,0,0,0]
[null,null,null,null,null,"LV circuits","MW",1163.6473915420968,null,{"$f":"J247 + J260 + J176","v":468.52145669207084},64.46293078842848,0,134.93048341127891,33.150359206369956,0,2.2435403391401079,0,0,0.86979854344242524,20.513111846122541,420.85350127930042,0,0,0.26066452649169425,0.74419245362224795,6.7715599117997377E-2,0,17.029636856711175,0,0,0,0,0,0,0,0,0,0,0,0,0,0]
[]
[null,"Checks"]
[]
[null,null,null,null,"Check for error values",null,"number of issues",{"$f":"SUM(IF(ISERROR(H23:AP277), 1))","v":0}]
[]
[null,"End of sheet"]

{"sheet":"Service model assets","index":23,"n_rows":40,"n_cols":44,"rows_kept":40,"cut":false,"hidden":false,"merged":[]}
[{"$f":"MID(CELL(\"filename\",A1),FIND(\"]\",CELL(\"filename\",A1))+1,255)","v":"Service model assets"}]
[{"$f":"Cover!D21&\" - \"&Cover!D23","v":"[enter DNO name] - [enter data version name]"}]
[{"$f":"Cover!D2&\" - \"&Cover!D8&\" v\"&Cover!D10&\" - \"&Cover!D19","v":"ARP model - Release for charge setting v3 - 2020/21"}]
[{"$f":"H38 & IF(H38 = 1, \" issue\", \" issues\") &\" identified in checks on this sheet\"","v":"0 issues identified in checks on this sheet"}]
[null,"Click here to return to model map",null,null,null,null,"Units","Constants",null,"Domestic Unrestricted","Domestic Two Rate","Domestic Off Peak (related MPAN)","Small Non Domestic Unrestricted","Small Non Domestic Two Rate","Small Non Domestic Off Peak (related MPAN)","LV Medium Non-Domestic","LV Sub Medium Non-Domestic","HV Medium Non-Domestic","LV Network Domestic","LV Network Non-Domestic Non-CT","LV HH Metered","LV Sub HH Metered","HV HH Metered","NHH UMS category A","NHH UMS category B","NHH UMS category C","NHH UMS category D","LV UMS (Pseudo HH Metered)","LV Generation NHH or Aggregate HH","LV Sub Generation NHH","LV Generation Intermittent","LV Generation Intermittent no RP charge","LV Generation Non-Intermittent","LV Generation Non-Intermittent no RP charge","LV Sub Generation Intermittent","LV Sub Generation Intermittent no RP charge","LV Sub Generation Non-Intermittent","LV Sub Generation Non-Intermittent no RP charge","HV Generation Intermittent","HV Generation Intermittent no RP charge","HV Generation Non-Intermittent","HV Generation Non-Intermittent no RP charge",null,"Legal text reference"]
[]
[null,"Description"]
[]
[null,null,"This sheet calculates the notional asset value of the typical service models used by HV and LV customers"]
[null,null,"Service model and network model notional asset values are combined on the 'Unit costs' sheet"]
[]
[null,"Service model notional asset values"]
[]
[null,null,{"$f":"INDEX('Version control'!$H$34:$H$59,MATCH($A$1,'Version control'!$F$34:$F$59,0),1)&\"-A: Service model notional asset values\"","v":"Section 510-A: Service model notional asset values"}]
[]
[null,null,null,null,"Discounted MPANs",null,"MPANs",null,null,{"$f":"'Volume adjustments'!J103","v":1006668.6924471315},{"$f":"'Volume adjustments'!K103","v":49351.847354592785},{"$f":"'Volume adjustments'!L103","v":0},{"$f":"'Volume adjustments'!M103","v":64891.819902947362},{"$f":"'Volume adjustments'!N103","v":13311.470174753056},{"$f":"'Volume adjustments'!O103","v":0},{"$f":"'Volume adjustments'!P103","v":237.70400615767747},{"$f":"'Volume adjustments'!Q103","v":1.0000000000000001E-9},{"$f":"'Volume adjustments'!R103","v":3.2303097041095885},{"$f":"'Volume adjustments'!S103","v":1568.1873811668759},{"$f":"'Volume adjustments'!T103","v":2244.6252671811812},{"$f":"'Volume adjustments'!U103","v":6075.9800097459211},{"$f":"'Volume adjustments'!V103","v":99.294780066587435},{"$f":"'Volume adjustments'!W103","v":822.40782166981739},{"$f":"'Volume adjustments'!X103","v":587},{"$f":"'Volume adjustments'!Y103","v":772},{"$f":"'Volume adjustments'!Z103","v":87},{"$f":"'Volume adjustments'!AA103","v":0},{"$f":"'Volume adjustments'!AB103","v":35.345205479452055},{"$f":"'Volume adjustments'!AC103","v":0},{"$f":"'Volume adjustments'!AD103","v":0},{"$f":"'Volume adjustments'!AE103","v":386.31110958904111},{"$f":"'Volume adjustments'!AF103","v":0},{"$f":"'Volume adjustments'!AG103","v":18.312676027397263},{"$f":"'Volume adjustments'!AH103","v":0},{"$f":"'Volume adjustments'!AI103","v":6.5165732876712346},{"$f":"'Volume adjustments'!AJ103","v":0},{"$f":"'Volume adjustments'!AK103","v":2.7530136986301375},{"$f":"'Volume adjustments'!AL103","v":0},{"$f":"'Volume adjustments'!AM103","v":158.62326986301375},{"$f":"'Volume adjustments'!AN103","v":0},{"$f":"'Volume adjustments'!AO103","v":46.144759931506854},{"$f":"'Volume adjustments'!AP103","v":0}]
[null,null,null,null,"Discounted annual load",null,"MWh",null,null,{"$f":"'Volume adjustments'!J92","v":3099712.9430819456},{"$f":"'Volume adjustments'!K92","v":266552.53180246288},{"$f":"'Volume adjustments'!L92","v":2140.1103146035571},{"$f":"'Volume adjustments'!M92","v":809156.58698910882},{"$f":"'Volume adjustments'!N92","v":283980.98275790119},{"$f":"'Volume adjustments'!O92","v":1578.3141159411171},{"$f":"'Volume adjustments'!P92","v":18165.895980888021},{"$f":"'Volume adjustments'!Q92","v":7.6535965933966675E-8},{"$f":"'Volume adjustments'!R92","v":88.292149856008763},{"$f":"'Volume adjustments'!S92","v":5629.3083989551378},{"$f":"'Volume adjustments'!T92","v":146180.31122047661},{"$f":"'Volume adjustments'!U92","v":1510550.4357904387},{"$f":"'Volume adjustments'!V92","v":83279.261735731299},{"$f":"'Volume adjustments'!W92","v":1890785.8014673325},{"$f":"'Volume adjustments'!X92","v":2161.3060866775845},{"$f":"'Volume adjustments'!Y92","v":5248.756775387471},{"$f":"'Volume adjustments'!Z92","v":288.93022950400001},{"$f":"'Volume adjustments'!AA92","v":0},{"$f":"'Volume adjustments'!AB92","v":109799.81625385418},{"$f":"'Volume adjustments'!AC92","v":1535.125},{"$f":"'Volume adjustments'!AD92","v":0},{"$f":"'Volume adjustments'!AE92","v":31409.991281425009},{"$f":"'Volume adjustments'!AF92","v":0},{"$f":"'Volume adjustments'!AG92","v":2515.349619165112},{"$f":"'Volume adjustments'!AH92","v":0},{"$f":"'Volume adjustments'!AI92","v":807.10811500000023},{"$f":"'Volume adjustments'!AJ92","v":0},{"$f":"'Volume adjustments'!AK92","v":334.0092952913642},{"$f":"'Volume adjustments'!AL92","v":0},{"$f":"'Volume adjustments'!AM92","v":314604.16542500001},{"$f":"'Volume adjustments'!AN92","v":0},{"$f":"'Volume adjustments'!AO92","v":158874.84476846375},{"$f":"'Volume adjustments'!AP92","v":0}]
[]
[null,null,null,null,"Service model costs per MPAN / unit"]
[null,null,null,null,"Presents service model costs per customer for metered customers and per MWh for unmetered customers"]
[null,null,null,null,null,"LV customers","£ per MPAN",null,null,{"$f":"'Inputs by customer type'!J74","v":265.56703336591607},{"$f":"'Inputs by customer type'!K74","v":265.56703336591607},{"$f":"'Inputs by customer type'!L74","v":0},{"$f":"'Inputs by customer type'!M74","v":778.6787331173183},{"$f":"'Inputs by customer type'!N74","v":778.6787331173183},{"$f":"'Inputs by customer type'!O74","v":0},{"$f":"'Inputs by customer type'!P74","v":901.60686399247072},{"$f":"'Inputs by customer type'!Q74","v":649.9994487203694},{"$f":"'Inputs by customer type'!R74","v":0},{"$f":"'Inputs by customer type'!S74","v":265.56703336591607},{"$f":"'Inputs by customer type'!T74","v":778.6787331173183},{"$f":"'Inputs by customer type'!U74","v":1553.57127334398},{"$f":"'Inputs by customer type'!V74","v":1212.7293314605568},{"$f":"'Inputs by customer type'!W74","v":0},null,null,null,null,null,{"$f":"'Inputs by customer type'!AC74","v":0},{"$f":"'Inputs by customer type'!AD74","v":0},{"$f":"'Inputs by customer type'!AE74","v":0},{"$f":"'Inputs by customer type'!AF74","v":0},{"$f":"'Inputs by customer type'!AG74","v":0},{"$f":"'Inputs by customer type'!AH74","v":0},{"$f":"'Inputs by customer type'!AI74","v":0},{"$f":"'Inputs by customer type'!AJ74","v":0},{"$f":"'Inputs by customer type'!AK74","v":0},{"$f":"'Inputs by customer type'!AL74","v":0},{"$f":"'Inputs by customer type'!AM74","v":0},{"$f":"'Inputs by customer type'!AN74","v":0},{"$f":"'Inputs by customer type'!AO74","v":0},{"$f":"'Inputs by customer type'!AP74","v":0}]
[null,null,null,null,null,"HV customers","£ per MPAN",null,null,{"$f":"'Inputs by customer type'!J75","v":0},{"$f":"'Inputs by customer type'!K75","v":0},{"$f":"'Inputs by customer type'!L75","v":0},{"$f":"'Inputs by customer type'!M75","v":0},{"$f":"'Inputs by customer type'!N75","v":0},{"$f":"'Inputs by customer type'!O75","v":0},{"$f":"'Inputs by customer type'!P75","v":0},{"$f":"'Inputs by customer type'!Q75","v":0},{"$f":"'Inputs by customer type'!R75","v":11195.717873935706},{"$f":"'Inputs by customer type'!S75","v":0},{"$f":"'Inputs by customer type'!T75","v":0},{"$f":"'Inputs by customer type'!U75","v":0},{"$f":"'Inputs by customer type'!V75","v":0},{"$f":"'Inputs by customer type'!W75","v":11195.717873935706},null,null,null,null,null,{"$f":"'Inputs by customer type'!AC75","v":0},{"$f":"'Inputs by customer type'!AD75","v":0},{"$f":"'Inputs by customer type'!AE75","v":0},{"$f":"'Inputs by customer type'!AF75","v":0},{"$f":"'Inputs by customer type'!AG75","v":0},{"$f":"'Inputs by customer type'!AH75","v":0},{"$f":"'Inputs by customer type'!AI75","v":0},{"$f":"'Inputs by customer type'!AJ75","v":0},{"$f":"'Inputs by customer type'!AK75","v":0},{"$f":"'Inputs by customer type'!AL75","v":0},{"$f":"'Inputs by customer type'!AM75","v":7006.7581165865458},{"$f":"'Inputs by customer type'!AN75","v":7006.7581165865458},{"$f":"'Inputs by customer type'!AO75","v":7006.7581165865458},{"$f":"'Inputs by customer type'!AP75","v":7006.7581165865458}]
[null,null,null,null,null,"LV UMS customers","£/MWh/year",null,null,null,null,null,null,null,null,null,null,null,null,null,null,null,null,{"$f":"'Inputs by customer type'!X77","v":300.20667715087131},{"$f":"'Inputs by customer type'!Y77","v":300.20667715087131},{"$f":"'Inputs by customer type'!Z77","v":300.20667715087131},{"$f":"'Inputs by customer type'!AA77","v":300.20667715087131},{"$f":"'Inputs by customer type'!AB77","v":300.20667715087131}]
[]
[null,null,null,null,"Service model notional asset value"]
[null,null,null,null,"Converts cost per customer / MWh to £s of notional asset value"]
[null,null,null,null,null,"LV customers","£",null,null,{"$f":"J21 * J$16","v":267338018.23553047},13106223.69308674,0,50529880.11170423,10365358.731605677,0,214315.56355027054,6.4999944872036947E-7,0,416458.87057835225,1747841.9593717642,9439468.000553539,120417.6922476756,0,0,0,0,0,0,0,0,0,0,0,0,0,0,0,0,0,0,0,0]
[null,null,null,null,null,"HV customers","£",null,null,{"$f":"J22 * J$16","v":0},0,0,0,0,0,0,0,36165.636092647685,0,0,0,0,9207445.9487333037,0,0,0,0,0,0,0,0,0,0,0,0,0,0,0,1111434.8835921695,0,323325.17118802329,0]
[null,null,null,null,null,"LV UMS customers","£",null,null,null,null,null,null,null,null,null,null,null,null,null,null,null,null,{"$f":"X23 * X$17","v":648838.51858743071},{"$f":"Y23 * Y$17","v":1575711.8307121948},{"$f":"Z23 * Z$17","v":86738.784127834486},{"$f":"AA23 * AA$17","v":0},{"$f":"AB23 * AB$17","v":32962637.989345793}]
[]
[null,null,null,null,"Total service model notional asset value"]
[null,null,null,null,"Sums across customer categories to give total service model notional asset value",null,null,"Sum"]
[null,null,null,null,null,"Total LV customers",null,{"$f":"SUM(J33:AP33)","v":388551909.98100257},null,{"$f":"J27 +J29","v":267338018.23553047},13106223.69308674,0,50529880.11170423,10365358.731605677,0,214315.56355027054,6.4999944872036947E-7,0,416458.87057835225,1747841.9593717642,9439468.000553539,120417.6922476756,0,648838.51858743071,1575711.8307121948,86738.784127834486,0,32962637.989345793,0,0,0,0,0,0,0,0,0,0,0,0,0,0]
[null,null,null,null,null,"Total HV customers",null,{"$f":"SUM(J34:AP34)","v":10678371.639606144},null,{"$f":"J28","v":0},{"$f":"K28","v":0},0,0,0,0,0,0,36165.636092647685,0,0,0,0,9207445.9487333037,0,0,0,0,0,0,0,0,0,0,0,0,0,0,0,1111434.8835921695,0,323325.17118802329,0]
[]
[null,"Checks"]
[]
[null,null,null,null,"Check for error values",null,"number of issues",{"$f":"SUM(IF(ISERROR(H16:AP35), 1))","v":0}]
[]
[null,"End of sheet"]

{"sheet":"Unit costs","index":24,"n_rows":133,"n_cols":23,"rows_kept":133,"cut":false,"hidden":false,"merged":[]}
[{"$f":"MID(CELL(\"filename\",A1),FIND(\"]\",CELL(\"filename\",A1))+1,255)","v":"Unit costs"}]
[{"$f":"Cover!D21&\" - \"&Cover!D23","v":"[enter DNO name] - [enter data version name]"}]
[{"$f":"Cover!D2&\" - \"&Cover!D8&\" v\"&Cover!D10&\" - \"&Cover!D19","v":"ARP model - Release for charge setting v3 - 2020/21"}]
[{"$f":"H131 & IF(H131 = 1, \" issue\", \" issues\") &\" identified in checks on this sheet\"","v":"0 issues identified in checks on this sheet"}]
[null,"Click here to return to model map",null,null,null,null,"Units","Constants",null,"Transmission exit","GSPs","132kV","132kV/EHV","EHV","EHV/HV","132kV/HV","HV","HV/LV","LV circuits","LV customers","HV customers",null,"Legal text reference"]
[]
[null,"Description"]
[]
[null,null,"This sheet calculates unit costs used in the calculation of unit rates."]
[null,null,"Two types of unit costs are calculated:"]
[null,null,null,"1. Cost per kW for incremental assets in the 500MW model."]
[null,null,null,"2. Cost per kW for other operating costs, based on notional asset values and estimated system peak load."]
[null,null,"This sheet covers areas in Schedule 16 from Paragraph 57 to 66."]
[]
[null,"500MW model costs"]
[]
[null,null,"This section calculates the incremental asset cost, per kW, based on the 500MW distribution reinforcement model"]
[]
[null,null,{"$f":"INDEX('Version control'!$H$34:$H$59,MATCH($A$1,'Version control'!$F$34:$F$59,0),1)&\"-A: Financial data\"","v":"Section 511-A: Financial data"}]
[]
[null,null,null,"Calculates the annuity rate to be applied to asset costs",null,null,null,null,">",null,null,null,null,null,null,null,null,null,null,null,null,null,"Paragraph 57"]
[]
[null,null,null,null,"Real pre-tax cost of capital",null,"%",{"$f":"'General inputs'!H92","v":3.73E-2}]
[null,null,null,null,"Annualisation period",null,"years",{"$f":"'Fixed inputs'!H35","v":40}]
[null,null,null,null,"Annuity rate",null,"%",{"$f":"H23 / (1 - (1 + H23) ^ -H24)","v":4.8511696964659567E-2}]
[]
[null,null,{"$f":"INDEX('Version control'!$H$34:$H$59,MATCH($A$1,'Version control'!$F$34:$F$59,0),1)&\"-B: Diversity and loss adjustment factors\"","v":"Section 511-B: Diversity and loss adjustment factors"}]
[]
[null,null,null,"Brings in loss adjustment factors, and calculates the coincidence factor to for GSPs"]
[]
[null,null,null,null,"Loss adjustment factor to transmission for each DRM level",null,"no.",null,null,null,{"$f":"'Load & loss characteristics'!K29","v":1},{"$f":"'Load & loss characteristics'!L29","v":1.0089999999999999},{"$f":"'Load & loss characteristics'!M29","v":1.0129999999999999},{"$f":"'Load & loss characteristics'!N29","v":1.024},{"$f":"'Load & loss characteristics'!O29","v":1.032},{"$f":"'Load & loss characteristics'!P29","v":1.032},{"$f":"'Load & loss characteristics'!Q29","v":1.0409999999999999},{"$f":"'Load & loss characteristics'!R29","v":1.0589999999999999},{"$f":"'Load & loss characteristics'!S29","v":1.077}]
[null,null,null,null,"Diversity allowance between top and bottom network level",null,"%",null,null,null,{"$f":"'Load & loss characteristics'!$K$23","v":6.3829787234042534E-2}]
[null,null,null,null,"Coincidence to system peak",null,"%",null,null,null,{"$f":" 1 / (1 + K32)","v":0.94000000000000006}]
[]
[null,null,{"$f":"INDEX('Version control'!$H$34:$H$59,MATCH($A$1,'Version control'!$F$34:$F$59,0),1)&\"-C: Maximum demand\"","v":"Section 511-C: Maximum demand"}]
[]
[null,null,null,"Calculates additional simultaneous load at each network level from an increment of 500MW at GSP"]
[]
[null,null,null,null,"Network model GSP peak demand",null,"MW",{"$f":"'Fixed inputs'!H41","v":500}]
[null,null,null,null,"Exit load at system peak, assuming single stage transformation at each network level",null,"MW",null,">",null,{"$f":"$H$39 * $K$33 / K31","v":470.00000000000006},465.8077304261646,463.96841066140189,458.98437500000006,455.4263565891473,455.4263565891473,451.48895292987521,443.81491973559969,436.39740018570109,null,null,null,"Paragraph 60"]
[]
[null,null,{"$f":"INDEX('Version control'!$H$34:$H$59,MATCH($A$1,'Version control'!$F$34:$F$59,0),1)&\"-D: Rerouting matrix\"","v":"Section 511-D: Rerouting matrix"}]
[]
[null,null,null,"Adjusts load going through 132/EHV transformation for networks also containing 132/HV transformation"]
[]
[null,null,null,null,"Proportion of load going through 132kV/HV direct transformation",null,"%",null,null,null,null,null,null,null,null,{"$f":"'Inputs by network level'!P20","v":0.3}]
[null,null,null,null,"Rerouting for DRM network levels",null,"%",null,null,null,null,null,{"$f":"IF(M46 = \"\", 1 - $P$46, M46)","v":0.7},{"$f":"IF(N46 = \"\", 1 - $P$46, N46)","v":0.7},{"$f":"IF(O46 = \"\", 1 - $P$46, O46)","v":0.7},{"$f":"IF(P46 = \"\", 1 - $P$46, P46)","v":0.3}]
[null,null,null,null,"GSP simultaneous maximum load assumed through each network level",null,"MW",null,null,null,{"$f":"IF(K47 = \"\", K40, K47 * K40)","v":470.00000000000006},465.8077304261646,324.77788746298131,321.2890625,318.79844961240309,136.62790697674419,451.48895292987521,443.81491973559969,436.39740018570109]
[]
[null,null,{"$f":"INDEX('Version control'!$H$34:$H$59,MATCH($A$1,'Version control'!$F$34:$F$59,0),1)&\"-E: Annuitised cost of assets\"","v":"Section 511-E: Annuitised cost of assets"}]
[]
[null,null,null,"Calculates the annuitised asset cost per kW of simultaneous load from the 500MW model"]
[]
[null,null,null,null,"Gross assets",null,"£",null,null,null,null,{"$f":"'Inputs by network level'!L36","v":160788860.70266357},{"$f":"'Inputs by network level'!M36","v":14960417.961098382},{"$f":"'Inputs by network level'!N36","v":42598544.270825304},{"$f":"'Inputs by network level'!O36","v":32727994.194904406},{"$f":"'Inputs by network level'!P36","v":13433092.064356627},{"$f":"'Inputs by network level'!Q36","v":190818960.97253868},{"$f":"'Inputs by network level'!R36","v":70868380.617299959},{"$f":"'Inputs by network level'!S36","v":161580476.83135369}]
[null,null,null,null,"Network level assets per kW (simultaneous peak)",null,"£/kW",null,null,null,null,{"$f":"IF(L48 = 0, 0, L54 / (L48 * thousand))","v":345.1828945723139},46.063536153777072,132.58635055721919,102.66045595483692,98.318801492312332,422.64369866470793,159.68003207174607,370.25994371780405]
[null,null,null,null,"Network level assets per kW (simultaneous peak) per year",null,"£/kW/year",null,">",null,null,{"$f":"L55 * $H$25","v":16.745407978876123},2.2346203070126736,6.4319888598819395,4.9802329295348295,4.7696119039235745,20.503163033645205,7.7463493271716661,17.961938187790018,null,null,null,"Paragraph 59"]
[]
[null,"Allocation of other costs"]
[]
[null,null,"This section allocates operating costs based on notional asset value (£) by network level, then divides this by load on each network level at time of system peak"]
[]
[null,null,{"$f":"INDEX('Version control'!$H$34:$H$59,MATCH($A$1,'Version control'!$F$34:$F$59,0),1)&\"-F: System simultaneous peak load based on charegable units\"","v":"Section 511-F: System simultaneous peak load based on charegable units"}]
[]
[null,null,null,null,"Estimated load at system peak",null,"MW",null,null,null,{"$f":"TRANSPOSE('System peak demand'!H269:H277)","v":1439.7779378218788},1383.668250193738,949.81566558651241,1017.2221603092152,1173.0130505267421,504.23181081844064,1645.0011938029147,1428.2557910377195,1163.6473915420968]
[null,null,null,null,"Adjustment for transmission exit level",null,"MW",null,null,{"$f":"K64","v":1439.7779378218788}]
[]
[null,null,null,null,"Estimated load at system peak",null,"kW",null,null,{"$f":"SUM(J64:J65) * thousand","v":1439777.9378218788},1439777.9378218788,1383668.2501937379,949815.66558651242,1017222.1603092152,1173013.0505267421,504231.81081844063,1645001.1938029148,1428255.7910377195,1163647.3915420969]
[]
[null,null,{"$f":"INDEX('Version control'!$H$34:$H$59,MATCH($A$1,'Version control'!$F$34:$F$59,0),1)&\"-G: Notional asset values, by network level\"","v":"Section 511-G: Notional asset values, by network level"}]
[]
[null,null,null,"Calculates the notional asset value, and its relative shares, by network level"]
[]
[null,null,null,null,"Notional asset value (network model)",null,"£",null,null,null,null,{"$f":"L67 * L55","v":477618611.7296831},43751868.251168147,134869773.94132942,120422054.6080495,49575467.313967451,695249388.8567239,228063930.5195601,430852017.69974625]
[null,null,null,null,"Notional asset value (service model)",null,"£",null,null,null,null,null,null,null,null,null,null,null,null,{"$f":"'Service model assets'!H33","v":388551909.98100257},{"$f":"'Service model assets'!H34","v":10678371.639606144}]
[]
[null,null,null,null,"Total notional asset value",null,"£",null,">",null,{"$f":"K73 + K74","v":0},477618611.7296831,43751868.251168147,134869773.94132942,120422054.6080495,49575467.313967451,695249388.8567239,228063930.5195601,430852017.69974625,388551909.98100257,10678371.639606144,null,"Paragraph 63"]
[]
[null,null,null,null,"Share of total notional asset value",null,"%",null,null,null,{"$f":"K76 / SUM($K$76:$U$76)","v":0},0.18514980180534416,1.6960498473836738E-2,5.228253527293774E-2,4.6681848228082842E-2,1.9218028196906507E-2,0.26951480405240885,8.8409434845355017E-2,0.16702063890610935,0.15062291828105406,4.1394919379646369E-3]
[]
[null,null,{"$f":"INDEX('Version control'!$H$34:$H$59,MATCH($A$1,'Version control'!$F$34:$F$59,0),1)&\"-H: Other operating costs\"","v":"Section 511-H: Other operating costs"}]
[]
[null,null,null,"Calculates other operating costs to be allocated to charges"]
[]
[null,null,null,null,"Indirect cost proportion",null,"%",{"$f":"'Fixed inputs'!H39","v":0.6}]
[]
[null,null,null,null,"Direct cost",null,"£ per year",{"$f":"'General inputs'!H103","v":29095555.429631043}]
[null,null,null,null,"Indirect cost",null,"£ per year",{"$f":"'General inputs'!H104","v":75889189.719244808}]
[null,null,null,null,"Network rates",null,"£ per year",{"$f":"'General inputs'!H105","v":16406764.884910895}]
[]
[null,null,null,null,"Other operating costs for allocation",null,"£ per year",{"$f":"H86 + H87 * H84 + H88","v":91035834.146088824}]
[]
[null,null,{"$f":"INDEX('Version control'!$H$34:$H$59,MATCH($A$1,'Version control'!$F$34:$F$59,0),1)&\"-I: Other operating costs by network level\"","v":"Section 511-I: Other operating costs by network level"}]
[]
[null,null,null,"Calculates operating costs per kW for unit rates, based on share of notional asset values by network level."]
[null,null,null,"Costs allocated to service model users are ignored here as they form part of fixed/capacity charges"]
[]
[null,null,null,null,"Other operating costs (allocated)",null,"£ per year",null,">",null,{"$f":"K78 * $H$90","v":0},16855266.649332527,1544013.1260991939,4759584.209844199,4249720.99292464,1749529.2275484393,24535505.00163072,8048426.6475311853,15204863.18243036,13712083.007233929,376842.10151362047,null,"Paragraph 65"]
[null,null,null,null,"Transmission exit charges",null,"£ per year",null,null,{"$f":"'General inputs'!$H$98","v":13342798.915754424}]
[]
[null,null,null,null,"Other operating costs (excl. service models)",null,"£/kW/ year",null,">",{"$f":"IF(J$67 = 0, 0, SUM(J97:J98) / J$67)","v":9.2672616833812889},0,12.181580842786913,1.625592398653231,4.6790016926070317,3.6229102404413154,3.4696922923381255,14.915189784701326,5.6351437172773418,13.066555464263505,null,null,null,"Paragraph 66"]
[]
[null,"Outputs"]
[]
[null,null,{"$f":"INDEX('Version control'!$H$34:$H$59,MATCH($A$1,'Version control'!$F$34:$F$59,0),1)&\"-J: Notional asset values by network level\"","v":"Section 511-J: Notional asset values by network level"}]
[]
[null,null,null,"Exported to 'Output to other models'!"]
[]
[null,null,null,null,"Total notional asset value",null,"£",null,null,null,{"$f":"K76","v":0},477618611.7296831,43751868.251168147,134869773.94132942,120422054.6080495,49575467.313967451,695249388.8567239,228063930.5195601,430852017.69974625,388551909.98100257,10678371.639606144]
[]
[null,null,{"$f":"INDEX('Version control'!$H$34:$H$59,MATCH($A$1,'Version control'!$F$34:$F$59,0),1)&\"-K: Unit costs\"","v":"Section 511-K: Unit costs"}]
[]
[null,null,null,"Exported to 'Initial unit rates'!"]
[]
[null,null,null,null,"Network level assets per kW (simultaneous peak) per year",null,"£/kW/ year",null,null,null,null,{"$f":"L56","v":16.745407978876123},2.2346203070126736,6.4319888598819395,4.9802329295348295,4.7696119039235745,20.503163033645205,7.7463493271716661,17.961938187790018]
[null,null,null,null,"Other operating costs (excl. service models)",null,"£/kW/ year",null,null,{"$f":"J100","v":9.2672616833812889},0,12.181580842786913,1.625592398653231,4.6790016926070317,3.6229102404413154,3.4696922923381255,14.915189784701326,5.6351437172773418,13.066555464263505]
[]
[null,null,{"$f":"INDEX('Version control'!$H$34:$H$59,MATCH($A$1,'Version control'!$F$34:$F$59,0),1)&\"-L: Values used for allocating costs to service models\"","v":"Section 511-L: Values used for allocating costs to service models"}]
[]
[null,null,null,"Exported to 'Service model charges'!"]
[]
[null,null,null,null,"Annuity rate",null,"%",{"$f":"H25","v":4.8511696964659567E-2}]
[null,null,null,null,"Other operating costs for allocation",null,"£ per year",{"$f":"H90","v":91035834.146088824}]
[null,null,null,null,"Total notional asset value",null,"£",{"$f":"SUM(K76:U76)","v":2579633394.5408368}]
[]
[null,"Checks"]
[]
[null,null,null,null,"Check for error values",null,"number of issues",{"$f":"SUM(IF(ISERROR(H23:U123), 1))","v":0}]
[]
[null,null,null,null,"Check for DRM assets with zero load (and vice versa)",null,"number of issues",{"$f":"SUM(J129:U129)","v":0},null,null,null,null,null,{"$f":"IFERROR(IF(OR(AND(N54>0, N48=0), AND(N48>0, N54=0)), 1, 0),1)","v":0},0,0,0,0,0,0,0]
[]
[null,null,null,null,"Summary of checks",null,"number of issues",{"$f":"H127 + H129","v":0}]
[]
[null,"End of sheet"]

{"sheet":"Initial unit rates","index":25,"n_rows":296,"n_cols":44,"rows_kept":296,"cut":false,"hidden":false,"merged":[]}
[{"$f":"MID(CELL(\"filename\",A1),FIND(\"]\",CELL(\"filename\",A1))+1,255)","v":"Initial unit rates"}]
[{"$f":"Cover!D21&\" - \"&Cover!D23","v":"[enter DNO name] - [enter data version name]"}]
[{"$f":"Cover!D2&\" - \"&Cover!D8&\" v\"&Cover!D10&\" - \"&Cover!D19","v":"ARP model - Release for charge setting v3 - 2020/21"}]
[{"$f":"H294 & IF(H294 = 1, \" issue\", \" issues\") &\" identified in checks on this sheet\"","v":"0 issues identified in checks on this sheet"}]
[null,"Click here to return to model map",null,null,null,null,"Units","Constants",null,"Domestic Unrestricted","Domestic Two Rate","Domestic Off Peak (related MPAN)","Small Non Domestic Unrestricted","Small Non Domestic Two Rate","Small Non Domestic Off Peak (related MPAN)","LV Medium Non-Domestic","LV Sub Medium Non-Domestic","HV Medium Non-Domestic","LV Network Domestic","LV Network Non-Domestic Non-CT","LV HH Metered","LV Sub HH Metered","HV HH Metered","NHH UMS category A","NHH UMS category B","NHH UMS category C","NHH UMS category D","LV UMS (Pseudo HH Metered)","LV Generation NHH or Aggregate HH","LV Sub Generation NHH","LV Generation Intermittent","LV Generation Intermittent no RP charge","LV Generation Non-Intermittent","LV Generation Non-Intermittent no RP charge","LV Sub Generation Intermittent","LV Sub Generation Intermittent no RP charge","LV Sub Generation Non-Intermittent","LV Sub Generation Non-Intermittent no RP charge","HV Generation Intermittent","HV Generation Intermittent no RP charge","HV Generation Non-Intermittent","HV Generation Non-Intermittent no RP charge",null,"Legal text reference"]
[]
[null,"Description"]
[]
[null,null,"This sheet calculates yardstick charges and unit rates 1, 2 and 3 (before application of standing charge factors)."]
[]
[null,"Inputs for yardstick and unit rate calculations"]
[]
[null,null,{"$f":"INDEX('Version control'!$H$34:$H$59,MATCH($A$1,'Version control'!$F$34:$F$59,0),1)&\"-A: Inputs for yardstick and unit rate calculations\"","v":"Section 512-A: Inputs for yardstick and unit rate calculations"}]
[]
[null,null,null,"This section brings in inputs for calculating unit rates"]
[]
[null,null,null,null,"Network level assets per kW per year",null,null,null,">",null,null,null,null,null,null,null,null,null,null,null,null,null,null,null,null,null,null,null,null,null,null,null,null,null,null,null,null,null,null,null,null,null,null,"Paragraph 67"]
[null,null,null,null,null,"Transmission exit","£/kW/year"]
[null,null,null,null,null,"GSPs","£/kW/year"]
[null,null,null,null,null,"132kV","£/kW/year",{"$f":"TRANSPOSE('Unit costs'!L114:S114)","v":16.745407978876123}]
[null,null,null,null,null,"132kV/EHV","£/kW/year",2.2346203070126736]
[null,null,null,null,null,"EHV","£/kW/year",6.4319888598819395]
[null,null,null,null,null,"EHV/HV","£/kW/year",4.9802329295348295]
[null,null,null,null,null,"132kV/HV","£/kW/year",4.7696119039235745]
[null,null,null,null,null,"HV","£/kW/year",20.503163033645205]
[null,null,null,null,null,"HV/LV","£/kW/year",7.7463493271716661]
[null,null,null,null,null,"LV circuits","£/kW/year",17.961938187790018]
[]
[null,null,null,null,"Other operating costs (excl. service models) per kW per year"]
[null,null,null,null,null,"Transmission exit","£/kW/ year",{"$f":"TRANSPOSE('Unit costs'!J115:S115)","v":9.2672616833812889}]
[null,null,null,null,null,"GSPs","£/kW/ year",0]
[null,null,null,null,null,"132kV","£/kW/ year",12.181580842786913]
[null,null,null,null,null,"132kV/EHV","£/kW/ year",1.625592398653231]
[null,null,null,null,null,"EHV","£/kW/ year",4.6790016926070317]
[null,null,null,null,null,"EHV/HV","£/kW/ year",3.6229102404413154]
[null,null,null,null,null,"132kV/HV","£/kW/ year",3.4696922923381255]
[null,null,null,null,null,"HV","£/kW/ year",14.915189784701326]
[null,null,null,null,null,"HV/LV","£/kW/ year",5.6351437172773418]
[null,null,null,null,null,"LV circuits","£/kW/ year",13.066555464263505]
[]
[null,null,null,null,"Loss adjustment factors,  by network level"]
[null,null,null,null,"Loss adjustment factor to transmission for each core level"]
[null,null,null,null,null,"Transmission exit","scalar",{"$f":"TRANSPOSE('Load & loss characteristics'!J29:S29)","v":1}]
[null,null,null,null,null,"GSPs","scalar",1]
[null,null,null,null,null,"132kV","scalar",1.0089999999999999]
[null,null,null,null,null,"132kV/EHV","scalar",1.0129999999999999]
[null,null,null,null,null,"EHV","scalar",1.024]
[null,null,null,null,null,"EHV/HV","scalar",1.032]
[null,null,null,null,null,"132kV/HV","scalar",1.032]
[null,null,null,null,null,"HV","scalar",1.0409999999999999]
[null,null,null,null,null,"HV/LV","scalar",1.0589999999999999]
[null,null,null,null,null,"LV circuits","scalar",1.077]
[]
[null,null,null,null,"User loss factor (assuming generation does not contribute at level of connection)"]
[null,null,null,null,null,"Transmission exit","scalar",null,null,{"$f":"TRANSPOSE('Load & loss characteristics'!J230:S262)","v":1.077},1.077,1.077,1.077,1.077,1.077,1.077,1.0589999999999999,1.0409999999999999,1.077,1.077,1.077,1.0589999999999999,1.0409999999999999,1.077,1.077,1.077,1.077,1.077,-1.077,-1.0589999999999999,-1.077,-1.077,-1.077,-1.077,-1.0589999999999999,-1.0589999999999999,-1.0589999999999999,-1.0589999999999999,-1.0409999999999999,-1.0409999999999999,-1.0409999999999999,-1.0409999999999999]
[null,null,null,null,null,"GSPs","scalar",null,null,1.077,1.077,1.077,1.077,1.077,1.077,1.077,1.0589999999999999,1.0409999999999999,1.077,1.077,1.077,1.0589999999999999,1.0409999999999999,1.077,1.077,1.077,1.077,1.077,-1.077,-1.0589999999999999,-1.077,-1.077,-1.077,-1.077,-1.0589999999999999,-1.0589999999999999,-1.0589999999999999,-1.0589999999999999,-1.0409999999999999,-1.0409999999999999,-1.0409999999999999,-1.0409999999999999]
[null,null,null,null,null,"132kV","scalar",null,null,1.077,1.077,1.077,1.077,1.077,1.077,1.077,1.0589999999999999,1.0409999999999999,1.077,1.077,1.077,1.0589999999999999,1.0409999999999999,1.077,1.077,1.077,1.077,1.077,-1.077,-1.0589999999999999,-1.077,-1.077,-1.077,-1.077,-1.0589999999999999,-1.0589999999999999,-1.0589999999999999,-1.0589999999999999,-1.0409999999999999,-1.0409999999999999,-1.0409999999999999,-1.0409999999999999]
[null,null,null,null,null,"132kV/EHV","scalar",null,null,0.7538999999999999,0.7538999999999999,0.7538999999999999,0.7538999999999999,0.7538999999999999,0.7538999999999999,0.7538999999999999,0.74129999999999996,0.7286999999999999,0.7538999999999999,0.7538999999999999,0.7538999999999999,0.74129999999999996,0.7286999999999999,0.7538999999999999,0.7538999999999999,0.7538999999999999,0.7538999999999999,0.7538999999999999,-0.7538999999999999,-0.74129999999999996,-0.7538999999999999,-0.7538999999999999,-0.7538999999999999,-0.7538999999999999,-0.74129999999999996,-0.74129999999999996,-0.74129999999999996,-0.74129999999999996,-0.7286999999999999,-0.7286999999999999,-0.7286999999999999,-0.7286999999999999]
[null,null,null,null,null,"EHV","scalar",null,null,0.7538999999999999,0.7538999999999999,0.7538999999999999,0.7538999999999999,0.7538999999999999,0.7538999999999999,0.7538999999999999,0.74129999999999996,0.7286999999999999,0.7538999999999999,0.7538999999999999,0.7538999999999999,0.74129999999999996,0.7286999999999999,0.7538999999999999,0.7538999999999999,0.7538999999999999,0.7538999999999999,0.7538999999999999,-0.7538999999999999,-0.74129999999999996,-0.7538999999999999,-0.7538999999999999,-0.7538999999999999,-0.7538999999999999,-0.74129999999999996,-0.74129999999999996,-0.74129999999999996,-0.74129999999999996,-0.7286999999999999,-0.7286999999999999,-0.7286999999999999,-0.7286999999999999]
[null,null,null,null,null,"EHV/HV","scalar",null,null,0.7538999999999999,0.7538999999999999,0.7538999999999999,0.7538999999999999,0.7538999999999999,0.7538999999999999,0.7538999999999999,0.74129999999999996,0.7286999999999999,0.7538999999999999,0.7538999999999999,0.7538999999999999,0.74129999999999996,0.7286999999999999,0.7538999999999999,0.7538999999999999,0.7538999999999999,0.7538999999999999,0.7538999999999999,-0.7538999999999999,-0.74129999999999996,-0.7538999999999999,-0.7538999999999999,-0.7538999999999999,-0.7538999999999999,-0.74129999999999996,-0.74129999999999996,-0.74129999999999996,-0.74129999999999996,-0.7286999999999999,-0.7286999999999999,-0.7286999999999999,-0.7286999999999999]
[null,null,null,null,null,"132kV/HV","scalar",null,null,0.3231,0.3231,0.3231,0.3231,0.3231,0.3231,0.3231,0.31769999999999998,0.31229999999999997,0.3231,0.3231,0.3231,0.31769999999999998,0.31229999999999997,0.3231,0.3231,0.3231,0.3231,0.3231,-0.3231,-0.31769999999999998,-0.3231,-0.3231,-0.3231,-0.3231,-0.31769999999999998,-0.31769999999999998,-0.31769999999999998,-0.31769999999999998,-0.31229999999999997,-0.31229999999999997,-0.31229999999999997,-0.31229999999999997]
[null,null,null,null,null,"HV","scalar",null,null,1.077,1.077,1.077,1.077,1.077,1.077,1.077,1.0589999999999999,1.0409999999999999,1.077,1.077,1.077,1.0589999999999999,1.0409999999999999,1.077,1.077,1.077,1.077,1.077,-1.077,-1.0589999999999999,-1.077,-1.077,-1.077,-1.077,-1.0589999999999999,-1.0589999999999999,-1.0589999999999999,-1.0589999999999999,0,0,0,0]
[null,null,null,null,null,"HV/LV","scalar",null,null,1.077,1.077,1.077,1.077,1.077,1.077,1.077,1.0589999999999999,0,1.077,1.077,1.077,1.0589999999999999,0,1.077,1.077,1.077,1.077,1.077,-1.077,0,-1.077,-1.077,-1.077,-1.077,0,0,0,0,0,0,0,0]
[null,null,null,null,null,"LV circuits","scalar",null,null,1.077,1.077,1.077,1.077,1.077,1.077,1.077,0,0,1.077,1.077,1.077,0,0,1.077,1.077,1.077,1.077,1.077,0,0,0,0,0,0,0,0,0,0,0,0,0,0]
[]
[null,null,null,null,"Customer contributions, by network level"]
[null,null,null,null,null,"Transmission exit","%"]
[null,null,null,null,null,"GSPs","%"]
[null,null,null,null,null,"132kV","%",null,null,{"$f":"TRANSPOSE('Customer contributions'!L68:S100)","v":0},0,0,0,0,0,0,0,0,0,0,0,0,0,0,0,0,0,0,0,0,0,0,0,0,0,0,0,0,0,0,0,0]
[null,null,null,null,null,"132kV/EHV","%",null,null,0,0,0,0,0,0,0,0,0.36,0,0,0,0,0.36,0,0,0,0,0,0,0,0,0,0,0,0,0,0,0,0.36,0.36,0.36,0.36]
[null,null,null,null,null,"EHV","%",null,null,0,0,0,0,0,0,0,0,0.36,0,0,0,0,0.36,0,0,0,0,0,0,0,0,0,0,0,0,0,0,0,0.36,0.36,0.36,0.36]
[null,null,null,null,null,"EHV/HV","%",null,null,0.75,0.75,0.75,0.75,0.75,0.75,0.75,0.75,0.91,0.75,0.75,0.75,0.75,0.91,0.75,0.75,0.75,0.75,0.75,0.75,0.75,0.75,0.75,0.75,0.75,0.75,0.75,0.75,0.75,0.91,0.91,0.91,0.91]
[null,null,null,null,null,"132kV/HV","%",null,null,0.75,0.75,0.75,0.75,0.75,0.75,0.75,0.75,0.91,0.75,0.75,0.75,0.75,0.91,0.75,0.75,0.75,0.75,0.75,0.75,0.75,0.75,0.75,0.75,0.75,0.75,0.75,0.75,0.75,0.91,0.91,0.91,0.91]
[null,null,null,null,null,"HV","%",null,null,0.75,0.75,0.75,0.75,0.75,0.75,0.75,0.75,0.91,0.75,0.75,0.75,0.75,0.91,0.75,0.75,0.75,0.75,0.75,0.75,0.75,0.75,0.75,0.75,0.75,0.75,0.75,0.75,0.75,0.91,0.91,0.91,0.91]
[null,null,null,null,null,"HV/LV","%",null,null,0.95,0.95,0.95,0.95,0.95,0.95,0.95,0.95,0,0.95,0.95,0.95,0.95,0,0.95,0.95,0.95,0.95,0.95,0.95,0.95,0.95,0.95,0.95,0.95,0.95,0.95,0.95,0.95,0,0,0,0]
[null,null,null,null,null,"LV circuits","%",null,null,0.95,0.95,0.95,0.95,0.95,0.95,0.95,0,0,0.95,0.95,0.95,0,0,0.95,0.95,0.95,0.95,0.95,0.95,0,0.95,0.95,0.95,0.95,0,0,0,0,0,0,0,0]
[]
[null,null,null,null,"Load coefficient",null,"scalar",null,null,{"$f":"'Pseudo-load coefficients'!J504","v":2.1752154846013747},{"$f":"'Pseudo-load coefficients'!K504","v":1.3428696282237691},{"$f":"'Pseudo-load coefficients'!L504","v":0},{"$f":"'Pseudo-load coefficients'!M504","v":1.1985741703783281},{"$f":"'Pseudo-load coefficients'!N504","v":1.2835262044026425},{"$f":"'Pseudo-load coefficients'!O504","v":0},{"$f":"'Pseudo-load coefficients'!P504","v":1.2338990407602315},{"$f":"'Pseudo-load coefficients'!Q504","v":1.2338990407602315},{"$f":"'Pseudo-load coefficients'!R504","v":1.132714250368446},{"$f":"'Pseudo-load coefficients'!S504","v":2.1462866473641995},{"$f":"'Pseudo-load coefficients'!T504","v":1.2596602545183162},{"$f":"'Pseudo-load coefficients'!U504","v":1.2323975422302154},{"$f":"'Pseudo-load coefficients'!V504","v":1.1667611194836489},{"$f":"'Pseudo-load coefficients'!W504","v":1.0723581089786196},{"$f":"'Pseudo-load coefficients'!X504","v":1.0000000000000351},{"$f":"'Pseudo-load coefficients'!Y504","v":2.1126537686039404},{"$f":"'Pseudo-load coefficients'!Z504","v":3.5488704054425635},{"$f":"'Pseudo-load coefficients'!AA504","v":0},{"$f":"'Pseudo-load coefficients'!AB504","v":2.1233272801869107},{"$f":"'Pseudo-load coefficients'!AC504","v":1},{"$f":"'Pseudo-load coefficients'!AD504","v":1},{"$f":"'Pseudo-load coefficients'!AE504","v":1},{"$f":"'Pseudo-load coefficients'!AF504","v":1},{"$f":"'Pseudo-load coefficients'!AG504","v":1},{"$f":"'Pseudo-load coefficients'!AH504","v":1},{"$f":"'Pseudo-load coefficients'!AI504","v":1},{"$f":"'Pseudo-load coefficients'!AJ504","v":1},{"$f":"'Pseudo-load coefficients'!AK504","v":1},{"$f":"'Pseudo-load coefficients'!AL504","v":1},{"$f":"'Pseudo-load coefficients'!AM504","v":1},{"$f":"'Pseudo-load coefficients'!AN504","v":1},{"$f":"'Pseudo-load coefficients'!AO504","v":1},{"$f":"'Pseudo-load coefficients'!AP504","v":1}]
[]
[null,null,null,null,"Pseudo load coefficient, unit rate 1"]
[null,null,null,null,null,"Transmission exit","scalar",null,null,{"$f":"'Pseudo-load coefficients'!J509","v":2.0383149669035538},{"$f":"'Pseudo-load coefficients'!K509","v":2.277326283448744},{"$f":"'Pseudo-load coefficients'!L509","v":0.15410033028054779},{"$f":"'Pseudo-load coefficients'!M509","v":1.2521512798117256},{"$f":"'Pseudo-load coefficients'!N509","v":1.7846341102087029},{"$f":"'Pseudo-load coefficients'!O509","v":0.15587030099678295},{"$f":"'Pseudo-load coefficients'!P509","v":1.5878405746763777},{"$f":"'Pseudo-load coefficients'!Q509","v":1.6013458984596001},{"$f":"'Pseudo-load coefficients'!R509","v":1.6073376060355773},{"$f":"'Pseudo-load coefficients'!S509","v":15.018073953216065},{"$f":"'Pseudo-load coefficients'!T509","v":12.888412971422365},{"$f":"'Pseudo-load coefficients'!U509","v":11.55066581245533},{"$f":"'Pseudo-load coefficients'!V509","v":11.085940564541984},{"$f":"'Pseudo-load coefficients'!W509","v":10.704505039757239},{"$f":"'Pseudo-load coefficients'!X509","v":1.0564303176550738},{"$f":"'Pseudo-load coefficients'!Y509","v":1.4813178954154673},{"$f":"'Pseudo-load coefficients'!Z509","v":2.441404273176496},{"$f":"'Pseudo-load coefficients'!AA509","v":0.65229125076063388},{"$f":"'Pseudo-load coefficients'!AB509","v":29.575341669392177},{"$f":"'Pseudo-load coefficients'!AC509","v":1},{"$f":"'Pseudo-load coefficients'!AD509","v":1},{"$f":"'Pseudo-load coefficients'!AE509","v":1},{"$f":"'Pseudo-load coefficients'!AF509","v":1},{"$f":"'Pseudo-load coefficients'!AG509","v":10.406378151847633},{"$f":"'Pseudo-load coefficients'!AH509","v":10.406378151847633},{"$f":"'Pseudo-load coefficients'!AI509","v":1},{"$f":"'Pseudo-load coefficients'!AJ509","v":1},{"$f":"'Pseudo-load coefficients'!AK509","v":10.406378151847633},{"$f":"'Pseudo-load coefficients'!AL509","v":10.406378151847633},{"$f":"'Pseudo-load coefficients'!AM509","v":1},{"$f":"'Pseudo-load coefficients'!AN509","v":1},{"$f":"'Pseudo-load coefficients'!AO509","v":10.406378151847633},{"$f":"'Pseudo-load coefficients'!AP509","v":10.406378151847633}]
[null,null,null,null,null,"GSPs","scalar",null,null,{"$f":"'Pseudo-load coefficients'!J509","v":2.0383149669035538},{"$f":"'Pseudo-load coefficients'!K509","v":2.277326283448744},{"$f":"'Pseudo-load coefficients'!L509","v":0.15410033028054779},{"$f":"'Pseudo-load coefficients'!M509","v":1.2521512798117256},{"$f":"'Pseudo-load coefficients'!N509","v":1.7846341102087029},{"$f":"'Pseudo-load coefficients'!O509","v":0.15587030099678295},{"$f":"'Pseudo-load coefficients'!P509","v":1.5878405746763777},{"$f":"'Pseudo-load coefficients'!Q509","v":1.6013458984596001},{"$f":"'Pseudo-load coefficients'!R509","v":1.6073376060355773},{"$f":"'Pseudo-load coefficients'!S509","v":15.018073953216065},{"$f":"'Pseudo-load coefficients'!T509","v":12.888412971422365},{"$f":"'Pseudo-load coefficients'!U509","v":11.55066581245533},{"$f":"'Pseudo-load coefficients'!V509","v":11.085940564541984},{"$f":"'Pseudo-load coefficients'!W509","v":10.704505039757239},{"$f":"'Pseudo-load coefficients'!X509","v":1.0564303176550738},{"$f":"'Pseudo-load coefficients'!Y509","v":1.4813178954154673},{"$f":"'Pseudo-load coefficients'!Z509","v":2.441404273176496},{"$f":"'Pseudo-load coefficients'!AA509","v":0.65229125076063388},{"$f":"'Pseudo-load coefficients'!AB509","v":29.575341669392177},{"$f":"'Pseudo-load coefficients'!AC509","v":1},{"$f":"'Pseudo-load coefficients'!AD509","v":1},{"$f":"'Pseudo-load coefficients'!AE509","v":1},{"$f":"'Pseudo-load coefficients'!AF509","v":1},{"$f":"'Pseudo-load coefficients'!AG509","v":10.406378151847633},{"$f":"'Pseudo-load coefficients'!AH509","v":10.406378151847633},{"$f":"'Pseudo-load coefficients'!AI509","v":1},{"$f":"'Pseudo-load coefficients'!AJ509","v":1},{"$f":"'Pseudo-load coefficients'!AK509","v":10.406378151847633},{"$f":"'Pseudo-load coefficients'!AL509","v":10.406378151847633},{"$f":"'Pseudo-load coefficients'!AM509","v":1},{"$f":"'Pseudo-load coefficients'!AN509","v":1},{"$f":"'Pseudo-load coefficients'!AO509","v":10.406378151847633},{"$f":"'Pseudo-load coefficients'!AP509","v":10.406378151847633}]
[null,null,null,null,null,"132kV","scalar",null,null,{"$f":"'Pseudo-load coefficients'!J510","v":1.8734285659849159},{"$f":"'Pseudo-load coefficients'!K510","v":2.0295844520225934},{"$f":"'Pseudo-load coefficients'!L510","v":0.38202211019203186},{"$f":"'Pseudo-load coefficients'!M510","v":1.2557104744781304},{"$f":"'Pseudo-load coefficients'!N510","v":1.6661060430541201},{"$f":"'Pseudo-load coefficients'!O510","v":0.38192147291795436},{"$f":"'Pseudo-load coefficients'!P510","v":1.479773497996695},{"$f":"'Pseudo-load coefficients'!Q510","v":1.5009648507166902},{"$f":"'Pseudo-load coefficients'!R510","v":1.5136143585115667},{"$f":"'Pseudo-load coefficients'!S510","v":10.997798640747124},{"$f":"'Pseudo-load coefficients'!T510","v":9.4414595089743987},{"$f":"'Pseudo-load coefficients'!U510","v":8.4610023298805537},{"$f":"'Pseudo-load coefficients'!V510","v":8.1205854682733953},{"$f":"'Pseudo-load coefficients'!W510","v":7.8411793356483086},{"$f":"'Pseudo-load coefficients'!X510","v":1.0566095432858378},{"$f":"'Pseudo-load coefficients'!Y510","v":1.3888806950899049},{"$f":"'Pseudo-load coefficients'!Z510","v":2.1130849087594048},{"$f":"'Pseudo-load coefficients'!AA510","v":0.74097473201070208},{"$f":"'Pseudo-load coefficients'!AB510","v":22.745222019211187},{"$f":"'Pseudo-load coefficients'!AC510","v":1},{"$f":"'Pseudo-load coefficients'!AD510","v":1},{"$f":"'Pseudo-load coefficients'!AE510","v":1},{"$f":"'Pseudo-load coefficients'!AF510","v":1},{"$f":"'Pseudo-load coefficients'!AG510","v":7.622797786553261},{"$f":"'Pseudo-load coefficients'!AH510","v":7.622797786553261},{"$f":"'Pseudo-load coefficients'!AI510","v":1},{"$f":"'Pseudo-load coefficients'!AJ510","v":1},{"$f":"'Pseudo-load coefficients'!AK510","v":7.622797786553261},{"$f":"'Pseudo-load coefficients'!AL510","v":7.622797786553261},{"$f":"'Pseudo-load coefficients'!AM510","v":1},{"$f":"'Pseudo-load coefficients'!AN510","v":1},{"$f":"'Pseudo-load coefficients'!AO510","v":7.622797786553261},{"$f":"'Pseudo-load coefficients'!AP510","v":7.622797786553261}]
[null,null,null,null,null,"132kV/EHV","scalar",null,null,{"$f":"'Pseudo-load coefficients'!J511","v":1.8734285659849159},{"$f":"'Pseudo-load coefficients'!K511","v":2.0295844520225934},{"$f":"'Pseudo-load coefficients'!L511","v":0.38202211019203186},{"$f":"'Pseudo-load coefficients'!M511","v":1.2557104744781304},{"$f":"'Pseudo-load coefficients'!N511","v":1.6661060430541201},{"$f":"'Pseudo-load coefficients'!O511","v":0.38192147291795436},{"$f":"'Pseudo-load coefficients'!P511","v":1.479773497996695},{"$f":"'Pseudo-load coefficients'!Q511","v":1.5009648507166902},{"$f":"'Pseudo-load coefficients'!R511","v":1.5136143585115667},{"$f":"'Pseudo-load coefficients'!S511","v":10.997798640747124},{"$f":"'Pseudo-load coefficients'!T511","v":9.4414595089743987},{"$f":"'Pseudo-load coefficients'!U511","v":8.4610023298805537},{"$f":"'Pseudo-load coefficients'!V511","v":8.1205854682733953},{"$f":"'Pseudo-load coefficients'!W511","v":7.8411793356483086},{"$f":"'Pseudo-load coefficients'!X511","v":1.0566095432858378},{"$f":"'Pseudo-load coefficients'!Y511","v":1.3888806950899049},{"$f":"'Pseudo-load coefficients'!Z511","v":2.1130849087594048},{"$f":"'Pseudo-load coefficients'!AA511","v":0.74097473201070208},{"$f":"'Pseudo-load coefficients'!AB511","v":22.745222019211187},{"$f":"'Pseudo-load coefficients'!AC511","v":1},{"$f":"'Pseudo-load coefficients'!AD511","v":1},{"$f":"'Pseudo-load coefficients'!AE511","v":1},{"$f":"'Pseudo-load coefficients'!AF511","v":1},{"$f":"'Pseudo-load coefficients'!AG511","v":7.622797786553261},{"$f":"'Pseudo-load coefficients'!AH511","v":7.622797786553261},{"$f":"'Pseudo-load coefficients'!AI511","v":1},{"$f":"'Pseudo-load coefficients'!AJ511","v":1},{"$f":"'Pseudo-load coefficients'!AK511","v":7.622797786553261},{"$f":"'Pseudo-load coefficients'!AL511","v":7.622797786553261},{"$f":"'Pseudo-load coefficients'!AM511","v":1},{"$f":"'Pseudo-load coefficients'!AN511","v":1},{"$f":"'Pseudo-load coefficients'!AO511","v":7.622797786553261},{"$f":"'Pseudo-load coefficients'!AP511","v":7.622797786553261}]
[null,null,null,null,null,"EHV","scalar",null,null,{"$f":"'Pseudo-load coefficients'!J512","v":1.9721035835087848},{"$f":"'Pseudo-load coefficients'!K512","v":2.1988219389630026},{"$f":"'Pseudo-load coefficients'!L512","v":0.20719834354663158},{"$f":"'Pseudo-load coefficients'!M512","v":1.3163444863978779},{"$f":"'Pseudo-load coefficients'!N512","v":1.8125701085836234},{"$f":"'Pseudo-load coefficients'!O512","v":0.21010937500310795},{"$f":"'Pseudo-load coefficients'!P512","v":1.6164814757648309},{"$f":"'Pseudo-load coefficients'!Q512","v":1.6406850081904745},{"$f":"'Pseudo-load coefficients'!R512","v":1.6624072845837741},{"$f":"'Pseudo-load coefficients'!S512","v":12.318438525396155},{"$f":"'Pseudo-load coefficients'!T512","v":10.569124798985809},{"$f":"'Pseudo-load coefficients'!U512","v":9.4744763915950667},{"$f":"'Pseudo-load coefficients'!V512","v":9.0932837866471097},{"$f":"'Pseudo-load coefficients'!W512","v":8.7804098854221415},{"$f":"'Pseudo-load coefficients'!X512","v":1.05650063456647},{"$f":"'Pseudo-load coefficients'!Y512","v":1.2420323845639887},{"$f":"'Pseudo-load coefficients'!Z512","v":2.05305152490264},{"$f":"'Pseudo-load coefficients'!AA512","v":0.87398270890107876},{"$f":"'Pseudo-load coefficients'!AB512","v":22.548628252854698},{"$f":"'Pseudo-load coefficients'!AC512","v":1.0000000000000002},{"$f":"'Pseudo-load coefficients'!AD512","v":1.0000000000000002},{"$f":"'Pseudo-load coefficients'!AE512","v":1.0000000000000002},{"$f":"'Pseudo-load coefficients'!AF512","v":1.0000000000000002},{"$f":"'Pseudo-load coefficients'!AG512","v":8.5358702019907824},{"$f":"'Pseudo-load coefficients'!AH512","v":8.5358702019907824},{"$f":"'Pseudo-load coefficients'!AI512","v":1.0000000000000002},{"$f":"'Pseudo-load coefficients'!AJ512","v":1.0000000000000002},{"$f":"'Pseudo-load coefficients'!AK512","v":8.5358702019907824},{"$f":"'Pseudo-load coefficients'!AL512","v":8.5358702019907824},{"$f":"'Pseudo-load coefficients'!AM512","v":1.0000000000000002},{"$f":"'Pseudo-load coefficients'!AN512","v":1.0000000000000002},{"$f":"'Pseudo-load coefficients'!AO512","v":8.5358702019907824},{"$f":"'Pseudo-load coefficients'!AP512","v":8.5358702019907824}]
[null,null,null,null,null,"EHV/HV","scalar",null,null,{"$f":"'Pseudo-load coefficients'!J513","v":1.9721035835087848},{"$f":"'Pseudo-load coefficients'!K513","v":2.1988219389630026},{"$f":"'Pseudo-load coefficients'!L513","v":0.20719834354663158},{"$f":"'Pseudo-load coefficients'!M513","v":1.3163444863978779},{"$f":"'Pseudo-load coefficients'!N513","v":1.8125701085836234},{"$f":"'Pseudo-load coefficients'!O513","v":0.21010937500310795},{"$f":"'Pseudo-load coefficients'!P513","v":1.6164814757648309},{"$f":"'Pseudo-load coefficients'!Q513","v":1.6406850081904745},{"$f":"'Pseudo-load coefficients'!R513","v":1.6624072845837741},{"$f":"'Pseudo-load coefficients'!S513","v":12.318438525396155},{"$f":"'Pseudo-load coefficients'!T513","v":10.569124798985809},{"$f":"'Pseudo-load coefficients'!U513","v":9.4744763915950667},{"$f":"'Pseudo-load coefficients'!V513","v":9.0932837866471097},{"$f":"'Pseudo-load coefficients'!W513","v":8.7804098854221415},{"$f":"'Pseudo-load coefficients'!X513","v":1.05650063456647},{"$f":"'Pseudo-load coefficients'!Y513","v":1.2420323845639887},{"$f":"'Pseudo-load coefficients'!Z513","v":2.05305152490264},{"$f":"'Pseudo-load coefficients'!AA513","v":0.87398270890107876},{"$f":"'Pseudo-load coefficients'!AB513","v":22.548628252854698},{"$f":"'Pseudo-load coefficients'!AC513","v":1.0000000000000002},{"$f":"'Pseudo-load coefficients'!AD513","v":1.0000000000000002},{"$f":"'Pseudo-load coefficients'!AE513","v":1.0000000000000002},{"$f":"'Pseudo-load coefficients'!AF513","v":1.0000000000000002},{"$f":"'Pseudo-load coefficients'!AG513","v":8.5358702019907824},{"$f":"'Pseudo-load coefficients'!AH513","v":8.5358702019907824},{"$f":"'Pseudo-load coefficients'!AI513","v":1.0000000000000002},{"$f":"'Pseudo-load coefficients'!AJ513","v":1.0000000000000002},{"$f":"'Pseudo-load coefficients'!AK513","v":8.5358702019907824},{"$f":"'Pseudo-load coefficients'!AL513","v":8.5358702019907824},{"$f":"'Pseudo-load coefficients'!AM513","v":1.0000000000000002},{"$f":"'Pseudo-load coefficients'!AN513","v":1.0000000000000002},{"$f":"'Pseudo-load coefficients'!AO513","v":8.5358702019907824},{"$f":"'Pseudo-load coefficients'!AP513","v":8.5358702019907824}]
[null,null,null,null,null,"132kV/HV","scalar",null,null,{"$f":"'Pseudo-load coefficients'!J514","v":1.8734285659849159},{"$f":"'Pseudo-load coefficients'!K514","v":2.0295844520225934},{"$f":"'Pseudo-load coefficients'!L514","v":0.38202211019203186},{"$f":"'Pseudo-load coefficients'!M514","v":1.2557104744781304},{"$f":"'Pseudo-load coefficients'!N514","v":1.6661060430541201},{"$f":"'Pseudo-load coefficients'!O514","v":0.38192147291795436},{"$f":"'Pseudo-load coefficients'!P514","v":1.479773497996695},{"$f":"'Pseudo-load coefficients'!Q514","v":1.5009648507166902},{"$f":"'Pseudo-load coefficients'!R514","v":1.5136143585115667},{"$f":"'Pseudo-load coefficients'!S514","v":10.997798640747124},{"$f":"'Pseudo-load coefficients'!T514","v":9.4414595089743987},{"$f":"'Pseudo-load coefficients'!U514","v":8.4610023298805537},{"$f":"'Pseudo-load coefficients'!V514","v":8.1205854682733953},{"$f":"'Pseudo-load coefficients'!W514","v":7.8411793356483086},{"$f":"'Pseudo-load coefficients'!X514","v":1.0566095432858378},{"$f":"'Pseudo-load coefficients'!Y514","v":1.3888806950899049},{"$f":"'Pseudo-load coefficients'!Z514","v":2.1130849087594048},{"$f":"'Pseudo-load coefficients'!AA514","v":0.74097473201070208},{"$f":"'Pseudo-load coefficients'!AB514","v":22.745222019211187},{"$f":"'Pseudo-load coefficients'!AC514","v":1},{"$f":"'Pseudo-load coefficients'!AD514","v":1},{"$f":"'Pseudo-load coefficients'!AE514","v":1},{"$f":"'Pseudo-load coefficients'!AF514","v":1},{"$f":"'Pseudo-load coefficients'!AG514","v":7.622797786553261},{"$f":"'Pseudo-load coefficients'!AH514","v":7.622797786553261},{"$f":"'Pseudo-load coefficients'!AI514","v":1},{"$f":"'Pseudo-load coefficients'!AJ514","v":1},{"$f":"'Pseudo-load coefficients'!AK514","v":7.622797786553261},{"$f":"'Pseudo-load coefficients'!AL514","v":7.622797786553261},{"$f":"'Pseudo-load coefficients'!AM514","v":1},{"$f":"'Pseudo-load coefficients'!AN514","v":1},{"$f":"'Pseudo-load coefficients'!AO514","v":7.622797786553261},{"$f":"'Pseudo-load coefficients'!AP514","v":7.622797786553261}]
[null,null,null,null,null,"HV","scalar",null,null,{"$f":"'Pseudo-load coefficients'!J515","v":1.9721035835087848},{"$f":"'Pseudo-load coefficients'!K515","v":2.1988219389630026},{"$f":"'Pseudo-load coefficients'!L515","v":0.20719834354663158},{"$f":"'Pseudo-load coefficients'!M515","v":1.3163444863978779},{"$f":"'Pseudo-load coefficients'!N515","v":1.8125701085836234},{"$f":"'Pseudo-load coefficients'!O515","v":0.21010937500310795},{"$f":"'Pseudo-load coefficients'!P515","v":1.6164814757648309},{"$f":"'Pseudo-load coefficients'!Q515","v":1.6406850081904745},{"$f":"'Pseudo-load coefficients'!R515","v":1.6624072845837741},{"$f":"'Pseudo-load coefficients'!S515","v":12.318438525396155},{"$f":"'Pseudo-load coefficients'!T515","v":10.569124798985809},{"$f":"'Pseudo-load coefficients'!U515","v":9.4744763915950667},{"$f":"'Pseudo-load coefficients'!V515","v":9.0932837866471097},{"$f":"'Pseudo-load coefficients'!W515","v":8.7804098854221415},{"$f":"'Pseudo-load coefficients'!X515","v":1.05650063456647},{"$f":"'Pseudo-load coefficients'!Y515","v":1.2420323845639887},{"$f":"'Pseudo-load coefficients'!Z515","v":2.05305152490264},{"$f":"'Pseudo-load coefficients'!AA515","v":0.87398270890107876},{"$f":"'Pseudo-load coefficients'!AB515","v":22.548628252854698},{"$f":"'Pseudo-load coefficients'!AC515","v":1.0000000000000002},{"$f":"'Pseudo-load coefficients'!AD515","v":1.0000000000000002},{"$f":"'Pseudo-load coefficients'!AE515","v":1.0000000000000002},{"$f":"'Pseudo-load coefficients'!AF515","v":1.0000000000000002},{"$f":"'Pseudo-load coefficients'!AG515","v":8.5358702019907824},{"$f":"'Pseudo-load coefficients'!AH515","v":8.5358702019907824},{"$f":"'Pseudo-load coefficients'!AI515","v":1.0000000000000002},{"$f":"'Pseudo-load coefficients'!AJ515","v":1.0000000000000002},{"$f":"'Pseudo-load coefficients'!AK515","v":8.5358702019907824},{"$f":"'Pseudo-load coefficients'!AL515","v":8.5358702019907824},{"$f":"'Pseudo-load coefficients'!AM515","v":1.0000000000000002},{"$f":"'Pseudo-load coefficients'!AN515","v":1.0000000000000002},{"$f":"'Pseudo-load coefficients'!AO515","v":8.5358702019907824},{"$f":"'Pseudo-load coefficients'!AP515","v":8.5358702019907824}]
[null,null,null,null,null,"HV/LV","scalar",null,null,{"$f":"'Pseudo-load coefficients'!J516","v":1.9721035835087848},{"$f":"'Pseudo-load coefficients'!K516","v":2.1988219389630026},{"$f":"'Pseudo-load coefficients'!L516","v":0.20719834354663158},{"$f":"'Pseudo-load coefficients'!M516","v":1.3163444863978779},{"$f":"'Pseudo-load coefficients'!N516","v":1.8125701085836234},{"$f":"'Pseudo-load coefficients'!O516","v":0.21010937500310795},{"$f":"'Pseudo-load coefficients'!P516","v":1.6164814757648309},{"$f":"'Pseudo-load coefficients'!Q516","v":1.6406850081904745},{"$f":"'Pseudo-load coefficients'!R516","v":1.6624072845837741},{"$f":"'Pseudo-load coefficients'!S516","v":12.318438525396155},{"$f":"'Pseudo-load coefficients'!T516","v":10.569124798985809},{"$f":"'Pseudo-load coefficients'!U516","v":9.4744763915950667},{"$f":"'Pseudo-load coefficients'!V516","v":9.0932837866471097},{"$f":"'Pseudo-load coefficients'!W516","v":8.7804098854221415},{"$f":"'Pseudo-load coefficients'!X516","v":1.05650063456647},{"$f":"'Pseudo-load coefficients'!Y516","v":1.2420323845639887},{"$f":"'Pseudo-load coefficients'!Z516","v":2.05305152490264},{"$f":"'Pseudo-load coefficients'!AA516","v":0.87398270890107876},{"$f":"'Pseudo-load coefficients'!AB516","v":22.548628252854698},{"$f":"'Pseudo-load coefficients'!AC516","v":1.0000000000000002},{"$f":"'Pseudo-load coefficients'!AD516","v":1.0000000000000002},{"$f":"'Pseudo-load coefficients'!AE516","v":1.0000000000000002},{"$f":"'Pseudo-load coefficients'!AF516","v":1.0000000000000002},{"$f":"'Pseudo-load coefficients'!AG516","v":8.5358702019907824},{"$f":"'Pseudo-load coefficients'!AH516","v":8.5358702019907824},{"$f":"'Pseudo-load coefficients'!AI516","v":1.0000000000000002},{"$f":"'Pseudo-load coefficients'!AJ516","v":1.0000000000000002},{"$f":"'Pseudo-load coefficients'!AK516","v":8.5358702019907824},{"$f":"'Pseudo-load coefficients'!AL516","v":8.5358702019907824},{"$f":"'Pseudo-load coefficients'!AM516","v":1.0000000000000002},{"$f":"'Pseudo-load coefficients'!AN516","v":1.0000000000000002},{"$f":"'Pseudo-load coefficients'!AO516","v":8.5358702019907824},{"$f":"'Pseudo-load coefficients'!AP516","v":8.5358702019907824}]
[null,null,null,null,null,"LV circuits","scalar",null,null,{"$f":"'Pseudo-load coefficients'!J517","v":1.9721035835087848},{"$f":"'Pseudo-load coefficients'!K517","v":2.1988219389630026},{"$f":"'Pseudo-load coefficients'!L517","v":0.20719834354663158},{"$f":"'Pseudo-load coefficients'!M517","v":1.3163444863978779},{"$f":"'Pseudo-load coefficients'!N517","v":1.8125701085836234},{"$f":"'Pseudo-load coefficients'!O517","v":0.21010937500310795},{"$f":"'Pseudo-load coefficients'!P517","v":1.6164814757648309},{"$f":"'Pseudo-load coefficients'!Q517","v":1.6406850081904745},{"$f":"'Pseudo-load coefficients'!R517","v":1.6624072845837741},{"$f":"'Pseudo-load coefficients'!S517","v":12.318438525396155},{"$f":"'Pseudo-load coefficients'!T517","v":10.569124798985809},{"$f":"'Pseudo-load coefficients'!U517","v":9.4744763915950667},{"$f":"'Pseudo-load coefficients'!V517","v":9.0932837866471097},{"$f":"'Pseudo-load coefficients'!W517","v":8.7804098854221415},{"$f":"'Pseudo-load coefficients'!X517","v":1.05650063456647},{"$f":"'Pseudo-load coefficients'!Y517","v":1.2420323845639887},{"$f":"'Pseudo-load coefficients'!Z517","v":2.05305152490264},{"$f":"'Pseudo-load coefficients'!AA517","v":0.87398270890107876},{"$f":"'Pseudo-load coefficients'!AB517","v":22.548628252854698},{"$f":"'Pseudo-load coefficients'!AC517","v":1.0000000000000002},{"$f":"'Pseudo-load coefficients'!AD517","v":1.0000000000000002},{"$f":"'Pseudo-load coefficients'!AE517","v":1.0000000000000002},{"$f":"'Pseudo-load coefficients'!AF517","v":1.0000000000000002},{"$f":"'Pseudo-load coefficients'!AG517","v":8.5358702019907824},{"$f":"'Pseudo-load coefficients'!AH517","v":8.5358702019907824},{"$f":"'Pseudo-load coefficients'!AI517","v":1.0000000000000002},{"$f":"'Pseudo-load coefficients'!AJ517","v":1.0000000000000002},{"$f":"'Pseudo-load coefficients'!AK517","v":8.5358702019907824},{"$f":"'Pseudo-load coefficients'!AL517","v":8.5358702019907824},{"$f":"'Pseudo-load coefficients'!AM517","v":1.0000000000000002},{"$f":"'Pseudo-load coefficients'!AN517","v":1.0000000000000002},{"$f":"'Pseudo-load coefficients'!AO517","v":8.5358702019907824},{"$f":"'Pseudo-load coefficients'!AP517","v":8.5358702019907824}]
[]
[null,null,null,null,"Pseudo load coefficient, unit rate 2"]
[null,null,null,null,null,"Transmission exit","scalar",null,null,{"$f":"'Pseudo-load coefficients'!J520","v":0},{"$f":"'Pseudo-load coefficients'!K520","v":0.15463440320148036},{"$f":"'Pseudo-load coefficients'!L520","v":0},{"$f":"'Pseudo-load coefficients'!M520","v":0},{"$f":"'Pseudo-load coefficients'!N520","v":0.15921138905825921},{"$f":"'Pseudo-load coefficients'!O520","v":0},{"$f":"'Pseudo-load coefficients'!P520","v":0.121061605191615},{"$f":"'Pseudo-load coefficients'!Q520","v":0.12255263166472458},{"$f":"'Pseudo-load coefficients'!R520","v":0.12351730716516579},{"$f":"'Pseudo-load coefficients'!S520","v":0.5849219852531421},{"$f":"'Pseudo-load coefficients'!T520","v":0.50197622714411583},{"$f":"'Pseudo-load coefficients'!U520","v":0.44987382530302067},{"$f":"'Pseudo-load coefficients'!V520","v":0.43177376696974001},{"$f":"'Pseudo-load coefficients'!W520","v":0.41691766590789986},{"$f":"'Pseudo-load coefficients'!X520","v":0},{"$f":"'Pseudo-load coefficients'!Y520","v":0},{"$f":"'Pseudo-load coefficients'!Z520","v":0},{"$f":"'Pseudo-load coefficients'!AA520","v":0},{"$f":"'Pseudo-load coefficients'!AB520","v":0.75103067927702138},{"$f":"'Pseudo-load coefficients'!AC520","v":0},{"$f":"'Pseudo-load coefficients'!AD520","v":0},{"$f":"'Pseudo-load coefficients'!AE520","v":0},{"$f":"'Pseudo-load coefficients'!AF520","v":0},{"$f":"'Pseudo-load coefficients'!AG520","v":0.4053062587676331},{"$f":"'Pseudo-load coefficients'!AH520","v":0.4053062587676331},{"$f":"'Pseudo-load coefficients'!AI520","v":0},{"$f":"'Pseudo-load coefficients'!AJ520","v":0},{"$f":"'Pseudo-load coefficients'!AK520","v":0.4053062587676331},{"$f":"'Pseudo-load coefficients'!AL520","v":0.4053062587676331},{"$f":"'Pseudo-load coefficients'!AM520","v":0},{"$f":"'Pseudo-load coefficients'!AN520","v":0},{"$f":"'Pseudo-load coefficients'!AO520","v":0.4053062587676331},{"$f":"'Pseudo-load coefficients'!AP520","v":0.4053062587676331}]
[null,null,null,null,null,"GSPs","scalar",null,null,{"$f":"'Pseudo-load coefficients'!J520","v":0},{"$f":"'Pseudo-load coefficients'!K520","v":0.15463440320148036},{"$f":"'Pseudo-load coefficients'!L520","v":0},{"$f":"'Pseudo-load coefficients'!M520","v":0},{"$f":"'Pseudo-load coefficients'!N520","v":0.15921138905825921},{"$f":"'Pseudo-load coefficients'!O520","v":0},{"$f":"'Pseudo-load coefficients'!P520","v":0.121061605191615},{"$f":"'Pseudo-load coefficients'!Q520","v":0.12255263166472458},{"$f":"'Pseudo-load coefficients'!R520","v":0.12351730716516579},{"$f":"'Pseudo-load coefficients'!S520","v":0.5849219852531421},{"$f":"'Pseudo-load coefficients'!T520","v":0.50197622714411583},{"$f":"'Pseudo-load coefficients'!U520","v":0.44987382530302067},{"$f":"'Pseudo-load coefficients'!V520","v":0.43177376696974001},{"$f":"'Pseudo-load coefficients'!W520","v":0.41691766590789986},{"$f":"'Pseudo-load coefficients'!X520","v":0},{"$f":"'Pseudo-load coefficients'!Y520","v":0},{"$f":"'Pseudo-load coefficients'!Z520","v":0},{"$f":"'Pseudo-load coefficients'!AA520","v":0},{"$f":"'Pseudo-load coefficients'!AB520","v":0.75103067927702138},{"$f":"'Pseudo-load coefficients'!AC520","v":0},{"$f":"'Pseudo-load coefficients'!AD520","v":0},{"$f":"'Pseudo-load coefficients'!AE520","v":0},{"$f":"'Pseudo-load coefficients'!AF520","v":0},{"$f":"'Pseudo-load coefficients'!AG520","v":0.4053062587676331},{"$f":"'Pseudo-load coefficients'!AH520","v":0.4053062587676331},{"$f":"'Pseudo-load coefficients'!AI520","v":0},{"$f":"'Pseudo-load coefficients'!AJ520","v":0},{"$f":"'Pseudo-load coefficients'!AK520","v":0.4053062587676331},{"$f":"'Pseudo-load coefficients'!AL520","v":0.4053062587676331},{"$f":"'Pseudo-load coefficients'!AM520","v":0},{"$f":"'Pseudo-load coefficients'!AN520","v":0},{"$f":"'Pseudo-load coefficients'!AO520","v":0.4053062587676331},{"$f":"'Pseudo-load coefficients'!AP520","v":0.4053062587676331}]
[null,null,null,null,null,"132kV","scalar",null,null,{"$f":"'Pseudo-load coefficients'!J521","v":0},{"$f":"'Pseudo-load coefficients'!K521","v":0.47005483588332447},{"$f":"'Pseudo-load coefficients'!L521","v":0},{"$f":"'Pseudo-load coefficients'!M521","v":0},{"$f":"'Pseudo-load coefficients'!N521","v":0.45773972720105299},{"$f":"'Pseudo-load coefficients'!O521","v":0},{"$f":"'Pseudo-load coefficients'!P521","v":0.38456620753569887},{"$f":"'Pseudo-load coefficients'!Q521","v":0.3942673310199008},{"$f":"'Pseudo-load coefficients'!R521","v":0.39986930498206225},{"$f":"'Pseudo-load coefficients'!S521","v":0.89783304710021039},{"$f":"'Pseudo-load coefficients'!T521","v":0.77077737435642613},{"$f":"'Pseudo-load coefficients'!U521","v":0.69073527816859281},{"$f":"'Pseudo-load coefficients'!V521","v":0.66294448856378496},{"$f":"'Pseudo-load coefficients'!W521","v":0.64013446379175243},{"$f":"'Pseudo-load coefficients'!X521","v":0},{"$f":"'Pseudo-load coefficients'!Y521","v":0},{"$f":"'Pseudo-load coefficients'!Z521","v":0},{"$f":"'Pseudo-load coefficients'!AA521","v":0},{"$f":"'Pseudo-load coefficients'!AB521","v":0.80774986755119482},{"$f":"'Pseudo-load coefficients'!AC521","v":0},{"$f":"'Pseudo-load coefficients'!AD521","v":0},{"$f":"'Pseudo-load coefficients'!AE521","v":0},{"$f":"'Pseudo-load coefficients'!AF521","v":0},{"$f":"'Pseudo-load coefficients'!AG521","v":0.6223063349034833},{"$f":"'Pseudo-load coefficients'!AH521","v":0.6223063349034833},{"$f":"'Pseudo-load coefficients'!AI521","v":0},{"$f":"'Pseudo-load coefficients'!AJ521","v":0},{"$f":"'Pseudo-load coefficients'!AK521","v":0.6223063349034833},{"$f":"'Pseudo-load coefficients'!AL521","v":0.6223063349034833},{"$f":"'Pseudo-load coefficients'!AM521","v":0},{"$f":"'Pseudo-load coefficients'!AN521","v":0},{"$f":"'Pseudo-load coefficients'!AO521","v":0.6223063349034833},{"$f":"'Pseudo-load coefficients'!AP521","v":0.6223063349034833}]
[null,null,null,null,null,"132kV/EHV","scalar",null,null,{"$f":"'Pseudo-load coefficients'!J522","v":0},{"$f":"'Pseudo-load coefficients'!K522","v":0.47005483588332447},{"$f":"'Pseudo-load coefficients'!L522","v":0},{"$f":"'Pseudo-load coefficients'!M522","v":0},{"$f":"'Pseudo-load coefficients'!N522","v":0.45773972720105299},{"$f":"'Pseudo-load coefficients'!O522","v":0},{"$f":"'Pseudo-load coefficients'!P522","v":0.38456620753569887},{"$f":"'Pseudo-load coefficients'!Q522","v":0.3942673310199008},{"$f":"'Pseudo-load coefficients'!R522","v":0.39986930498206225},{"$f":"'Pseudo-load coefficients'!S522","v":0.89783304710021039},{"$f":"'Pseudo-load coefficients'!T522","v":0.77077737435642613},{"$f":"'Pseudo-load coefficients'!U522","v":0.69073527816859281},{"$f":"'Pseudo-load coefficients'!V522","v":0.66294448856378496},{"$f":"'Pseudo-load coefficients'!W522","v":0.64013446379175243},{"$f":"'Pseudo-load coefficients'!X522","v":0},{"$f":"'Pseudo-load coefficients'!Y522","v":0},{"$f":"'Pseudo-load coefficients'!Z522","v":0},{"$f":"'Pseudo-load coefficients'!AA522","v":0},{"$f":"'Pseudo-load coefficients'!AB522","v":0.80774986755119482},{"$f":"'Pseudo-load coefficients'!AC522","v":0},{"$f":"'Pseudo-load coefficients'!AD522","v":0},{"$f":"'Pseudo-load coefficients'!AE522","v":0},{"$f":"'Pseudo-load coefficients'!AF522","v":0},{"$f":"'Pseudo-load coefficients'!AG522","v":0.6223063349034833},{"$f":"'Pseudo-load coefficients'!AH522","v":0.6223063349034833},{"$f":"'Pseudo-load coefficients'!AI522","v":0},{"$f":"'Pseudo-load coefficients'!AJ522","v":0},{"$f":"'Pseudo-load coefficients'!AK522","v":0.6223063349034833},{"$f":"'Pseudo-load coefficients'!AL522","v":0.6223063349034833},{"$f":"'Pseudo-load coefficients'!AM522","v":0},{"$f":"'Pseudo-load coefficients'!AN522","v":0},{"$f":"'Pseudo-load coefficients'!AO522","v":0.6223063349034833},{"$f":"'Pseudo-load coefficients'!AP522","v":0.6223063349034833}]
[null,null,null,null,null,"EHV","scalar",null,null,{"$f":"'Pseudo-load coefficients'!J523","v":0},{"$f":"'Pseudo-load coefficients'!K523","v":0.165100918742352},{"$f":"'Pseudo-load coefficients'!L523","v":0},{"$f":"'Pseudo-load coefficients'!M523","v":0},{"$f":"'Pseudo-load coefficients'!N523","v":0.18298791515601268},{"$f":"'Pseudo-load coefficients'!O523","v":0},{"$f":"'Pseudo-load coefficients'!P523","v":0.12107473438194591},{"$f":"'Pseudo-load coefficients'!Q523","v":0.12011441661130556},{"$f":"'Pseudo-load coefficients'!R523","v":0.11982617788247479},{"$f":"'Pseudo-load coefficients'!S523","v":1.0589965727972062},{"$f":"'Pseudo-load coefficients'!T523","v":0.90861085327630675},{"$f":"'Pseudo-load coefficients'!U523","v":0.81450567026509912},{"$f":"'Pseudo-load coefficients'!V523","v":0.78173514814224399},{"$f":"'Pseudo-load coefficients'!W523","v":0.75483787634664712},{"$f":"'Pseudo-load coefficients'!X523","v":0},{"$f":"'Pseudo-load coefficients'!Y523","v":0},{"$f":"'Pseudo-load coefficients'!Z523","v":0},{"$f":"'Pseudo-load coefficients'!AA523","v":0},{"$f":"'Pseudo-load coefficients'!AB523","v":1.070863061407769},{"$f":"'Pseudo-load coefficients'!AC523","v":0},{"$f":"'Pseudo-load coefficients'!AD523","v":0},{"$f":"'Pseudo-load coefficients'!AE523","v":0},{"$f":"'Pseudo-load coefficients'!AF523","v":0},{"$f":"'Pseudo-load coefficients'!AG523","v":0.73381518859829098},{"$f":"'Pseudo-load coefficients'!AH523","v":0.73381518859829098},{"$f":"'Pseudo-load coefficients'!AI523","v":0},{"$f":"'Pseudo-load coefficients'!AJ523","v":0},{"$f":"'Pseudo-load coefficients'!AK523","v":0.73381518859829098},{"$f":"'Pseudo-load coefficients'!AL523","v":0.73381518859829098},{"$f":"'Pseudo-load coefficients'!AM523","v":0},{"$f":"'Pseudo-load coefficients'!AN523","v":0},{"$f":"'Pseudo-load coefficients'!AO523","v":0.73381518859829098},{"$f":"'Pseudo-load coefficients'!AP523","v":0.73381518859829098}]
[null,null,null,null,null,"EHV/HV","scalar",null,null,{"$f":"'Pseudo-load coefficients'!J524","v":0},{"$f":"'Pseudo-load coefficients'!K524","v":0.165100918742352},{"$f":"'Pseudo-load coefficients'!L524","v":0},{"$f":"'Pseudo-load coefficients'!M524","v":0},{"$f":"'Pseudo-load coefficients'!N524","v":0.18298791515601268},{"$f":"'Pseudo-load coefficients'!O524","v":0},{"$f":"'Pseudo-load coefficients'!P524","v":0.12107473438194591},{"$f":"'Pseudo-load coefficients'!Q524","v":0.12011441661130556},{"$f":"'Pseudo-load coefficients'!R524","v":0.11982617788247479},{"$f":"'Pseudo-load coefficients'!S524","v":1.0589965727972062},{"$f":"'Pseudo-load coefficients'!T524","v":0.90861085327630675},{"$f":"'Pseudo-load coefficients'!U524","v":0.81450567026509912},{"$f":"'Pseudo-load coefficients'!V524","v":0.78173514814224399},{"$f":"'Pseudo-load coefficients'!W524","v":0.75483787634664712},{"$f":"'Pseudo-load coefficients'!X524","v":0},{"$f":"'Pseudo-load coefficients'!Y524","v":0},{"$f":"'Pseudo-load coefficients'!Z524","v":0},{"$f":"'Pseudo-load coefficients'!AA524","v":0},{"$f":"'Pseudo-load coefficients'!AB524","v":1.070863061407769},{"$f":"'Pseudo-load coefficients'!AC524","v":0},{"$f":"'Pseudo-load coefficients'!AD524","v":0},{"$f":"'Pseudo-load coefficients'!AE524","v":0},{"$f":"'Pseudo-load coefficients'!AF524","v":0},{"$f":"'Pseudo-load coefficients'!AG524","v":0.73381518859829098},{"$f":"'Pseudo-load coefficients'!AH524","v":0.73381518859829098},{"$f":"'Pseudo-load coefficients'!AI524","v":0},{"$f":"'Pseudo-load coefficients'!AJ524","v":0},{"$f":"'Pseudo-load coefficients'!AK524","v":0.73381518859829098},{"$f":"'Pseudo-load coefficients'!AL524","v":0.73381518859829098},{"$f":"'Pseudo-load coefficients'!AM524","v":0},{"$f":"'Pseudo-load coefficients'!AN524","v":0},{"$f":"'Pseudo-load coefficients'!AO524","v":0.73381518859829098},{"$f":"'Pseudo-load coefficients'!AP524","v":0.73381518859829098}]
[null,null,null,null,null,"132kV/HV","scalar",null,null,{"$f":"'Pseudo-load coefficients'!J525","v":0},{"$f":"'Pseudo-load coefficients'!K525","v":0.47005483588332447},{"$f":"'Pseudo-load coefficients'!L525","v":0},{"$f":"'Pseudo-load coefficients'!M525","v":0},{"$f":"'Pseudo-load coefficients'!N525","v":0.45773972720105299},{"$f":"'Pseudo-load coefficients'!O525","v":0},{"$f":"'Pseudo-load coefficients'!P525","v":0.38456620753569887},{"$f":"'Pseudo-load coefficients'!Q525","v":0.3942673310199008},{"$f":"'Pseudo-load coefficients'!R525","v":0.39986930498206225},{"$f":"'Pseudo-load coefficients'!S525","v":0.89783304710021039},{"$f":"'Pseudo-load coefficients'!T525","v":0.77077737435642613},{"$f":"'Pseudo-load coefficients'!U525","v":0.69073527816859281},{"$f":"'Pseudo-load coefficients'!V525","v":0.66294448856378496},{"$f":"'Pseudo-load coefficients'!W525","v":0.64013446379175243},{"$f":"'Pseudo-load coefficients'!X525","v":0},{"$f":"'Pseudo-load coefficients'!Y525","v":0},{"$f":"'Pseudo-load coefficients'!Z525","v":0},{"$f":"'Pseudo-load coefficients'!AA525","v":0},{"$f":"'Pseudo-load coefficients'!AB525","v":0.80774986755119482},{"$f":"'Pseudo-load coefficients'!AC525","v":0},{"$f":"'Pseudo-load coefficients'!AD525","v":0},{"$f":"'Pseudo-load coefficients'!AE525","v":0},{"$f":"'Pseudo-load coefficients'!AF525","v":0},{"$f":"'Pseudo-load coefficients'!AG525","v":0.6223063349034833},{"$f":"'Pseudo-load coefficients'!AH525","v":0.6223063349034833},{"$f":"'Pseudo-load coefficients'!AI525","v":0},{"$f":"'Pseudo-load coefficients'!AJ525","v":0},{"$f":"'Pseudo-load coefficients'!AK525","v":0.6223063349034833},{"$f":"'Pseudo-load coefficients'!AL525","v":0.6223063349034833},{"$f":"'Pseudo-load coefficients'!AM525","v":0},{"$f":"'Pseudo-load coefficients'!AN525","v":0},{"$f":"'Pseudo-load coefficients'!AO525","v":0.6223063349034833},{"$f":"'Pseudo-load coefficients'!AP525","v":0.6223063349034833}]
[null,null,null,null,null,"HV","scalar",null,null,{"$f":"'Pseudo-load coefficients'!J526","v":0},{"$f":"'Pseudo-load coefficients'!K526","v":0.165100918742352},{"$f":"'Pseudo-load coefficients'!L526","v":0},{"$f":"'Pseudo-load coefficients'!M526","v":0},{"$f":"'Pseudo-load coefficients'!N526","v":0.18298791515601268},{"$f":"'Pseudo-load coefficients'!O526","v":0},{"$f":"'Pseudo-load coefficients'!P526","v":0.12107473438194591},{"$f":"'Pseudo-load coefficients'!Q526","v":0.12011441661130556},{"$f":"'Pseudo-load coefficients'!R526","v":0.11982617788247479},{"$f":"'Pseudo-load coefficients'!S526","v":1.0589965727972062},{"$f":"'Pseudo-load coefficients'!T526","v":0.90861085327630675},{"$f":"'Pseudo-load coefficients'!U526","v":0.81450567026509912},{"$f":"'Pseudo-load coefficients'!V526","v":0.78173514814224399},{"$f":"'Pseudo-load coefficients'!W526","v":0.75483787634664712},{"$f":"'Pseudo-load coefficients'!X526","v":0},{"$f":"'Pseudo-load coefficients'!Y526","v":0},{"$f":"'Pseudo-load coefficients'!Z526","v":0},{"$f":"'Pseudo-load coefficients'!AA526","v":0},{"$f":"'Pseudo-load coefficients'!AB526","v":1.070863061407769},{"$f":"'Pseudo-load coefficients'!AC526","v":0},{"$f":"'Pseudo-load coefficients'!AD526","v":0},{"$f":"'Pseudo-load coefficients'!AE526","v":0},{"$f":"'Pseudo-load coefficients'!AF526","v":0},{"$f":"'Pseudo-load coefficients'!AG526","v":0.73381518859829098},{"$f":"'Pseudo-load coefficients'!AH526","v":0.73381518859829098},{"$f":"'Pseudo-load coefficients'!AI526","v":0},{"$f":"'Pseudo-load coefficients'!AJ526","v":0},{"$f":"'Pseudo-load coefficients'!AK526","v":0.73381518859829098},{"$f":"'Pseudo-load coefficients'!AL526","v":0.73381518859829098},{"$f":"'Pseudo-load coefficients'!AM526","v":0},{"$f":"'Pseudo-load coefficients'!AN526","v":0},{"$f":"'Pseudo-load coefficients'!AO526","v":0.73381518859829098},{"$f":"'Pseudo-load coefficients'!AP526","v":0.73381518859829098}]
[null,null,null,null,null,"HV/LV","scalar",null,null,{"$f":"'Pseudo-load coefficients'!J527","v":0},{"$f":"'Pseudo-load coefficients'!K527","v":0.165100918742352},{"$f":"'Pseudo-load coefficients'!L527","v":0},{"$f":"'Pseudo-load coefficients'!M527","v":0},{"$f":"'Pseudo-load coefficients'!N527","v":0.18298791515601268},{"$f":"'Pseudo-load coefficients'!O527","v":0},{"$f":"'Pseudo-load coefficients'!P527","v":0.12107473438194591},{"$f":"'Pseudo-load coefficients'!Q527","v":0.12011441661130556},{"$f":"'Pseudo-load coefficients'!R527","v":0.11982617788247479},{"$f":"'Pseudo-load coefficients'!S527","v":1.0589965727972062},{"$f":"'Pseudo-load coefficients'!T527","v":0.90861085327630675},{"$f":"'Pseudo-load coefficients'!U527","v":0.81450567026509912},{"$f":"'Pseudo-load coefficients'!V527","v":0.78173514814224399},{"$f":"'Pseudo-load coefficients'!W527","v":0.75483787634664712},{"$f":"'Pseudo-load coefficients'!X527","v":0},{"$f":"'Pseudo-load coefficients'!Y527","v":0},{"$f":"'Pseudo-load coefficients'!Z527","v":0},{"$f":"'Pseudo-load coefficients'!AA527","v":0},{"$f":"'Pseudo-load coefficients'!AB527","v":1.070863061407769},{"$f":"'Pseudo-load coefficients'!AC527","v":0},{"$f":"'Pseudo-load coefficients'!AD527","v":0},{"$f":"'Pseudo-load coefficients'!AE527","v":0},{"$f":"'Pseudo-load coefficients'!AF527","v":0},{"$f":"'Pseudo-load coefficients'!AG527","v":0.73381518859829098},{"$f":"'Pseudo-load coefficients'!AH527","v":0.73381518859829098},{"$f":"'Pseudo-load coefficients'!AI527","v":0},{"$f":"'Pseudo-load coefficients'!AJ527","v":0},{"$f":"'Pseudo-load coefficients'!AK527","v":0.73381518859829098},{"$f":"'Pseudo-load coefficients'!AL527","v":0.73381518859829098},{"$f":"'Pseudo-load coefficients'!AM527","v":0},{"$f":"'Pseudo-load coefficients'!AN527","v":0},{"$f":"'Pseudo-load coefficients'!AO527","v":0.73381518859829098},{"$f":"'Pseudo-load coefficients'!AP527","v":0.73381518859829098}]
[null,null,null,null,null,"LV circuits","scalar",null,null,{"$f":"'Pseudo-load coefficients'!J528","v":0},{"$f":"'Pseudo-load coefficients'!K528","v":0.165100918742352},{"$f":"'Pseudo-load coefficients'!L528","v":0},{"$f":"'Pseudo-load coefficients'!M528","v":0},{"$f":"'Pseudo-load coefficients'!N528","v":0.18298791515601268},{"$f":"'Pseudo-load coefficients'!O528","v":0},{"$f":"'Pseudo-load coefficients'!P528","v":0.12107473438194591},{"$f":"'Pseudo-load coefficients'!Q528","v":0.12011441661130556},{"$f":"'Pseudo-load coefficients'!R528","v":0.11982617788247479},{"$f":"'Pseudo-load coefficients'!S528","v":1.0589965727972062},{"$f":"'Pseudo-load coefficients'!T528","v":0.90861085327630675},{"$f":"'Pseudo-load coefficients'!U528","v":0.81450567026509912},{"$f":"'Pseudo-load coefficients'!V528","v":0.78173514814224399},{"$f":"'Pseudo-load coefficients'!W528","v":0.75483787634664712},{"$f":"'Pseudo-load coefficients'!X528","v":0},{"$f":"'Pseudo-load coefficients'!Y528","v":0},{"$f":"'Pseudo-load coefficients'!Z528","v":0},{"$f":"'Pseudo-load coefficients'!AA528","v":0},{"$f":"'Pseudo-load coefficients'!AB528","v":1.070863061407769},{"$f":"'Pseudo-load coefficients'!AC528","v":0},{"$f":"'Pseudo-load coefficients'!AD528","v":0},{"$f":"'Pseudo-load coefficients'!AE528","v":0},{"$f":"'Pseudo-load coefficients'!AF528","v":0},{"$f":"'Pseudo-load coefficients'!AG528","v":0.73381518859829098},{"$f":"'Pseudo-load coefficients'!AH528","v":0.73381518859829098},{"$f":"'Pseudo-load coefficients'!AI528","v":0},{"$f":"'Pseudo-load coefficients'!AJ528","v":0},{"$f":"'Pseudo-load coefficients'!AK528","v":0.73381518859829098},{"$f":"'Pseudo-load coefficients'!AL528","v":0.73381518859829098},{"$f":"'Pseudo-load coefficients'!AM528","v":0},{"$f":"'Pseudo-load coefficients'!AN528","v":0},{"$f":"'Pseudo-load coefficients'!AO528","v":0.73381518859829098},{"$f":"'Pseudo-load coefficients'!AP528","v":0.73381518859829098}]
[]
[null,null,null,null,"Pseudo load coefficient, unit rate 3"]
[null,null,null,null,null,"Transmission exit","scalar",null,null,{"$f":"'Pseudo-load coefficients'!J531","v":0},{"$f":"'Pseudo-load coefficients'!K531","v":0},{"$f":"'Pseudo-load coefficients'!L531","v":0},{"$f":"'Pseudo-load coefficients'!M531","v":0},{"$f":"'Pseudo-load coefficients'!N531","v":0},{"$f":"'Pseudo-load coefficients'!O531","v":0},{"$f":"'Pseudo-load coefficients'!P531","v":0},{"$f":"'Pseudo-load coefficients'!Q531","v":0},{"$f":"'Pseudo-load coefficients'!R531","v":0},{"$f":"'Pseudo-load coefficients'!S531","v":0.14841452289975304},{"$f":"'Pseudo-load coefficients'!T531","v":0.12736837413688548},{"$f":"'Pseudo-load coefficients'!U531","v":0.11414822973107934},{"$f":"'Pseudo-load coefficients'!V531","v":0.1095556317612339},{"$f":"'Pseudo-load coefficients'!W531","v":0.10578613564580013},{"$f":"'Pseudo-load coefficients'!X531","v":0},{"$f":"'Pseudo-load coefficients'!Y531","v":0},{"$f":"'Pseudo-load coefficients'!Z531","v":0},{"$f":"'Pseudo-load coefficients'!AA531","v":0},{"$f":"'Pseudo-load coefficients'!AB531","v":0.10871706769652695},{"$f":"'Pseudo-load coefficients'!AC531","v":0},{"$f":"'Pseudo-load coefficients'!AD531","v":0},{"$f":"'Pseudo-load coefficients'!AE531","v":0},{"$f":"'Pseudo-load coefficients'!AF531","v":0},{"$f":"'Pseudo-load coefficients'!AG531","v":0.10283992829787207},{"$f":"'Pseudo-load coefficients'!AH531","v":0.10283992829787207},{"$f":"'Pseudo-load coefficients'!AI531","v":0},{"$f":"'Pseudo-load coefficients'!AJ531","v":0},{"$f":"'Pseudo-load coefficients'!AK531","v":0.10283992829787207},{"$f":"'Pseudo-load coefficients'!AL531","v":0.10283992829787207},{"$f":"'Pseudo-load coefficients'!AM531","v":0},{"$f":"'Pseudo-load coefficients'!AN531","v":0},{"$f":"'Pseudo-load coefficients'!AO531","v":0.10283992829787207},{"$f":"'Pseudo-load coefficients'!AP531","v":0.10283992829787207}]
[null,null,null,null,null,"GSPs","scalar",null,null,{"$f":"'Pseudo-load coefficients'!J531","v":0},{"$f":"'Pseudo-load coefficients'!K531","v":0},{"$f":"'Pseudo-load coefficients'!L531","v":0},{"$f":"'Pseudo-load coefficients'!M531","v":0},{"$f":"'Pseudo-load coefficients'!N531","v":0},{"$f":"'Pseudo-load coefficients'!O531","v":0},{"$f":"'Pseudo-load coefficients'!P531","v":0},{"$f":"'Pseudo-load coefficients'!Q531","v":0},{"$f":"'Pseudo-load coefficients'!R531","v":0},{"$f":"'Pseudo-load coefficients'!S531","v":0.14841452289975304},{"$f":"'Pseudo-load coefficients'!T531","v":0.12736837413688548},{"$f":"'Pseudo-load coefficients'!U531","v":0.11414822973107934},{"$f":"'Pseudo-load coefficients'!V531","v":0.1095556317612339},{"$f":"'Pseudo-load coefficients'!W531","v":0.10578613564580013},{"$f":"'Pseudo-load coefficients'!X531","v":0},{"$f":"'Pseudo-load coefficients'!Y531","v":0},{"$f":"'Pseudo-load coefficients'!Z531","v":0},{"$f":"'Pseudo-load coefficients'!AA531","v":0},{"$f":"'Pseudo-load coefficients'!AB531","v":0.10871706769652695},{"$f":"'Pseudo-load coefficients'!AC531","v":0},{"$f":"'Pseudo-load coefficients'!AD531","v":0},{"$f":"'Pseudo-load coefficients'!AE531","v":0},{"$f":"'Pseudo-load coefficients'!AF531","v":0},{"$f":"'Pseudo-load coefficients'!AG531","v":0.10283992829787207},{"$f":"'Pseudo-load coefficients'!AH531","v":0.10283992829787207},{"$f":"'Pseudo-load coefficients'!AI531","v":0},{"$f":"'Pseudo-load coefficients'!AJ531","v":0},{"$f":"'Pseudo-load coefficients'!AK531","v":0.10283992829787207},{"$f":"'Pseudo-load coefficients'!AL531","v":0.10283992829787207},{"$f":"'Pseudo-load coefficients'!AM531","v":0},{"$f":"'Pseudo-load coefficients'!AN531","v":0},{"$f":"'Pseudo-load coefficients'!AO531","v":0.10283992829787207},{"$f":"'Pseudo-load coefficients'!AP531","v":0.10283992829787207}]
[null,null,null,null,null,"132kV","scalar",null,null,{"$f":"'Pseudo-load coefficients'!J532","v":0},{"$f":"'Pseudo-load coefficients'!K532","v":0},{"$f":"'Pseudo-load coefficients'!L532","v":0},{"$f":"'Pseudo-load coefficients'!M532","v":0},{"$f":"'Pseudo-load coefficients'!N532","v":0},{"$f":"'Pseudo-load coefficients'!O532","v":0},{"$f":"'Pseudo-load coefficients'!P532","v":0},{"$f":"'Pseudo-load coefficients'!Q532","v":0},{"$f":"'Pseudo-load coefficients'!R532","v":0},{"$f":"'Pseudo-load coefficients'!S532","v":0.48033405963741166},{"$f":"'Pseudo-load coefficients'!T532","v":0.41236021161957109},{"$f":"'Pseudo-load coefficients'!U532","v":0.36953828038417635},{"$f":"'Pseudo-load coefficients'!V532","v":0.35467041287303913},{"$f":"'Pseudo-load coefficients'!W532","v":0.34246721781960798},{"$f":"'Pseudo-load coefficients'!X532","v":0},{"$f":"'Pseudo-load coefficients'!Y532","v":0},{"$f":"'Pseudo-load coefficients'!Z532","v":0},{"$f":"'Pseudo-load coefficients'!AA532","v":0},{"$f":"'Pseudo-load coefficients'!AB532","v":0.35195568375990421},{"$f":"'Pseudo-load coefficients'!AC532","v":0},{"$f":"'Pseudo-load coefficients'!AD532","v":0},{"$f":"'Pseudo-load coefficients'!AE532","v":0},{"$f":"'Pseudo-load coefficients'!AF532","v":0},{"$f":"'Pseudo-load coefficients'!AG532","v":0.3329293003278212},{"$f":"'Pseudo-load coefficients'!AH532","v":0.3329293003278212},{"$f":"'Pseudo-load coefficients'!AI532","v":0},{"$f":"'Pseudo-load coefficients'!AJ532","v":0},{"$f":"'Pseudo-load coefficients'!AK532","v":0.3329293003278212},{"$f":"'Pseudo-load coefficients'!AL532","v":0.3329293003278212},{"$f":"'Pseudo-load coefficients'!AM532","v":0},{"$f":"'Pseudo-load coefficients'!AN532","v":0},{"$f":"'Pseudo-load coefficients'!AO532","v":0.3329293003278212},{"$f":"'Pseudo-load coefficients'!AP532","v":0.3329293003278212}]
[null,null,null,null,null,"132kV/EHV","scalar",null,null,{"$f":"'Pseudo-load coefficients'!J533","v":0},{"$f":"'Pseudo-load coefficients'!K533","v":0},{"$f":"'Pseudo-load coefficients'!L533","v":0},{"$f":"'Pseudo-load coefficients'!M533","v":0},{"$f":"'Pseudo-load coefficients'!N533","v":0},{"$f":"'Pseudo-load coefficients'!O533","v":0},{"$f":"'Pseudo-load coefficients'!P533","v":0},{"$f":"'Pseudo-load coefficients'!Q533","v":0},{"$f":"'Pseudo-load coefficients'!R533","v":0},{"$f":"'Pseudo-load coefficients'!S533","v":0.48033405963741166},{"$f":"'Pseudo-load coefficients'!T533","v":0.41236021161957109},{"$f":"'Pseudo-load coefficients'!U533","v":0.36953828038417635},{"$f":"'Pseudo-load coefficients'!V533","v":0.35467041287303913},{"$f":"'Pseudo-load coefficients'!W533","v":0.34246721781960798},{"$f":"'Pseudo-load coefficients'!X533","v":0},{"$f":"'Pseudo-load coefficients'!Y533","v":0},{"$f":"'Pseudo-load coefficients'!Z533","v":0},{"$f":"'Pseudo-load coefficients'!AA533","v":0},{"$f":"'Pseudo-load coefficients'!AB533","v":0.35195568375990421},{"$f":"'Pseudo-load coefficients'!AC533","v":0},{"$f":"'Pseudo-load coefficients'!AD533","v":0},{"$f":"'Pseudo-load coefficients'!AE533","v":0},{"$f":"'Pseudo-load coefficients'!AF533","v":0},{"$f":"'Pseudo-load coefficients'!AG533","v":0.3329293003278212},{"$f":"'Pseudo-load coefficients'!AH533","v":0.3329293003278212},{"$f":"'Pseudo-load coefficients'!AI533","v":0},{"$f":"'Pseudo-load coefficients'!AJ533","v":0},{"$f":"'Pseudo-load coefficients'!AK533","v":0.3329293003278212},{"$f":"'Pseudo-load coefficients'!AL533","v":0.3329293003278212},{"$f":"'Pseudo-load coefficients'!AM533","v":0},{"$f":"'Pseudo-load coefficients'!AN533","v":0},{"$f":"'Pseudo-load coefficients'!AO533","v":0.3329293003278212},{"$f":"'Pseudo-load coefficients'!AP533","v":0.3329293003278212}]
[null,null,null,null,null,"EHV","scalar",null,null,{"$f":"'Pseudo-load coefficients'!J534","v":0},{"$f":"'Pseudo-load coefficients'!K534","v":0},{"$f":"'Pseudo-load coefficients'!L534","v":0},{"$f":"'Pseudo-load coefficients'!M534","v":0},{"$f":"'Pseudo-load coefficients'!N534","v":0},{"$f":"'Pseudo-load coefficients'!O534","v":0},{"$f":"'Pseudo-load coefficients'!P534","v":0},{"$f":"'Pseudo-load coefficients'!Q534","v":0},{"$f":"'Pseudo-load coefficients'!R534","v":0},{"$f":"'Pseudo-load coefficients'!S534","v":0.14397713093773079},{"$f":"'Pseudo-load coefficients'!T534","v":0.12353126266316776},{"$f":"'Pseudo-load coefficients'!U534","v":0.11073708126129994},{"$f":"'Pseudo-load coefficients'!V534","v":0.10628172618671497},{"$f":"'Pseudo-load coefficients'!W534","v":0.10262487580338142},{"$f":"'Pseudo-load coefficients'!X534","v":0},{"$f":"'Pseudo-load coefficients'!Y534","v":0},{"$f":"'Pseudo-load coefficients'!Z534","v":0},{"$f":"'Pseudo-load coefficients'!AA534","v":0},{"$f":"'Pseudo-load coefficients'!AB534","v":0.10546822135010885},{"$f":"'Pseudo-load coefficients'!AC534","v":0},{"$f":"'Pseudo-load coefficients'!AD534","v":0},{"$f":"'Pseudo-load coefficients'!AE534","v":0},{"$f":"'Pseudo-load coefficients'!AF534","v":0},{"$f":"'Pseudo-load coefficients'!AG534","v":9.9766711438776134E-2},{"$f":"'Pseudo-load coefficients'!AH534","v":9.9766711438776134E-2},{"$f":"'Pseudo-load coefficients'!AI534","v":0},{"$f":"'Pseudo-load coefficients'!AJ534","v":0},{"$f":"'Pseudo-load coefficients'!AK534","v":9.9766711438776134E-2},{"$f":"'Pseudo-load coefficients'!AL534","v":9.9766711438776134E-2},{"$f":"'Pseudo-load coefficients'!AM534","v":0},{"$f":"'Pseudo-load coefficients'!AN534","v":0},{"$f":"'Pseudo-load coefficients'!AO534","v":9.9766711438776134E-2},{"$f":"'Pseudo-load coefficients'!AP534","v":9.9766711438776134E-2}]
[null,null,null,null,null,"EHV/HV","scalar",null,null,{"$f":"'Pseudo-load coefficients'!J535","v":0},{"$f":"'Pseudo-load coefficients'!K535","v":0},{"$f":"'Pseudo-load coefficients'!L535","v":0},{"$f":"'Pseudo-load coefficients'!M535","v":0},{"$f":"'Pseudo-load coefficients'!N535","v":0},{"$f":"'Pseudo-load coefficients'!O535","v":0},{"$f":"'Pseudo-load coefficients'!P535","v":0},{"$f":"'Pseudo-load coefficients'!Q535","v":0},{"$f":"'Pseudo-load coefficients'!R535","v":0},{"$f":"'Pseudo-load coefficients'!S535","v":0.14397713093773079},{"$f":"'Pseudo-load coefficients'!T535","v":0.12353126266316776},{"$f":"'Pseudo-load coefficients'!U535","v":0.11073708126129994},{"$f":"'Pseudo-load coefficients'!V535","v":0.10628172618671497},{"$f":"'Pseudo-load coefficients'!W535","v":0.10262487580338142},{"$f":"'Pseudo-load coefficients'!X535","v":0},{"$f":"'Pseudo-load coefficients'!Y535","v":0},{"$f":"'Pseudo-load coefficients'!Z535","v":0},{"$f":"'Pseudo-load coefficients'!AA535","v":0},{"$f":"'Pseudo-load coefficients'!AB535","v":0.10546822135010885},{"$f":"'Pseudo-load coefficients'!AC535","v":0},{"$f":"'Pseudo-load coefficients'!AD535","v":0},{"$f":"'Pseudo-load coefficients'!AE535","v":0},{"$f":"'Pseudo-load coefficients'!AF535","v":0},{"$f":"'Pseudo-load coefficients'!AG535","v":9.9766711438776134E-2},{"$f":"'Pseudo-load coefficients'!AH535","v":9.9766711438776134E-2},{"$f":"'Pseudo-load coefficients'!AI535","v":0},{"$f":"'Pseudo-load coefficients'!AJ535","v":0},{"$f":"'Pseudo-load coefficients'!AK535","v":9.9766711438776134E-2},{"$f":"'Pseudo-load coefficients'!AL535","v":9.9766711438776134E-2},{"$f":"'Pseudo-load coefficients'!AM535","v":0},{"$f":"'Pseudo-load coefficients'!AN535","v":0},{"$f":"'Pseudo-load coefficients'!AO535","v":9.9766711438776134E-2},{"$f":"'Pseudo-load coefficients'!AP535","v":9.9766711438776134E-2}]
[null,null,null,null,null,"132kV/HV","scalar",null,null,{"$f":"'Pseudo-load coefficients'!J536","v":0},{"$f":"'Pseudo-load coefficients'!K536","v":0},{"$f":"'Pseudo-load coefficients'!L536","v":0},{"$f":"'Pseudo-load coefficients'!M536","v":0},{"$f":"'Pseudo-load coefficients'!N536","v":0},{"$f":"'Pseudo-load coefficients'!O536","v":0},{"$f":"'Pseudo-load coefficients'!P536","v":0},{"$f":"'Pseudo-load coefficients'!Q536","v":0},{"$f":"'Pseudo-load coefficients'!R536","v":0},{"$f":"'Pseudo-load coefficients'!S536","v":0.48033405963741166},{"$f":"'Pseudo-load coefficients'!T536","v":0.41236021161957109},{"$f":"'Pseudo-load coefficients'!U536","v":0.36953828038417635},{"$f":"'Pseudo-load coefficients'!V536","v":0.35467041287303913},{"$f":"'Pseudo-load coefficients'!W536","v":0.34246721781960798},{"$f":"'Pseudo-load coefficients'!X536","v":0},{"$f":"'Pseudo-load coefficients'!Y536","v":0},{"$f":"'Pseudo-load coefficients'!Z536","v":0},{"$f":"'Pseudo-load coefficients'!AA536","v":0},{"$f":"'Pseudo-load coefficients'!AB536","v":0.35195568375990421},{"$f":"'Pseudo-load coefficients'!AC536","v":0},{"$f":"'Pseudo-load coefficients'!AD536","v":0},{"$f":"'Pseudo-load coefficients'!AE536","v":0},{"$f":"'Pseudo-load coefficients'!AF536","v":0},{"$f":"'Pseudo-load coefficients'!AG536","v":0.3329293003278212},{"$f":"'Pseudo-load coefficients'!AH536","v":0.3329293003278212},{"$f":"'Pseudo-load coefficients'!AI536","v":0},{"$f":"'Pseudo-load coefficients'!AJ536","v":0},{"$f":"'Pseudo-load coefficients'!AK536","v":0.3329293003278212},{"$f":"'Pseudo-load coefficients'!AL536","v":0.3329293003278212},{"$f":"'Pseudo-load coefficients'!AM536","v":0},{"$f":"'Pseudo-load coefficients'!AN536","v":0},{"$f":"'Pseudo-load coefficients'!AO536","v":0.3329293003278212},{"$f":"'Pseudo-load coefficients'!AP536","v":0.3329293003278212}]
[null,null,null,null,null,"HV","scalar",null,null,{"$f":"'Pseudo-load coefficients'!J537","v":0},{"$f":"'Pseudo-load coefficients'!K537","v":0},{"$f":"'Pseudo-load coefficients'!L537","v":0},{"$f":"'Pseudo-load coefficients'!M537","v":0},{"$f":"'Pseudo-load coefficients'!N537","v":0},{"$f":"'Pseudo-load coefficients'!O537","v":0},{"$f":"'Pseudo-load coefficients'!P537","v":0},{"$f":"'Pseudo-load coefficients'!Q537","v":0},{"$f":"'Pseudo-load coefficients'!R537","v":0},{"$f":"'Pseudo-load coefficients'!S537","v":0.14397713093773079},{"$f":"'Pseudo-load coefficients'!T537","v":0.12353126266316776},{"$f":"'Pseudo-load coefficients'!U537","v":0.11073708126129994},{"$f":"'Pseudo-load coefficients'!V537","v":0.10628172618671497},{"$f":"'Pseudo-load coefficients'!W537","v":0.10262487580338142},{"$f":"'Pseudo-load coefficients'!X537","v":0},{"$f":"'Pseudo-load coefficients'!Y537","v":0},{"$f":"'Pseudo-load coefficients'!Z537","v":0},{"$f":"'Pseudo-load coefficients'!AA537","v":0},{"$f":"'Pseudo-load coefficients'!AB537","v":0.10546822135010885},{"$f":"'Pseudo-load coefficients'!AC537","v":0},{"$f":"'Pseudo-load coefficients'!AD537","v":0},{"$f":"'Pseudo-load coefficients'!AE537","v":0},{"$f":"'Pseudo-load coefficients'!AF537","v":0},{"$f":"'Pseudo-load coefficients'!AG537","v":9.9766711438776134E-2},{"$f":"'Pseudo-load coefficients'!AH537","v":9.9766711438776134E-2},{"$f":"'Pseudo-load coefficients'!AI537","v":0},{"$f":"'Pseudo-load coefficients'!AJ537","v":0},{"$f":"'Pseudo-load coefficients'!AK537","v":9.9766711438776134E-2},{"$f":"'Pseudo-load coefficients'!AL537","v":9.9766711438776134E-2},{"$f":"'Pseudo-load coefficients'!AM537","v":0},{"$f":"'Pseudo-load coefficients'!AN537","v":0},{"$f":"'Pseudo-load coefficients'!AO537","v":9.9766711438776134E-2},{"$f":"'Pseudo-load coefficients'!AP537","v":9.9766711438776134E-2}]
[null,null,null,null,null,"HV/LV","scalar",null,null,{"$f":"'Pseudo-load coefficients'!J538","v":0},{"$f":"'Pseudo-load coefficients'!K538","v":0},{"$f":"'Pseudo-load coefficients'!L538","v":0},{"$f":"'Pseudo-load coefficients'!M538","v":0},{"$f":"'Pseudo-load coefficients'!N538","v":0},{"$f":"'Pseudo-load coefficients'!O538","v":0},{"$f":"'Pseudo-load coefficients'!P538","v":0},{"$f":"'Pseudo-load coefficients'!Q538","v":0},{"$f":"'Pseudo-load coefficients'!R538","v":0},{"$f":"'Pseudo-load coefficients'!S538","v":0.14397713093773079},{"$f":"'Pseudo-load coefficients'!T538","v":0.12353126266316776},{"$f":"'Pseudo-load coefficients'!U538","v":0.11073708126129994},{"$f":"'Pseudo-load coefficients'!V538","v":0.10628172618671497},{"$f":"'Pseudo-load coefficients'!W538","v":0.10262487580338142},{"$f":"'Pseudo-load coefficients'!X538","v":0},{"$f":"'Pseudo-load coefficients'!Y538","v":0},{"$f":"'Pseudo-load coefficients'!Z538","v":0},{"$f":"'Pseudo-load coefficients'!AA538","v":0},{"$f":"'Pseudo-load coefficients'!AB538","v":0.10546822135010885},{"$f":"'Pseudo-load coefficients'!AC538","v":0},{"$f":"'Pseudo-load coefficients'!AD538","v":0},{"$f":"'Pseudo-load coefficients'!AE538","v":0},{"$f":"'Pseudo-load coefficients'!AF538","v":0},{"$f":"'Pseudo-load coefficients'!AG538","v":9.9766711438776134E-2},{"$f":"'Pseudo-load coefficients'!AH538","v":9.9766711438776134E-2},{"$f":"'Pseudo-load coefficients'!AI538","v":0},{"$f":"'Pseudo-load coefficients'!AJ538","v":0},{"$f":"'Pseudo-load coefficients'!AK538","v":9.9766711438776134E-2},{"$f":"'Pseudo-load coefficients'!AL538","v":9.9766711438776134E-2},{"$f":"'Pseudo-load coefficients'!AM538","v":0},{"$f":"'Pseudo-load coefficients'!AN538","v":0},{"$f":"'Pseudo-load coefficients'!AO538","v":9.9766711438776134E-2},{"$f":"'Pseudo-load coefficients'!AP538","v":9.9766711438776134E-2}]
[null,null,null,null,null,"LV circuits","scalar",null,null,{"$f":"'Pseudo-load coefficients'!J539","v":0},{"$f":"'Pseudo-load coefficients'!K539","v":0},{"$f":"'Pseudo-load coefficients'!L539","v":0},{"$f":"'Pseudo-load coefficients'!M539","v":0},{"$f":"'Pseudo-load coefficients'!N539","v":0},{"$f":"'Pseudo-load coefficients'!O539","v":0},{"$f":"'Pseudo-load coefficients'!P539","v":0},{"$f":"'Pseudo-load coefficients'!Q539","v":0},{"$f":"'Pseudo-load coefficients'!R539","v":0},{"$f":"'Pseudo-load coefficients'!S539","v":0.14397713093773079},{"$f":"'Pseudo-load coefficients'!T539","v":0.12353126266316776},{"$f":"'Pseudo-load coefficients'!U539","v":0.11073708126129994},{"$f":"'Pseudo-load coefficients'!V539","v":0.10628172618671497},{"$f":"'Pseudo-load coefficients'!W539","v":0.10262487580338142},{"$f":"'Pseudo-load coefficients'!X539","v":0},{"$f":"'Pseudo-load coefficients'!Y539","v":0},{"$f":"'Pseudo-load coefficients'!Z539","v":0},{"$f":"'Pseudo-load coefficients'!AA539","v":0},{"$f":"'Pseudo-load coefficients'!AB539","v":0.10546822135010885},{"$f":"'Pseudo-load coefficients'!AC539","v":0},{"$f":"'Pseudo-load coefficients'!AD539","v":0},{"$f":"'Pseudo-load coefficients'!AE539","v":0},{"$f":"'Pseudo-load coefficients'!AF539","v":0},{"$f":"'Pseudo-load coefficients'!AG539","v":9.9766711438776134E-2},{"$f":"'Pseudo-load coefficients'!AH539","v":9.9766711438776134E-2},{"$f":"'Pseudo-load coefficients'!AI539","v":0},{"$f":"'Pseudo-load coefficients'!AJ539","v":0},{"$f":"'Pseudo-load coefficients'!AK539","v":9.9766711438776134E-2},{"$f":"'Pseudo-load coefficients'!AL539","v":9.9766711438776134E-2},{"$f":"'Pseudo-load coefficients'!AM539","v":0},{"$f":"'Pseudo-load coefficients'!AN539","v":0},{"$f":"'Pseudo-load coefficients'!AO539","v":9.9766711438776134E-2},{"$f":"'Pseudo-load coefficients'!AP539","v":9.9766711438776134E-2}]
[]
[null,"Calculation of yardstick & unit rate charges"]
[]
[null,null,{"$f":"INDEX('Version control'!$H$34:$H$59,MATCH($A$1,'Version control'!$F$34:$F$59,0),1)&\"-B: Yardstick charges\"","v":"Section 512-B: Yardstick charges"}]
[]
[null,null,null,"Calculates yardstick charges using formulae in Paragraphs 68 & 71, except using the load coefficient"]
[null,null,null,null,null,null,null,null,">",null,null,null,null,null,null,null,null,null,null,null,null,null,null,null,null,null,null,null,null,null,null,null,null,null,null,null,null,null,null,null,null,null,null,"Paragraph 67"]
[null,null,null,null,"Asset costs"]
[null,null,null,null,null,"Transmission exit","p/kWh",null,null,{"$f":"hundred * $H18 * J55 / $H43 * J$78 * (1 - J67) / hours_in_year","v":0},0,0,0,0,0,0,0,0,0,0,0,0,0,0,0,0,0,0,0,0,0,0,0,0,0,0,0,0,0,0,0,0]
[null,null,null,null,null,"GSPs","p/kWh",null,null,{"$f":"hundred * $H19 * J56 / $H44 * J$78 * (1 - J68) / hours_in_year","v":0},0,0,0,0,0,0,0,0,0,0,0,0,0,0,0,0,0,0,0,0,0,0,0,0,0,0,0,0,0,0,0,0]
[null,null,null,null,null,"132kV","p/kWh",null,null,{"$f":"hundred * $H20 * J57 / $H45 * J$78 * (1 - J69) / hours_in_year","v":0.44383183514978664},0.27399965460005465,0,0.24455755182325453,0.26189119873209316,0,0.25176525246671594,0.24755747665947275,0.22339402566387251,0.43792918366048933,0.25702158079780635,0.25145888610771866,0.23408757853137885,0.21149058100055568,0.20404039889001521,0.43106671766242677,0.72411293313544534,0,0.43324454522337313,-0.20404039889000805,-0.20063025294755665,-0.20404039889000805,-0.20404039889000805,-0.20404039889000805,-0.20404039889000805,-0.20063025294755665,-0.20063025294755665,-0.20063025294755665,-0.20063025294755665,-0.19722010700510526,-0.19722010700510526,-0.19722010700510526,-0.19722010700510526]
[null,null,null,null,null,"132kV/EHV","p/kWh",null,null,{"$f":"hundred * $H21 * J58 / $H46 * J$78 * (1 - J70) / hours_in_year","v":4.129583187084631E-2},2.5493988427430312E-2,0,2.2754581224284129E-2,2.4367370825585356E-2,0,2.3425213590813947E-2,2.3033705842778057E-2,1.3302684693310002E-2,4.0746626329040241E-2,2.3914282724273959E-2,2.3396708078928425E-2,2.178041438335071E-2,1.2593857451176752E-2,1.898470848667002E-2,4.0108115930209222E-2,6.7374270104295142E-2,0,4.0310749436141005E-2,-1.8984708486669357E-2,-1.8667415308619175E-2,-1.8984708486669357E-2,-1.8984708486669357E-2,-1.8984708486669357E-2,-1.8984708486669357E-2,-1.8667415308619175E-2,-1.8667415308619175E-2,-1.8667415308619175E-2,-1.8667415308619175E-2,-1.174407816356415E-2,-1.174407816356415E-2,-1.174407816356415E-2,-1.174407816356415E-2]
[null,null,null,null,null,"EHV","p/kWh",null,null,{"$f":"hundred * $H22 * J59 / $H47 * J$78 * (1 - J71) / hours_in_year","v":0.11758644221873403},7.2592008959224602E-2,0,6.4791775080566771E-2,6.9384059160410294E-2,0,6.670134489535097E-2,6.5586559186793583E-2,3.7878286843477438E-2,0.11602262517516988,6.8093928524188371E-2,6.6620177824138441E-2,6.2017916127656517E-2,3.5859960301204585E-2,5.4057376407600728E-2,0.11420451998835542,0.19184262332879656,0,0.11478150202158692,-5.4057376407598834E-2,-5.3153910506636183E-2,-5.4057376407598834E-2,-5.4057376407598834E-2,-5.4057376407598834E-2,-5.4057376407598834E-2,-5.3153910506636183E-2,-5.3153910506636183E-2,-5.3153910506636183E-2,-5.3153910506636183E-2,-3.3440284547631052E-2,-3.3440284547631052E-2,-3.3440284547631052E-2,-3.3440284547631052E-2]
[null,null,null,null,null,"EHV/HV","p/kWh",null,null,{"$f":"hundred * $H23 * J60 / $H48 * J$78 * (1 - J72) / hours_in_year","v":2.2585093365325642E-2},1.3942911010700146E-2,0,1.2444702483452134E-2,1.3326752852068864E-2,0,1.281147786793296E-2,1.2597358460669455E-2,4.0923945283506714E-3,2.2284727496023438E-2,1.3078954548771813E-2,1.2795887925360199E-2,1.191192113339491E-2,3.8743332276336183E-3,1.0382922301357804E-2,2.1935519929084692E-2,3.6847645677297008E-2,0,2.2046342170533313E-2,-1.038292230135744E-2,-1.020939156651581E-2,-1.038292230135744E-2,-1.038292230135744E-2,-1.038292230135744E-2,-1.038292230135744E-2,-1.020939156651581E-2,-1.020939156651581E-2,-1.020939156651581E-2,-1.020939156651581E-2,-3.6129098994027043E-3,-3.6129098994027043E-3,-3.6129098994027043E-3,-3.6129098994027043E-3]
[null,null,null,null,null,"132kV/HV","p/kWh",null,null,{"$f":"hundred * $H24 * J61 / $H49 * J$78 * (1 - J73) / hours_in_year","v":9.2699734866655958E-3},5.7228196184729201E-3,0,5.1078851083323582E-3,5.4699196325523917E-3,0,5.2584267968125474E-3,5.170542226392281E-3,1.6797091852198815E-3,9.1466893540878887E-3,5.3682116756957228E-3,5.2520279587838312E-3,4.8892068452261765E-3,1.5902066782602095E-3,4.2616345609385528E-3,9.0033583155793174E-3,1.5123988772125514E-2,0,9.0488449214278805E-3,-4.2616345609384036E-3,-4.1904094707834435E-3,-4.2616345609384036E-3,-4.2616345609384036E-3,-4.2616345609384036E-3,-4.2616345609384036E-3,-4.1904094707834435E-3,-4.1904094707834435E-3,-4.1904094707834435E-3,-4.1904094707834435E-3,-1.4829063770262539E-3,-1.4829063770262539E-3,-1.4829063770262539E-3,-1.4829063770262539E-3]
[null,null,null,null,null,"HV","p/kWh",null,null,{"$f":"hundred * $H25 * J62 / $H50 * J$78 * (1 - J74) / hours_in_year","v":0.13168127639518495},8.1293457098223554E-2,0,7.2558225944516802E-2,7.7700977249792164E-2,0,7.4696691789998743E-2,7.3448279113842774E-2,2.3860505081339852E-2,0.12993000796270693,7.6256201426247699E-2,7.4605795396359725E-2,6.9451870478977926E-2,2.2589109389219281E-2,6.0537117967106244E-2,0.12789397041362383,0.21483838638424108,0,0.12854011404344534,-6.0537117967104113E-2,-5.9525355549826603E-2,-6.0537117967104113E-2,-6.0537117967104113E-2,-6.0537117967104113E-2,-6.0537117967104113E-2,-5.9525355549826603E-2,-5.9525355549826603E-2,-5.9525355549826603E-2,-5.9525355549826603E-2,0,0,0,0]
[null,null,null,null,null,"HV/LV","p/kWh",null,null,{"$f":"hundred * $H26 * J63 / $H51 * J$78 * (1 - J75) / hours_in_year","v":9.7810393350678138E-3},6.0383262019356228E-3,0,5.3894895422809501E-3,5.7714835066803496E-3,0,5.5483307923352579E-3,5.4556010297892657E-3,0,9.6509583858755826E-3,5.6641682561960355E-3,5.5415791779376963E-3,5.1587552584944248E-3,0,4.496584087557931E-3,9.4997253184234427E-3,1.5957794193917737E-2,0,9.5477196607657907E-3,-4.496584087557774E-3,0,-4.496584087557774E-3,-4.496584087557774E-3,-4.496584087557774E-3,-4.496584087557774E-3,0,0,0,0,0,0,0,0]
[null,null,null,null,null,"LV circuits","p/kWh",null,null,{"$f":"hundred * $H27 * J64 / $H52 * J$78 * (1 - J76) / hours_in_year","v":2.2300848218911894E-2},1.376743222398169E-2,0,1.2288079430260989E-2,1.3159028736238025E-2,0,1.2650238755769802E-2,0,0,2.2004262610293868E-2,1.2914349103466812E-2,1.2634845020732585E-2,0,0,1.0252247824081429E-2,2.1659450002206416E-2,3.6383898892144224E-2,0,2.176887748810823E-2,0,0,0,0,0,0,0,0,0,0,0,0,0,0]
[]
[null,null,null,null,"Other operating costs"]
[null,null,null,null,null,"Transmission exit","p/kWh",null,null,{"$f":"hundred * $H30 * J55 / $H43 * J$78 / hours_in_year","v":0.24783652430692771},0.15300191802252897,0,0.13656139293485264,0.14624053368869308,0,0.14058618641348497,0.13823655655699216,0.12474364046639835,0.24454047270934715,0.1435213299544025,0.14041511086737679,0.13071494032658243,0.11809673477149556,0.11393653918952053,0.24070845890042267,0.40434601202822207,0,0.24192456187118552,-0.11393653918951653,-0.11203230733676695,-0.11393653918951653,-0.11393653918951653,-0.11393653918951653,-0.11393653918951653,-0.11203230733676695,-0.11203230733676695,-0.11203230733676695,-0.11203230733676695,-0.11012807548401737,-0.11012807548401737,-0.11012807548401737,-0.11012807548401737]
[null,null,null,null,null,"GSPs","p/kWh",null,null,{"$f":"hundred * $H31 * J56 / $H44 * J$78 / hours_in_year","v":0},0,0,0,0,0,0,0,0,0,0,0,0,0,0,0,0,0,0,0,0,0,0,0,0,0,0,0,0,0,0,0,0]
[null,null,null,null,null,"132kV","p/kWh",null,null,{"$f":"hundred * $H32 * J57 / $H45 * J$78 / hours_in_year","v":0.32286901503384358},0.1993232382045714,0,0.17790534527478072,0.19051484522764559,0,0.18314864470288011,0.18008766456857012,0.1625097690574582,0.31857508404127671,0.18697240274939539,0.1829257760469272,0.17028887954055119,0.15385051311954667,0.14843081861060914,0.31358292831466028,0.52676173942278559,0,0.31516720637637036,-0.14843081861060392,-0.14595008069510637,-0.14843081861060392,-0.14843081861060392,-0.14843081861060392,-0.14843081861060392,-0.14595008069510637,-0.14595008069510637,-0.14595008069510637,-0.14595008069510637,-0.14346934277960879,-0.14346934277960879,-0.14346934277960879,-0.14346934277960879]
[null,null,null,null,null,"132kV/EHV","p/kWh",null,null,{"$f":"hundred * $H33 * J58 / $H46 * J$78 / hours_in_year","v":3.0040982879571083E-2},1.8545805597903354E-2,0,1.6553001938026345E-2,1.7726238620909211E-2,0,1.7040858811921435E-2,1.6756053372167873E-2,1.5120537935504337E-2,2.9641458919614012E-2,1.7396636061091493E-2,1.7020122249519584E-2,1.5844336485254903E-2,1.4314847245881003E-2,1.381057789089681E-2,2.9176969427800379E-2,4.9011951159061345E-2,0,2.9324376790886376E-2,-1.3810577890896325E-2,-1.3579760433109756E-2,-1.3810577890896325E-2,-1.3810577890896325E-2,-1.3810577890896325E-2,-1.3810577890896325E-2,-1.3579760433109756E-2,-1.3579760433109756E-2,-1.3579760433109756E-2,-1.3579760433109756E-2,-1.3348942975323188E-2,-1.3348942975323188E-2,-1.3348942975323188E-2,-1.3348942975323188E-2]
[null,null,null,null,null,"EHV","p/kWh",null,null,{"$f":"hundred * $H34 * J59 / $H47 * J$78 / hours_in_year","v":8.5539196997177977E-2},5.2807636982784081E-2,0,4.7133294517949564E-2,5.0473988267676378E-2,0,4.8522426338630381E-2,4.771146656695411E-2,4.3054472563478101E-2,8.4401585792748965E-2,4.9535472427231136E-2,4.8463380704090148E-2,4.5115428657410972E-2,4.076033542106957E-2,3.9324470427285839E-2,8.3078990646556716E-2,0.13955744930909109,0,8.3498720837156509E-2,-3.9324470427284458E-2,-3.8667236938249062E-2,-3.9324470427284458E-2,-3.9324470427284458E-2,-3.9324470427284458E-2,-3.9324470427284458E-2,-3.8667236938249062E-2,-3.8667236938249062E-2,-3.8667236938249062E-2,-3.8667236938249062E-2,-3.801000344921366E-2,-3.801000344921366E-2,-3.801000344921366E-2,-3.801000344921366E-2]
[null,null,null,null,null,"EHV/HV","p/kWh",null,null,{"$f":"hundred * $H35 * J60 / $H48 * J$78 / hours_in_year","v":6.5718826562760069E-2},4.0571528116814963E-2,0,3.6211993056923457E-2,3.8778611412539257E-2,0,3.7279247793943551E-2,3.6656196298780155E-2,3.3078278899948944E-2,6.4844812355656978E-2,3.80575599892174E-2,3.7233883680743311E-2,3.4661688855213153E-2,3.1315718503478238E-2,3.0212559182294461E-2,6.3828677015641738E-2,0.10722045715472303,0,6.4151151116025124E-2,-3.0212559182293403E-2,-2.9707613903480697E-2,-3.0212559182293403E-2,-3.0212559182293403E-2,-3.0212559182293403E-2,-3.0212559182293403E-2,-2.9707613903480697E-2,-2.9707613903480697E-2,-2.9707613903480697E-2,-2.9707613903480697E-2,-2.9202668624667999E-2,-2.9202668624667999E-2,-2.9202668624667999E-2,-2.9202668624667999E-2]
[null,null,null,null,null,"132kV/HV","p/kWh",null,null,{"$f":"hundred * $H36 * J61 / $H49 * J$78 / hours_in_year","v":2.697406514807103E-2},1.6652443444568416E-2,0,1.4863087351782534E-2,1.5916546982083456E-2,0,1.5301138368692818E-2,1.5045409036625528E-2,1.3576865210476654E-2,2.6615329038560245E-2,1.5620593918326009E-2,1.528251882527052E-2,1.4226770352173197E-2,1.2853428389577124E-2,1.2400640460232464E-2,2.6198259801411702E-2,4.4008265937851107E-2,0,2.6330618181000239E-2,-1.2400640460232031E-2,-1.219338741632843E-2,-1.2400640460232031E-2,-1.2400640460232031E-2,-1.2400640460232031E-2,-1.2400640460232031E-2,-1.219338741632843E-2,-1.219338741632843E-2,-1.219338741632843E-2,-1.219338741632843E-2,-1.198613437242483E-2,-1.198613437242483E-2,-1.198613437242483E-2,-1.198613437242483E-2]
[null,null,null,null,null,"HV","p/kWh",null,null,{"$f":"hundred * $H37 * J62 / $H50 * J$78 / hours_in_year","v":0.38317038698915534},0.23655029985076614,0,0.21113224503513153,0.22609678716120862,0,0.21735482130419306,0.21372215019604501,0.19286127872238659,0.37807449012846062,0.22189273229042558,0.2170903280726568,0.20209327261292981,0.18258475699291712,0.17615284081125773,0.3721499629901806,0.62514360358968568,0,0.3740301323769526,-0.17615284081125157,-0.17320878219045072,-0.17615284081125157,-0.17615284081125157,-0.17615284081125157,-0.17615284081125157,-0.17320878219045072,-0.17320878219045072,-0.17320878219045072,-0.17320878219045072,0,0,0,0]
[null,null,null,null,null,"HV/LV","p/kWh",null,null,{"$f":"hundred * $H38 * J63 / $H51 * J$78 / hours_in_year","v":0.14230590444486016},8.7852572928395101E-2,0,7.8412544673105392E-2,8.3970235909601912E-2,0,8.0723551405394917E-2,7.937441127048582E-2,0,0.1404133359261468,8.2408889179695216E-2,8.0625321088514057E-2,7.5055554703444785E-2,0,6.5421520512458017E-2,0.13821302185843956,0.23217249802570772,0,0.13891129921540482,-6.5421520512455728E-2,0,-6.5421520512455728E-2,-6.5421520512455728E-2,-6.5421520512455728E-2,-6.5421520512455728E-2,0,0,0,0,0,0,0,0]
[null,null,null,null,null,"LV circuits","p/kWh",null,null,{"$f":"hundred * $H39 * J64 / $H52 * J$78 / hours_in_year","v":0.32445860475192562},0.20030457167192686,0,0.17878123145299135,0.19145281209660669,0,0.18405034535839157,0,0,0.32014353333324752,0.18789292901588883,0.18382637944718191,0,0,0.14916159205780782,0.31512679959188022,0.52935515968263214,0,0.31671887757244344,0,0,0,0,0,0,0,0,0,0,0,0,0,0]
[]
[null,null,{"$f":"INDEX('Version control'!$H$34:$H$59,MATCH($A$1,'Version control'!$F$34:$F$59,0),1)&\"-C: Unit rate 1\"","v":"Section 512-C: Unit rate 1"}]
[]
[null,null,null,"Calculates unit rate 1 value using formulae in Paragraphs 68 & 71"]
[null,null,null,"As explained in the User Guide, there is a deviation from the legal text for generation"]
[null,null,null,null,null,null,null,null,">",null,null,null,null,null,null,null,null,null,null,null,null,null,null,null,null,null,null,null,null,null,null,null,null,null,null,null,null,null,null,null,null,null,null,"Paragraphs 68 & 71"]
[null,null,null,null,"Asset costs"]
[null,null,null,null,null,"Transmission exit","p/kWh",null,null,{"$f":"hundred * $H18 * J55 / $H43 * J81 * (1 - J67) / hours_in_year","v":0},0,0,0,0,0,0,0,0,0,0,0,0,0,0,0,0,0,0,0,0,0,0,0,0,0,0,0,0,0,0,0,0]
[null,null,null,null,null,"GSPs","p/kWh",null,null,{"$f":"hundred * $H19 * J56 / $H44 * J82 * (1 - J68) / hours_in_year","v":0},0,0,0,0,0,0,0,0,0,0,0,0,0,0,0,0,0,0,0,0,0,0,0,0,0,0,0,0,0,0,0,0]
[null,null,null,null,null,"132kV","p/kWh",null,null,{"$f":"hundred * $H20 * J57 / $H45 * J83 * (1 - J69) / hours_in_year","v":0.38225511189549799},0.41411722117164834,7.794794374838479E-2,0.25621566610287899,0.33995294161781564,7.7927409678838822E-2,0.30193357479810817,0.30113895766468118,0.29851518575011493,2.2439952215700316,1.9264391643149958,1.7263862903981155,1.6292351165819441,1.5464382276227795,0.21559103268303156,0.28338777103677582,0.43115468767172521,0.15118877988688048,4.6409441736416452,-0.20404039889000805,-0.20063025294755665,-0.20404039889000805,-0.20404039889000805,-1.5553587010261978,-1.5553587010261978,-0.20063025294755665,-0.20063025294755665,-1.5293638480842555,-1.5293638480842555,-0.19722010700510526,-0.19722010700510526,-1.5033689951423137,-1.5033689951423137]
[null,null,null,null,null,"132kV/EHV","p/kWh",null,null,{"$f":"hundred * $H21 * J58 / $H46 * J84 * (1 - J70) / hours_in_year","v":3.5566495195822632E-2},3.8531069170725497E-2,7.2525783974580031E-3,2.3839297301624564E-2,3.1630537535260655E-2,7.2506678281467488E-3,2.8093068485766256E-2,2.8019134231968036E-2,1.777600533585285E-2,0.20879000118967264,0.17924335646657136,0.16062966273781254,0.15159034148539718,9.2087423012377753E-2,2.0059424163514476E-2,2.6367495119044553E-2,4.0116301000377615E-2,1.4067189283211127E-2,0.43181140949929731,-1.8984708486669357E-2,-1.8667415308619175E-2,-1.8984708486669357E-2,-1.8984708486669357E-2,-0.14471659383054208,-0.14471659383054208,-1.8667415308619175E-2,-1.8667415308619175E-2,-0.14229793209521269,-0.14229793209521269,-1.174407816356415E-2,-1.174407816356415E-2,-8.9522733030325291E-2,-8.9522733030325291E-2]
[null,null,null,null,null,"EHV","p/kWh",null,null,{"$f":"hundred * $H22 * J59 / $H47 * J85 * (1 - J71) / hours_in_year","v":0.10660674572850891},0.11886254520780935,1.1200598848131241E-2,7.1158129383277452E-2,9.7982784624867217E-2,1.1357961571308344E-2,8.7382747591330329E-2,8.7208824094936133E-2,5.5591372630536075E-2,0.66590246812120679,0.57133915755766329,0.51216533656536323,0.48334359260688631,0.29361940501334899,5.7111652477626701E-2,6.7141012122803087E-2,0.11098257906585678,4.7245212268798499E-2,1.2189196849395842,-5.4057376407598848E-2,-5.3153910506636197E-2,-5.4057376407598848E-2,-5.4057376407598848E-2,-0.46142674847542242,-0.46142674847542242,-5.3153910506636197E-2,-5.3153910506636197E-2,-0.45371488081288058,-0.45371488081288058,-3.3440284547631059E-2,-3.3440284547631059E-2,-0.28544192841621674,-0.28544192841621674]
[null,null,null,null,null,"EHV/HV","p/kWh",null,null,{"$f":"hundred * $H23 * J60 / $H48 * J86 * (1 - J72) / hours_in_year","v":2.0476198277800287E-2},2.2830197346772965E-2,2.1513243020146416E-3,1.3667502524089431E-2,1.8819774603186779E-2,2.1815493154440429E-3,1.6783801564449849E-2,1.6750395685928753E-2,6.0061277353118852E-3,0.12790139008323639,0.10973840158121972,9.8372752219976989E-2,9.2836894803329961E-2,3.1722829795855015E-2,1.0969564000038488E-2,1.2895925744697598E-2,2.1316674463747517E-2,9.0744945592497982E-3,0.23412065515158345,-1.0382922301357442E-2,-1.0209391566515812E-2,-1.0382922301357442E-2,-1.0382922301357442E-2,-8.862727708174252E-2,-8.862727708174252E-2,-1.0209391566515812E-2,-1.0209391566515812E-2,-8.7146041253078302E-2,-8.7146041253078302E-2,-3.6129098994027047E-3,-3.6129098994027047E-3,-3.0839329952789058E-2,-3.0839329952789058E-2]
[null,null,null,null,null,"132kV/HV","p/kWh",null,null,{"$f":"hundred * $H24 * J61 / $H49 * J87 * (1 - J73) / hours_in_year","v":7.9838679242505914E-3},8.6493472450827162E-3,1.6280386278369821E-3,5.3513791565683623E-3,7.1003350952677661E-3,1.627609748551655E-3,6.3062538814234311E-3,6.2896573257562767E-3,2.2445483845953051E-3,4.6868598781649347E-2,4.023605014914583E-2,3.6057699949199322E-2,3.4028578254559246E-2,1.1627734840239363E-2,4.5028837470842686E-3,5.9189019712152921E-3,9.0051956773664534E-3,3.1577635267188795E-3,9.6931824253287571E-2,-4.2616345609384036E-3,-4.1904094707834435E-3,-4.2616345609384036E-3,-4.2616345609384036E-3,-3.248557849822014E-2,-3.248557849822014E-2,-4.1904094707834435E-3,-4.1904094707834435E-3,-3.1942644038639854E-2,-3.1942644038639854E-2,-1.4829063770262539E-3,-1.4829063770262539E-3,-1.1303895448461445E-2,-1.1303895448461445E-2]
[null,null,null,null,null,"HV","p/kWh",null,null,{"$f":"hundred * $H25 * J62 / $H50 * J88 * (1 - J74) / hours_in_year","v":0.11938546727822008},0.1331103431076599,1.2543190565871002E-2,7.9687701458415416E-2,0.10972777048697353,1.2719416020557662E-2,9.7857129790014111E-2,9.7662358457808171E-2,3.5018432449459451E-2,0.74572276618242705,0.63982435476524946,0.57355749499453346,0.54128095051564273,0.18495839936613709,6.3957503547070749E-2,7.5189060983313807E-2,0.1242858223555741,5.290839434995382E-2,1.3650289685394414,-6.0537117967104127E-2,-5.9525355549826617E-2,-6.0537117967104127E-2,-6.0537117967104127E-2,-0.51673698136980484,-0.51673698136980484,-5.9525355549826617E-2,-5.9525355549826617E-2,-0.50810070870067159,-0.50810070870067159,0,0,0,0]
[null,null,null,null,null,"HV/LV","p/kWh",null,null,{"$f":"hundred * $H26 * J63 / $H51 * J89 * (1 - J75) / hours_in_year","v":8.8677295926212658E-3},9.8871877421139662E-3,9.3168477456011256E-4,5.9190536712811085E-3,8.1503739078399862E-3,9.4477447228568442E-4,7.2686448817560452E-3,7.2541776308772442E-3,0,5.5390894656854997E-2,4.7524958390531842E-2,4.2602779780388171E-2,4.0205338323330432E-2,0,4.7506439418862796E-3,5.5849030566618683E-3,9.2317188178134332E-3,3.9299367416452281E-3,0.10139180299804208,-4.4965840875577749E-3,0,-4.4965840875577749E-3,-4.4965840875577749E-3,-3.8382258123730313E-2,-3.8382258123730313E-2,0,0,0,0,0,0,0,0]
[null,null,null,null,null,"LV circuits","p/kWh",null,null,{"$f":"hundred * $H27 * J64 / $H52 * J90 * (1 - J76) / hours_in_year","v":2.0218494672890417E-2},2.2542867439275163E-2,2.1242487667791554E-3,1.3495489896413755E-2,1.8582917951720842E-2,2.154093382694647E-3,1.6572568692577342E-2,0,0,0.12629168456806913,0.10835728672284353,9.7134679970037982E-2,0,0,1.0831506331874361E-2,1.2733623812084373E-2,2.1048393028909412E-2,8.9602873256155631E-3,0.23117412494134248,0,0,0,0,0,0,0,0,0,0,0,0,0,0]
[]
[null,null,null,null,"Other operating costs"]
[null,null,null,null,null,"Transmission exit","p/kWh",null,null,{"$f":"hundred * $H30 * J55 / $H43 * J81 / hours_in_year","v":0.23223855310718483},0.25947067534147389,1.7557658320127074E-2,0.14266578336347194,0.20333503423674185,1.7759322658001699E-2,0.18091305986331957,0.17940247584869712,0.17701299720578584,1.7111073715216598,1.4684611696091374,1.3160428880058255,1.241983500443899,1.1788665390374296,0.12036601428850072,0.16877623444313655,0.27816515364822697,7.4319807655267717E-2,3.3697120751580432,-0.11393653918951653,-0.11203230733676695,-0.11393653918951653,-0.11393653918951653,-1.1856667121189166,-1.1856667121189166,-0.11203230733676695,-0.11203230733676695,-1.1658505553704108,-1.1658505553704108,-0.11012807548401737,-0.11012807548401737,-1.1460343986219053,-1.1460343986219053]
[null,null,null,null,null,"GSPs","p/kWh",null,null,{"$f":"hundred * $H31 * J56 / $H44 * J82 / hours_in_year","v":0},0,0,0,0,0,0,0,0,0,0,0,0,0,0,0,0,0,0,0,0,0,0,0,0,0,0,0,0,0,0,0,0]
[null,null,null,null,null,"132kV","p/kWh",null,null,{"$f":"hundred * $H32 * J57 / $H45 * J83 / hours_in_year","v":0.27807453565763091},0.30125288165306752,5.6703854543153631E-2,0.18638613366469878,0.24730148386259718,5.6688916870179566E-2,0.2196439916659263,0.2190659410826192,0.21715725723743365,1.6324122551606828,1.4014035637959406,1.2558735020903977,1.1852001043860103,1.1249688459025124,0.15683341946169324,0.20615269852465914,0.31364692280087175,0.10998348604212138,3.3760919237914502,-0.14843081861060392,-0.14595008069510637,-0.14843081861060392,-0.14843081861060392,-1.1314581155612002,-1.1314581155612002,-0.14595008069510637,-0.14595008069510637,-1.1125479520699266,-1.1125479520699266,-0.14346934277960879,-0.14346934277960879,-1.093637788578653,-1.093637788578653]
[null,null,null,null,null,"132kV/EHV","p/kWh",null,null,{"$f":"hundred * $H33 * J58 / $H46 * J84 / hours_in_year","v":2.5873131133564885E-2},2.8029734160810164E-2,5.2759461088516353E-3,1.7342087316194601E-2,2.3009887282091992E-2,5.2745562499392608E-3,2.0436527154967476E-2,2.0382743091251002E-2,2.0205151758401294E-2,0.15188595475643188,0.13039201195243472,0.11685133171187068,0.11027560523574512,0.10467145581085184,1.4592388397813455E-2,1.9181245020701364E-2,2.9182923722499313E-2,1.0233289251619832E-2,0.31412466034204628,-1.3810577890896325E-2,-1.3579760433109756E-2,-1.3810577890896325E-2,-1.3810577890896325E-2,-0.10527524257774591,-0.10527524257774591,-1.3579760433109756E-2,-1.3579760433109756E-2,-0.10351576777143261,-0.10351576777143261,-1.3348942975323188E-2,-1.3348942975323188E-2,-0.1017562929651193,-0.1017562929651193]
[null,null,null,null,null,"EHV","p/kWh",null,null,{"$f":"hundred * $H34 * J59 / $H47 * J85 / hours_in_year","v":7.7551929049232915E-2},8.6467508313614855E-2,8.1479651333818386E-3,5.1764549827472299E-2,7.127835963237647E-2,8.2624399038049388E-3,6.3567277989967239E-2,6.3440755952734185E-2,6.3188106621027168E-2,0.48441607150226262,0.4156252355999962,0.37257876667528494,0.35161215872502244,0.33374341003040531,4.1546327960416407E-2,4.8842265776516167E-2,8.0735163976725116E-2,3.436890719013843E-2,0.88671286490521528,-3.9324470427284465E-2,-3.8667236938249069E-2,-3.9324470427284465E-2,-3.9324470427284465E-2,-0.33566857532932515,-0.33566857532932515,-3.8667236938249069E-2,-3.8667236938249069E-2,-0.33005851557451743,-0.33005851557451743,-3.8010003449213667E-2,-3.8010003449213667E-2,-0.32444845581970977,-0.32444845581970977]
[null,null,null,null,null,"EHV/HV","p/kWh",null,null,{"$f":"hundred * $H35 * J60 / $H48 * J86 / hours_in_year","v":5.9582296230372062E-2},6.6432037962244853E-2,6.2599922168757672E-3,3.9770135699581502E-2,5.4762381677638701E-2,6.3479419270360765E-3,4.8838042253625938E-2,4.874083676055168E-2,4.8546729050934101E-2,0.37217155298197441,0.31932030849440363,0.28624817870230757,0.27013976384849331,0.2564114002727419,3.1919587947970014E-2,3.7524976924964509E-2,6.2027940700418734E-2,2.6405254316974949E-2,0.68125176556890565,-3.0212559182293409E-2,-2.9707613903480704E-2,-3.0212559182293409E-2,-3.0212559182293409E-2,-0.25789048365002126,-0.25789048365002126,-2.9707613903480704E-2,-2.9707613903480704E-2,-0.25358033629096799,-0.25358033629096799,-2.9202668624668002E-2,-2.9202668624668002E-2,-0.24927018893191472,-0.24927018893191472]
[null,null,null,null,null,"132kV/HV","p/kWh",null,null,{"$f":"hundred * $H36 * J61 / $H49 * J87 / hours_in_year","v":2.3231714074707022E-2},2.5168147073209225E-2,4.7373188363505287E-3,1.5571614116150663E-2,2.0660782008534009E-2,4.7360708696977966E-3,1.8350139111236896E-2,1.8301845923080172E-2,1.8142385089151246E-2,0.1363797467979336,0.11708014479063035,0.10492184782603427,9.901744466206433E-2,9.3985429155361483E-2,1.3102635053137647E-2,1.722301014196706E-2,2.6203606215467582E-2,9.1885612417814989E-3,0.28205532044839071,-1.2400640460232031E-2,-1.219338741632843E-2,-1.2400640460232031E-2,-1.2400640460232031E-2,-9.452757465209953E-2,-9.452757465209953E-2,-1.219338741632843E-2,-1.219338741632843E-2,-9.2947726607774742E-2,-9.2947726607774742E-2,-1.198613437242483E-2,-1.198613437242483E-2,-9.1367878563449939E-2,-9.1367878563449939E-2]
[null,null,null,null,null,"HV","p/kWh",null,null,{"$f":"hundred * $H37 * J62 / $H50 * J88 / hours_in_year","v":0.34739164860912169},0.38732873098643728,3.6498576827124804E-2,0.23187782076521407,0.31928937379656397,3.7011363287874029E-2,0.28474780407473926,0.28418105222680173,0.28304931676982853,2.1699279406072973,1.8617813582299982,1.6689559315786069,1.5750366107973162,1.4949940619696218,0.18610558809777364,0.21878753292051947,0.361650858443472,0.15395453699283812,3.9720049231372032,-0.1761528408112516,-0.17320878219045074,-0.1761528408112516,-0.1761528408112516,-1.503617784876788,-1.503617784876788,-0.17320878219045074,-0.17320878219045074,-1.4784876826225801,-1.4784876826225801,0,0,0,0]
[null,null,null,null,null,"HV/LV","p/kWh",null,null,{"$f":"hundred * $H38 * J63 / $H51 * J89 / hours_in_year","v":0.12901801504120738},0.14385027458310573,1.3555230682482806E-2,8.6117257818336762E-2,0.11858109253896762,1.3745674786625079E-2,0.10575267602475358,0.10554218967963101,0,0.80589097867062942,0.69144821483555463,0.61983465159751416,0.58495389269114584,0,6.9117877935712807E-2,8.1255647123887276E-2,0.13431375244954658,5.7177277717903541E-2,1.4751655457718722,-6.5421520512455741E-2,0,-6.5421520512455741E-2,-6.5421520512455741E-2,-0.55842960751119952,-0.55842960751119952,0,0,0,0,0,0,0,0]
[null,null,null,null,null,"LV circuits","p/kWh",null,null,{"$f":"hundred * $H39 * J64 / $H52 * J90 / hours_in_year","v":0.29416211021906796},0.32797978106734588,3.090603479515509E-2,0.19634803928761793,0.27036584311271739,3.1340248881733451E-2,0.24111695045702841,0,0,1.8374379021142606,1.5765074816743259,1.4132279824843847,0,0,0.15758931666201334,0.18526352786891345,0.30623643403117706,0.13036465229067593,3.3633892889153545,0,0,0,0,0,0,0,0,0,0,0,0,0,0]
[]
[null,null,{"$f":"INDEX('Version control'!$H$34:$H$59,MATCH($A$1,'Version control'!$F$34:$F$59,0),1)&\"-D: Unit rate 2\"","v":"Section 512-D: Unit rate 2"}]
[]
[null,null,null,"Calculates unit rate 2 value using formulae in Paragraph 68 & 71"]
[null,null,null,"As explained in the User Guide, there is a deviation from the legal text for generation"]
[null,null,null,null,null,null,null,null,">",null,null,null,null,null,null,null,null,null,null,null,null,null,null,null,null,null,null,null,null,null,null,null,null,null,null,null,null,null,null,null,null,null,null,"Paragraphs 68 & 71"]
[null,null,null,null,"Asset costs"]
[null,null,null,null,null,"Transmission exit","p/kWh",null,null,{"$f":"hundred * $H18 * J55 / $H43 * J93 * (1 - J67) / hours_in_year","v":0},0,0,0,0,0,0,0,0,0,0,0,0,0,0,0,0,0,0,0,0,0,0,0,0,0,0,0,0,0,0,0,0]
[null,null,null,null,null,"GSPs","p/kWh",null,null,{"$f":"hundred * $H19 * J56 / $H44 * J94 * (1 - J68) / hours_in_year","v":0},0,0,0,0,0,0,0,0,0,0,0,0,0,0,0,0,0,0,0,0,0,0,0,0,0,0,0,0,0,0,0,0]
[null,null,null,null,null,"132kV","p/kWh",null,null,{"$f":"hundred * $H20 * J57 / $H45 * J95 * (1 - J69) / hours_in_year","v":0},9.5910176213810802E-2,0,0,9.3397396525906312E-2,0,7.8467042385201621E-2,7.9101954351480736E-2,7.8862267116619381E-2,0.18319421306695829,0.15726972291907826,0.14093790168492035,0.13300672043074074,0.12624738744666508,0,0,0,0,0.16481360517849697,0,0,0,0,-0.12697563280548568,-0.12697563280548568,0,0,-0.12485347738255276,-0.12485347738255276,0,0,-0.12273132195961985,-0.12273132195961985]
[null,null,null,null,null,"132kV/EHV","p/kWh",null,null,{"$f":"hundred * $H21 * J58 / $H46 * J96 * (1 - J70) / hours_in_year","v":0},8.9238540319941211E-3,0,0,8.6900552836795472E-3,0,7.3008773438892312E-3,7.3599520107693189E-3,4.6960963729194109E-3,1.7045098668895572E-2,1.4632983760277166E-2,1.3113407897489202E-2,1.2375460094580307E-2,7.517789177961566E-3,0,0,0,0,1.5334895765605218E-2,0,0,0,0,-1.1814304357550261E-2,-1.1814304357550261E-2,0,0,-1.1616850802827974E-2,-1.1616850802827974E-2,0,0,-7.3084142387876364E-3,-7.3084142387876364E-3]
[null,null,null,null,null,"EHV","p/kWh",null,null,{"$f":"hundred * $H22 * J59 / $H47 * J97 * (1 - J71) / hours_in_year","v":0},8.9249225096957128E-3,0,0,9.8918466076303359E-3,0,6.5449824899348986E-3,6.3845509511141502E-3,4.007021484645012E-3,5.7246576350055714E-2,4.9117118903586873E-2,4.4030039603644051E-2,4.1552280104244818E-2,2.5241993372361424E-2,0,0,0,0,5.7888047591513392E-2,0,0,0,0,-3.9668123863670947E-2,-3.9668123863670947E-2,0,0,-3.9005146863163913E-2,-3.9005146863163913E-2,0,0,-2.4538988712100397E-2,-2.4538988712100397E-2]
[null,null,null,null,null,"EHV/HV","p/kWh",null,null,{"$f":"hundred * $H23 * J60 / $H48 * J98 * (1 - J72) / hours_in_year","v":0},1.7142300111845691E-3,0,0,1.8999493051522671E-3,0,1.2571095597452345E-3,1.2262951119684296E-3,4.3292118427918253E-4,1.0995479132757209E-2,9.4340358917379772E-3,8.4569490883775883E-3,7.9810402286924122E-3,2.7271612358969154E-3,0,0,0,0,1.1118687961990626E-2,0,0,0,0,-7.6191460867720108E-3,-7.6191460867720108E-3,0,0,-7.4918065978566003E-3,-7.4918065978566003E-3,0,0,-2.6512081592188277E-3,-2.6512081592188277E-3]
[null,null,null,null,null,"132kV/HV","p/kWh",null,null,{"$f":"hundred * $H24 * J61 / $H49 * J99 * (1 - J73) / hours_in_year","v":0},2.0032019341366049E-3,0,0,1.9507194413545242E-3,0,1.6388806410031452E-3,1.6521415579263034E-3,5.9296874233495612E-4,3.8262363434748941E-3,3.2847714973467039E-3,2.943661333902677E-3,2.7780088634813708E-3,9.4925947851107141E-4,0,0,0,0,3.44233475214959E-3,0,0,0,0,-2.6520421843155935E-3,-2.6520421843155935E-3,0,0,-2.6077183595080902E-3,-2.6077183595080902E-3,0,0,-9.2282203249221108E-4,-9.2282203249221108E-4]
[null,null,null,null,null,"HV","p/kWh",null,null,{"$f":"hundred * $H25 * J62 / $H50 * J100 * (1 - J74) / hours_in_year","v":0},9.9947337943830337E-3,0,0,1.1077561006353978E-2,0,7.3295154781156556E-3,7.1498533554479621E-3,2.5241256789276891E-3,6.4108600454183429E-2,5.500468241097891E-2,4.9307825845713513E-2,4.6533062638963445E-2,1.5900579495930635E-2,0,0,0,0,6.4826963475056371E-2,0,0,0,0,-4.4423056638227494E-2,-4.4423056638227494E-2,0,0,-4.3680610009176335E-2,-4.3680610009176335E-2,0,0,0,0]
[null,null,null,null,null,"HV/LV","p/kWh",null,null,{"$f":"hundred * $H26 * J63 / $H51 * J101 * (1 - J75) / hours_in_year","v":0},7.4239016405802899E-4,0,0,8.2282054750589862E-4,0,5.4442272402714209E-4,5.3107775702089315E-4,0,4.7618671380181346E-3,4.0856451046245319E-3,3.6624932361396232E-3,3.4563890061861417E-3,0,0,0,0,0,4.8152258018795769E-3,0,0,0,0,-3.2996617002592822E-3,-3.2996617002592822E-3,0,0,0,0,0,0,0,0]
[null,null,null,null,null,"LV circuits","p/kWh",null,null,{"$f":"hundred * $H27 * J64 / $H52 * J102 * (1 - J76) / hours_in_year","v":0},1.6926555349300635E-3,0,0,1.8760374549913624E-3,0,1.2412881821184983E-3,0,0,1.0857095309169468E-2,9.3153036434384592E-3,8.350513985677056E-3,0,0,0,0,0,0,1.0978753491206592E-2,0,0,0,0,0,0,0,0,0,0,0,0,0,0]
[]
[null,null,null,null,"Other operating costs"]
[null,null,null,null,null,"Transmission exit","p/kWh",null,null,{"$f":"hundred * $H30 * J55 / $H43 * J93 / hours_in_year","v":0},1.7618508740412969E-2,0,0,1.8139994668853712E-2,0,1.3793340324260222E-2,1.3729854095592018E-2,1.3602723327067938E-2,6.6643986695604437E-2,5.7193434076211205E-2,5.1257066726975331E-2,4.8372611361107501E-2,4.5914340181725528E-2,0,0,0,0,8.5569836421975576E-2,0,0,0,0,-4.6179192435834758E-2,-4.6179192435834758E-2,0,0,-4.5407395347770663E-2,-4.5407395347770663E-2,0,0,-4.4635598259706574E-2,-4.4635598259706574E-2]
[null,null,null,null,null,"GSPs","p/kWh",null,null,{"$f":"hundred * $H31 * J56 / $H44 * J94 / hours_in_year","v":0},0,0,0,0,0,0,0,0,0,0,0,0,0,0,0,0,0,0,0,0,0,0,0,0,0,0,0,0,0,0,0,0]
[null,null,null,null,null,"132kV","p/kWh",null,null,{"$f":"hundred * $H32 * J57 / $H45 * J95 / hours_in_year","v":0},6.9770624082034938E-2,0,0,6.7942682419046829E-2,0,5.7081476994499183E-2,5.7543348777798736E-2,5.7368986383515425E-2,0.13326609415673715,0.11440711664225624,0.10252640278178744,9.6756801602260439E-2,9.1839670810780011E-2,0,0,0,0,0.11989497407323076,0,0,0,0,-9.2369438716288665E-2,-9.2369438716288665E-2,0,0,-9.0825659796239286E-2,-9.0825659796239286E-2,0,0,-8.9281880876189879E-2,-8.9281880876189879E-2]
[null,null,null,null,null,"132kV/EHV","p/kWh",null,null,{"$f":"hundred * $H33 * J58 / $H46 * J96 / hours_in_year","v":0},6.4917289239591414E-3,0,0,6.3216501562677781E-3,0,5.3110815633783705E-3,5.3540559018518362E-3,5.3378325497876649E-3,1.2399593229998245E-2,1.0644880965089979E-2,9.5394533611372918E-3,9.00262733514667E-3,8.5451184536951899E-3,0,0,0,0,1.1155492462176966E-2,0,0,0,0,-8.5944101101827711E-3,-8.5944101101827711E-3,0,0,-8.4507709439958726E-3,-8.4507709439958726E-3,0,0,-8.3071317778089723E-3,-8.3071317778089723E-3]
[null,null,null,null,null,"EHV","p/kWh",null,null,{"$f":"hundred * $H34 * J59 / $H47 * J97 / hours_in_year","v":0},6.492506196601115E-3,0,0,7.1959028581030579E-3,0,4.7611998116941527E-3,4.6444926068089113E-3,4.5545934346189572E-3,4.1644479409559322E-2,3.5730640629573818E-2,3.2030004143195394E-2,3.0227538196173381E-2,2.8691390283533173E-2,0,0,0,0,4.2111122790001114E-2,0,0,0,0,-2.8856893683125658E-2,-2.8856893683125658E-2,0,0,-2.8374605766416039E-2,-2.8374605766416039E-2,0,0,-2.7892317849706416E-2,-2.7892317849706416E-2]
[null,null,null,null,null,"EHV/HV","p/kWh",null,null,{"$f":"hundred * $H35 * J60 / $H48 * J98 / hours_in_year","v":0},4.9881212785543236E-3,0,0,5.5285332162955166E-3,0,3.6579775779949945E-3,3.5683127129304939E-3,3.499244165262433E-3,3.1994996629481472E-2,2.7451459178284527E-2,2.4608300767197864E-2,2.3223485955790071E-2,2.2043280368299254E-2,0,0,0,0,3.2353513618914115E-2,0,0,0,0,-2.2170434814391661E-2,-2.2170434814391661E-2,0,0,-2.1799898299387901E-2,-2.1799898299387901E-2,0,0,-2.1429361784384142E-2,-2.1429361784384142E-2]
[null,null,null,null,null,"132kV/HV","p/kWh",null,null,{"$f":"hundred * $H36 * J61 / $H49 * J99 / hours_in_year","v":0},5.82898101638248E-3,0,0,5.6762657813849496E-3,0,4.7688672728051756E-3,4.8074543127274542E-3,4.7928872209231236E-3,1.1133704810404278E-2,9.5581330942757087E-3,8.5655598377670783E-3,8.083538984577943E-3,7.6727376994280613E-3,0,0,0,0,1.001661568930241E-2,0,0,0,0,-7.7169971152628398E-3,-7.7169971152628398E-3,0,0,-7.5880222331135977E-3,-7.5880222331135977E-3,0,0,-7.4590473509643582E-3,-7.4590473509643582E-3]
[null,null,null,null,null,"HV","p/kWh",null,null,{"$f":"hundred * $H37 * J62 / $H50 * J100 / hours_in_year","v":0},2.9082995857012909E-2,0,0,3.2233841088859905E-2,0,2.1327658411847486E-2,2.0804871824760682E-2,2.0402171053567262E-2,0.18654525470760722,0.16005438299655669,0.14347748767406976,0.13540339300518967,0.1285222623560634,0,0,0,0,0.18863557038681222,0,0,0,0,-0.12926363010203329,-0.12926363010203329,0,0,-0.12710323516996591,-0.12710323516996591,0,0,0,0]
[null,null,null,null,null,"HV/LV","p/kWh",null,null,{"$f":"hundred * $H38 * J63 / $H51 * J101 / hours_in_year","v":0},1.0801153142128067E-2,0,0,1.197134764491059E-2,0,7.9208932189086013E-3,7.7267351612058431E-3,0,6.9281166009872733E-2,5.9442703575455801E-2,5.3286199414759677E-2,5.0287556034573501E-2,0,0,0,0,0,7.005748973791949E-2,0,0,0,0,-4.8007305413234655E-2,-4.8007305413234655E-2,0,0,0,0,0,0,0,0]
[null,null,null,null,null,"LV circuits","p/kWh",null,null,{"$f":"hundred * $H39 * J64 / $H52 * J102 / hours_in_year","v":0},2.4626715889815121E-2,0,0,2.7294768752008952E-2,0,1.805970013838662E-2,0,0,0.1579616147821879,0.13552984143569238,0.12149296251684978,0,0,0,0,0,0,0.15973163911547522,0,0,0,0,0,0,0,0,0,0,0,0,0,0]
[]
[null,null,{"$f":"INDEX('Version control'!$H$34:$H$59,MATCH($A$1,'Version control'!$F$34:$F$59,0),1)&\"-E: Unit rate 3\"","v":"Section 512-E: Unit rate 3"}]
[]
[null,null,"Calculates unit rate 3 value using formulae in Paragraph 68 & 71",null,null,null,null,null,">",null,null,null,null,null,null,null,null,null,null,null,null,null,null,null,null,null,null,null,null,null,null,null,null,null,null,null,null,null,null,null,null,null,null,"Paragraphs 68 & 71"]
[null,null,"As explained in the User Guide, there is a deviation from the current legal text for generation"]
[]
[null,null,null,null,"Asset costs"]
[null,null,null,null,null,"Transmission exit","p/kWh",null,null,{"$f":"hundred * $H18 * J55 / $H43 * J105 * (1 - J67) / hours_in_year","v":0},0,0,0,0,0,0,0,0,0,0,0,0,0,0,0,0,0,0,0,0,0,0,0,0,0,0,0,0,0,0,0,0]
[null,null,null,null,null,"GSPs","p/kWh",null,null,{"$f":"hundred * $H19 * J56 / $H44 * J106 * (1 - J68) / hours_in_year","v":0},0,0,0,0,0,0,0,0,0,0,0,0,0,0,0,0,0,0,0,0,0,0,0,0,0,0,0,0,0,0,0,0]
[null,null,null,null,null,"132kV","p/kWh",null,null,{"$f":"hundred * $H20 * J57 / $H45 * J107 * (1 - J69) / hours_in_year","v":0},0,0,0,0,0,0,0,0,9.8007553128874395E-2,8.4138142065225408E-2,7.5400738134714984E-2,7.1157614647732195E-2,6.7541421344123775E-2,0,0,0,0,7.1813178105976386E-2,0,0,0,0,-6.7931027241059927E-2,-6.7931027241059927E-2,0,0,-6.6795689738423827E-2,-6.6795689738423827E-2,0,0,-6.5660352235787728E-2,-6.5660352235787728E-2]
[null,null,null,null,null,"132kV/EHV","p/kWh",null,null,{"$f":"hundred * $H21 * J58 / $H46 * J108 * (1 - J70) / hours_in_year","v":0},0,0,0,0,0,0,0,0,9.1190020984347146E-3,7.8285384090988428E-3,7.0155765277586726E-3,6.6207798947804531E-3,4.0219617745318259E-3,0,0,0,0,6.6817760564081693E-3,0,0,0,0,-6.3205657133944783E-3,-6.3205657133944783E-3,0,0,-6.2149295176274393E-3,-6.2149295176274393E-3,0,0,-3.909947725990656E-3,-3.909947725990656E-3]
[null,null,null,null,null,"EHV","p/kWh",null,null,{"$f":"hundred * $H22 * J59 / $H47 * J109 * (1 - J71) / hours_in_year","v":0},0,0,0,0,0,0,0,0,7.7830259611870577E-3,6.6777759638888198E-3,5.9861560840209511E-3,5.6492893622194593E-3,3.4318050485303716E-3,0,0,0,0,5.7013353405627864E-3,0,0,0,0,-5.3931266731942181E-3,-5.3931266731942181E-3,0,0,-5.3029908513581026E-3,-5.3029908513581026E-3,0,0,-3.3362272188940719E-3,-3.3362272188940719E-3]
[null,null,null,null,null,"EHV/HV","p/kWh",null,null,{"$f":"hundred * $H23 * J60 / $H48 * J110 * (1 - J72) / hours_in_year","v":0},0,0,0,0,0,0,0,0,1.4949033636988251E-3,1.282615502020248E-3,1.1497745106151822E-3,1.0850717590053904E-3,3.7077442971500982E-4,0,0,0,0,1.095068347540548E-3,0,0,0,0,-1.035870013130761E-3,-1.035870013130761E-3,0,0,-1.0185574223820575E-3,-1.0185574223820575E-3,0,0,-3.6044813938800724E-4,-3.6044813938800724E-4]
[null,null,null,null,null,"132kV/HV","p/kWh",null,null,{"$f":"hundred * $H24 * J61 / $H49 * J111 * (1 - J73) / hours_in_year","v":0},0,0,0,0,0,0,0,0,2.0470082293466418E-3,1.7573285293938381E-3,1.5748371072749521E-3,1.4862142571098573E-3,5.0784682122713594E-4,0,0,0,0,1.4999065058299151E-3,0,0,0,0,-1.4188230126260843E-3,-1.4188230126260843E-3,0,0,-1.3951100931950075E-3,-1.3951100931950075E-3,0,0,-4.9370298255501505E-4,-4.9370298255501505E-4]
[null,null,null,null,null,"HV","p/kWh",null,null,{"$f":"hundred * $H25 * J62 / $H50 * J112 * (1 - J74) / hours_in_year","v":0},0,0,0,0,0,0,0,0,8.7159605601426042E-3,7.4782266204655107E-3,6.7037037516481093E-3,6.3264575397135253E-3,2.1617820820934793E-3,0,0,0,0,6.3847421576521879E-3,0,0,0,0,-6.0395891795592266E-3,-6.0395891795592266E-3,0,0,-5.9386489704301021E-3,-5.9386489704301021E-3,0,0,0,0]
[null,null,null,null,null,"HV/LV","p/kWh",null,null,{"$f":"hundred * $H26 * J63 / $H51 * J113 * (1 - J75) / hours_in_year","v":0},0,0,0,0,0,0,0,0,6.4740527594682224E-4,5.5546871000711987E-4,4.9793859750215351E-4,4.6991745327460251E-4,0,0,0,0,0,4.7424672586592043E-4,0,0,0,0,-4.4860940712356884E-4,-4.4860940712356884E-4,0,0,0,0,0,0,0,0]
[null,null,null,null,null,"LV circuits","p/kWh",null,null,{"$f":"hundred * $H27 * J64 / $H52 * J114 * (1 - J76) / hours_in_year","v":0},0,0,0,0,0,0,0,0,1.4760892273737859E-3,1.2664731188444488E-3,1.1353040004062509E-3,0,0,0,0,0,0,1.0812863428463541E-3,0,0,0,0,0,0,0,0,0,0,0,0,0,0]
[]
[null,null,null,null,"Other operating costs"]
[null,null,null,null,null,"Transmission exit","p/kWh",null,null,{"$f":"hundred * $H30 * J55 / $H43 * J105 / hours_in_year","v":0},0,0,0,0,0,0,0,0,1.690983710466111E-2,1.4511911751352257E-2,1.3005654250169058E-2,1.2273770207948221E-2,1.1650023531563176E-2,0,0,0,0,1.2386846444174664E-2,0,0,0,0,-1.1717225520757572E-2,-1.1717225520757572E-2,0,0,-1.152139445355828E-2,-1.152139445355828E-2,0,0,-1.1325563386358989E-2,-1.1325563386358989E-2]
[null,null,null,null,null,"GSPs","p/kWh",null,null,{"$f":"hundred * $H31 * J56 / $H44 * J106 / hours_in_year","v":0},0,0,0,0,0,0,0,0,0,0,0,0,0,0,0,0,0,0,0,0,0,0,0,0,0,0,0,0,0,0,0,0]
[null,null,null,null,null,"132kV","p/kWh",null,null,{"$f":"hundred * $H32 * J57 / $H45 * J107 / hours_in_year","v":0},0,0,0,0,0,0,0,0,7.1296377678535666E-2,6.1206963773134802E-2,5.4850869465378177E-2,5.1764175378986747E-2,4.9133546664140292E-2,0,0,0,0,5.2241070255137419E-2,0,0,0,0,-4.9416968587114106E-2,-4.9416968587114106E-2,0,0,-4.8591058248610805E-2,-4.8591058248610805E-2,0,0,-4.7765147910107504E-2,-4.7765147910107504E-2]
[null,null,null,null,null,"132kV/EHV","p/kWh",null,null,{"$f":"hundred * $H33 * J58 / $H46 * J108 / hours_in_year","v":0},0,0,0,0,0,0,0,0,6.6336909442729144E-3,5.6949328216785782E-3,5.1035372049135531E-3,4.8163392395279983E-3,4.5715753615915324E-3,0,0,0,0,4.8607113847098328E-3,0,0,0,0,-4.5979460343389903E-3,-4.5979460343389903E-3,0,0,-4.5211001396146611E-3,-4.5211001396146611E-3,0,0,-4.4442542448903328E-3,-4.4442542448903328E-3]
[null,null,null,null,null,"EHV","p/kWh",null,null,{"$f":"hundred * $H34 * J59 / $H47 * J109 / hours_in_year","v":0},0,0,0,0,0,0,0,0,5.6618244277660563E-3,4.8578014854428484E-3,4.3546770772637852E-3,4.1096206886678177E-3,3.9007718832616512E-3,0,0,0,0,4.1474819515006462E-3,0,0,0,0,-3.9232730936015741E-3,-3.9232730936015741E-3,0,0,-3.8577030697530793E-3,-3.8577030697530793E-3,0,0,-3.7921330459045849E-3,-3.7921330459045849E-3]
[null,null,null,null,null,"EHV/HV","p/kWh",null,null,{"$f":"hundred * $H35 * J60 / $H48 * J110 / hours_in_year","v":0},0,0,0,0,0,0,0,0,4.3499175893529978E-3,3.7321955840743876E-3,3.3456506212814581E-3,3.1573764865503819E-3,2.9969202407338566E-3,0,0,0,0,3.1864648793913843E-3,0,0,0,0,-3.0142076737668124E-3,-3.0142076737668124E-3,0,0,-2.9638309438431328E-3,-2.9638309438431328E-3,0,0,-2.9134542139194535E-3,-2.9134542139194535E-3]
[null,null,null,null,null,"132kV/HV","p/kWh",null,null,{"$f":"hundred * $H36 * J61 / $H49 * J111 / hours_in_year","v":0},0,0,0,0,0,0,0,0,5.9564499743671919E-3,5.1135307243994959E-3,4.5825113513365857E-3,4.3246337492701238E-3,4.1048580909363039E-3,0,0,0,0,4.3644758922416977E-3,0,0,0,0,-4.1285365520419203E-3,-4.1285365520419203E-3,0,0,-4.0595359411442836E-3,-4.0595359411442836E-3,0,0,-3.9905353302466468E-3,-3.9905353302466468E-3]
[null,null,null,null,null,"HV","p/kWh",null,null,{"$f":"hundred * $H37 * J62 / $H50 * J112 / hours_in_year","v":0},0,0,0,0,0,0,0,0,2.5361980626534813E-2,2.1760382847117895E-2,1.9506651447324396E-2,1.8408928361899838E-2,1.7473396110032385E-2,0,0,0,0,1.8578526806131566E-2,0,0,0,0,-1.7574189638336801E-2,-1.7574189638336801E-2,0,0,-1.7280470591456525E-2,-1.7280470591456525E-2,0,0,0,0]
[null,null,null,null,null,"HV/LV","p/kWh",null,null,{"$f":"hundred * $H38 * J63 / $H51 * J113 / hours_in_year","v":0},0,0,0,0,0,0,0,0,9.4192028249672783E-3,8.0816030342479861E-3,7.2445882332256104E-3,6.8369041276536259E-3,0,0,0,0,0,6.8998914064683659E-3,0,0,0,0,-6.5268899588521436E-3,-6.5268899588521436E-3,0,0,0,0,0,0,0,0]
[null,null,null,null,null,"LV circuits","p/kWh",null,null,{"$f":"hundred * $H39 * J64 / $H52 * J114 / hours_in_year","v":0},0,0,0,0,0,0,0,0,2.1475858070586627E-2,1.8426119807748689E-2,1.6517719340769756E-2,0,0,0,0,0,0,1.5731807808086962E-2,0,0,0,0,0,0,0,0,0,0,0,0,0,0]
[]
[null,"Checks"]
[]
[null,null,null,"Paragraph 72A checks"]
[]
[null,null,null,null,"This section checks that the adjustments applied to the pseudo load coefficient achieve the intention of Paragraph 72A"]
[]
[null,null,null,null,"Discounted volumes"]
[null,null,null,null,null,"Unit rate 1","MWh",null,null,{"$f":"'Volume adjustments'!J66","v":3099712.9430819456},{"$f":"'Volume adjustments'!K66","v":145289.674114347},{"$f":"'Volume adjustments'!L66","v":2140.1103146035571},{"$f":"'Volume adjustments'!M66","v":809156.58698910882},{"$f":"'Volume adjustments'!N66","v":199735.41440710361},{"$f":"'Volume adjustments'!O66","v":1578.3141159411171},null,null,null,{"$f":"'Volume adjustments'!S66","v":548.80537505020618},{"$f":"'Volume adjustments'!T66","v":11592.451023385509}]
[null,null,null,null,null,"Unit rate 2","MWh",null,null,{"$f":"'Volume adjustments'!J77","v":0},{"$f":"'Volume adjustments'!K77","v":121262.85768811585},{"$f":"'Volume adjustments'!L77","v":0},{"$f":"'Volume adjustments'!M77","v":0},{"$f":"'Volume adjustments'!N77","v":84245.568350797592},{"$f":"'Volume adjustments'!O77","v":0},null,null,null,{"$f":"'Volume adjustments'!S77","v":2705.2171975872861},{"$f":"'Volume adjustments'!T77","v":78318.12222359619}]
[null,null,null,null,null,"Unit rate 3","MWh",null,null,{"$f":"'Volume adjustments'!J88","v":0},{"$f":"'Volume adjustments'!K88","v":0},{"$f":"'Volume adjustments'!L88","v":0},{"$f":"'Volume adjustments'!M88","v":0},{"$f":"'Volume adjustments'!N88","v":0},{"$f":"'Volume adjustments'!O88","v":0},null,null,null,{"$f":"'Volume adjustments'!S88","v":2375.2858263176454},{"$f":"'Volume adjustments'!T88","v":56269.737973494914}]
[null,null,null,null,null,"Total","MWh",null,null,{"$f":"SUM(J240:J242)","v":3099712.9430819456},266552.53180246288,2140.1103146035571,809156.58698910882,283980.98275790119,1578.3141159411171,null,null,null,{"$f":"SUM(S240:S242)","v":5629.3083989551378},{"$f":"SUM(T240:T242)","v":146180.31122047661}]
[]
[null,null,null,null,"Total units split by distribution timeband"]
[null,null,null,null,null,"Red","MWh",null,null,{"$f":"'Pseudo-load coefficients'!J73","v":347090.59763747291},{"$f":"'Pseudo-load coefficients'!K73","v":19417.614103952375},{"$f":"'Pseudo-load coefficients'!L73","v":0},{"$f":"'Pseudo-load coefficients'!M73","v":58989.006629426323},{"$f":"'Pseudo-load coefficients'!N73","v":20721.482622083258},{"$f":"'Pseudo-load coefficients'!O73","v":0.19089878989638207},null,null,null,{"$f":"'Pseudo-load coefficients'!S73","v":548.80537505020618},{"$f":"'Pseudo-load coefficients'!T73","v":11592.451023385509}]
[null,null,null,null,null,"Amber","MWh",null,null,{"$f":"'Pseudo-load coefficients'!J74","v":1555797.0597786983},{"$f":"'Pseudo-load coefficients'!K74","v":89566.942098788873},{"$f":"'Pseudo-load coefficients'!L74","v":362.46785080216443},{"$f":"'Pseudo-load coefficients'!M74","v":468058.12701141613},{"$f":"'Pseudo-load coefficients'!N74","v":136769.22396791723},{"$f":"'Pseudo-load coefficients'!O74","v":275.36489402719371},null,null,null,{"$f":"'Pseudo-load coefficients'!S74","v":2705.2171975872861},{"$f":"'Pseudo-load coefficients'!T74","v":78318.12222359619}]
[null,null,null,null,null,"Green","MWh",null,null,{"$f":"'Pseudo-load coefficients'!J75","v":1196825.2856657745},{"$f":"'Pseudo-load coefficients'!K75","v":157567.9755997216},{"$f":"'Pseudo-load coefficients'!L75","v":1777.6424638013928},{"$f":"'Pseudo-load coefficients'!M75","v":282109.45334826631},{"$f":"'Pseudo-load coefficients'!N75","v":126490.27616790069},{"$f":"'Pseudo-load coefficients'!O75","v":1302.7583231240269},null,null,null,{"$f":"'Pseudo-load coefficients'!S75","v":2375.2858263176454},{"$f":"'Pseudo-load coefficients'!T75","v":56269.737973494914}]
[null,null,null,null,null,"Total","MWh",null,null,{"$f":"SUM(J246:J248)","v":3099712.9430819456},{"$f":"SUM(K246:K248)","v":266552.53180246288},2140.1103146035571,809156.58698910882,283980.98275790119,1578.3141159411171,null,null,null,{"$f":"SUM(S246:S248)","v":5629.3083989551378},{"$f":"SUM(T246:T248)","v":146180.31122047661}]
[]
[null,null,null,null,"Profile class 1 and 2 split of units by timeband"]
[null,null,null,null,null,"Red","%",null,null,null,null,null,null,null,null,null,null,null,{"$f":"SUM(J246:L246) / SUM($J$249:$L$249)","v":0.10880762499382071}]
[null,null,null,null,null,"Amber","%",null,null,null,null,null,null,null,null,null,null,null,{"$f":"SUM(J247:L247) / SUM($J$249:$L$249)","v":0.4885772891957299}]
[null,null,null,null,null,"Green","%",null,null,null,null,null,null,null,null,null,null,null,{"$f":"SUM(J248:L248) / SUM($J$249:$L$249)","v":0.40261508581044947}]
[]
[null,null,null,null,"Profile class 3 and 4 split of units by timeband"]
[null,null,null,null,null,"Red","%",null,null,null,null,null,null,null,null,null,null,null,null,{"$f":"SUM(M246:O246) / SUM($M$249:$O$249)","v":7.2814034513706355E-2}]
[null,null,null,null,null,"Amber","%",null,null,null,null,null,null,null,null,null,null,null,null,{"$f":"SUM(M247:O247) / SUM($M$249:$O$249)","v":0.55274863989195044}]
[null,null,null,null,null,"Green","%",null,null,null,null,null,null,null,null,null,null,null,null,{"$f":"SUM(M248:O248) / SUM($M$249:$O$249)","v":0.37443732559434323}]
[]
[null,null,null,null,"Discounted volumes, assuming LV network tariff forecast have same unit split by timeband as equivalent NHH metered tariff forecast"]
[null,null,null,null,null,"Unit rate 1","MWh",null,null,null,null,null,null,null,null,null,null,null,{"$f":"(S252 + S257) * S$243","v":612.5116772480759},10643.97822643212]
[null,null,null,null,null,"Unit rate 2","MWh",null,null,null,null,null,null,null,null,null,null,null,2750.3522376082556,80800.968206100471]
[null,null,null,null,null,"Unit rate 3","MWh",null,null,null,null,null,null,null,null,null,null,null,2266.4444840988067,54735.364787944025]
[]
[null,null,null,null,"Discounted volumes, with LV network tariff forecast adjustment"]
[null,null,null,null,null,"Unit rate 1","MWh",null,null,{"$f":"IF( J262, J262, J240)","v":3099712.9430819456},145289.674114347,2140.1103146035571,809156.58698910882,199735.41440710361,1578.3141159411171,null,null,null,{"$f":"IF( S262, S262, S240)","v":612.5116772480759},10643.97822643212]
[null,null,null,null,null,"Unit rate 2","MWh",null,null,0,121262.85768811585,0,0,84245.568350797592,0,null,null,null,2750.3522376082556,80800.968206100471]
[null,null,null,null,null,"Unit rate 3","MWh",null,null,0,0,0,0,0,0,null,null,null,2266.4444840988067,54735.364787944025]
[null,null,null,null,null,"Total","MWh",null,null,{"$f":"SUM(J267:J269)","v":3099712.9430819456},266552.53180246288,2140.1103146035571,809156.58698910882,283980.98275790119,1578.3141159411171,null,null,null,{"$f":"SUM(S267:S269)","v":5629.3083989551378},{"$f":"SUM(T267:T269)","v":146180.31122047664}]
[]
[null,null,null,null,"Revenue"]
[null,null,null,null,null,"Unit rate 1","£",null,null,{"$f":"J267 * SUM(J152:J173)","v":6721678.0570854442},347897.65741073951,632.23606633958843,1162901.7551744839,391587.60635888256,469.28016363864583,null,null,null,{"$f":"S267 * SUM(S152:S173)","v":8282.6847450536188},{"$f":"T267 * SUM(T152:T173)","v":123520.41062209083}]
[null,null,null,null,null,"Unit rate 2","£",null,null,{"$f":"J268 * SUM(J181:J202)","v":0},37058.83869859478,0,0,26277.150873100942,0,null,null,null,{"$f":"S268 * SUM(S181:S202)","v":2923.3660519484361},{"$f":"T268 * SUM(T181:T202)","v":73703.157179170055}]
[null,null,null,null,null,"Unit rate 3","£",null,null,{"$f":"J269 * SUM(J210:J231)","v":0},0,0,0,0,0,null,null,null,{"$f":"S269 * SUM(S210:S231)","v":671.67461890528239},{"$f":"T269 * SUM(T210:T231)","v":13923.035329412751}]
[null,null,null,null,null,"Total","£",null,null,{"$f":"SUM(J273:J275)","v":6721678.0570854442},{"$f":"SUM(K273:K275)","v":384956.49610933429},{"$f":"SUM(L273:L275)","v":632.23606633958843},{"$f":"SUM(M273:M275)","v":1162901.7551744839},{"$f":"SUM(N273:N275)","v":417864.75723198353},{"$f":"SUM(O273:O275)","v":469.28016363864583},null,null,null,{"$f":"SUM(S273:S275)","v":11877.725415907338},{"$f":"SUM(T273:T275)","v":211146.60313067364}]
[]
[null,null,null,null,"Weighted average charges check, domestic group"]
[null,null,null,null,null,"Domestic group","£/MWh",{"$f":"IF(SUM(J270:L270) <> 0, SUM(J276:L276) / SUM(J270:L270), 0)","v":2.1099795168642692}]
[null,null,null,null,null,"LV Network Domestic","£/MWh",{"$f":"IF(S270 <> 0, S276 / S270, 0)","v":2.1099795168642697}]
[null,null,null,null,null,"Domestic group check","number of issues",{"$f":"IFERROR(IF(ABS(H279 - H280) < 10^-check_decimals, 0, 1), 1)","v":0}]
[]
[null,null,null,null,"Weighted average charges check, non-domestic group"]
[null,null,null,null,null,"Non-domestic group","£/MWh",{"$f":"IF(SUM(M270:O270) <> 0, SUM(M276:O276) / SUM(M270:O270), 0)","v":1.4444257326296941}]
[null,null,null,null,null,"LV Network Non-Domestic Non-CT","£/MWh",{"$f":"IF(T270 <> 0, T276 / T270, 0)","v":1.4444257326296939}]
[null,null,null,null,null,"Non-domestic group check","number of issues",{"$f":"IFERROR(IF(ABS(H284 - H285) < 10^-check_decimals, 0, 1), 1)","v":0}]
[]
[null,null,null,"Other checks"]
[]
[null,null,null,null,"Check for error values",null,"number of issues",{"$f":"SUM(IF(ISERROR(H18:AP231), 1))","v":0}]
[]
[null,null,null,null,"Non-zero tariff check",null,"number of issues",{"$f":"SUM(J292:AP292)","v":0},null,{"$f":"IF(ABS(IFERROR(SUM(J152:J231), 1)) > 0, 0, 1)","v":0},0,0,0,0,0,0,0,0,0,0,0,0,0,0,0,0,0,0,0,0,0,0,0,0,0,0,0,0,0,0,0,0]
[]
[null,null,null,null,"Check summary",null,"number of issues",{"$f":"SUM(H281, H286, H292, H290)","v":0}]
[]
[null,"End of sheet"]

{"sheet":"Service model charges","index":26,"n_rows":50,"n_cols":44,"rows_kept":50,"cut":false,"hidden":false,"merged":[]}
[{"$f":"MID(CELL(\"filename\",A1),FIND(\"]\",CELL(\"filename\",A1))+1,255)","v":"Service model charges"}]
[{"$f":"Cover!D21&\" - \"&Cover!D23","v":"[enter DNO name] - [enter data version name]"}]
[{"$f":"Cover!D2&\" - \"&Cover!D8&\" v\"&Cover!D10&\" - \"&Cover!D19","v":"ARP model - Release for charge setting v3 - 2020/21"}]
[{"$f":"H48 & IF(H48 = 1, \" issue\", \" issues\") &\" identified in checks on this sheet\"","v":"0 issues identified in checks on this sheet"}]
[null,"Click here to return to model map",null,null,null,null,"Units","Constants",null,"Domestic Unrestricted","Domestic Two Rate","Domestic Off Peak (related MPAN)","Small Non Domestic Unrestricted","Small Non Domestic Two Rate","Small Non Domestic Off Peak (related MPAN)","LV Medium Non-Domestic","LV Sub Medium Non-Domestic","HV Medium Non-Domestic","LV Network Domestic","LV Network Non-Domestic Non-CT","LV HH Metered","LV Sub HH Metered","HV HH Metered","NHH UMS category A","NHH UMS category B","NHH UMS category C","NHH UMS category D","LV UMS (Pseudo HH Metered)","LV Generation NHH or Aggregate HH","LV Sub Generation NHH","LV Generation Intermittent","LV Generation Intermittent no RP charge","LV Generation Non-Intermittent","LV Generation Non-Intermittent no RP charge","LV Sub Generation Intermittent","LV Sub Generation Intermittent no RP charge","LV Sub Generation Non-Intermittent","LV Sub Generation Non-Intermittent no RP charge","HV Generation Intermittent","HV Generation Intermittent no RP charge","HV Generation Non-Intermittent","HV Generation Non-Intermittent no RP charge",null,"Legal text reference"]
[]
[null,"Description"]
[]
[null,null,"This sheet calculates costs allocated to service models."]
[null,null,"Costs allocated to service models are attributed to either fixed charges, or to unit charges (in the case"]
[null,null,"of UMS customers)."]
[]
[null,"Inputs to service model charge calculation"]
[]
[null,null,"Brings in inputs used in allocation of costs to service models."]
[]
[null,null,{"$f":"INDEX('Version control'!$H$34:$H$59,MATCH($A$1,'Version control'!$F$34:$F$59,0),1)&\"-A: Inputs to service model charge calculation\"","v":"Section 513-A: Inputs to service model charge calculation"}]
[]
[null,null,null,null,"Annuity rate",null,"%",{"$f":"'Unit costs'!$H$121","v":4.8511696964659567E-2}]
[null,null,null,null,"Other operating costs for allocation",null,"£ per year",{"$f":"'Unit costs'!$H$122","v":91035834.146088824}]
[null,null,null,null,"Notional asset value",null,"£ per year",{"$f":"'Unit costs'!$H$123","v":2579633394.5408368}]
[]
[null,null,null,null,"Service model asset values"]
[null,null,null,null,"This table pulls in service model costs per customer (or per MWh for UMS)"]
[null,null,null,null,null,"LV customers","£ per MPAN",null,null,{"$f":"'Inputs by customer type'!J74","v":265.56703336591607},{"$f":"'Inputs by customer type'!K74","v":265.56703336591607},{"$f":"'Inputs by customer type'!L74","v":0},{"$f":"'Inputs by customer type'!M74","v":778.6787331173183},{"$f":"'Inputs by customer type'!N74","v":778.6787331173183},{"$f":"'Inputs by customer type'!O74","v":0},{"$f":"'Inputs by customer type'!P74","v":901.60686399247072},{"$f":"'Inputs by customer type'!Q74","v":649.9994487203694},{"$f":"'Inputs by customer type'!R74","v":0},{"$f":"'Inputs by customer type'!S74","v":265.56703336591607},{"$f":"'Inputs by customer type'!T74","v":778.6787331173183},{"$f":"'Inputs by customer type'!U74","v":1553.57127334398},{"$f":"'Inputs by customer type'!V74","v":1212.7293314605568},{"$f":"'Inputs by customer type'!W74","v":0},null,null,null,null,null,{"$f":"'Inputs by customer type'!AC74","v":0},{"$f":"'Inputs by customer type'!AD74","v":0},{"$f":"'Inputs by customer type'!AE74","v":0},{"$f":"'Inputs by customer type'!AF74","v":0},{"$f":"'Inputs by customer type'!AG74","v":0},{"$f":"'Inputs by customer type'!AH74","v":0},{"$f":"'Inputs by customer type'!AI74","v":0},{"$f":"'Inputs by customer type'!AJ74","v":0},{"$f":"'Inputs by customer type'!AK74","v":0},{"$f":"'Inputs by customer type'!AL74","v":0},{"$f":"'Inputs by customer type'!AM74","v":0},{"$f":"'Inputs by customer type'!AN74","v":0},{"$f":"'Inputs by customer type'!AO74","v":0},{"$f":"'Inputs by customer type'!AP74","v":0}]
[null,null,null,null,null,"HV customers","£ per MPAN",null,null,{"$f":"'Inputs by customer type'!J75","v":0},{"$f":"'Inputs by customer type'!K75","v":0},{"$f":"'Inputs by customer type'!L75","v":0},{"$f":"'Inputs by customer type'!M75","v":0},{"$f":"'Inputs by customer type'!N75","v":0},{"$f":"'Inputs by customer type'!O75","v":0},{"$f":"'Inputs by customer type'!P75","v":0},{"$f":"'Inputs by customer type'!Q75","v":0},{"$f":"'Inputs by customer type'!R75","v":11195.717873935706},{"$f":"'Inputs by customer type'!S75","v":0},{"$f":"'Inputs by customer type'!T75","v":0},{"$f":"'Inputs by customer type'!U75","v":0},{"$f":"'Inputs by customer type'!V75","v":0},{"$f":"'Inputs by customer type'!W75","v":11195.717873935706},null,null,null,null,null,{"$f":"'Inputs by customer type'!AC75","v":0},{"$f":"'Inputs by customer type'!AD75","v":0},{"$f":"'Inputs by customer type'!AE75","v":0},{"$f":"'Inputs by customer type'!AF75","v":0},{"$f":"'Inputs by customer type'!AG75","v":0},{"$f":"'Inputs by customer type'!AH75","v":0},{"$f":"'Inputs by customer type'!AI75","v":0},{"$f":"'Inputs by customer type'!AJ75","v":0},{"$f":"'Inputs by customer type'!AK75","v":0},{"$f":"'Inputs by customer type'!AL75","v":0},{"$f":"'Inputs by customer type'!AM75","v":7006.7581165865458},{"$f":"'Inputs by customer type'!AN75","v":7006.7581165865458},{"$f":"'Inputs by customer type'!AO75","v":7006.7581165865458},{"$f":"'Inputs by customer type'!AP75","v":7006.7581165865458}]
[null,null,null,null,null,"LV UMS customers","£/MWh/year",null,null,null,null,null,null,null,null,null,null,null,null,null,null,null,null,{"$f":"'Inputs by customer type'!X77","v":300.20667715087131},{"$f":"'Inputs by customer type'!Y77","v":300.20667715087131},{"$f":"'Inputs by customer type'!Z77","v":300.20667715087131},{"$f":"'Inputs by customer type'!AA77","v":300.20667715087131},{"$f":"'Inputs by customer type'!AB77","v":300.20667715087131}]
[]
[null,"Allocation of service model costs"]
[]
[null,null,"This section allocates other operating costs to service model customers"]
[]
[null,null,{"$f":"INDEX('Version control'!$H$34:$H$59,MATCH($A$1,'Version control'!$F$34:$F$59,0),1)&\"-B: Calculation of other operating expenditure per £ of notional asset value\"","v":"Section 513-B: Calculation of other operating expenditure per £ of notional asset value"}]
[]
[null,null,null,null,"Other operating expenditure per £ of notional asset value",null,"£",{"$f":"IF(H21 <> 0, H20  /H21, 0)","v":3.5290221602319115E-2},">",null,null,null,null,null,null,null,null,null,null,null,null,null,null,null,null,null,null,null,null,null,null,null,null,null,null,null,null,null,null,null,null,null,null,"Paragraphs 66, 85 & 86"]
[]
[null,null,{"$f":"INDEX('Version control'!$H$34:$H$59,MATCH($A$1,'Version control'!$F$34:$F$59,0),1)&\"-C: Calculation of service model charges\"","v":"Section 513-C: Calculation of service model charges"}]
[]
[null,null,null,null,"LV and HV added to fixed charges in 'Fixed charges' tab. For UMS, added to unit rates in 'Unit rate charges' tab."]
[]
[null,null,null,null,"Operating expenditure for customer assets",null,null,null,">",null,null,null,null,null,null,null,null,null,null,null,null,null,null,null,null,null,null,null,null,null,null,null,null,null,null,null,null,null,null,null,null,null,null,"Paragraphs 66 & 85"]
[null,null,null,null,null,"LV customers","p/MPAN/day",null,null,{"$f":"J25 * $H$35 / days_in_year * hundred","v":2.56764916650785},2.56764916650785,0,7.5286972736228126,7.5286972736228126,0,8.7172345283469266,6.2845546812950941,0,2.56764916650785,7.5286972736228126,15.020787537344148,11.725338863253523,0,0,0,0,0,0,0,0,0,0,0,0,0,0,0,0,0,0,0,0]
[null,null,null,null,null,"HV customers","p/MPAN/day",null,null,{"$f":"J26 * $H$35 / days_in_year * hundred","v":0},0,0,0,0,0,0,0,108.24640130636605,0,0,0,0,108.24640130636605,0,0,0,0,0,0,0,0,0,0,0,0,0,0,0,67.745218259777346,67.745218259777346,67.745218259777346,67.745218259777346]
[null,null,null,null,null,"LV UMS customers","p/kWh",null,null,null,null,null,null,null,null,null,null,null,null,null,null,null,null,{"$f":"X27*$H$35/ten","v":1.0594360163150118},{"$f":"Y27*$H$35/ten","v":1.0594360163150118},{"$f":"Z27*$H$35/ten","v":1.0594360163150118},{"$f":"AA27*$H$35/ten","v":1.0594360163150118},{"$f":"AB27*$H$35/ten","v":1.0594360163150118}]
[]
[null,"Checks"]
[]
[null,null,null,null,"Check for error values",null,"number of issues",{"$f":"SUM(IF(ISERROR(H19:AP45), 1))","v":0}]
[]
[null,"End of sheet"]

{"sheet":"Unit rate charges","index":27,"n_rows":225,"n_cols":44,"rows_kept":225,"cut":false,"hidden":false,"merged":[]}
[{"$f":"MID(CELL(\"filename\",A1),FIND(\"]\",CELL(\"filename\",A1))+1,255)","v":"Unit rate charges"}]
[{"$f":"Cover!D21&\" - \"&Cover!D23","v":"[enter DNO name] - [enter data version name]"}]
[{"$f":"Cover!D2&\" - \"&Cover!D8&\" v\"&Cover!D10&\" - \"&Cover!D19","v":"ARP model - Release for charge setting v3 - 2020/21"}]
[{"$f":"H223 & IF(H223 = 1, \" issue\", \" issues\") &\" identified in checks on this sheet\"","v":"0 issues identified in checks on this sheet"}]
[null,"Click here to return to model map",null,null,null,null,"Units","Constants",null,"Domestic Unrestricted","Domestic Two Rate","Domestic Off Peak (related MPAN)","Small Non Domestic Unrestricted","Small Non Domestic Two Rate","Small Non Domestic Off Peak (related MPAN)","LV Medium Non-Domestic","LV Sub Medium Non-Domestic","HV Medium Non-Domestic","LV Network Domestic","LV Network Non-Domestic Non-CT","LV HH Metered","LV Sub HH Metered","HV HH Metered","NHH UMS category A","NHH UMS category B","NHH UMS category C","NHH UMS category D","LV UMS (Pseudo HH Metered)","LV Generation NHH or Aggregate HH","LV Sub Generation NHH","LV Generation Intermittent","LV Generation Intermittent no RP charge","LV Generation Non-Intermittent","LV Generation Non-Intermittent no RP charge","LV Sub Generation Intermittent","LV Sub Generation Intermittent no RP charge","LV Sub Generation Non-Intermittent","LV Sub Generation Non-Intermittent no RP charge","HV Generation Intermittent","HV Generation Intermittent no RP charge","HV Generation Non-Intermittent","HV Generation Non-Intermittent no RP charge",null,"Legal text reference"]
[]
[null,"Description"]
[]
[null,null,"This sheet adjusts unit rates 1, 2 and 3 to account for costs that will be recovered through fixed "]
[null,null,"or capacity charges instead. This is done by multiplying unit rates by (1 - [standing charge factors]). "]
[null,null,"Where these factors are greater than zero, unit charges are reduced; where they are equal "]
[null,null,"to one, unit charges will be zero."]
[null,null,"Unit rates 1, 2 and 3, are summarised at the bottom. These are scaled later in the model for revenue matching."]
[]
[null,"Inputs to unit rate charge calculations"]
[]
[null,null,"Brings in inputs used in the application of standing charges to unit rates"]
[]
[null,null,{"$f":"INDEX('Version control'!$H$34:$H$59,MATCH($A$1,'Version control'!$F$34:$F$59,0),1)&\"-A: Initial unit rate 1\"","v":"Section 514-A: Initial unit rate 1"}]
[]
[null,null,null,null,"Asset costs"]
[null,null,null,null,null,"Transmission exit","p/kWh",null,null,{"$f":"'Initial unit rates'!J152","v":0},{"$f":"'Initial unit rates'!K152","v":0},{"$f":"'Initial unit rates'!L152","v":0},{"$f":"'Initial unit rates'!M152","v":0},{"$f":"'Initial unit rates'!N152","v":0},{"$f":"'Initial unit rates'!O152","v":0},{"$f":"'Initial unit rates'!P152","v":0},{"$f":"'Initial unit rates'!Q152","v":0},{"$f":"'Initial unit rates'!R152","v":0},{"$f":"'Initial unit rates'!S152","v":0},{"$f":"'Initial unit rates'!T152","v":0},{"$f":"'Initial unit rates'!U152","v":0},{"$f":"'Initial unit rates'!V152","v":0},{"$f":"'Initial unit rates'!W152","v":0},{"$f":"'Initial unit rates'!X152","v":0},{"$f":"'Initial unit rates'!Y152","v":0},{"$f":"'Initial unit rates'!Z152","v":0},{"$f":"'Initial unit rates'!AA152","v":0},{"$f":"'Initial unit rates'!AB152","v":0},{"$f":"'Initial unit rates'!AC152","v":0},{"$f":"'Initial unit rates'!AD152","v":0},{"$f":"'Initial unit rates'!AE152","v":0},{"$f":"'Initial unit rates'!AF152","v":0},{"$f":"'Initial unit rates'!AG152","v":0},{"$f":"'Initial unit rates'!AH152","v":0},{"$f":"'Initial unit rates'!AI152","v":0},{"$f":"'Initial unit rates'!AJ152","v":0},{"$f":"'Initial unit rates'!AK152","v":0},{"$f":"'Initial unit rates'!AL152","v":0},{"$f":"'Initial unit rates'!AM152","v":0},{"$f":"'Initial unit rates'!AN152","v":0},{"$f":"'Initial unit rates'!AO152","v":0},{"$f":"'Initial unit rates'!AP152","v":0}]
[null,null,null,null,null,"GSPs","p/kWh",null,null,{"$f":"'Initial unit rates'!J153","v":0},{"$f":"'Initial unit rates'!K153","v":0},{"$f":"'Initial unit rates'!L153","v":0},{"$f":"'Initial unit rates'!M153","v":0},{"$f":"'Initial unit rates'!N153","v":0},{"$f":"'Initial unit rates'!O153","v":0},{"$f":"'Initial unit rates'!P153","v":0},{"$f":"'Initial unit rates'!Q153","v":0},{"$f":"'Initial unit rates'!R153","v":0},{"$f":"'Initial unit rates'!S153","v":0},{"$f":"'Initial unit rates'!T153","v":0},{"$f":"'Initial unit rates'!U153","v":0},{"$f":"'Initial unit rates'!V153","v":0},{"$f":"'Initial unit rates'!W153","v":0},{"$f":"'Initial unit rates'!X153","v":0},{"$f":"'Initial unit rates'!Y153","v":0},{"$f":"'Initial unit rates'!Z153","v":0},{"$f":"'Initial unit rates'!AA153","v":0},{"$f":"'Initial unit rates'!AB153","v":0},{"$f":"'Initial unit rates'!AC153","v":0},{"$f":"'Initial unit rates'!AD153","v":0},{"$f":"'Initial unit rates'!AE153","v":0},{"$f":"'Initial unit rates'!AF153","v":0},{"$f":"'Initial unit rates'!AG153","v":0},{"$f":"'Initial unit rates'!AH153","v":0},{"$f":"'Initial unit rates'!AI153","v":0},{"$f":"'Initial unit rates'!AJ153","v":0},{"$f":"'Initial unit rates'!AK153","v":0},{"$f":"'Initial unit rates'!AL153","v":0},{"$f":"'Initial unit rates'!AM153","v":0},{"$f":"'Initial unit rates'!AN153","v":0},{"$f":"'Initial unit rates'!AO153","v":0},{"$f":"'Initial unit rates'!AP153","v":0}]
[null,null,null,null,null,"132kV","p/kWh",null,null,{"$f":"'Initial unit rates'!J154","v":0.38225511189549799},{"$f":"'Initial unit rates'!K154","v":0.41411722117164834},{"$f":"'Initial unit rates'!L154","v":7.794794374838479E-2},{"$f":"'Initial unit rates'!M154","v":0.25621566610287899},{"$f":"'Initial unit rates'!N154","v":0.33995294161781564},{"$f":"'Initial unit rates'!O154","v":7.7927409678838822E-2},{"$f":"'Initial unit rates'!P154","v":0.30193357479810817},{"$f":"'Initial unit rates'!Q154","v":0.30113895766468118},{"$f":"'Initial unit rates'!R154","v":0.29851518575011493},{"$f":"'Initial unit rates'!S154","v":2.2439952215700316},{"$f":"'Initial unit rates'!T154","v":1.9264391643149958},{"$f":"'Initial unit rates'!U154","v":1.7263862903981155},{"$f":"'Initial unit rates'!V154","v":1.6292351165819441},{"$f":"'Initial unit rates'!W154","v":1.5464382276227795},{"$f":"'Initial unit rates'!X154","v":0.21559103268303156},{"$f":"'Initial unit rates'!Y154","v":0.28338777103677582},{"$f":"'Initial unit rates'!Z154","v":0.43115468767172521},{"$f":"'Initial unit rates'!AA154","v":0.15118877988688048},{"$f":"'Initial unit rates'!AB154","v":4.6409441736416452},{"$f":"'Initial unit rates'!AC154","v":-0.20404039889000805},{"$f":"'Initial unit rates'!AD154","v":-0.20063025294755665},{"$f":"'Initial unit rates'!AE154","v":-0.20404039889000805},{"$f":"'Initial unit rates'!AF154","v":-0.20404039889000805},{"$f":"'Initial unit rates'!AG154","v":-1.5553587010261978},{"$f":"'Initial unit rates'!AH154","v":-1.5553587010261978},{"$f":"'Initial unit rates'!AI154","v":-0.20063025294755665},{"$f":"'Initial unit rates'!AJ154","v":-0.20063025294755665},{"$f":"'Initial unit rates'!AK154","v":-1.5293638480842555},{"$f":"'Initial unit rates'!AL154","v":-1.5293638480842555},{"$f":"'Initial unit rates'!AM154","v":-0.19722010700510526},{"$f":"'Initial unit rates'!AN154","v":-0.19722010700510526},{"$f":"'Initial unit rates'!AO154","v":-1.5033689951423137},{"$f":"'Initial unit rates'!AP154","v":-1.5033689951423137}]
[null,null,null,null,null,"132kV/EHV","p/kWh",null,null,{"$f":"'Initial unit rates'!J155","v":3.5566495195822632E-2},{"$f":"'Initial unit rates'!K155","v":3.8531069170725497E-2},{"$f":"'Initial unit rates'!L155","v":7.2525783974580031E-3},{"$f":"'Initial unit rates'!M155","v":2.3839297301624564E-2},{"$f":"'Initial unit rates'!N155","v":3.1630537535260655E-2},{"$f":"'Initial unit rates'!O155","v":7.2506678281467488E-3},{"$f":"'Initial unit rates'!P155","v":2.8093068485766256E-2},{"$f":"'Initial unit rates'!Q155","v":2.8019134231968036E-2},{"$f":"'Initial unit rates'!R155","v":1.777600533585285E-2},{"$f":"'Initial unit rates'!S155","v":0.20879000118967264},{"$f":"'Initial unit rates'!T155","v":0.17924335646657136},{"$f":"'Initial unit rates'!U155","v":0.16062966273781254},{"$f":"'Initial unit rates'!V155","v":0.15159034148539718},{"$f":"'Initial unit rates'!W155","v":9.2087423012377753E-2},{"$f":"'Initial unit rates'!X155","v":2.0059424163514476E-2},{"$f":"'Initial unit rates'!Y155","v":2.6367495119044553E-2},{"$f":"'Initial unit rates'!Z155","v":4.0116301000377615E-2},{"$f":"'Initial unit rates'!AA155","v":1.4067189283211127E-2},{"$f":"'Initial unit rates'!AB155","v":0.43181140949929731},{"$f":"'Initial unit rates'!AC155","v":-1.8984708486669357E-2},{"$f":"'Initial unit rates'!AD155","v":-1.8667415308619175E-2},{"$f":"'Initial unit rates'!AE155","v":-1.8984708486669357E-2},{"$f":"'Initial unit rates'!AF155","v":-1.8984708486669357E-2},{"$f":"'Initial unit rates'!AG155","v":-0.14471659383054208},{"$f":"'Initial unit rates'!AH155","v":-0.14471659383054208},{"$f":"'Initial unit rates'!AI155","v":-1.8667415308619175E-2},{"$f":"'Initial unit rates'!AJ155","v":-1.8667415308619175E-2},{"$f":"'Initial unit rates'!AK155","v":-0.14229793209521269},{"$f":"'Initial unit rates'!AL155","v":-0.14229793209521269},{"$f":"'Initial unit rates'!AM155","v":-1.174407816356415E-2},{"$f":"'Initial unit rates'!AN155","v":-1.174407816356415E-2},{"$f":"'Initial unit rates'!AO155","v":-8.9522733030325291E-2},{"$f":"'Initial unit rates'!AP155","v":-8.9522733030325291E-2}]
[null,null,null,null,null,"EHV","p/kWh",null,null,{"$f":"'Initial unit rates'!J156","v":0.10660674572850891},{"$f":"'Initial unit rates'!K156","v":0.11886254520780935},{"$f":"'Initial unit rates'!L156","v":1.1200598848131241E-2},{"$f":"'Initial unit rates'!M156","v":7.1158129383277452E-2},{"$f":"'Initial unit rates'!N156","v":9.7982784624867217E-2},{"$f":"'Initial unit rates'!O156","v":1.1357961571308344E-2},{"$f":"'Initial unit rates'!P156","v":8.7382747591330329E-2},{"$f":"'Initial unit rates'!Q156","v":8.7208824094936133E-2},{"$f":"'Initial unit rates'!R156","v":5.5591372630536075E-2},{"$f":"'Initial unit rates'!S156","v":0.66590246812120679},{"$f":"'Initial unit rates'!T156","v":0.57133915755766329},{"$f":"'Initial unit rates'!U156","v":0.51216533656536323},{"$f":"'Initial unit rates'!V156","v":0.48334359260688631},{"$f":"'Initial unit rates'!W156","v":0.29361940501334899},{"$f":"'Initial unit rates'!X156","v":5.7111652477626701E-2},{"$f":"'Initial unit rates'!Y156","v":6.7141012122803087E-2},{"$f":"'Initial unit rates'!Z156","v":0.11098257906585678},{"$f":"'Initial unit rates'!AA156","v":4.7245212268798499E-2},{"$f":"'Initial unit rates'!AB156","v":1.2189196849395842},{"$f":"'Initial unit rates'!AC156","v":-5.4057376407598848E-2},{"$f":"'Initial unit rates'!AD156","v":-5.3153910506636197E-2},{"$f":"'Initial unit rates'!AE156","v":-5.4057376407598848E-2},{"$f":"'Initial unit rates'!AF156","v":-5.4057376407598848E-2},{"$f":"'Initial unit rates'!AG156","v":-0.46142674847542242},{"$f":"'Initial unit rates'!AH156","v":-0.46142674847542242},{"$f":"'Initial unit rates'!AI156","v":-5.3153910506636197E-2},{"$f":"'Initial unit rates'!AJ156","v":-5.3153910506636197E-2},{"$f":"'Initial unit rates'!AK156","v":-0.45371488081288058},{"$f":"'Initial unit rates'!AL156","v":-0.45371488081288058},{"$f":"'Initial unit rates'!AM156","v":-3.3440284547631059E-2},{"$f":"'Initial unit rates'!AN156","v":-3.3440284547631059E-2},{"$f":"'Initial unit rates'!AO156","v":-0.28544192841621674},{"$f":"'Initial unit rates'!AP156","v":-0.28544192841621674}]
[null,null,null,null,null,"EHV/HV","p/kWh",null,null,{"$f":"'Initial unit rates'!J157","v":2.0476198277800287E-2},{"$f":"'Initial unit rates'!K157","v":2.2830197346772965E-2},{"$f":"'Initial unit rates'!L157","v":2.1513243020146416E-3},{"$f":"'Initial unit rates'!M157","v":1.3667502524089431E-2},{"$f":"'Initial unit rates'!N157","v":1.8819774603186779E-2},{"$f":"'Initial unit rates'!O157","v":2.1815493154440429E-3},{"$f":"'Initial unit rates'!P157","v":1.6783801564449849E-2},{"$f":"'Initial unit rates'!Q157","v":1.6750395685928753E-2},{"$f":"'Initial unit rates'!R157","v":6.0061277353118852E-3},{"$f":"'Initial unit rates'!S157","v":0.12790139008323639},{"$f":"'Initial unit rates'!T157","v":0.10973840158121972},{"$f":"'Initial unit rates'!U157","v":9.8372752219976989E-2},{"$f":"'Initial unit rates'!V157","v":9.2836894803329961E-2},{"$f":"'Initial unit rates'!W157","v":3.1722829795855015E-2},{"$f":"'Initial unit rates'!X157","v":1.0969564000038488E-2},{"$f":"'Initial unit rates'!Y157","v":1.2895925744697598E-2},{"$f":"'Initial unit rates'!Z157","v":2.1316674463747517E-2},{"$f":"'Initial unit rates'!AA157","v":9.0744945592497982E-3},{"$f":"'Initial unit rates'!AB157","v":0.23412065515158345},{"$f":"'Initial unit rates'!AC157","v":-1.0382922301357442E-2},{"$f":"'Initial unit rates'!AD157","v":-1.0209391566515812E-2},{"$f":"'Initial unit rates'!AE157","v":-1.0382922301357442E-2},{"$f":"'Initial unit rates'!AF157","v":-1.0382922301357442E-2},{"$f":"'Initial unit rates'!AG157","v":-8.862727708174252E-2},{"$f":"'Initial unit rates'!AH157","v":-8.862727708174252E-2},{"$f":"'Initial unit rates'!AI157","v":-1.0209391566515812E-2},{"$f":"'Initial unit rates'!AJ157","v":-1.0209391566515812E-2},{"$f":"'Initial unit rates'!AK157","v":-8.7146041253078302E-2},{"$f":"'Initial unit rates'!AL157","v":-8.7146041253078302E-2},{"$f":"'Initial unit rates'!AM157","v":-3.6129098994027047E-3},{"$f":"'Initial unit rates'!AN157","v":-3.6129098994027047E-3},{"$f":"'Initial unit rates'!AO157","v":-3.0839329952789058E-2},{"$f":"'Initial unit rates'!AP157","v":-3.0839329952789058E-2}]
[null,null,null,null,null,"132kV/HV","p/kWh",null,null,{"$f":"'Initial unit rates'!J158","v":7.9838679242505914E-3},{"$f":"'Initial unit rates'!K158","v":8.6493472450827162E-3},{"$f":"'Initial unit rates'!L158","v":1.6280386278369821E-3},{"$f":"'Initial unit rates'!M158","v":5.3513791565683623E-3},{"$f":"'Initial unit rates'!N158","v":7.1003350952677661E-3},{"$f":"'Initial unit rates'!O158","v":1.627609748551655E-3},{"$f":"'Initial unit rates'!P158","v":6.3062538814234311E-3},{"$f":"'Initial unit rates'!Q158","v":6.2896573257562767E-3},{"$f":"'Initial unit rates'!R158","v":2.2445483845953051E-3},{"$f":"'Initial unit rates'!S158","v":4.6868598781649347E-2},{"$f":"'Initial unit rates'!T158","v":4.023605014914583E-2},{"$f":"'Initial unit rates'!U158","v":3.6057699949199322E-2},{"$f":"'Initial unit rates'!V158","v":3.4028578254559246E-2},{"$f":"'Initial unit rates'!W158","v":1.1627734840239363E-2},{"$f":"'Initial unit rates'!X158","v":4.5028837470842686E-3},{"$f":"'Initial unit rates'!Y158","v":5.9189019712152921E-3},{"$f":"'Initial unit rates'!Z158","v":9.0051956773664534E-3},{"$f":"'Initial unit rates'!AA158","v":3.1577635267188795E-3},{"$f":"'Initial unit rates'!AB158","v":9.6931824253287571E-2},{"$f":"'Initial unit rates'!AC158","v":-4.2616345609384036E-3},{"$f":"'Initial unit rates'!AD158","v":-4.1904094707834435E-3},{"$f":"'Initial unit rates'!AE158","v":-4.2616345609384036E-3},{"$f":"'Initial unit rates'!AF158","v":-4.2616345609384036E-3},{"$f":"'Initial unit rates'!AG158","v":-3.248557849822014E-2},{"$f":"'Initial unit rates'!AH158","v":-3.248557849822014E-2},{"$f":"'Initial unit rates'!AI158","v":-4.1904094707834435E-3},{"$f":"'Initial unit rates'!AJ158","v":-4.1904094707834435E-3},{"$f":"'Initial unit rates'!AK158","v":-3.1942644038639854E-2},{"$f":"'Initial unit rates'!AL158","v":-3.1942644038639854E-2},{"$f":"'Initial unit rates'!AM158","v":-1.4829063770262539E-3},{"$f":"'Initial unit rates'!AN158","v":-1.4829063770262539E-3},{"$f":"'Initial unit rates'!AO158","v":-1.1303895448461445E-2},{"$f":"'Initial unit rates'!AP158","v":-1.1303895448461445E-2}]
[null,null,null,null,null,"HV","p/kWh",null,null,{"$f":"'Initial unit rates'!J159","v":0.11938546727822008},{"$f":"'Initial unit rates'!K159","v":0.1331103431076599},{"$f":"'Initial unit rates'!L159","v":1.2543190565871002E-2},{"$f":"'Initial unit rates'!M159","v":7.9687701458415416E-2},{"$f":"'Initial unit rates'!N159","v":0.10972777048697353},{"$f":"'Initial unit rates'!O159","v":1.2719416020557662E-2},{"$f":"'Initial unit rates'!P159","v":9.7857129790014111E-2},{"$f":"'Initial unit rates'!Q159","v":9.7662358457808171E-2},{"$f":"'Initial unit rates'!R159","v":3.5018432449459451E-2},{"$f":"'Initial unit rates'!S159","v":0.74572276618242705},{"$f":"'Initial unit rates'!T159","v":0.63982435476524946},{"$f":"'Initial unit rates'!U159","v":0.57355749499453346},{"$f":"'Initial unit rates'!V159","v":0.54128095051564273},{"$f":"'Initial unit rates'!W159","v":0.18495839936613709},{"$f":"'Initial unit rates'!X159","v":6.3957503547070749E-2},{"$f":"'Initial unit rates'!Y159","v":7.5189060983313807E-2},{"$f":"'Initial unit rates'!Z159","v":0.1242858223555741},{"$f":"'Initial unit rates'!AA159","v":5.290839434995382E-2},{"$f":"'Initial unit rates'!AB159","v":1.3650289685394414},{"$f":"'Initial unit rates'!AC159","v":-6.0537117967104127E-2},{"$f":"'Initial unit rates'!AD159","v":-5.9525355549826617E-2},{"$f":"'Initial unit rates'!AE159","v":-6.0537117967104127E-2},{"$f":"'Initial unit rates'!AF159","v":-6.0537117967104127E-2},{"$f":"'Initial unit rates'!AG159","v":-0.51673698136980484},{"$f":"'Initial unit rates'!AH159","v":-0.51673698136980484},{"$f":"'Initial unit rates'!AI159","v":-5.9525355549826617E-2},{"$f":"'Initial unit rates'!AJ159","v":-5.9525355549826617E-2},{"$f":"'Initial unit rates'!AK159","v":-0.50810070870067159},{"$f":"'Initial unit rates'!AL159","v":-0.50810070870067159},{"$f":"'Initial unit rates'!AM159","v":0},{"$f":"'Initial unit rates'!AN159","v":0},{"$f":"'Initial unit rates'!AO159","v":0},{"$f":"'Initial unit rates'!AP159","v":0}]
[null,null,null,null,null,"HV/LV","p/kWh",null,null,{"$f":"'Initial unit rates'!J160","v":8.8677295926212658E-3},{"$f":"'Initial unit rates'!K160","v":9.8871877421139662E-3},{"$f":"'Initial unit rates'!L160","v":9.3168477456011256E-4},{"$f":"'Initial unit rates'!M160","v":5.9190536712811085E-3},{"$f":"'Initial unit rates'!N160","v":8.1503739078399862E-3},{"$f":"'Initial unit rates'!O160","v":9.4477447228568442E-4},{"$f":"'Initial unit rates'!P160","v":7.2686448817560452E-3},{"$f":"'Initial unit rates'!Q160","v":7.2541776308772442E-3},{"$f":"'Initial unit rates'!R160","v":0},{"$f":"'Initial unit rates'!S160","v":5.5390894656854997E-2},{"$f":"'Initial unit rates'!T160","v":4.7524958390531842E-2},{"$f":"'Initial unit rates'!U160","v":4.2602779780388171E-2},{"$f":"'Initial unit rates'!V160","v":4.0205338323330432E-2},{"$f":"'Initial unit rates'!W160","v":0},{"$f":"'Initial unit rates'!X160","v":4.7506439418862796E-3},{"$f":"'Initial unit rates'!Y160","v":5.5849030566618683E-3},{"$f":"'Initial unit rates'!Z160","v":9.2317188178134332E-3},{"$f":"'Initial unit rates'!AA160","v":3.9299367416452281E-3},{"$f":"'Initial unit rates'!AB160","v":0.10139180299804208},{"$f":"'Initial unit rates'!AC160","v":-4.4965840875577749E-3},{"$f":"'Initial unit rates'!AD160","v":0},{"$f":"'Initial unit rates'!AE160","v":-4.4965840875577749E-3},{"$f":"'Initial unit rates'!AF160","v":-4.4965840875577749E-3},{"$f":"'Initial unit rates'!AG160","v":-3.8382258123730313E-2},{"$f":"'Initial unit rates'!AH160","v":-3.8382258123730313E-2},{"$f":"'Initial unit rates'!AI160","v":0},{"$f":"'Initial unit rates'!AJ160","v":0},{"$f":"'Initial unit rates'!AK160","v":0},{"$f":"'Initial unit rates'!AL160","v":0},{"$f":"'Initial unit rates'!AM160","v":0},{"$f":"'Initial unit rates'!AN160","v":0},{"$f":"'Initial unit rates'!AO160","v":0},{"$f":"'Initial unit rates'!AP160","v":0}]
[null,null,null,null,null,"LV circuits","p/kWh",null,null,{"$f":"'Initial unit rates'!J161","v":2.0218494672890417E-2},{"$f":"'Initial unit rates'!K161","v":2.2542867439275163E-2},{"$f":"'Initial unit rates'!L161","v":2.1242487667791554E-3},{"$f":"'Initial unit rates'!M161","v":1.3495489896413755E-2},{"$f":"'Initial unit rates'!N161","v":1.8582917951720842E-2},{"$f":"'Initial unit rates'!O161","v":2.154093382694647E-3},{"$f":"'Initial unit rates'!P161","v":1.6572568692577342E-2},{"$f":"'Initial unit rates'!Q161","v":0},{"$f":"'Initial unit rates'!R161","v":0},{"$f":"'Initial unit rates'!S161","v":0.12629168456806913},{"$f":"'Initial unit rates'!T161","v":0.10835728672284353},{"$f":"'Initial unit rates'!U161","v":9.7134679970037982E-2},{"$f":"'Initial unit rates'!V161","v":0},{"$f":"'Initial unit rates'!W161","v":0},{"$f":"'Initial unit rates'!X161","v":1.0831506331874361E-2},{"$f":"'Initial unit rates'!Y161","v":1.2733623812084373E-2},{"$f":"'Initial unit rates'!Z161","v":2.1048393028909412E-2},{"$f":"'Initial unit rates'!AA161","v":8.9602873256155631E-3},{"$f":"'Initial unit rates'!AB161","v":0.23117412494134248},{"$f":"'Initial unit rates'!AC161","v":0},{"$f":"'Initial unit rates'!AD161","v":0},{"$f":"'Initial unit rates'!AE161","v":0},{"$f":"'Initial unit rates'!AF161","v":0},{"$f":"'Initial unit rates'!AG161","v":0},{"$f":"'Initial unit rates'!AH161","v":0},{"$f":"'Initial unit rates'!AI161","v":0},{"$f":"'Initial unit rates'!AJ161","v":0},{"$f":"'Initial unit rates'!AK161","v":0},{"$f":"'Initial unit rates'!AL161","v":0},{"$f":"'Initial unit rates'!AM161","v":0},{"$f":"'Initial unit rates'!AN161","v":0},{"$f":"'Initial unit rates'!AO161","v":0},{"$f":"'Initial unit rates'!AP161","v":0}]
[null,null,null,null,null,"LV customers","p/kWh"]
[null,null,null,null,null,"HV customers","p/kWh"]
[]
[null,null,null,null,"Other operating costs"]
[null,null,null,null,null,"Transmission exit","p/kWh",null,null,{"$f":"'Initial unit rates'!J164","v":0.23223855310718483},{"$f":"'Initial unit rates'!K164","v":0.25947067534147389},{"$f":"'Initial unit rates'!L164","v":1.7557658320127074E-2},{"$f":"'Initial unit rates'!M164","v":0.14266578336347194},{"$f":"'Initial unit rates'!N164","v":0.20333503423674185},{"$f":"'Initial unit rates'!O164","v":1.7759322658001699E-2},{"$f":"'Initial unit rates'!P164","v":0.18091305986331957},{"$f":"'Initial unit rates'!Q164","v":0.17940247584869712},{"$f":"'Initial unit rates'!R164","v":0.17701299720578584},{"$f":"'Initial unit rates'!S164","v":1.7111073715216598},{"$f":"'Initial unit rates'!T164","v":1.4684611696091374},{"$f":"'Initial unit rates'!U164","v":1.3160428880058255},{"$f":"'Initial unit rates'!V164","v":1.241983500443899},{"$f":"'Initial unit rates'!W164","v":1.1788665390374296},{"$f":"'Initial unit rates'!X164","v":0.12036601428850072},{"$f":"'Initial unit rates'!Y164","v":0.16877623444313655},{"$f":"'Initial unit rates'!Z164","v":0.27816515364822697},{"$f":"'Initial unit rates'!AA164","v":7.4319807655267717E-2},{"$f":"'Initial unit rates'!AB164","v":3.3697120751580432},{"$f":"'Initial unit rates'!AC164","v":-0.11393653918951653},{"$f":"'Initial unit rates'!AD164","v":-0.11203230733676695},{"$f":"'Initial unit rates'!AE164","v":-0.11393653918951653},{"$f":"'Initial unit rates'!AF164","v":-0.11393653918951653},{"$f":"'Initial unit rates'!AG164","v":-1.1856667121189166},{"$f":"'Initial unit rates'!AH164","v":-1.1856667121189166},{"$f":"'Initial unit rates'!AI164","v":-0.11203230733676695},{"$f":"'Initial unit rates'!AJ164","v":-0.11203230733676695},{"$f":"'Initial unit rates'!AK164","v":-1.1658505553704108},{"$f":"'Initial unit rates'!AL164","v":-1.1658505553704108},{"$f":"'Initial unit rates'!AM164","v":-0.11012807548401737},{"$f":"'Initial unit rates'!AN164","v":-0.11012807548401737},{"$f":"'Initial unit rates'!AO164","v":-1.1460343986219053},{"$f":"'Initial unit rates'!AP164","v":-1.1460343986219053}]
[null,null,null,null,null,"GSPs","p/kWh",null,null,{"$f":"'Initial unit rates'!J165","v":0},{"$f":"'Initial unit rates'!K165","v":0},{"$f":"'Initial unit rates'!L165","v":0},{"$f":"'Initial unit rates'!M165","v":0},{"$f":"'Initial unit rates'!N165","v":0},{"$f":"'Initial unit rates'!O165","v":0},{"$f":"'Initial unit rates'!P165","v":0},{"$f":"'Initial unit rates'!Q165","v":0},{"$f":"'Initial unit rates'!R165","v":0},{"$f":"'Initial unit rates'!S165","v":0},{"$f":"'Initial unit rates'!T165","v":0},{"$f":"'Initial unit rates'!U165","v":0},{"$f":"'Initial unit rates'!V165","v":0},{"$f":"'Initial unit rates'!W165","v":0},{"$f":"'Initial unit rates'!X165","v":0},{"$f":"'Initial unit rates'!Y165","v":0},{"$f":"'Initial unit rates'!Z165","v":0},{"$f":"'Initial unit rates'!AA165","v":0},{"$f":"'Initial unit rates'!AB165","v":0},{"$f":"'Initial unit rates'!AC165","v":0},{"$f":"'Initial unit rates'!AD165","v":0},{"$f":"'Initial unit rates'!AE165","v":0},{"$f":"'Initial unit rates'!AF165","v":0},{"$f":"'Initial unit rates'!AG165","v":0},{"$f":"'Initial unit rates'!AH165","v":0},{"$f":"'Initial unit rates'!AI165","v":0},{"$f":"'Initial unit rates'!AJ165","v":0},{"$f":"'Initial unit rates'!AK165","v":0},{"$f":"'Initial unit rates'!AL165","v":0},{"$f":"'Initial unit rates'!AM165","v":0},{"$f":"'Initial unit rates'!AN165","v":0},{"$f":"'Initial unit rates'!AO165","v":0},{"$f":"'Initial unit rates'!AP165","v":0}]
[null,null,null,null,null,"132kV","p/kWh",null,null,{"$f":"'Initial unit rates'!J166","v":0.27807453565763091},{"$f":"'Initial unit rates'!K166","v":0.30125288165306752},{"$f":"'Initial unit rates'!L166","v":5.6703854543153631E-2},{"$f":"'Initial unit rates'!M166","v":0.18638613366469878},{"$f":"'Initial unit rates'!N166","v":0.24730148386259718},{"$f":"'Initial unit rates'!O166","v":5.6688916870179566E-2},{"$f":"'Initial unit rates'!P166","v":0.2196439916659263},{"$f":"'Initial unit rates'!Q166","v":0.2190659410826192},{"$f":"'Initial unit rates'!R166","v":0.21715725723743365},{"$f":"'Initial unit rates'!S166","v":1.6324122551606828},{"$f":"'Initial unit rates'!T166","v":1.4014035637959406},{"$f":"'Initial unit rates'!U166","v":1.2558735020903977},{"$f":"'Initial unit rates'!V166","v":1.1852001043860103},{"$f":"'Initial unit rates'!W166","v":1.1249688459025124},{"$f":"'Initial unit rates'!X166","v":0.15683341946169324},{"$f":"'Initial unit rates'!Y166","v":0.20615269852465914},{"$f":"'Initial unit rates'!Z166","v":0.31364692280087175},{"$f":"'Initial unit rates'!AA166","v":0.10998348604212138},{"$f":"'Initial unit rates'!AB166","v":3.3760919237914502},{"$f":"'Initial unit rates'!AC166","v":-0.14843081861060392},{"$f":"'Initial unit rates'!AD166","v":-0.14595008069510637},{"$f":"'Initial unit rates'!AE166","v":-0.14843081861060392},{"$f":"'Initial unit rates'!AF166","v":-0.14843081861060392},{"$f":"'Initial unit rates'!AG166","v":-1.1314581155612002},{"$f":"'Initial unit rates'!AH166","v":-1.1314581155612002},{"$f":"'Initial unit rates'!AI166","v":-0.14595008069510637},{"$f":"'Initial unit rates'!AJ166","v":-0.14595008069510637},{"$f":"'Initial unit rates'!AK166","v":-1.1125479520699266},{"$f":"'Initial unit rates'!AL166","v":-1.1125479520699266},{"$f":"'Initial unit rates'!AM166","v":-0.14346934277960879},{"$f":"'Initial unit rates'!AN166","v":-0.14346934277960879},{"$f":"'Initial unit rates'!AO166","v":-1.093637788578653},{"$f":"'Initial unit rates'!AP166","v":-1.093637788578653}]
[null,null,null,null,null,"132kV/EHV","p/kWh",null,null,{"$f":"'Initial unit rates'!J167","v":2.5873131133564885E-2},{"$f":"'Initial unit rates'!K167","v":2.8029734160810164E-2},{"$f":"'Initial unit rates'!L167","v":5.2759461088516353E-3},{"$f":"'Initial unit rates'!M167","v":1.7342087316194601E-2},{"$f":"'Initial unit rates'!N167","v":2.3009887282091992E-2},{"$f":"'Initial unit rates'!O167","v":5.2745562499392608E-3},{"$f":"'Initial unit rates'!P167","v":2.0436527154967476E-2},{"$f":"'Initial unit rates'!Q167","v":2.0382743091251002E-2},{"$f":"'Initial unit rates'!R167","v":2.0205151758401294E-2},{"$f":"'Initial unit rates'!S167","v":0.15188595475643188},{"$f":"'Initial unit rates'!T167","v":0.13039201195243472},{"$f":"'Initial unit rates'!U167","v":0.11685133171187068},{"$f":"'Initial unit rates'!V167","v":0.11027560523574512},{"$f":"'Initial unit rates'!W167","v":0.10467145581085184},{"$f":"'Initial unit rates'!X167","v":1.4592388397813455E-2},{"$f":"'Initial unit rates'!Y167","v":1.9181245020701364E-2},{"$f":"'Initial unit rates'!Z167","v":2.9182923722499313E-2},{"$f":"'Initial unit rates'!AA167","v":1.0233289251619832E-2},{"$f":"'Initial unit rates'!AB167","v":0.31412466034204628},{"$f":"'Initial unit rates'!AC167","v":-1.3810577890896325E-2},{"$f":"'Initial unit rates'!AD167","v":-1.3579760433109756E-2},{"$f":"'Initial unit rates'!AE167","v":-1.3810577890896325E-2},{"$f":"'Initial unit rates'!AF167","v":-1.3810577890896325E-2},{"$f":"'Initial unit rates'!AG167","v":-0.10527524257774591},{"$f":"'Initial unit rates'!AH167","v":-0.10527524257774591},{"$f":"'Initial unit rates'!AI167","v":-1.3579760433109756E-2},{"$f":"'Initial unit rates'!AJ167","v":-1.3579760433109756E-2},{"$f":"'Initial unit rates'!AK167","v":-0.10351576777143261},{"$f":"'Initial unit rates'!AL167","v":-0.10351576777143261},{"$f":"'Initial unit rates'!AM167","v":-1.3348942975323188E-2},{"$f":"'Initial unit rates'!AN167","v":-1.3348942975323188E-2},{"$f":"'Initial unit rates'!AO167","v":-0.1017562929651193},{"$f":"'Initial unit rates'!AP167","v":-0.1017562929651193}]
[null,null,null,null,null,"EHV","p/kWh",null,null,{"$f":"'Initial unit rates'!J168","v":7.7551929049232915E-2},{"$f":"'Initial unit rates'!K168","v":8.6467508313614855E-2},{"$f":"'Initial unit rates'!L168","v":8.1479651333818386E-3},{"$f":"'Initial unit rates'!M168","v":5.1764549827472299E-2},{"$f":"'Initial unit rates'!N168","v":7.127835963237647E-2},{"$f":"'Initial unit rates'!O168","v":8.2624399038049388E-3},{"$f":"'Initial unit rates'!P168","v":6.3567277989967239E-2},{"$f":"'Initial unit rates'!Q168","v":6.3440755952734185E-2},{"$f":"'Initial unit rates'!R168","v":6.3188106621027168E-2},{"$f":"'Initial unit rates'!S168","v":0.48441607150226262},{"$f":"'Initial unit rates'!T168","v":0.4156252355999962},{"$f":"'Initial unit rates'!U168","v":0.37257876667528494},{"$f":"'Initial unit rates'!V168","v":0.35161215872502244},{"$f":"'Initial unit rates'!W168","v":0.33374341003040531},{"$f":"'Initial unit rates'!X168","v":4.1546327960416407E-2},{"$f":"'Initial unit rates'!Y168","v":4.8842265776516167E-2},{"$f":"'Initial unit rates'!Z168","v":8.0735163976725116E-2},{"$f":"'Initial unit rates'!AA168","v":3.436890719013843E-2},{"$f":"'Initial unit rates'!AB168","v":0.88671286490521528},{"$f":"'Initial unit rates'!AC168","v":-3.9324470427284465E-2},{"$f":"'Initial unit rates'!AD168","v":-3.8667236938249069E-2},{"$f":"'Initial unit rates'!AE168","v":-3.9324470427284465E-2},{"$f":"'Initial unit rates'!AF168","v":-3.9324470427284465E-2},{"$f":"'Initial unit rates'!AG168","v":-0.33566857532932515},{"$f":"'Initial unit rates'!AH168","v":-0.33566857532932515},{"$f":"'Initial unit rates'!AI168","v":-3.8667236938249069E-2},{"$f":"'Initial unit rates'!AJ168","v":-3.8667236938249069E-2},{"$f":"'Initial unit rates'!AK168","v":-0.33005851557451743},{"$f":"'Initial unit rates'!AL168","v":-0.33005851557451743},{"$f":"'Initial unit rates'!AM168","v":-3.8010003449213667E-2},{"$f":"'Initial unit rates'!AN168","v":-3.8010003449213667E-2},{"$f":"'Initial unit rates'!AO168","v":-0.32444845581970977},{"$f":"'Initial unit rates'!AP168","v":-0.32444845581970977}]
[null,null,null,null,null,"EHV/HV","p/kWh",null,null,{"$f":"'Initial unit rates'!J169","v":5.9582296230372062E-2},{"$f":"'Initial unit rates'!K169","v":6.6432037962244853E-2},{"$f":"'Initial unit rates'!L169","v":6.2599922168757672E-3},{"$f":"'Initial unit rates'!M169","v":3.9770135699581502E-2},{"$f":"'Initial unit rates'!N169","v":5.4762381677638701E-2},{"$f":"'Initial unit rates'!O169","v":6.3479419270360765E-3},{"$f":"'Initial unit rates'!P169","v":4.8838042253625938E-2},{"$f":"'Initial unit rates'!Q169","v":4.874083676055168E-2},{"$f":"'Initial unit rates'!R169","v":4.8546729050934101E-2},{"$f":"'Initial unit rates'!S169","v":0.37217155298197441},{"$f":"'Initial unit rates'!T169","v":0.31932030849440363},{"$f":"'Initial unit rates'!U169","v":0.28624817870230757},{"$f":"'Initial unit rates'!V169","v":0.27013976384849331},{"$f":"'Initial unit rates'!W169","v":0.2564114002727419},{"$f":"'Initial unit rates'!X169","v":3.1919587947970014E-2},{"$f":"'Initial unit rates'!Y169","v":3.7524976924964509E-2},{"$f":"'Initial unit rates'!Z169","v":6.2027940700418734E-2},{"$f":"'Initial unit rates'!AA169","v":2.6405254316974949E-2},{"$f":"'Initial unit rates'!AB169","v":0.68125176556890565},{"$f":"'Initial unit rates'!AC169","v":-3.0212559182293409E-2},{"$f":"'Initial unit rates'!AD169","v":-2.9707613903480704E-2},{"$f":"'Initial unit rates'!AE169","v":-3.0212559182293409E-2},{"$f":"'Initial unit rates'!AF169","v":-3.0212559182293409E-2},{"$f":"'Initial unit rates'!AG169","v":-0.25789048365002126},{"$f":"'Initial unit rates'!AH169","v":-0.25789048365002126},{"$f":"'Initial unit rates'!AI169","v":-2.9707613903480704E-2},{"$f":"'Initial unit rates'!AJ169","v":-2.9707613903480704E-2},{"$f":"'Initial unit rates'!AK169","v":-0.25358033629096799},{"$f":"'Initial unit rates'!AL169","v":-0.25358033629096799},{"$f":"'Initial unit rates'!AM169","v":-2.9202668624668002E-2},{"$f":"'Initial unit rates'!AN169","v":-2.9202668624668002E-2},{"$f":"'Initial unit rates'!AO169","v":-0.24927018893191472},{"$f":"'Initial unit rates'!AP169","v":-0.24927018893191472}]
[null,null,null,null,null,"132kV/HV","p/kWh",null,null,{"$f":"'Initial unit rates'!J170","v":2.3231714074707022E-2},{"$f":"'Initial unit rates'!K170","v":2.5168147073209225E-2},{"$f":"'Initial unit rates'!L170","v":4.7373188363505287E-3},{"$f":"'Initial unit rates'!M170","v":1.5571614116150663E-2},{"$f":"'Initial unit rates'!N170","v":2.0660782008534009E-2},{"$f":"'Initial unit rates'!O170","v":4.7360708696977966E-3},{"$f":"'Initial unit rates'!P170","v":1.8350139111236896E-2},{"$f":"'Initial unit rates'!Q170","v":1.8301845923080172E-2},{"$f":"'Initial unit rates'!R170","v":1.8142385089151246E-2},{"$f":"'Initial unit rates'!S170","v":0.1363797467979336},{"$f":"'Initial unit rates'!T170","v":0.11708014479063035},{"$f":"'Initial unit rates'!U170","v":0.10492184782603427},{"$f":"'Initial unit rates'!V170","v":9.901744466206433E-2},{"$f":"'Initial unit rates'!W170","v":9.3985429155361483E-2},{"$f":"'Initial unit rates'!X170","v":1.3102635053137647E-2},{"$f":"'Initial unit rates'!Y170","v":1.722301014196706E-2},{"$f":"'Initial unit rates'!Z170","v":2.6203606215467582E-2},{"$f":"'Initial unit rates'!AA170","v":9.1885612417814989E-3},{"$f":"'Initial unit rates'!AB170","v":0.28205532044839071},{"$f":"'Initial unit rates'!AC170","v":-1.2400640460232031E-2},{"$f":"'Initial unit rates'!AD170","v":-1.219338741632843E-2},{"$f":"'Initial unit rates'!AE170","v":-1.2400640460232031E-2},{"$f":"'Initial unit rates'!AF170","v":-1.2400640460232031E-2},{"$f":"'Initial unit rates'!AG170","v":-9.452757465209953E-2},{"$f":"'Initial unit rates'!AH170","v":-9.452757465209953E-2},{"$f":"'Initial unit rates'!AI170","v":-1.219338741632843E-2},{"$f":"'Initial unit rates'!AJ170","v":-1.219338741632843E-2},{"$f":"'Initial unit rates'!AK170","v":-9.2947726607774742E-2},{"$f":"'Initial unit rates'!AL170","v":-9.2947726607774742E-2},{"$f":"'Initial unit rates'!AM170","v":-1.198613437242483E-2},{"$f":"'Initial unit rates'!AN170","v":-1.198613437242483E-2},{"$f":"'Initial unit rates'!AO170","v":-9.1367878563449939E-2},{"$f":"'Initial unit rates'!AP170","v":-9.1367878563449939E-2}]
[null,null,null,null,null,"HV","p/kWh",null,null,{"$f":"'Initial unit rates'!J171","v":0.34739164860912169},{"$f":"'Initial unit rates'!K171","v":0.38732873098643728},{"$f":"'Initial unit rates'!L171","v":3.6498576827124804E-2},{"$f":"'Initial unit rates'!M171","v":0.23187782076521407},{"$f":"'Initial unit rates'!N171","v":0.31928937379656397},{"$f":"'Initial unit rates'!O171","v":3.7011363287874029E-2},{"$f":"'Initial unit rates'!P171","v":0.28474780407473926},{"$f":"'Initial unit rates'!Q171","v":0.28418105222680173},{"$f":"'Initial unit rates'!R171","v":0.28304931676982853},{"$f":"'Initial unit rates'!S171","v":2.1699279406072973},{"$f":"'Initial unit rates'!T171","v":1.8617813582299982},{"$f":"'Initial unit rates'!U171","v":1.6689559315786069},{"$f":"'Initial unit rates'!V171","v":1.5750366107973162},{"$f":"'Initial unit rates'!W171","v":1.4949940619696218},{"$f":"'Initial unit rates'!X171","v":0.18610558809777364},{"$f":"'Initial unit rates'!Y171","v":0.21878753292051947},{"$f":"'Initial unit rates'!Z171","v":0.361650858443472},{"$f":"'Initial unit rates'!AA171","v":0.15395453699283812},{"$f":"'Initial unit rates'!AB171","v":3.9720049231372032},{"$f":"'Initial unit rates'!AC171","v":-0.1761528408112516},{"$f":"'Initial unit rates'!AD171","v":-0.17320878219045074},{"$f":"'Initial unit rates'!AE171","v":-0.1761528408112516},{"$f":"'Initial unit rates'!AF171","v":-0.1761528408112516},{"$f":"'Initial unit rates'!AG171","v":-1.503617784876788},{"$f":"'Initial unit rates'!AH171","v":-1.503617784876788},{"$f":"'Initial unit rates'!AI171","v":-0.17320878219045074},{"$f":"'Initial unit rates'!AJ171","v":-0.17320878219045074},{"$f":"'Initial unit rates'!AK171","v":-1.4784876826225801},{"$f":"'Initial unit rates'!AL171","v":-1.4784876826225801},{"$f":"'Initial unit rates'!AM171","v":0},{"$f":"'Initial unit rates'!AN171","v":0},{"$f":"'Initial unit rates'!AO171","v":0},{"$f":"'Initial unit rates'!AP171","v":0}]
[null,null,null,null,null,"HV/LV","p/kWh",null,null,{"$f":"'Initial unit rates'!J172","v":0.12901801504120738},{"$f":"'Initial unit rates'!K172","v":0.14385027458310573},{"$f":"'Initial unit rates'!L172","v":1.3555230682482806E-2},{"$f":"'Initial unit rates'!M172","v":8.6117257818336762E-2},{"$f":"'Initial unit rates'!N172","v":0.11858109253896762},{"$f":"'Initial unit rates'!O172","v":1.3745674786625079E-2},{"$f":"'Initial unit rates'!P172","v":0.10575267602475358},{"$f":"'Initial unit rates'!Q172","v":0.10554218967963101},{"$f":"'Initial unit rates'!R172","v":0},{"$f":"'Initial unit rates'!S172","v":0.80589097867062942},{"$f":"'Initial unit rates'!T172","v":0.69144821483555463},{"$f":"'Initial unit rates'!U172","v":0.61983465159751416},{"$f":"'Initial unit rates'!V172","v":0.58495389269114584},{"$f":"'Initial unit rates'!W172","v":0},{"$f":"'Initial unit rates'!X172","v":6.9117877935712807E-2},{"$f":"'Initial unit rates'!Y172","v":8.1255647123887276E-2},{"$f":"'Initial unit rates'!Z172","v":0.13431375244954658},{"$f":"'Initial unit rates'!AA172","v":5.7177277717903541E-2},{"$f":"'Initial unit rates'!AB172","v":1.4751655457718722},{"$f":"'Initial unit rates'!AC172","v":-6.5421520512455741E-2},{"$f":"'Initial unit rates'!AD172","v":0},{"$f":"'Initial unit rates'!AE172","v":-6.5421520512455741E-2},{"$f":"'Initial unit rates'!AF172","v":-6.5421520512455741E-2},{"$f":"'Initial unit rates'!AG172","v":-0.55842960751119952},{"$f":"'Initial unit rates'!AH172","v":-0.55842960751119952},{"$f":"'Initial unit rates'!AI172","v":0},{"$f":"'Initial unit rates'!AJ172","v":0},{"$f":"'Initial unit rates'!AK172","v":0},{"$f":"'Initial unit rates'!AL172","v":0},{"$f":"'Initial unit rates'!AM172","v":0},{"$f":"'Initial unit rates'!AN172","v":0},{"$f":"'Initial unit rates'!AO172","v":0},{"$f":"'Initial unit rates'!AP172","v":0}]
[null,null,null,null,null,"LV circuits","p/kWh",null,null,{"$f":"'Initial unit rates'!J173","v":0.29416211021906796},{"$f":"'Initial unit rates'!K173","v":0.32797978106734588},{"$f":"'Initial unit rates'!L173","v":3.090603479515509E-2},{"$f":"'Initial unit rates'!M173","v":0.19634803928761793},{"$f":"'Initial unit rates'!N173","v":0.27036584311271739},{"$f":"'Initial unit rates'!O173","v":3.1340248881733451E-2},{"$f":"'Initial unit rates'!P173","v":0.24111695045702841},{"$f":"'Initial unit rates'!Q173","v":0},{"$f":"'Initial unit rates'!R173","v":0},{"$f":"'Initial unit rates'!S173","v":1.8374379021142606},{"$f":"'Initial unit rates'!T173","v":1.5765074816743259},{"$f":"'Initial unit rates'!U173","v":1.4132279824843847},{"$f":"'Initial unit rates'!V173","v":0},{"$f":"'Initial unit rates'!W173","v":0},{"$f":"'Initial unit rates'!X173","v":0.15758931666201334},{"$f":"'Initial unit rates'!Y173","v":0.18526352786891345},{"$f":"'Initial unit rates'!Z173","v":0.30623643403117706},{"$f":"'Initial unit rates'!AA173","v":0.13036465229067593},{"$f":"'Initial unit rates'!AB173","v":3.3633892889153545},{"$f":"'Initial unit rates'!AC173","v":0},{"$f":"'Initial unit rates'!AD173","v":0},{"$f":"'Initial unit rates'!AE173","v":0},{"$f":"'Initial unit rates'!AF173","v":0},{"$f":"'Initial unit rates'!AG173","v":0},{"$f":"'Initial unit rates'!AH173","v":0},{"$f":"'Initial unit rates'!AI173","v":0},{"$f":"'Initial unit rates'!AJ173","v":0},{"$f":"'Initial unit rates'!AK173","v":0},{"$f":"'Initial unit rates'!AL173","v":0},{"$f":"'Initial unit rates'!AM173","v":0},{"$f":"'Initial unit rates'!AN173","v":0},{"$f":"'Initial unit rates'!AO173","v":0},{"$f":"'Initial unit rates'!AP173","v":0}]
[null,null,null,null,null,"LV customers","p/kWh",null,">",null,null,null,null,null,null,null,null,null,null,null,null,null,null,{"$f":"'Service model charges'!$X$44","v":1.0594360163150118},{"$f":"'Service model charges'!$Y$44","v":1.0594360163150118},{"$f":"'Service model charges'!$Z$44","v":1.0594360163150118},{"$f":"'Service model charges'!$AA$44","v":1.0594360163150118},{"$f":"'Service model charges'!$AB$44","v":1.0594360163150118},null,null,null,null,null,null,null,null,null,null,null,null,null,null,null,"Paragraph 86"]
[null,null,null,null,null,"HV customers","p/kWh"]
[]
[null,null,{"$f":"INDEX('Version control'!$H$34:$H$59,MATCH($A$1,'Version control'!$F$34:$F$59,0),1)&\"-B: Initial unit rate 2\"","v":"Section 514-B: Initial unit rate 2"}]
[]
[null,null,null,null,"Asset costs"]
[null,null,null,null,null,"Transmission exit","p/kWh",null,null,{"$f":"'Initial unit rates'!J181","v":0},{"$f":"'Initial unit rates'!K181","v":0},{"$f":"'Initial unit rates'!L181","v":0},{"$f":"'Initial unit rates'!M181","v":0},{"$f":"'Initial unit rates'!N181","v":0},{"$f":"'Initial unit rates'!O181","v":0},{"$f":"'Initial unit rates'!P181","v":0},{"$f":"'Initial unit rates'!Q181","v":0},{"$f":"'Initial unit rates'!R181","v":0},{"$f":"'Initial unit rates'!S181","v":0},{"$f":"'Initial unit rates'!T181","v":0},{"$f":"'Initial unit rates'!U181","v":0},{"$f":"'Initial unit rates'!V181","v":0},{"$f":"'Initial unit rates'!W181","v":0},{"$f":"'Initial unit rates'!X181","v":0},{"$f":"'Initial unit rates'!Y181","v":0},{"$f":"'Initial unit rates'!Z181","v":0},{"$f":"'Initial unit rates'!AA181","v":0},{"$f":"'Initial unit rates'!AB181","v":0},{"$f":"'Initial unit rates'!AC181","v":0},{"$f":"'Initial unit rates'!AD181","v":0},{"$f":"'Initial unit rates'!AE181","v":0},{"$f":"'Initial unit rates'!AF181","v":0},{"$f":"'Initial unit rates'!AG181","v":0},{"$f":"'Initial unit rates'!AH181","v":0},{"$f":"'Initial unit rates'!AI181","v":0},{"$f":"'Initial unit rates'!AJ181","v":0},{"$f":"'Initial unit rates'!AK181","v":0},{"$f":"'Initial unit rates'!AL181","v":0},{"$f":"'Initial unit rates'!AM181","v":0},{"$f":"'Initial unit rates'!AN181","v":0},{"$f":"'Initial unit rates'!AO181","v":0},{"$f":"'Initial unit rates'!AP181","v":0}]
[null,null,null,null,null,"GSPs","p/kWh",null,null,{"$f":"'Initial unit rates'!J182","v":0},{"$f":"'Initial unit rates'!K182","v":0},{"$f":"'Initial unit rates'!L182","v":0},{"$f":"'Initial unit rates'!M182","v":0},{"$f":"'Initial unit rates'!N182","v":0},{"$f":"'Initial unit rates'!O182","v":0},{"$f":"'Initial unit rates'!P182","v":0},{"$f":"'Initial unit rates'!Q182","v":0},{"$f":"'Initial unit rates'!R182","v":0},{"$f":"'Initial unit rates'!S182","v":0},{"$f":"'Initial unit rates'!T182","v":0},{"$f":"'Initial unit rates'!U182","v":0},{"$f":"'Initial unit rates'!V182","v":0},{"$f":"'Initial unit rates'!W182","v":0},{"$f":"'Initial unit rates'!X182","v":0},{"$f":"'Initial unit rates'!Y182","v":0},{"$f":"'Initial unit rates'!Z182","v":0},{"$f":"'Initial unit rates'!AA182","v":0},{"$f":"'Initial unit rates'!AB182","v":0},{"$f":"'Initial unit rates'!AC182","v":0},{"$f":"'Initial unit rates'!AD182","v":0},{"$f":"'Initial unit rates'!AE182","v":0},{"$f":"'Initial unit rates'!AF182","v":0},{"$f":"'Initial unit rates'!AG182","v":0},{"$f":"'Initial unit rates'!AH182","v":0},{"$f":"'Initial unit rates'!AI182","v":0},{"$f":"'Initial unit rates'!AJ182","v":0},{"$f":"'Initial unit rates'!AK182","v":0},{"$f":"'Initial unit rates'!AL182","v":0},{"$f":"'Initial unit rates'!AM182","v":0},{"$f":"'Initial unit rates'!AN182","v":0},{"$f":"'Initial unit rates'!AO182","v":0},{"$f":"'Initial unit rates'!AP182","v":0}]
[null,null,null,null,null,"132kV","p/kWh",null,null,{"$f":"'Initial unit rates'!J183","v":0},{"$f":"'Initial unit rates'!K183","v":9.5910176213810802E-2},{"$f":"'Initial unit rates'!L183","v":0},{"$f":"'Initial unit rates'!M183","v":0},{"$f":"'Initial unit rates'!N183","v":9.3397396525906312E-2},{"$f":"'Initial unit rates'!O183","v":0},{"$f":"'Initial unit rates'!P183","v":7.8467042385201621E-2},{"$f":"'Initial unit rates'!Q183","v":7.9101954351480736E-2},{"$f":"'Initial unit rates'!R183","v":7.8862267116619381E-2},{"$f":"'Initial unit rates'!S183","v":0.18319421306695829},{"$f":"'Initial unit rates'!T183","v":0.15726972291907826},{"$f":"'Initial unit rates'!U183","v":0.14093790168492035},{"$f":"'Initial unit rates'!V183","v":0.13300672043074074},{"$f":"'Initial unit rates'!W183","v":0.12624738744666508},{"$f":"'Initial unit rates'!X183","v":0},{"$f":"'Initial unit rates'!Y183","v":0},{"$f":"'Initial unit rates'!Z183","v":0},{"$f":"'Initial unit rates'!AA183","v":0},{"$f":"'Initial unit rates'!AB183","v":0.16481360517849697},{"$f":"'Initial unit rates'!AC183","v":0},{"$f":"'Initial unit rates'!AD183","v":0},{"$f":"'Initial unit rates'!AE183","v":0},{"$f":"'Initial unit rates'!AF183","v":0},{"$f":"'Initial unit rates'!AG183","v":-0.12697563280548568},{"$f":"'Initial unit rates'!AH183","v":-0.12697563280548568},{"$f":"'Initial unit rates'!AI183","v":0},{"$f":"'Initial unit rates'!AJ183","v":0},{"$f":"'Initial unit rates'!AK183","v":-0.12485347738255276},{"$f":"'Initial unit rates'!AL183","v":-0.12485347738255276},{"$f":"'Initial unit rates'!AM183","v":0},{"$f":"'Initial unit rates'!AN183","v":0},{"$f":"'Initial unit rates'!AO183","v":-0.12273132195961985},{"$f":"'Initial unit rates'!AP183","v":-0.12273132195961985}]
[null,null,null,null,null,"132kV/EHV","p/kWh",null,null,{"$f":"'Initial unit rates'!J184","v":0},{"$f":"'Initial unit rates'!K184","v":8.9238540319941211E-3},{"$f":"'Initial unit rates'!L184","v":0},{"$f":"'Initial unit rates'!M184","v":0},{"$f":"'Initial unit rates'!N184","v":8.6900552836795472E-3},{"$f":"'Initial unit rates'!O184","v":0},{"$f":"'Initial unit rates'!P184","v":7.3008773438892312E-3},{"$f":"'Initial unit rates'!Q184","v":7.3599520107693189E-3},{"$f":"'Initial unit rates'!R184","v":4.6960963729194109E-3},{"$f":"'Initial unit rates'!S184","v":1.7045098668895572E-2},{"$f":"'Initial unit rates'!T184","v":1.4632983760277166E-2},{"$f":"'Initial unit rates'!U184","v":1.3113407897489202E-2},{"$f":"'Initial unit rates'!V184","v":1.2375460094580307E-2},{"$f":"'Initial unit rates'!W184","v":7.517789177961566E-3},{"$f":"'Initial unit rates'!X184","v":0},{"$f":"'Initial unit rates'!Y184","v":0},{"$f":"'Initial unit rates'!Z184","v":0},{"$f":"'Initial unit rates'!AA184","v":0},{"$f":"'Initial unit rates'!AB184","v":1.5334895765605218E-2},{"$f":"'Initial unit rates'!AC184","v":0},{"$f":"'Initial unit rates'!AD184","v":0},{"$f":"'Initial unit rates'!AE184","v":0},{"$f":"'Initial unit rates'!AF184","v":0},{"$f":"'Initial unit rates'!AG184","v":-1.1814304357550261E-2},{"$f":"'Initial unit rates'!AH184","v":-1.1814304357550261E-2},{"$f":"'Initial unit rates'!AI184","v":0},{"$f":"'Initial unit rates'!AJ184","v":0},{"$f":"'Initial unit rates'!AK184","v":-1.1616850802827974E-2},{"$f":"'Initial unit rates'!AL184","v":-1.1616850802827974E-2},{"$f":"'Initial unit rates'!AM184","v":0},{"$f":"'Initial unit rates'!AN184","v":0},{"$f":"'Initial unit rates'!AO184","v":-7.3084142387876364E-3},{"$f":"'Initial unit rates'!AP184","v":-7.3084142387876364E-3}]
[null,null,null,null,null,"EHV","p/kWh",null,null,{"$f":"'Initial unit rates'!J185","v":0},{"$f":"'Initial unit rates'!K185","v":8.9249225096957128E-3},{"$f":"'Initial unit rates'!L185","v":0},{"$f":"'Initial unit rates'!M185","v":0},{"$f":"'Initial unit rates'!N185","v":9.8918466076303359E-3},{"$f":"'Initial unit rates'!O185","v":0},{"$f":"'Initial unit rates'!P185","v":6.5449824899348986E-3},{"$f":"'Initial unit rates'!Q185","v":6.3845509511141502E-3},{"$f":"'Initial unit rates'!R185","v":4.007021484645012E-3},{"$f":"'Initial unit rates'!S185","v":5.7246576350055714E-2},{"$f":"'Initial unit rates'!T185","v":4.9117118903586873E-2},{"$f":"'Initial unit rates'!U185","v":4.4030039603644051E-2},{"$f":"'Initial unit rates'!V185","v":4.1552280104244818E-2},{"$f":"'Initial unit rates'!W185","v":2.5241993372361424E-2},{"$f":"'Initial unit rates'!X185","v":0},{"$f":"'Initial unit rates'!Y185","v":0},{"$f":"'Initial unit rates'!Z185","v":0},{"$f":"'Initial unit rates'!AA185","v":0},{"$f":"'Initial unit rates'!AB185","v":5.7888047591513392E-2},{"$f":"'Initial unit rates'!AC185","v":0},{"$f":"'Initial unit rates'!AD185","v":0},{"$f":"'Initial unit rates'!AE185","v":0},{"$f":"'Initial unit rates'!AF185","v":0},{"$f":"'Initial unit rates'!AG185","v":-3.9668123863670947E-2},{"$f":"'Initial unit rates'!AH185","v":-3.9668123863670947E-2},{"$f":"'Initial unit rates'!AI185","v":0},{"$f":"'Initial unit rates'!AJ185","v":0},{"$f":"'Initial unit rates'!AK185","v":-3.9005146863163913E-2},{"$f":"'Initial unit rates'!AL185","v":-3.9005146863163913E-2},{"$f":"'Initial unit rates'!AM185","v":0},{"$f":"'Initial unit rates'!AN185","v":0},{"$f":"'Initial unit rates'!AO185","v":-2.4538988712100397E-2},{"$f":"'Initial unit rates'!AP185","v":-2.4538988712100397E-2}]
[null,null,null,null,null,"EHV/HV","p/kWh",null,null,{"$f":"'Initial unit rates'!J186","v":0},{"$f":"'Initial unit rates'!K186","v":1.7142300111845691E-3},{"$f":"'Initial unit rates'!L186","v":0},{"$f":"'Initial unit rates'!M186","v":0},{"$f":"'Initial unit rates'!N186","v":1.8999493051522671E-3},{"$f":"'Initial unit rates'!O186","v":0},{"$f":"'Initial unit rates'!P186","v":1.2571095597452345E-3},{"$f":"'Initial unit rates'!Q186","v":1.2262951119684296E-3},{"$f":"'Initial unit rates'!R186","v":4.3292118427918253E-4},{"$f":"'Initial unit rates'!S186","v":1.0995479132757209E-2},{"$f":"'Initial unit rates'!T186","v":9.4340358917379772E-3},{"$f":"'Initial unit rates'!U186","v":8.4569490883775883E-3},{"$f":"'Initial unit rates'!V186","v":7.9810402286924122E-3},{"$f":"'Initial unit rates'!W186","v":2.7271612358969154E-3},{"$f":"'Initial unit rates'!X186","v":0},{"$f":"'Initial unit rates'!Y186","v":0},{"$f":"'Initial unit rates'!Z186","v":0},{"$f":"'Initial unit rates'!AA186","v":0},{"$f":"'Initial unit rates'!AB186","v":1.1118687961990626E-2},{"$f":"'Initial unit rates'!AC186","v":0},{"$f":"'Initial unit rates'!AD186","v":0},{"$f":"'Initial unit rates'!AE186","v":0},{"$f":"'Initial unit rates'!AF186","v":0},{"$f":"'Initial unit rates'!AG186","v":-7.6191460867720108E-3},{"$f":"'Initial unit rates'!AH186","v":-7.6191460867720108E-3},{"$f":"'Initial unit rates'!AI186","v":0},{"$f":"'Initial unit rates'!AJ186","v":0},{"$f":"'Initial unit rates'!AK186","v":-7.4918065978566003E-3},{"$f":"'Initial unit rates'!AL186","v":-7.4918065978566003E-3},{"$f":"'Initial unit rates'!AM186","v":0},{"$f":"'Initial unit rates'!AN186","v":0},{"$f":"'Initial unit rates'!AO186","v":-2.6512081592188277E-3},{"$f":"'Initial unit rates'!AP186","v":-2.6512081592188277E-3}]
[null,null,null,null,null,"132kV/HV","p/kWh",null,null,{"$f":"'Initial unit rates'!J187","v":0},{"$f":"'Initial unit rates'!K187","v":2.0032019341366049E-3},{"$f":"'Initial unit rates'!L187","v":0},{"$f":"'Initial unit rates'!M187","v":0},{"$f":"'Initial unit rates'!N187","v":1.9507194413545242E-3},{"$f":"'Initial unit rates'!O187","v":0},{"$f":"'Initial unit rates'!P187","v":1.6388806410031452E-3},{"$f":"'Initial unit rates'!Q187","v":1.6521415579263034E-3},{"$f":"'Initial unit rates'!R187","v":5.9296874233495612E-4},{"$f":"'Initial unit rates'!S187","v":3.8262363434748941E-3},{"$f":"'Initial unit rates'!T187","v":3.2847714973467039E-3},{"$f":"'Initial unit rates'!U187","v":2.943661333902677E-3},{"$f":"'Initial unit rates'!V187","v":2.7780088634813708E-3},{"$f":"'Initial unit rates'!W187","v":9.4925947851107141E-4},{"$f":"'Initial unit rates'!X187","v":0},{"$f":"'Initial unit rates'!Y187","v":0},{"$f":"'Initial unit rates'!Z187","v":0},{"$f":"'Initial unit rates'!AA187","v":0},{"$f":"'Initial unit rates'!AB187","v":3.44233475214959E-3},{"$f":"'Initial unit rates'!AC187","v":0},{"$f":"'Initial unit rates'!AD187","v":0},{"$f":"'Initial unit rates'!AE187","v":0},{"$f":"'Initial unit rates'!AF187","v":0},{"$f":"'Initial unit rates'!AG187","v":-2.6520421843155935E-3},{"$f":"'Initial unit rates'!AH187","v":-2.6520421843155935E-3},{"$f":"'Initial unit rates'!AI187","v":0},{"$f":"'Initial unit rates'!AJ187","v":0},{"$f":"'Initial unit rates'!AK187","v":-2.6077183595080902E-3},{"$f":"'Initial unit rates'!AL187","v":-2.6077183595080902E-3},{"$f":"'Initial unit rates'!AM187","v":0},{"$f":"'Initial unit rates'!AN187","v":0},{"$f":"'Initial unit rates'!AO187","v":-9.2282203249221108E-4},{"$f":"'Initial unit rates'!AP187","v":-9.2282203249221108E-4}]
[null,null,null,null,null,"HV","p/kWh",null,null,{"$f":"'Initial unit rates'!J188","v":0},{"$f":"'Initial unit rates'!K188","v":9.9947337943830337E-3},{"$f":"'Initial unit rates'!L188","v":0},{"$f":"'Initial unit rates'!M188","v":0},{"$f":"'Initial unit rates'!N188","v":1.1077561006353978E-2},{"$f":"'Initial unit rates'!O188","v":0},{"$f":"'Initial unit rates'!P188","v":7.3295154781156556E-3},{"$f":"'Initial unit rates'!Q188","v":7.1498533554479621E-3},{"$f":"'Initial unit rates'!R188","v":2.5241256789276891E-3},{"$f":"'Initial unit rates'!S188","v":6.4108600454183429E-2},{"$f":"'Initial unit rates'!T188","v":5.500468241097891E-2},{"$f":"'Initial unit rates'!U188","v":4.9307825845713513E-2},{"$f":"'Initial unit rates'!V188","v":4.6533062638963445E-2},{"$f":"'Initial unit rates'!W188","v":1.5900579495930635E-2},{"$f":"'Initial unit rates'!X188","v":0},{"$f":"'Initial unit rates'!Y188","v":0},{"$f":"'Initial unit rates'!Z188","v":0},{"$f":"'Initial unit rates'!AA188","v":0},{"$f":"'Initial unit rates'!AB188","v":6.4826963475056371E-2},{"$f":"'Initial unit rates'!AC188","v":0},{"$f":"'Initial unit rates'!AD188","v":0},{"$f":"'Initial unit rates'!AE188","v":0},{"$f":"'Initial unit rates'!AF188","v":0},{"$f":"'Initial unit rates'!AG188","v":-4.4423056638227494E-2},{"$f":"'Initial unit rates'!AH188","v":-4.4423056638227494E-2},{"$f":"'Initial unit rates'!AI188","v":0},{"$f":"'Initial unit rates'!AJ188","v":0},{"$f":"'Initial unit rates'!AK188","v":-4.3680610009176335E-2},{"$f":"'Initial unit rates'!AL188","v":-4.3680610009176335E-2},{"$f":"'Initial unit rates'!AM188","v":0},{"$f":"'Initial unit rates'!AN188","v":0},{"$f":"'Initial unit rates'!AO188","v":0},{"$f":"'Initial unit rates'!AP188","v":0}]
[null,null,null,null,null,"HV/LV","p/kWh",null,null,{"$f":"'Initial unit rates'!J189","v":0},{"$f":"'Initial unit rates'!K189","v":7.4239016405802899E-4},{"$f":"'Initial unit rates'!L189","v":0},{"$f":"'Initial unit rates'!M189","v":0},{"$f":"'Initial unit rates'!N189","v":8.2282054750589862E-4},{"$f":"'Initial unit rates'!O189","v":0},{"$f":"'Initial unit rates'!P189","v":5.4442272402714209E-4},{"$f":"'Initial unit rates'!Q189","v":5.3107775702089315E-4},{"$f":"'Initial unit rates'!R189","v":0},{"$f":"'Initial unit rates'!S189","v":4.7618671380181346E-3},{"$f":"'Initial unit rates'!T189","v":4.0856451046245319E-3},{"$f":"'Initial unit rates'!U189","v":3.6624932361396232E-3},{"$f":"'Initial unit rates'!V189","v":3.4563890061861417E-3},{"$f":"'Initial unit rates'!W189","v":0},{"$f":"'Initial unit rates'!X189","v":0},{"$f":"'Initial unit rates'!Y189","v":0},{"$f":"'Initial unit rates'!Z189","v":0},{"$f":"'Initial unit rates'!AA189","v":0},{"$f":"'Initial unit rates'!AB189","v":4.8152258018795769E-3},{"$f":"'Initial unit rates'!AC189","v":0},{"$f":"'Initial unit rates'!AD189","v":0},{"$f":"'Initial unit rates'!AE189","v":0},{"$f":"'Initial unit rates'!AF189","v":0},{"$f":"'Initial unit rates'!AG189","v":-3.2996617002592822E-3},{"$f":"'Initial unit rates'!AH189","v":-3.2996617002592822E-3},{"$f":"'Initial unit rates'!AI189","v":0},{"$f":"'Initial unit rates'!AJ189","v":0},{"$f":"'Initial unit rates'!AK189","v":0},{"$f":"'Initial unit rates'!AL189","v":0},{"$f":"'Initial unit rates'!AM189","v":0},{"$f":"'Initial unit rates'!AN189","v":0},{"$f":"'Initial unit rates'!AO189","v":0},{"$f":"'Initial unit rates'!AP189","v":0}]
[null,null,null,null,null,"LV circuits","p/kWh",null,null,{"$f":"'Initial unit rates'!J190","v":0},{"$f":"'Initial unit rates'!K190","v":1.6926555349300635E-3},{"$f":"'Initial unit rates'!L190","v":0},{"$f":"'Initial unit rates'!M190","v":0},{"$f":"'Initial unit rates'!N190","v":1.8760374549913624E-3},{"$f":"'Initial unit rates'!O190","v":0},{"$f":"'Initial unit rates'!P190","v":1.2412881821184983E-3},{"$f":"'Initial unit rates'!Q190","v":0},{"$f":"'Initial unit rates'!R190","v":0},{"$f":"'Initial unit rates'!S190","v":1.0857095309169468E-2},{"$f":"'Initial unit rates'!T190","v":9.3153036434384592E-3},{"$f":"'Initial unit rates'!U190","v":8.350513985677056E-3},{"$f":"'Initial unit rates'!V190","v":0},{"$f":"'Initial unit rates'!W190","v":0},{"$f":"'Initial unit rates'!X190","v":0},{"$f":"'Initial unit rates'!Y190","v":0},{"$f":"'Initial unit rates'!Z190","v":0},{"$f":"'Initial unit rates'!AA190","v":0},{"$f":"'Initial unit rates'!AB190","v":1.0978753491206592E-2},{"$f":"'Initial unit rates'!AC190","v":0},{"$f":"'Initial unit rates'!AD190","v":0},{"$f":"'Initial unit rates'!AE190","v":0},{"$f":"'Initial unit rates'!AF190","v":0},{"$f":"'Initial unit rates'!AG190","v":0},{"$f":"'Initial unit rates'!AH190","v":0},{"$f":"'Initial unit rates'!AI190","v":0},{"$f":"'Initial unit rates'!AJ190","v":0},{"$f":"'Initial unit rates'!AK190","v":0},{"$f":"'Initial unit rates'!AL190","v":0},{"$f":"'Initial unit rates'!AM190","v":0},{"$f":"'Initial unit rates'!AN190","v":0},{"$f":"'Initial unit rates'!AO190","v":0},{"$f":"'Initial unit rates'!AP190","v":0}]
[null,null,null,null,null,"LV customers","p/kWh"]
[null,null,null,null,null,"HV customers","p/kWh"]
[]
[null,null,null,null,"Other operating costs"]
[null,null,null,null,null,"Transmission exit","p/kWh",null,null,{"$f":"'Initial unit rates'!J193","v":0},{"$f":"'Initial unit rates'!K193","v":1.7618508740412969E-2},{"$f":"'Initial unit rates'!L193","v":0},{"$f":"'Initial unit rates'!M193","v":0},{"$f":"'Initial unit rates'!N193","v":1.8139994668853712E-2},{"$f":"'Initial unit rates'!O193","v":0},{"$f":"'Initial unit rates'!P193","v":1.3793340324260222E-2},{"$f":"'Initial unit rates'!Q193","v":1.3729854095592018E-2},{"$f":"'Initial unit rates'!R193","v":1.3602723327067938E-2},{"$f":"'Initial unit rates'!S193","v":6.6643986695604437E-2},{"$f":"'Initial unit rates'!T193","v":5.7193434076211205E-2},{"$f":"'Initial unit rates'!U193","v":5.1257066726975331E-2},{"$f":"'Initial unit rates'!V193","v":4.8372611361107501E-2},{"$f":"'Initial unit rates'!W193","v":4.5914340181725528E-2},{"$f":"'Initial unit rates'!X193","v":0},{"$f":"'Initial unit rates'!Y193","v":0},{"$f":"'Initial unit rates'!Z193","v":0},{"$f":"'Initial unit rates'!AA193","v":0},{"$f":"'Initial unit rates'!AB193","v":8.5569836421975576E-2},{"$f":"'Initial unit rates'!AC193","v":0},{"$f":"'Initial unit rates'!AD193","v":0},{"$f":"'Initial unit rates'!AE193","v":0},{"$f":"'Initial unit rates'!AF193","v":0},{"$f":"'Initial unit rates'!AG193","v":-4.6179192435834758E-2},{"$f":"'Initial unit rates'!AH193","v":-4.6179192435834758E-2},{"$f":"'Initial unit rates'!AI193","v":0},{"$f":"'Initial unit rates'!AJ193","v":0},{"$f":"'Initial unit rates'!AK193","v":-4.5407395347770663E-2},{"$f":"'Initial unit rates'!AL193","v":-4.5407395347770663E-2},{"$f":"'Initial unit rates'!AM193","v":0},{"$f":"'Initial unit rates'!AN193","v":0},{"$f":"'Initial unit rates'!AO193","v":-4.4635598259706574E-2},{"$f":"'Initial unit rates'!AP193","v":-4.4635598259706574E-2}]
[null,null,null,null,null,"GSPs","p/kWh",null,null,{"$f":"'Initial unit rates'!J194","v":0},{"$f":"'Initial unit rates'!K194","v":0},{"$f":"'Initial unit rates'!L194","v":0},{"$f":"'Initial unit rates'!M194","v":0},{"$f":"'Initial unit rates'!N194","v":0},{"$f":"'Initial unit rates'!O194","v":0},{"$f":"'Initial unit rates'!P194","v":0},{"$f":"'Initial unit rates'!Q194","v":0},{"$f":"'Initial unit rates'!R194","v":0},{"$f":"'Initial unit rates'!S194","v":0},{"$f":"'Initial unit rates'!T194","v":0},{"$f":"'Initial unit rates'!U194","v":0},{"$f":"'Initial unit rates'!V194","v":0},{"$f":"'Initial unit rates'!W194","v":0},{"$f":"'Initial unit rates'!X194","v":0},{"$f":"'Initial unit rates'!Y194","v":0},{"$f":"'Initial unit rates'!Z194","v":0},{"$f":"'Initial unit rates'!AA194","v":0},{"$f":"'Initial unit rates'!AB194","v":0},{"$f":"'Initial unit rates'!AC194","v":0},{"$f":"'Initial unit rates'!AD194","v":0},{"$f":"'Initial unit rates'!AE194","v":0},{"$f":"'Initial unit rates'!AF194","v":0},{"$f":"'Initial unit rates'!AG194","v":0},{"$f":"'Initial unit rates'!AH194","v":0},{"$f":"'Initial unit rates'!AI194","v":0},{"$f":"'Initial unit rates'!AJ194","v":0},{"$f":"'Initial unit rates'!AK194","v":0},{"$f":"'Initial unit rates'!AL194","v":0},{"$f":"'Initial unit rates'!AM194","v":0},{"$f":"'Initial unit rates'!AN194","v":0},{"$f":"'Initial unit rates'!AO194","v":0},{"$f":"'Initial unit rates'!AP194","v":0}]
[null,null,null,null,null,"132kV","p/kWh",null,null,{"$f":"'Initial unit rates'!J195","v":0},{"$f":"'Initial unit rates'!K195","v":6.9770624082034938E-2},{"$f":"'Initial unit rates'!L195","v":0},{"$f":"'Initial unit rates'!M195","v":0},{"$f":"'Initial unit rates'!N195","v":6.7942682419046829E-2},{"$f":"'Initial unit rates'!O195","v":0},{"$f":"'Initial unit rates'!P195","v":5.7081476994499183E-2},{"$f":"'Initial unit rates'!Q195","v":5.7543348777798736E-2},{"$f":"'Initial unit rates'!R195","v":5.7368986383515425E-2},{"$f":"'Initial unit rates'!S195","v":0.13326609415673715},{"$f":"'Initial unit rates'!T195","v":0.11440711664225624},{"$f":"'Initial unit rates'!U195","v":0.10252640278178744},{"$f":"'Initial unit rates'!V195","v":9.6756801602260439E-2},{"$f":"'Initial unit rates'!W195","v":9.1839670810780011E-2},{"$f":"'Initial unit rates'!X195","v":0},{"$f":"'Initial unit rates'!Y195","v":0},{"$f":"'Initial unit rates'!Z195","v":0},{"$f":"'Initial unit rates'!AA195","v":0},{"$f":"'Initial unit rates'!AB195","v":0.11989497407323076},{"$f":"'Initial unit rates'!AC195","v":0},{"$f":"'Initial unit rates'!AD195","v":0},{"$f":"'Initial unit rates'!AE195","v":0},{"$f":"'Initial unit rates'!AF195","v":0},{"$f":"'Initial unit rates'!AG195","v":-9.2369438716288665E-2},{"$f":"'Initial unit rates'!AH195","v":-9.2369438716288665E-2},{"$f":"'Initial unit rates'!AI195","v":0},{"$f":"'Initial unit rates'!AJ195","v":0},{"$f":"'Initial unit rates'!AK195","v":-9.0825659796239286E-2},{"$f":"'Initial unit rates'!AL195","v":-9.0825659796239286E-2},{"$f":"'Initial unit rates'!AM195","v":0},{"$f":"'Initial unit rates'!AN195","v":0},{"$f":"'Initial unit rates'!AO195","v":-8.9281880876189879E-2},{"$f":"'Initial unit rates'!AP195","v":-8.9281880876189879E-2}]
[null,null,null,null,null,"132kV/EHV","p/kWh",null,null,{"$f":"'Initial unit rates'!J196","v":0},{"$f":"'Initial unit rates'!K196","v":6.4917289239591414E-3},{"$f":"'Initial unit rates'!L196","v":0},{"$f":"'Initial unit rates'!M196","v":0},{"$f":"'Initial unit rates'!N196","v":6.3216501562677781E-3},{"$f":"'Initial unit rates'!O196","v":0},{"$f":"'Initial unit rates'!P196","v":5.3110815633783705E-3},{"$f":"'Initial unit rates'!Q196","v":5.3540559018518362E-3},{"$f":"'Initial unit rates'!R196","v":5.3378325497876649E-3},{"$f":"'Initial unit rates'!S196","v":1.2399593229998245E-2},{"$f":"'Initial unit rates'!T196","v":1.0644880965089979E-2},{"$f":"'Initial unit rates'!U196","v":9.5394533611372918E-3},{"$f":"'Initial unit rates'!V196","v":9.00262733514667E-3},{"$f":"'Initial unit rates'!W196","v":8.5451184536951899E-3},{"$f":"'Initial unit rates'!X196","v":0},{"$f":"'Initial unit rates'!Y196","v":0},{"$f":"'Initial unit rates'!Z196","v":0},{"$f":"'Initial unit rates'!AA196","v":0},{"$f":"'Initial unit rates'!AB196","v":1.1155492462176966E-2},{"$f":"'Initial unit rates'!AC196","v":0},{"$f":"'Initial unit rates'!AD196","v":0},{"$f":"'Initial unit rates'!AE196","v":0},{"$f":"'Initial unit rates'!AF196","v":0},{"$f":"'Initial unit rates'!AG196","v":-8.5944101101827711E-3},{"$f":"'Initial unit rates'!AH196","v":-8.5944101101827711E-3},{"$f":"'Initial unit rates'!AI196","v":0},{"$f":"'Initial unit rates'!AJ196","v":0},{"$f":"'Initial unit rates'!AK196","v":-8.4507709439958726E-3},{"$f":"'Initial unit rates'!AL196","v":-8.4507709439958726E-3},{"$f":"'Initial unit rates'!AM196","v":0},{"$f":"'Initial unit rates'!AN196","v":0},{"$f":"'Initial unit rates'!AO196","v":-8.3071317778089723E-3},{"$f":"'Initial unit rates'!AP196","v":-8.3071317778089723E-3}]
[null,null,null,null,null,"EHV","p/kWh",null,null,{"$f":"'Initial unit rates'!J197","v":0},{"$f":"'Initial unit rates'!K197","v":6.492506196601115E-3},{"$f":"'Initial unit rates'!L197","v":0},{"$f":"'Initial unit rates'!M197","v":0},{"$f":"'Initial unit rates'!N197","v":7.1959028581030579E-3},{"$f":"'Initial unit rates'!O197","v":0},{"$f":"'Initial unit rates'!P197","v":4.7611998116941527E-3},{"$f":"'Initial unit rates'!Q197","v":4.6444926068089113E-3},{"$f":"'Initial unit rates'!R197","v":4.5545934346189572E-3},{"$f":"'Initial unit rates'!S197","v":4.1644479409559322E-2},{"$f":"'Initial unit rates'!T197","v":3.5730640629573818E-2},{"$f":"'Initial unit rates'!U197","v":3.2030004143195394E-2},{"$f":"'Initial unit rates'!V197","v":3.0227538196173381E-2},{"$f":"'Initial unit rates'!W197","v":2.8691390283533173E-2},{"$f":"'Initial unit rates'!X197","v":0},{"$f":"'Initial unit rates'!Y197","v":0},{"$f":"'Initial unit rates'!Z197","v":0},{"$f":"'Initial unit rates'!AA197","v":0},{"$f":"'Initial unit rates'!AB197","v":4.2111122790001114E-2},{"$f":"'Initial unit rates'!AC197","v":0},{"$f":"'Initial unit rates'!AD197","v":0},{"$f":"'Initial unit rates'!AE197","v":0},{"$f":"'Initial unit rates'!AF197","v":0},{"$f":"'Initial unit rates'!AG197","v":-2.8856893683125658E-2},{"$f":"'Initial unit rates'!AH197","v":-2.8856893683125658E-2},{"$f":"'Initial unit rates'!AI197","v":0},{"$f":"'Initial unit rates'!AJ197","v":0},{"$f":"'Initial unit rates'!AK197","v":-2.8374605766416039E-2},{"$f":"'Initial unit rates'!AL197","v":-2.8374605766416039E-2},{"$f":"'Initial unit rates'!AM197","v":0},{"$f":"'Initial unit rates'!AN197","v":0},{"$f":"'Initial unit rates'!AO197","v":-2.7892317849706416E-2},{"$f":"'Initial unit rates'!AP197","v":-2.7892317849706416E-2}]
[null,null,null,null,null,"EHV/HV","p/kWh",null,null,{"$f":"'Initial unit rates'!J198","v":0},{"$f":"'Initial unit rates'!K198","v":4.9881212785543236E-3},{"$f":"'Initial unit rates'!L198","v":0},{"$f":"'Initial unit rates'!M198","v":0},{"$f":"'Initial unit rates'!N198","v":5.5285332162955166E-3},{"$f":"'Initial unit rates'!O198","v":0},{"$f":"'Initial unit rates'!P198","v":3.6579775779949945E-3},{"$f":"'Initial unit rates'!Q198","v":3.5683127129304939E-3},{"$f":"'Initial unit rates'!R198","v":3.499244165262433E-3},{"$f":"'Initial unit rates'!S198","v":3.1994996629481472E-2},{"$f":"'Initial unit rates'!T198","v":2.7451459178284527E-2},{"$f":"'Initial unit rates'!U198","v":2.4608300767197864E-2},{"$f":"'Initial unit rates'!V198","v":2.3223485955790071E-2},{"$f":"'Initial unit rates'!W198","v":2.2043280368299254E-2},{"$f":"'Initial unit rates'!X198","v":0},{"$f":"'Initial unit rates'!Y198","v":0},{"$f":"'Initial unit rates'!Z198","v":0},{"$f":"'Initial unit rates'!AA198","v":0},{"$f":"'Initial unit rates'!AB198","v":3.2353513618914115E-2},{"$f":"'Initial unit rates'!AC198","v":0},{"$f":"'Initial unit rates'!AD198","v":0},{"$f":"'Initial unit rates'!AE198","v":0},{"$f":"'Initial unit rates'!AF198","v":0},{"$f":"'Initial unit rates'!AG198","v":-2.2170434814391661E-2},{"$f":"'Initial unit rates'!AH198","v":-2.2170434814391661E-2},{"$f":"'Initial unit rates'!AI198","v":0},{"$f":"'Initial unit rates'!AJ198","v":0},{"$f":"'Initial unit rates'!AK198","v":-2.1799898299387901E-2},{"$f":"'Initial unit rates'!AL198","v":-2.1799898299387901E-2},{"$f":"'Initial unit rates'!AM198","v":0},{"$f":"'Initial unit rates'!AN198","v":0},{"$f":"'Initial unit rates'!AO198","v":-2.1429361784384142E-2},{"$f":"'Initial unit rates'!AP198","v":-2.1429361784384142E-2}]
[null,null,null,null,null,"132kV/HV","p/kWh",null,null,{"$f":"'Initial unit rates'!J199","v":0},{"$f":"'Initial unit rates'!K199","v":5.82898101638248E-3},{"$f":"'Initial unit rates'!L199","v":0},{"$f":"'Initial unit rates'!M199","v":0},{"$f":"'Initial unit rates'!N199","v":5.6762657813849496E-3},{"$f":"'Initial unit rates'!O199","v":0},{"$f":"'Initial unit rates'!P199","v":4.7688672728051756E-3},{"$f":"'Initial unit rates'!Q199","v":4.8074543127274542E-3},{"$f":"'Initial unit rates'!R199","v":4.7928872209231236E-3},{"$f":"'Initial unit rates'!S199","v":1.1133704810404278E-2},{"$f":"'Initial unit rates'!T199","v":9.5581330942757087E-3},{"$f":"'Initial unit rates'!U199","v":8.5655598377670783E-3},{"$f":"'Initial unit rates'!V199","v":8.083538984577943E-3},{"$f":"'Initial unit rates'!W199","v":7.6727376994280613E-3},{"$f":"'Initial unit rates'!X199","v":0},{"$f":"'Initial unit rates'!Y199","v":0},{"$f":"'Initial unit rates'!Z199","v":0},{"$f":"'Initial unit rates'!AA199","v":0},{"$f":"'Initial unit rates'!AB199","v":1.001661568930241E-2},{"$f":"'Initial unit rates'!AC199","v":0},{"$f":"'Initial unit rates'!AD199","v":0},{"$f":"'Initial unit rates'!AE199","v":0},{"$f":"'Initial unit rates'!AF199","v":0},{"$f":"'Initial unit rates'!AG199","v":-7.7169971152628398E-3},{"$f":"'Initial unit rates'!AH199","v":-7.7169971152628398E-3},{"$f":"'Initial unit rates'!AI199","v":0},{"$f":"'Initial unit rates'!AJ199","v":0},{"$f":"'Initial unit rates'!AK199","v":-7.5880222331135977E-3},{"$f":"'Initial unit rates'!AL199","v":-7.5880222331135977E-3},{"$f":"'Initial unit rates'!AM199","v":0},{"$f":"'Initial unit rates'!AN199","v":0},{"$f":"'Initial unit rates'!AO199","v":-7.4590473509643582E-3},{"$f":"'Initial unit rates'!AP199","v":-7.4590473509643582E-3}]
[null,null,null,null,null,"HV","p/kWh",null,null,{"$f":"'Initial unit rates'!J200","v":0},{"$f":"'Initial unit rates'!K200","v":2.9082995857012909E-2},{"$f":"'Initial unit rates'!L200","v":0},{"$f":"'Initial unit rates'!M200","v":0},{"$f":"'Initial unit rates'!N200","v":3.2233841088859905E-2},{"$f":"'Initial unit rates'!O200","v":0},{"$f":"'Initial unit rates'!P200","v":2.1327658411847486E-2},{"$f":"'Initial unit rates'!Q200","v":2.0804871824760682E-2},{"$f":"'Initial unit rates'!R200","v":2.0402171053567262E-2},{"$f":"'Initial unit rates'!S200","v":0.18654525470760722},{"$f":"'Initial unit rates'!T200","v":0.16005438299655669},{"$f":"'Initial unit rates'!U200","v":0.14347748767406976},{"$f":"'Initial unit rates'!V200","v":0.13540339300518967},{"$f":"'Initial unit rates'!W200","v":0.1285222623560634},{"$f":"'Initial unit rates'!X200","v":0},{"$f":"'Initial unit rates'!Y200","v":0},{"$f":"'Initial unit rates'!Z200","v":0},{"$f":"'Initial unit rates'!AA200","v":0},{"$f":"'Initial unit rates'!AB200","v":0.18863557038681222},{"$f":"'Initial unit rates'!AC200","v":0},{"$f":"'Initial unit rates'!AD200","v":0},{"$f":"'Initial unit rates'!AE200","v":0},{"$f":"'Initial unit rates'!AF200","v":0},{"$f":"'Initial unit rates'!AG200","v":-0.12926363010203329},{"$f":"'Initial unit rates'!AH200","v":-0.12926363010203329},{"$f":"'Initial unit rates'!AI200","v":0},{"$f":"'Initial unit rates'!AJ200","v":0},{"$f":"'Initial unit rates'!AK200","v":-0.12710323516996591},{"$f":"'Initial unit rates'!AL200","v":-0.12710323516996591},{"$f":"'Initial unit rates'!AM200","v":0},{"$f":"'Initial unit rates'!AN200","v":0},{"$f":"'Initial unit rates'!AO200","v":0},{"$f":"'Initial unit rates'!AP200","v":0}]
[null,null,null,null,null,"HV/LV","p/kWh",null,null,{"$f":"'Initial unit rates'!J201","v":0},{"$f":"'Initial unit rates'!K201","v":1.0801153142128067E-2},{"$f":"'Initial unit rates'!L201","v":0},{"$f":"'Initial unit rates'!M201","v":0},{"$f":"'Initial unit rates'!N201","v":1.197134764491059E-2},{"$f":"'Initial unit rates'!O201","v":0},{"$f":"'Initial unit rates'!P201","v":7.9208932189086013E-3},{"$f":"'Initial unit rates'!Q201","v":7.7267351612058431E-3},{"$f":"'Initial unit rates'!R201","v":0},{"$f":"'Initial unit rates'!S201","v":6.9281166009872733E-2},{"$f":"'Initial unit rates'!T201","v":5.9442703575455801E-2},{"$f":"'Initial unit rates'!U201","v":5.3286199414759677E-2},{"$f":"'Initial unit rates'!V201","v":5.0287556034573501E-2},{"$f":"'Initial unit rates'!W201","v":0},{"$f":"'Initial unit rates'!X201","v":0},{"$f":"'Initial unit rates'!Y201","v":0},{"$f":"'Initial unit rates'!Z201","v":0},{"$f":"'Initial unit rates'!AA201","v":0},{"$f":"'Initial unit rates'!AB201","v":7.005748973791949E-2},{"$f":"'Initial unit rates'!AC201","v":0},{"$f":"'Initial unit rates'!AD201","v":0},{"$f":"'Initial unit rates'!AE201","v":0},{"$f":"'Initial unit rates'!AF201","v":0},{"$f":"'Initial unit rates'!AG201","v":-4.8007305413234655E-2},{"$f":"'Initial unit rates'!AH201","v":-4.8007305413234655E-2},{"$f":"'Initial unit rates'!AI201","v":0},{"$f":"'Initial unit rates'!AJ201","v":0},{"$f":"'Initial unit rates'!AK201","v":0},{"$f":"'Initial unit rates'!AL201","v":0},{"$f":"'Initial unit rates'!AM201","v":0},{"$f":"'Initial unit rates'!AN201","v":0},{"$f":"'Initial unit rates'!AO201","v":0},{"$f":"'Initial unit rates'!AP201","v":0}]
[null,null,null,null,null,"LV circuits","p/kWh",null,null,{"$f":"'Initial unit rates'!J202","v":0},{"$f":"'Initial unit rates'!K202","v":2.4626715889815121E-2},{"$f":"'Initial unit rates'!L202","v":0},{"$f":"'Initial unit rates'!M202","v":0},{"$f":"'Initial unit rates'!N202","v":2.7294768752008952E-2},{"$f":"'Initial unit rates'!O202","v":0},{"$f":"'Initial unit rates'!P202","v":1.805970013838662E-2},{"$f":"'Initial unit rates'!Q202","v":0},{"$f":"'Initial unit rates'!R202","v":0},{"$f":"'Initial unit rates'!S202","v":0.1579616147821879},{"$f":"'Initial unit rates'!T202","v":0.13552984143569238},{"$f":"'Initial unit rates'!U202","v":0.12149296251684978},{"$f":"'Initial unit rates'!V202","v":0},{"$f":"'Initial unit rates'!W202","v":0},{"$f":"'Initial unit rates'!X202","v":0},{"$f":"'Initial unit rates'!Y202","v":0},{"$f":"'Initial unit rates'!Z202","v":0},{"$f":"'Initial unit rates'!AA202","v":0},{"$f":"'Initial unit rates'!AB202","v":0.15973163911547522},{"$f":"'Initial unit rates'!AC202","v":0},{"$f":"'Initial unit rates'!AD202","v":0},{"$f":"'Initial unit rates'!AE202","v":0},{"$f":"'Initial unit rates'!AF202","v":0},{"$f":"'Initial unit rates'!AG202","v":0},{"$f":"'Initial unit rates'!AH202","v":0},{"$f":"'Initial unit rates'!AI202","v":0},{"$f":"'Initial unit rates'!AJ202","v":0},{"$f":"'Initial unit rates'!AK202","v":0},{"$f":"'Initial unit rates'!AL202","v":0},{"$f":"'Initial unit rates'!AM202","v":0},{"$f":"'Initial unit rates'!AN202","v":0},{"$f":"'Initial unit rates'!AO202","v":0},{"$f":"'Initial unit rates'!AP202","v":0}]
[null,null,null,null,null,"LV customers","p/kWh",null,">",null,null,null,null,null,null,null,null,null,null,null,null,null,null,null,null,null,null,{"$f":"'Service model charges'!$AB$44","v":1.0594360163150118},null,null,null,null,null,null,null,null,null,null,null,null,null,null,null,"Paragraph 86"]
[null,null,null,null,null,"HV customers","p/kWh"]
[]
[null,null,{"$f":"INDEX('Version control'!$H$34:$H$59,MATCH($A$1,'Version control'!$F$34:$F$59,0),1)&\"-C: Initial unit rate 3\"","v":"Section 514-C: Initial unit rate 3"}]
[]
[null,null,null,null,"Asset costs"]
[null,null,null,null,null,"Transmission exit","p/kWh",null,null,{"$f":"'Initial unit rates'!J210","v":0},{"$f":"'Initial unit rates'!K210","v":0},{"$f":"'Initial unit rates'!L210","v":0},{"$f":"'Initial unit rates'!M210","v":0},{"$f":"'Initial unit rates'!N210","v":0},{"$f":"'Initial unit rates'!O210","v":0},{"$f":"'Initial unit rates'!P210","v":0},{"$f":"'Initial unit rates'!Q210","v":0},{"$f":"'Initial unit rates'!R210","v":0},{"$f":"'Initial unit rates'!S210","v":0},{"$f":"'Initial unit rates'!T210","v":0},{"$f":"'Initial unit rates'!U210","v":0},{"$f":"'Initial unit rates'!V210","v":0},{"$f":"'Initial unit rates'!W210","v":0},{"$f":"'Initial unit rates'!X210","v":0},{"$f":"'Initial unit rates'!Y210","v":0},{"$f":"'Initial unit rates'!Z210","v":0},{"$f":"'Initial unit rates'!AA210","v":0},{"$f":"'Initial unit rates'!AB210","v":0},{"$f":"'Initial unit rates'!AC210","v":0},{"$f":"'Initial unit rates'!AD210","v":0},{"$f":"'Initial unit rates'!AE210","v":0},{"$f":"'Initial unit rates'!AF210","v":0},{"$f":"'Initial unit rates'!AG210","v":0},{"$f":"'Initial unit rates'!AH210","v":0},{"$f":"'Initial unit rates'!AI210","v":0},{"$f":"'Initial unit rates'!AJ210","v":0},{"$f":"'Initial unit rates'!AK210","v":0},{"$f":"'Initial unit rates'!AL210","v":0},{"$f":"'Initial unit rates'!AM210","v":0},{"$f":"'Initial unit rates'!AN210","v":0},{"$f":"'Initial unit rates'!AO210","v":0},{"$f":"'Initial unit rates'!AP210","v":0}]
[null,null,null,null,null,"GSPs","p/kWh",null,null,{"$f":"'Initial unit rates'!J211","v":0},{"$f":"'Initial unit rates'!K211","v":0},{"$f":"'Initial unit rates'!L211","v":0},{"$f":"'Initial unit rates'!M211","v":0},{"$f":"'Initial unit rates'!N211","v":0},{"$f":"'Initial unit rates'!O211","v":0},{"$f":"'Initial unit rates'!P211","v":0},{"$f":"'Initial unit rates'!Q211","v":0},{"$f":"'Initial unit rates'!R211","v":0},{"$f":"'Initial unit rates'!S211","v":0},{"$f":"'Initial unit rates'!T211","v":0},{"$f":"'Initial unit rates'!U211","v":0},{"$f":"'Initial unit rates'!V211","v":0},{"$f":"'Initial unit rates'!W211","v":0},{"$f":"'Initial unit rates'!X211","v":0},{"$f":"'Initial unit rates'!Y211","v":0},{"$f":"'Initial unit rates'!Z211","v":0},{"$f":"'Initial unit rates'!AA211","v":0},{"$f":"'Initial unit rates'!AB211","v":0},{"$f":"'Initial unit rates'!AC211","v":0},{"$f":"'Initial unit rates'!AD211","v":0},{"$f":"'Initial unit rates'!AE211","v":0},{"$f":"'Initial unit rates'!AF211","v":0},{"$f":"'Initial unit rates'!AG211","v":0},{"$f":"'Initial unit rates'!AH211","v":0},{"$f":"'Initial unit rates'!AI211","v":0},{"$f":"'Initial unit rates'!AJ211","v":0},{"$f":"'Initial unit rates'!AK211","v":0},{"$f":"'Initial unit rates'!AL211","v":0},{"$f":"'Initial unit rates'!AM211","v":0},{"$f":"'Initial unit rates'!AN211","v":0},{"$f":"'Initial unit rates'!AO211","v":0},{"$f":"'Initial unit rates'!AP211","v":0}]
[null,null,null,null,null,"132kV","p/kWh",null,null,{"$f":"'Initial unit rates'!J212","v":0},{"$f":"'Initial unit rates'!K212","v":0},{"$f":"'Initial unit rates'!L212","v":0},{"$f":"'Initial unit rates'!M212","v":0},{"$f":"'Initial unit rates'!N212","v":0},{"$f":"'Initial unit rates'!O212","v":0},{"$f":"'Initial unit rates'!P212","v":0},{"$f":"'Initial unit rates'!Q212","v":0},{"$f":"'Initial unit rates'!R212","v":0},{"$f":"'Initial unit rates'!S212","v":9.8007553128874395E-2},{"$f":"'Initial unit rates'!T212","v":8.4138142065225408E-2},{"$f":"'Initial unit rates'!U212","v":7.5400738134714984E-2},{"$f":"'Initial unit rates'!V212","v":7.1157614647732195E-2},{"$f":"'Initial unit rates'!W212","v":6.7541421344123775E-2},{"$f":"'Initial unit rates'!X212","v":0},{"$f":"'Initial unit rates'!Y212","v":0},{"$f":"'Initial unit rates'!Z212","v":0},{"$f":"'Initial unit rates'!AA212","v":0},{"$f":"'Initial unit rates'!AB212","v":7.1813178105976386E-2},{"$f":"'Initial unit rates'!AC212","v":0},{"$f":"'Initial unit rates'!AD212","v":0},{"$f":"'Initial unit rates'!AE212","v":0},{"$f":"'Initial unit rates'!AF212","v":0},{"$f":"'Initial unit rates'!AG212","v":-6.7931027241059927E-2},{"$f":"'Initial unit rates'!AH212","v":-6.7931027241059927E-2},{"$f":"'Initial unit rates'!AI212","v":0},{"$f":"'Initial unit rates'!AJ212","v":0},{"$f":"'Initial unit rates'!AK212","v":-6.6795689738423827E-2},{"$f":"'Initial unit rates'!AL212","v":-6.6795689738423827E-2},{"$f":"'Initial unit rates'!AM212","v":0},{"$f":"'Initial unit rates'!AN212","v":0},{"$f":"'Initial unit rates'!AO212","v":-6.5660352235787728E-2},{"$f":"'Initial unit rates'!AP212","v":-6.5660352235787728E-2}]
[null,null,null,null,null,"132kV/EHV","p/kWh",null,null,{"$f":"'Initial unit rates'!J213","v":0},{"$f":"'Initial unit rates'!K213","v":0},{"$f":"'Initial unit rates'!L213","v":0},{"$f":"'Initial unit rates'!M213","v":0},{"$f":"'Initial unit rates'!N213","v":0},{"$f":"'Initial unit rates'!O213","v":0},{"$f":"'Initial unit rates'!P213","v":0},{"$f":"'Initial unit rates'!Q213","v":0},{"$f":"'Initial unit rates'!R213","v":0},{"$f":"'Initial unit rates'!S213","v":9.1190020984347146E-3},{"$f":"'Initial unit rates'!T213","v":7.8285384090988428E-3},{"$f":"'Initial unit rates'!U213","v":7.0155765277586726E-3},{"$f":"'Initial unit rates'!V213","v":6.6207798947804531E-3},{"$f":"'Initial unit rates'!W213","v":4.0219617745318259E-3},{"$f":"'Initial unit rates'!X213","v":0},{"$f":"'Initial unit rates'!Y213","v":0},{"$f":"'Initial unit rates'!Z213","v":0},{"$f":"'Initial unit rates'!AA213","v":0},{"$f":"'Initial unit rates'!AB213","v":6.6817760564081693E-3},{"$f":"'Initial unit rates'!AC213","v":0},{"$f":"'Initial unit rates'!AD213","v":0},{"$f":"'Initial unit rates'!AE213","v":0},{"$f":"'Initial unit rates'!AF213","v":0},{"$f":"'Initial unit rates'!AG213","v":-6.3205657133944783E-3},{"$f":"'Initial unit rates'!AH213","v":-6.3205657133944783E-3},{"$f":"'Initial unit rates'!AI213","v":0},{"$f":"'Initial unit rates'!AJ213","v":0},{"$f":"'Initial unit rates'!AK213","v":-6.2149295176274393E-3},{"$f":"'Initial unit rates'!AL213","v":-6.2149295176274393E-3},{"$f":"'Initial unit rates'!AM213","v":0},{"$f":"'Initial unit rates'!AN213","v":0},{"$f":"'Initial unit rates'!AO213","v":-3.909947725990656E-3},{"$f":"'Initial unit rates'!AP213","v":-3.909947725990656E-3}]
[null,null,null,null,null,"EHV","p/kWh",null,null,{"$f":"'Initial unit rates'!J214","v":0},{"$f":"'Initial unit rates'!K214","v":0},{"$f":"'Initial unit rates'!L214","v":0},{"$f":"'Initial unit rates'!M214","v":0},{"$f":"'Initial unit rates'!N214","v":0},{"$f":"'Initial unit rates'!O214","v":0},{"$f":"'Initial unit rates'!P214","v":0},{"$f":"'Initial unit rates'!Q214","v":0},{"$f":"'Initial unit rates'!R214","v":0},{"$f":"'Initial unit rates'!S214","v":7.7830259611870577E-3},{"$f":"'Initial unit rates'!T214","v":6.6777759638888198E-3},{"$f":"'Initial unit rates'!U214","v":5.9861560840209511E-3},{"$f":"'Initial unit rates'!V214","v":5.6492893622194593E-3},{"$f":"'Initial unit rates'!W214","v":3.4318050485303716E-3},{"$f":"'Initial unit rates'!X214","v":0},{"$f":"'Initial unit rates'!Y214","v":0},{"$f":"'Initial unit rates'!Z214","v":0},{"$f":"'Initial unit rates'!AA214","v":0},{"$f":"'Initial unit rates'!AB214","v":5.7013353405627864E-3},{"$f":"'Initial unit rates'!AC214","v":0},{"$f":"'Initial unit rates'!AD214","v":0},{"$f":"'Initial unit rates'!AE214","v":0},{"$f":"'Initial unit rates'!AF214","v":0},{"$f":"'Initial unit rates'!AG214","v":-5.3931266731942181E-3},{"$f":"'Initial unit rates'!AH214","v":-5.3931266731942181E-3},{"$f":"'Initial unit rates'!AI214","v":0},{"$f":"'Initial unit rates'!AJ214","v":0},{"$f":"'Initial unit rates'!AK214","v":-5.3029908513581026E-3},{"$f":"'Initial unit rates'!AL214","v":-5.3029908513581026E-3},{"$f":"'Initial unit rates'!AM214","v":0},{"$f":"'Initial unit rates'!AN214","v":0},{"$f":"'Initial unit rates'!AO214","v":-3.3362272188940719E-3},{"$f":"'Initial unit rates'!AP214","v":-3.3362272188940719E-3}]
[null,null,null,null,null,"EHV/HV","p/kWh",null,null,{"$f":"'Initial unit rates'!J215","v":0},{"$f":"'Initial unit rates'!K215","v":0},{"$f":"'Initial unit rates'!L215","v":0},{"$f":"'Initial unit rates'!M215","v":0},{"$f":"'Initial unit rates'!N215","v":0},{"$f":"'Initial unit rates'!O215","v":0},{"$f":"'Initial unit rates'!P215","v":0},{"$f":"'Initial unit rates'!Q215","v":0},{"$f":"'Initial unit rates'!R215","v":0},{"$f":"'Initial unit rates'!S215","v":1.4949033636988251E-3},{"$f":"'Initial unit rates'!T215","v":1.282615502020248E-3},{"$f":"'Initial unit rates'!U215","v":1.1497745106151822E-3},{"$f":"'Initial unit rates'!V215","v":1.0850717590053904E-3},{"$f":"'Initial unit rates'!W215","v":3.7077442971500982E-4},{"$f":"'Initial unit rates'!X215","v":0},{"$f":"'Initial unit rates'!Y215","v":0},{"$f":"'Initial unit rates'!Z215","v":0},{"$f":"'Initial unit rates'!AA215","v":0},{"$f":"'Initial unit rates'!AB215","v":1.095068347540548E-3},{"$f":"'Initial unit rates'!AC215","v":0},{"$f":"'Initial unit rates'!AD215","v":0},{"$f":"'Initial unit rates'!AE215","v":0},{"$f":"'Initial unit rates'!AF215","v":0},{"$f":"'Initial unit rates'!AG215","v":-1.035870013130761E-3},{"$f":"'Initial unit rates'!AH215","v":-1.035870013130761E-3},{"$f":"'Initial unit rates'!AI215","v":0},{"$f":"'Initial unit rates'!AJ215","v":0},{"$f":"'Initial unit rates'!AK215","v":-1.0185574223820575E-3},{"$f":"'Initial unit rates'!AL215","v":-1.0185574223820575E-3},{"$f":"'Initial unit rates'!AM215","v":0},{"$f":"'Initial unit rates'!AN215","v":0},{"$f":"'Initial unit rates'!AO215","v":-3.6044813938800724E-4},{"$f":"'Initial unit rates'!AP215","v":-3.6044813938800724E-4}]
[null,null,null,null,null,"132kV/HV","p/kWh",null,null,{"$f":"'Initial unit rates'!J216","v":0},{"$f":"'Initial unit rates'!K216","v":0},{"$f":"'Initial unit rates'!L216","v":0},{"$f":"'Initial unit rates'!M216","v":0},{"$f":"'Initial unit rates'!N216","v":0},{"$f":"'Initial unit rates'!O216","v":0},{"$f":"'Initial unit rates'!P216","v":0},{"$f":"'Initial unit rates'!Q216","v":0},{"$f":"'Initial unit rates'!R216","v":0},{"$f":"'Initial unit rates'!S216","v":2.0470082293466418E-3},{"$f":"'Initial unit rates'!T216","v":1.7573285293938381E-3},{"$f":"'Initial unit rates'!U216","v":1.5748371072749521E-3},{"$f":"'Initial unit rates'!V216","v":1.4862142571098573E-3},{"$f":"'Initial unit rates'!W216","v":5.0784682122713594E-4},{"$f":"'Initial unit rates'!X216","v":0},{"$f":"'Initial unit rates'!Y216","v":0},{"$f":"'Initial unit rates'!Z216","v":0},{"$f":"'Initial unit rates'!AA216","v":0},{"$f":"'Initial unit rates'!AB216","v":1.4999065058299151E-3},{"$f":"'Initial unit rates'!AC216","v":0},{"$f":"'Initial unit rates'!AD216","v":0},{"$f":"'Initial unit rates'!AE216","v":0},{"$f":"'Initial unit rates'!AF216","v":0},{"$f":"'Initial unit rates'!AG216","v":-1.4188230126260843E-3},{"$f":"'Initial unit rates'!AH216","v":-1.4188230126260843E-3},{"$f":"'Initial unit rates'!AI216","v":0},{"$f":"'Initial unit rates'!AJ216","v":0},{"$f":"'Initial unit rates'!AK216","v":-1.3951100931950075E-3},{"$f":"'Initial unit rates'!AL216","v":-1.3951100931950075E-3},{"$f":"'Initial unit rates'!AM216","v":0},{"$f":"'Initial unit rates'!AN216","v":0},{"$f":"'Initial unit rates'!AO216","v":-4.9370298255501505E-4},{"$f":"'Initial unit rates'!AP216","v":-4.9370298255501505E-4}]
[null,null,null,null,null,"HV","p/kWh",null,null,{"$f":"'Initial unit rates'!J217","v":0},{"$f":"'Initial unit rates'!K217","v":0},{"$f":"'Initial unit rates'!L217","v":0},{"$f":"'Initial unit rates'!M217","v":0},{"$f":"'Initial unit rates'!N217","v":0},{"$f":"'Initial unit rates'!O217","v":0},{"$f":"'Initial unit rates'!P217","v":0},{"$f":"'Initial unit rates'!Q217","v":0},{"$f":"'Initial unit rates'!R217","v":0},{"$f":"'Initial unit rates'!S217","v":8.7159605601426042E-3},{"$f":"'Initial unit rates'!T217","v":7.4782266204655107E-3},{"$f":"'Initial unit rates'!U217","v":6.7037037516481093E-3},{"$f":"'Initial unit rates'!V217","v":6.3264575397135253E-3},{"$f":"'Initial unit rates'!W217","v":2.1617820820934793E-3},{"$f":"'Initial unit rates'!X217","v":0},{"$f":"'Initial unit rates'!Y217","v":0},{"$f":"'Initial unit rates'!Z217","v":0},{"$f":"'Initial unit rates'!AA217","v":0},{"$f":"'Initial unit rates'!AB217","v":6.3847421576521879E-3},{"$f":"'Initial unit rates'!AC217","v":0},{"$f":"'Initial unit rates'!AD217","v":0},{"$f":"'Initial unit rates'!AE217","v":0},{"$f":"'Initial unit rates'!AF217","v":0},{"$f":"'Initial unit rates'!AG217","v":-6.0395891795592266E-3},{"$f":"'Initial unit rates'!AH217","v":-6.0395891795592266E-3},{"$f":"'Initial unit rates'!AI217","v":0},{"$f":"'Initial unit rates'!AJ217","v":0},{"$f":"'Initial unit rates'!AK217","v":-5.9386489704301021E-3},{"$f":"'Initial unit rates'!AL217","v":-5.9386489704301021E-3},{"$f":"'Initial unit rates'!AM217","v":0},{"$f":"'Initial unit rates'!AN217","v":0},{"$f":"'Initial unit rates'!AO217","v":0},{"$f":"'Initial unit rates'!AP217","v":0}]
[null,null,null,null,null,"HV/LV","p/kWh",null,null,{"$f":"'Initial unit rates'!J218","v":0},{"$f":"'Initial unit rates'!K218","v":0},{"$f":"'Initial unit rates'!L218","v":0},{"$f":"'Initial unit rates'!M218","v":0},{"$f":"'Initial unit rates'!N218","v":0},{"$f":"'Initial unit rates'!O218","v":0},{"$f":"'Initial unit rates'!P218","v":0},{"$f":"'Initial unit rates'!Q218","v":0},{"$f":"'Initial unit rates'!R218","v":0},{"$f":"'Initial unit rates'!S218","v":6.4740527594682224E-4},{"$f":"'Initial unit rates'!T218","v":5.5546871000711987E-4},{"$f":"'Initial unit rates'!U218","v":4.9793859750215351E-4},{"$f":"'Initial unit rates'!V218","v":4.6991745327460251E-4},{"$f":"'Initial unit rates'!W218","v":0},{"$f":"'Initial unit rates'!X218","v":0},{"$f":"'Initial unit rates'!Y218","v":0},{"$f":"'Initial unit rates'!Z218","v":0},{"$f":"'Initial unit rates'!AA218","v":0},{"$f":"'Initial unit rates'!AB218","v":4.7424672586592043E-4},{"$f":"'Initial unit rates'!AC218","v":0},{"$f":"'Initial unit rates'!AD218","v":0},{"$f":"'Initial unit rates'!AE218","v":0},{"$f":"'Initial unit rates'!AF218","v":0},{"$f":"'Initial unit rates'!AG218","v":-4.4860940712356884E-4},{"$f":"'Initial unit rates'!AH218","v":-4.4860940712356884E-4},{"$f":"'Initial unit rates'!AI218","v":0},{"$f":"'Initial unit rates'!AJ218","v":0},{"$f":"'Initial unit rates'!AK218","v":0},{"$f":"'Initial unit rates'!AL218","v":0},{"$f":"'Initial unit rates'!AM218","v":0},{"$f":"'Initial unit rates'!AN218","v":0},{"$f":"'Initial unit rates'!AO218","v":0},{"$f":"'Initial unit rates'!AP218","v":0}]
[null,null,null,null,null,"LV circuits","p/kWh",null,null,{"$f":"'Initial unit rates'!J219","v":0},{"$f":"'Initial unit rates'!K219","v":0},{"$f":"'Initial unit rates'!L219","v":0},{"$f":"'Initial unit rates'!M219","v":0},{"$f":"'Initial unit rates'!N219","v":0},{"$f":"'Initial unit rates'!O219","v":0},{"$f":"'Initial unit rates'!P219","v":0},{"$f":"'Initial unit rates'!Q219","v":0},{"$f":"'Initial unit rates'!R219","v":0},{"$f":"'Initial unit rates'!S219","v":1.4760892273737859E-3},{"$f":"'Initial unit rates'!T219","v":1.2664731188444488E-3},{"$f":"'Initial unit rates'!U219","v":1.1353040004062509E-3},{"$f":"'Initial unit rates'!V219","v":0},{"$f":"'Initial unit rates'!W219","v":0},{"$f":"'Initial unit rates'!X219","v":0},{"$f":"'Initial unit rates'!Y219","v":0},{"$f":"'Initial unit rates'!Z219","v":0},{"$f":"'Initial unit rates'!AA219","v":0},{"$f":"'Initial unit rates'!AB219","v":1.0812863428463541E-3},{"$f":"'Initial unit rates'!AC219","v":0},{"$f":"'Initial unit rates'!AD219","v":0},{"$f":"'Initial unit rates'!AE219","v":0},{"$f":"'Initial unit rates'!AF219","v":0},{"$f":"'Initial unit rates'!AG219","v":0},{"$f":"'Initial unit rates'!AH219","v":0},{"$f":"'Initial unit rates'!AI219","v":0},{"$f":"'Initial unit rates'!AJ219","v":0},{"$f":"'Initial unit rates'!AK219","v":0},{"$f":"'Initial unit rates'!AL219","v":0},{"$f":"'Initial unit rates'!AM219","v":0},{"$f":"'Initial unit rates'!AN219","v":0},{"$f":"'Initial unit rates'!AO219","v":0},{"$f":"'Initial unit rates'!AP219","v":0}]
[null,null,null,null,null,"LV customers","p/kWh"]
[null,null,null,null,null,"HV customers","p/kWh"]
[]
[null,null,null,null,"Other operating costs"]
[null,null,null,null,null,"Transmission exit","p/kWh",null,null,{"$f":"'Initial unit rates'!J222","v":0},{"$f":"'Initial unit rates'!K222","v":0},{"$f":"'Initial unit rates'!L222","v":0},{"$f":"'Initial unit rates'!M222","v":0},{"$f":"'Initial unit rates'!N222","v":0},{"$f":"'Initial unit rates'!O222","v":0},{"$f":"'Initial unit rates'!P222","v":0},{"$f":"'Initial unit rates'!Q222","v":0},{"$f":"'Initial unit rates'!R222","v":0},{"$f":"'Initial unit rates'!S222","v":1.690983710466111E-2},{"$f":"'Initial unit rates'!T222","v":1.4511911751352257E-2},{"$f":"'Initial unit rates'!U222","v":1.3005654250169058E-2},{"$f":"'Initial unit rates'!V222","v":1.2273770207948221E-2},{"$f":"'Initial unit rates'!W222","v":1.1650023531563176E-2},{"$f":"'Initial unit rates'!X222","v":0},{"$f":"'Initial unit rates'!Y222","v":0},{"$f":"'Initial unit rates'!Z222","v":0},{"$f":"'Initial unit rates'!AA222","v":0},{"$f":"'Initial unit rates'!AB222","v":1.2386846444174664E-2},{"$f":"'Initial unit rates'!AC222","v":0},{"$f":"'Initial unit rates'!AD222","v":0},{"$f":"'Initial unit rates'!AE222","v":0},{"$f":"'Initial unit rates'!AF222","v":0},{"$f":"'Initial unit rates'!AG222","v":-1.1717225520757572E-2},{"$f":"'Initial unit rates'!AH222","v":-1.1717225520757572E-2},{"$f":"'Initial unit rates'!AI222","v":0},{"$f":"'Initial unit rates'!AJ222","v":0},{"$f":"'Initial unit rates'!AK222","v":-1.152139445355828E-2},{"$f":"'Initial unit rates'!AL222","v":-1.152139445355828E-2},{"$f":"'Initial unit rates'!AM222","v":0},{"$f":"'Initial unit rates'!AN222","v":0},{"$f":"'Initial unit rates'!AO222","v":-1.1325563386358989E-2},{"$f":"'Initial unit rates'!AP222","v":-1.1325563386358989E-2}]
[null,null,null,null,null,"GSPs","p/kWh",null,null,{"$f":"'Initial unit rates'!J223","v":0},{"$f":"'Initial unit rates'!K223","v":0},{"$f":"'Initial unit rates'!L223","v":0},{"$f":"'Initial unit rates'!M223","v":0},{"$f":"'Initial unit rates'!N223","v":0},{"$f":"'Initial unit rates'!O223","v":0},{"$f":"'Initial unit rates'!P223","v":0},{"$f":"'Initial unit rates'!Q223","v":0},{"$f":"'Initial unit rates'!R223","v":0},{"$f":"'Initial unit rates'!S223","v":0},{"$f":"'Initial unit rates'!T223","v":0},{"$f":"'Initial unit rates'!U223","v":0},{"$f":"'Initial unit rates'!V223","v":0},{"$f":"'Initial unit rates'!W223","v":0},{"$f":"'Initial unit rates'!X223","v":0},{"$f":"'Initial unit rates'!Y223","v":0},{"$f":"'Initial unit rates'!Z223","v":0},{"$f":"'Initial unit rates'!AA223","v":0},{"$f":"'Initial unit rates'!AB223","v":0},{"$f":"'Initial unit rates'!AC223","v":0},{"$f":"'Initial unit rates'!AD223","v":0},{"$f":"'Initial unit rates'!AE223","v":0},{"$f":"'Initial unit rates'!AF223","v":0},{"$f":"'Initial unit rates'!AG223","v":0},{"$f":"'Initial unit rates'!AH223","v":0},{"$f":"'Initial unit rates'!AI223","v":0},{"$f":"'Initial unit rates'!AJ223","v":0},{"$f":"'Initial unit rates'!AK223","v":0},{"$f":"'Initial unit rates'!AL223","v":0},{"$f":"'Initial unit rates'!AM223","v":0},{"$f":"'Initial unit rates'!AN223","v":0},{"$f":"'Initial unit rates'!AO223","v":0},{"$f":"'Initial unit rates'!AP223","v":0}]
[null,null,null,null,null,"132kV","p/kWh",null,null,{"$f":"'Initial unit rates'!J224","v":0},{"$f":"'Initial unit rates'!K224","v":0},{"$f":"'Initial unit rates'!L224","v":0},{"$f":"'Initial unit rates'!M224","v":0},{"$f":"'Initial unit rates'!N224","v":0},{"$f":"'Initial unit rates'!O224","v":0},{"$f":"'Initial unit rates'!P224","v":0},{"$f":"'Initial unit rates'!Q224","v":0},{"$f":"'Initial unit rates'!R224","v":0},{"$f":"'Initial unit rates'!S224","v":7.1296377678535666E-2},{"$f":"'Initial unit rates'!T224","v":6.1206963773134802E-2},{"$f":"'Initial unit rates'!U224","v":5.4850869465378177E-2},{"$f":"'Initial unit rates'!V224","v":5.1764175378986747E-2},{"$f":"'Initial unit rates'!W224","v":4.9133546664140292E-2},{"$f":"'Initial unit rates'!X224","v":0},{"$f":"'Initial unit rates'!Y224","v":0},{"$f":"'Initial unit rates'!Z224","v":0},{"$f":"'Initial unit rates'!AA224","v":0},{"$f":"'Initial unit rates'!AB224","v":5.2241070255137419E-2},{"$f":"'Initial unit rates'!AC224","v":0},{"$f":"'Initial unit rates'!AD224","v":0},{"$f":"'Initial unit rates'!AE224","v":0},{"$f":"'Initial unit rates'!AF224","v":0},{"$f":"'Initial unit rates'!AG224","v":-4.9416968587114106E-2},{"$f":"'Initial unit rates'!AH224","v":-4.9416968587114106E-2},{"$f":"'Initial unit rates'!AI224","v":0},{"$f":"'Initial unit rates'!AJ224","v":0},{"$f":"'Initial unit rates'!AK224","v":-4.8591058248610805E-2},{"$f":"'Initial unit rates'!AL224","v":-4.8591058248610805E-2},{"$f":"'Initial unit rates'!AM224","v":0},{"$f":"'Initial unit rates'!AN224","v":0},{"$f":"'Initial unit rates'!AO224","v":-4.7765147910107504E-2},{"$f":"'Initial unit rates'!AP224","v":-4.7765147910107504E-2}]
[null,null,null,null,null,"132kV/EHV","p/kWh",null,null,{"$f":"'Initial unit rates'!J225","v":0},{"$f":"'Initial unit rates'!K225","v":0},{"$f":"'Initial unit rates'!L225","v":0},{"$f":"'Initial unit rates'!M225","v":0},{"$f":"'Initial unit rates'!N225","v":0},{"$f":"'Initial unit rates'!O225","v":0},{"$f":"'Initial unit rates'!P225","v":0},{"$f":"'Initial unit rates'!Q225","v":0},{"$f":"'Initial unit rates'!R225","v":0},{"$f":"'Initial unit rates'!S225","v":6.6336909442729144E-3},{"$f":"'Initial unit rates'!T225","v":5.6949328216785782E-3},{"$f":"'Initial unit rates'!U225","v":5.1035372049135531E-3},{"$f":"'Initial unit rates'!V225","v":4.8163392395279983E-3},{"$f":"'Initial unit rates'!W225","v":4.5715753615915324E-3},{"$f":"'Initial unit rates'!X225","v":0},{"$f":"'Initial unit rates'!Y225","v":0},{"$f":"'Initial unit rates'!Z225","v":0},{"$f":"'Initial unit rates'!AA225","v":0},{"$f":"'Initial unit rates'!AB225","v":4.8607113847098328E-3},{"$f":"'Initial unit rates'!AC225","v":0},{"$f":"'Initial unit rates'!AD225","v":0},{"$f":"'Initial unit rates'!AE225","v":0},{"$f":"'Initial unit rates'!AF225","v":0},{"$f":"'Initial unit rates'!AG225","v":-4.5979460343389903E-3},{"$f":"'Initial unit rates'!AH225","v":-4.5979460343389903E-3},{"$f":"'Initial unit rates'!AI225","v":0},{"$f":"'Initial unit rates'!AJ225","v":0},{"$f":"'Initial unit rates'!AK225","v":-4.5211001396146611E-3},{"$f":"'Initial unit rates'!AL225","v":-4.5211001396146611E-3},{"$f":"'Initial unit rates'!AM225","v":0},{"$f":"'Initial unit rates'!AN225","v":0},{"$f":"'Initial unit rates'!AO225","v":-4.4442542448903328E-3},{"$f":"'Initial unit rates'!AP225","v":-4.4442542448903328E-3}]
[null,null,null,null,null,"EHV","p/kWh",null,null,{"$f":"'Initial unit rates'!J226","v":0},{"$f":"'Initial unit rates'!K226","v":0},{"$f":"'Initial unit rates'!L226","v":0},{"$f":"'Initial unit rates'!M226","v":0},{"$f":"'Initial unit rates'!N226","v":0},{"$f":"'Initial unit rates'!O226","v":0},{"$f":"'Initial unit rates'!P226","v":0},{"$f":"'Initial unit rates'!Q226","v":0},{"$f":"'Initial unit rates'!R226","v":0},{"$f":"'Initial unit rates'!S226","v":5.6618244277660563E-3},{"$f":"'Initial unit rates'!T226","v":4.8578014854428484E-3},{"$f":"'Initial unit rates'!U226","v":4.3546770772637852E-3},{"$f":"'Initial unit rates'!V226","v":4.1096206886678177E-3},{"$f":"'Initial unit rates'!W226","v":3.9007718832616512E-3},{"$f":"'Initial unit rates'!X226","v":0},{"$f":"'Initial unit rates'!Y226","v":0},{"$f":"'Initial unit rates'!Z226","v":0},{"$f":"'Initial unit rates'!AA226","v":0},{"$f":"'Initial unit rates'!AB226","v":4.1474819515006462E-3},{"$f":"'Initial unit rates'!AC226","v":0},{"$f":"'Initial unit rates'!AD226","v":0},{"$f":"'Initial unit rates'!AE226","v":0},{"$f":"'Initial unit rates'!AF226","v":0},{"$f":"'Initial unit rates'!AG226","v":-3.9232730936015741E-3},{"$f":"'Initial unit rates'!AH226","v":-3.9232730936015741E-3},{"$f":"'Initial unit rates'!AI226","v":0},{"$f":"'Initial unit rates'!AJ226","v":0},{"$f":"'Initial unit rates'!AK226","v":-3.8577030697530793E-3},{"$f":"'Initial unit rates'!AL226","v":-3.8577030697530793E-3},{"$f":"'Initial unit rates'!AM226","v":0},{"$f":"'Initial unit rates'!AN226","v":0},{"$f":"'Initial unit rates'!AO226","v":-3.7921330459045849E-3},{"$f":"'Initial unit rates'!AP226","v":-3.7921330459045849E-3}]
[null,null,null,null,null,"EHV/HV","p/kWh",null,null,{"$f":"'Initial unit rates'!J227","v":0},{"$f":"'Initial unit rates'!K227","v":0},{"$f":"'Initial unit rates'!L227","v":0},{"$f":"'Initial unit rates'!M227","v":0},{"$f":"'Initial unit rates'!N227","v":0},{"$f":"'Initial unit rates'!O227","v":0},{"$f":"'Initial unit rates'!P227","v":0},{"$f":"'Initial unit rates'!Q227","v":0},{"$f":"'Initial unit rates'!R227","v":0},{"$f":"'Initial unit rates'!S227","v":4.3499175893529978E-3},{"$f":"'Initial unit rates'!T227","v":3.7321955840743876E-3},{"$f":"'Initial unit rates'!U227","v":3.3456506212814581E-3},{"$f":"'Initial unit rates'!V227","v":3.1573764865503819E-3},{"$f":"'Initial unit rates'!W227","v":2.9969202407338566E-3},{"$f":"'Initial unit rates'!X227","v":0},{"$f":"'Initial unit rates'!Y227","v":0},{"$f":"'Initial unit rates'!Z227","v":0},{"$f":"'Initial unit rates'!AA227","v":0},{"$f":"'Initial unit rates'!AB227","v":3.1864648793913843E-3},{"$f":"'Initial unit rates'!AC227","v":0},{"$f":"'Initial unit rates'!AD227","v":0},{"$f":"'Initial unit rates'!AE227","v":0},{"$f":"'Initial unit rates'!AF227","v":0},{"$f":"'Initial unit rates'!AG227","v":-3.0142076737668124E-3},{"$f":"'Initial unit rates'!AH227","v":-3.0142076737668124E-3},{"$f":"'Initial unit rates'!AI227","v":0},{"$f":"'Initial unit rates'!AJ227","v":0},{"$f":"'Initial unit rates'!AK227","v":-2.9638309438431328E-3},{"$f":"'Initial unit rates'!AL227","v":-2.9638309438431328E-3},{"$f":"'Initial unit rates'!AM227","v":0},{"$f":"'Initial unit rates'!AN227","v":0},{"$f":"'Initial unit rates'!AO227","v":-2.9134542139194535E-3},{"$f":"'Initial unit rates'!AP227","v":-2.9134542139194535E-3}]
[null,null,null,null,null,"132kV/HV","p/kWh",null,null,{"$f":"'Initial unit rates'!J228","v":0},{"$f":"'Initial unit rates'!K228","v":0},{"$f":"'Initial unit rates'!L228","v":0},{"$f":"'Initial unit rates'!M228","v":0},{"$f":"'Initial unit rates'!N228","v":0},{"$f":"'Initial unit rates'!O228","v":0},{"$f":"'Initial unit rates'!P228","v":0},{"$f":"'Initial unit rates'!Q228","v":0},{"$f":"'Initial unit rates'!R228","v":0},{"$f":"'Initial unit rates'!S228","v":5.9564499743671919E-3},{"$f":"'Initial unit rates'!T228","v":5.1135307243994959E-3},{"$f":"'Initial unit rates'!U228","v":4.5825113513365857E-3},{"$f":"'Initial unit rates'!V228","v":4.3246337492701238E-3},{"$f":"'Initial unit rates'!W228","v":4.1048580909363039E-3},{"$f":"'Initial unit rates'!X228","v":0},{"$f":"'Initial unit rates'!Y228","v":0},{"$f":"'Initial unit rates'!Z228","v":0},{"$f":"'Initial unit rates'!AA228","v":0},{"$f":"'Initial unit rates'!AB228","v":4.3644758922416977E-3},{"$f":"'Initial unit rates'!AC228","v":0},{"$f":"'Initial unit rates'!AD228","v":0},{"$f":"'Initial unit rates'!AE228","v":0},{"$f":"'Initial unit rates'!AF228","v":0},{"$f":"'Initial unit rates'!AG228","v":-4.1285365520419203E-3},{"$f":"'Initial unit rates'!AH228","v":-4.1285365520419203E-3},{"$f":"'Initial unit rates'!AI228","v":0},{"$f":"'Initial unit rates'!AJ228","v":0},{"$f":"'Initial unit rates'!AK228","v":-4.0595359411442836E-3},{"$f":"'Initial unit rates'!AL228","v":-4.0595359411442836E-3},{"$f":"'Initial unit rates'!AM228","v":0},{"$f":"'Initial unit rates'!AN228","v":0},{"$f":"'Initial unit rates'!AO228","v":-3.9905353302466468E-3},{"$f":"'Initial unit rates'!AP228","v":-3.9905353302466468E-3}]
[null,null,null,null,null,"HV","p/kWh",null,null,{"$f":"'Initial unit rates'!J229","v":0},{"$f":"'Initial unit rates'!K229","v":0},{"$f":"'Initial unit rates'!L229","v":0},{"$f":"'Initial unit rates'!M229","v":0},{"$f":"'Initial unit rates'!N229","v":0},{"$f":"'Initial unit rates'!O229","v":0},{"$f":"'Initial unit rates'!P229","v":0},{"$f":"'Initial unit rates'!Q229","v":0},{"$f":"'Initial unit rates'!R229","v":0},{"$f":"'Initial unit rates'!S229","v":2.5361980626534813E-2},{"$f":"'Initial unit rates'!T229","v":2.1760382847117895E-2},{"$f":"'Initial unit rates'!U229","v":1.9506651447324396E-2},{"$f":"'Initial unit rates'!V229","v":1.8408928361899838E-2},{"$f":"'Initial unit rates'!W229","v":1.7473396110032385E-2},{"$f":"'Initial unit rates'!X229","v":0},{"$f":"'Initial unit rates'!Y229","v":0},{"$f":"'Initial unit rates'!Z229","v":0},{"$f":"'Initial unit rates'!AA229","v":0},{"$f":"'Initial unit rates'!AB229","v":1.8578526806131566E-2},{"$f":"'Initial unit rates'!AC229","v":0},{"$f":"'Initial unit rates'!AD229","v":0},{"$f":"'Initial unit rates'!AE229","v":0},{"$f":"'Initial unit rates'!AF229","v":0},{"$f":"'Initial unit rates'!AG229","v":-1.7574189638336801E-2},{"$f":"'Initial unit rates'!AH229","v":-1.7574189638336801E-2},{"$f":"'Initial unit rates'!AI229","v":0},{"$f":"'Initial unit rates'!AJ229","v":0},{"$f":"'Initial unit rates'!AK229","v":-1.7280470591456525E-2},{"$f":"'Initial unit rates'!AL229","v":-1.7280470591456525E-2},{"$f":"'Initial unit rates'!AM229","v":0},{"$f":"'Initial unit rates'!AN229","v":0},{"$f":"'Initial unit rates'!AO229","v":0},{"$f":"'Initial unit rates'!AP229","v":0}]
[null,null,null,null,null,"HV/LV","p/kWh",null,null,{"$f":"'Initial unit rates'!J230","v":0},{"$f":"'Initial unit rates'!K230","v":0},{"$f":"'Initial unit rates'!L230","v":0},{"$f":"'Initial unit rates'!M230","v":0},{"$f":"'Initial unit rates'!N230","v":0},{"$f":"'Initial unit rates'!O230","v":0},{"$f":"'Initial unit rates'!P230","v":0},{"$f":"'Initial unit rates'!Q230","v":0},{"$f":"'Initial unit rates'!R230","v":0},{"$f":"'Initial unit rates'!S230","v":9.4192028249672783E-3},{"$f":"'Initial unit rates'!T230","v":8.0816030342479861E-3},{"$f":"'Initial unit rates'!U230","v":7.2445882332256104E-3},{"$f":"'Initial unit rates'!V230","v":6.8369041276536259E-3},{"$f":"'Initial unit rates'!W230","v":0},{"$f":"'Initial unit rates'!X230","v":0},{"$f":"'Initial unit rates'!Y230","v":0},{"$f":"'Initial unit rates'!Z230","v":0},{"$f":"'Initial unit rates'!AA230","v":0},{"$f":"'Initial unit rates'!AB230","v":6.8998914064683659E-3},{"$f":"'Initial unit rates'!AC230","v":0},{"$f":"'Initial unit rates'!AD230","v":0},{"$f":"'Initial unit rates'!AE230","v":0},{"$f":"'Initial unit rates'!AF230","v":0},{"$f":"'Initial unit rates'!AG230","v":-6.5268899588521436E-3},{"$f":"'Initial unit rates'!AH230","v":-6.5268899588521436E-3},{"$f":"'Initial unit rates'!AI230","v":0},{"$f":"'Initial unit rates'!AJ230","v":0},{"$f":"'Initial unit rates'!AK230","v":0},{"$f":"'Initial unit rates'!AL230","v":0},{"$f":"'Initial unit rates'!AM230","v":0},{"$f":"'Initial unit rates'!AN230","v":0},{"$f":"'Initial unit rates'!AO230","v":0},{"$f":"'Initial unit rates'!AP230","v":0}]
[null,null,null,null,null,"LV circuits","p/kWh",null,null,{"$f":"'Initial unit rates'!J231","v":0},{"$f":"'Initial unit rates'!K231","v":0},{"$f":"'Initial unit rates'!L231","v":0},{"$f":"'Initial unit rates'!M231","v":0},{"$f":"'Initial unit rates'!N231","v":0},{"$f":"'Initial unit rates'!O231","v":0},{"$f":"'Initial unit rates'!P231","v":0},{"$f":"'Initial unit rates'!Q231","v":0},{"$f":"'Initial unit rates'!R231","v":0},{"$f":"'Initial unit rates'!S231","v":2.1475858070586627E-2},{"$f":"'Initial unit rates'!T231","v":1.8426119807748689E-2},{"$f":"'Initial unit rates'!U231","v":1.6517719340769756E-2},{"$f":"'Initial unit rates'!V231","v":0},{"$f":"'Initial unit rates'!W231","v":0},{"$f":"'Initial unit rates'!X231","v":0},{"$f":"'Initial unit rates'!Y231","v":0},{"$f":"'Initial unit rates'!Z231","v":0},{"$f":"'Initial unit rates'!AA231","v":0},{"$f":"'Initial unit rates'!AB231","v":1.5731807808086962E-2},{"$f":"'Initial unit rates'!AC231","v":0},{"$f":"'Initial unit rates'!AD231","v":0},{"$f":"'Initial unit rates'!AE231","v":0},{"$f":"'Initial unit rates'!AF231","v":0},{"$f":"'Initial unit rates'!AG231","v":0},{"$f":"'Initial unit rates'!AH231","v":0},{"$f":"'Initial unit rates'!AI231","v":0},{"$f":"'Initial unit rates'!AJ231","v":0},{"$f":"'Initial unit rates'!AK231","v":0},{"$f":"'Initial unit rates'!AL231","v":0},{"$f":"'Initial unit rates'!AM231","v":0},{"$f":"'Initial unit rates'!AN231","v":0},{"$f":"'Initial unit rates'!AO231","v":0},{"$f":"'Initial unit rates'!AP231","v":0}]
[null,null,null,null,null,"LV customers","p/kWh",null,">",null,null,null,null,null,null,null,null,null,null,null,null,null,null,null,null,null,null,{"$f":"'Service model charges'!$AB$44","v":1.0594360163150118},null,null,null,null,null,null,null,null,null,null,null,null,null,null,null,"Paragraph 86"]
[null,null,null,null,null,"HV customers","p/kWh"]
[]
[null,null,{"$f":"INDEX('Version control'!$H$34:$H$59,MATCH($A$1,'Version control'!$F$34:$F$59,0),1)&\"-D: Standing charge factors\"","v":"Section 514-D: Standing charge factors"}]
[]
[null,null,null,null,"Standing charge factors",null,null,null,">",null,null,null,null,null,null,null,null,null,null,null,null,null,null,null,null,null,null,null,null,null,null,null,null,null,null,null,null,null,null,null,null,null,null,"Paragraph 74"]
[null,null,null,null,null,"GSPs","%",null,null,{"$f":"'Standing charge factors'!J44","v":0},{"$f":"'Standing charge factors'!K44","v":0},{"$f":"'Standing charge factors'!L44","v":0},{"$f":"'Standing charge factors'!M44","v":0},{"$f":"'Standing charge factors'!N44","v":0},{"$f":"'Standing charge factors'!O44","v":0},{"$f":"'Standing charge factors'!P44","v":0},{"$f":"'Standing charge factors'!Q44","v":0},{"$f":"'Standing charge factors'!R44","v":0},{"$f":"'Standing charge factors'!S44","v":0},{"$f":"'Standing charge factors'!T44","v":0},{"$f":"'Standing charge factors'!U44","v":0},{"$f":"'Standing charge factors'!V44","v":0},{"$f":"'Standing charge factors'!W44","v":0},{"$f":"'Standing charge factors'!X44","v":0},{"$f":"'Standing charge factors'!Y44","v":0},{"$f":"'Standing charge factors'!Z44","v":0},{"$f":"'Standing charge factors'!AA44","v":0},{"$f":"'Standing charge factors'!AB44","v":0},{"$f":"'Standing charge factors'!AC44","v":0},{"$f":"'Standing charge factors'!AD44","v":0},{"$f":"'Standing charge factors'!AE44","v":0},{"$f":"'Standing charge factors'!AF44","v":0},{"$f":"'Standing charge factors'!AG44","v":0},{"$f":"'Standing charge factors'!AH44","v":0},{"$f":"'Standing charge factors'!AI44","v":0},{"$f":"'Standing charge factors'!AJ44","v":0},{"$f":"'Standing charge factors'!AK44","v":0},{"$f":"'Standing charge factors'!AL44","v":0},{"$f":"'Standing charge factors'!AM44","v":0},{"$f":"'Standing charge factors'!AN44","v":0},{"$f":"'Standing charge factors'!AO44","v":0},{"$f":"'Standing charge factors'!AP44","v":0}]
[null,null,null,null,null,"132kV","%",null,null,{"$f":"'Standing charge factors'!J45","v":0},{"$f":"'Standing charge factors'!K45","v":0},{"$f":"'Standing charge factors'!L45","v":0},{"$f":"'Standing charge factors'!M45","v":0},{"$f":"'Standing charge factors'!N45","v":0},{"$f":"'Standing charge factors'!O45","v":0},{"$f":"'Standing charge factors'!P45","v":0},{"$f":"'Standing charge factors'!Q45","v":0},{"$f":"'Standing charge factors'!R45","v":0.06},{"$f":"'Standing charge factors'!S45","v":0},{"$f":"'Standing charge factors'!T45","v":0},{"$f":"'Standing charge factors'!U45","v":0},{"$f":"'Standing charge factors'!V45","v":0},{"$f":"'Standing charge factors'!W45","v":0.06},{"$f":"'Standing charge factors'!X45","v":0},{"$f":"'Standing charge factors'!Y45","v":0},{"$f":"'Standing charge factors'!Z45","v":0},{"$f":"'Standing charge factors'!AA45","v":0},{"$f":"'Standing charge factors'!AB45","v":0},{"$f":"'Standing charge factors'!AC45","v":0},{"$f":"'Standing charge factors'!AD45","v":0},{"$f":"'Standing charge factors'!AE45","v":0},{"$f":"'Standing charge factors'!AF45","v":0},{"$f":"'Standing charge factors'!AG45","v":0},{"$f":"'Standing charge factors'!AH45","v":0},{"$f":"'Standing charge factors'!AI45","v":0},{"$f":"'Standing charge factors'!AJ45","v":0},{"$f":"'Standing charge factors'!AK45","v":0},{"$f":"'Standing charge factors'!AL45","v":0},{"$f":"'Standing charge factors'!AM45","v":0},{"$f":"'Standing charge factors'!AN45","v":0},{"$f":"'Standing charge factors'!AO45","v":0},{"$f":"'Standing charge factors'!AP45","v":0}]
[null,null,null,null,null,"132kV/EHV","%",null,null,{"$f":"'Standing charge factors'!J46","v":0},{"$f":"'Standing charge factors'!K46","v":0},{"$f":"'Standing charge factors'!L46","v":0},{"$f":"'Standing charge factors'!M46","v":0},{"$f":"'Standing charge factors'!N46","v":0},{"$f":"'Standing charge factors'!O46","v":0},{"$f":"'Standing charge factors'!P46","v":0},{"$f":"'Standing charge factors'!Q46","v":0},{"$f":"'Standing charge factors'!R46","v":0},{"$f":"'Standing charge factors'!S46","v":0},{"$f":"'Standing charge factors'!T46","v":0},{"$f":"'Standing charge factors'!U46","v":0},{"$f":"'Standing charge factors'!V46","v":0},{"$f":"'Standing charge factors'!W46","v":0},{"$f":"'Standing charge factors'!X46","v":0},{"$f":"'Standing charge factors'!Y46","v":0},{"$f":"'Standing charge factors'!Z46","v":0},{"$f":"'Standing charge factors'!AA46","v":0},{"$f":"'Standing charge factors'!AB46","v":0},{"$f":"'Standing charge factors'!AC46","v":0},{"$f":"'Standing charge factors'!AD46","v":0},{"$f":"'Standing charge factors'!AE46","v":0},{"$f":"'Standing charge factors'!AF46","v":0},{"$f":"'Standing charge factors'!AG46","v":0},{"$f":"'Standing charge factors'!AH46","v":0},{"$f":"'Standing charge factors'!AI46","v":0},{"$f":"'Standing charge factors'!AJ46","v":0},{"$f":"'Standing charge factors'!AK46","v":0},{"$f":"'Standing charge factors'!AL46","v":0},{"$f":"'Standing charge factors'!AM46","v":0},{"$f":"'Standing charge factors'!AN46","v":0},{"$f":"'Standing charge factors'!AO46","v":0},{"$f":"'Standing charge factors'!AP46","v":0}]
[null,null,null,null,null,"EHV","%",null,null,{"$f":"'Standing charge factors'!J47","v":0},{"$f":"'Standing charge factors'!K47","v":0},{"$f":"'Standing charge factors'!L47","v":0},{"$f":"'Standing charge factors'!M47","v":0},{"$f":"'Standing charge factors'!N47","v":0},{"$f":"'Standing charge factors'!O47","v":0},{"$f":"'Standing charge factors'!P47","v":0},{"$f":"'Standing charge factors'!Q47","v":0},{"$f":"'Standing charge factors'!R47","v":0.2},{"$f":"'Standing charge factors'!S47","v":0},{"$f":"'Standing charge factors'!T47","v":0},{"$f":"'Standing charge factors'!U47","v":0},{"$f":"'Standing charge factors'!V47","v":0},{"$f":"'Standing charge factors'!W47","v":0.2},{"$f":"'Standing charge factors'!X47","v":0},{"$f":"'Standing charge factors'!Y47","v":0},{"$f":"'Standing charge factors'!Z47","v":0},{"$f":"'Standing charge factors'!AA47","v":0},{"$f":"'Standing charge factors'!AB47","v":0},{"$f":"'Standing charge factors'!AC47","v":0},{"$f":"'Standing charge factors'!AD47","v":0},{"$f":"'Standing charge factors'!AE47","v":0},{"$f":"'Standing charge factors'!AF47","v":0},{"$f":"'Standing charge factors'!AG47","v":0},{"$f":"'Standing charge factors'!AH47","v":0},{"$f":"'Standing charge factors'!AI47","v":0},{"$f":"'Standing charge factors'!AJ47","v":0},{"$f":"'Standing charge factors'!AK47","v":0},{"$f":"'Standing charge factors'!AL47","v":0},{"$f":"'Standing charge factors'!AM47","v":0},{"$f":"'Standing charge factors'!AN47","v":0},{"$f":"'Standing charge factors'!AO47","v":0},{"$f":"'Standing charge factors'!AP47","v":0}]
[null,null,null,null,null,"EHV/HV","%",null,null,{"$f":"'Standing charge factors'!J48","v":0},{"$f":"'Standing charge factors'!K48","v":0},{"$f":"'Standing charge factors'!L48","v":0},{"$f":"'Standing charge factors'!M48","v":0},{"$f":"'Standing charge factors'!N48","v":0},{"$f":"'Standing charge factors'!O48","v":0},{"$f":"'Standing charge factors'!P48","v":0},{"$f":"'Standing charge factors'!Q48","v":0},{"$f":"'Standing charge factors'!R48","v":1},{"$f":"'Standing charge factors'!S48","v":0},{"$f":"'Standing charge factors'!T48","v":0},{"$f":"'Standing charge factors'!U48","v":0},{"$f":"'Standing charge factors'!V48","v":0},{"$f":"'Standing charge factors'!W48","v":1},{"$f":"'Standing charge factors'!X48","v":0},{"$f":"'Standing charge factors'!Y48","v":0},{"$f":"'Standing charge factors'!Z48","v":0},{"$f":"'Standing charge factors'!AA48","v":0},{"$f":"'Standing charge factors'!AB48","v":0},{"$f":"'Standing charge factors'!AC48","v":0},{"$f":"'Standing charge factors'!AD48","v":0},{"$f":"'Standing charge factors'!AE48","v":0},{"$f":"'Standing charge factors'!AF48","v":0},{"$f":"'Standing charge factors'!AG48","v":0},{"$f":"'Standing charge factors'!AH48","v":0},{"$f":"'Standing charge factors'!AI48","v":0},{"$f":"'Standing charge factors'!AJ48","v":0},{"$f":"'Standing charge factors'!AK48","v":0},{"$f":"'Standing charge factors'!AL48","v":0},{"$f":"'Standing charge factors'!AM48","v":0},{"$f":"'Standing charge factors'!AN48","v":0},{"$f":"'Standing charge factors'!AO48","v":0},{"$f":"'Standing charge factors'!AP48","v":0}]
[null,null,null,null,null,"132kV/HV","%",null,null,{"$f":"'Standing charge factors'!J49","v":0},{"$f":"'Standing charge factors'!K49","v":0},{"$f":"'Standing charge factors'!L49","v":0},{"$f":"'Standing charge factors'!M49","v":0},{"$f":"'Standing charge factors'!N49","v":0},{"$f":"'Standing charge factors'!O49","v":0},{"$f":"'Standing charge factors'!P49","v":0},{"$f":"'Standing charge factors'!Q49","v":0},{"$f":"'Standing charge factors'!R49","v":1},{"$f":"'Standing charge factors'!S49","v":0},{"$f":"'Standing charge factors'!T49","v":0},{"$f":"'Standing charge factors'!U49","v":0},{"$f":"'Standing charge factors'!V49","v":0},{"$f":"'Standing charge factors'!W49","v":1},{"$f":"'Standing charge factors'!X49","v":0},{"$f":"'Standing charge factors'!Y49","v":0},{"$f":"'Standing charge factors'!Z49","v":0},{"$f":"'Standing charge factors'!AA49","v":0},{"$f":"'Standing charge factors'!AB49","v":0},{"$f":"'Standing charge factors'!AC49","v":0},{"$f":"'Standing charge factors'!AD49","v":0},{"$f":"'Standing charge factors'!AE49","v":0},{"$f":"'Standing charge factors'!AF49","v":0},{"$f":"'Standing charge factors'!AG49","v":0},{"$f":"'Standing charge factors'!AH49","v":0},{"$f":"'Standing charge factors'!AI49","v":0},{"$f":"'Standing charge factors'!AJ49","v":0},{"$f":"'Standing charge factors'!AK49","v":0},{"$f":"'Standing charge factors'!AL49","v":0},{"$f":"'Standing charge factors'!AM49","v":0},{"$f":"'Standing charge factors'!AN49","v":0},{"$f":"'Standing charge factors'!AO49","v":0},{"$f":"'Standing charge factors'!AP49","v":0}]
[null,null,null,null,null,"HV","%",null,null,{"$f":"'Standing charge factors'!J50","v":0},{"$f":"'Standing charge factors'!K50","v":0},{"$f":"'Standing charge factors'!L50","v":0},{"$f":"'Standing charge factors'!M50","v":0},{"$f":"'Standing charge factors'!N50","v":0},{"$f":"'Standing charge factors'!O50","v":0},{"$f":"'Standing charge factors'!P50","v":0},{"$f":"'Standing charge factors'!Q50","v":0},{"$f":"'Standing charge factors'!R50","v":1},{"$f":"'Standing charge factors'!S50","v":0},{"$f":"'Standing charge factors'!T50","v":0},{"$f":"'Standing charge factors'!U50","v":0.2},{"$f":"'Standing charge factors'!V50","v":1},{"$f":"'Standing charge factors'!W50","v":1},{"$f":"'Standing charge factors'!X50","v":0},{"$f":"'Standing charge factors'!Y50","v":0},{"$f":"'Standing charge factors'!Z50","v":0},{"$f":"'Standing charge factors'!AA50","v":0},{"$f":"'Standing charge factors'!AB50","v":0},{"$f":"'Standing charge factors'!AC50","v":0},{"$f":"'Standing charge factors'!AD50","v":0},{"$f":"'Standing charge factors'!AE50","v":0},{"$f":"'Standing charge factors'!AF50","v":0},{"$f":"'Standing charge factors'!AG50","v":0},{"$f":"'Standing charge factors'!AH50","v":0},{"$f":"'Standing charge factors'!AI50","v":0},{"$f":"'Standing charge factors'!AJ50","v":0},{"$f":"'Standing charge factors'!AK50","v":0},{"$f":"'Standing charge factors'!AL50","v":0},{"$f":"'Standing charge factors'!AM50","v":0},{"$f":"'Standing charge factors'!AN50","v":0},{"$f":"'Standing charge factors'!AO50","v":0},{"$f":"'Standing charge factors'!AP50","v":0}]
[null,null,null,null,null,"HV/LV","%",null,null,{"$f":"'Standing charge factors'!J51","v":0},{"$f":"'Standing charge factors'!K51","v":0},{"$f":"'Standing charge factors'!L51","v":0},{"$f":"'Standing charge factors'!M51","v":0},{"$f":"'Standing charge factors'!N51","v":0},{"$f":"'Standing charge factors'!O51","v":0},{"$f":"'Standing charge factors'!P51","v":0},{"$f":"'Standing charge factors'!Q51","v":1},{"$f":"'Standing charge factors'!R51","v":0},{"$f":"'Standing charge factors'!S51","v":0},{"$f":"'Standing charge factors'!T51","v":0},{"$f":"'Standing charge factors'!U51","v":1},{"$f":"'Standing charge factors'!V51","v":1},{"$f":"'Standing charge factors'!W51","v":0},{"$f":"'Standing charge factors'!X51","v":0},{"$f":"'Standing charge factors'!Y51","v":0},{"$f":"'Standing charge factors'!Z51","v":0},{"$f":"'Standing charge factors'!AA51","v":0},{"$f":"'Standing charge factors'!AB51","v":0},{"$f":"'Standing charge factors'!AC51","v":0},{"$f":"'Standing charge factors'!AD51","v":0},{"$f":"'Standing charge factors'!AE51","v":0},{"$f":"'Standing charge factors'!AF51","v":0},{"$f":"'Standing charge factors'!AG51","v":0},{"$f":"'Standing charge factors'!AH51","v":0},{"$f":"'Standing charge factors'!AI51","v":0},{"$f":"'Standing charge factors'!AJ51","v":0},{"$f":"'Standing charge factors'!AK51","v":0},{"$f":"'Standing charge factors'!AL51","v":0},{"$f":"'Standing charge factors'!AM51","v":0},{"$f":"'Standing charge factors'!AN51","v":0},{"$f":"'Standing charge factors'!AO51","v":0},{"$f":"'Standing charge factors'!AP51","v":0}]
[null,null,null,null,null,"LV circuits","%",null,null,{"$f":"'Standing charge factors'!J52","v":1},{"$f":"'Standing charge factors'!K52","v":1},{"$f":"'Standing charge factors'!L52","v":1},{"$f":"'Standing charge factors'!M52","v":1},{"$f":"'Standing charge factors'!N52","v":1},{"$f":"'Standing charge factors'!O52","v":1},{"$f":"'Standing charge factors'!P52","v":1},{"$f":"'Standing charge factors'!Q52","v":0},{"$f":"'Standing charge factors'!R52","v":0},{"$f":"'Standing charge factors'!S52","v":1},{"$f":"'Standing charge factors'!T52","v":1},{"$f":"'Standing charge factors'!U52","v":1},{"$f":"'Standing charge factors'!V52","v":0},{"$f":"'Standing charge factors'!W52","v":0},{"$f":"'Standing charge factors'!X52","v":0},{"$f":"'Standing charge factors'!Y52","v":0},{"$f":"'Standing charge factors'!Z52","v":0},{"$f":"'Standing charge factors'!AA52","v":0},{"$f":"'Standing charge factors'!AB52","v":0},{"$f":"'Standing charge factors'!AC52","v":0},{"$f":"'Standing charge factors'!AD52","v":0},{"$f":"'Standing charge factors'!AE52","v":0},{"$f":"'Standing charge factors'!AF52","v":0},{"$f":"'Standing charge factors'!AG52","v":0},{"$f":"'Standing charge factors'!AH52","v":0},{"$f":"'Standing charge factors'!AI52","v":0},{"$f":"'Standing charge factors'!AJ52","v":0},{"$f":"'Standing charge factors'!AK52","v":0},{"$f":"'Standing charge factors'!AL52","v":0},{"$f":"'Standing charge factors'!AM52","v":0},{"$f":"'Standing charge factors'!AN52","v":0},{"$f":"'Standing charge factors'!AO52","v":0},{"$f":"'Standing charge factors'!AP52","v":0}]
[]
[null,"Application of standing charges to unit rates"]
[]
[null,null,{"$f":"INDEX('Version control'!$H$34:$H$59,MATCH($A$1,'Version control'!$F$34:$F$59,0),1)&\"-E: Contributions to unit rate 1 p/kWh by network level (taking account of standing charges)\"","v":"Section 514-E: Contributions to unit rate 1 p/kWh by network level (taking account of standing charges)"}]
[null,null,null,null,null,null,null,null,">",null,null,null,null,null,null,null,null,null,null,null,null,null,null,null,null,null,null,null,null,null,null,null,null,null,null,null,null,null,null,null,null,null,null,"Paragraph 77"]
[null,null,null,null,"Asset costs"]
[null,null,null,null,null,"Transmission exit","p/kWh",null,null,{"$f":"J22 * (1 - J$112)","v":0},0,0,0,0,0,0,0,0,0,0,0,0,0,0,0,0,0,0,0,0,0,0,0,0,0,0,0,0,0,0,0,0]
[null,null,null,null,null,"GSPs","p/kWh",null,null,{"$f":"J23 * (1 - J$112)","v":0},0,0,0,0,0,0,0,0,0,0,0,0,0,0,0,0,0,0,0,0,0,0,0,0,0,0,0,0,0,0,0,0]
[null,null,null,null,null,"132kV","p/kWh",null,null,{"$f":"J24 * (1 - J$113)","v":0.38225511189549799},0.41411722117164834,7.794794374838479E-2,0.25621566610287899,0.33995294161781564,7.7927409678838822E-2,0.30193357479810817,0.30113895766468118,0.28060427460510801,2.2439952215700316,1.9264391643149958,1.7263862903981155,1.6292351165819441,1.4536519339654126,0.21559103268303156,0.28338777103677582,0.43115468767172521,0.15118877988688048,4.6409441736416452,-0.20404039889000805,-0.20063025294755665,-0.20404039889000805,-0.20404039889000805,-1.5553587010261978,-1.5553587010261978,-0.20063025294755665,-0.20063025294755665,-1.5293638480842555,-1.5293638480842555,-0.19722010700510526,-0.19722010700510526,-1.5033689951423137,-1.5033689951423137]
[null,null,null,null,null,"132kV/EHV","p/kWh",null,null,{"$f":"J25 * (1 - J$114)","v":3.5566495195822632E-2},3.8531069170725497E-2,7.2525783974580031E-3,2.3839297301624564E-2,3.1630537535260655E-2,7.2506678281467488E-3,2.8093068485766256E-2,2.8019134231968036E-2,1.777600533585285E-2,0.20879000118967264,0.17924335646657136,0.16062966273781254,0.15159034148539718,9.2087423012377753E-2,2.0059424163514476E-2,2.6367495119044553E-2,4.0116301000377615E-2,1.4067189283211127E-2,0.43181140949929731,-1.8984708486669357E-2,-1.8667415308619175E-2,-1.8984708486669357E-2,-1.8984708486669357E-2,-0.14471659383054208,-0.14471659383054208,-1.8667415308619175E-2,-1.8667415308619175E-2,-0.14229793209521269,-0.14229793209521269,-1.174407816356415E-2,-1.174407816356415E-2,-8.9522733030325291E-2,-8.9522733030325291E-2]
[null,null,null,null,null,"EHV","p/kWh",null,null,{"$f":"J26 * (1 - J$115)","v":0.10660674572850891},0.11886254520780935,1.1200598848131241E-2,7.1158129383277452E-2,9.7982784624867217E-2,1.1357961571308344E-2,8.7382747591330329E-2,8.7208824094936133E-2,4.4473098104428864E-2,0.66590246812120679,0.57133915755766329,0.51216533656536323,0.48334359260688631,0.2348955240106792,5.7111652477626701E-2,6.7141012122803087E-2,0.11098257906585678,4.7245212268798499E-2,1.2189196849395842,-5.4057376407598848E-2,-5.3153910506636197E-2,-5.4057376407598848E-2,-5.4057376407598848E-2,-0.46142674847542242,-0.46142674847542242,-5.3153910506636197E-2,-5.3153910506636197E-2,-0.45371488081288058,-0.45371488081288058,-3.3440284547631059E-2,-3.3440284547631059E-2,-0.28544192841621674,-0.28544192841621674]
[null,null,null,null,null,"EHV/HV","p/kWh",null,null,{"$f":"J27 * (1 - J$116)","v":2.0476198277800287E-2},2.2830197346772965E-2,2.1513243020146416E-3,1.3667502524089431E-2,1.8819774603186779E-2,2.1815493154440429E-3,1.6783801564449849E-2,1.6750395685928753E-2,0,0.12790139008323639,0.10973840158121972,9.8372752219976989E-2,9.2836894803329961E-2,0,1.0969564000038488E-2,1.2895925744697598E-2,2.1316674463747517E-2,9.0744945592497982E-3,0.23412065515158345,-1.0382922301357442E-2,-1.0209391566515812E-2,-1.0382922301357442E-2,-1.0382922301357442E-2,-8.862727708174252E-2,-8.862727708174252E-2,-1.0209391566515812E-2,-1.0209391566515812E-2,-8.7146041253078302E-2,-8.7146041253078302E-2,-3.6129098994027047E-3,-3.6129098994027047E-3,-3.0839329952789058E-2,-3.0839329952789058E-2]
[null,null,null,null,null,"132kV/HV","p/kWh",null,null,{"$f":"J28 * (1 - J$117)","v":7.9838679242505914E-3},8.6493472450827162E-3,1.6280386278369821E-3,5.3513791565683623E-3,7.1003350952677661E-3,1.627609748551655E-3,6.3062538814234311E-3,6.2896573257562767E-3,0,4.6868598781649347E-2,4.023605014914583E-2,3.6057699949199322E-2,3.4028578254559246E-2,0,4.5028837470842686E-3,5.9189019712152921E-3,9.0051956773664534E-3,3.1577635267188795E-3,9.6931824253287571E-2,-4.2616345609384036E-3,-4.1904094707834435E-3,-4.2616345609384036E-3,-4.2616345609384036E-3,-3.248557849822014E-2,-3.248557849822014E-2,-4.1904094707834435E-3,-4.1904094707834435E-3,-3.1942644038639854E-2,-3.1942644038639854E-2,-1.4829063770262539E-3,-1.4829063770262539E-3,-1.1303895448461445E-2,-1.1303895448461445E-2]
[null,null,null,null,null,"HV","p/kWh",null,null,{"$f":"J29 * (1 - J$118)","v":0.11938546727822008},0.1331103431076599,1.2543190565871002E-2,7.9687701458415416E-2,0.10972777048697353,1.2719416020557662E-2,9.7857129790014111E-2,9.7662358457808171E-2,0,0.74572276618242705,0.63982435476524946,0.45884599599562681,0,0,6.3957503547070749E-2,7.5189060983313807E-2,0.1242858223555741,5.290839434995382E-2,1.3650289685394414,-6.0537117967104127E-2,-5.9525355549826617E-2,-6.0537117967104127E-2,-6.0537117967104127E-2,-0.51673698136980484,-0.51673698136980484,-5.9525355549826617E-2,-5.9525355549826617E-2,-0.50810070870067159,-0.50810070870067159,0,0,0,0]
[null,null,null,null,null,"HV/LV","p/kWh",null,null,{"$f":"J30 * (1 - J$119)","v":8.8677295926212658E-3},9.8871877421139662E-3,9.3168477456011256E-4,5.9190536712811085E-3,8.1503739078399862E-3,9.4477447228568442E-4,7.2686448817560452E-3,0,0,5.5390894656854997E-2,4.7524958390531842E-2,0,0,0,4.7506439418862796E-3,5.5849030566618683E-3,9.2317188178134332E-3,3.9299367416452281E-3,0.10139180299804208,-4.4965840875577749E-3,0,-4.4965840875577749E-3,-4.4965840875577749E-3,-3.8382258123730313E-2,-3.8382258123730313E-2,0,0,0,0,0,0,0,0]
[null,null,null,null,null,"LV circuits","p/kWh",null,null,{"$f":"J31 * (1 - J$120)","v":0},0,0,0,0,0,0,0,0,0,0,0,0,0,1.0831506331874361E-2,1.2733623812084373E-2,2.1048393028909412E-2,8.9602873256155631E-3,0.23117412494134248,0,0,0,0,0,0,0,0,0,0,0,0,0,0]
[null,null,null,null,null,"LV customers","p/kWh"]
[null,null,null,null,null,"HV customers","p/kWh"]
[]
[null,null,null,null,"Other operating costs"]
[null,null,null,null,null,"Transmission exit","p/kWh",null,null,{"$f":"J36 * (1 - J$112)","v":0.23223855310718483},0.25947067534147389,1.7557658320127074E-2,0.14266578336347194,0.20333503423674185,1.7759322658001699E-2,0.18091305986331957,0.17940247584869712,0.17701299720578584,1.7111073715216598,1.4684611696091374,1.3160428880058255,1.241983500443899,1.1788665390374296,0.12036601428850072,0.16877623444313655,0.27816515364822697,7.4319807655267717E-2,3.3697120751580432,-0.11393653918951653,-0.11203230733676695,-0.11393653918951653,-0.11393653918951653,-1.1856667121189166,-1.1856667121189166,-0.11203230733676695,-0.11203230733676695,-1.1658505553704108,-1.1658505553704108,-0.11012807548401737,-0.11012807548401737,-1.1460343986219053,-1.1460343986219053]
[null,null,null,null,null,"GSPs","p/kWh",null,null,{"$f":"J37 * (1 - J$112)","v":0},0,0,0,0,0,0,0,0,0,0,0,0,0,0,0,0,0,0,0,0,0,0,0,0,0,0,0,0,0,0,0,0]
[null,null,null,null,null,"132kV","p/kWh",null,null,{"$f":"J38 * (1 - J$113)","v":0.27807453565763091},0.30125288165306752,5.6703854543153631E-2,0.18638613366469878,0.24730148386259718,5.6688916870179566E-2,0.2196439916659263,0.2190659410826192,0.20412782180318761,1.6324122551606828,1.4014035637959406,1.2558735020903977,1.1852001043860103,1.0574707151483616,0.15683341946169324,0.20615269852465914,0.31364692280087175,0.10998348604212138,3.3760919237914502,-0.14843081861060392,-0.14595008069510637,-0.14843081861060392,-0.14843081861060392,-1.1314581155612002,-1.1314581155612002,-0.14595008069510637,-0.14595008069510637,-1.1125479520699266,-1.1125479520699266,-0.14346934277960879,-0.14346934277960879,-1.093637788578653,-1.093637788578653]
[null,null,null,null,null,"132kV/EHV","p/kWh",null,null,{"$f":"J39 * (1 - J$114)","v":2.5873131133564885E-2},2.8029734160810164E-2,5.2759461088516353E-3,1.7342087316194601E-2,2.3009887282091992E-2,5.2745562499392608E-3,2.0436527154967476E-2,2.0382743091251002E-2,2.0205151758401294E-2,0.15188595475643188,0.13039201195243472,0.11685133171187068,0.11027560523574512,0.10467145581085184,1.4592388397813455E-2,1.9181245020701364E-2,2.9182923722499313E-2,1.0233289251619832E-2,0.31412466034204628,-1.3810577890896325E-2,-1.3579760433109756E-2,-1.3810577890896325E-2,-1.3810577890896325E-2,-0.10527524257774591,-0.10527524257774591,-1.3579760433109756E-2,-1.3579760433109756E-2,-0.10351576777143261,-0.10351576777143261,-1.3348942975323188E-2,-1.3348942975323188E-2,-0.1017562929651193,-0.1017562929651193]
[null,null,null,null,null,"EHV","p/kWh",null,null,{"$f":"J40 * (1 - J$115)","v":7.7551929049232915E-2},8.6467508313614855E-2,8.1479651333818386E-3,5.1764549827472299E-2,7.127835963237647E-2,8.2624399038049388E-3,6.3567277989967239E-2,6.3440755952734185E-2,5.055048529682174E-2,0.48441607150226262,0.4156252355999962,0.37257876667528494,0.35161215872502244,0.26699472802432428,4.1546327960416407E-2,4.8842265776516167E-2,8.0735163976725116E-2,3.436890719013843E-2,0.88671286490521528,-3.9324470427284465E-2,-3.8667236938249069E-2,-3.9324470427284465E-2,-3.9324470427284465E-2,-0.33566857532932515,-0.33566857532932515,-3.8667236938249069E-2,-3.8667236938249069E-2,-0.33005851557451743,-0.33005851557451743,-3.8010003449213667E-2,-3.8010003449213667E-2,-0.32444845581970977,-0.32444845581970977]
[null,null,null,null,null,"EHV/HV","p/kWh",null,null,{"$f":"J41 * (1 - J$116)","v":5.9582296230372062E-2},6.6432037962244853E-2,6.2599922168757672E-3,3.9770135699581502E-2,5.4762381677638701E-2,6.3479419270360765E-3,4.8838042253625938E-2,4.874083676055168E-2,0,0.37217155298197441,0.31932030849440363,0.28624817870230757,0.27013976384849331,0,3.1919587947970014E-2,3.7524976924964509E-2,6.2027940700418734E-2,2.6405254316974949E-2,0.68125176556890565,-3.0212559182293409E-2,-2.9707613903480704E-2,-3.0212559182293409E-2,-3.0212559182293409E-2,-0.25789048365002126,-0.25789048365002126,-2.9707613903480704E-2,-2.9707613903480704E-2,-0.25358033629096799,-0.25358033629096799,-2.9202668624668002E-2,-2.9202668624668002E-2,-0.24927018893191472,-0.24927018893191472]
[null,null,null,null,null,"132kV/HV","p/kWh",null,null,{"$f":"J42 * (1 - J$117)","v":2.3231714074707022E-2},2.5168147073209225E-2,4.7373188363505287E-3,1.5571614116150663E-2,2.0660782008534009E-2,4.7360708696977966E-3,1.8350139111236896E-2,1.8301845923080172E-2,0,0.1363797467979336,0.11708014479063035,0.10492184782603427,9.901744466206433E-2,0,1.3102635053137647E-2,1.722301014196706E-2,2.6203606215467582E-2,9.1885612417814989E-3,0.28205532044839071,-1.2400640460232031E-2,-1.219338741632843E-2,-1.2400640460232031E-2,-1.2400640460232031E-2,-9.452757465209953E-2,-9.452757465209953E-2,-1.219338741632843E-2,-1.219338741632843E-2,-9.2947726607774742E-2,-9.2947726607774742E-2,-1.198613437242483E-2,-1.198613437242483E-2,-9.1367878563449939E-2,-9.1367878563449939E-2]
[null,null,null,null,null,"HV","p/kWh",null,null,{"$f":"J43 * (1 - J$118)","v":0.34739164860912169},0.38732873098643728,3.6498576827124804E-2,0.23187782076521407,0.31928937379656397,3.7011363287874029E-2,0.28474780407473926,0.28418105222680173,0,2.1699279406072973,1.8617813582299982,1.3351647452628856,0,0,0.18610558809777364,0.21878753292051947,0.361650858443472,0.15395453699283812,3.9720049231372032,-0.1761528408112516,-0.17320878219045074,-0.1761528408112516,-0.1761528408112516,-1.503617784876788,-1.503617784876788,-0.17320878219045074,-0.17320878219045074,-1.4784876826225801,-1.4784876826225801,0,0,0,0]
[null,null,null,null,null,"HV/LV","p/kWh",null,null,{"$f":"J44 * (1 - J$119)","v":0.12901801504120738},0.14385027458310573,1.3555230682482806E-2,8.6117257818336762E-2,0.11858109253896762,1.3745674786625079E-2,0.10575267602475358,0,0,0.80589097867062942,0.69144821483555463,0,0,0,6.9117877935712807E-2,8.1255647123887276E-2,0.13431375244954658,5.7177277717903541E-2,1.4751655457718722,-6.5421520512455741E-2,0,-6.5421520512455741E-2,-6.5421520512455741E-2,-0.55842960751119952,-0.55842960751119952,0,0,0,0,0,0,0,0]
[null,null,null,null,null,"LV circuits","p/kWh",null,null,{"$f":"J45 * (1 - J$120)","v":0},0,0,0,0,0,0,0,0,0,0,0,0,0,0.15758931666201334,0.18526352786891345,0.30623643403117706,0.13036465229067593,3.3633892889153545,0,0,0,0,0,0,0,0,0,0,0,0,0,0]
[null,null,null,null,null,"LV customers","p/kWh",null,">",null,null,null,null,null,null,null,null,null,null,null,null,null,null,{"$f":"X46","v":1.0594360163150118},{"$f":"Y46","v":1.0594360163150118},{"$f":"Z46","v":1.0594360163150118},{"$f":"AA46","v":1.0594360163150118},{"$f":"AB46","v":1.0594360163150118},null,null,null,null,null,null,null,null,null,null,null,null,null,null,null,"Paragraph 86"]
[null,null,null,null,null,"HV customers","p/kWh"]
[]
[null,null,{"$f":"INDEX('Version control'!$H$34:$H$59,MATCH($A$1,'Version control'!$F$34:$F$59,0),1)&\"-F: Contributions to unit rate 2 p/kWh by network level (taking account of standing charges)\"","v":"Section 514-F: Contributions to unit rate 2 p/kWh by network level (taking account of standing charges)"}]
[null,null,null,null,null,null,null,null,">",null,null,null,null,null,null,null,null,null,null,null,null,null,null,null,null,null,null,null,null,null,null,null,null,null,null,null,null,null,null,null,null,null,null,"Paragraph 77"]
[null,null,null,null,"Asset costs"]
[null,null,null,null,null,"Transmission exit","p/kWh",null,null,{"$f":"J52 * (1 - J$112)","v":0},0,0,0,0,0,0,0,0,0,0,0,0,0,0,0,0,0,0,0,0,0,0,0,0,0,0,0,0,0,0,0,0]
[null,null,null,null,null,"GSPs","p/kWh",null,null,{"$f":"J53 * (1 - J$112)","v":0},0,0,0,0,0,0,0,0,0,0,0,0,0,0,0,0,0,0,0,0,0,0,0,0,0,0,0,0,0,0,0,0]
[null,null,null,null,null,"132kV","p/kWh",null,null,{"$f":"J54 * (1 - J$113)","v":0},9.5910176213810802E-2,0,0,9.3397396525906312E-2,0,7.8467042385201621E-2,7.9101954351480736E-2,7.4130531089622212E-2,0.18319421306695829,0.15726972291907826,0.14093790168492035,0.13300672043074074,0.11867254419986517,0,0,0,0,0.16481360517849697,0,0,0,0,-0.12697563280548568,-0.12697563280548568,0,0,-0.12485347738255276,-0.12485347738255276,0,0,-0.12273132195961985,-0.12273132195961985]
[null,null,null,null,null,"132kV/EHV","p/kWh",null,null,{"$f":"J55 * (1 - J$114)","v":0},8.9238540319941211E-3,0,0,8.6900552836795472E-3,0,7.3008773438892312E-3,7.3599520107693189E-3,4.6960963729194109E-3,1.7045098668895572E-2,1.4632983760277166E-2,1.3113407897489202E-2,1.2375460094580307E-2,7.517789177961566E-3,0,0,0,0,1.5334895765605218E-2,0,0,0,0,-1.1814304357550261E-2,-1.1814304357550261E-2,0,0,-1.1616850802827974E-2,-1.1616850802827974E-2,0,0,-7.3084142387876364E-3,-7.3084142387876364E-3]
[null,null,null,null,null,"EHV","p/kWh",null,null,{"$f":"J56 * (1 - J$115)","v":0},8.9249225096957128E-3,0,0,9.8918466076303359E-3,0,6.5449824899348986E-3,6.3845509511141502E-3,3.2056171877160099E-3,5.7246576350055714E-2,4.9117118903586873E-2,4.4030039603644051E-2,4.1552280104244818E-2,2.0193594697889141E-2,0,0,0,0,5.7888047591513392E-2,0,0,0,0,-3.9668123863670947E-2,-3.9668123863670947E-2,0,0,-3.9005146863163913E-2,-3.9005146863163913E-2,0,0,-2.4538988712100397E-2,-2.4538988712100397E-2]
[null,null,null,null,null,"EHV/HV","p/kWh",null,null,{"$f":"J57 * (1 - J$116)","v":0},1.7142300111845691E-3,0,0,1.8999493051522671E-3,0,1.2571095597452345E-3,1.2262951119684296E-3,0,1.0995479132757209E-2,9.4340358917379772E-3,8.4569490883775883E-3,7.9810402286924122E-3,0,0,0,0,0,1.1118687961990626E-2,0,0,0,0,-7.6191460867720108E-3,-7.6191460867720108E-3,0,0,-7.4918065978566003E-3,-7.4918065978566003E-3,0,0,-2.6512081592188277E-3,-2.6512081592188277E-3]
[null,null,null,null,null,"132kV/HV","p/kWh",null,null,{"$f":"J58 * (1 - J$117)","v":0},2.0032019341366049E-3,0,0,1.9507194413545242E-3,0,1.6388806410031452E-3,1.6521415579263034E-3,0,3.8262363434748941E-3,3.2847714973467039E-3,2.943661333902677E-3,2.7780088634813708E-3,0,0,0,0,0,3.44233475214959E-3,0,0,0,0,-2.6520421843155935E-3,-2.6520421843155935E-3,0,0,-2.6077183595080902E-3,-2.6077183595080902E-3,0,0,-9.2282203249221108E-4,-9.2282203249221108E-4]
[null,null,null,null,null,"HV","p/kWh",null,null,{"$f":"J59 * (1 - J$118)","v":0},9.9947337943830337E-3,0,0,1.1077561006353978E-2,0,7.3295154781156556E-3,7.1498533554479621E-3,0,6.4108600454183429E-2,5.500468241097891E-2,3.944626067657081E-2,0,0,0,0,0,0,6.4826963475056371E-2,0,0,0,0,-4.4423056638227494E-2,-4.4423056638227494E-2,0,0,-4.3680610009176335E-2,-4.3680610009176335E-2,0,0,0,0]
[null,null,null,null,null,"HV/LV","p/kWh",null,null,{"$f":"J60 * (1 - J$119)","v":0},7.4239016405802899E-4,0,0,8.2282054750589862E-4,0,5.4442272402714209E-4,0,0,4.7618671380181346E-3,4.0856451046245319E-3,0,0,0,0,0,0,0,4.8152258018795769E-3,0,0,0,0,-3.2996617002592822E-3,-3.2996617002592822E-3,0,0,0,0,0,0,0,0]
[null,null,null,null,null,"LV circuits","p/kWh",null,null,{"$f":"J61 * (1 - J$120)","v":0},0,0,0,0,0,0,0,0,0,0,0,0,0,0,0,0,0,1.0978753491206592E-2,0,0,0,0,0,0,0,0,0,0,0,0,0,0]
[null,null,null,null,null,"LV customers","p/kWh"]
[null,null,null,null,null,"HV customers","p/kWh"]
[]
[null,null,null,null,"Other operating costs"]
[null,null,null,null,null,"Transmission exit","p/kWh",null,null,{"$f":"J66 * (1 - J$112)","v":0},1.7618508740412969E-2,0,0,1.8139994668853712E-2,0,1.3793340324260222E-2,1.3729854095592018E-2,1.3602723327067938E-2,6.6643986695604437E-2,5.7193434076211205E-2,5.1257066726975331E-2,4.8372611361107501E-2,4.5914340181725528E-2,0,0,0,0,8.5569836421975576E-2,0,0,0,0,-4.6179192435834758E-2,-4.6179192435834758E-2,0,0,-4.5407395347770663E-2,-4.5407395347770663E-2,0,0,-4.4635598259706574E-2,-4.4635598259706574E-2]
[null,null,null,null,null,"GSPs","p/kWh",null,null,{"$f":"J67 * (1 - J$112)","v":0},0,0,0,0,0,0,0,0,0,0,0,0,0,0,0,0,0,0,0,0,0,0,0,0,0,0,0,0,0,0,0,0]
[null,null,null,null,null,"132kV","p/kWh",null,null,{"$f":"J68 * (1 - J$113)","v":0},6.9770624082034938E-2,0,0,6.7942682419046829E-2,0,5.7081476994499183E-2,5.7543348777798736E-2,5.3926847200504495E-2,0.13326609415673715,0.11440711664225624,0.10252640278178744,9.6756801602260439E-2,8.6329290562133204E-2,0,0,0,0,0.11989497407323076,0,0,0,0,-9.2369438716288665E-2,-9.2369438716288665E-2,0,0,-9.0825659796239286E-2,-9.0825659796239286E-2,0,0,-8.9281880876189879E-2,-8.9281880876189879E-2]
[null,null,null,null,null,"132kV/EHV","p/kWh",null,null,{"$f":"J69 * (1 - J$114)","v":0},6.4917289239591414E-3,0,0,6.3216501562677781E-3,0,5.3110815633783705E-3,5.3540559018518362E-3,5.3378325497876649E-3,1.2399593229998245E-2,1.0644880965089979E-2,9.5394533611372918E-3,9.00262733514667E-3,8.5451184536951899E-3,0,0,0,0,1.1155492462176966E-2,0,0,0,0,-8.5944101101827711E-3,-8.5944101101827711E-3,0,0,-8.4507709439958726E-3,-8.4507709439958726E-3,0,0,-8.3071317778089723E-3,-8.3071317778089723E-3]
[null,null,null,null,null,"EHV","p/kWh",null,null,{"$f":"J70 * (1 - J$115)","v":0},6.492506196601115E-3,0,0,7.1959028581030579E-3,0,4.7611998116941527E-3,4.6444926068089113E-3,3.6436747476951657E-3,4.1644479409559322E-2,3.5730640629573818E-2,3.2030004143195394E-2,3.0227538196173381E-2,2.2953112226826541E-2,0,0,0,0,4.2111122790001114E-2,0,0,0,0,-2.8856893683125658E-2,-2.8856893683125658E-2,0,0,-2.8374605766416039E-2,-2.8374605766416039E-2,0,0,-2.7892317849706416E-2,-2.7892317849706416E-2]
[null,null,null,null,null,"EHV/HV","p/kWh",null,null,{"$f":"J71 * (1 - J$116)","v":0},4.9881212785543236E-3,0,0,5.5285332162955166E-3,0,3.6579775779949945E-3,3.5683127129304939E-3,0,3.1994996629481472E-2,2.7451459178284527E-2,2.4608300767197864E-2,2.3223485955790071E-2,0,0,0,0,0,3.2353513618914115E-2,0,0,0,0,-2.2170434814391661E-2,-2.2170434814391661E-2,0,0,-2.1799898299387901E-2,-2.1799898299387901E-2,0,0,-2.1429361784384142E-2,-2.1429361784384142E-2]
[null,null,null,null,null,"132kV/HV","p/kWh",null,null,{"$f":"J72 * (1 - J$117)","v":0},5.82898101638248E-3,0,0,5.6762657813849496E-3,0,4.7688672728051756E-3,4.8074543127274542E-3,0,1.1133704810404278E-2,9.5581330942757087E-3,8.5655598377670783E-3,8.083538984577943E-3,0,0,0,0,0,1.001661568930241E-2,0,0,0,0,-7.7169971152628398E-3,-7.7169971152628398E-3,0,0,-7.5880222331135977E-3,-7.5880222331135977E-3,0,0,-7.4590473509643582E-3,-7.4590473509643582E-3]
[null,null,null,null,null,"HV","p/kWh",null,null,{"$f":"J73 * (1 - J$118)","v":0},2.9082995857012909E-2,0,0,3.2233841088859905E-2,0,2.1327658411847486E-2,2.0804871824760682E-2,0,0.18654525470760722,0.16005438299655669,0.11478199013925582,0,0,0,0,0,0,0.18863557038681222,0,0,0,0,-0.12926363010203329,-0.12926363010203329,0,0,-0.12710323516996591,-0.12710323516996591,0,0,0,0]
[null,null,null,null,null,"HV/LV","p/kWh",null,null,{"$f":"J74 * (1 - J$119)","v":0},1.0801153142128067E-2,0,0,1.197134764491059E-2,0,7.9208932189086013E-3,0,0,6.9281166009872733E-2,5.9442703575455801E-2,0,0,0,0,0,0,0,7.005748973791949E-2,0,0,0,0,-4.8007305413234655E-2,-4.8007305413234655E-2,0,0,0,0,0,0,0,0]
[null,null,null,null,null,"LV circuits","p/kWh",null,null,{"$f":"J75 * (1 - J$120)","v":0},0,0,0,0,0,0,0,0,0,0,0,0,0,0,0,0,0,0.15973163911547522,0,0,0,0,0,0,0,0,0,0,0,0,0,0]
[null,null,null,null,null,"LV customers","p/kWh",null,">",null,null,null,null,null,null,null,null,null,null,null,null,null,null,null,null,null,null,{"$f":"AB76","v":1.0594360163150118},null,null,null,null,null,null,null,null,null,null,null,null,null,null,null,"Paragraph 86"]
[null,null,null,null,null,"HV customers","p/kWh"]
[]
[null,null,{"$f":"INDEX('Version control'!$H$34:$H$59,MATCH($A$1,'Version control'!$F$34:$F$59,0),1)&\"-G: Contributions to unit rate 3 p/kWh by network level (taking account of standing charges)\"","v":"Section 514-G: Contributions to unit rate 3 p/kWh by network level (taking account of standing charges)"}]
[null,null,null,null,null,null,null,null,">",null,null,null,null,null,null,null,null,null,null,null,null,null,null,null,null,null,null,null,null,null,null,null,null,null,null,null,null,null,null,null,null,null,null,"Paragraph 77"]
[null,null,null,null,"Asset costs"]
[null,null,null,null,null,"Transmission exit","p/kWh",null,null,{"$f":"J82 * (1 - J$112)","v":0},0,0,0,0,0,0,0,0,0,0,0,0,0,0,0,0,0,0,0,0,0,0,0,0,0,0,0,0,0,0,0,0]
[null,null,null,null,null,"GSPs","p/kWh",null,null,{"$f":"J83 * (1 - J$112)","v":0},0,0,0,0,0,0,0,0,0,0,0,0,0,0,0,0,0,0,0,0,0,0,0,0,0,0,0,0,0,0,0,0]
[null,null,null,null,null,"132kV","p/kWh",null,null,{"$f":"J84 * (1 - J$113)","v":0},0,0,0,0,0,0,0,0,9.8007553128874395E-2,8.4138142065225408E-2,7.5400738134714984E-2,7.1157614647732195E-2,6.3488936063476345E-2,0,0,0,0,7.1813178105976386E-2,0,0,0,0,-6.7931027241059927E-2,-6.7931027241059927E-2,0,0,-6.6795689738423827E-2,-6.6795689738423827E-2,0,0,-6.5660352235787728E-2,-6.5660352235787728E-2]
[null,null,null,null,null,"132kV/EHV","p/kWh",null,null,{"$f":"J85 * (1 - J$114)","v":0},0,0,0,0,0,0,0,0,9.1190020984347146E-3,7.8285384090988428E-3,7.0155765277586726E-3,6.6207798947804531E-3,4.0219617745318259E-3,0,0,0,0,6.6817760564081693E-3,0,0,0,0,-6.3205657133944783E-3,-6.3205657133944783E-3,0,0,-6.2149295176274393E-3,-6.2149295176274393E-3,0,0,-3.909947725990656E-3,-3.909947725990656E-3]
[null,null,null,null,null,"EHV","p/kWh",null,null,{"$f":"J86 * (1 - J$115)","v":0},0,0,0,0,0,0,0,0,7.7830259611870577E-3,6.6777759638888198E-3,5.9861560840209511E-3,5.6492893622194593E-3,2.7454440388242976E-3,0,0,0,0,5.7013353405627864E-3,0,0,0,0,-5.3931266731942181E-3,-5.3931266731942181E-3,0,0,-5.3029908513581026E-3,-5.3029908513581026E-3,0,0,-3.3362272188940719E-3,-3.3362272188940719E-3]
[null,null,null,null,null,"EHV/HV","p/kWh",null,null,{"$f":"J87 * (1 - J$116)","v":0},0,0,0,0,0,0,0,0,1.4949033636988251E-3,1.282615502020248E-3,1.1497745106151822E-3,1.0850717590053904E-3,0,0,0,0,0,1.095068347540548E-3,0,0,0,0,-1.035870013130761E-3,-1.035870013130761E-3,0,0,-1.0185574223820575E-3,-1.0185574223820575E-3,0,0,-3.6044813938800724E-4,-3.6044813938800724E-4]
[null,null,null,null,null,"132kV/HV","p/kWh",null,null,{"$f":"J88 * (1 - J$117)","v":0},0,0,0,0,0,0,0,0,2.0470082293466418E-3,1.7573285293938381E-3,1.5748371072749521E-3,1.4862142571098573E-3,0,0,0,0,0,1.4999065058299151E-3,0,0,0,0,-1.4188230126260843E-3,-1.4188230126260843E-3,0,0,-1.3951100931950075E-3,-1.3951100931950075E-3,0,0,-4.9370298255501505E-4,-4.9370298255501505E-4]
[null,null,null,null,null,"HV","p/kWh",null,null,{"$f":"J89 * (1 - J$118)","v":0},0,0,0,0,0,0,0,0,8.7159605601426042E-3,7.4782266204655107E-3,5.362963001318488E-3,0,0,0,0,0,0,6.3847421576521879E-3,0,0,0,0,-6.0395891795592266E-3,-6.0395891795592266E-3,0,0,-5.9386489704301021E-3,-5.9386489704301021E-3,0,0,0,0]
[null,null,null,null,null,"HV/LV","p/kWh",null,null,{"$f":"J90 * (1 - J$119)","v":0},0,0,0,0,0,0,0,0,6.4740527594682224E-4,5.5546871000711987E-4,0,0,0,0,0,0,0,4.7424672586592043E-4,0,0,0,0,-4.4860940712356884E-4,-4.4860940712356884E-4,0,0,0,0,0,0,0,0]
[null,null,null,null,null,"LV circuits","p/kWh",null,null,{"$f":"J91 * (1 - J$120)","v":0},0,0,0,0,0,0,0,0,0,0,0,0,0,0,0,0,0,1.0812863428463541E-3,0,0,0,0,0,0,0,0,0,0,0,0,0,0]
[null,null,null,null,null,"LV customers","p/kWh"]
[null,null,null,null,null,"HV customers","p/kWh"]
[]
[null,null,null,null,"Other operating costs"]
[null,null,null,null,null,"Transmission exit","p/kWh",null,null,{"$f":"J96 * (1 - J$112)","v":0},0,0,0,0,0,0,0,0,1.690983710466111E-2,1.4511911751352257E-2,1.3005654250169058E-2,1.2273770207948221E-2,1.1650023531563176E-2,0,0,0,0,1.2386846444174664E-2,0,0,0,0,-1.1717225520757572E-2,-1.1717225520757572E-2,0,0,-1.152139445355828E-2,-1.152139445355828E-2,0,0,-1.1325563386358989E-2,-1.1325563386358989E-2]
[null,null,null,null,null,"GSPs","p/kWh",null,null,{"$f":"J97 * (1 - J$112)","v":0},0,0,0,0,0,0,0,0,0,0,0,0,0,0,0,0,0,0,0,0,0,0,0,0,0,0,0,0,0,0,0,0]
[null,null,null,null,null,"132kV","p/kWh",null,null,{"$f":"J98 * (1 - J$113)","v":0},0,0,0,0,0,0,0,0,7.1296377678535666E-2,6.1206963773134802E-2,5.4850869465378177E-2,5.1764175378986747E-2,4.6185533864291868E-2,0,0,0,0,5.2241070255137419E-2,0,0,0,0,-4.9416968587114106E-2,-4.9416968587114106E-2,0,0,-4.8591058248610805E-2,-4.8591058248610805E-2,0,0,-4.7765147910107504E-2,-4.7765147910107504E-2]
[null,null,null,null,null,"132kV/EHV","p/kWh",null,null,{"$f":"J99 * (1 - J$114)","v":0},0,0,0,0,0,0,0,0,6.6336909442729144E-3,5.6949328216785782E-3,5.1035372049135531E-3,4.8163392395279983E-3,4.5715753615915324E-3,0,0,0,0,4.8607113847098328E-3,0,0,0,0,-4.5979460343389903E-3,-4.5979460343389903E-3,0,0,-4.5211001396146611E-3,-4.5211001396146611E-3,0,0,-4.4442542448903328E-3,-4.4442542448903328E-3]
[null,null,null,null,null,"EHV","p/kWh",null,null,{"$f":"J100 * (1 - J$115)","v":0},0,0,0,0,0,0,0,0,5.6618244277660563E-3,4.8578014854428484E-3,4.3546770772637852E-3,4.1096206886678177E-3,3.1206175066093213E-3,0,0,0,0,4.1474819515006462E-3,0,0,0,0,-3.9232730936015741E-3,-3.9232730936015741E-3,0,0,-3.8577030697530793E-3,-3.8577030697530793E-3,0,0,-3.7921330459045849E-3,-3.7921330459045849E-3]
[null,null,null,null,null,"EHV/HV","p/kWh",null,null,{"$f":"J101 * (1 - J$116)","v":0},0,0,0,0,0,0,0,0,4.3499175893529978E-3,3.7321955840743876E-3,3.3456506212814581E-3,3.1573764865503819E-3,0,0,0,0,0,3.1864648793913843E-3,0,0,0,0,-3.0142076737668124E-3,-3.0142076737668124E-3,0,0,-2.9638309438431328E-3,-2.9638309438431328E-3,0,0,-2.9134542139194535E-3,-2.9134542139194535E-3]
[null,null,null,null,null,"132kV/HV","p/kWh",null,null,{"$f":"J102 * (1 - J$117)","v":0},0,0,0,0,0,0,0,0,5.9564499743671919E-3,5.1135307243994959E-3,4.5825113513365857E-3,4.3246337492701238E-3,0,0,0,0,0,4.3644758922416977E-3,0,0,0,0,-4.1285365520419203E-3,-4.1285365520419203E-3,0,0,-4.0595359411442836E-3,-4.0595359411442836E-3,0,0,-3.9905353302466468E-3,-3.9905353302466468E-3]
[null,null,null,null,null,"HV","p/kWh",null,null,{"$f":"J103 * (1 - J$118)","v":0},0,0,0,0,0,0,0,0,2.5361980626534813E-2,2.1760382847117895E-2,1.5605321157859517E-2,0,0,0,0,0,0,1.8578526806131566E-2,0,0,0,0,-1.7574189638336801E-2,-1.7574189638336801E-2,0,0,-1.7280470591456525E-2,-1.7280470591456525E-2,0,0,0,0]
[null,null,null,null,null,"HV/LV","p/kWh",null,null,{"$f":"J104 * (1 - J$119)","v":0},0,0,0,0,0,0,0,0,9.4192028249672783E-3,8.0816030342479861E-3,0,0,0,0,0,0,0,6.8998914064683659E-3,0,0,0,0,-6.5268899588521436E-3,-6.5268899588521436E-3,0,0,0,0,0,0,0,0]
[null,null,null,null,null,"LV circuits","p/kWh",null,null,{"$f":"J105 * (1 - J$120)","v":0},0,0,0,0,0,0,0,0,0,0,0,0,0,0,0,0,0,1.5731807808086962E-2,0,0,0,0,0,0,0,0,0,0,0,0,0,0]
[null,null,null,null,null,"LV customers","p/kWh",null,">",null,null,null,null,null,null,null,null,null,null,null,null,null,null,null,null,null,null,{"$f":"AB106","v":1.0594360163150118},null,null,null,null,null,null,null,null,null,null,null,null,null,null,null,"Paragraph 86"]
[null,null,null,null,null,"HV customers","p/kWh"]
[]
[null,null,{"$f":"INDEX('Version control'!$H$34:$H$59,MATCH($A$1,'Version control'!$F$34:$F$59,0),1)&\"-H: Unit rates, post application of standing charges\"","v":"Section 514-H: Unit rates, post application of standing charges"}]
[]
[null,null,null,null,"Unit rates"]
[null,null,null,null,null,"Total unit rate 1","p/kWh",null,null,{"$f":"SUM(J127:J138,J141:J152)","v":1.8541034387957436},2.0439879010657762,0.26239190193260487,1.2273341121692558,1.6715829129067237,0.26383567518829137,1.4878747391313845,1.3705849783468138,0.79474983410958611,11.558763212583951,9.919857450533474,7.7801389981407016,5.6492631010333509,4.388638319009436,2.2383833830121702,2.5316618489068734,3.4187401443847873,1.9559638469564065,27.100267028317713,-0.95645070978576807,-0.87171590426342993,-0.95645070978576807,-0.95645070978576807,-8.0102682346829557,-8.0102682346829557,-0.87171590426342993,-0.87171590426342993,-7.2895545912923492,-7.2895545912923492,-0.59364545367798527,-0.59364545367798527,-4.9269918854708576,-4.9269918854708576]
[null,null,null,null,null,"Total unit rate 2","p/kWh",null,null,{"$f":"SUM(J157:J168,J171:J182)","v":0},0.27928812789634883,0,0,0.28274056655130519,0,0.22170532579730512,0.21332713757117699,0.15854332247531291,0.89408734680360813,0.76731171164533429,0.59223699804222085,0.41336011315679566,0.31012578950009634,0,0,0,0,2.1121807846287179,0,0,0,0,-0.61961027002663549,-0.61961027002663549,0,0,-0.558805197571975,-0.558805197571975,0,0,-0.35715809300097923,-0.35715809300097923]
[null,null,null,null,null,"Total unit rate 3","p/kWh",null,null,{"$f":"SUM(J187:J198,J201:J212)","v":0},0,0,0,0,0,0,0,0,0.27340413978808908,0.23467741782154805,0.19733826649390532,0.16644488567179866,0.13578409214088838,0,0,0,0,1.2765648327255366,0,0,0,0,-0.1894868482988982,-0.1894868482988982,0,0,-0.1794610199813973,-0.1794610199813973,0,0,-0.14799176643404297,-0.14799176643404297]
[]
[null,"Checks"]
[]
[null,null,null,null,"Check for error values",null,"number of issues",{"$f":"SUM(IF(ISERROR(H22:AP219), 1))","v":0}]
[]
[null,"End of sheet"]

{"sheet":"Reactive power charges","index":28,"n_rows":256,"n_cols":44,"rows_kept":256,"cut":false,"hidden":false,"merged":[]}
[{"$f":"MID(CELL(\"filename\",A1),FIND(\"]\",CELL(\"filename\",A1))+1,255)","v":"Reactive power charges"}]
[{"$f":"Cover!D21&\" - \"&Cover!D23","v":"[enter DNO name] - [enter data version name]"}]
[{"$f":"Cover!D2&\" - \"&Cover!D8&\" v\"&Cover!D10&\" - \"&Cover!D19","v":"ARP model - Release for charge setting v3 - 2020/21"}]
[{"$f":"H254 & IF(H254 = 1, \" issue\", \" issues\") &\" identified in checks on this sheet\"","v":"0 issues identified in checks on this sheet"}]
[null,"Click here to return to model map",null,null,null,null,"Units","Constants",null,"Domestic Unrestricted","Domestic Two Rate","Domestic Off Peak (related MPAN)","Small Non Domestic Unrestricted","Small Non Domestic Two Rate","Small Non Domestic Off Peak (related MPAN)","LV Medium Non-Domestic","LV Sub Medium Non-Domestic","HV Medium Non-Domestic","LV Network Domestic","LV Network Non-Domestic Non-CT","LV HH Metered","LV Sub HH Metered","HV HH Metered","NHH UMS category A","NHH UMS category B","NHH UMS category C","NHH UMS category D","LV UMS (Pseudo HH Metered)","LV Generation NHH or Aggregate HH","LV Sub Generation NHH","LV Generation Intermittent","LV Generation Intermittent no RP charge","LV Generation Non-Intermittent","LV Generation Non-Intermittent no RP charge","LV Sub Generation Intermittent","LV Sub Generation Intermittent no RP charge","LV Sub Generation Non-Intermittent","LV Sub Generation Non-Intermittent no RP charge","HV Generation Intermittent","HV Generation Intermittent no RP charge","HV Generation Non-Intermittent","HV Generation Non-Intermittent no RP charge",null,"Legal text reference"]
[]
[null,"Description"]
[]
[null,null,"This sheet calculates reactive power charges (p/kVArh) in line with Paragraph 87-88."]
[null,null,"Reactive charges are based on yardstick charges. For generation, yardstick charges are "]
[null,null,"re-calculated to account for a contribution at the network level they are connected (para 88)."]
[]
[null,"Inputs to reactive power charge calculations"]
[]
[null,null,"Bring in inputs required to calculate reactive power charges"]
[]
[null,null,{"$f":"INDEX('Version control'!$H$34:$H$59,MATCH($A$1,'Version control'!$F$34:$F$59,0),1)&\"-A: Inputs to reactive power charge calculations\"","v":"Section 515-A: Inputs to reactive power charge calculations"}]
[]
[null,null,null,"Average kVAr by kVA, by network level"]
[null,null,null,"This table transposes 'Average kVAr by kVA, by network level' from DNO inputs. "]
[null,null,null,null,"Transmission exit",null,"kVAr/ kVA"]
[null,null,null,null,"GSPs",null,"kVAr/ kVA",{"$f":"TRANSPOSE('Inputs by network level'!K24:S24)","v":0.32434395898123136}]
[null,null,null,null,"132kV",null,"kVAr/ kVA",0.32434395898123136]
[null,null,null,null,"132kV/EHV",null,"kVAr/ kVA",0.32434395898123136]
[null,null,null,null,"EHV",null,"kVAr/ kVA",0.32434395898123136]
[null,null,null,null,"EHV/HV",null,"kVAr/ kVA",0.32434395898123136]
[null,null,null,null,"132kV/HV",null,"kVAr/ kVA",0.32434395898123136]
[null,null,null,null,"HV",null,"kVAr/ kVA",0.32434395898123136]
[null,null,null,null,"HV/LV",null,"kVAr/ kVA",0.32434395898123136]
[null,null,null,null,"LV circuits",null,"kVAr/ kVA",0.32434395898123136]
[null,null,null,null,"LV customers",null,"kVAr/ kVA"]
[null,null,null,null,"HV customers",null,"kVAr/ kVA"]
[]
[null,null,null,"Loss adjustment factor to transmission for each DRM network level"]
[null,null,null,null,"Transmission exit",null,"scalar",{"$f":"TRANSPOSE('Load & loss characteristics'!J29:S29)","v":1}]
[null,null,null,null,"GSPs",null,"scalar",1]
[null,null,null,null,"132kV",null,"scalar",1.0089999999999999]
[null,null,null,null,"132kV/EHV",null,"scalar",1.0129999999999999]
[null,null,null,null,"EHV",null,"scalar",1.024]
[null,null,null,null,"EHV/HV",null,"scalar",1.032]
[null,null,null,null,"132kV/HV",null,"scalar",1.032]
[null,null,null,null,"HV",null,"scalar",1.0409999999999999]
[null,null,null,null,"HV/LV",null,"scalar",1.0589999999999999]
[null,null,null,null,"LV circuits",null,"scalar",1.077]
[null,null,null,null,"LV customers",null,"scalar"]
[null,null,null,null,"HV customers",null,"scalar"]
[]
[null,null,null,"Network level assets per kW of system simultaneous peak load per year"]
[null,null,null,null,"Transmission exit",null,"£/kW/year"]
[null,null,null,null,"GSPs",null,"£/kW/year"]
[null,null,null,null,"132kV",null,"£/kW/year",{"$f":"TRANSPOSE('Unit costs'!L114:S114)","v":16.745407978876123}]
[null,null,null,null,"132kV/EHV",null,"£/kW/year",2.2346203070126736]
[null,null,null,null,"EHV",null,"£/kW/year",6.4319888598819395]
[null,null,null,null,"EHV/HV",null,"£/kW/year",4.9802329295348295]
[null,null,null,null,"132kV/HV",null,"£/kW/year",4.7696119039235745]
[null,null,null,null,"HV",null,"£/kW/year",20.503163033645205]
[null,null,null,null,"HV/LV",null,"£/kW/year",7.7463493271716661]
[null,null,null,null,"LV circuits",null,"£/kW/year",17.961938187790018]
[null,null,null,null,"LV customers",null,"£/kW/year"]
[null,null,null,null,"HV customers",null,"£/kW/year"]
[]
[null,null,null,"Other operating costs (excl. service models) per kW of system simultaneous peak load per year"]
[null,null,null,null,"Transmission exit",null,"£/kW/year",{"$f":"TRANSPOSE('Unit costs'!J115:S115)","v":9.2672616833812889}]
[null,null,null,null,"GSPs",null,"£/kW/year",0]
[null,null,null,null,"132kV",null,"£/kW/year",12.181580842786913]
[null,null,null,null,"132kV/EHV",null,"£/kW/year",1.625592398653231]
[null,null,null,null,"EHV",null,"£/kW/year",4.6790016926070317]
[null,null,null,null,"EHV/HV",null,"£/kW/year",3.6229102404413154]
[null,null,null,null,"132kV/HV",null,"£/kW/year",3.4696922923381255]
[null,null,null,null,"HV",null,"£/kW/year",14.915189784701326]
[null,null,null,null,"HV/LV",null,"£/kW/year",5.6351437172773418]
[null,null,null,null,"LV circuits",null,"£/kW/year",13.066555464263505]
[null,null,null,null,"LV customers",null,"£/kW/year"]
[null,null,null,null,"HV customers",null,"£/kW/year"]
[]
[null,null,null,"Flag for applicability of reactive charges"]
[null,null,null,"This flag is used to filter out customers that do not receive reactive power charges"]
[null,null,null,null,"Reactive power charge flag",null,"0 or 1",null,">",{"$f":"'Fixed inputs'!J143","v":0},{"$f":"'Fixed inputs'!K143","v":0},{"$f":"'Fixed inputs'!L143","v":0},{"$f":"'Fixed inputs'!M143","v":0},{"$f":"'Fixed inputs'!N143","v":0},{"$f":"'Fixed inputs'!O143","v":0},{"$f":"'Fixed inputs'!P143","v":0},{"$f":"'Fixed inputs'!Q143","v":0},{"$f":"'Fixed inputs'!R143","v":0},{"$f":"'Fixed inputs'!S143","v":0},{"$f":"'Fixed inputs'!T143","v":0},{"$f":"'Fixed inputs'!U143","v":1},{"$f":"'Fixed inputs'!V143","v":1},{"$f":"'Fixed inputs'!W143","v":1},{"$f":"'Fixed inputs'!X143","v":0},{"$f":"'Fixed inputs'!Y143","v":0},{"$f":"'Fixed inputs'!Z143","v":0},{"$f":"'Fixed inputs'!AA143","v":0},{"$f":"'Fixed inputs'!AB143","v":0},{"$f":"'Fixed inputs'!AC143","v":0},{"$f":"'Fixed inputs'!AD143","v":0},{"$f":"'Fixed inputs'!AE143","v":1},{"$f":"'Fixed inputs'!AF143","v":0},{"$f":"'Fixed inputs'!AG143","v":1},{"$f":"'Fixed inputs'!AH143","v":0},{"$f":"'Fixed inputs'!AI143","v":1},{"$f":"'Fixed inputs'!AJ143","v":0},{"$f":"'Fixed inputs'!AK143","v":1},{"$f":"'Fixed inputs'!AL143","v":0},{"$f":"'Fixed inputs'!AM143","v":1},{"$f":"'Fixed inputs'!AN143","v":0},{"$f":"'Fixed inputs'!AO143","v":1},{"$f":"'Fixed inputs'!AP143","v":0},null,"Paragraphs 141 & 146"]
[]
[null,null,null,"Standing charge factors"]
[null,null,null,null,"GSPs",null,"%",null,null,{"$f":"'Standing charge factors'!J44","v":0},{"$f":"'Standing charge factors'!K44","v":0},{"$f":"'Standing charge factors'!L44","v":0},{"$f":"'Standing charge factors'!M44","v":0},{"$f":"'Standing charge factors'!N44","v":0},{"$f":"'Standing charge factors'!O44","v":0},{"$f":"'Standing charge factors'!P44","v":0},{"$f":"'Standing charge factors'!Q44","v":0},{"$f":"'Standing charge factors'!R44","v":0},{"$f":"'Standing charge factors'!S44","v":0},{"$f":"'Standing charge factors'!T44","v":0},{"$f":"'Standing charge factors'!U44","v":0},{"$f":"'Standing charge factors'!V44","v":0},{"$f":"'Standing charge factors'!W44","v":0},{"$f":"'Standing charge factors'!X44","v":0},{"$f":"'Standing charge factors'!Y44","v":0},{"$f":"'Standing charge factors'!Z44","v":0},{"$f":"'Standing charge factors'!AA44","v":0},{"$f":"'Standing charge factors'!AB44","v":0},{"$f":"'Standing charge factors'!AC44","v":0},{"$f":"'Standing charge factors'!AD44","v":0},{"$f":"'Standing charge factors'!AE44","v":0},{"$f":"'Standing charge factors'!AF44","v":0},{"$f":"'Standing charge factors'!AG44","v":0},{"$f":"'Standing charge factors'!AH44","v":0},{"$f":"'Standing charge factors'!AI44","v":0},{"$f":"'Standing charge factors'!AJ44","v":0},{"$f":"'Standing charge factors'!AK44","v":0},{"$f":"'Standing charge factors'!AL44","v":0},{"$f":"'Standing charge factors'!AM44","v":0},{"$f":"'Standing charge factors'!AN44","v":0},{"$f":"'Standing charge factors'!AO44","v":0},{"$f":"'Standing charge factors'!AP44","v":0}]
[null,null,null,null,"132kV",null,"%",null,null,{"$f":"'Standing charge factors'!J45","v":0},{"$f":"'Standing charge factors'!K45","v":0},{"$f":"'Standing charge factors'!L45","v":0},{"$f":"'Standing charge factors'!M45","v":0},{"$f":"'Standing charge factors'!N45","v":0},{"$f":"'Standing charge factors'!O45","v":0},{"$f":"'Standing charge factors'!P45","v":0},{"$f":"'Standing charge factors'!Q45","v":0},{"$f":"'Standing charge factors'!R45","v":0.06},{"$f":"'Standing charge factors'!S45","v":0},{"$f":"'Standing charge factors'!T45","v":0},{"$f":"'Standing charge factors'!U45","v":0},{"$f":"'Standing charge factors'!V45","v":0},{"$f":"'Standing charge factors'!W45","v":0.06},{"$f":"'Standing charge factors'!X45","v":0},{"$f":"'Standing charge factors'!Y45","v":0},{"$f":"'Standing charge factors'!Z45","v":0},{"$f":"'Standing charge factors'!AA45","v":0},{"$f":"'Standing charge factors'!AB45","v":0},{"$f":"'Standing charge factors'!AC45","v":0},{"$f":"'Standing charge factors'!AD45","v":0},{"$f":"'Standing charge factors'!AE45","v":0},{"$f":"'Standing charge factors'!AF45","v":0},{"$f":"'Standing charge factors'!AG45","v":0},{"$f":"'Standing charge factors'!AH45","v":0},{"$f":"'Standing charge factors'!AI45","v":0},{"$f":"'Standing charge factors'!AJ45","v":0},{"$f":"'Standing charge factors'!AK45","v":0},{"$f":"'Standing charge factors'!AL45","v":0},{"$f":"'Standing charge factors'!AM45","v":0},{"$f":"'Standing charge factors'!AN45","v":0},{"$f":"'Standing charge factors'!AO45","v":0},{"$f":"'Standing charge factors'!AP45","v":0}]
[null,null,null,null,"132kV/EHV",null,"%",null,null,{"$f":"'Standing charge factors'!J46","v":0},{"$f":"'Standing charge factors'!K46","v":0},{"$f":"'Standing charge factors'!L46","v":0},{"$f":"'Standing charge factors'!M46","v":0},{"$f":"'Standing charge factors'!N46","v":0},{"$f":"'Standing charge factors'!O46","v":0},{"$f":"'Standing charge factors'!P46","v":0},{"$f":"'Standing charge factors'!Q46","v":0},{"$f":"'Standing charge factors'!R46","v":0},{"$f":"'Standing charge factors'!S46","v":0},{"$f":"'Standing charge factors'!T46","v":0},{"$f":"'Standing charge factors'!U46","v":0},{"$f":"'Standing charge factors'!V46","v":0},{"$f":"'Standing charge factors'!W46","v":0},{"$f":"'Standing charge factors'!X46","v":0},{"$f":"'Standing charge factors'!Y46","v":0},{"$f":"'Standing charge factors'!Z46","v":0},{"$f":"'Standing charge factors'!AA46","v":0},{"$f":"'Standing charge factors'!AB46","v":0},{"$f":"'Standing charge factors'!AC46","v":0},{"$f":"'Standing charge factors'!AD46","v":0},{"$f":"'Standing charge factors'!AE46","v":0},{"$f":"'Standing charge factors'!AF46","v":0},{"$f":"'Standing charge factors'!AG46","v":0},{"$f":"'Standing charge factors'!AH46","v":0},{"$f":"'Standing charge factors'!AI46","v":0},{"$f":"'Standing charge factors'!AJ46","v":0},{"$f":"'Standing charge factors'!AK46","v":0},{"$f":"'Standing charge factors'!AL46","v":0},{"$f":"'Standing charge factors'!AM46","v":0},{"$f":"'Standing charge factors'!AN46","v":0},{"$f":"'Standing charge factors'!AO46","v":0},{"$f":"'Standing charge factors'!AP46","v":0}]
[null,null,null,null,"EHV",null,"%",null,null,{"$f":"'Standing charge factors'!J47","v":0},{"$f":"'Standing charge factors'!K47","v":0},{"$f":"'Standing charge factors'!L47","v":0},{"$f":"'Standing charge factors'!M47","v":0},{"$f":"'Standing charge factors'!N47","v":0},{"$f":"'Standing charge factors'!O47","v":0},{"$f":"'Standing charge factors'!P47","v":0},{"$f":"'Standing charge factors'!Q47","v":0},{"$f":"'Standing charge factors'!R47","v":0.2},{"$f":"'Standing charge factors'!S47","v":0},{"$f":"'Standing charge factors'!T47","v":0},{"$f":"'Standing charge factors'!U47","v":0},{"$f":"'Standing charge factors'!V47","v":0},{"$f":"'Standing charge factors'!W47","v":0.2},{"$f":"'Standing charge factors'!X47","v":0},{"$f":"'Standing charge factors'!Y47","v":0},{"$f":"'Standing charge factors'!Z47","v":0},{"$f":"'Standing charge factors'!AA47","v":0},{"$f":"'Standing charge factors'!AB47","v":0},{"$f":"'Standing charge factors'!AC47","v":0},{"$f":"'Standing charge factors'!AD47","v":0},{"$f":"'Standing charge factors'!AE47","v":0},{"$f":"'Standing charge factors'!AF47","v":0},{"$f":"'Standing charge factors'!AG47","v":0},{"$f":"'Standing charge factors'!AH47","v":0},{"$f":"'Standing charge factors'!AI47","v":0},{"$f":"'Standing charge factors'!AJ47","v":0},{"$f":"'Standing charge factors'!AK47","v":0},{"$f":"'Standing charge factors'!AL47","v":0},{"$f":"'Standing charge factors'!AM47","v":0},{"$f":"'Standing charge factors'!AN47","v":0},{"$f":"'Standing charge factors'!AO47","v":0},{"$f":"'Standing charge factors'!AP47","v":0}]
[null,null,null,null,"EHV/HV",null,"%",null,null,{"$f":"'Standing charge factors'!J48","v":0},{"$f":"'Standing charge factors'!K48","v":0},{"$f":"'Standing charge factors'!L48","v":0},{"$f":"'Standing charge factors'!M48","v":0},{"$f":"'Standing charge factors'!N48","v":0},{"$f":"'Standing charge factors'!O48","v":0},{"$f":"'Standing charge factors'!P48","v":0},{"$f":"'Standing charge factors'!Q48","v":0},{"$f":"'Standing charge factors'!R48","v":1},{"$f":"'Standing charge factors'!S48","v":0},{"$f":"'Standing charge factors'!T48","v":0},{"$f":"'Standing charge factors'!U48","v":0},{"$f":"'Standing charge factors'!V48","v":0},{"$f":"'Standing charge factors'!W48","v":1},{"$f":"'Standing charge factors'!X48","v":0},{"$f":"'Standing charge factors'!Y48","v":0},{"$f":"'Standing charge factors'!Z48","v":0},{"$f":"'Standing charge factors'!AA48","v":0},{"$f":"'Standing charge factors'!AB48","v":0},{"$f":"'Standing charge factors'!AC48","v":0},{"$f":"'Standing charge factors'!AD48","v":0},{"$f":"'Standing charge factors'!AE48","v":0},{"$f":"'Standing charge factors'!AF48","v":0},{"$f":"'Standing charge factors'!AG48","v":0},{"$f":"'Standing charge factors'!AH48","v":0},{"$f":"'Standing charge factors'!AI48","v":0},{"$f":"'Standing charge factors'!AJ48","v":0},{"$f":"'Standing charge factors'!AK48","v":0},{"$f":"'Standing charge factors'!AL48","v":0},{"$f":"'Standing charge factors'!AM48","v":0},{"$f":"'Standing charge factors'!AN48","v":0},{"$f":"'Standing charge factors'!AO48","v":0},{"$f":"'Standing charge factors'!AP48","v":0}]
[null,null,null,null,"132kV/HV",null,"%",null,null,{"$f":"'Standing charge factors'!J49","v":0},{"$f":"'Standing charge factors'!K49","v":0},{"$f":"'Standing charge factors'!L49","v":0},{"$f":"'Standing charge factors'!M49","v":0},{"$f":"'Standing charge factors'!N49","v":0},{"$f":"'Standing charge factors'!O49","v":0},{"$f":"'Standing charge factors'!P49","v":0},{"$f":"'Standing charge factors'!Q49","v":0},{"$f":"'Standing charge factors'!R49","v":1},{"$f":"'Standing charge factors'!S49","v":0},{"$f":"'Standing charge factors'!T49","v":0},{"$f":"'Standing charge factors'!U49","v":0},{"$f":"'Standing charge factors'!V49","v":0},{"$f":"'Standing charge factors'!W49","v":1},{"$f":"'Standing charge factors'!X49","v":0},{"$f":"'Standing charge factors'!Y49","v":0},{"$f":"'Standing charge factors'!Z49","v":0},{"$f":"'Standing charge factors'!AA49","v":0},{"$f":"'Standing charge factors'!AB49","v":0},{"$f":"'Standing charge factors'!AC49","v":0},{"$f":"'Standing charge factors'!AD49","v":0},{"$f":"'Standing charge factors'!AE49","v":0},{"$f":"'Standing charge factors'!AF49","v":0},{"$f":"'Standing charge factors'!AG49","v":0},{"$f":"'Standing charge factors'!AH49","v":0},{"$f":"'Standing charge factors'!AI49","v":0},{"$f":"'Standing charge factors'!AJ49","v":0},{"$f":"'Standing charge factors'!AK49","v":0},{"$f":"'Standing charge factors'!AL49","v":0},{"$f":"'Standing charge factors'!AM49","v":0},{"$f":"'Standing charge factors'!AN49","v":0},{"$f":"'Standing charge factors'!AO49","v":0},{"$f":"'Standing charge factors'!AP49","v":0}]
[null,null,null,null,"HV",null,"%",null,null,{"$f":"'Standing charge factors'!J50","v":0},{"$f":"'Standing charge factors'!K50","v":0},{"$f":"'Standing charge factors'!L50","v":0},{"$f":"'Standing charge factors'!M50","v":0},{"$f":"'Standing charge factors'!N50","v":0},{"$f":"'Standing charge factors'!O50","v":0},{"$f":"'Standing charge factors'!P50","v":0},{"$f":"'Standing charge factors'!Q50","v":0},{"$f":"'Standing charge factors'!R50","v":1},{"$f":"'Standing charge factors'!S50","v":0},{"$f":"'Standing charge factors'!T50","v":0},{"$f":"'Standing charge factors'!U50","v":0.2},{"$f":"'Standing charge factors'!V50","v":1},{"$f":"'Standing charge factors'!W50","v":1},{"$f":"'Standing charge factors'!X50","v":0},{"$f":"'Standing charge factors'!Y50","v":0},{"$f":"'Standing charge factors'!Z50","v":0},{"$f":"'Standing charge factors'!AA50","v":0},{"$f":"'Standing charge factors'!AB50","v":0},{"$f":"'Standing charge factors'!AC50","v":0},{"$f":"'Standing charge factors'!AD50","v":0},{"$f":"'Standing charge factors'!AE50","v":0},{"$f":"'Standing charge factors'!AF50","v":0},{"$f":"'Standing charge factors'!AG50","v":0},{"$f":"'Standing charge factors'!AH50","v":0},{"$f":"'Standing charge factors'!AI50","v":0},{"$f":"'Standing charge factors'!AJ50","v":0},{"$f":"'Standing charge factors'!AK50","v":0},{"$f":"'Standing charge factors'!AL50","v":0},{"$f":"'Standing charge factors'!AM50","v":0},{"$f":"'Standing charge factors'!AN50","v":0},{"$f":"'Standing charge factors'!AO50","v":0},{"$f":"'Standing charge factors'!AP50","v":0}]
[null,null,null,null,"HV/LV",null,"%",null,null,{"$f":"'Standing charge factors'!J51","v":0},{"$f":"'Standing charge factors'!K51","v":0},{"$f":"'Standing charge factors'!L51","v":0},{"$f":"'Standing charge factors'!M51","v":0},{"$f":"'Standing charge factors'!N51","v":0},{"$f":"'Standing charge factors'!O51","v":0},{"$f":"'Standing charge factors'!P51","v":0},{"$f":"'Standing charge factors'!Q51","v":1},{"$f":"'Standing charge factors'!R51","v":0},{"$f":"'Standing charge factors'!S51","v":0},{"$f":"'Standing charge factors'!T51","v":0},{"$f":"'Standing charge factors'!U51","v":1},{"$f":"'Standing charge factors'!V51","v":1},{"$f":"'Standing charge factors'!W51","v":0},{"$f":"'Standing charge factors'!X51","v":0},{"$f":"'Standing charge factors'!Y51","v":0},{"$f":"'Standing charge factors'!Z51","v":0},{"$f":"'Standing charge factors'!AA51","v":0},{"$f":"'Standing charge factors'!AB51","v":0},{"$f":"'Standing charge factors'!AC51","v":0},{"$f":"'Standing charge factors'!AD51","v":0},{"$f":"'Standing charge factors'!AE51","v":0},{"$f":"'Standing charge factors'!AF51","v":0},{"$f":"'Standing charge factors'!AG51","v":0},{"$f":"'Standing charge factors'!AH51","v":0},{"$f":"'Standing charge factors'!AI51","v":0},{"$f":"'Standing charge factors'!AJ51","v":0},{"$f":"'Standing charge factors'!AK51","v":0},{"$f":"'Standing charge factors'!AL51","v":0},{"$f":"'Standing charge factors'!AM51","v":0},{"$f":"'Standing charge factors'!AN51","v":0},{"$f":"'Standing charge factors'!AO51","v":0},{"$f":"'Standing charge factors'!AP51","v":0}]
[null,null,null,null,"LV circuits",null,"%",null,null,{"$f":"'Standing charge factors'!J52","v":1},{"$f":"'Standing charge factors'!K52","v":1},{"$f":"'Standing charge factors'!L52","v":1},{"$f":"'Standing charge factors'!M52","v":1},{"$f":"'Standing charge factors'!N52","v":1},{"$f":"'Standing charge factors'!O52","v":1},{"$f":"'Standing charge factors'!P52","v":1},{"$f":"'Standing charge factors'!Q52","v":0},{"$f":"'Standing charge factors'!R52","v":0},{"$f":"'Standing charge factors'!S52","v":1},{"$f":"'Standing charge factors'!T52","v":1},{"$f":"'Standing charge factors'!U52","v":1},{"$f":"'Standing charge factors'!V52","v":0},{"$f":"'Standing charge factors'!W52","v":0},{"$f":"'Standing charge factors'!X52","v":0},{"$f":"'Standing charge factors'!Y52","v":0},{"$f":"'Standing charge factors'!Z52","v":0},{"$f":"'Standing charge factors'!AA52","v":0},{"$f":"'Standing charge factors'!AB52","v":0},{"$f":"'Standing charge factors'!AC52","v":0},{"$f":"'Standing charge factors'!AD52","v":0},{"$f":"'Standing charge factors'!AE52","v":0},{"$f":"'Standing charge factors'!AF52","v":0},{"$f":"'Standing charge factors'!AG52","v":0},{"$f":"'Standing charge factors'!AH52","v":0},{"$f":"'Standing charge factors'!AI52","v":0},{"$f":"'Standing charge factors'!AJ52","v":0},{"$f":"'Standing charge factors'!AK52","v":0},{"$f":"'Standing charge factors'!AL52","v":0},{"$f":"'Standing charge factors'!AM52","v":0},{"$f":"'Standing charge factors'!AN52","v":0},{"$f":"'Standing charge factors'!AO52","v":0},{"$f":"'Standing charge factors'!AP52","v":0}]
[]
[null,null,null,"User loss factor (assuming generation contributes at level of connection)",null,null,null,null,">",null,null,null,null,null,null,null,null,null,null,null,null,null,null,null,null,null,null,null,null,null,null,null,null,null,null,null,null,null,null,null,null,null,null,"Paragraphs 146 & 88"]
[null,null,null,"These have been adjusted for the share of load going through 132/HV transformation"]
[null,null,null,null,"Transmission exit",null,"scalar",null,null,null,null,null,null,null,null,null,null,null,null,null,null,null,null,null,null,null,null,null,{"$f":"TRANSPOSE('Load & loss characteristics'!J285:S298)","v":-1.077},-1.0589999999999999,-1.077,-1.077,-1.077,-1.077,-1.0589999999999999,-1.0589999999999999,-1.0589999999999999,-1.0589999999999999,-1.0409999999999999,-1.0409999999999999,-1.0409999999999999,-1.0409999999999999]
[null,null,null,null,"GSPs",null,"scalar",null,null,null,null,null,null,null,null,null,null,null,null,null,null,null,null,null,null,null,null,null,-1.077,-1.0589999999999999,-1.077,-1.077,-1.077,-1.077,-1.0589999999999999,-1.0589999999999999,-1.0589999999999999,-1.0589999999999999,-1.0409999999999999,-1.0409999999999999,-1.0409999999999999,-1.0409999999999999]
[null,null,null,null,"132kV",null,"scalar",null,null,null,null,null,null,null,null,null,null,null,null,null,null,null,null,null,null,null,null,null,-1.077,-1.0589999999999999,-1.077,-1.077,-1.077,-1.077,-1.0589999999999999,-1.0589999999999999,-1.0589999999999999,-1.0589999999999999,-1.0409999999999999,-1.0409999999999999,-1.0409999999999999,-1.0409999999999999]
[null,null,null,null,"132kV/EHV",null,"scalar",null,null,null,null,null,null,null,null,null,null,null,null,null,null,null,null,null,null,null,null,null,-0.7538999999999999,-0.74129999999999996,-0.7538999999999999,-0.7538999999999999,-0.7538999999999999,-0.7538999999999999,-0.74129999999999996,-0.74129999999999996,-0.74129999999999996,-0.74129999999999996,-0.7286999999999999,-0.7286999999999999,-0.7286999999999999,-0.7286999999999999]
[null,null,null,null,"EHV",null,"scalar",null,null,null,null,null,null,null,null,null,null,null,null,null,null,null,null,null,null,null,null,null,-0.7538999999999999,-0.74129999999999996,-0.7538999999999999,-0.7538999999999999,-0.7538999999999999,-0.7538999999999999,-0.74129999999999996,-0.74129999999999996,-0.74129999999999996,-0.74129999999999996,-0.7286999999999999,-0.7286999999999999,-0.7286999999999999,-0.7286999999999999]
[null,null,null,null,"EHV/HV",null,"scalar",null,null,null,null,null,null,null,null,null,null,null,null,null,null,null,null,null,null,null,null,null,-0.7538999999999999,-0.74129999999999996,-0.7538999999999999,-0.7538999999999999,-0.7538999999999999,-0.7538999999999999,-0.74129999999999996,-0.74129999999999996,-0.74129999999999996,-0.74129999999999996,-0.7286999999999999,-0.7286999999999999,-0.7286999999999999,-0.7286999999999999]
[null,null,null,null,"132kV/HV",null,"scalar",null,null,null,null,null,null,null,null,null,null,null,null,null,null,null,null,null,null,null,null,null,-0.3231,-0.31769999999999998,-0.3231,-0.3231,-0.3231,-0.3231,-0.31769999999999998,-0.31769999999999998,-0.31769999999999998,-0.31769999999999998,-0.31229999999999997,-0.31229999999999997,-0.31229999999999997,-0.31229999999999997]
[null,null,null,null,"HV",null,"scalar",null,null,null,null,null,null,null,null,null,null,null,null,null,null,null,null,null,null,null,null,null,-1.077,-1.0589999999999999,-1.077,-1.077,-1.077,-1.077,-1.0589999999999999,-1.0589999999999999,-1.0589999999999999,-1.0589999999999999,-1.0409999999999999,-1.0409999999999999,-1.0409999999999999,-1.0409999999999999]
[null,null,null,null,"HV/LV",null,"scalar",null,null,null,null,null,null,null,null,null,null,null,null,null,null,null,null,null,null,null,null,null,-1.077,-1.0589999999999999,-1.077,-1.077,-1.077,-1.077,-1.0589999999999999,-1.0589999999999999,-1.0589999999999999,-1.0589999999999999,0,0,0,0]
[null,null,null,null,"LV circuits",null,"scalar",null,null,null,null,null,null,null,null,null,null,null,null,null,null,null,null,null,null,null,null,null,-1.077,0,-1.077,-1.077,-1.077,-1.077,0,0,0,0,0,0,0,0]
[null,null,null,null,"LV customers",null,"scalar"]
[null,null,null,null,"HV customers",null,"scalar"]
[]
[null,null,null,"Customer contributions, by network level"]
[null,null,null,null,"Transmission exit",null,"%"]
[null,null,null,null,"GSPs",null,"%"]
[null,null,null,null,"132kV",null,"%",null,null,{"$f":"TRANSPOSE('Customer contributions'!L68:S100)","v":0},0,0,0,0,0,0,0,0,0,0,0,0,0,0,0,0,0,0,0,0,0,0,0,0,0,0,0,0,0,0,0,0]
[null,null,null,null,"132kV/EHV",null,"%",null,null,0,0,0,0,0,0,0,0,0.36,0,0,0,0,0.36,0,0,0,0,0,0,0,0,0,0,0,0,0,0,0,0.36,0.36,0.36,0.36]
[null,null,null,null,"EHV",null,"%",null,null,0,0,0,0,0,0,0,0,0.36,0,0,0,0,0.36,0,0,0,0,0,0,0,0,0,0,0,0,0,0,0,0.36,0.36,0.36,0.36]
[null,null,null,null,"EHV/HV",null,"%",null,null,0.75,0.75,0.75,0.75,0.75,0.75,0.75,0.75,0.91,0.75,0.75,0.75,0.75,0.91,0.75,0.75,0.75,0.75,0.75,0.75,0.75,0.75,0.75,0.75,0.75,0.75,0.75,0.75,0.75,0.91,0.91,0.91,0.91]
[null,null,null,null,"132kV/HV",null,"%",null,null,0.75,0.75,0.75,0.75,0.75,0.75,0.75,0.75,0.91,0.75,0.75,0.75,0.75,0.91,0.75,0.75,0.75,0.75,0.75,0.75,0.75,0.75,0.75,0.75,0.75,0.75,0.75,0.75,0.75,0.91,0.91,0.91,0.91]
[null,null,null,null,"HV",null,"%",null,null,0.75,0.75,0.75,0.75,0.75,0.75,0.75,0.75,0.91,0.75,0.75,0.75,0.75,0.91,0.75,0.75,0.75,0.75,0.75,0.75,0.75,0.75,0.75,0.75,0.75,0.75,0.75,0.75,0.75,0.91,0.91,0.91,0.91]
[null,null,null,null,"HV/LV",null,"%",null,null,0.95,0.95,0.95,0.95,0.95,0.95,0.95,0.95,0,0.95,0.95,0.95,0.95,0,0.95,0.95,0.95,0.95,0.95,0.95,0.95,0.95,0.95,0.95,0.95,0.95,0.95,0.95,0.95,0,0,0,0]
[null,null,null,null,"LV circuits",null,"%",null,null,0.95,0.95,0.95,0.95,0.95,0.95,0.95,0,0,0.95,0.95,0.95,0,0,0.95,0.95,0.95,0.95,0.95,0.95,0,0.95,0.95,0.95,0.95,0,0,0,0,0,0,0,0]
[null,null,null,null,"LV customers",null,"%"]
[null,null,null,null,"HV customers",null,"%"]
[]
[null,null,{"$f":"INDEX('Version control'!$H$34:$H$59,MATCH($A$1,'Version control'!$F$34:$F$59,0),1)&\"-B: Yardstick charge (demand)\"","v":"Section 515-B: Yardstick charge (demand)"}]
[]
[null,null,null,"Asset costs"]
[null,null,null,null,"Transmission exit",null,"p/kWh"]
[null,null,null,null,"GSPs",null,"p/kWh"]
[null,null,null,null,"132kV",null,"p/kWh",null,null,{"$f":"'Initial unit rates'!J125","v":0.44383183514978664},{"$f":"'Initial unit rates'!K125","v":0.27399965460005465},{"$f":"'Initial unit rates'!L125","v":0},{"$f":"'Initial unit rates'!M125","v":0.24455755182325453},{"$f":"'Initial unit rates'!N125","v":0.26189119873209316},{"$f":"'Initial unit rates'!O125","v":0},{"$f":"'Initial unit rates'!P125","v":0.25176525246671594},{"$f":"'Initial unit rates'!Q125","v":0.24755747665947275},{"$f":"'Initial unit rates'!R125","v":0.22339402566387251},{"$f":"'Initial unit rates'!S125","v":0.43792918366048933},{"$f":"'Initial unit rates'!T125","v":0.25702158079780635},{"$f":"'Initial unit rates'!U125","v":0.25145888610771866},{"$f":"'Initial unit rates'!V125","v":0.23408757853137885},{"$f":"'Initial unit rates'!W125","v":0.21149058100055568},{"$f":"'Initial unit rates'!X125","v":0.20404039889001521},{"$f":"'Initial unit rates'!Y125","v":0.43106671766242677},{"$f":"'Initial unit rates'!Z125","v":0.72411293313544534},{"$f":"'Initial unit rates'!AA125","v":0},{"$f":"'Initial unit rates'!AB125","v":0.43324454522337313}]
[null,null,null,null,"132kV/EHV",null,"p/kWh",null,null,{"$f":"'Initial unit rates'!J126","v":4.129583187084631E-2},{"$f":"'Initial unit rates'!K126","v":2.5493988427430312E-2},{"$f":"'Initial unit rates'!L126","v":0},{"$f":"'Initial unit rates'!M126","v":2.2754581224284129E-2},{"$f":"'Initial unit rates'!N126","v":2.4367370825585356E-2},{"$f":"'Initial unit rates'!O126","v":0},{"$f":"'Initial unit rates'!P126","v":2.3425213590813947E-2},{"$f":"'Initial unit rates'!Q126","v":2.3033705842778057E-2},{"$f":"'Initial unit rates'!R126","v":1.3302684693310002E-2},{"$f":"'Initial unit rates'!S126","v":4.0746626329040241E-2},{"$f":"'Initial unit rates'!T126","v":2.3914282724273959E-2},{"$f":"'Initial unit rates'!U126","v":2.3396708078928425E-2},{"$f":"'Initial unit rates'!V126","v":2.178041438335071E-2},{"$f":"'Initial unit rates'!W126","v":1.2593857451176752E-2},{"$f":"'Initial unit rates'!X126","v":1.898470848667002E-2},{"$f":"'Initial unit rates'!Y126","v":4.0108115930209222E-2},{"$f":"'Initial unit rates'!Z126","v":6.7374270104295142E-2},{"$f":"'Initial unit rates'!AA126","v":0},{"$f":"'Initial unit rates'!AB126","v":4.0310749436141005E-2}]
[null,null,null,null,"EHV",null,"p/kWh",null,null,{"$f":"'Initial unit rates'!J127","v":0.11758644221873403},{"$f":"'Initial unit rates'!K127","v":7.2592008959224602E-2},{"$f":"'Initial unit rates'!L127","v":0},{"$f":"'Initial unit rates'!M127","v":6.4791775080566771E-2},{"$f":"'Initial unit rates'!N127","v":6.9384059160410294E-2},{"$f":"'Initial unit rates'!O127","v":0},{"$f":"'Initial unit rates'!P127","v":6.670134489535097E-2},{"$f":"'Initial unit rates'!Q127","v":6.5586559186793583E-2},{"$f":"'Initial unit rates'!R127","v":3.7878286843477438E-2},{"$f":"'Initial unit rates'!S127","v":0.11602262517516988},{"$f":"'Initial unit rates'!T127","v":6.8093928524188371E-2},{"$f":"'Initial unit rates'!U127","v":6.6620177824138441E-2},{"$f":"'Initial unit rates'!V127","v":6.2017916127656517E-2},{"$f":"'Initial unit rates'!W127","v":3.5859960301204585E-2},{"$f":"'Initial unit rates'!X127","v":5.4057376407600728E-2},{"$f":"'Initial unit rates'!Y127","v":0.11420451998835542},{"$f":"'Initial unit rates'!Z127","v":0.19184262332879656},{"$f":"'Initial unit rates'!AA127","v":0},{"$f":"'Initial unit rates'!AB127","v":0.11478150202158692}]
[null,null,null,null,"EHV/HV",null,"p/kWh",null,null,{"$f":"'Initial unit rates'!J128","v":2.2585093365325642E-2},{"$f":"'Initial unit rates'!K128","v":1.3942911010700146E-2},{"$f":"'Initial unit rates'!L128","v":0},{"$f":"'Initial unit rates'!M128","v":1.2444702483452134E-2},{"$f":"'Initial unit rates'!N128","v":1.3326752852068864E-2},{"$f":"'Initial unit rates'!O128","v":0},{"$f":"'Initial unit rates'!P128","v":1.281147786793296E-2},{"$f":"'Initial unit rates'!Q128","v":1.2597358460669455E-2},{"$f":"'Initial unit rates'!R128","v":4.0923945283506714E-3},{"$f":"'Initial unit rates'!S128","v":2.2284727496023438E-2},{"$f":"'Initial unit rates'!T128","v":1.3078954548771813E-2},{"$f":"'Initial unit rates'!U128","v":1.2795887925360199E-2},{"$f":"'Initial unit rates'!V128","v":1.191192113339491E-2},{"$f":"'Initial unit rates'!W128","v":3.8743332276336183E-3},{"$f":"'Initial unit rates'!X128","v":1.0382922301357804E-2},{"$f":"'Initial unit rates'!Y128","v":2.1935519929084692E-2},{"$f":"'Initial unit rates'!Z128","v":3.6847645677297008E-2},{"$f":"'Initial unit rates'!AA128","v":0},{"$f":"'Initial unit rates'!AB128","v":2.2046342170533313E-2}]
[null,null,null,null,"132kV/HV",null,"p/kWh",null,null,{"$f":"'Initial unit rates'!J129","v":9.2699734866655958E-3},{"$f":"'Initial unit rates'!K129","v":5.7228196184729201E-3},{"$f":"'Initial unit rates'!L129","v":0},{"$f":"'Initial unit rates'!M129","v":5.1078851083323582E-3},{"$f":"'Initial unit rates'!N129","v":5.4699196325523917E-3},{"$f":"'Initial unit rates'!O129","v":0},{"$f":"'Initial unit rates'!P129","v":5.2584267968125474E-3},{"$f":"'Initial unit rates'!Q129","v":5.170542226392281E-3},{"$f":"'Initial unit rates'!R129","v":1.6797091852198815E-3},{"$f":"'Initial unit rates'!S129","v":9.1466893540878887E-3},{"$f":"'Initial unit rates'!T129","v":5.3682116756957228E-3},{"$f":"'Initial unit rates'!U129","v":5.2520279587838312E-3},{"$f":"'Initial unit rates'!V129","v":4.8892068452261765E-3},{"$f":"'Initial unit rates'!W129","v":1.5902066782602095E-3},{"$f":"'Initial unit rates'!X129","v":4.2616345609385528E-3},{"$f":"'Initial unit rates'!Y129","v":9.0033583155793174E-3},{"$f":"'Initial unit rates'!Z129","v":1.5123988772125514E-2},{"$f":"'Initial unit rates'!AA129","v":0},{"$f":"'Initial unit rates'!AB129","v":9.0488449214278805E-3}]
[null,null,null,null,"HV",null,"p/kWh",null,null,{"$f":"'Initial unit rates'!J130","v":0.13168127639518495},{"$f":"'Initial unit rates'!K130","v":8.1293457098223554E-2},{"$f":"'Initial unit rates'!L130","v":0},{"$f":"'Initial unit rates'!M130","v":7.2558225944516802E-2},{"$f":"'Initial unit rates'!N130","v":7.7700977249792164E-2},{"$f":"'Initial unit rates'!O130","v":0},{"$f":"'Initial unit rates'!P130","v":7.4696691789998743E-2},{"$f":"'Initial unit rates'!Q130","v":7.3448279113842774E-2},{"$f":"'Initial unit rates'!R130","v":2.3860505081339852E-2},{"$f":"'Initial unit rates'!S130","v":0.12993000796270693},{"$f":"'Initial unit rates'!T130","v":7.6256201426247699E-2},{"$f":"'Initial unit rates'!U130","v":7.4605795396359725E-2},{"$f":"'Initial unit rates'!V130","v":6.9451870478977926E-2},{"$f":"'Initial unit rates'!W130","v":2.2589109389219281E-2},{"$f":"'Initial unit rates'!X130","v":6.0537117967106244E-2},{"$f":"'Initial unit rates'!Y130","v":0.12789397041362383},{"$f":"'Initial unit rates'!Z130","v":0.21483838638424108},{"$f":"'Initial unit rates'!AA130","v":0},{"$f":"'Initial unit rates'!AB130","v":0.12854011404344534}]
[null,null,null,null,"HV/LV",null,"p/kWh",null,null,{"$f":"'Initial unit rates'!J131","v":9.7810393350678138E-3},{"$f":"'Initial unit rates'!K131","v":6.0383262019356228E-3},{"$f":"'Initial unit rates'!L131","v":0},{"$f":"'Initial unit rates'!M131","v":5.3894895422809501E-3},{"$f":"'Initial unit rates'!N131","v":5.7714835066803496E-3},{"$f":"'Initial unit rates'!O131","v":0},{"$f":"'Initial unit rates'!P131","v":5.5483307923352579E-3},{"$f":"'Initial unit rates'!Q131","v":5.4556010297892657E-3},{"$f":"'Initial unit rates'!R131","v":0},{"$f":"'Initial unit rates'!S131","v":9.6509583858755826E-3},{"$f":"'Initial unit rates'!T131","v":5.6641682561960355E-3},{"$f":"'Initial unit rates'!U131","v":5.5415791779376963E-3},{"$f":"'Initial unit rates'!V131","v":5.1587552584944248E-3},{"$f":"'Initial unit rates'!W131","v":0},{"$f":"'Initial unit rates'!X131","v":4.496584087557931E-3},{"$f":"'Initial unit rates'!Y131","v":9.4997253184234427E-3},{"$f":"'Initial unit rates'!Z131","v":1.5957794193917737E-2},{"$f":"'Initial unit rates'!AA131","v":0},{"$f":"'Initial unit rates'!AB131","v":9.5477196607657907E-3}]
[null,null,null,null,"LV circuits",null,"p/kWh",null,null,{"$f":"'Initial unit rates'!J132","v":2.2300848218911894E-2},{"$f":"'Initial unit rates'!K132","v":1.376743222398169E-2},{"$f":"'Initial unit rates'!L132","v":0},{"$f":"'Initial unit rates'!M132","v":1.2288079430260989E-2},{"$f":"'Initial unit rates'!N132","v":1.3159028736238025E-2},{"$f":"'Initial unit rates'!O132","v":0},{"$f":"'Initial unit rates'!P132","v":1.2650238755769802E-2},{"$f":"'Initial unit rates'!Q132","v":0},{"$f":"'Initial unit rates'!R132","v":0},{"$f":"'Initial unit rates'!S132","v":2.2004262610293868E-2},{"$f":"'Initial unit rates'!T132","v":1.2914349103466812E-2},{"$f":"'Initial unit rates'!U132","v":1.2634845020732585E-2},{"$f":"'Initial unit rates'!V132","v":0},{"$f":"'Initial unit rates'!W132","v":0},{"$f":"'Initial unit rates'!X132","v":1.0252247824081429E-2},{"$f":"'Initial unit rates'!Y132","v":2.1659450002206416E-2},{"$f":"'Initial unit rates'!Z132","v":3.6383898892144224E-2},{"$f":"'Initial unit rates'!AA132","v":0},{"$f":"'Initial unit rates'!AB132","v":2.176887748810823E-2}]
[null,null,null,null,"LV customers",null,"p/kWh"]
[null,null,null,null,"HV customers",null,"p/kWh"]
[]
[null,null,null,"Other operating costs"]
[null,null,null,null,"Transmission exit",null,"p/kWh",null,null,{"$f":"'Initial unit rates'!J135","v":0.24783652430692771},{"$f":"'Initial unit rates'!K135","v":0.15300191802252897},{"$f":"'Initial unit rates'!L135","v":0},{"$f":"'Initial unit rates'!M135","v":0.13656139293485264},{"$f":"'Initial unit rates'!N135","v":0.14624053368869308},{"$f":"'Initial unit rates'!O135","v":0},{"$f":"'Initial unit rates'!P135","v":0.14058618641348497},{"$f":"'Initial unit rates'!Q135","v":0.13823655655699216},{"$f":"'Initial unit rates'!R135","v":0.12474364046639835},{"$f":"'Initial unit rates'!S135","v":0.24454047270934715},{"$f":"'Initial unit rates'!T135","v":0.1435213299544025},{"$f":"'Initial unit rates'!U135","v":0.14041511086737679},{"$f":"'Initial unit rates'!V135","v":0.13071494032658243},{"$f":"'Initial unit rates'!W135","v":0.11809673477149556},{"$f":"'Initial unit rates'!X135","v":0.11393653918952053},{"$f":"'Initial unit rates'!Y135","v":0.24070845890042267},{"$f":"'Initial unit rates'!Z135","v":0.40434601202822207},{"$f":"'Initial unit rates'!AA135","v":0},{"$f":"'Initial unit rates'!AB135","v":0.24192456187118552}]
[null,null,null,null,"GSPs",null,"p/kWh",null,null,{"$f":"'Initial unit rates'!J136","v":0},{"$f":"'Initial unit rates'!K136","v":0},{"$f":"'Initial unit rates'!L136","v":0},{"$f":"'Initial unit rates'!M136","v":0},{"$f":"'Initial unit rates'!N136","v":0},{"$f":"'Initial unit rates'!O136","v":0},{"$f":"'Initial unit rates'!P136","v":0},{"$f":"'Initial unit rates'!Q136","v":0},{"$f":"'Initial unit rates'!R136","v":0},{"$f":"'Initial unit rates'!S136","v":0},{"$f":"'Initial unit rates'!T136","v":0},{"$f":"'Initial unit rates'!U136","v":0},{"$f":"'Initial unit rates'!V136","v":0},{"$f":"'Initial unit rates'!W136","v":0},{"$f":"'Initial unit rates'!X136","v":0},{"$f":"'Initial unit rates'!Y136","v":0},{"$f":"'Initial unit rates'!Z136","v":0},{"$f":"'Initial unit rates'!AA136","v":0},{"$f":"'Initial unit rates'!AB136","v":0}]
[null,null,null,null,"132kV",null,"p/kWh",null,null,{"$f":"'Initial unit rates'!J137","v":0.32286901503384358},{"$f":"'Initial unit rates'!K137","v":0.1993232382045714},{"$f":"'Initial unit rates'!L137","v":0},{"$f":"'Initial unit rates'!M137","v":0.17790534527478072},{"$f":"'Initial unit rates'!N137","v":0.19051484522764559},{"$f":"'Initial unit rates'!O137","v":0},{"$f":"'Initial unit rates'!P137","v":0.18314864470288011},{"$f":"'Initial unit rates'!Q137","v":0.18008766456857012},{"$f":"'Initial unit rates'!R137","v":0.1625097690574582},{"$f":"'Initial unit rates'!S137","v":0.31857508404127671},{"$f":"'Initial unit rates'!T137","v":0.18697240274939539},{"$f":"'Initial unit rates'!U137","v":0.1829257760469272},{"$f":"'Initial unit rates'!V137","v":0.17028887954055119},{"$f":"'Initial unit rates'!W137","v":0.15385051311954667},{"$f":"'Initial unit rates'!X137","v":0.14843081861060914},{"$f":"'Initial unit rates'!Y137","v":0.31358292831466028},{"$f":"'Initial unit rates'!Z137","v":0.52676173942278559},{"$f":"'Initial unit rates'!AA137","v":0},{"$f":"'Initial unit rates'!AB137","v":0.31516720637637036}]
[null,null,null,null,"132kV/EHV",null,"p/kWh",null,null,{"$f":"'Initial unit rates'!J138","v":3.0040982879571083E-2},{"$f":"'Initial unit rates'!K138","v":1.8545805597903354E-2},{"$f":"'Initial unit rates'!L138","v":0},{"$f":"'Initial unit rates'!M138","v":1.6553001938026345E-2},{"$f":"'Initial unit rates'!N138","v":1.7726238620909211E-2},{"$f":"'Initial unit rates'!O138","v":0},{"$f":"'Initial unit rates'!P138","v":1.7040858811921435E-2},{"$f":"'Initial unit rates'!Q138","v":1.6756053372167873E-2},{"$f":"'Initial unit rates'!R138","v":1.5120537935504337E-2},{"$f":"'Initial unit rates'!S138","v":2.9641458919614012E-2},{"$f":"'Initial unit rates'!T138","v":1.7396636061091493E-2},{"$f":"'Initial unit rates'!U138","v":1.7020122249519584E-2},{"$f":"'Initial unit rates'!V138","v":1.5844336485254903E-2},{"$f":"'Initial unit rates'!W138","v":1.4314847245881003E-2},{"$f":"'Initial unit rates'!X138","v":1.381057789089681E-2},{"$f":"'Initial unit rates'!Y138","v":2.9176969427800379E-2},{"$f":"'Initial unit rates'!Z138","v":4.9011951159061345E-2},{"$f":"'Initial unit rates'!AA138","v":0},{"$f":"'Initial unit rates'!AB138","v":2.9324376790886376E-2}]
[null,null,null,null,"EHV",null,"p/kWh",null,null,{"$f":"'Initial unit rates'!J139","v":8.5539196997177977E-2},{"$f":"'Initial unit rates'!K139","v":5.2807636982784081E-2},{"$f":"'Initial unit rates'!L139","v":0},{"$f":"'Initial unit rates'!M139","v":4.7133294517949564E-2},{"$f":"'Initial unit rates'!N139","v":5.0473988267676378E-2},{"$f":"'Initial unit rates'!O139","v":0},{"$f":"'Initial unit rates'!P139","v":4.8522426338630381E-2},{"$f":"'Initial unit rates'!Q139","v":4.771146656695411E-2},{"$f":"'Initial unit rates'!R139","v":4.3054472563478101E-2},{"$f":"'Initial unit rates'!S139","v":8.4401585792748965E-2},{"$f":"'Initial unit rates'!T139","v":4.9535472427231136E-2},{"$f":"'Initial unit rates'!U139","v":4.8463380704090148E-2},{"$f":"'Initial unit rates'!V139","v":4.5115428657410972E-2},{"$f":"'Initial unit rates'!W139","v":4.076033542106957E-2},{"$f":"'Initial unit rates'!X139","v":3.9324470427285839E-2},{"$f":"'Initial unit rates'!Y139","v":8.3078990646556716E-2},{"$f":"'Initial unit rates'!Z139","v":0.13955744930909109},{"$f":"'Initial unit rates'!AA139","v":0},{"$f":"'Initial unit rates'!AB139","v":8.3498720837156509E-2}]
[null,null,null,null,"EHV/HV",null,"p/kWh",null,null,{"$f":"'Initial unit rates'!J140","v":6.5718826562760069E-2},{"$f":"'Initial unit rates'!K140","v":4.0571528116814963E-2},{"$f":"'Initial unit rates'!L140","v":0},{"$f":"'Initial unit rates'!M140","v":3.6211993056923457E-2},{"$f":"'Initial unit rates'!N140","v":3.8778611412539257E-2},{"$f":"'Initial unit rates'!O140","v":0},{"$f":"'Initial unit rates'!P140","v":3.7279247793943551E-2},{"$f":"'Initial unit rates'!Q140","v":3.6656196298780155E-2},{"$f":"'Initial unit rates'!R140","v":3.3078278899948944E-2},{"$f":"'Initial unit rates'!S140","v":6.4844812355656978E-2},{"$f":"'Initial unit rates'!T140","v":3.80575599892174E-2},{"$f":"'Initial unit rates'!U140","v":3.7233883680743311E-2},{"$f":"'Initial unit rates'!V140","v":3.4661688855213153E-2},{"$f":"'Initial unit rates'!W140","v":3.1315718503478238E-2},{"$f":"'Initial unit rates'!X140","v":3.0212559182294461E-2},{"$f":"'Initial unit rates'!Y140","v":6.3828677015641738E-2},{"$f":"'Initial unit rates'!Z140","v":0.10722045715472303},{"$f":"'Initial unit rates'!AA140","v":0},{"$f":"'Initial unit rates'!AB140","v":6.4151151116025124E-2}]
[null,null,null,null,"132kV/HV",null,"p/kWh",null,null,{"$f":"'Initial unit rates'!J141","v":2.697406514807103E-2},{"$f":"'Initial unit rates'!K141","v":1.6652443444568416E-2},{"$f":"'Initial unit rates'!L141","v":0},{"$f":"'Initial unit rates'!M141","v":1.4863087351782534E-2},{"$f":"'Initial unit rates'!N141","v":1.5916546982083456E-2},{"$f":"'Initial unit rates'!O141","v":0},{"$f":"'Initial unit rates'!P141","v":1.5301138368692818E-2},{"$f":"'Initial unit rates'!Q141","v":1.5045409036625528E-2},{"$f":"'Initial unit rates'!R141","v":1.3576865210476654E-2},{"$f":"'Initial unit rates'!S141","v":2.6615329038560245E-2},{"$f":"'Initial unit rates'!T141","v":1.5620593918326009E-2},{"$f":"'Initial unit rates'!U141","v":1.528251882527052E-2},{"$f":"'Initial unit rates'!V141","v":1.4226770352173197E-2},{"$f":"'Initial unit rates'!W141","v":1.2853428389577124E-2},{"$f":"'Initial unit rates'!X141","v":1.2400640460232464E-2},{"$f":"'Initial unit rates'!Y141","v":2.6198259801411702E-2},{"$f":"'Initial unit rates'!Z141","v":4.4008265937851107E-2},{"$f":"'Initial unit rates'!AA141","v":0},{"$f":"'Initial unit rates'!AB141","v":2.6330618181000239E-2}]
[null,null,null,null,"HV",null,"p/kWh",null,null,{"$f":"'Initial unit rates'!J142","v":0.38317038698915534},{"$f":"'Initial unit rates'!K142","v":0.23655029985076614},{"$f":"'Initial unit rates'!L142","v":0},{"$f":"'Initial unit rates'!M142","v":0.21113224503513153},{"$f":"'Initial unit rates'!N142","v":0.22609678716120862},{"$f":"'Initial unit rates'!O142","v":0},{"$f":"'Initial unit rates'!P142","v":0.21735482130419306},{"$f":"'Initial unit rates'!Q142","v":0.21372215019604501},{"$f":"'Initial unit rates'!R142","v":0.19286127872238659},{"$f":"'Initial unit rates'!S142","v":0.37807449012846062},{"$f":"'Initial unit rates'!T142","v":0.22189273229042558},{"$f":"'Initial unit rates'!U142","v":0.2170903280726568},{"$f":"'Initial unit rates'!V142","v":0.20209327261292981},{"$f":"'Initial unit rates'!W142","v":0.18258475699291712},{"$f":"'Initial unit rates'!X142","v":0.17615284081125773},{"$f":"'Initial unit rates'!Y142","v":0.3721499629901806},{"$f":"'Initial unit rates'!Z142","v":0.62514360358968568},{"$f":"'Initial unit rates'!AA142","v":0},{"$f":"'Initial unit rates'!AB142","v":0.3740301323769526}]
[null,null,null,null,"HV/LV",null,"p/kWh",null,null,{"$f":"'Initial unit rates'!J143","v":0.14230590444486016},{"$f":"'Initial unit rates'!K143","v":8.7852572928395101E-2},{"$f":"'Initial unit rates'!L143","v":0},{"$f":"'Initial unit rates'!M143","v":7.8412544673105392E-2},{"$f":"'Initial unit rates'!N143","v":8.3970235909601912E-2},{"$f":"'Initial unit rates'!O143","v":0},{"$f":"'Initial unit rates'!P143","v":8.0723551405394917E-2},{"$f":"'Initial unit rates'!Q143","v":7.937441127048582E-2},{"$f":"'Initial unit rates'!R143","v":0},{"$f":"'Initial unit rates'!S143","v":0.1404133359261468},{"$f":"'Initial unit rates'!T143","v":8.2408889179695216E-2},{"$f":"'Initial unit rates'!U143","v":8.0625321088514057E-2},{"$f":"'Initial unit rates'!V143","v":7.5055554703444785E-2},{"$f":"'Initial unit rates'!W143","v":0},{"$f":"'Initial unit rates'!X143","v":6.5421520512458017E-2},{"$f":"'Initial unit rates'!Y143","v":0.13821302185843956},{"$f":"'Initial unit rates'!Z143","v":0.23217249802570772},{"$f":"'Initial unit rates'!AA143","v":0},{"$f":"'Initial unit rates'!AB143","v":0.13891129921540482}]
[null,null,null,null,"LV circuits",null,"p/kWh",null,null,{"$f":"'Initial unit rates'!J144","v":0.32445860475192562},{"$f":"'Initial unit rates'!K144","v":0.20030457167192686},{"$f":"'Initial unit rates'!L144","v":0},{"$f":"'Initial unit rates'!M144","v":0.17878123145299135},{"$f":"'Initial unit rates'!N144","v":0.19145281209660669},{"$f":"'Initial unit rates'!O144","v":0},{"$f":"'Initial unit rates'!P144","v":0.18405034535839157},{"$f":"'Initial unit rates'!Q144","v":0},{"$f":"'Initial unit rates'!R144","v":0},{"$f":"'Initial unit rates'!S144","v":0.32014353333324752},{"$f":"'Initial unit rates'!T144","v":0.18789292901588883},{"$f":"'Initial unit rates'!U144","v":0.18382637944718191},{"$f":"'Initial unit rates'!V144","v":0},{"$f":"'Initial unit rates'!W144","v":0},{"$f":"'Initial unit rates'!X144","v":0.14916159205780782},{"$f":"'Initial unit rates'!Y144","v":0.31512679959188022},{"$f":"'Initial unit rates'!Z144","v":0.52935515968263214},{"$f":"'Initial unit rates'!AA144","v":0},{"$f":"'Initial unit rates'!AB144","v":0.31671887757244344}]
[null,null,null,null,"LV customers",null,"p/kWh"]
[null,null,null,null,"HV customers",null,"p/kWh"]
[]
[null,"Calculation of yardstick charges for generation"]
[]
[null,null,"Recalculates yardstick charge for generation assuming a full contribution at the network level in which they are "]
[null,null,"connected, and all levels above that"]
[]
[null,null,{"$f":"INDEX('Version control'!$H$34:$H$59,MATCH($A$1,'Version control'!$F$34:$F$59,0),1)&\"-C: Yardstick charge used for generation\"","v":"Section 515-C: Yardstick charge used for generation"}]
[null,null,null,null,null,null,null,null,">",null,null,null,null,null,null,null,null,null,null,null,null,null,null,null,null,null,null,null,null,null,null,null,null,null,null,null,null,null,null,null,null,null,null,"Paragraphs 87 (a)"]
[null,null,null,null,"Asset costs"]
[null,null,null,null,null,"Transmission exit","p/kWh"]
[null,null,null,null,null,"GSPs","p/kWh"]
[null,null,null,null,null,"132kV","p/kWh",null,null,null,null,null,null,null,null,null,null,null,null,null,null,null,null,null,null,null,null,null,{"$f":"hundred * $H51 * AC95 / $H37 * (1 - AC109) / hours_in_year","v":-0.20404039889000805},-0.20063025294755665,-0.20404039889000805,-0.20404039889000805,-0.20404039889000805,-0.20404039889000805,-0.20063025294755665,-0.20063025294755665,-0.20063025294755665,-0.20063025294755665,-0.19722010700510526,-0.19722010700510526,-0.19722010700510526,-0.19722010700510526]
[null,null,null,null,null,"132kV/EHV","p/kWh",null,null,null,null,null,null,null,null,null,null,null,null,null,null,null,null,null,null,null,null,null,{"$f":"hundred * $H52 * AC96 / $H38 * (1 - AC110) / hours_in_year","v":-1.8984708486669357E-2},-1.8667415308619175E-2,-1.8984708486669357E-2,-1.8984708486669357E-2,-1.8984708486669357E-2,-1.8984708486669357E-2,-1.8667415308619175E-2,-1.8667415308619175E-2,-1.8667415308619175E-2,-1.8667415308619175E-2,-1.174407816356415E-2,-1.174407816356415E-2,-1.174407816356415E-2,-1.174407816356415E-2]
[null,null,null,null,null,"EHV","p/kWh",null,null,null,null,null,null,null,null,null,null,null,null,null,null,null,null,null,null,null,null,null,{"$f":"hundred * $H53 * AC97 / $H39 * (1 - AC111) / hours_in_year","v":-5.4057376407598834E-2},-5.3153910506636183E-2,-5.4057376407598834E-2,-5.4057376407598834E-2,-5.4057376407598834E-2,-5.4057376407598834E-2,-5.3153910506636183E-2,-5.3153910506636183E-2,-5.3153910506636183E-2,-5.3153910506636183E-2,-3.3440284547631052E-2,-3.3440284547631052E-2,-3.3440284547631052E-2,-3.3440284547631052E-2]
[null,null,null,null,null,"EHV/HV","p/kWh",null,null,null,null,null,null,null,null,null,null,null,null,null,null,null,null,null,null,null,null,null,{"$f":"hundred * $H54 * AC98 / $H40 * (1 - AC112) / hours_in_year","v":-1.038292230135744E-2},-1.020939156651581E-2,-1.038292230135744E-2,-1.038292230135744E-2,-1.038292230135744E-2,-1.038292230135744E-2,-1.020939156651581E-2,-1.020939156651581E-2,-1.020939156651581E-2,-1.020939156651581E-2,-3.6129098994027043E-3,-3.6129098994027043E-3,-3.6129098994027043E-3,-3.6129098994027043E-3]
[null,null,null,null,null,"132kV/HV","p/kWh",null,null,null,null,null,null,null,null,null,null,null,null,null,null,null,null,null,null,null,null,null,{"$f":"hundred * $H55 * AC99 / $H41 * (1 - AC113) / hours_in_year","v":-4.2616345609384036E-3},-4.1904094707834435E-3,-4.2616345609384036E-3,-4.2616345609384036E-3,-4.2616345609384036E-3,-4.2616345609384036E-3,-4.1904094707834435E-3,-4.1904094707834435E-3,-4.1904094707834435E-3,-4.1904094707834435E-3,-1.4829063770262539E-3,-1.4829063770262539E-3,-1.4829063770262539E-3,-1.4829063770262539E-3]
[null,null,null,null,null,"HV","p/kWh",null,null,null,null,null,null,null,null,null,null,null,null,null,null,null,null,null,null,null,null,null,{"$f":"hundred * $H56 * AC100 / $H42 * (1 - AC114) / hours_in_year","v":-6.0537117967104113E-2},-5.9525355549826603E-2,-6.0537117967104113E-2,-6.0537117967104113E-2,-6.0537117967104113E-2,-6.0537117967104113E-2,-5.9525355549826603E-2,-5.9525355549826603E-2,-5.9525355549826603E-2,-5.9525355549826603E-2,-2.1064893527717669E-2,-2.1064893527717669E-2,-2.1064893527717669E-2,-2.1064893527717669E-2]
[null,null,null,null,null,"HV/LV","p/kWh",null,null,null,null,null,null,null,null,null,null,null,null,null,null,null,null,null,null,null,null,null,{"$f":"hundred * $H57 * AC101 / $H43 * (1 - AC115) / hours_in_year","v":-4.496584087557774E-3},-4.4214322643673929E-3,-4.496584087557774E-3,-4.496584087557774E-3,-4.496584087557774E-3,-4.496584087557774E-3,-4.4214322643673929E-3,-4.4214322643673929E-3,-4.4214322643673929E-3,-4.4214322643673929E-3,0,0,0,0]
[null,null,null,null,null,"LV circuits","p/kWh",null,null,null,null,null,null,null,null,null,null,null,null,null,null,null,null,null,null,null,null,null,{"$f":"hundred * $H58 * AC102 / $H44 * (1 - AC116) / hours_in_year","v":-1.025224782408107E-2},0,-1.025224782408107E-2,-1.025224782408107E-2,-1.025224782408107E-2,-1.025224782408107E-2,0,0,0,0,0,0,0,0]
[null,null,null,null,null,"LV customers","p/kWh"]
[null,null,null,null,null,"HV customers","p/kWh"]
[]
[null,null,null,null,"Other operating costs"]
[null,null,null,null,null,"Transmission exit","p/kWh",null,null,null,null,null,null,null,null,null,null,null,null,null,null,null,null,null,null,null,null,null,{"$f":"hundred * $H63 * AC93 / $H35 / hours_in_year","v":-0.11393653918951653},-0.11203230733676695,-0.11393653918951653,-0.11393653918951653,-0.11393653918951653,-0.11393653918951653,-0.11203230733676695,-0.11203230733676695,-0.11203230733676695,-0.11203230733676695,-0.11012807548401737,-0.11012807548401737,-0.11012807548401737,-0.11012807548401737]
[null,null,null,null,null,"GSPs","p/kWh",null,null,null,null,null,null,null,null,null,null,null,null,null,null,null,null,null,null,null,null,null,{"$f":"hundred * $H64 * AC94 / $H36 / hours_in_year","v":0},0,0,0,0,0,0,0,0,0,0,0,0,0]
[null,null,null,null,null,"132kV","p/kWh",null,null,null,null,null,null,null,null,null,null,null,null,null,null,null,null,null,null,null,null,null,{"$f":"hundred * $H65 * AC95 / $H37 / hours_in_year","v":-0.14843081861060392},-0.14595008069510637,-0.14843081861060392,-0.14843081861060392,-0.14843081861060392,-0.14843081861060392,-0.14595008069510637,-0.14595008069510637,-0.14595008069510637,-0.14595008069510637,-0.14346934277960879,-0.14346934277960879,-0.14346934277960879,-0.14346934277960879]
[null,null,null,null,null,"132kV/EHV","p/kWh",null,null,null,null,null,null,null,null,null,null,null,null,null,null,null,null,null,null,null,null,null,{"$f":"hundred * $H66 * AC96 / $H38 / hours_in_year","v":-1.3810577890896325E-2},-1.3579760433109756E-2,-1.3810577890896325E-2,-1.3810577890896325E-2,-1.3810577890896325E-2,-1.3810577890896325E-2,-1.3579760433109756E-2,-1.3579760433109756E-2,-1.3579760433109756E-2,-1.3579760433109756E-2,-1.3348942975323188E-2,-1.3348942975323188E-2,-1.3348942975323188E-2,-1.3348942975323188E-2]
[null,null,null,null,null,"EHV","p/kWh",null,null,null,null,null,null,null,null,null,null,null,null,null,null,null,null,null,null,null,null,null,{"$f":"hundred * $H67 * AC97 / $H39 / hours_in_year","v":-3.9324470427284458E-2},-3.8667236938249062E-2,-3.9324470427284458E-2,-3.9324470427284458E-2,-3.9324470427284458E-2,-3.9324470427284458E-2,-3.8667236938249062E-2,-3.8667236938249062E-2,-3.8667236938249062E-2,-3.8667236938249062E-2,-3.801000344921366E-2,-3.801000344921366E-2,-3.801000344921366E-2,-3.801000344921366E-2]
[null,null,null,null,null,"EHV/HV","p/kWh",null,null,null,null,null,null,null,null,null,null,null,null,null,null,null,null,null,null,null,null,null,{"$f":"hundred * $H68 * AC98 / $H40 / hours_in_year","v":-3.0212559182293403E-2},-2.9707613903480697E-2,-3.0212559182293403E-2,-3.0212559182293403E-2,-3.0212559182293403E-2,-3.0212559182293403E-2,-2.9707613903480697E-2,-2.9707613903480697E-2,-2.9707613903480697E-2,-2.9707613903480697E-2,-2.9202668624667999E-2,-2.9202668624667999E-2,-2.9202668624667999E-2,-2.9202668624667999E-2]
[null,null,null,null,null,"132kV/HV","p/kWh",null,null,null,null,null,null,null,null,null,null,null,null,null,null,null,null,null,null,null,null,null,{"$f":"hundred * $H69 * AC99 / $H41 / hours_in_year","v":-1.2400640460232031E-2},-1.219338741632843E-2,-1.2400640460232031E-2,-1.2400640460232031E-2,-1.2400640460232031E-2,-1.2400640460232031E-2,-1.219338741632843E-2,-1.219338741632843E-2,-1.219338741632843E-2,-1.219338741632843E-2,-1.198613437242483E-2,-1.198613437242483E-2,-1.198613437242483E-2,-1.198613437242483E-2]
[null,null,null,null,null,"HV","p/kWh",null,null,null,null,null,null,null,null,null,null,null,null,null,null,null,null,null,null,null,null,null,{"$f":"hundred * $H70 * AC100 / $H42 / hours_in_year","v":-0.17615284081125157},-0.17320878219045072,-0.17615284081125157,-0.17615284081125157,-0.17615284081125157,-0.17615284081125157,-0.17320878219045072,-0.17320878219045072,-0.17320878219045072,-0.17320878219045072,-0.17026472356964983,-0.17026472356964983,-0.17026472356964983,-0.17026472356964983]
[null,null,null,null,null,"HV/LV","p/kWh",null,null,null,null,null,null,null,null,null,null,null,null,null,null,null,null,null,null,null,null,null,{"$f":"hundred * $H71 * AC101 / $H43 / hours_in_year","v":-6.5421520512455728E-2},-6.4328124626453681E-2,-6.5421520512455728E-2,-6.5421520512455728E-2,-6.5421520512455728E-2,-6.5421520512455728E-2,-6.4328124626453681E-2,-6.4328124626453681E-2,-6.4328124626453681E-2,-6.4328124626453681E-2,0,0,0,0]
[null,null,null,null,null,"LV circuits","p/kWh",null,null,null,null,null,null,null,null,null,null,null,null,null,null,null,null,null,null,null,null,null,{"$f":"hundred * $H72 * AC102 / $H44 / hours_in_year","v":-0.14916159205780258},0,-0.14916159205780258,-0.14916159205780258,-0.14916159205780258,-0.14916159205780258,0,0,0,0,0,0,0,0]
[null,null,null,null,null,"LV customers","p/kWh"]
[null,null,null,null,null,"HV customers","p/kWh"]
[]
[null,"Calculation of reactive power charges"]
[]
[null,null,"Calculates reactive power charges for demand and generation"]
[null,null,"Average kVAr by kVA at transmission exit is assumed equal to kVAr by kVA at the GSP, as per Paragraph 51",null,null,null,null,null,">",null,null,null,null,null,null,null,null,null,null,null,null,null,null,null,null,null,null,null,null,null,null,null,null,null,null,null,null,null,null,null,null,null,null,"Paragraph 51"]
[]
[null,null,{"$f":"INDEX('Version control'!$H$34:$H$59,MATCH($A$1,'Version control'!$F$34:$F$59,0),1)&\"-D: Reactive power charges, all customer categories\"","v":"Section 515-D: Reactive power charges, all customer categories"}]
[null,null,null,null,null,null,null,null,">",null,null,null,null,null,null,null,null,null,null,null,null,null,null,null,null,null,null,null,null,null,null,null,null,null,null,null,null,null,null,null,null,null,null,"Paragraphs 146, 87 & 88"]
[null,null,null,null,"Asset costs"]
[null,null,null,null,null,"Transmission exit","p/kVArh"]
[null,null,null,null,null,"GSPs","p/kVArh"]
[null,null,null,null,null,"132kV","p/kVArh",null,null,{"$f":"ABS(J125 + J160)*(1-J82)*PowerFactor*$H23","v":0.13675646580766768},8.4426626095848112E-2,0,7.5354726329256425E-2,8.0695686808152159E-2,0,7.7575611783015669E-2,7.6279083452380311E-2,6.4703656908041654E-2,0.1349377009227688,7.9195227206596192E-2,7.748121210912863E-2,7.2128647370737445E-2,6.1255953249762185E-2,6.2870307229692321E-2,0.13282319150209237,0.22311857270852892,0,0.13349423845453337,6.2870307229690114E-2,6.1819550005795566E-2,6.2870307229690114E-2,6.2870307229690114E-2,6.2870307229690114E-2,6.2870307229690114E-2,6.1819550005795566E-2,6.1819550005795566E-2,6.1819550005795566E-2,6.1819550005795566E-2,6.0768792781901018E-2,6.0768792781901018E-2,6.0768792781901018E-2,6.0768792781901018E-2]
[null,null,null,null,null,"132kV/EHV","p/kVArh",null,null,{"$f":"ABS(J126 + J161)*(1-J83)*PowerFactor*$H24","v":1.2724350918492921E-2},7.8553800799357216E-3,0,7.0112954112820933E-3,7.5082390473574043E-3,0,7.2179351902242643E-3,7.0973011759029678E-3,4.0989131475818339E-3,1.2555125993755299E-2,7.3686304782381081E-3,7.2091518791754152E-3,6.7111285378803377E-3,3.8805045053319498E-3,5.849696735137579E-3,1.2358383852678139E-2,2.0759815624143012E-2,0,1.2420820658537493E-2,5.8496967351373752E-3,5.7519302158871681E-3,5.8496967351373752E-3,5.8496967351373752E-3,5.8496967351373752E-3,5.8496967351373752E-3,5.7519302158871681E-3,5.7519302158871681E-3,5.7519302158871681E-3,5.7519302158871681E-3,3.6186647658476541E-3,3.6186647658476541E-3,3.6186647658476541E-3,3.6186647658476541E-3]
[null,null,null,null,null,"EHV","p/kVArh",null,null,{"$f":"ABS(J127 + J162)*(1-J84)*PowerFactor*$H25","v":3.6231529582154899E-2},2.2367540597424126E-2,0,1.9964079797099889E-2,2.1379085416361673E-2,0,2.0552469359094147E-2,2.0208974049471407E-2,9.3370510708225222E-3,3.5749675701674574E-2,2.0981561642114236E-2,2.0527459612338962E-2,1.9109379622379567E-2,8.8395307346818899E-3,1.6656524302370843E-2,3.5189468839245647E-2,5.9111846154216656E-2,0,3.5367252444319028E-2,1.665652430237026E-2,1.6378142280603625E-2,1.665652430237026E-2,1.665652430237026E-2,1.665652430237026E-2,1.665652430237026E-2,1.6378142280603625E-2,1.6378142280603625E-2,1.6378142280603625E-2,1.6378142280603625E-2,1.0303846565655672E-2,1.0303846565655672E-2,1.0303846565655672E-2,1.0303846565655672E-2]
[null,null,null,null,null,"EHV/HV","p/kVArh",null,null,{"$f":"ABS(J128 + J163)*(1-J85)*PowerFactor*$H26","v":6.9590716662669373E-3},4.2961840090868127E-3,0,3.8345458682351057E-3,4.1063291913842103E-3,0,3.947559179481511E-3,3.8815832600472794E-3,0,6.8665209038342367E-3,4.029975902800023E-3,3.942755500971889E-3,3.6703816765036269E-3,0,3.1992562187660623E-3,6.7589207073054762E-3,1.1353745714206559E-2,0,6.7930680056133659E-3,3.1992562187659504E-3,3.1457867554996665E-3,3.1992562187659504E-3,3.1992562187659504E-3,3.1992562187659504E-3,3.1992562187659504E-3,3.1457867554996665E-3,3.1457867554996665E-3,3.1457867554996665E-3,3.1457867554996665E-3,1.1132342252040176E-3,1.1132342252040176E-3,1.1132342252040176E-3,1.1132342252040176E-3]
[null,null,null,null,null,"132kV/HV","p/kVArh",null,null,{"$f":"ABS(J129 + J164)*(1-J86)*PowerFactor*$H27","v":2.85632690530036E-3},1.7633538730114186E-3,0,1.5738760941549032E-3,1.6854286194846447E-3,0,1.6202620170266177E-3,1.5931824289983174E-3,0,2.8183397648425305E-3,1.6540896761671998E-3,1.6182903637904601E-3,1.5064954692358549E-3,0,1.3131236539647493E-3,2.7741756361915068E-3,4.6601056742419369E-3,0,2.7881912767219715E-3,1.3131236539647034E-3,1.2911772976310311E-3,1.3131236539647034E-3,1.3131236539647034E-3,1.3131236539647034E-3,1.3131236539647034E-3,1.2911772976310311E-3,1.2911772976310311E-3,1.2911772976310311E-3,1.2911772976310311E-3,4.5692313886704918E-4,4.5692313886704918E-4,4.5692313886704918E-4,4.5692313886704918E-4]
[null,null,null,null,null,"HV","p/kVArh",null,null,{"$f":"ABS(J130 + J165)*(1-J87)*PowerFactor*$H28","v":4.0574525184230249E-2},2.5048689628783278E-2,0,2.2357131146524312E-2,2.3941750449012773E-2,0,2.301604970107058E-2,2.263138034673514E-2,0,4.0034912514432919E-2,2.3496576354086429E-2,1.8390433671767268E-2,0,0,1.8653106081426816E-2,3.9407554859094057E-2,6.6197456141954006E-2,0,3.9606649002912532E-2,1.865310608142616E-2,1.8341355004856362E-2,1.865310608142616E-2,1.865310608142616E-2,1.865310608142616E-2,1.865310608142616E-2,1.8341355004856362E-2,1.8341355004856362E-2,1.8341355004856362E-2,1.8341355004856362E-2,6.490657414183163E-3,6.490657414183163E-3,6.490657414183163E-3,6.490657414183163E-3]
[null,null,null,null,null,"HV/LV","p/kVArh",null,null,{"$f":"ABS(J131 + J166)*(1-J88)*PowerFactor*$H29","v":3.0137999698426929E-3},1.860569894658107E-3,0,1.6606459562797805E-3,1.7783485192640052E-3,0,1.7095891961773151E-3,0,0,2.9737185482961006E-3,1.7452818187229176E-3,0,0,0,1.3855178906080198E-3,2.927119593061113E-3,4.9170234381898364E-3,0,2.9419079343149298E-3,1.3855178906079714E-3,1.3623616027426569E-3,1.3855178906079714E-3,1.3855178906079714E-3,1.3855178906079714E-3,1.3855178906079714E-3,1.3623616027426569E-3,1.3623616027426569E-3,1.3623616027426569E-3,1.3623616027426569E-3,0,0,0,0]
[null,null,null,null,null,"LV circuits","p/kVArh",null,null,{"$f":"ABS(J132 + J167)*(1-J89)*PowerFactor*$H30","v":0},0,0,0,0,0,0,0,0,0,0,0,0,0,3.1589919153333212E-3,6.6738561749180849E-3,1.121085291935835E-2,0,6.7075737117169047E-3,3.1589919153332102E-3,0,3.1589919153332102E-3,3.1589919153332102E-3,3.1589919153332102E-3,3.1589919153332102E-3,0,0,0,0,0,0,0,0]
[null,null,null,null,null,"LV customers","p/kVArh"]
[null,null,null,null,null,"HV customers","p/kVArh"]
[]
[null,null,null,null,"Other operating costs"]
[null,null,null,null,null,"Transmission exit","p/kVArh",null,null,{"$f":"ABS(J137 + J172)*(1-J81)*PowerFactor*$H22","v":7.6365065500164253E-2},4.7143985431991414E-2,0,4.2078219687057578E-2,4.5060621977112914E-2,0,4.3318366265451956E-2,4.2594382428146345E-2,3.8436853896272827E-2,7.5349463797206834E-2,4.4222762537879372E-2,4.3265653311537838E-2,4.02767711813432E-2,3.6388764373616149E-2,3.510689678368184E-2,7.4168717794032404E-2,0.12458982702253082,0,7.4543431663495155E-2,3.5106896783680605E-2,3.4520151990638591E-2,3.5106896783680605E-2,3.5106896783680605E-2,3.5106896783680605E-2,3.5106896783680605E-2,3.4520151990638591E-2,3.4520151990638591E-2,3.4520151990638591E-2,3.4520151990638591E-2,3.3933407197596577E-2,3.3933407197596577E-2,3.3933407197596577E-2,3.3933407197596577E-2]
[null,null,null,null,null,"GSPs","p/kVArh",null,null,{"$f":"ABS(J138 + J173)*(1-J81)*PowerFactor*$H22","v":0},0,0,0,0,0,0,0,0,0,0,0,0,0,0,0,0,0,0,0,0,0,0,0,0,0,0,0,0,0,0,0,0]
[null,null,null,null,null,"132kV","p/kVArh",null,null,{"$f":"ABS(J139 + J174)*(1-J82)*PowerFactor*$H23","v":9.9484583840025148E-2},6.1416823786418225E-2,0,5.4817397809828014E-2,5.8702722188539565E-2,0,5.6432998679730111E-2,5.5489828785361357E-2,4.7069192249214888E-2,9.8161508791189872E-2,5.7611200861573557E-2,5.6364326882635749E-2,5.247056089262736E-2,4.4561132673223466E-2,4.5735507375840499E-2,9.6623292016579349E-2,0.16230938860401475,0,9.7111450484308401E-2,4.5735507375838889E-2,4.4971125636966938E-2,4.5735507375838889E-2,4.5735507375838889E-2,4.5735507375838889E-2,4.5735507375838889E-2,4.4971125636966938E-2,4.4971125636966938E-2,4.4971125636966938E-2,4.4971125636966938E-2,4.4206743898094966E-2,4.4206743898094966E-2,4.4206743898094966E-2,4.4206743898094966E-2]
[null,null,null,null,null,"132kV/EHV","p/kVArh",null,null,{"$f":"ABS(J140 + J175)*(1-J83)*PowerFactor*$H24","v":9.2564307529051024E-3},5.7144590096142442E-3,0,5.1004228725232865E-3,5.4619284915441114E-3,0,5.2507446309238599E-3,5.1629884532482535E-3,4.6590423791310022E-3,9.133326729168785E-3,5.3603691223595654E-3,5.2443551411160364E-3,4.8820640819054262E-3,4.4107875165435894E-3,4.2554086335045288E-3,8.990205086522771E-3,1.5101893762508471E-2,0,9.0356252398627514E-3,4.2554086335043788E-3,4.184287597846924E-3,4.2554086335043788E-3,4.2554086335043788E-3,4.2554086335043788E-3,4.2554086335043788E-3,4.184287597846924E-3,4.184287597846924E-3,4.184287597846924E-3,4.184287597846924E-3,4.1131665621894692E-3,4.1131665621894692E-3,4.1131665621894692E-3,4.1131665621894692E-3]
[null,null,null,null,null,"EHV","p/kVArh",null,null,{"$f":"ABS(J141 + J176)*(1-J84)*PowerFactor*$H25","v":2.6356915712033153E-2},1.6271446141267881E-2,0,1.4523029376591123E-2,1.5552386521294859E-2,0,1.4951058065144225E-2,1.4701179657370228E-2,1.0612988143146344E-2,2.6006387256298537E-2,1.5263204675201083E-2,1.4932864525020254E-2,1.3901270904785976E-2,1.0047480105503192E-2,1.2116921702064931E-2,2.5598860297745451E-2,4.3001384833521457E-2,0,2.572819040188238E-2,1.2116921702064505E-2,1.1914410475846158E-2,1.2116921702064505E-2,1.2116921702064505E-2,1.2116921702064505E-2,1.2116921702064505E-2,1.1914410475846158E-2,1.1914410475846158E-2,1.1914410475846158E-2,1.1914410475846158E-2,1.1711899249627806E-2,1.1711899249627806E-2,1.1711899249627806E-2,1.1711899249627806E-2]
[null,null,null,null,null,"EHV/HV","p/kVArh",null,null,{"$f":"ABS(J142 + J177)*(1-J85)*PowerFactor*$H26","v":2.0249729167618184E-2},1.2501173548759802E-2,0,1.1157884131149244E-2,1.1948727931870854E-2,0,1.1486733876463486E-2,1.129475503730254E-2,0,1.9980422000887406E-2,1.1726552692265056E-2,1.1472755979196001E-2,1.0680193918861686E-2,0,9.3092980033331312E-3,1.966732350979819E-2,3.3037492179473341E-2,0,1.9766686409866084E-2,9.3092980033328068E-3,9.1537108500737603E-3,9.3092980033328068E-3,9.3092980033328068E-3,9.3092980033328068E-3,9.3092980033328068E-3,9.1537108500737603E-3,9.1537108500737603E-3,9.1537108500737603E-3,9.1537108500737603E-3,8.998123696814719E-3,8.998123696814719E-3,8.998123696814719E-3,8.998123696814719E-3]
[null,null,null,null,null,"132kV/HV","p/kVArh",null,null,{"$f":"ABS(J143 + J178)*(1-J86)*PowerFactor*$H27","v":8.3114313259458616E-3},5.1310634618462548E-3,0,4.5797149646429622E-3,4.9043140684057324E-3,0,4.7146902056503766E-3,4.6358931548595621E-3,0,8.2008951304570216E-3,4.8131230094526026E-3,4.7089530260437662E-3,4.3836486685636285E-3,0,3.8209691797359046E-3,8.0723849372882836E-3,1.3560124442072425E-2,0,8.1131680960863668E-3,3.8209691797357706E-3,3.7571089706036958E-3,3.8209691797357706E-3,3.8209691797357706E-3,3.8209691797357706E-3,3.8209691797357706E-3,3.7571089706036958E-3,3.7571089706036958E-3,3.7571089706036958E-3,3.7571089706036958E-3,3.693248761471622E-3,3.693248761471622E-3,3.693248761471622E-3,3.693248761471622E-3]
[null,null,null,null,null,"HV","p/kVArh",null,null,{"$f":"ABS(J144 + J179)*(1-J87)*PowerFactor*$H28","v":0.11806505026641148},7.2887477714205132E-2,0,6.5055494812125483E-2,6.9666470707763078E-2,0,6.6972837083187062E-2,6.5853513900738264E-2,0,0.11649486807217162,6.8371088897227192E-2,5.351307171235109E-2,0,0,5.4277404285788255E-2,0.1146693627144062,0.19262347375406855,0,0.11524869321774411,5.4277404285786354E-2,5.3370261038670153E-2,5.4277404285786354E-2,5.4277404285786354E-2,5.4277404285786354E-2,5.4277404285786354E-2,5.3370261038670153E-2,5.3370261038670153E-2,5.3370261038670153E-2,5.3370261038670153E-2,5.2463117791553944E-2,5.2463117791553944E-2,5.2463117791553944E-2,5.2463117791553944E-2]
[null,null,null,null,null,"HV/LV","p/kVArh",null,null,{"$f":"ABS(J145 + J180)*(1-J88)*PowerFactor*$H29","v":4.3848257412348213E-2},2.7069728744768866E-2,0,2.4161003414414284E-2,2.587347681393283E-2,0,2.4873086433558192E-2,0,0,4.326510640464562E-2,2.5392384103198509E-2,0,0,0,2.0158121217303343E-2,4.2587130757709458E-2,7.1538559817409156E-2,0,4.2802288698013273E-2,2.0158121217302639E-2,1.9821216684422927E-2,2.0158121217302639E-2,2.0158121217302639E-2,2.0158121217302639E-2,2.0158121217302639E-2,1.9821216684422927E-2,1.9821216684422927E-2,1.9821216684422927E-2,1.9821216684422927E-2,0,0,0,0]
[null,null,null,null,null,"LV circuits","p/kVArh",null,null,{"$f":"ABS(J146 + J181)*(1-J89)*PowerFactor*$H30","v":0},0,0,0,0,0,0,0,0,0,0,0,0,0,4.596067823117414E-2,9.7099000072679742E-2,0.16310849078867648,0,9.7589561904141309E-2,4.596067823117253E-2,0,4.596067823117253E-2,4.596067823117253E-2,4.596067823117253E-2,4.596067823117253E-2,0,0,0,0,0,0,0,0]
[null,null,null,null,null,"LV customers","p/kVArh"]
[null,null,null,null,null,"HV customers","p/kVArh"]
[]
[null,null,{"$f":"INDEX('Version control'!$H$34:$H$59,MATCH($A$1,'Version control'!$F$34:$F$59,0),1)&\"-E: Reactive power charges for applicable customers\"","v":"Section 515-E: Reactive power charges for applicable customers"}]
[]
[null,null,null,null,"Asset costs"]
[null,null,null,null,null,"Transmission exit","p/kVArh"]
[null,null,null,null,null,"GSPs","p/kVArh"]
[null,null,null,null,null,"132kV","p/kVArh",null,null,{"$f":"J$78 * J195","v":0},0,0,0,0,0,0,0,0,0,0,7.748121210912863E-2,7.2128647370737445E-2,6.1255953249762185E-2,0,0,0,0,0,0,0,6.2870307229690114E-2,0,6.2870307229690114E-2,0,6.1819550005795566E-2,0,6.1819550005795566E-2,0,6.0768792781901018E-2,0,6.0768792781901018E-2,0]
[null,null,null,null,null,"132kV/EHV","p/kVArh",null,null,{"$f":"J$78 * J196","v":0},0,0,0,0,0,0,0,0,0,0,7.2091518791754152E-3,6.7111285378803377E-3,3.8805045053319498E-3,0,0,0,0,0,0,0,5.8496967351373752E-3,0,5.8496967351373752E-3,0,5.7519302158871681E-3,0,5.7519302158871681E-3,0,3.6186647658476541E-3,0,3.6186647658476541E-3,0]
[null,null,null,null,null,"EHV","p/kVArh",null,null,{"$f":"J$78 * J197","v":0},0,0,0,0,0,0,0,0,0,0,2.0527459612338962E-2,1.9109379622379567E-2,8.8395307346818899E-3,0,0,0,0,0,0,0,1.665652430237026E-2,0,1.665652430237026E-2,0,1.6378142280603625E-2,0,1.6378142280603625E-2,0,1.0303846565655672E-2,0,1.0303846565655672E-2,0]
[null,null,null,null,null,"EHV/HV","p/kVArh",null,null,{"$f":"J$78 * J198","v":0},0,0,0,0,0,0,0,0,0,0,3.942755500971889E-3,3.6703816765036269E-3,0,0,0,0,0,0,0,0,3.1992562187659504E-3,0,3.1992562187659504E-3,0,3.1457867554996665E-3,0,3.1457867554996665E-3,0,1.1132342252040176E-3,0,1.1132342252040176E-3,0]
[null,null,null,null,null,"132kV/HV","p/kVArh",null,null,{"$f":"J$78 * J199","v":0},0,0,0,0,0,0,0,0,0,0,1.6182903637904601E-3,1.5064954692358549E-3,0,0,0,0,0,0,0,0,1.3131236539647034E-3,0,1.3131236539647034E-3,0,1.2911772976310311E-3,0,1.2911772976310311E-3,0,4.5692313886704918E-4,0,4.5692313886704918E-4,0]
[null,null,null,null,null,"HV","p/kVArh",null,null,{"$f":"J$78 * J200","v":0},0,0,0,0,0,0,0,0,0,0,1.8390433671767268E-2,0,0,0,0,0,0,0,0,0,1.865310608142616E-2,0,1.865310608142616E-2,0,1.8341355004856362E-2,0,1.8341355004856362E-2,0,6.490657414183163E-3,0,6.490657414183163E-3,0]
[null,null,null,null,null,"HV/LV","p/kVArh",null,null,{"$f":"J$78 * J201","v":0},0,0,0,0,0,0,0,0,0,0,0,0,0,0,0,0,0,0,0,0,1.3855178906079714E-3,0,1.3855178906079714E-3,0,1.3623616027426569E-3,0,1.3623616027426569E-3,0,0,0,0,0]
[null,null,null,null,null,"LV circuits","p/kVArh",null,null,{"$f":"J$78 * J202","v":0},0,0,0,0,0,0,0,0,0,0,0,0,0,0,0,0,0,0,0,0,3.1589919153332102E-3,0,3.1589919153332102E-3,0,0,0,0,0,0,0,0,0]
[null,null,null,null,null,"LV customers","p/kVArh"]
[null,null,null,null,null,"HV customers","p/kVArh"]
[]
[null,null,null,null,"Other operating costs"]
[null,null,null,null,null,"Transmission exit","p/kVArh",null,null,{"$f":"J$78 * J207","v":0},{"$f":"K$78 * K207","v":0},0,0,0,0,0,0,0,0,0,4.3265653311537838E-2,4.02767711813432E-2,3.6388764373616149E-2,0,0,0,0,0,0,0,3.5106896783680605E-2,0,3.5106896783680605E-2,0,3.4520151990638591E-2,0,3.4520151990638591E-2,0,3.3933407197596577E-2,0,3.3933407197596577E-2,0]
[null,null,null,null,null,"GSPs","p/kVArh",null,null,{"$f":"J$78 * J208","v":0},0,0,0,0,0,0,0,0,0,0,0,0,0,0,0,0,0,0,0,0,0,0,0,0,0,0,0,0,0,0,0,0]
[null,null,null,null,null,"132kV","p/kVArh",null,null,{"$f":"J$78 * J209","v":0},0,0,0,0,0,0,0,0,0,0,5.6364326882635749E-2,5.247056089262736E-2,4.4561132673223466E-2,0,0,0,0,0,0,0,4.5735507375838889E-2,0,4.5735507375838889E-2,0,4.4971125636966938E-2,0,4.4971125636966938E-2,0,4.4206743898094966E-2,0,4.4206743898094966E-2,0]
[null,null,null,null,null,"132kV/EHV","p/kVArh",null,null,{"$f":"J$78 * J210","v":0},0,0,0,0,0,0,0,0,0,0,5.2443551411160364E-3,4.8820640819054262E-3,4.4107875165435894E-3,0,0,0,0,0,0,0,4.2554086335043788E-3,0,4.2554086335043788E-3,0,4.184287597846924E-3,0,4.184287597846924E-3,0,4.1131665621894692E-3,0,4.1131665621894692E-3,0]
[null,null,null,null,null,"EHV","p/kVArh",null,null,{"$f":"J$78 * J211","v":0},0,0,0,0,0,0,0,0,0,0,1.4932864525020254E-2,1.3901270904785976E-2,1.0047480105503192E-2,0,0,0,0,0,0,0,1.2116921702064505E-2,0,1.2116921702064505E-2,0,1.1914410475846158E-2,0,1.1914410475846158E-2,0,1.1711899249627806E-2,0,1.1711899249627806E-2,0]
[null,null,null,null,null,"EHV/HV","p/kVArh",null,null,{"$f":"J$78 * J212","v":0},0,0,0,0,0,0,0,0,0,0,1.1472755979196001E-2,1.0680193918861686E-2,0,0,0,0,0,0,0,0,9.3092980033328068E-3,0,9.3092980033328068E-3,0,9.1537108500737603E-3,0,9.1537108500737603E-3,0,8.998123696814719E-3,0,8.998123696814719E-3,0]
[null,null,null,null,null,"132kV/HV","p/kVArh",null,null,{"$f":"J$78 * J213","v":0},0,0,0,0,0,0,0,0,0,0,4.7089530260437662E-3,4.3836486685636285E-3,0,0,0,0,0,0,0,0,3.8209691797357706E-3,0,3.8209691797357706E-3,0,3.7571089706036958E-3,0,3.7571089706036958E-3,0,3.693248761471622E-3,0,3.693248761471622E-3,0]
[null,null,null,null,null,"HV","p/kVArh",null,null,{"$f":"J$78 * J214","v":0},0,0,0,0,0,0,0,0,0,0,5.351307171235109E-2,0,0,0,0,0,0,0,0,0,5.4277404285786354E-2,0,5.4277404285786354E-2,0,5.3370261038670153E-2,0,5.3370261038670153E-2,0,5.2463117791553944E-2,0,5.2463117791553944E-2,0]
[null,null,null,null,null,"HV/LV","p/kVArh",null,null,{"$f":"J$78 * J215","v":0},0,0,0,0,0,0,0,0,0,0,0,0,0,0,0,0,0,0,0,0,2.0158121217302639E-2,0,2.0158121217302639E-2,0,1.9821216684422927E-2,0,1.9821216684422927E-2,0,0,0,0,0]
[null,null,null,null,null,"LV circuits","p/kVArh",null,null,{"$f":"J$78 * J216","v":0},0,0,0,0,0,0,0,0,0,0,0,0,0,0,0,0,0,0,0,0,4.596067823117253E-2,0,4.596067823117253E-2,0,0,0,0,0,0,0,0,0]
[null,null,null,null,null,"LV customers","p/kVArh"]
[null,null,null,null,null,"HV customers","p/kVArh"]
[]
[null,null,null,null,"Reactive charge",null,"p/kVArh",null,">",{"$f":"SUM(J223:J234,J237:J248)","v":0},0,0,0,0,0,0,0,0,0,0,0.31867128371507336,0.22972054232482408,0.1693841531586624,0,0,0,0,0,0,0,0.34382772943971418,0,0.34382772943971418,0,0.28978257640808525,0,0.28978257640808525,0,0.24187182604900767,0,0.24187182604900767,0,null,"Paragraphs 146, 87 & 88"]
[]
[null,"Checks"]
[]
[null,null,null,null,"Check for error values",null,"number of issues",{"$f":"SUM(IF(ISERROR(H21:AP250), 1))","v":0}]
[]
[null,"End of sheet"]

{"sheet":"Capacity charges","index":29,"n_rows":297,"n_cols":44,"rows_kept":297,"cut":false,"hidden":false,"merged":[]}
[{"$f":"MID(CELL(\"filename\",A1),FIND(\"]\",CELL(\"filename\",A1))+1,255)","v":"Capacity charges"}]
[{"$f":"Cover!D21&\" - \"&Cover!D23","v":"[enter DNO name] - [enter data version name]"}]
[{"$f":"Cover!D2&\" - \"&Cover!D8&\" v\"&Cover!D10&\" - \"&Cover!D19","v":"ARP model - Release for charge setting v3 - 2020/21"}]
[{"$f":"H295 & IF(H295 = 1, \" issue\", \" issues\") &\" identified in checks on this sheet\"","v":"0 issues identified in checks on this sheet"}]
[null,"Click here to return to model map",null,null,null,null,"Units","Constants",null,"Domestic Unrestricted","Domestic Two Rate","Domestic Off Peak (related MPAN)","Small Non Domestic Unrestricted","Small Non Domestic Two Rate","Small Non Domestic Off Peak (related MPAN)","LV Medium Non-Domestic","LV Sub Medium Non-Domestic","HV Medium Non-Domestic","LV Network Domestic","LV Network Non-Domestic Non-CT","LV HH Metered","LV Sub HH Metered","HV HH Metered","NHH UMS category A","NHH UMS category B","NHH UMS category C","NHH UMS category D","LV UMS (Pseudo HH Metered)","LV Generation NHH or Aggregate HH","LV Sub Generation NHH","LV Generation Intermittent","LV Generation Intermittent no RP charge","LV Generation Non-Intermittent","LV Generation Non-Intermittent no RP charge","LV Sub Generation Intermittent","LV Sub Generation Intermittent no RP charge","LV Sub Generation Non-Intermittent","LV Sub Generation Non-Intermittent no RP charge","HV Generation Intermittent","HV Generation Intermittent no RP charge","HV Generation Non-Intermittent","HV Generation Non-Intermittent no RP charge",null,"Legal text reference"]
[]
[null,"Description"]
[]
[null,null,null,"For demand users (other than UMS), this sheet allocates unit rates to capacity charge elements"]
[null,null,null,"(p/kVA/day) in line with Paragraph 78. "]
[null,null,null,"As per DCUSA Schedule 16, Paragraphs 81 to 82, non half-hourly settled tariff forecast "]
[null,null,null,"recover capacity-related costs through a fixed charge (p/MPAN/day). For these tariff forecast, the"]
[null,null,null,"elements calculated here are further transformed into fixed charges on a separate sheet. "]
[null,null,null,"Exceeded capacity charges (p/kVA/day) are calculated for half-hourly settled tariff forecast in accordance with "]
[null,null,null,"Paragraph 81."]
[]
[null,"Inputs to capacity charge calculations"]
[]
[null,null,{"$f":"INDEX('Version control'!$H$34:$H$59,MATCH($A$1,'Version control'!$F$34:$F$59,0),1)&\"-A: Inputs to capacity charge calculations\"","v":"Section 516-A: Inputs to capacity charge calculations"}]
[]
[null,null,null,null,"Network model diversity factor"]
[null,null,null,null,"Uses re-calculated LV circuit value in line with Paragraph 80"]
[null,null,null,null,null,"Transmission exit","%",{"$f":"'System peak demand'!H226","v":6.3829787234042534E-2}]
[null,null,null,null,null,"GSPs","%",{"$f":"'System peak demand'!H226","v":6.3829787234042534E-2}]
[null,null,null,null,null,"132kV","%",{"$f":"'System peak demand'!H227","v":0.12021276595744657}]
[null,null,null,null,null,"132kV/EHV","%",{"$f":"'System peak demand'!H228","v":0.12021276595744657}]
[null,null,null,null,null,"EHV","%",{"$f":"'System peak demand'!H229","v":0.23111382978723372}]
[null,null,null,null,null,"EHV/HV","%",{"$f":"'System peak demand'!H230","v":0.23111382978723372}]
[null,null,null,null,null,"132kV/HV","%",{"$f":"'System peak demand'!H231","v":0.12021276595744657}]
[null,null,null,null,null,"HV","%",{"$f":"'System peak demand'!H232","v":0.68662594680851052}]
[null,null,null,null,null,"HV/LV","%",{"$f":"'System peak demand'!H233","v":0.68662594680851052}]
[null,null,null,null,null,"LV circuits","%",{"$f":"'System peak demand'!H234","v":0.78809148647974192}]
[null,null,null,null,null,"LV customers","%"]
[null,null,null,null,null,"HV customers","%"]
[]
[null,null,null,null,"Loss adjustment factor to transmission for each DRM network level"]
[null,null,null,null,null,"Transmission exit","scalar",{"$f":"TRANSPOSE('Load & loss characteristics'!J29:S29)","v":1}]
[null,null,null,null,null,"GSPs","scalar",1]
[null,null,null,null,null,"132kV","scalar",1.0089999999999999]
[null,null,null,null,null,"132kV/EHV","scalar",1.0129999999999999]
[null,null,null,null,null,"EHV","scalar",1.024]
[null,null,null,null,null,"EHV/HV","scalar",1.032]
[null,null,null,null,null,"132kV/HV","scalar",1.032]
[null,null,null,null,null,"HV","scalar",1.0409999999999999]
[null,null,null,null,null,"HV/LV","scalar",1.0589999999999999]
[null,null,null,null,null,"LV circuits","scalar",1.077]
[null,null,null,null,null,"LV customers","scalar"]
[null,null,null,null,null,"HV customers","scalar"]
[]
[null,null,null,null,"Network level assets per kW (simultaneous peak) per year"]
[null,null,null,null,null,"Transmission exit","£/kW/year"]
[null,null,null,null,null,"GSPs","£/kW/year"]
[null,null,null,null,null,"132kV","£/kW/year",{"$f":"TRANSPOSE('Unit costs'!L114:S114)","v":16.745407978876123}]
[null,null,null,null,null,"132kV/EHV","£/kW/year",2.2346203070126736]
[null,null,null,null,null,"EHV","£/kW/year",6.4319888598819395]
[null,null,null,null,null,"EHV/HV","£/kW/year",4.9802329295348295]
[null,null,null,null,null,"132kV/HV","£/kW/year",4.7696119039235745]
[null,null,null,null,null,"HV","£/kW/year",20.503163033645205]
[null,null,null,null,null,"HV/LV","£/kW/year",7.7463493271716661]
[null,null,null,null,null,"LV circuits","£/kW/year",17.961938187790018]
[null,null,null,null,null,"LV customers","£/kW/year"]
[null,null,null,null,null,"HV customers","£/kW/year"]
[]
[null,null,null,null,"Other operating costs (excl. service models)"]
[null,null,null,null,null,"Transmission exit","£/kW/year",{"$f":"TRANSPOSE('Unit costs'!J115:S115)","v":9.2672616833812889}]
[null,null,null,null,null,"GSPs","£/kW/year",0]
[null,null,null,null,null,"132kV","£/kW/year",12.181580842786913]
[null,null,null,null,null,"132kV/EHV","£/kW/year",1.625592398653231]
[null,null,null,null,null,"EHV","£/kW/year",4.6790016926070317]
[null,null,null,null,null,"EHV/HV","£/kW/year",3.6229102404413154]
[null,null,null,null,null,"132kV/HV","£/kW/year",3.4696922923381255]
[null,null,null,null,null,"HV","£/kW/year",14.915189784701326]
[null,null,null,null,null,"HV/LV","£/kW/year",5.6351437172773418]
[null,null,null,null,null,"LV circuits","£/kW/year",13.066555464263505]
[null,null,null,null,null,"LV customers","£/kW/year"]
[null,null,null,null,null,"HV customers","£/kW/year"]
[]
[null,null,null,null,"User loss factor (assuming generation does not contribute at level of connection)"]
[null,null,null,null,"These have been adjusted for the share of load going through 132/HV transformation"]
[null,null,null,null,null,"Transmission exit","scalar",null,null,{"$f":"TRANSPOSE('Load & loss characteristics'!J230:S262)","v":1.077},1.077,1.077,1.077,1.077,1.077,1.077,1.0589999999999999,1.0409999999999999,1.077,1.077,1.077,1.0589999999999999,1.0409999999999999,1.077,1.077,1.077,1.077,1.077,-1.077,-1.0589999999999999,-1.077,-1.077,-1.077,-1.077,-1.0589999999999999,-1.0589999999999999,-1.0589999999999999,-1.0589999999999999,-1.0409999999999999,-1.0409999999999999,-1.0409999999999999,-1.0409999999999999]
[null,null,null,null,null,"GSPs","scalar",null,null,1.077,1.077,1.077,1.077,1.077,1.077,1.077,1.0589999999999999,1.0409999999999999,1.077,1.077,1.077,1.0589999999999999,1.0409999999999999,1.077,1.077,1.077,1.077,1.077,-1.077,-1.0589999999999999,-1.077,-1.077,-1.077,-1.077,-1.0589999999999999,-1.0589999999999999,-1.0589999999999999,-1.0589999999999999,-1.0409999999999999,-1.0409999999999999,-1.0409999999999999,-1.0409999999999999]
[null,null,null,null,null,"132kV","scalar",null,null,1.077,1.077,1.077,1.077,1.077,1.077,1.077,1.0589999999999999,1.0409999999999999,1.077,1.077,1.077,1.0589999999999999,1.0409999999999999,1.077,1.077,1.077,1.077,1.077,-1.077,-1.0589999999999999,-1.077,-1.077,-1.077,-1.077,-1.0589999999999999,-1.0589999999999999,-1.0589999999999999,-1.0589999999999999,-1.0409999999999999,-1.0409999999999999,-1.0409999999999999,-1.0409999999999999]
[null,null,null,null,null,"132kV/EHV","scalar",null,null,0.7538999999999999,0.7538999999999999,0.7538999999999999,0.7538999999999999,0.7538999999999999,0.7538999999999999,0.7538999999999999,0.74129999999999996,0.7286999999999999,0.7538999999999999,0.7538999999999999,0.7538999999999999,0.74129999999999996,0.7286999999999999,0.7538999999999999,0.7538999999999999,0.7538999999999999,0.7538999999999999,0.7538999999999999,-0.7538999999999999,-0.74129999999999996,-0.7538999999999999,-0.7538999999999999,-0.7538999999999999,-0.7538999999999999,-0.74129999999999996,-0.74129999999999996,-0.74129999999999996,-0.74129999999999996,-0.7286999999999999,-0.7286999999999999,-0.7286999999999999,-0.7286999999999999]
[null,null,null,null,null,"EHV","scalar",null,null,0.7538999999999999,0.7538999999999999,0.7538999999999999,0.7538999999999999,0.7538999999999999,0.7538999999999999,0.7538999999999999,0.74129999999999996,0.7286999999999999,0.7538999999999999,0.7538999999999999,0.7538999999999999,0.74129999999999996,0.7286999999999999,0.7538999999999999,0.7538999999999999,0.7538999999999999,0.7538999999999999,0.7538999999999999,-0.7538999999999999,-0.74129999999999996,-0.7538999999999999,-0.7538999999999999,-0.7538999999999999,-0.7538999999999999,-0.74129999999999996,-0.74129999999999996,-0.74129999999999996,-0.74129999999999996,-0.7286999999999999,-0.7286999999999999,-0.7286999999999999,-0.7286999999999999]
[null,null,null,null,null,"EHV/HV","scalar",null,null,0.7538999999999999,0.7538999999999999,0.7538999999999999,0.7538999999999999,0.7538999999999999,0.7538999999999999,0.7538999999999999,0.74129999999999996,0.7286999999999999,0.7538999999999999,0.7538999999999999,0.7538999999999999,0.74129999999999996,0.7286999999999999,0.7538999999999999,0.7538999999999999,0.7538999999999999,0.7538999999999999,0.7538999999999999,-0.7538999999999999,-0.74129999999999996,-0.7538999999999999,-0.7538999999999999,-0.7538999999999999,-0.7538999999999999,-0.74129999999999996,-0.74129999999999996,-0.74129999999999996,-0.74129999999999996,-0.7286999999999999,-0.7286999999999999,-0.7286999999999999,-0.7286999999999999]
[null,null,null,null,null,"132kV/HV","scalar",null,null,0.3231,0.3231,0.3231,0.3231,0.3231,0.3231,0.3231,0.31769999999999998,0.31229999999999997,0.3231,0.3231,0.3231,0.31769999999999998,0.31229999999999997,0.3231,0.3231,0.3231,0.3231,0.3231,-0.3231,-0.31769999999999998,-0.3231,-0.3231,-0.3231,-0.3231,-0.31769999999999998,-0.31769999999999998,-0.31769999999999998,-0.31769999999999998,-0.31229999999999997,-0.31229999999999997,-0.31229999999999997,-0.31229999999999997]
[null,null,null,null,null,"HV","scalar",null,null,1.077,1.077,1.077,1.077,1.077,1.077,1.077,1.0589999999999999,1.0409999999999999,1.077,1.077,1.077,1.0589999999999999,1.0409999999999999,1.077,1.077,1.077,1.077,1.077,-1.077,-1.0589999999999999,-1.077,-1.077,-1.077,-1.077,-1.0589999999999999,-1.0589999999999999,-1.0589999999999999,-1.0589999999999999,0,0,0,0]
[null,null,null,null,null,"HV/LV","scalar",null,null,1.077,1.077,1.077,1.077,1.077,1.077,1.077,1.0589999999999999,0,1.077,1.077,1.077,1.0589999999999999,0,1.077,1.077,1.077,1.077,1.077,-1.077,0,-1.077,-1.077,-1.077,-1.077,0,0,0,0,0,0,0,0]
[null,null,null,null,null,"LV circuits","scalar",null,null,1.077,1.077,1.077,1.077,1.077,1.077,1.077,0,0,1.077,1.077,1.077,0,0,1.077,1.077,1.077,1.077,1.077,0,0,0,0,0,0,0,0,0,0,0,0,0,0]
[null,null,null,null,null,"LV customers","scalar"]
[null,null,null,null,null,"HV customers","scalar"]
[]
[null,null,null,null,"Standing charge factors"]
[null,null,null,null,null,"GSPs","%",null,null,{"$f":"'Standing charge factors'!J44","v":0},{"$f":"'Standing charge factors'!K44","v":0},{"$f":"'Standing charge factors'!L44","v":0},{"$f":"'Standing charge factors'!M44","v":0},{"$f":"'Standing charge factors'!N44","v":0},{"$f":"'Standing charge factors'!O44","v":0},{"$f":"'Standing charge factors'!P44","v":0},{"$f":"'Standing charge factors'!Q44","v":0},{"$f":"'Standing charge factors'!R44","v":0},{"$f":"'Standing charge factors'!S44","v":0},{"$f":"'Standing charge factors'!T44","v":0},{"$f":"'Standing charge factors'!U44","v":0},{"$f":"'Standing charge factors'!V44","v":0},{"$f":"'Standing charge factors'!W44","v":0},{"$f":"'Standing charge factors'!X44","v":0},{"$f":"'Standing charge factors'!Y44","v":0},{"$f":"'Standing charge factors'!Z44","v":0},{"$f":"'Standing charge factors'!AA44","v":0},{"$f":"'Standing charge factors'!AB44","v":0},{"$f":"'Standing charge factors'!AC44","v":0},{"$f":"'Standing charge factors'!AD44","v":0},{"$f":"'Standing charge factors'!AE44","v":0},{"$f":"'Standing charge factors'!AF44","v":0},{"$f":"'Standing charge factors'!AG44","v":0},{"$f":"'Standing charge factors'!AH44","v":0},{"$f":"'Standing charge factors'!AI44","v":0},{"$f":"'Standing charge factors'!AJ44","v":0},{"$f":"'Standing charge factors'!AK44","v":0},{"$f":"'Standing charge factors'!AL44","v":0},{"$f":"'Standing charge factors'!AM44","v":0},{"$f":"'Standing charge factors'!AN44","v":0},{"$f":"'Standing charge factors'!AO44","v":0},{"$f":"'Standing charge factors'!AP44","v":0}]
[null,null,null,null,null,"132kV","%",null,null,{"$f":"'Standing charge factors'!J45","v":0},{"$f":"'Standing charge factors'!K45","v":0},{"$f":"'Standing charge factors'!L45","v":0},{"$f":"'Standing charge factors'!M45","v":0},{"$f":"'Standing charge factors'!N45","v":0},{"$f":"'Standing charge factors'!O45","v":0},{"$f":"'Standing charge factors'!P45","v":0},{"$f":"'Standing charge factors'!Q45","v":0},{"$f":"'Standing charge factors'!R45","v":0.06},{"$f":"'Standing charge factors'!S45","v":0},{"$f":"'Standing charge factors'!T45","v":0},{"$f":"'Standing charge factors'!U45","v":0},{"$f":"'Standing charge factors'!V45","v":0},{"$f":"'Standing charge factors'!W45","v":0.06},{"$f":"'Standing charge factors'!X45","v":0},{"$f":"'Standing charge factors'!Y45","v":0},{"$f":"'Standing charge factors'!Z45","v":0},{"$f":"'Standing charge factors'!AA45","v":0},{"$f":"'Standing charge factors'!AB45","v":0},{"$f":"'Standing charge factors'!AC45","v":0},{"$f":"'Standing charge factors'!AD45","v":0},{"$f":"'Standing charge factors'!AE45","v":0},{"$f":"'Standing charge factors'!AF45","v":0},{"$f":"'Standing charge factors'!AG45","v":0},{"$f":"'Standing charge factors'!AH45","v":0},{"$f":"'Standing charge factors'!AI45","v":0},{"$f":"'Standing charge factors'!AJ45","v":0},{"$f":"'Standing charge factors'!AK45","v":0},{"$f":"'Standing charge factors'!AL45","v":0},{"$f":"'Standing charge factors'!AM45","v":0},{"$f":"'Standing charge factors'!AN45","v":0},{"$f":"'Standing charge factors'!AO45","v":0},{"$f":"'Standing charge factors'!AP45","v":0}]
[null,null,null,null,null,"132kV/EHV","%",null,null,{"$f":"'Standing charge factors'!J46","v":0},{"$f":"'Standing charge factors'!K46","v":0},{"$f":"'Standing charge factors'!L46","v":0},{"$f":"'Standing charge factors'!M46","v":0},{"$f":"'Standing charge factors'!N46","v":0},{"$f":"'Standing charge factors'!O46","v":0},{"$f":"'Standing charge factors'!P46","v":0},{"$f":"'Standing charge factors'!Q46","v":0},{"$f":"'Standing charge factors'!R46","v":0},{"$f":"'Standing charge factors'!S46","v":0},{"$f":"'Standing charge factors'!T46","v":0},{"$f":"'Standing charge factors'!U46","v":0},{"$f":"'Standing charge factors'!V46","v":0},{"$f":"'Standing charge factors'!W46","v":0},{"$f":"'Standing charge factors'!X46","v":0},{"$f":"'Standing charge factors'!Y46","v":0},{"$f":"'Standing charge factors'!Z46","v":0},{"$f":"'Standing charge factors'!AA46","v":0},{"$f":"'Standing charge factors'!AB46","v":0},{"$f":"'Standing charge factors'!AC46","v":0},{"$f":"'Standing charge factors'!AD46","v":0},{"$f":"'Standing charge factors'!AE46","v":0},{"$f":"'Standing charge factors'!AF46","v":0},{"$f":"'Standing charge factors'!AG46","v":0},{"$f":"'Standing charge factors'!AH46","v":0},{"$f":"'Standing charge factors'!AI46","v":0},{"$f":"'Standing charge factors'!AJ46","v":0},{"$f":"'Standing charge factors'!AK46","v":0},{"$f":"'Standing charge factors'!AL46","v":0},{"$f":"'Standing charge factors'!AM46","v":0},{"$f":"'Standing charge factors'!AN46","v":0},{"$f":"'Standing charge factors'!AO46","v":0},{"$f":"'Standing charge factors'!AP46","v":0}]
[null,null,null,null,null,"EHV","%",null,null,{"$f":"'Standing charge factors'!J47","v":0},{"$f":"'Standing charge factors'!K47","v":0},{"$f":"'Standing charge factors'!L47","v":0},{"$f":"'Standing charge factors'!M47","v":0},{"$f":"'Standing charge factors'!N47","v":0},{"$f":"'Standing charge factors'!O47","v":0},{"$f":"'Standing charge factors'!P47","v":0},{"$f":"'Standing charge factors'!Q47","v":0},{"$f":"'Standing charge factors'!R47","v":0.2},{"$f":"'Standing charge factors'!S47","v":0},{"$f":"'Standing charge factors'!T47","v":0},{"$f":"'Standing charge factors'!U47","v":0},{"$f":"'Standing charge factors'!V47","v":0},{"$f":"'Standing charge factors'!W47","v":0.2},{"$f":"'Standing charge factors'!X47","v":0},{"$f":"'Standing charge factors'!Y47","v":0},{"$f":"'Standing charge factors'!Z47","v":0},{"$f":"'Standing charge factors'!AA47","v":0},{"$f":"'Standing charge factors'!AB47","v":0},{"$f":"'Standing charge factors'!AC47","v":0},{"$f":"'Standing charge factors'!AD47","v":0},{"$f":"'Standing charge factors'!AE47","v":0},{"$f":"'Standing charge factors'!AF47","v":0},{"$f":"'Standing charge factors'!AG47","v":0},{"$f":"'Standing charge factors'!AH47","v":0},{"$f":"'Standing charge factors'!AI47","v":0},{"$f":"'Standing charge factors'!AJ47","v":0},{"$f":"'Standing charge factors'!AK47","v":0},{"$f":"'Standing charge factors'!AL47","v":0},{"$f":"'Standing charge factors'!AM47","v":0},{"$f":"'Standing charge factors'!AN47","v":0},{"$f":"'Standing charge factors'!AO47","v":0},{"$f":"'Standing charge factors'!AP47","v":0}]
[null,null,null,null,null,"EHV/HV","%",null,null,{"$f":"'Standing charge factors'!J48","v":0},{"$f":"'Standing charge factors'!K48","v":0},{"$f":"'Standing charge factors'!L48","v":0},{"$f":"'Standing charge factors'!M48","v":0},{"$f":"'Standing charge factors'!N48","v":0},{"$f":"'Standing charge factors'!O48","v":0},{"$f":"'Standing charge factors'!P48","v":0},{"$f":"'Standing charge factors'!Q48","v":0},{"$f":"'Standing charge factors'!R48","v":1},{"$f":"'Standing charge factors'!S48","v":0},{"$f":"'Standing charge factors'!T48","v":0},{"$f":"'Standing charge factors'!U48","v":0},{"$f":"'Standing charge factors'!V48","v":0},{"$f":"'Standing charge factors'!W48","v":1},{"$f":"'Standing charge factors'!X48","v":0},{"$f":"'Standing charge factors'!Y48","v":0},{"$f":"'Standing charge factors'!Z48","v":0},{"$f":"'Standing charge factors'!AA48","v":0},{"$f":"'Standing charge factors'!AB48","v":0},{"$f":"'Standing charge factors'!AC48","v":0},{"$f":"'Standing charge factors'!AD48","v":0},{"$f":"'Standing charge factors'!AE48","v":0},{"$f":"'Standing charge factors'!AF48","v":0},{"$f":"'Standing charge factors'!AG48","v":0},{"$f":"'Standing charge factors'!AH48","v":0},{"$f":"'Standing charge factors'!AI48","v":0},{"$f":"'Standing charge factors'!AJ48","v":0},{"$f":"'Standing charge factors'!AK48","v":0},{"$f":"'Standing charge factors'!AL48","v":0},{"$f":"'Standing charge factors'!AM48","v":0},{"$f":"'Standing charge factors'!AN48","v":0},{"$f":"'Standing charge factors'!AO48","v":0},{"$f":"'Standing charge factors'!AP48","v":0}]
[null,null,null,null,null,"132kV/HV","%",null,null,{"$f":"'Standing charge factors'!J49","v":0},{"$f":"'Standing charge factors'!K49","v":0},{"$f":"'Standing charge factors'!L49","v":0},{"$f":"'Standing charge factors'!M49","v":0},{"$f":"'Standing charge factors'!N49","v":0},{"$f":"'Standing charge factors'!O49","v":0},{"$f":"'Standing charge factors'!P49","v":0},{"$f":"'Standing charge factors'!Q49","v":0},{"$f":"'Standing charge factors'!R49","v":1},{"$f":"'Standing charge factors'!S49","v":0},{"$f":"'Standing charge factors'!T49","v":0},{"$f":"'Standing charge factors'!U49","v":0},{"$f":"'Standing charge factors'!V49","v":0},{"$f":"'Standing charge factors'!W49","v":1},{"$f":"'Standing charge factors'!X49","v":0},{"$f":"'Standing charge factors'!Y49","v":0},{"$f":"'Standing charge factors'!Z49","v":0},{"$f":"'Standing charge factors'!AA49","v":0},{"$f":"'Standing charge factors'!AB49","v":0},{"$f":"'Standing charge factors'!AC49","v":0},{"$f":"'Standing charge factors'!AD49","v":0},{"$f":"'Standing charge factors'!AE49","v":0},{"$f":"'Standing charge factors'!AF49","v":0},{"$f":"'Standing charge factors'!AG49","v":0},{"$f":"'Standing charge factors'!AH49","v":0},{"$f":"'Standing charge factors'!AI49","v":0},{"$f":"'Standing charge factors'!AJ49","v":0},{"$f":"'Standing charge factors'!AK49","v":0},{"$f":"'Standing charge factors'!AL49","v":0},{"$f":"'Standing charge factors'!AM49","v":0},{"$f":"'Standing charge factors'!AN49","v":0},{"$f":"'Standing charge factors'!AO49","v":0},{"$f":"'Standing charge factors'!AP49","v":0}]
[null,null,null,null,null,"HV","%",null,null,{"$f":"'Standing charge factors'!J50","v":0},{"$f":"'Standing charge factors'!K50","v":0},{"$f":"'Standing charge factors'!L50","v":0},{"$f":"'Standing charge factors'!M50","v":0},{"$f":"'Standing charge factors'!N50","v":0},{"$f":"'Standing charge factors'!O50","v":0},{"$f":"'Standing charge factors'!P50","v":0},{"$f":"'Standing charge factors'!Q50","v":0},{"$f":"'Standing charge factors'!R50","v":1},{"$f":"'Standing charge factors'!S50","v":0},{"$f":"'Standing charge factors'!T50","v":0},{"$f":"'Standing charge factors'!U50","v":0.2},{"$f":"'Standing charge factors'!V50","v":1},{"$f":"'Standing charge factors'!W50","v":1},{"$f":"'Standing charge factors'!X50","v":0},{"$f":"'Standing charge factors'!Y50","v":0},{"$f":"'Standing charge factors'!Z50","v":0},{"$f":"'Standing charge factors'!AA50","v":0},{"$f":"'Standing charge factors'!AB50","v":0},{"$f":"'Standing charge factors'!AC50","v":0},{"$f":"'Standing charge factors'!AD50","v":0},{"$f":"'Standing charge factors'!AE50","v":0},{"$f":"'Standing charge factors'!AF50","v":0},{"$f":"'Standing charge factors'!AG50","v":0},{"$f":"'Standing charge factors'!AH50","v":0},{"$f":"'Standing charge factors'!AI50","v":0},{"$f":"'Standing charge factors'!AJ50","v":0},{"$f":"'Standing charge factors'!AK50","v":0},{"$f":"'Standing charge factors'!AL50","v":0},{"$f":"'Standing charge factors'!AM50","v":0},{"$f":"'Standing charge factors'!AN50","v":0},{"$f":"'Standing charge factors'!AO50","v":0},{"$f":"'Standing charge factors'!AP50","v":0}]
[null,null,null,null,null,"HV/LV","%",null,null,{"$f":"'Standing charge factors'!J51","v":0},{"$f":"'Standing charge factors'!K51","v":0},{"$f":"'Standing charge factors'!L51","v":0},{"$f":"'Standing charge factors'!M51","v":0},{"$f":"'Standing charge factors'!N51","v":0},{"$f":"'Standing charge factors'!O51","v":0},{"$f":"'Standing charge factors'!P51","v":0},{"$f":"'Standing charge factors'!Q51","v":1},{"$f":"'Standing charge factors'!R51","v":0},{"$f":"'Standing charge factors'!S51","v":0},{"$f":"'Standing charge factors'!T51","v":0},{"$f":"'Standing charge factors'!U51","v":1},{"$f":"'Standing charge factors'!V51","v":1},{"$f":"'Standing charge factors'!W51","v":0},{"$f":"'Standing charge factors'!X51","v":0},{"$f":"'Standing charge factors'!Y51","v":0},{"$f":"'Standing charge factors'!Z51","v":0},{"$f":"'Standing charge factors'!AA51","v":0},{"$f":"'Standing charge factors'!AB51","v":0},{"$f":"'Standing charge factors'!AC51","v":0},{"$f":"'Standing charge factors'!AD51","v":0},{"$f":"'Standing charge factors'!AE51","v":0},{"$f":"'Standing charge factors'!AF51","v":0},{"$f":"'Standing charge factors'!AG51","v":0},{"$f":"'Standing charge factors'!AH51","v":0},{"$f":"'Standing charge factors'!AI51","v":0},{"$f":"'Standing charge factors'!AJ51","v":0},{"$f":"'Standing charge factors'!AK51","v":0},{"$f":"'Standing charge factors'!AL51","v":0},{"$f":"'Standing charge factors'!AM51","v":0},{"$f":"'Standing charge factors'!AN51","v":0},{"$f":"'Standing charge factors'!AO51","v":0},{"$f":"'Standing charge factors'!AP51","v":0}]
[null,null,null,null,null,"LV circuits","%",null,null,{"$f":"'Standing charge factors'!J52","v":1},{"$f":"'Standing charge factors'!K52","v":1},{"$f":"'Standing charge factors'!L52","v":1},{"$f":"'Standing charge factors'!M52","v":1},{"$f":"'Standing charge factors'!N52","v":1},{"$f":"'Standing charge factors'!O52","v":1},{"$f":"'Standing charge factors'!P52","v":1},{"$f":"'Standing charge factors'!Q52","v":0},{"$f":"'Standing charge factors'!R52","v":0},{"$f":"'Standing charge factors'!S52","v":1},{"$f":"'Standing charge factors'!T52","v":1},{"$f":"'Standing charge factors'!U52","v":1},{"$f":"'Standing charge factors'!V52","v":0},{"$f":"'Standing charge factors'!W52","v":0},{"$f":"'Standing charge factors'!X52","v":0},{"$f":"'Standing charge factors'!Y52","v":0},{"$f":"'Standing charge factors'!Z52","v":0},{"$f":"'Standing charge factors'!AA52","v":0},{"$f":"'Standing charge factors'!AB52","v":0},{"$f":"'Standing charge factors'!AC52","v":0},{"$f":"'Standing charge factors'!AD52","v":0},{"$f":"'Standing charge factors'!AE52","v":0},{"$f":"'Standing charge factors'!AF52","v":0},{"$f":"'Standing charge factors'!AG52","v":0},{"$f":"'Standing charge factors'!AH52","v":0},{"$f":"'Standing charge factors'!AI52","v":0},{"$f":"'Standing charge factors'!AJ52","v":0},{"$f":"'Standing charge factors'!AK52","v":0},{"$f":"'Standing charge factors'!AL52","v":0},{"$f":"'Standing charge factors'!AM52","v":0},{"$f":"'Standing charge factors'!AN52","v":0},{"$f":"'Standing charge factors'!AO52","v":0},{"$f":"'Standing charge factors'!AP52","v":0}]
[]
[null,null,null,null,"Customer contributions by network level"]
[null,null,null,null,null,"Transmission exit","%"]
[null,null,null,null,null,"GSPs","%"]
[null,null,null,null,null,"132kV","%",null,null,{"$f":"TRANSPOSE('Customer contributions'!L68:S100)","v":0},0,0,0,0,0,0,0,0,0,0,0,0,0,0,0,0,0,0,0,0,0,0,0,0,0,0,0,0,0,0,0,0]
[null,null,null,null,null,"132kV/EHV","%",null,null,0,0,0,0,0,0,0,0,0.36,0,0,0,0,0.36,0,0,0,0,0,0,0,0,0,0,0,0,0,0,0,0.36,0.36,0.36,0.36]
[null,null,null,null,null,"EHV","%",null,null,0,0,0,0,0,0,0,0,0.36,0,0,0,0,0.36,0,0,0,0,0,0,0,0,0,0,0,0,0,0,0,0.36,0.36,0.36,0.36]
[null,null,null,null,null,"EHV/HV","%",null,null,0.75,0.75,0.75,0.75,0.75,0.75,0.75,0.75,0.91,0.75,0.75,0.75,0.75,0.91,0.75,0.75,0.75,0.75,0.75,0.75,0.75,0.75,0.75,0.75,0.75,0.75,0.75,0.75,0.75,0.91,0.91,0.91,0.91]
[null,null,null,null,null,"132kV/HV","%",null,null,0.75,0.75,0.75,0.75,0.75,0.75,0.75,0.75,0.91,0.75,0.75,0.75,0.75,0.91,0.75,0.75,0.75,0.75,0.75,0.75,0.75,0.75,0.75,0.75,0.75,0.75,0.75,0.75,0.75,0.91,0.91,0.91,0.91]
[null,null,null,null,null,"HV","%",null,null,0.75,0.75,0.75,0.75,0.75,0.75,0.75,0.75,0.91,0.75,0.75,0.75,0.75,0.91,0.75,0.75,0.75,0.75,0.75,0.75,0.75,0.75,0.75,0.75,0.75,0.75,0.75,0.75,0.75,0.91,0.91,0.91,0.91]
[null,null,null,null,null,"HV/LV","%",null,null,0.95,0.95,0.95,0.95,0.95,0.95,0.95,0.95,0,0.95,0.95,0.95,0.95,0,0.95,0.95,0.95,0.95,0.95,0.95,0.95,0.95,0.95,0.95,0.95,0.95,0.95,0.95,0.95,0,0,0,0]
[null,null,null,null,null,"LV circuits","%",null,null,0.95,0.95,0.95,0.95,0.95,0.95,0.95,0,0,0.95,0.95,0.95,0,0,0.95,0.95,0.95,0.95,0.95,0.95,0,0.95,0.95,0.95,0.95,0,0,0,0,0,0,0,0]
[null,null,null,null,null,"LV customers","%"]
[null,null,null,null,null,"HV customers","%"]
[]
[null,null,null,null,"Flag for applicability of capacity charges and exceeded capacity charges",null,null,null,">",null,null,null,null,null,null,null,null,null,null,null,null,null,null,null,null,null,null,null,null,null,null,null,null,null,null,null,null,null,null,null,null,null,null,"Paragraphs 141, 146 & 81 to 84"]
[null,null,null,null,"These flags are used to filter customers into those that receive capacity charges, exceeded "]
[null,null,null,null,"capacity charges, and fixed charges"]
[null,null,null,null,null,"Capacity charge flag","0 or 1",null,null,{"$f":"'Fixed inputs'!J141","v":0},{"$f":"'Fixed inputs'!K141","v":0},{"$f":"'Fixed inputs'!L141","v":0},{"$f":"'Fixed inputs'!M141","v":0},{"$f":"'Fixed inputs'!N141","v":0},{"$f":"'Fixed inputs'!O141","v":0},{"$f":"'Fixed inputs'!P141","v":0},{"$f":"'Fixed inputs'!Q141","v":0},{"$f":"'Fixed inputs'!R141","v":0},{"$f":"'Fixed inputs'!S141","v":0},{"$f":"'Fixed inputs'!T141","v":0},{"$f":"'Fixed inputs'!U141","v":1},{"$f":"'Fixed inputs'!V141","v":1},{"$f":"'Fixed inputs'!W141","v":1},{"$f":"'Fixed inputs'!X141","v":0},{"$f":"'Fixed inputs'!Y141","v":0},{"$f":"'Fixed inputs'!Z141","v":0},{"$f":"'Fixed inputs'!AA141","v":0},{"$f":"'Fixed inputs'!AB141","v":0},{"$f":"'Fixed inputs'!AC141","v":0},{"$f":"'Fixed inputs'!AD141","v":0},{"$f":"'Fixed inputs'!AE141","v":0},{"$f":"'Fixed inputs'!AF141","v":0},{"$f":"'Fixed inputs'!AG141","v":0},{"$f":"'Fixed inputs'!AH141","v":0},{"$f":"'Fixed inputs'!AI141","v":0},{"$f":"'Fixed inputs'!AJ141","v":0},{"$f":"'Fixed inputs'!AK141","v":0},{"$f":"'Fixed inputs'!AL141","v":0},{"$f":"'Fixed inputs'!AM141","v":0},{"$f":"'Fixed inputs'!AN141","v":0},{"$f":"'Fixed inputs'!AO141","v":0},{"$f":"'Fixed inputs'!AP141","v":0}]
[null,null,null,null,null,"Exceeded capacity charge flag","0 or 1",null,null,{"$f":"'Fixed inputs'!J142","v":0},{"$f":"'Fixed inputs'!K142","v":0},{"$f":"'Fixed inputs'!L142","v":0},{"$f":"'Fixed inputs'!M142","v":0},{"$f":"'Fixed inputs'!N142","v":0},{"$f":"'Fixed inputs'!O142","v":0},{"$f":"'Fixed inputs'!P142","v":0},{"$f":"'Fixed inputs'!Q142","v":0},{"$f":"'Fixed inputs'!R142","v":0},{"$f":"'Fixed inputs'!S142","v":0},{"$f":"'Fixed inputs'!T142","v":0},{"$f":"'Fixed inputs'!U142","v":1},{"$f":"'Fixed inputs'!V142","v":1},{"$f":"'Fixed inputs'!W142","v":1},{"$f":"'Fixed inputs'!X142","v":0},{"$f":"'Fixed inputs'!Y142","v":0},{"$f":"'Fixed inputs'!Z142","v":0},{"$f":"'Fixed inputs'!AA142","v":0},{"$f":"'Fixed inputs'!AB142","v":0},{"$f":"'Fixed inputs'!AC142","v":0},{"$f":"'Fixed inputs'!AD142","v":0},{"$f":"'Fixed inputs'!AE142","v":0},{"$f":"'Fixed inputs'!AF142","v":0},{"$f":"'Fixed inputs'!AG142","v":0},{"$f":"'Fixed inputs'!AH142","v":0},{"$f":"'Fixed inputs'!AI142","v":0},{"$f":"'Fixed inputs'!AJ142","v":0},{"$f":"'Fixed inputs'!AK142","v":0},{"$f":"'Fixed inputs'!AL142","v":0},{"$f":"'Fixed inputs'!AM142","v":0},{"$f":"'Fixed inputs'!AN142","v":0},{"$f":"'Fixed inputs'!AO142","v":0},{"$f":"'Fixed inputs'!AP142","v":0}]
[null,null,null,null,null,"Capacity charge allocated to fixed charge","0 or 1",null,null,{"$f":"'Fixed inputs'!J144","v":1},{"$f":"'Fixed inputs'!K144","v":1},{"$f":"'Fixed inputs'!L144","v":0},{"$f":"'Fixed inputs'!M144","v":1},{"$f":"'Fixed inputs'!N144","v":1},{"$f":"'Fixed inputs'!O144","v":0},{"$f":"'Fixed inputs'!P144","v":1},{"$f":"'Fixed inputs'!Q144","v":1},{"$f":"'Fixed inputs'!R144","v":1},{"$f":"'Fixed inputs'!S144","v":1},{"$f":"'Fixed inputs'!T144","v":1},{"$f":"'Fixed inputs'!U144","v":0},{"$f":"'Fixed inputs'!V144","v":0},{"$f":"'Fixed inputs'!W144","v":0},{"$f":"'Fixed inputs'!X144","v":0},{"$f":"'Fixed inputs'!Y144","v":0},{"$f":"'Fixed inputs'!Z144","v":0},{"$f":"'Fixed inputs'!AA144","v":0},{"$f":"'Fixed inputs'!AB144","v":0},{"$f":"'Fixed inputs'!AC144","v":0},{"$f":"'Fixed inputs'!AD144","v":0},{"$f":"'Fixed inputs'!AE144","v":0},{"$f":"'Fixed inputs'!AF144","v":0},{"$f":"'Fixed inputs'!AG144","v":0},{"$f":"'Fixed inputs'!AH144","v":0},{"$f":"'Fixed inputs'!AI144","v":0},{"$f":"'Fixed inputs'!AJ144","v":0},{"$f":"'Fixed inputs'!AK144","v":0},{"$f":"'Fixed inputs'!AL144","v":0},{"$f":"'Fixed inputs'!AM144","v":0},{"$f":"'Fixed inputs'!AN144","v":0},{"$f":"'Fixed inputs'!AO144","v":0},{"$f":"'Fixed inputs'!AP144","v":0}]
[]
[null,"Calculation of capacity charges"]
[]
[null,null,"Calculates capacity element of charges in line with Paragraph 78"]
[]
[null,null,{"$f":"INDEX('Version control'!$H$34:$H$59,MATCH($A$1,'Version control'!$F$34:$F$59,0),1)&\"-B: Capacity-based charge elements (to be split between capacity & fixed charges)\"","v":"Section 516-B: Capacity-based charge elements (to be split between capacity & fixed charges)"}]
[]
[null,null,null,null,"Asset costs",null,null,null,">",null,null,null,null,null,null,null,null,null,null,null,null,null,null,null,null,null,null,null,null,null,null,null,null,null,null,null,null,null,null,null,null,null,null,"Paragraph 73 and 78"]
[null,null,null,null,null,"Transmission exit","p/kVA/day"]
[null,null,null,null,null,"GSPs","p/kVA/day"]
[null,null,null,null,null,"132kV","p/kVA/day",null,null,{"$f":"hundred*J95*$H53*J82/$H39*(1-J107)/days_in_year/(1+$H25)*PowerFactor","v":0},0,0,0,0,0,0,0,0.24084452041785848,0,0,0,0,0.24084452041785848,0,0,0,0,0]
[null,null,null,null,null,"132kV/EHV","p/kVA/day",null,null,{"$f":"hundred*J96*$H54*J83/$H40*(1-J108)/days_in_year/(1+$H26)*PowerFactor","v":0},0,0,0,0,0,0,0,0,0,0,0,0,0,0,0,0,0,0]
[null,null,null,null,null,"EHV","p/kVA/day",null,null,{"$f":"hundred*J97*$H55*J84/$H41*(1-J109)/days_in_year/(1+$H27)*PowerFactor","v":0},0,0,0,0,0,0,0,0.12386157465516504,0,0,0,0,0.12386157465516504,0,0,0,0,0]
[null,null,null,null,null,"EHV/HV","p/kVA/day",null,null,{"$f":"hundred*J98*$H56*J85/$H42*(1-J110)/days_in_year/(1+$H28)*PowerFactor","v":0},0,0,0,0,0,0,0,6.6910421858081104E-2,0,0,0,0,6.6910421858081104E-2,0,0,0,0,0]
[null,null,null,null,null,"132kV/HV","p/kVA/day",null,null,{"$f":"hundred*J99*$H57*J86/$H43*(1-J111)/days_in_year/(1+$H29)*PowerFactor","v":0},0,0,0,0,0,0,0,3.018200329765117E-2,0,0,0,0,3.018200329765117E-2,0,0,0,0,0]
[null,null,null,null,null,"HV","p/kVA/day",null,null,{"$f":"hundred*J100*$H58*J87/$H44*(1-J112)/days_in_year/(1+$H30)*PowerFactor","v":0},0,0,0,0,0,0,0,0.28475760932100191,0,0,0.16366951928632686,0.8046704778283198,0.28475760932100191,0,0,0,0,0]
[null,null,null,null,null,"HV/LV","p/kVA/day",null,null,{"$f":"hundred*J101*$H59*J88/$H45*(1-J113)/days_in_year/(1+$H31)*PowerFactor","v":0},0,0,0,0,0,0,5.9769420610616145E-2,0,0,0,6.0785331442524633E-2,5.9769420610616145E-2,0,0,0,0,0,0]
[null,null,null,null,null,"LV circuits","p/kVA/day",null,null,{"$f":"hundred*J102*$H60*J89/$H46*(1-J114)/days_in_year/(1+$H32)*PowerFactor","v":0.13072667263196919},0.13072667263196919,0.13072667263196919,0.13072667263196919,0.13072667263196919,0.13072667263196919,0.13072667263196919,0,0,0.13072667263196919,0.13072667263196919,0.13072667263196919,0,0,0,0,0,0,0]
[null,null,null,null,null,"LV customers","p/kVA/day"]
[null,null,null,null,null,"HV customers","p/kVA/day"]
[]
[null,null,null,null,"Other operating costs"]
[null,null,null,null,null,"Transmission exit","p/kVA/day",null,null,{"$f":"hundred*J94*$H65*J80/$H37/days_in_year/(1+$H23)*PowerFactor","v":0},0,0,0,0,0,0,0,0,0,0,0,0,0,0,0,0,0,0]
[null,null,null,null,null,"GSPs","p/kVA/day",null,null,{"$f":"hundred*J94*$H66*J81/$H38/days_in_year/(1+$H24)*PowerFactor","v":0},0,0,0,0,0,0,0,0,0,0,0,0,0,0,0,0,0,0]
[null,null,null,null,null,"132kV","p/kVA/day",null,null,{"$f":"hundred*J95*$H67*J82/$H39/days_in_year/(1+$H25)*PowerFactor","v":0},0,0,0,0,0,0,0,0.17520427090897869,0,0,0,0,0.17520427090897869,0,0,0,0,0]
[null,null,null,null,null,"132kV/EHV","p/kVA/day",null,null,{"$f":"hundred*J96*$H68*J83/$H40/days_in_year/(1+$H26)*PowerFactor","v":0},0,0,0,0,0,0,0,0,0,0,0,0,0,0,0,0,0,0]
[null,null,null,null,null,"EHV","p/kVA/day",null,null,{"$f":"hundred*J97*$H69*J84/$H41/days_in_year/(1+$H27)*PowerFactor","v":0},0,0,0,0,0,0,0,0.14078764411116165,0,0,0,0,0.14078764411116165,0,0,0,0,0]
[null,null,null,null,null,"EHV/HV","p/kVA/day",null,null,{"$f":"hundred*J98*$H70*J85/$H42/days_in_year/(1+$H28)*PowerFactor","v":0},0,0,0,0,0,0,0,0.5408280116205828,0,0,0,0,0.5408280116205828,0,0,0,0,0]
[null,null,null,null,null,"132kV/HV","p/kVA/day",null,null,{"$f":"hundred*J99*$H71*J86/$H43/days_in_year/(1+$H29)*PowerFactor","v":0},0,0,0,0,0,0,0,0.24395710528946721,0,0,0,0,0.24395710528946721,0,0,0,0,0]
[null,null,null,null,null,"HV","p/kVA/day",null,null,{"$f":"hundred*J100*$H72*J87/$H44/days_in_year/(1+$H30)*PowerFactor","v":0},0,0,0,0,0,0,0,2.3016577592285548,0,0,0.47625079859541852,2.3414558761028244,2.3016577592285548,0,0,0,0,0]
[null,null,null,null,null,"HV/LV","p/kVA/day",null,null,{"$f":"hundred*J101*$H73*J88/$H45/days_in_year/(1+$H31)*PowerFactor","v":0},0,0,0,0,0,0,0.86959485252699131,0,0,0,0.88437550157844147,0.86959485252699131,0,0,0,0,0,0]
[null,null,null,null,null,"LV circuits","p/kVA/day",null,null,{"$f":"hundred*J102*$H74*J89/$H46/days_in_year/(1+$H32)*PowerFactor","v":1.9019632522345378},1.9019632522345378,1.9019632522345378,1.9019632522345378,1.9019632522345378,1.9019632522345378,1.9019632522345378,0,0,1.9019632522345378,1.9019632522345378,1.9019632522345378,0,0,0,0,0,0,0]
[null,null,null,null,null,"LV customers","p/kVA/day"]
[null,null,null,null,null,"HV customers","p/kVA/day"]
[]
[null,null,{"$f":"INDEX('Version control'!$H$34:$H$59,MATCH($A$1,'Version control'!$F$34:$F$59,0),1)&\"-C: Exceeded capacity-based charge elements\"","v":"Section 516-C: Exceeded capacity-based charge elements"}]
[]
[null,null,null,null,"Asset costs"]
[null,null,null,null,null,"Transmission exit","p/kVA/day"]
[null,null,null,null,null,"GSPs","p/kVA/day"]
[null,null,null,null,null,"132kV","p/kVA/day",null,null,{"$f":"hundred*J95*$H53*J82/$H39/days_in_year/(1+$H25)*PowerFactor","v":0},0,0,0,0,0,0,0,0.24084452041785848,0,0,0,0,0.24084452041785848,0,0,0,0,0]
[null,null,null,null,null,"132kV/EHV","p/kVA/day",null,null,{"$f":"hundred*J96*$H54*J83/$H40/days_in_year/(1+$H26)*PowerFactor","v":0},0,0,0,0,0,0,0,0,0,0,0,0,0,0,0,0,0,0]
[null,null,null,null,null,"EHV","p/kVA/day",null,null,{"$f":"hundred*J97*$H55*J84/$H41/days_in_year/(1+$H27)*PowerFactor","v":0},0,0,0,0,0,0,0,0.19353371039869538,0,0,0,0,0.19353371039869538,0,0,0,0,0]
[null,null,null,null,null,"EHV/HV","p/kVA/day",null,null,{"$f":"hundred*J98*$H56*J85/$H42/days_in_year/(1+$H28)*PowerFactor","v":0},0,0,0,0,0,0,0,0.74344913175645688,0,0,0,0,0.74344913175645688,0,0,0,0,0]
[null,null,null,null,null,"132kV/HV","p/kVA/day",null,null,{"$f":"hundred*J99*$H57*J86/$H43/days_in_year/(1+$H29)*PowerFactor","v":0},0,0,0,0,0,0,0,0.33535559219612421,0,0,0,0,0.33535559219612421,0,0,0,0,0]
[null,null,null,null,null,"HV","p/kVA/day",null,null,{"$f":"hundred*J100*$H58*J87/$H44/days_in_year/(1+$H30)*PowerFactor","v":0},0,0,0,0,0,0,0,3.1639734369000228,0,0,0.65467807714530746,3.2186819113132792,3.1639734369000228,0,0,0,0,0]
[null,null,null,null,null,"HV/LV","p/kVA/day",null,null,{"$f":"hundred*J101*$H59*J88/$H45/days_in_year/(1+$H31)*PowerFactor","v":0},0,0,0,0,0,0,1.1953884122123219,0,0,0,1.2157066288504916,1.1953884122123219,0,0,0,0,0,0]
[null,null,null,null,null,"LV circuits","p/kVA/day",null,null,{"$f":"hundred*J102*$H60*J89/$H46/days_in_year/(1+$H32)*PowerFactor","v":2.6145334526393813},2.6145334526393813,2.6145334526393813,2.6145334526393813,2.6145334526393813,2.6145334526393813,2.6145334526393813,0,0,2.6145334526393813,2.6145334526393813,2.6145334526393813,0,0,0,0,0,0,0]
[null,null,null,null,null,"LV customers","p/kVA/day"]
[null,null,null,null,null,"HV customers","p/kVA/day"]
[]
[null,null,null,null,"Other operating costs"]
[null,null,null,null,null,"Transmission exit","p/kVA/day",null,null,{"$f":"hundred*J94*$H65*J80/$H37/days_in_year/(1+$H23)*PowerFactor","v":0},0,0,0,0,0,0,0,0,0,0,0,0,0,0,0,0,0,0]
[null,null,null,null,null,"GSPs","p/kVA/day",null,null,{"$f":"hundred*J94*$H66*J81/$H38/days_in_year/(1+$H24)*PowerFactor","v":0},0,0,0,0,0,0,0,0,0,0,0,0,0,0,0,0,0,0]
[null,null,null,null,null,"132kV","p/kVA/day",null,null,{"$f":"hundred*J95*$H67*J82/$H39/days_in_year/(1+$H25)*PowerFactor","v":0},0,0,0,0,0,0,0,0.17520427090897869,0,0,0,0,0.17520427090897869,0,0,0,0,0]
[null,null,null,null,null,"132kV/EHV","p/kVA/day",null,null,{"$f":"hundred*J96*$H68*J83/$H40/days_in_year/(1+$H26)*PowerFactor","v":0},0,0,0,0,0,0,0,0,0,0,0,0,0,0,0,0,0,0]
[null,null,null,null,null,"EHV","p/kVA/day",null,null,{"$f":"hundred*J97*$H69*J84/$H41/days_in_year/(1+$H27)*PowerFactor","v":0},0,0,0,0,0,0,0,0.14078764411116165,0,0,0,0,0.14078764411116165,0,0,0,0,0]
[null,null,null,null,null,"EHV/HV","p/kVA/day",null,null,{"$f":"hundred*J98*$H70*J85/$H42/days_in_year/(1+$H28)*PowerFactor","v":0},0,0,0,0,0,0,0,0.5408280116205828,0,0,0,0,0.5408280116205828,0,0,0,0,0]
[null,null,null,null,null,"132kV/HV","p/kVA/day",null,null,{"$f":"hundred*J99*$H71*J86/$H43/days_in_year/(1+$H29)*PowerFactor","v":0},0,0,0,0,0,0,0,0.24395710528946721,0,0,0,0,0.24395710528946721,0,0,0,0,0]
[null,null,null,null,null,"HV","p/kVA/day",null,null,{"$f":"hundred*J100*$H72*J87/$H44/days_in_year/(1+$H30)*PowerFactor","v":0},0,0,0,0,0,0,0,2.3016577592285548,0,0,0.47625079859541852,2.3414558761028244,2.3016577592285548,0,0,0,0,0]
[null,null,null,null,null,"HV/LV","p/kVA/day",null,null,{"$f":"hundred*J101*$H73*J88/$H45/days_in_year/(1+$H31)*PowerFactor","v":0},0,0,0,0,0,0,0.86959485252699131,0,0,0,0.88437550157844147,0.86959485252699131,0,0,0,0,0,0]
[null,null,null,null,null,"LV circuits","p/kVA/day",null,null,{"$f":"hundred*J102*$H74*J89/$H46/days_in_year/(1+$H32)*PowerFactor","v":1.9019632522345378},1.9019632522345378,1.9019632522345378,1.9019632522345378,1.9019632522345378,1.9019632522345378,1.9019632522345378,0,0,1.9019632522345378,1.9019632522345378,1.9019632522345378,0,0,0,0,0,0,0]
[null,null,null,null,null,"LV customers","p/kVA/day"]
[null,null,null,null,null,"HV customers","p/kVA/day"]
[]
[null,null,{"$f":"INDEX('Version control'!$H$34:$H$59,MATCH($A$1,'Version control'!$F$34:$F$59,0),1)&\"-D: Capacity charges for eligible customers, by network level\"","v":"Section 516-D: Capacity charges for eligible customers, by network level"}]
[null,null,null,null,null,null,null,null,">",null,null,null,null,null,null,null,null,null,null,null,null,null,null,null,null,null,null,null,null,null,null,null,null,null,null,null,null,null,null,null,null,null,null,"Paragraph 73, 78"]
[null,null,null,null,"Asset costs"]
[null,null,null,null,null,"Transmission exit","p/kVA/day"]
[null,null,null,null,null,"GSPs","p/kVA/day"]
[null,null,null,null,null,"132kV","p/kVA/day",null,null,{"$f":"J$121 * J134","v":0},{"$f":"K$121 * K134","v":0},0,0,0,0,0,0,0,0,0,0,0,0.24084452041785848,0,0,0,0,0]
[null,null,null,null,null,"132kV/EHV","p/kVA/day",null,null,{"$f":"J$121 * J135","v":0},0,0,0,0,0,0,0,0,0,0,0,0,0,0,0,0,0,0]
[null,null,null,null,null,"EHV","p/kVA/day",null,null,{"$f":"J$121 * J136","v":0},0,0,0,0,0,0,0,0,0,0,0,0,0.12386157465516504,0,0,0,0,0]
[null,null,null,null,null,"EHV/HV","p/kVA/day",null,null,{"$f":"J$121 * J137","v":0},0,0,0,0,0,0,0,0,0,0,0,0,6.6910421858081104E-2,0,0,0,0,0]
[null,null,null,null,null,"132kV/HV","p/kVA/day",null,null,{"$f":"J$121 * J138","v":0},0,0,0,0,0,0,0,0,0,0,0,0,3.018200329765117E-2,0,0,0,0,0]
[null,null,null,null,null,"HV","p/kVA/day",null,null,{"$f":"J$121 * J139","v":0},0,0,0,0,0,0,0,0,0,0,0.16366951928632686,0.8046704778283198,0.28475760932100191,0,0,0,0,0]
[null,null,null,null,null,"HV/LV","p/kVA/day",null,null,{"$f":"J$121 * J140","v":0},0,0,0,0,0,0,0,0,0,0,6.0785331442524633E-2,5.9769420610616145E-2,0,0,0,0,0,0]
[null,null,null,null,null,"LV circuits","p/kVA/day",null,null,{"$f":"J$121 * J141","v":0},0,0,0,0,0,0,0,0,0,0,0.13072667263196919,0,0,0,0,0,0,0]
[null,null,null,null,null,"LV customers","p/kVA/day"]
[null,null,null,null,null,"HV customers","p/kVA/day"]
[]
[null,null,null,null,"Other operating costs"]
[null,null,null,null,null,"Transmission exit","p/kVA/day",null,null,{"$f":"J$121 * J146","v":0},{"$f":"K$121 * K146","v":0},0,0,0,0,0,0,0,0,0,0,0,0,0,0,0,0,0]
[null,null,null,null,null,"GSPs","p/kVA/day",null,null,{"$f":"J$121 * J147","v":0},0,0,0,0,0,0,0,0,0,0,0,0,0,0,0,0,0,0]
[null,null,null,null,null,"132kV","p/kVA/day",null,null,{"$f":"J$121 * J148","v":0},0,0,0,0,0,0,0,0,0,0,0,0,0.17520427090897869,0,0,0,0,0]
[null,null,null,null,null,"132kV/EHV","p/kVA/day",null,null,{"$f":"J$121 * J149","v":0},0,0,0,0,0,0,0,0,0,0,0,0,0,0,0,0,0,0]
[null,null,null,null,null,"EHV","p/kVA/day",null,null,{"$f":"J$121 * J150","v":0},0,0,0,0,0,0,0,0,0,0,0,0,0.14078764411116165,0,0,0,0,0]
[null,null,null,null,null,"EHV/HV","p/kVA/day",null,null,{"$f":"J$121 * J151","v":0},0,0,0,0,0,0,0,0,0,0,0,0,0.5408280116205828,0,0,0,0,0]
[null,null,null,null,null,"132kV/HV","p/kVA/day",null,null,{"$f":"J$121 * J152","v":0},0,0,0,0,0,0,0,0,0,0,0,0,0.24395710528946721,0,0,0,0,0]
[null,null,null,null,null,"HV","p/kVA/day",null,null,{"$f":"J$121 * J153","v":0},0,0,0,0,0,0,0,0,0,0,0.47625079859541852,2.3414558761028244,2.3016577592285548,0,0,0,0,0]
[null,null,null,null,null,"HV/LV","p/kVA/day",null,null,{"$f":"J$121 * J154","v":0},0,0,0,0,0,0,0,0,0,0,0.88437550157844147,0.86959485252699131,0,0,0,0,0,0]
[null,null,null,null,null,"LV circuits","p/kVA/day",null,null,{"$f":"J$121 * J155","v":0},0,0,0,0,0,0,0,0,0,0,1.9019632522345378,0,0,0,0,0,0,0]
[null,null,null,null,null,"LV customers","p/kVA/day"]
[null,null,null,null,null,"HV customers","p/kVA/day"]
[]
[null,null,{"$f":"INDEX('Version control'!$H$34:$H$59,MATCH($A$1,'Version control'!$F$34:$F$59,0),1)&\"-E: Exceeded capacity charges for eligible customers, by network level\"","v":"Section 516-E: Exceeded capacity charges for eligible customers, by network level"}]
[null,null,null,null,null,null,null,null,">",null,null,null,null,null,null,null,null,null,null,null,null,null,null,null,null,null,null,null,null,null,null,null,null,null,null,null,null,null,null,null,null,null,null,"Paragraphs 81 & 153"]
[null,null,null,null,"Asset costs"]
[null,null,null,null,null,"Transmission exit","p/kVA/day"]
[null,null,null,null,null,"GSPs","p/kVA/day"]
[null,null,null,null,null,"132kV","p/kVA/day",null,null,{"$f":"J$122 * J164","v":0},{"$f":"K$122 * K164","v":0},0,0,0,0,0,0,0,0,0,0,0,0.24084452041785848,0,0,0,0,0]
[null,null,null,null,null,"132kV/EHV","p/kVA/day",null,null,{"$f":"J$122 * J165","v":0},0,0,0,0,0,0,0,0,0,0,0,0,0,0,0,0,0,0]
[null,null,null,null,null,"EHV","p/kVA/day",null,null,{"$f":"J$122 * J166","v":0},0,0,0,0,0,0,0,0,0,0,0,0,0.19353371039869538,0,0,0,0,0]
[null,null,null,null,null,"EHV/HV","p/kVA/day",null,null,{"$f":"J$122 * J167","v":0},0,0,0,0,0,0,0,0,0,0,0,0,0.74344913175645688,0,0,0,0,0]
[null,null,null,null,null,"132kV/HV","p/kVA/day",null,null,{"$f":"J$122 * J168","v":0},0,0,0,0,0,0,0,0,0,0,0,0,0.33535559219612421,0,0,0,0,0]
[null,null,null,null,null,"HV","p/kVA/day",null,null,{"$f":"J$122 * J169","v":0},0,0,0,0,0,0,0,0,0,0,0.65467807714530746,3.2186819113132792,3.1639734369000228,0,0,0,0,0]
[null,null,null,null,null,"HV/LV","p/kVA/day",null,null,{"$f":"J$122 * J170","v":0},0,0,0,0,0,0,0,0,0,0,1.2157066288504916,1.1953884122123219,0,0,0,0,0,0]
[null,null,null,null,null,"LV circuits","p/kVA/day",null,null,{"$f":"J$122 * J171","v":0},0,0,0,0,0,0,0,0,0,0,2.6145334526393813,0,0,0,0,0,0,0]
[null,null,null,null,null,"LV customers","p/kVA/day"]
[null,null,null,null,null,"HV customers","p/kVA/day"]
[]
[null,null,null,null,"Other operating costs"]
[null,null,null,null,null,"Transmission exit","p/kVA/day",null,null,{"$f":"J$122 * J176","v":0},{"$f":"K$122 * K176","v":0},0,0,0,0,0,0,0,0,0,0,0,0,0,0,0,0,0]
[null,null,null,null,null,"GSPs","p/kVA/day",null,null,{"$f":"J$122 * J177","v":0},0,0,0,0,0,0,0,0,0,0,0,0,0,0,0,0,0,0]
[null,null,null,null,null,"132kV","p/kVA/day",null,null,{"$f":"J$122 * J178","v":0},0,0,0,0,0,0,0,0,0,0,0,0,0.17520427090897869,0,0,0,0,0]
[null,null,null,null,null,"132kV/EHV","p/kVA/day",null,null,{"$f":"J$122 * J179","v":0},0,0,0,0,0,0,0,0,0,0,0,0,0,0,0,0,0,0]
[null,null,null,null,null,"EHV","p/kVA/day",null,null,{"$f":"J$122 * J180","v":0},0,0,0,0,0,0,0,0,0,0,0,0,0.14078764411116165,0,0,0,0,0]
[null,null,null,null,null,"EHV/HV","p/kVA/day",null,null,{"$f":"J$122 * J181","v":0},0,0,0,0,0,0,0,0,0,0,0,0,0.5408280116205828,0,0,0,0,0]
[null,null,null,null,null,"132kV/HV","p/kVA/day",null,null,{"$f":"J$122 * J182","v":0},0,0,0,0,0,0,0,0,0,0,0,0,0.24395710528946721,0,0,0,0,0]
[null,null,null,null,null,"HV","p/kVA/day",null,null,{"$f":"J$122 * J183","v":0},0,0,0,0,0,0,0,0,0,0,0.47625079859541852,2.3414558761028244,2.3016577592285548,0,0,0,0,0]
[null,null,null,null,null,"HV/LV","p/kVA/day",null,null,{"$f":"J$122 * J184","v":0},0,0,0,0,0,0,0,0,0,0,0.88437550157844147,0.86959485252699131,0,0,0,0,0,0]
[null,null,null,null,null,"LV circuits","p/kVA/day",null,null,{"$f":"J$122 * J185","v":0},0,0,0,0,0,0,0,0,0,0,1.9019632522345378,0,0,0,0,0,0,0]
[null,null,null,null,null,"LV customers","p/kVA/day"]
[null,null,null,null,null,"HV customers","p/kVA/day"]
[]
[null,"Capacity charges (and elements allocated to fixed charges)"]
[]
[null,null,"Exports capacity and exceeded capacity charges"]
[null,null,"Exports capacity element of charges that is allocated to fixed charges"]
[]
[null,null,{"$f":"INDEX('Version control'!$H$34:$H$59,MATCH($A$1,'Version control'!$F$34:$F$59,0),1)&\"-F: Capacity and exceeded capacity charges\"","v":"Section 516-F: Capacity and exceeded capacity charges"}]
[]
[null,null,null,null,"Total capacity charge",null,"p/kVA/day",null,">",{"$f":"SUM(J192:J203,J206:J217)","v":0},0,0,0,0,0,0,0,0,0,0,3.6177710757692187,4.0754906270687519,4.1489909207085027,0,0,0,0,0,null,null,null,null,null,null,null,null,null,null,null,null,null,null,null,"Paragraph 81"]
[null,null,null,null,"Total exceeded capacity charge",null,"p/kVA/day",null,">",{"$f":"SUM(J222:J233,J236:J247)","v":0},{"$f":"SUM(K222:K233,K236:K247)","v":0},0,0,0,0,0,0,0,0,0,7.7475077110435775,7.6251210521554169,8.0795911828279028,0,0,0,0,0,null,null,null,null,null,null,null,null,null,null,null,null,null,null,null,"Paragraph 81"]
[]
[null,null,{"$f":"INDEX('Version control'!$H$34:$H$59,MATCH($A$1,'Version control'!$F$34:$F$59,0),1)&\"-G: Capacity elements allocated to fixed charges\"","v":"Section 516-G: Capacity elements allocated to fixed charges"}]
[null,null,null,null,null,null,null,null,">",null,null,null,null,null,null,null,null,null,null,null,null,null,null,null,null,null,null,null,null,null,null,null,null,null,null,null,null,null,null,null,null,null,null,"Paragraphs 73 & 78"]
[null,null,null,null,"Asset costs"]
[null,null,null,null,null,"Transmission exit","p/kVA/day"]
[null,null,null,null,null,"GSPs","p/kVA/day"]
[null,null,null,null,null,"132kV","p/kVA/day",null,null,{"$f":"J$123 * J134","v":0},{"$f":"K$123 * K134","v":0},0,0,0,0,0,0,0.24084452041785848,0,0,0,0,0,0,0,0,0,0]
[null,null,null,null,null,"132kV/EHV","p/kVA/day",null,null,{"$f":"J$123 * J135","v":0},0,0,0,0,0,0,0,0,0,0,0,0,0,0,0,0,0,0]
[null,null,null,null,null,"EHV","p/kVA/day",null,null,{"$f":"J$123 * J136","v":0},0,0,0,0,0,0,0,0.12386157465516504,0,0,0,0,0,0,0,0,0,0]
[null,null,null,null,null,"EHV/HV","p/kVA/day",null,null,{"$f":"J$123 * J137","v":0},0,0,0,0,0,0,0,6.6910421858081104E-2,0,0,0,0,0,0,0,0,0,0]
[null,null,null,null,null,"132kV/HV","p/kVA/day",null,null,{"$f":"J$123 * J138","v":0},0,0,0,0,0,0,0,3.018200329765117E-2,0,0,0,0,0,0,0,0,0,0]
[null,null,null,null,null,"HV","p/kVA/day",null,null,{"$f":"J$123 * J139","v":0},0,0,0,0,0,0,0,0.28475760932100191,0,0,0,0,0,0,0,0,0,0]
[null,null,null,null,null,"HV/LV","p/kVA/day",null,null,{"$f":"J$123 * J140","v":0},0,0,0,0,0,0,5.9769420610616145E-2,0,0,0,0,0,0,0,0,0,0,0]
[null,null,null,null,null,"LV circuits","p/kVA/day",null,null,{"$f":"J$123 * J141","v":0.13072667263196919},0.13072667263196919,0,0.13072667263196919,0.13072667263196919,0,0.13072667263196919,0,0,0.13072667263196919,0.13072667263196919,0,0,0,0,0,0,0,0]
[null,null,null,null,null,"LV customers","p/kVA/day"]
[null,null,null,null,null,"HV customers","p/kVA/day"]
[]
[null,null,null,null,"Other costs"]
[null,null,null,null,null,"Transmission exit","p/kVA/day",null,null,{"$f":"J$123 * J146","v":0},{"$f":"K$123 * K146","v":0},0,0,0,0,0,0,0,0,0,0,0,0,0,0,0,0,0]
[null,null,null,null,null,"GSPs","p/kVA/day",null,null,{"$f":"J$123 * J147","v":0},0,0,0,0,0,0,0,0,0,0,0,0,0,0,0,0,0,0]
[null,null,null,null,null,"132kV","p/kVA/day",null,null,{"$f":"J$123 * J148","v":0},0,0,0,0,0,0,0,0.17520427090897869,0,0,0,0,0,0,0,0,0,0]
[null,null,null,null,null,"132kV/EHV","p/kVA/day",null,null,{"$f":"J$123 * J149","v":0},0,0,0,0,0,0,0,0,0,0,0,0,0,0,0,0,0,0]
[null,null,null,null,null,"EHV","p/kVA/day",null,null,{"$f":"J$123 * J150","v":0},0,0,0,0,0,0,0,0.14078764411116165,0,0,0,0,0,0,0,0,0,0]
[null,null,null,null,null,"EHV/HV","p/kVA/day",null,null,{"$f":"J$123 * J151","v":0},0,0,0,0,0,0,0,0.5408280116205828,0,0,0,0,0,0,0,0,0,0]
[null,null,null,null,null,"132kV/HV","p/kVA/day",null,null,{"$f":"J$123 * J152","v":0},0,0,0,0,0,0,0,0.24395710528946721,0,0,0,0,0,0,0,0,0,0]
[null,null,null,null,null,"HV","p/kVA/day",null,null,{"$f":"J$123 * J153","v":0},0,0,0,0,0,0,0,2.3016577592285548,0,0,0,0,0,0,0,0,0,0]
[null,null,null,null,null,"HV/LV","p/kVA/day",null,null,{"$f":"J$123 * J154","v":0},0,0,0,0,0,0,0.86959485252699131,0,0,0,0,0,0,0,0,0,0,0]
[null,null,null,null,null,"LV circuits","p/kVA/day",null,null,{"$f":"J$123 * J155","v":1.9019632522345378},1.9019632522345378,0,1.9019632522345378,1.9019632522345378,0,1.9019632522345378,0,0,1.9019632522345378,1.9019632522345378,0,0,0,0,0,0,0,0]
[null,null,null,null,null,"LV customers","p/kVA/day"]
[null,null,null,null,null,"HV customers","p/kVA/day"]
[]
[null,"Checks"]
[]
[null,null,null,null,"Check for error values",null,"number of issues",{"$f":"SUM(IF(ISERROR(H51:AP287), 1))","v":0}]
[]
[null,null,null,null,"Check that costs are not allocated to both capacity and fixed charges",null,"number of issues",{"$f":"SUM(J293:AP293)","v":0},null,{"$f":"IF(J121 + J123 < 2, 0, 1)","v":0},{"$f":"IF(K121 + K123 < 2, 0, 1)","v":0},0,0,0,0,0,0,0,0,0,0,0,0,0,0,0,0,0,0,0,0,0,0,0,0,0,0,0,0,0,0,0]
[]
[null,null,null,null,"Summary of checks",null,"number of issues",{"$f":"H291 + H293","v":0}]
[]
[null,"End of sheet"]

{"sheet":"Fixed charges","index":30,"n_rows":167,"n_cols":44,"rows_kept":167,"cut":false,"hidden":false,"merged":[]}
[{"$f":"MID(CELL(\"filename\",A1),FIND(\"]\",CELL(\"filename\",A1))+1,255)","v":"Fixed charges"}]
[{"$f":"Cover!D21&\" - \"&Cover!D23","v":"[enter DNO name] - [enter data version name]"}]
[{"$f":"Cover!D2&\" - \"&Cover!D8&\" v\"&Cover!D10&\" - \"&Cover!D19","v":"ARP model - Release for charge setting v3 - 2020/21"}]
[{"$f":"H165 & IF(H165 = 1, \" issue\", \" issues\") &\" identified in checks on this sheet\"","v":"0 issues identified in checks on this sheet"}]
[null,"Click here to return to model map",null,null,null,null,"Units","Constants",null,"Domestic Unrestricted","Domestic Two Rate","Domestic Off Peak (related MPAN)","Small Non Domestic Unrestricted","Small Non Domestic Two Rate","Small Non Domestic Off Peak (related MPAN)","LV Medium Non-Domestic","LV Sub Medium Non-Domestic","HV Medium Non-Domestic","LV Network Domestic","LV Network Non-Domestic Non-CT","LV HH Metered","LV Sub HH Metered","HV HH Metered","NHH UMS category A","NHH UMS category B","NHH UMS category C","NHH UMS category D","LV UMS (Pseudo HH Metered)","LV Generation NHH or Aggregate HH","LV Sub Generation NHH","LV Generation Intermittent","LV Generation Intermittent no RP charge","LV Generation Non-Intermittent","LV Generation Non-Intermittent no RP charge","LV Sub Generation Intermittent","LV Sub Generation Intermittent no RP charge","LV Sub Generation Non-Intermittent","LV Sub Generation Non-Intermittent no RP charge","HV Generation Intermittent","HV Generation Intermittent no RP charge","HV Generation Non-Intermittent","HV Generation Non-Intermittent no RP charge",null,"Legal text reference"]
[]
[null,"Description"]
[]
[null,null,null,"This sheet calculates fixed charges (p/MPAN/day) for non half-hourly settled demand"]
[null,null,null,"users (pre-matching) in accordance with Paragraphs 82 to 86. "]
[null,null,null,"The calculations transform capacity elements of the yardstick charge into a fixed charge. As"]
[null,null,null,"explained in, Paragraphs 83 to 84, this calculation differs slightly by customer type."]
[]
[null,"Inputs to fixed charge calculations"]
[]
[null,null,{"$f":"INDEX('Version control'!$H$34:$H$59,MATCH($A$1,'Version control'!$F$34:$F$59,0),1)&\"-A: Volumes (discounted MPANs & maximum load)\"","v":"Section 517-A: Volumes (discounted MPANs & maximum load)"}]
[null,null,null,null,null,null,null,null,">",null,null,null,null,null,null,null,null,null,null,null,null,null,null,null,null,null,null,null,null,null,null,null,null,null,null,null,null,null,null,null,null,null,null,"Paragraph 73 & 78"]
[null,null,null,null,"Discounted MPANs",null,"MPANs",null,null,{"$f":"'Volume adjustments'!J103","v":1006668.6924471315},{"$f":"'Volume adjustments'!K103","v":49351.847354592785},{"$f":"'Volume adjustments'!L103","v":0},{"$f":"'Volume adjustments'!M103","v":64891.819902947362},{"$f":"'Volume adjustments'!N103","v":13311.470174753056},{"$f":"'Volume adjustments'!O103","v":0},{"$f":"'Volume adjustments'!P103","v":237.70400615767747},{"$f":"'Volume adjustments'!Q103","v":1.0000000000000001E-9},{"$f":"'Volume adjustments'!R103","v":3.2303097041095885},{"$f":"'Volume adjustments'!S103","v":1568.1873811668759},{"$f":"'Volume adjustments'!T103","v":2244.6252671811812},{"$f":"'Volume adjustments'!U103","v":6075.9800097459211},{"$f":"'Volume adjustments'!V103","v":99.294780066587435},{"$f":"'Volume adjustments'!W103","v":822.40782166981739},{"$f":"'Volume adjustments'!X103","v":587},{"$f":"'Volume adjustments'!Y103","v":772},{"$f":"'Volume adjustments'!Z103","v":87},{"$f":"'Volume adjustments'!AA103","v":0},{"$f":"'Volume adjustments'!AB103","v":35.345205479452055},{"$f":"'Volume adjustments'!AC103","v":0},{"$f":"'Volume adjustments'!AD103","v":0},{"$f":"'Volume adjustments'!AE103","v":386.31110958904111},{"$f":"'Volume adjustments'!AF103","v":0},{"$f":"'Volume adjustments'!AG103","v":18.312676027397263},{"$f":"'Volume adjustments'!AH103","v":0},{"$f":"'Volume adjustments'!AI103","v":6.5165732876712346},{"$f":"'Volume adjustments'!AJ103","v":0},{"$f":"'Volume adjustments'!AK103","v":2.7530136986301375},{"$f":"'Volume adjustments'!AL103","v":0},{"$f":"'Volume adjustments'!AM103","v":158.62326986301375},{"$f":"'Volume adjustments'!AN103","v":0},{"$f":"'Volume adjustments'!AO103","v":46.144759931506854},{"$f":"'Volume adjustments'!AP103","v":0}]
[]
[null,null,null,null,"Maximum load",null,"MW",null,null,{"$f":"'System peak demand'!J200","v":837.75922794417897},{"$f":"'System peak demand'!K200","v":115.2656177363218},{"$f":"'System peak demand'!L200","v":1.3165220618808942},{"$f":"'System peak demand'!M200","v":241.26804865430381},{"$f":"'System peak demand'!N200","v":59.275875070655445},{"$f":"'System peak demand'!O200","v":0.9264901800853671},{"$f":"'System peak demand'!P200","v":4.011655379990299},{"$f":"'System peak demand'!Q200","v":1.6901776814354659E-11},{"$f":"'System peak demand'!R200","v":2.8489099777173166E-2},{"$f":"'System peak demand'!S200","v":1.5552793704818806},{"$f":"'System peak demand'!T200","v":36.679320653258458},{"$f":"'System peak demand'!U200","v":298.26226023427483},{"$f":"'System peak demand'!V200","v":15.523311320209265},{"$f":"'System peak demand'!W200","v":296.36037218856251},{"$f":"'System peak demand'!X200","v":0.24672443911845438},{"$f":"'System peak demand'!Y200","v":1.2658454089050006},{"$f":"'System peak demand'!Z200","v":0.11705204802790793},{"$f":"'System peak demand'!AA200","v":0},{"$f":"'System peak demand'!AB200","v":28.445288633722864},{"$f":"'System peak demand'!AC200","v":0},{"$f":"'System peak demand'!AD200","v":0},{"$f":"'System peak demand'!AE200","v":0},{"$f":"'System peak demand'!AF200","v":0},{"$f":"'System peak demand'!AG200","v":0},{"$f":"'System peak demand'!AH200","v":0},{"$f":"'System peak demand'!AI200","v":0},{"$f":"'System peak demand'!AJ200","v":0},{"$f":"'System peak demand'!AK200","v":0},{"$f":"'System peak demand'!AL200","v":0},{"$f":"'System peak demand'!AM200","v":0},{"$f":"'System peak demand'!AN200","v":0},{"$f":"'System peak demand'!AO200","v":0},{"$f":"'System peak demand'!AP200","v":0}]
[]
[null,null,{"$f":"INDEX('Version control'!$H$34:$H$59,MATCH($A$1,'Version control'!$F$34:$F$59,0),1)&\"-B: Capacity elements allocated to fixed charges\"","v":"Section 517-B: Capacity elements allocated to fixed charges"}]
[null,null,null,null,null,null,null,null,">",null,null,null,null,null,null,null,null,null,null,null,null,null,null,null,null,null,null,null,null,null,null,null,null,null,null,null,null,null,null,null,null,null,null,"Paragraph 73 & 78"]
[null,null,null,null,"Asset costs"]
[null,null,null,null,null,"Transmission exit","p/kVA/day"]
[null,null,null,null,null,"GSPs","p/kVA/day"]
[null,null,null,null,null,"132kV","p/kVA/day",null,null,{"$f":"'Capacity charges'!J264","v":0},{"$f":"'Capacity charges'!K264","v":0},{"$f":"'Capacity charges'!L264","v":0},{"$f":"'Capacity charges'!M264","v":0},{"$f":"'Capacity charges'!N264","v":0},{"$f":"'Capacity charges'!O264","v":0},{"$f":"'Capacity charges'!P264","v":0},{"$f":"'Capacity charges'!Q264","v":0},{"$f":"'Capacity charges'!R264","v":0.24084452041785848},{"$f":"'Capacity charges'!S264","v":0},{"$f":"'Capacity charges'!T264","v":0},{"$f":"'Capacity charges'!U264","v":0},{"$f":"'Capacity charges'!V264","v":0},{"$f":"'Capacity charges'!W264","v":0},{"$f":"'Capacity charges'!X264","v":0},{"$f":"'Capacity charges'!Y264","v":0},{"$f":"'Capacity charges'!Z264","v":0},{"$f":"'Capacity charges'!AA264","v":0},{"$f":"'Capacity charges'!AB264","v":0},{"$f":"'Capacity charges'!AC264","v":0},{"$f":"'Capacity charges'!AD264","v":0},{"$f":"'Capacity charges'!AE264","v":0},{"$f":"'Capacity charges'!AF264","v":0},{"$f":"'Capacity charges'!AG264","v":0},{"$f":"'Capacity charges'!AH264","v":0},{"$f":"'Capacity charges'!AI264","v":0},{"$f":"'Capacity charges'!AJ264","v":0},{"$f":"'Capacity charges'!AK264","v":0},{"$f":"'Capacity charges'!AL264","v":0},{"$f":"'Capacity charges'!AM264","v":0},{"$f":"'Capacity charges'!AN264","v":0},{"$f":"'Capacity charges'!AO264","v":0},{"$f":"'Capacity charges'!AP264","v":0}]
[null,null,null,null,null,"132kV/EHV","p/kVA/day",null,null,{"$f":"'Capacity charges'!J265","v":0},{"$f":"'Capacity charges'!K265","v":0},{"$f":"'Capacity charges'!L265","v":0},{"$f":"'Capacity charges'!M265","v":0},{"$f":"'Capacity charges'!N265","v":0},{"$f":"'Capacity charges'!O265","v":0},{"$f":"'Capacity charges'!P265","v":0},{"$f":"'Capacity charges'!Q265","v":0},{"$f":"'Capacity charges'!R265","v":0},{"$f":"'Capacity charges'!S265","v":0},{"$f":"'Capacity charges'!T265","v":0},{"$f":"'Capacity charges'!U265","v":0},{"$f":"'Capacity charges'!V265","v":0},{"$f":"'Capacity charges'!W265","v":0},{"$f":"'Capacity charges'!X265","v":0},{"$f":"'Capacity charges'!Y265","v":0},{"$f":"'Capacity charges'!Z265","v":0},{"$f":"'Capacity charges'!AA265","v":0},{"$f":"'Capacity charges'!AB265","v":0},{"$f":"'Capacity charges'!AC265","v":0},{"$f":"'Capacity charges'!AD265","v":0},{"$f":"'Capacity charges'!AE265","v":0},{"$f":"'Capacity charges'!AF265","v":0},{"$f":"'Capacity charges'!AG265","v":0},{"$f":"'Capacity charges'!AH265","v":0},{"$f":"'Capacity charges'!AI265","v":0},{"$f":"'Capacity charges'!AJ265","v":0},{"$f":"'Capacity charges'!AK265","v":0},{"$f":"'Capacity charges'!AL265","v":0},{"$f":"'Capacity charges'!AM265","v":0},{"$f":"'Capacity charges'!AN265","v":0},{"$f":"'Capacity charges'!AO265","v":0},{"$f":"'Capacity charges'!AP265","v":0}]
[null,null,null,null,null,"EHV","p/kVA/day",null,null,{"$f":"'Capacity charges'!J266","v":0},{"$f":"'Capacity charges'!K266","v":0},{"$f":"'Capacity charges'!L266","v":0},{"$f":"'Capacity charges'!M266","v":0},{"$f":"'Capacity charges'!N266","v":0},{"$f":"'Capacity charges'!O266","v":0},{"$f":"'Capacity charges'!P266","v":0},{"$f":"'Capacity charges'!Q266","v":0},{"$f":"'Capacity charges'!R266","v":0.12386157465516504},{"$f":"'Capacity charges'!S266","v":0},{"$f":"'Capacity charges'!T266","v":0},{"$f":"'Capacity charges'!U266","v":0},{"$f":"'Capacity charges'!V266","v":0},{"$f":"'Capacity charges'!W266","v":0},{"$f":"'Capacity charges'!X266","v":0},{"$f":"'Capacity charges'!Y266","v":0},{"$f":"'Capacity charges'!Z266","v":0},{"$f":"'Capacity charges'!AA266","v":0},{"$f":"'Capacity charges'!AB266","v":0},{"$f":"'Capacity charges'!AC266","v":0},{"$f":"'Capacity charges'!AD266","v":0},{"$f":"'Capacity charges'!AE266","v":0},{"$f":"'Capacity charges'!AF266","v":0},{"$f":"'Capacity charges'!AG266","v":0},{"$f":"'Capacity charges'!AH266","v":0},{"$f":"'Capacity charges'!AI266","v":0},{"$f":"'Capacity charges'!AJ266","v":0},{"$f":"'Capacity charges'!AK266","v":0},{"$f":"'Capacity charges'!AL266","v":0},{"$f":"'Capacity charges'!AM266","v":0},{"$f":"'Capacity charges'!AN266","v":0},{"$f":"'Capacity charges'!AO266","v":0},{"$f":"'Capacity charges'!AP266","v":0}]
[null,null,null,null,null,"EHV/HV","p/kVA/day",null,null,{"$f":"'Capacity charges'!J267","v":0},{"$f":"'Capacity charges'!K267","v":0},{"$f":"'Capacity charges'!L267","v":0},{"$f":"'Capacity charges'!M267","v":0},{"$f":"'Capacity charges'!N267","v":0},{"$f":"'Capacity charges'!O267","v":0},{"$f":"'Capacity charges'!P267","v":0},{"$f":"'Capacity charges'!Q267","v":0},{"$f":"'Capacity charges'!R267","v":6.6910421858081104E-2},{"$f":"'Capacity charges'!S267","v":0},{"$f":"'Capacity charges'!T267","v":0},{"$f":"'Capacity charges'!U267","v":0},{"$f":"'Capacity charges'!V267","v":0},{"$f":"'Capacity charges'!W267","v":0},{"$f":"'Capacity charges'!X267","v":0},{"$f":"'Capacity charges'!Y267","v":0},{"$f":"'Capacity charges'!Z267","v":0},{"$f":"'Capacity charges'!AA267","v":0},{"$f":"'Capacity charges'!AB267","v":0},{"$f":"'Capacity charges'!AC267","v":0},{"$f":"'Capacity charges'!AD267","v":0},{"$f":"'Capacity charges'!AE267","v":0},{"$f":"'Capacity charges'!AF267","v":0},{"$f":"'Capacity charges'!AG267","v":0},{"$f":"'Capacity charges'!AH267","v":0},{"$f":"'Capacity charges'!AI267","v":0},{"$f":"'Capacity charges'!AJ267","v":0},{"$f":"'Capacity charges'!AK267","v":0},{"$f":"'Capacity charges'!AL267","v":0},{"$f":"'Capacity charges'!AM267","v":0},{"$f":"'Capacity charges'!AN267","v":0},{"$f":"'Capacity charges'!AO267","v":0},{"$f":"'Capacity charges'!AP267","v":0}]
[null,null,null,null,null,"132kV/HV","p/kVA/day",null,null,{"$f":"'Capacity charges'!J268","v":0},{"$f":"'Capacity charges'!K268","v":0},{"$f":"'Capacity charges'!L268","v":0},{"$f":"'Capacity charges'!M268","v":0},{"$f":"'Capacity charges'!N268","v":0},{"$f":"'Capacity charges'!O268","v":0},{"$f":"'Capacity charges'!P268","v":0},{"$f":"'Capacity charges'!Q268","v":0},{"$f":"'Capacity charges'!R268","v":3.018200329765117E-2},{"$f":"'Capacity charges'!S268","v":0},{"$f":"'Capacity charges'!T268","v":0},{"$f":"'Capacity charges'!U268","v":0},{"$f":"'Capacity charges'!V268","v":0},{"$f":"'Capacity charges'!W268","v":0},{"$f":"'Capacity charges'!X268","v":0},{"$f":"'Capacity charges'!Y268","v":0},{"$f":"'Capacity charges'!Z268","v":0},{"$f":"'Capacity charges'!AA268","v":0},{"$f":"'Capacity charges'!AB268","v":0},{"$f":"'Capacity charges'!AC268","v":0},{"$f":"'Capacity charges'!AD268","v":0},{"$f":"'Capacity charges'!AE268","v":0},{"$f":"'Capacity charges'!AF268","v":0},{"$f":"'Capacity charges'!AG268","v":0},{"$f":"'Capacity charges'!AH268","v":0},{"$f":"'Capacity charges'!AI268","v":0},{"$f":"'Capacity charges'!AJ268","v":0},{"$f":"'Capacity charges'!AK268","v":0},{"$f":"'Capacity charges'!AL268","v":0},{"$f":"'Capacity charges'!AM268","v":0},{"$f":"'Capacity charges'!AN268","v":0},{"$f":"'Capacity charges'!AO268","v":0},{"$f":"'Capacity charges'!AP268","v":0}]
[null,null,null,null,null,"HV","p/kVA/day",null,null,{"$f":"'Capacity charges'!J269","v":0},{"$f":"'Capacity charges'!K269","v":0},{"$f":"'Capacity charges'!L269","v":0},{"$f":"'Capacity charges'!M269","v":0},{"$f":"'Capacity charges'!N269","v":0},{"$f":"'Capacity charges'!O269","v":0},{"$f":"'Capacity charges'!P269","v":0},{"$f":"'Capacity charges'!Q269","v":0},{"$f":"'Capacity charges'!R269","v":0.28475760932100191},{"$f":"'Capacity charges'!S269","v":0},{"$f":"'Capacity charges'!T269","v":0},{"$f":"'Capacity charges'!U269","v":0},{"$f":"'Capacity charges'!V269","v":0},{"$f":"'Capacity charges'!W269","v":0},{"$f":"'Capacity charges'!X269","v":0},{"$f":"'Capacity charges'!Y269","v":0},{"$f":"'Capacity charges'!Z269","v":0},{"$f":"'Capacity charges'!AA269","v":0},{"$f":"'Capacity charges'!AB269","v":0},{"$f":"'Capacity charges'!AC269","v":0},{"$f":"'Capacity charges'!AD269","v":0},{"$f":"'Capacity charges'!AE269","v":0},{"$f":"'Capacity charges'!AF269","v":0},{"$f":"'Capacity charges'!AG269","v":0},{"$f":"'Capacity charges'!AH269","v":0},{"$f":"'Capacity charges'!AI269","v":0},{"$f":"'Capacity charges'!AJ269","v":0},{"$f":"'Capacity charges'!AK269","v":0},{"$f":"'Capacity charges'!AL269","v":0},{"$f":"'Capacity charges'!AM269","v":0},{"$f":"'Capacity charges'!AN269","v":0},{"$f":"'Capacity charges'!AO269","v":0},{"$f":"'Capacity charges'!AP269","v":0}]
[null,null,null,null,null,"HV/LV","p/kVA/day",null,null,{"$f":"'Capacity charges'!J270","v":0},{"$f":"'Capacity charges'!K270","v":0},{"$f":"'Capacity charges'!L270","v":0},{"$f":"'Capacity charges'!M270","v":0},{"$f":"'Capacity charges'!N270","v":0},{"$f":"'Capacity charges'!O270","v":0},{"$f":"'Capacity charges'!P270","v":0},{"$f":"'Capacity charges'!Q270","v":5.9769420610616145E-2},{"$f":"'Capacity charges'!R270","v":0},{"$f":"'Capacity charges'!S270","v":0},{"$f":"'Capacity charges'!T270","v":0},{"$f":"'Capacity charges'!U270","v":0},{"$f":"'Capacity charges'!V270","v":0},{"$f":"'Capacity charges'!W270","v":0},{"$f":"'Capacity charges'!X270","v":0},{"$f":"'Capacity charges'!Y270","v":0},{"$f":"'Capacity charges'!Z270","v":0},{"$f":"'Capacity charges'!AA270","v":0},{"$f":"'Capacity charges'!AB270","v":0},{"$f":"'Capacity charges'!AC270","v":0},{"$f":"'Capacity charges'!AD270","v":0},{"$f":"'Capacity charges'!AE270","v":0},{"$f":"'Capacity charges'!AF270","v":0},{"$f":"'Capacity charges'!AG270","v":0},{"$f":"'Capacity charges'!AH270","v":0},{"$f":"'Capacity charges'!AI270","v":0},{"$f":"'Capacity charges'!AJ270","v":0},{"$f":"'Capacity charges'!AK270","v":0},{"$f":"'Capacity charges'!AL270","v":0},{"$f":"'Capacity charges'!AM270","v":0},{"$f":"'Capacity charges'!AN270","v":0},{"$f":"'Capacity charges'!AO270","v":0},{"$f":"'Capacity charges'!AP270","v":0}]
[null,null,null,null,null,"LV circuits","p/kVA/day",null,null,{"$f":"'Capacity charges'!J271","v":0.13072667263196919},{"$f":"'Capacity charges'!K271","v":0.13072667263196919},{"$f":"'Capacity charges'!L271","v":0},{"$f":"'Capacity charges'!M271","v":0.13072667263196919},{"$f":"'Capacity charges'!N271","v":0.13072667263196919},{"$f":"'Capacity charges'!O271","v":0},{"$f":"'Capacity charges'!P271","v":0.13072667263196919},{"$f":"'Capacity charges'!Q271","v":0},{"$f":"'Capacity charges'!R271","v":0},{"$f":"'Capacity charges'!S271","v":0.13072667263196919},{"$f":"'Capacity charges'!T271","v":0.13072667263196919},{"$f":"'Capacity charges'!U271","v":0},{"$f":"'Capacity charges'!V271","v":0},{"$f":"'Capacity charges'!W271","v":0},{"$f":"'Capacity charges'!X271","v":0},{"$f":"'Capacity charges'!Y271","v":0},{"$f":"'Capacity charges'!Z271","v":0},{"$f":"'Capacity charges'!AA271","v":0},{"$f":"'Capacity charges'!AB271","v":0},{"$f":"'Capacity charges'!AC271","v":0},{"$f":"'Capacity charges'!AD271","v":0},{"$f":"'Capacity charges'!AE271","v":0},{"$f":"'Capacity charges'!AF271","v":0},{"$f":"'Capacity charges'!AG271","v":0},{"$f":"'Capacity charges'!AH271","v":0},{"$f":"'Capacity charges'!AI271","v":0},{"$f":"'Capacity charges'!AJ271","v":0},{"$f":"'Capacity charges'!AK271","v":0},{"$f":"'Capacity charges'!AL271","v":0},{"$f":"'Capacity charges'!AM271","v":0},{"$f":"'Capacity charges'!AN271","v":0},{"$f":"'Capacity charges'!AO271","v":0},{"$f":"'Capacity charges'!AP271","v":0}]
[null,null,null,null,null,"LV customers","p/kVA/day"]
[null,null,null,null,null,"HV customers","p/kVA/day"]
[]
[null,null,null,null,"Other operating costs"]
[null,null,null,null,null,"Transmission exit","p/kVA/day",null,null,{"$f":"'Capacity charges'!J276","v":0},{"$f":"'Capacity charges'!K276","v":0},{"$f":"'Capacity charges'!L276","v":0},{"$f":"'Capacity charges'!M276","v":0},{"$f":"'Capacity charges'!N276","v":0},{"$f":"'Capacity charges'!O276","v":0},{"$f":"'Capacity charges'!P276","v":0},{"$f":"'Capacity charges'!Q276","v":0},{"$f":"'Capacity charges'!R276","v":0},{"$f":"'Capacity charges'!S276","v":0},{"$f":"'Capacity charges'!T276","v":0},{"$f":"'Capacity charges'!U276","v":0},{"$f":"'Capacity charges'!V276","v":0},{"$f":"'Capacity charges'!W276","v":0},{"$f":"'Capacity charges'!X276","v":0},{"$f":"'Capacity charges'!Y276","v":0},{"$f":"'Capacity charges'!Z276","v":0},{"$f":"'Capacity charges'!AA276","v":0},{"$f":"'Capacity charges'!AB276","v":0},{"$f":"'Capacity charges'!AC276","v":0},{"$f":"'Capacity charges'!AD276","v":0},{"$f":"'Capacity charges'!AE276","v":0},{"$f":"'Capacity charges'!AF276","v":0},{"$f":"'Capacity charges'!AG276","v":0},{"$f":"'Capacity charges'!AH276","v":0},{"$f":"'Capacity charges'!AI276","v":0},{"$f":"'Capacity charges'!AJ276","v":0},{"$f":"'Capacity charges'!AK276","v":0},{"$f":"'Capacity charges'!AL276","v":0},{"$f":"'Capacity charges'!AM276","v":0},{"$f":"'Capacity charges'!AN276","v":0},{"$f":"'Capacity charges'!AO276","v":0},{"$f":"'Capacity charges'!AP276","v":0}]
[null,null,null,null,null,"GSPs","p/kVA/day",null,null,{"$f":"'Capacity charges'!J277","v":0},{"$f":"'Capacity charges'!K277","v":0},{"$f":"'Capacity charges'!L277","v":0},{"$f":"'Capacity charges'!M277","v":0},{"$f":"'Capacity charges'!N277","v":0},{"$f":"'Capacity charges'!O277","v":0},{"$f":"'Capacity charges'!P277","v":0},{"$f":"'Capacity charges'!Q277","v":0},{"$f":"'Capacity charges'!R277","v":0},{"$f":"'Capacity charges'!S277","v":0},{"$f":"'Capacity charges'!T277","v":0},{"$f":"'Capacity charges'!U277","v":0},{"$f":"'Capacity charges'!V277","v":0},{"$f":"'Capacity charges'!W277","v":0},{"$f":"'Capacity charges'!X277","v":0},{"$f":"'Capacity charges'!Y277","v":0},{"$f":"'Capacity charges'!Z277","v":0},{"$f":"'Capacity charges'!AA277","v":0},{"$f":"'Capacity charges'!AB277","v":0},{"$f":"'Capacity charges'!AC277","v":0},{"$f":"'Capacity charges'!AD277","v":0},{"$f":"'Capacity charges'!AE277","v":0},{"$f":"'Capacity charges'!AF277","v":0},{"$f":"'Capacity charges'!AG277","v":0},{"$f":"'Capacity charges'!AH277","v":0},{"$f":"'Capacity charges'!AI277","v":0},{"$f":"'Capacity charges'!AJ277","v":0},{"$f":"'Capacity charges'!AK277","v":0},{"$f":"'Capacity charges'!AL277","v":0},{"$f":"'Capacity charges'!AM277","v":0},{"$f":"'Capacity charges'!AN277","v":0},{"$f":"'Capacity charges'!AO277","v":0},{"$f":"'Capacity charges'!AP277","v":0}]
[null,null,null,null,null,"132kV","p/kVA/day",null,null,{"$f":"'Capacity charges'!J278","v":0},{"$f":"'Capacity charges'!K278","v":0},{"$f":"'Capacity charges'!L278","v":0},{"$f":"'Capacity charges'!M278","v":0},{"$f":"'Capacity charges'!N278","v":0},{"$f":"'Capacity charges'!O278","v":0},{"$f":"'Capacity charges'!P278","v":0},{"$f":"'Capacity charges'!Q278","v":0},{"$f":"'Capacity charges'!R278","v":0.17520427090897869},{"$f":"'Capacity charges'!S278","v":0},{"$f":"'Capacity charges'!T278","v":0},{"$f":"'Capacity charges'!U278","v":0},{"$f":"'Capacity charges'!V278","v":0},{"$f":"'Capacity charges'!W278","v":0},{"$f":"'Capacity charges'!X278","v":0},{"$f":"'Capacity charges'!Y278","v":0},{"$f":"'Capacity charges'!Z278","v":0},{"$f":"'Capacity charges'!AA278","v":0},{"$f":"'Capacity charges'!AB278","v":0},{"$f":"'Capacity charges'!AC278","v":0},{"$f":"'Capacity charges'!AD278","v":0},{"$f":"'Capacity charges'!AE278","v":0},{"$f":"'Capacity charges'!AF278","v":0},{"$f":"'Capacity charges'!AG278","v":0},{"$f":"'Capacity charges'!AH278","v":0},{"$f":"'Capacity charges'!AI278","v":0},{"$f":"'Capacity charges'!AJ278","v":0},{"$f":"'Capacity charges'!AK278","v":0},{"$f":"'Capacity charges'!AL278","v":0},{"$f":"'Capacity charges'!AM278","v":0},{"$f":"'Capacity charges'!AN278","v":0},{"$f":"'Capacity charges'!AO278","v":0},{"$f":"'Capacity charges'!AP278","v":0}]
[null,null,null,null,null,"132kV/EHV","p/kVA/day",null,null,{"$f":"'Capacity charges'!J279","v":0},{"$f":"'Capacity charges'!K279","v":0},{"$f":"'Capacity charges'!L279","v":0},{"$f":"'Capacity charges'!M279","v":0},{"$f":"'Capacity charges'!N279","v":0},{"$f":"'Capacity charges'!O279","v":0},{"$f":"'Capacity charges'!P279","v":0},{"$f":"'Capacity charges'!Q279","v":0},{"$f":"'Capacity charges'!R279","v":0},{"$f":"'Capacity charges'!S279","v":0},{"$f":"'Capacity charges'!T279","v":0},{"$f":"'Capacity charges'!U279","v":0},{"$f":"'Capacity charges'!V279","v":0},{"$f":"'Capacity charges'!W279","v":0},{"$f":"'Capacity charges'!X279","v":0},{"$f":"'Capacity charges'!Y279","v":0},{"$f":"'Capacity charges'!Z279","v":0},{"$f":"'Capacity charges'!AA279","v":0},{"$f":"'Capacity charges'!AB279","v":0},{"$f":"'Capacity charges'!AC279","v":0},{"$f":"'Capacity charges'!AD279","v":0},{"$f":"'Capacity charges'!AE279","v":0},{"$f":"'Capacity charges'!AF279","v":0},{"$f":"'Capacity charges'!AG279","v":0},{"$f":"'Capacity charges'!AH279","v":0},{"$f":"'Capacity charges'!AI279","v":0},{"$f":"'Capacity charges'!AJ279","v":0},{"$f":"'Capacity charges'!AK279","v":0},{"$f":"'Capacity charges'!AL279","v":0},{"$f":"'Capacity charges'!AM279","v":0},{"$f":"'Capacity charges'!AN279","v":0},{"$f":"'Capacity charges'!AO279","v":0},{"$f":"'Capacity charges'!AP279","v":0}]
[null,null,null,null,null,"EHV","p/kVA/day",null,null,{"$f":"'Capacity charges'!J280","v":0},{"$f":"'Capacity charges'!K280","v":0},{"$f":"'Capacity charges'!L280","v":0},{"$f":"'Capacity charges'!M280","v":0},{"$f":"'Capacity charges'!N280","v":0},{"$f":"'Capacity charges'!O280","v":0},{"$f":"'Capacity charges'!P280","v":0},{"$f":"'Capacity charges'!Q280","v":0},{"$f":"'Capacity charges'!R280","v":0.14078764411116165},{"$f":"'Capacity charges'!S280","v":0},{"$f":"'Capacity charges'!T280","v":0},{"$f":"'Capacity charges'!U280","v":0},{"$f":"'Capacity charges'!V280","v":0},{"$f":"'Capacity charges'!W280","v":0},{"$f":"'Capacity charges'!X280","v":0},{"$f":"'Capacity charges'!Y280","v":0},{"$f":"'Capacity charges'!Z280","v":0},{"$f":"'Capacity charges'!AA280","v":0},{"$f":"'Capacity charges'!AB280","v":0},{"$f":"'Capacity charges'!AC280","v":0},{"$f":"'Capacity charges'!AD280","v":0},{"$f":"'Capacity charges'!AE280","v":0},{"$f":"'Capacity charges'!AF280","v":0},{"$f":"'Capacity charges'!AG280","v":0},{"$f":"'Capacity charges'!AH280","v":0},{"$f":"'Capacity charges'!AI280","v":0},{"$f":"'Capacity charges'!AJ280","v":0},{"$f":"'Capacity charges'!AK280","v":0},{"$f":"'Capacity charges'!AL280","v":0},{"$f":"'Capacity charges'!AM280","v":0},{"$f":"'Capacity charges'!AN280","v":0},{"$f":"'Capacity charges'!AO280","v":0},{"$f":"'Capacity charges'!AP280","v":0}]
[null,null,null,null,null,"EHV/HV","p/kVA/day",null,null,{"$f":"'Capacity charges'!J281","v":0},{"$f":"'Capacity charges'!K281","v":0},{"$f":"'Capacity charges'!L281","v":0},{"$f":"'Capacity charges'!M281","v":0},{"$f":"'Capacity charges'!N281","v":0},{"$f":"'Capacity charges'!O281","v":0},{"$f":"'Capacity charges'!P281","v":0},{"$f":"'Capacity charges'!Q281","v":0},{"$f":"'Capacity charges'!R281","v":0.5408280116205828},{"$f":"'Capacity charges'!S281","v":0},{"$f":"'Capacity charges'!T281","v":0},{"$f":"'Capacity charges'!U281","v":0},{"$f":"'Capacity charges'!V281","v":0},{"$f":"'Capacity charges'!W281","v":0},{"$f":"'Capacity charges'!X281","v":0},{"$f":"'Capacity charges'!Y281","v":0},{"$f":"'Capacity charges'!Z281","v":0},{"$f":"'Capacity charges'!AA281","v":0},{"$f":"'Capacity charges'!AB281","v":0},{"$f":"'Capacity charges'!AC281","v":0},{"$f":"'Capacity charges'!AD281","v":0},{"$f":"'Capacity charges'!AE281","v":0},{"$f":"'Capacity charges'!AF281","v":0},{"$f":"'Capacity charges'!AG281","v":0},{"$f":"'Capacity charges'!AH281","v":0},{"$f":"'Capacity charges'!AI281","v":0},{"$f":"'Capacity charges'!AJ281","v":0},{"$f":"'Capacity charges'!AK281","v":0},{"$f":"'Capacity charges'!AL281","v":0},{"$f":"'Capacity charges'!AM281","v":0},{"$f":"'Capacity charges'!AN281","v":0},{"$f":"'Capacity charges'!AO281","v":0},{"$f":"'Capacity charges'!AP281","v":0}]
[null,null,null,null,null,"132kV/HV","p/kVA/day",null,null,{"$f":"'Capacity charges'!J282","v":0},{"$f":"'Capacity charges'!K282","v":0},{"$f":"'Capacity charges'!L282","v":0},{"$f":"'Capacity charges'!M282","v":0},{"$f":"'Capacity charges'!N282","v":0},{"$f":"'Capacity charges'!O282","v":0},{"$f":"'Capacity charges'!P282","v":0},{"$f":"'Capacity charges'!Q282","v":0},{"$f":"'Capacity charges'!R282","v":0.24395710528946721},{"$f":"'Capacity charges'!S282","v":0},{"$f":"'Capacity charges'!T282","v":0},{"$f":"'Capacity charges'!U282","v":0},{"$f":"'Capacity charges'!V282","v":0},{"$f":"'Capacity charges'!W282","v":0},{"$f":"'Capacity charges'!X282","v":0},{"$f":"'Capacity charges'!Y282","v":0},{"$f":"'Capacity charges'!Z282","v":0},{"$f":"'Capacity charges'!AA282","v":0},{"$f":"'Capacity charges'!AB282","v":0},{"$f":"'Capacity charges'!AC282","v":0},{"$f":"'Capacity charges'!AD282","v":0},{"$f":"'Capacity charges'!AE282","v":0},{"$f":"'Capacity charges'!AF282","v":0},{"$f":"'Capacity charges'!AG282","v":0},{"$f":"'Capacity charges'!AH282","v":0},{"$f":"'Capacity charges'!AI282","v":0},{"$f":"'Capacity charges'!AJ282","v":0},{"$f":"'Capacity charges'!AK282","v":0},{"$f":"'Capacity charges'!AL282","v":0},{"$f":"'Capacity charges'!AM282","v":0},{"$f":"'Capacity charges'!AN282","v":0},{"$f":"'Capacity charges'!AO282","v":0},{"$f":"'Capacity charges'!AP282","v":0}]
[null,null,null,null,null,"HV","p/kVA/day",null,null,{"$f":"'Capacity charges'!J283","v":0},{"$f":"'Capacity charges'!K283","v":0},{"$f":"'Capacity charges'!L283","v":0},{"$f":"'Capacity charges'!M283","v":0},{"$f":"'Capacity charges'!N283","v":0},{"$f":"'Capacity charges'!O283","v":0},{"$f":"'Capacity charges'!P283","v":0},{"$f":"'Capacity charges'!Q283","v":0},{"$f":"'Capacity charges'!R283","v":2.3016577592285548},{"$f":"'Capacity charges'!S283","v":0},{"$f":"'Capacity charges'!T283","v":0},{"$f":"'Capacity charges'!U283","v":0},{"$f":"'Capacity charges'!V283","v":0},{"$f":"'Capacity charges'!W283","v":0},{"$f":"'Capacity charges'!X283","v":0},{"$f":"'Capacity charges'!Y283","v":0},{"$f":"'Capacity charges'!Z283","v":0},{"$f":"'Capacity charges'!AA283","v":0},{"$f":"'Capacity charges'!AB283","v":0},{"$f":"'Capacity charges'!AC283","v":0},{"$f":"'Capacity charges'!AD283","v":0},{"$f":"'Capacity charges'!AE283","v":0},{"$f":"'Capacity charges'!AF283","v":0},{"$f":"'Capacity charges'!AG283","v":0},{"$f":"'Capacity charges'!AH283","v":0},{"$f":"'Capacity charges'!AI283","v":0},{"$f":"'Capacity charges'!AJ283","v":0},{"$f":"'Capacity charges'!AK283","v":0},{"$f":"'Capacity charges'!AL283","v":0},{"$f":"'Capacity charges'!AM283","v":0},{"$f":"'Capacity charges'!AN283","v":0},{"$f":"'Capacity charges'!AO283","v":0},{"$f":"'Capacity charges'!AP283","v":0}]
[null,null,null,null,null,"HV/LV","p/kVA/day",null,null,{"$f":"'Capacity charges'!J284","v":0},{"$f":"'Capacity charges'!K284","v":0},{"$f":"'Capacity charges'!L284","v":0},{"$f":"'Capacity charges'!M284","v":0},{"$f":"'Capacity charges'!N284","v":0},{"$f":"'Capacity charges'!O284","v":0},{"$f":"'Capacity charges'!P284","v":0},{"$f":"'Capacity charges'!Q284","v":0.86959485252699131},{"$f":"'Capacity charges'!R284","v":0},{"$f":"'Capacity charges'!S284","v":0},{"$f":"'Capacity charges'!T284","v":0},{"$f":"'Capacity charges'!U284","v":0},{"$f":"'Capacity charges'!V284","v":0},{"$f":"'Capacity charges'!W284","v":0},{"$f":"'Capacity charges'!X284","v":0},{"$f":"'Capacity charges'!Y284","v":0},{"$f":"'Capacity charges'!Z284","v":0},{"$f":"'Capacity charges'!AA284","v":0},{"$f":"'Capacity charges'!AB284","v":0},{"$f":"'Capacity charges'!AC284","v":0},{"$f":"'Capacity charges'!AD284","v":0},{"$f":"'Capacity charges'!AE284","v":0},{"$f":"'Capacity charges'!AF284","v":0},{"$f":"'Capacity charges'!AG284","v":0},{"$f":"'Capacity charges'!AH284","v":0},{"$f":"'Capacity charges'!AI284","v":0},{"$f":"'Capacity charges'!AJ284","v":0},{"$f":"'Capacity charges'!AK284","v":0},{"$f":"'Capacity charges'!AL284","v":0},{"$f":"'Capacity charges'!AM284","v":0},{"$f":"'Capacity charges'!AN284","v":0},{"$f":"'Capacity charges'!AO284","v":0},{"$f":"'Capacity charges'!AP284","v":0}]
[null,null,null,null,null,"LV circuits","p/kVA/day",null,null,{"$f":"'Capacity charges'!J285","v":1.9019632522345378},{"$f":"'Capacity charges'!K285","v":1.9019632522345378},{"$f":"'Capacity charges'!L285","v":0},{"$f":"'Capacity charges'!M285","v":1.9019632522345378},{"$f":"'Capacity charges'!N285","v":1.9019632522345378},{"$f":"'Capacity charges'!O285","v":0},{"$f":"'Capacity charges'!P285","v":1.9019632522345378},{"$f":"'Capacity charges'!Q285","v":0},{"$f":"'Capacity charges'!R285","v":0},{"$f":"'Capacity charges'!S285","v":1.9019632522345378},{"$f":"'Capacity charges'!T285","v":1.9019632522345378},{"$f":"'Capacity charges'!U285","v":0},{"$f":"'Capacity charges'!V285","v":0},{"$f":"'Capacity charges'!W285","v":0},{"$f":"'Capacity charges'!X285","v":0},{"$f":"'Capacity charges'!Y285","v":0},{"$f":"'Capacity charges'!Z285","v":0},{"$f":"'Capacity charges'!AA285","v":0},{"$f":"'Capacity charges'!AB285","v":0},{"$f":"'Capacity charges'!AC285","v":0},{"$f":"'Capacity charges'!AD285","v":0},{"$f":"'Capacity charges'!AE285","v":0},{"$f":"'Capacity charges'!AF285","v":0},{"$f":"'Capacity charges'!AG285","v":0},{"$f":"'Capacity charges'!AH285","v":0},{"$f":"'Capacity charges'!AI285","v":0},{"$f":"'Capacity charges'!AJ285","v":0},{"$f":"'Capacity charges'!AK285","v":0},{"$f":"'Capacity charges'!AL285","v":0},{"$f":"'Capacity charges'!AM285","v":0},{"$f":"'Capacity charges'!AN285","v":0},{"$f":"'Capacity charges'!AO285","v":0},{"$f":"'Capacity charges'!AP285","v":0}]
[null,null,null,null,null,"LV customers","p/kVA/day"]
[null,null,null,null,null,"HV customers","p/kVA/day"]
[]
[null,null,{"$f":"INDEX('Version control'!$H$34:$H$59,MATCH($A$1,'Version control'!$F$34:$F$59,0),1)&\"-C: Service model costs allocated to fixed charges\"","v":"Section 517-C: Service model costs allocated to fixed charges"}]
[]
[null,null,null,null,"Other operating costs",null,null,null,">",null,null,null,null,null,null,null,null,null,null,null,null,null,null,null,null,null,null,null,null,null,null,null,null,null,null,null,null,null,null,null,null,null,null,"Paragraphs 85 & 86"]
[null,null,null,null,null,"LV customers","p/MPAN/day",null,null,{"$f":"'Service model charges'!J42","v":2.56764916650785},{"$f":"'Service model charges'!K42","v":2.56764916650785},{"$f":"'Service model charges'!L42","v":0},{"$f":"'Service model charges'!M42","v":7.5286972736228126},{"$f":"'Service model charges'!N42","v":7.5286972736228126},{"$f":"'Service model charges'!O42","v":0},{"$f":"'Service model charges'!P42","v":8.7172345283469266},{"$f":"'Service model charges'!Q42","v":6.2845546812950941},{"$f":"'Service model charges'!R42","v":0},{"$f":"'Service model charges'!S42","v":2.56764916650785},{"$f":"'Service model charges'!T42","v":7.5286972736228126},{"$f":"'Service model charges'!U42","v":15.020787537344148},{"$f":"'Service model charges'!V42","v":11.725338863253523},{"$f":"'Service model charges'!W42","v":0},null,null,null,null,null,{"$f":"'Service model charges'!AC42","v":0},{"$f":"'Service model charges'!AD42","v":0},{"$f":"'Service model charges'!AE42","v":0},{"$f":"'Service model charges'!AF42","v":0},{"$f":"'Service model charges'!AG42","v":0},{"$f":"'Service model charges'!AH42","v":0},{"$f":"'Service model charges'!AI42","v":0},{"$f":"'Service model charges'!AJ42","v":0},{"$f":"'Service model charges'!AK42","v":0},{"$f":"'Service model charges'!AL42","v":0},{"$f":"'Service model charges'!AM42","v":0},{"$f":"'Service model charges'!AN42","v":0},{"$f":"'Service model charges'!AO42","v":0},{"$f":"'Service model charges'!AP42","v":0}]
[null,null,null,null,null,"HV customers","p/MPAN/day",null,null,{"$f":"'Service model charges'!J43","v":0},{"$f":"'Service model charges'!K43","v":0},{"$f":"'Service model charges'!L43","v":0},{"$f":"'Service model charges'!M43","v":0},{"$f":"'Service model charges'!N43","v":0},{"$f":"'Service model charges'!O43","v":0},{"$f":"'Service model charges'!P43","v":0},{"$f":"'Service model charges'!Q43","v":0},{"$f":"'Service model charges'!R43","v":108.24640130636605},{"$f":"'Service model charges'!S43","v":0},{"$f":"'Service model charges'!T43","v":0},{"$f":"'Service model charges'!U43","v":0},{"$f":"'Service model charges'!V43","v":0},{"$f":"'Service model charges'!W43","v":108.24640130636605},null,null,null,null,null,{"$f":"'Service model charges'!AC43","v":0},{"$f":"'Service model charges'!AD43","v":0},{"$f":"'Service model charges'!AE43","v":0},{"$f":"'Service model charges'!AF43","v":0},{"$f":"'Service model charges'!AG43","v":0},{"$f":"'Service model charges'!AH43","v":0},{"$f":"'Service model charges'!AI43","v":0},{"$f":"'Service model charges'!AJ43","v":0},{"$f":"'Service model charges'!AK43","v":0},{"$f":"'Service model charges'!AL43","v":0},{"$f":"'Service model charges'!AM43","v":67.745218259777346},{"$f":"'Service model charges'!AN43","v":67.745218259777346},{"$f":"'Service model charges'!AO43","v":67.745218259777346},{"$f":"'Service model charges'!AP43","v":67.745218259777346}]
[]
[null,null,{"$f":"INDEX('Version control'!$H$34:$H$59,MATCH($A$1,'Version control'!$F$34:$F$59,0),1)&\"-D: Flags\"","v":"Section 517-D: Flags"}]
[]
[null,null,null,"This table flags user categories to be summed together for the sake of setting a common fixed "]
[null,null,null,"charge, as identified in Schedule 16, Paragraph 83."]
[]
[null,null,null,null,"Aggregation group identified",null,"integer",null,">",{"$f":"'Fixed inputs'!J150","v":1},{"$f":"'Fixed inputs'!K150","v":1},{"$f":"'Fixed inputs'!L150","v":0},{"$f":"'Fixed inputs'!M150","v":1},{"$f":"'Fixed inputs'!N150","v":1},{"$f":"'Fixed inputs'!O150","v":0},{"$f":"'Fixed inputs'!P150","v":2},{"$f":"'Fixed inputs'!Q150","v":3},{"$f":"'Fixed inputs'!R150","v":4},{"$f":"'Fixed inputs'!S150","v":1},{"$f":"'Fixed inputs'!T150","v":1},{"$f":"'Fixed inputs'!U150","v":0},{"$f":"'Fixed inputs'!V150","v":0},{"$f":"'Fixed inputs'!W150","v":0},{"$f":"'Fixed inputs'!X150","v":0},{"$f":"'Fixed inputs'!Y150","v":0},{"$f":"'Fixed inputs'!Z150","v":0},{"$f":"'Fixed inputs'!AA150","v":0},{"$f":"'Fixed inputs'!AB150","v":0},{"$f":"'Fixed inputs'!AC150","v":0},{"$f":"'Fixed inputs'!AD150","v":0},{"$f":"'Fixed inputs'!AE150","v":0},{"$f":"'Fixed inputs'!AF150","v":0},{"$f":"'Fixed inputs'!AG150","v":0},{"$f":"'Fixed inputs'!AH150","v":0},{"$f":"'Fixed inputs'!AI150","v":0},{"$f":"'Fixed inputs'!AJ150","v":0},{"$f":"'Fixed inputs'!AK150","v":0},{"$f":"'Fixed inputs'!AL150","v":0},{"$f":"'Fixed inputs'!AM150","v":0},{"$f":"'Fixed inputs'!AN150","v":0},{"$f":"'Fixed inputs'!AO150","v":0},{"$f":"'Fixed inputs'!AP150","v":0},null,"Paragraphs 83 & 84"]
[]
[null,"Calculation of fixed charges"]
[]
[null,null,{"$f":"INDEX('Version control'!$H$34:$H$59,MATCH($A$1,'Version control'!$F$34:$F$59,0),1)&\"-E: Revenue allocated to fixed charges\"","v":"Section 517-E: Revenue allocated to fixed charges"}]
[null,null,null,null,null,null,null,null,">",null,null,null,null,null,null,null,null,null,null,null,null,null,null,null,null,null,null,null,null,null,null,null,null,null,null,null,null,null,null,null,null,null,null,"Paragraphs 83 & 84"]
[null,null,null,null,"Asset costs"]
[null,null,null,null,null,"Transmission exit","pence per day"]
[null,null,null,null,null,"GSPs","pence per day"]
[null,null,null,null,null,"132kV","pence per day",null,null,{"$f":"J$20 * J27 * thousand / PowerFactor","v":0},0,0,0,0,0,0,0,7.2225721820734625,0,0,0,0,0,0,0,0,0,0,0,0,0,0,0,0,0,0,0,0,0,0,0,0]
[null,null,null,null,null,"132kV/EHV","pence per day",null,null,{"$f":"J$20 * J28 * thousand / PowerFactor","v":0},0,0,0,0,0,0,0,0,0,0,0,0,0,0,0,0,0,0,0,0,0,0,0,0,0,0,0,0,0,0,0,0]
[null,null,null,null,null,"EHV","pence per day",null,null,{"$f":"J$20 * J29 * thousand / PowerFactor","v":0},0,0,0,0,0,0,0,3.7144260620092417,0,0,0,0,0,0,0,0,0,0,0,0,0,0,0,0,0,0,0,0,0,0,0,0]
[null,null,null,null,null,"EHV/HV","pence per day",null,null,{"$f":"J$20 * J30 * thousand / PowerFactor","v":0},0,0,0,0,0,0,0,2.0065449309974959,0,0,0,0,0,0,0,0,0,0,0,0,0,0,0,0,0,0,0,0,0,0,0,0]
[null,null,null,null,null,"132kV/HV","pence per day",null,null,{"$f":"J$20 * J31 * thousand / PowerFactor","v":0},0,0,0,0,0,0,0,0.9051137930755303,0,0,0,0,0,0,0,0,0,0,0,0,0,0,0,0,0,0,0,0,0,0,0,0]
[null,null,null,null,null,"HV","pence per day",null,null,{"$f":"J$20 * J32 * thousand / PowerFactor","v":0},0,0,0,0,0,0,0,8.539460993952968,0,0,0,0,0,0,0,0,0,0,0,0,0,0,0,0,0,0,0,0,0,0,0,0]
[null,null,null,null,null,"HV/LV","pence per day",null,null,{"$f":"J$20 * J33 * thousand / PowerFactor","v":0},0,0,0,0,0,0,1.0633783236672881E-9,0,0,0,0,0,0,0,0,0,0,0,0,0,0,0,0,0,0,0,0,0,0,0,0,0]
[null,null,null,null,null,"LV circuits","pence per day",null,null,{"$f":"J$20 * J34 * thousand / PowerFactor","v":115281.55403775784},15861.358605829309,0,33200.178118931777,8156.7767529842922,0,552.03195744449454,0,0,214.01736538551572,5047.3321509489951,0,0,0,0,0,0,0,0,0,0,0,0,0,0,0,0,0,0,0,0,0,0]
[null,null,null,null,null,"LV customers","pence per day"]
[null,null,null,null,null,"HV customers","pence per day"]
[]
[null,null,null,null,"Other operating costs"]
[null,null,null,null,null,"Transmission exit","pence per day",null,null,{"$f":"J$20 * J39 * thousand / PowerFactor","v":0},0,0,0,0,0,0,0,0,0,0,0,0,0,0,0,0,0,0,0,0,0,0,0,0,0,0,0,0,0,0,0,0]
[null,null,null,null,null,"GSPs","pence per day",null,null,{"$f":"J$20 * J40 * thousand / PowerFactor","v":0},0,0,0,0,0,0,0,0,0,0,0,0,0,0,0,0,0,0,0,0,0,0,0,0,0,0,0,0,0,0,0,0]
[null,null,null,null,null,"132kV","pence per day",null,null,{"$f":"J$20 * J41 * thousand / PowerFactor","v":0},0,0,0,0,0,0,0,5.2541178476976551,0,0,0,0,0,0,0,0,0,0,0,0,0,0,0,0,0,0,0,0,0,0,0,0]
[null,null,null,null,null,"132kV/EHV","pence per day",null,null,{"$f":"J$20 * J42 * thousand / PowerFactor","v":0},0,0,0,0,0,0,0,0,0,0,0,0,0,0,0,0,0,0,0,0,0,0,0,0,0,0,0,0,0,0,0,0]
[null,null,null,null,null,"EHV","pence per day",null,null,{"$f":"J$20 * J43 * thousand / PowerFactor","v":0},0,0,0,0,0,0,0,4.2220139373431902,0,0,0,0,0,0,0,0,0,0,0,0,0,0,0,0,0,0,0,0,0,0,0,0]
[null,null,null,null,null,"EHV/HV","pence per day",null,null,{"$f":"J$20 * J44 * thousand / PowerFactor","v":0},0,0,0,0,0,0,0,16.218634931946266,0,0,0,0,0,0,0,0,0,0,0,0,0,0,0,0,0,0,0,0,0,0,0,0]
[null,null,null,null,null,"132kV/HV","pence per day",null,null,{"$f":"J$20 * J45 * thousand / PowerFactor","v":0},0,0,0,0,0,0,0,7.3159140146757595,0,0,0,0,0,0,0,0,0,0,0,0,0,0,0,0,0,0,0,0,0,0,0,0]
[null,null,null,null,null,"HV","pence per day",null,null,{"$f":"J$20 * J46 * thousand / PowerFactor","v":0},0,0,0,0,0,0,0,69.023323742702232,0,0,0,0,0,0,0,0,0,0,0,0,0,0,0,0,0,0,0,0,0,0,0,0]
[null,null,null,null,null,"HV/LV","pence per day",null,null,{"$f":"J$20 * J47 * thousand / PowerFactor","v":0},0,0,0,0,0,0,1.5471261175076695E-8,0,0,0,0,0,0,0,0,0,0,0,0,0,0,0,0,0,0,0,0,0,0,0,0,0]
[null,null,null,null,null,"LV circuits","pence per day",null,null,{"$f":"J$20 * J48 * thousand / PowerFactor","v":1677249.7534423224},230769.44124273435,0,483034.69734612678,118674.24855624422,0,8031.6011719689777,0,0,3113.7728522263183,73434.442104657806,0,0,0,0,0,0,0,0,0,0,0,0,0,0,0,0,0,0,0,0,0,0]
[null,null,null,null,null,"LV customers","pence per day"]
[null,null,null,null,null,"HV customers","pence per day"]
[]
[null,null,{"$f":"INDEX('Version control'!$H$34:$H$59,MATCH($A$1,'Version control'!$F$34:$F$59,0),1)&\"-F: Revenue allocated to fixed charges, by aggregation group\"","v":"Section 517-F: Revenue allocated to fixed charges, by aggregation group"}]
[null,null,null,null,null,null,null,null,">",null,null,null,null,null,null,null,null,null,null,null,null,null,null,null,null,null,null,null,null,null,null,null,null,null,null,null,null,null,null,null,null,null,null,"Paragraphs 83 & 84"]
[null,null,null,null,"Asset costs"]
[null,null,null,null,null,"Transmission exit","pence per day"]
[null,null,null,null,null,"GSPs","pence per day"]
[null,null,null,null,null,"132kV","pence per day",null,null,{"$f":"SUMIFS($J72:$AP72,$J$63:$AP$63,J$63)","v":0},0,0,0,0,0,0,0,7.2225721820734625,0,0,0,0,0,0,0,0,0,0,0,0,0,0,0,0,0,0,0,0,0,0,0,0]
[null,null,null,null,null,"132kV/EHV","pence per day",null,null,{"$f":"SUMIFS($J73:$AP73,$J$63:$AP$63,J$63)","v":0},0,0,0,0,0,0,0,0,0,0,0,0,0,0,0,0,0,0,0,0,0,0,0,0,0,0,0,0,0,0,0,0]
[null,null,null,null,null,"EHV","pence per day",null,null,{"$f":"SUMIFS($J74:$AP74,$J$63:$AP$63,J$63)","v":0},0,0,0,0,0,0,0,3.7144260620092417,0,0,0,0,0,0,0,0,0,0,0,0,0,0,0,0,0,0,0,0,0,0,0,0]
[null,null,null,null,null,"EHV/HV","pence per day",null,null,{"$f":"SUMIFS($J75:$AP75,$J$63:$AP$63,J$63)","v":0},0,0,0,0,0,0,0,2.0065449309974959,0,0,0,0,0,0,0,0,0,0,0,0,0,0,0,0,0,0,0,0,0,0,0,0]
[null,null,null,null,null,"132kV/HV","pence per day",null,null,{"$f":"SUMIFS($J76:$AP76,$J$63:$AP$63,J$63)","v":0},0,0,0,0,0,0,0,0.9051137930755303,0,0,0,0,0,0,0,0,0,0,0,0,0,0,0,0,0,0,0,0,0,0,0,0]
[null,null,null,null,null,"HV","pence per day",null,null,{"$f":"SUMIFS($J77:$AP77,$J$63:$AP$63,J$63)","v":0},0,0,0,0,0,0,0,8.539460993952968,0,0,0,0,0,0,0,0,0,0,0,0,0,0,0,0,0,0,0,0,0,0,0,0]
[null,null,null,null,null,"HV/LV","pence per day",null,null,{"$f":"SUMIFS($J78:$AP78,$J$63:$AP$63,J$63)","v":0},0,0,0,0,0,0,1.0633783236672881E-9,0,0,0,0,0,0,0,0,0,0,0,0,0,0,0,0,0,0,0,0,0,0,0,0,0]
[null,null,null,null,null,"LV circuits","pence per day",null,null,{"$f":"SUMIFS($J79:$AP79,$J$63:$AP$63,J$63)","v":177761.21703183773},177761.21703183773,0,177761.21703183773,177761.21703183773,0,552.03195744449454,0,0,177761.21703183773,177761.21703183773,0,0,0,0,0,0,0,0,0,0,0,0,0,0,0,0,0,0,0,0,0,0]
[null,null,null,null,null,"LV customers","pence per day"]
[null,null,null,null,null,"HV customers","pence per day"]
[]
[null,null,null,null,"Other operating costs"]
[null,null,null,null,null,"Transmission exit","pence per day",null,null,{"$f":"SUMIFS($J84:$AP84,$J$63:$AP$63,J$63)","v":0},0,0,0,0,0,0,0,0,0,0,0,0,0,0,0,0,0,0,0,0,0,0,0,0,0,0,0,0,0,0,0,0]
[null,null,null,null,null,"GSPs","pence per day",null,null,{"$f":"SUMIFS($J85:$AP85,$J$63:$AP$63,J$63)","v":0},0,0,0,0,0,0,0,0,0,0,0,0,0,0,0,0,0,0,0,0,0,0,0,0,0,0,0,0,0,0,0,0]
[null,null,null,null,null,"132kV","pence per day",null,null,{"$f":"SUMIFS($J86:$AP86,$J$63:$AP$63,J$63)","v":0},0,0,0,0,0,0,0,5.2541178476976551,0,0,0,0,0,0,0,0,0,0,0,0,0,0,0,0,0,0,0,0,0,0,0,0]
[null,null,null,null,null,"132kV/EHV","pence per day",null,null,{"$f":"SUMIFS($J87:$AP87,$J$63:$AP$63,J$63)","v":0},0,0,0,0,0,0,0,0,0,0,0,0,0,0,0,0,0,0,0,0,0,0,0,0,0,0,0,0,0,0,0,0]
[null,null,null,null,null,"EHV","pence per day",null,null,{"$f":"SUMIFS($J88:$AP88,$J$63:$AP$63,J$63)","v":0},0,0,0,0,0,0,0,4.2220139373431902,0,0,0,0,0,0,0,0,0,0,0,0,0,0,0,0,0,0,0,0,0,0,0,0]
[null,null,null,null,null,"EHV/HV","pence per day",null,null,{"$f":"SUMIFS($J89:$AP89,$J$63:$AP$63,J$63)","v":0},0,0,0,0,0,0,0,16.218634931946266,0,0,0,0,0,0,0,0,0,0,0,0,0,0,0,0,0,0,0,0,0,0,0,0]
[null,null,null,null,null,"132kV/HV","pence per day",null,null,{"$f":"SUMIFS($J90:$AP90,$J$63:$AP$63,J$63)","v":0},0,0,0,0,0,0,0,7.3159140146757595,0,0,0,0,0,0,0,0,0,0,0,0,0,0,0,0,0,0,0,0,0,0,0,0]
[null,null,null,null,null,"HV","pence per day",null,null,{"$f":"SUMIFS($J91:$AP91,$J$63:$AP$63,J$63)","v":0},0,0,0,0,0,0,0,69.023323742702232,0,0,0,0,0,0,0,0,0,0,0,0,0,0,0,0,0,0,0,0,0,0,0,0]
[null,null,null,null,null,"HV/LV","pence per day",null,null,{"$f":"SUMIFS($J92:$AP92,$J$63:$AP$63,J$63)","v":0},0,0,0,0,0,0,1.5471261175076695E-8,0,0,0,0,0,0,0,0,0,0,0,0,0,0,0,0,0,0,0,0,0,0,0,0,0]
[null,null,null,null,null,"LV circuits","pence per day",null,null,{"$f":"SUMIFS($J93:$AP93,$J$63:$AP$63,J$63)","v":2586276.3555443115},2586276.3555443115,0,2586276.3555443115,2586276.3555443115,0,8031.6011719689777,0,0,2586276.3555443115,2586276.3555443115,0,0,0,0,0,0,0,0,0,0,0,0,0,0,0,0,0,0,0,0,0,0]
[null,null,null,null,null,"LV customers","pence per day"]
[null,null,null,null,null,"HV customers","pence per day"]
[]
[null,null,{"$f":"INDEX('Version control'!$H$34:$H$59,MATCH($A$1,'Version control'!$F$34:$F$59,0),1)&\"-G: Fixed charges, by network level\"","v":"Section 517-G: Fixed charges, by network level"}]
[]
[null,null,null,null,"Total MPANs by aggregation group",null,"MPANs",null,null,{"$f":"SUMIFS($J$18:$AP$18,$J$63:$AP$63,J63)","v":1138036.6425277728},1138036.6425277728,9097.6892193590375,1138036.6425277728,1138036.6425277728,9097.6892193590375,237.70400615767747,1.0000000000000001E-9,3.2303097041095885,1138036.6425277728,1138036.6425277728,9097.6892193590375,9097.6892193590375,9097.6892193590375,9097.6892193590375,9097.6892193590375,9097.6892193590375,9097.6892193590375,9097.6892193590375,9097.6892193590375,9097.6892193590375,9097.6892193590375,9097.6892193590375,9097.6892193590375,9097.6892193590375,9097.6892193590375,9097.6892193590375,9097.6892193590375,9097.6892193590375,9097.6892193590375,9097.6892193590375,9097.6892193590375,9097.6892193590375]
[]
[null,null,null,null,"Asset costs",null,null,null,">",null,null,null,null,null,null,null,null,null,null,null,null,null,null,null,null,null,null,null,null,null,null,null,null,null,null,null,null,null,null,null,null,null,null,"Paragraphs 83 & 84"]
[null,null,null,null,null,"Transmission exit","p/MPAN/day",null,null,{"$f":"IF(J$129 = 0, 0, J100 / J$129)","v":0},0,0,0,0,0,0,0,0,0,0,0,0,0,0,0,0,0,0,0,0,0,0,0,0,0,0,0,0,0,0,0,0]
[null,null,null,null,null,"GSPs","p/MPAN/day",null,null,{"$f":"IF(J$129 = 0, 0, J101 / J$129)","v":0},0,0,0,0,0,0,0,0,0,0,0,0,0,0,0,0,0,0,0,0,0,0,0,0,0,0,0,0,0,0,0,0]
[null,null,null,null,null,"132kV","p/MPAN/day",null,null,{"$f":"IF(J$129 = 0, 0, J102 / J$129)","v":0},0,0,0,0,0,0,0,2.2358760749425763,0,0,0,0,0,0,0,0,0,0,0,0,0,0,0,0,0,0,0,0,0,0,0,0]
[null,null,null,null,null,"132kV/EHV","p/MPAN/day",null,null,{"$f":"IF(J$129 = 0, 0, J103 / J$129)","v":0},0,0,0,0,0,0,0,0,0,0,0,0,0,0,0,0,0,0,0,0,0,0,0,0,0,0,0,0,0,0,0,0]
[null,null,null,null,null,"EHV","p/MPAN/day",null,null,{"$f":"IF(J$129 = 0, 0, J104 / J$129)","v":0},0,0,0,0,0,0,0,1.1498668555785108,0,0,0,0,0,0,0,0,0,0,0,0,0,0,0,0,0,0,0,0,0,0,0,0]
[null,null,null,null,null,"EHV/HV","p/MPAN/day",null,null,{"$f":"IF(J$129 = 0, 0, J105 / J$129)","v":0},0,0,0,0,0,0,0,0.62116178162260316,0,0,0,0,0,0,0,0,0,0,0,0,0,0,0,0,0,0,0,0,0,0,0,0]
[null,null,null,null,null,"132kV/HV","p/MPAN/day",null,null,{"$f":"IF(J$129 = 0, 0, J106 / J$129)","v":0},0,0,0,0,0,0,0,0.28019412254003007,0,0,0,0,0,0,0,0,0,0,0,0,0,0,0,0,0,0,0,0,0,0,0,0]
[null,null,null,null,null,"HV","p/MPAN/day",null,null,{"$f":"IF(J$129 = 0, 0, J107 / J$129)","v":0},0,0,0,0,0,0,0,2.6435425009215359,0,0,0,0,0,0,0,0,0,0,0,0,0,0,0,0,0,0,0,0,0,0,0,0]
[null,null,null,null,null,"HV/LV","p/MPAN/day",null,null,{"$f":"IF(J$129 = 0, 0, J108 / J$129)","v":0},0,0,0,0,0,0,1.063378323667288,0,0,0,0,0,0,0,0,0,0,0,0,0,0,0,0,0,0,0,0,0,0,0,0,0]
[null,null,null,null,null,"LV circuits","p/MPAN/day",null,null,{"$f":"IF(J$129 = 0, 0, J109 / J$129)","v":0.15619990639053577},0.15619990639053577,0,0.15619990639053577,0.15619990639053577,0,2.3223502471317721,0,0,0.15619990639053577,0.15619990639053577,0,0,0,0,0,0,0,0,0,0,0,0,0,0,0,0,0,0,0,0,0,0]
[null,null,null,null,null,"LV customers","p/MPAN/day"]
[null,null,null,null,null,"HV customers","p/MPAN/day"]
[]
[null,null,null,null,"Other operating costs"]
[null,null,null,null,null,"Transmission exit","p/MPAN/day",null,null,{"$f":"IF(J$129 = 0, 0, J114 / J$129)","v":0},0,0,0,0,0,0,0,0,0,0,0,0,0,0,0,0,0,0,0,0,0,0,0,0,0,0,0,0,0,0,0,0]
[null,null,null,null,null,"GSPs","p/MPAN/day",null,null,{"$f":"IF(J$129 = 0, 0, J115 / J$129)","v":0},0,0,0,0,0,0,0,0,0,0,0,0,0,0,0,0,0,0,0,0,0,0,0,0,0,0,0,0,0,0,0,0]
[null,null,null,null,null,"132kV","p/MPAN/day",null,null,{"$f":"IF(J$129 = 0, 0, J116 / J$129)","v":0},0,0,0,0,0,0,0,1.6265059170683804,0,0,0,0,0,0,0,0,0,0,0,0,0,0,0,0,0,0,0,0,0,0,0,0]
[null,null,null,null,null,"132kV/EHV","p/MPAN/day",null,null,{"$f":"IF(J$129 = 0, 0, J117 / J$129)","v":0},0,0,0,0,0,0,0,0,0,0,0,0,0,0,0,0,0,0,0,0,0,0,0,0,0,0,0,0,0,0,0,0]
[null,null,null,null,null,"EHV","p/MPAN/day",null,null,{"$f":"IF(J$129 = 0, 0, J118 / J$129)","v":0},0,0,0,0,0,0,0,1.3069997381278826,0,0,0,0,0,0,0,0,0,0,0,0,0,0,0,0,0,0,0,0,0,0,0,0]
[null,null,null,null,null,"EHV/HV","p/MPAN/day",null,null,{"$f":"IF(J$129 = 0, 0, J119 / J$129)","v":0},0,0,0,0,0,0,0,5.0207677955191032,0,0,0,0,0,0,0,0,0,0,0,0,0,0,0,0,0,0,0,0,0,0,0,0]
[null,null,null,null,null,"132kV/HV","p/MPAN/day",null,null,{"$f":"IF(J$129 = 0, 0, J120 / J$129)","v":0},0,0,0,0,0,0,0,2.2647717045113289,0,0,0,0,0,0,0,0,0,0,0,0,0,0,0,0,0,0,0,0,0,0,0,0]
[null,null,null,null,null,"HV","p/MPAN/day",null,null,{"$f":"IF(J$129 = 0, 0, J121 / J$129)","v":0},0,0,0,0,0,0,0,21.36740129124183,0,0,0,0,0,0,0,0,0,0,0,0,0,0,0,0,0,0,0,0,0,0,0,0]
[null,null,null,null,null,"HV/LV","p/MPAN/day",null,null,{"$f":"IF(J$129 = 0, 0, J122 / J$129)","v":0},0,0,0,0,0,0,15.471261175076693,0,0,0,0,0,0,0,0,0,0,0,0,0,0,0,0,0,0,0,0,0,0,0,0,0]
[null,null,null,null,null,"LV circuits","p/MPAN/day",null,null,{"$f":"IF(J$129 = 0, 0, J123 / J$129)","v":2.2725774011983937},2.2725774011983937,0,2.2725774011983937,2.2725774011983937,0,33.788244892437078,0,0,2.2725774011983937,2.2725774011983937,0,0,0,0,0,0,0,0,0,0,0,0,0,0,0,0,0,0,0,0,0,0]
[null,null,null,null,null,"LV customers","p/MPAN/day",null,null,{"$f":"J55","v":2.56764916650785},2.56764916650785,0,7.5286972736228126,7.5286972736228126,0,8.7172345283469266,6.2845546812950941,0,2.56764916650785,7.5286972736228126,15.020787537344148,11.725338863253523,0,0,0,0,0,0,0,0,0,0,0,0,0,0,0,0,0,0,0,0]
[null,null,null,null,null,"HV customers","p/MPAN/day",null,null,{"$f":"J56","v":0},0,0,0,0,0,0,0,108.24640130636605,0,0,0,0,108.24640130636605,0,0,0,0,0,0,0,0,0,0,0,0,0,0,0,67.745218259777346,67.745218259777346,67.745218259777346,67.745218259777346]
[]
[null,null,{"$f":"INDEX('Version control'!$H$34:$H$59,MATCH($A$1,'Version control'!$F$34:$F$59,0),1)&\"-H: Aggregated fixed charges\"","v":"Section 517-H: Aggregated fixed charges"}]
[]
[null,null,null,null,"Fixed charge",null,"p/MPAN/day",null,null,{"$f":"SUM(J132:J143,J146:J157)","v":4.9964264740967792},4.9964264740967792,0,9.9574745812117413,9.9574745812117413,0,44.827829667915779,22.819194180039077,146.76348908843983,4.9964264740967792,9.9574745812117413,15.020787537344148,11.725338863253523,108.24640130636605,0,0,0,0,0,0,0,0,0,0,0,0,0,0,0,67.745218259777346,67.745218259777346,67.745218259777346,67.745218259777346]
[]
[null,"Checks"]
[]
[null,null,null,null,"Check for error values",null,"number of issues",{"$f":"SUM(IF(ISERROR(H18:AP161), 1))","v":0}]
[]
[null,"End of sheet"]

{"sheet":"Revenue matching","index":31,"n_rows":158,"n_cols":111,"rows_kept":158,"cut":false,"hidden":false,"merged":[]}
[{"$f":"MID(CELL(\"filename\",A1),FIND(\"]\",CELL(\"filename\",A1))+1,255)","v":"Revenue matching"}]
[{"$f":"Cover!D21&\" - \"&Cover!D23","v":"[enter DNO name] - [enter data version name]"}]
[{"$f":"Cover!D2&\" - \"&Cover!D8&\" v\"&Cover!D10&\" - \"&Cover!D19","v":"ARP model - Release for charge setting v3 - 2020/21"}]
[{"$f":"H156 & IF(H156 = 1, \" issue\", \" issues\") &\" identified in checks on this sheet\"","v":"0 issues identified in checks on this sheet"}]
[null,"Click here to return to model map",null,null,null,null,"Units","Constants",null,"Domestic Unrestricted","Domestic Two Rate","Domestic Off Peak (related MPAN)","Small Non Domestic Unrestricted","Small Non Domestic Two Rate","Small Non Domestic Off Peak (related MPAN)","LV Medium Non-Domestic","LV Sub Medium Non-Domestic","HV Medium Non-Domestic","LV Network Domestic","LV Network Non-Domestic Non-CT","LV HH Metered","LV Sub HH Metered","HV HH Metered","NHH UMS category A","NHH UMS category B","NHH UMS category C","NHH UMS category D","LV UMS (Pseudo HH Metered)","LV Generation NHH or Aggregate HH","LV Sub Generation NHH","LV Generation Intermittent","LV Generation Intermittent no RP charge","LV Generation Non-Intermittent","LV Generation Non-Intermittent no RP charge","LV Sub Generation Intermittent","LV Sub Generation Intermittent no RP charge","LV Sub Generation Non-Intermittent","LV Sub Generation Non-Intermittent no RP charge","HV Generation Intermittent","HV Generation Intermittent no RP charge","HV Generation Non-Intermittent","HV Generation Non-Intermittent no RP charge",null,null,null,null,null,null,null,null,null,null,null,null,null,null,null,null,null,null,null,null,null,null,null,null,null,null,null,null,null,null,null,null,null,null,null,null,null,null,null,null,null,null,null,null,null,null,null,null,null,null,null,null,null,null,null,null,null,null,null,null,null,null,null,null,null,null,null,null,"Legal text reference"]
[]
[null,"Description"]
[]
[null,null,null,"This sheet adjusts unit charges for demand only, such that expected revenue to be collected "]
[null,null,null,"through the CDCM matches allowed revenue determined through the company's price control."]
[null,null,null,"This is done by applying an algorithm that complies with Paragraphs 89-95."]
[]
[null,"Pre-matching net revenue calculations"]
[]
[null,null,{"$f":"INDEX('Version control'!$H$34:$H$59,MATCH($A$1,'Version control'!$F$34:$F$59,0),1)&\"-A: Inputs to revenue matching\"","v":"Section 518-A: Inputs to revenue matching"}]
[]
[null,null,null,"Brings in charges, volumes and revenues"]
[]
[null,null,null,null,"Summary of charges before revenue matching"]
[null,null,null,null,null,"Unit rate 1","p/kWh",null,null,{"$f":"'Unit rate charges'!J217","v":1.8541034387957436},{"$f":"'Unit rate charges'!K217","v":2.0439879010657762},{"$f":"'Unit rate charges'!L217","v":0.26239190193260487},{"$f":"'Unit rate charges'!M217","v":1.2273341121692558},{"$f":"'Unit rate charges'!N217","v":1.6715829129067237},{"$f":"'Unit rate charges'!O217","v":0.26383567518829137},{"$f":"'Unit rate charges'!P217","v":1.4878747391313845},{"$f":"'Unit rate charges'!Q217","v":1.3705849783468138},{"$f":"'Unit rate charges'!R217","v":0.79474983410958611},{"$f":"'Unit rate charges'!S217","v":11.558763212583951},{"$f":"'Unit rate charges'!T217","v":9.919857450533474},{"$f":"'Unit rate charges'!U217","v":7.7801389981407016},{"$f":"'Unit rate charges'!V217","v":5.6492631010333509},{"$f":"'Unit rate charges'!W217","v":4.388638319009436},{"$f":"'Unit rate charges'!X217","v":2.2383833830121702},{"$f":"'Unit rate charges'!Y217","v":2.5316618489068734},{"$f":"'Unit rate charges'!Z217","v":3.4187401443847873},{"$f":"'Unit rate charges'!AA217","v":1.9559638469564065},{"$f":"'Unit rate charges'!AB217","v":27.100267028317713},{"$f":"'Unit rate charges'!AC217","v":-0.95645070978576807},{"$f":"'Unit rate charges'!AD217","v":-0.87171590426342993},{"$f":"'Unit rate charges'!AE217","v":-0.95645070978576807},{"$f":"'Unit rate charges'!AF217","v":-0.95645070978576807},{"$f":"'Unit rate charges'!AG217","v":-8.0102682346829557},{"$f":"'Unit rate charges'!AH217","v":-8.0102682346829557},{"$f":"'Unit rate charges'!AI217","v":-0.87171590426342993},{"$f":"'Unit rate charges'!AJ217","v":-0.87171590426342993},{"$f":"'Unit rate charges'!AK217","v":-7.2895545912923492},{"$f":"'Unit rate charges'!AL217","v":-7.2895545912923492},{"$f":"'Unit rate charges'!AM217","v":-0.59364545367798527},{"$f":"'Unit rate charges'!AN217","v":-0.59364545367798527},{"$f":"'Unit rate charges'!AO217","v":-4.9269918854708576},{"$f":"'Unit rate charges'!AP217","v":-4.9269918854708576}]
[null,null,null,null,null,"Unit rate 2","p/kWh",null,null,{"$f":"'Unit rate charges'!J218","v":0},{"$f":"'Unit rate charges'!K218","v":0.27928812789634883},{"$f":"'Unit rate charges'!L218","v":0},{"$f":"'Unit rate charges'!M218","v":0},{"$f":"'Unit rate charges'!N218","v":0.28274056655130519},{"$f":"'Unit rate charges'!O218","v":0},{"$f":"'Unit rate charges'!P218","v":0.22170532579730512},{"$f":"'Unit rate charges'!Q218","v":0.21332713757117699},{"$f":"'Unit rate charges'!R218","v":0.15854332247531291},{"$f":"'Unit rate charges'!S218","v":0.89408734680360813},{"$f":"'Unit rate charges'!T218","v":0.76731171164533429},{"$f":"'Unit rate charges'!U218","v":0.59223699804222085},{"$f":"'Unit rate charges'!V218","v":0.41336011315679566},{"$f":"'Unit rate charges'!W218","v":0.31012578950009634},{"$f":"'Unit rate charges'!X218","v":0},{"$f":"'Unit rate charges'!Y218","v":0},{"$f":"'Unit rate charges'!Z218","v":0},{"$f":"'Unit rate charges'!AA218","v":0},{"$f":"'Unit rate charges'!AB218","v":2.1121807846287179},{"$f":"'Unit rate charges'!AC218","v":0},{"$f":"'Unit rate charges'!AD218","v":0},{"$f":"'Unit rate charges'!AE218","v":0},{"$f":"'Unit rate charges'!AF218","v":0},{"$f":"'Unit rate charges'!AG218","v":-0.61961027002663549},{"$f":"'Unit rate charges'!AH218","v":-0.61961027002663549},{"$f":"'Unit rate charges'!AI218","v":0},{"$f":"'Unit rate charges'!AJ218","v":0},{"$f":"'Unit rate charges'!AK218","v":-0.558805197571975},{"$f":"'Unit rate charges'!AL218","v":-0.558805197571975},{"$f":"'Unit rate charges'!AM218","v":0},{"$f":"'Unit rate charges'!AN218","v":0},{"$f":"'Unit rate charges'!AO218","v":-0.35715809300097923},{"$f":"'Unit rate charges'!AP218","v":-0.35715809300097923}]
[null,null,null,null,null,"Unit rate 3","p/kWh",null,null,{"$f":"'Unit rate charges'!J219","v":0},{"$f":"'Unit rate charges'!K219","v":0},{"$f":"'Unit rate charges'!L219","v":0},{"$f":"'Unit rate charges'!M219","v":0},{"$f":"'Unit rate charges'!N219","v":0},{"$f":"'Unit rate charges'!O219","v":0},{"$f":"'Unit rate charges'!P219","v":0},{"$f":"'Unit rate charges'!Q219","v":0},{"$f":"'Unit rate charges'!R219","v":0},{"$f":"'Unit rate charges'!S219","v":0.27340413978808908},{"$f":"'Unit rate charges'!T219","v":0.23467741782154805},{"$f":"'Unit rate charges'!U219","v":0.19733826649390532},{"$f":"'Unit rate charges'!V219","v":0.16644488567179866},{"$f":"'Unit rate charges'!W219","v":0.13578409214088838},{"$f":"'Unit rate charges'!X219","v":0},{"$f":"'Unit rate charges'!Y219","v":0},{"$f":"'Unit rate charges'!Z219","v":0},{"$f":"'Unit rate charges'!AA219","v":0},{"$f":"'Unit rate charges'!AB219","v":1.2765648327255366},{"$f":"'Unit rate charges'!AC219","v":0},{"$f":"'Unit rate charges'!AD219","v":0},{"$f":"'Unit rate charges'!AE219","v":0},{"$f":"'Unit rate charges'!AF219","v":0},{"$f":"'Unit rate charges'!AG219","v":-0.1894868482988982},{"$f":"'Unit rate charges'!AH219","v":-0.1894868482988982},{"$f":"'Unit rate charges'!AI219","v":0},{"$f":"'Unit rate charges'!AJ219","v":0},{"$f":"'Unit rate charges'!AK219","v":-0.1794610199813973},{"$f":"'Unit rate charges'!AL219","v":-0.1794610199813973},{"$f":"'Unit rate charges'!AM219","v":0},{"$f":"'Unit rate charges'!AN219","v":0},{"$f":"'Unit rate charges'!AO219","v":-0.14799176643404297},{"$f":"'Unit rate charges'!AP219","v":-0.14799176643404297}]
[null,null,null,null,null,"Fixed charge","p/MPAN/day",null,null,{"$f":"'Fixed charges'!J161","v":4.9964264740967792},{"$f":"'Fixed charges'!K161","v":4.9964264740967792},{"$f":"'Fixed charges'!L161","v":0},{"$f":"'Fixed charges'!M161","v":9.9574745812117413},{"$f":"'Fixed charges'!N161","v":9.9574745812117413},{"$f":"'Fixed charges'!O161","v":0},{"$f":"'Fixed charges'!P161","v":44.827829667915779},{"$f":"'Fixed charges'!Q161","v":22.819194180039077},{"$f":"'Fixed charges'!R161","v":146.76348908843983},{"$f":"'Fixed charges'!S161","v":4.9964264740967792},{"$f":"'Fixed charges'!T161","v":9.9574745812117413},{"$f":"'Fixed charges'!U161","v":15.020787537344148},{"$f":"'Fixed charges'!V161","v":11.725338863253523},{"$f":"'Fixed charges'!W161","v":108.24640130636605},{"$f":"'Fixed charges'!X161","v":0},{"$f":"'Fixed charges'!Y161","v":0},{"$f":"'Fixed charges'!Z161","v":0},{"$f":"'Fixed charges'!AA161","v":0},{"$f":"'Fixed charges'!AB161","v":0},{"$f":"'Fixed charges'!AC161","v":0},{"$f":"'Fixed charges'!AD161","v":0},{"$f":"'Fixed charges'!AE161","v":0},{"$f":"'Fixed charges'!AF161","v":0},{"$f":"'Fixed charges'!AG161","v":0},{"$f":"'Fixed charges'!AH161","v":0},{"$f":"'Fixed charges'!AI161","v":0},{"$f":"'Fixed charges'!AJ161","v":0},{"$f":"'Fixed charges'!AK161","v":0},{"$f":"'Fixed charges'!AL161","v":0},{"$f":"'Fixed charges'!AM161","v":67.745218259777346},{"$f":"'Fixed charges'!AN161","v":67.745218259777346},{"$f":"'Fixed charges'!AO161","v":67.745218259777346},{"$f":"'Fixed charges'!AP161","v":67.745218259777346}]
[null,null,null,null,null,"Capacity charge","p/kVA/day",null,null,{"$f":"'Capacity charges'!J256","v":0},{"$f":"'Capacity charges'!K256","v":0},{"$f":"'Capacity charges'!L256","v":0},{"$f":"'Capacity charges'!M256","v":0},{"$f":"'Capacity charges'!N256","v":0},{"$f":"'Capacity charges'!O256","v":0},{"$f":"'Capacity charges'!P256","v":0},{"$f":"'Capacity charges'!Q256","v":0},{"$f":"'Capacity charges'!R256","v":0},{"$f":"'Capacity charges'!S256","v":0},{"$f":"'Capacity charges'!T256","v":0},{"$f":"'Capacity charges'!U256","v":3.6177710757692187},{"$f":"'Capacity charges'!V256","v":4.0754906270687519},{"$f":"'Capacity charges'!W256","v":4.1489909207085027},{"$f":"'Capacity charges'!X256","v":0},{"$f":"'Capacity charges'!Y256","v":0},{"$f":"'Capacity charges'!Z256","v":0},{"$f":"'Capacity charges'!AA256","v":0},{"$f":"'Capacity charges'!AB256","v":0},{"$f":"'Capacity charges'!AC256","v":0},{"$f":"'Capacity charges'!AD256","v":0},{"$f":"'Capacity charges'!AE256","v":0},{"$f":"'Capacity charges'!AF256","v":0},{"$f":"'Capacity charges'!AG256","v":0},{"$f":"'Capacity charges'!AH256","v":0},{"$f":"'Capacity charges'!AI256","v":0},{"$f":"'Capacity charges'!AJ256","v":0},{"$f":"'Capacity charges'!AK256","v":0},{"$f":"'Capacity charges'!AL256","v":0},{"$f":"'Capacity charges'!AM256","v":0},{"$f":"'Capacity charges'!AN256","v":0},{"$f":"'Capacity charges'!AO256","v":0},{"$f":"'Capacity charges'!AP256","v":0}]
[null,null,null,null,null,"Exceeded capacity charge","p/kVA/day",null,null,{"$f":"'Capacity charges'!J257","v":0},{"$f":"'Capacity charges'!K257","v":0},{"$f":"'Capacity charges'!L257","v":0},{"$f":"'Capacity charges'!M257","v":0},{"$f":"'Capacity charges'!N257","v":0},{"$f":"'Capacity charges'!O257","v":0},{"$f":"'Capacity charges'!P257","v":0},{"$f":"'Capacity charges'!Q257","v":0},{"$f":"'Capacity charges'!R257","v":0},{"$f":"'Capacity charges'!S257","v":0},{"$f":"'Capacity charges'!T257","v":0},{"$f":"'Capacity charges'!U257","v":7.7475077110435775},{"$f":"'Capacity charges'!V257","v":7.6251210521554169},{"$f":"'Capacity charges'!W257","v":8.0795911828279028},{"$f":"'Capacity charges'!X257","v":0},{"$f":"'Capacity charges'!Y257","v":0},{"$f":"'Capacity charges'!Z257","v":0},{"$f":"'Capacity charges'!AA257","v":0},{"$f":"'Capacity charges'!AB257","v":0},{"$f":"'Capacity charges'!AC257","v":0},{"$f":"'Capacity charges'!AD257","v":0},{"$f":"'Capacity charges'!AE257","v":0},{"$f":"'Capacity charges'!AF257","v":0},{"$f":"'Capacity charges'!AG257","v":0},{"$f":"'Capacity charges'!AH257","v":0},{"$f":"'Capacity charges'!AI257","v":0},{"$f":"'Capacity charges'!AJ257","v":0},{"$f":"'Capacity charges'!AK257","v":0},{"$f":"'Capacity charges'!AL257","v":0},{"$f":"'Capacity charges'!AM257","v":0},{"$f":"'Capacity charges'!AN257","v":0},{"$f":"'Capacity charges'!AO257","v":0},{"$f":"'Capacity charges'!AP257","v":0}]
[null,null,null,null,null,"Reactive power charge","p/kVArh",null,null,{"$f":"'Reactive power charges'!J250","v":0},{"$f":"'Reactive power charges'!K250","v":0},{"$f":"'Reactive power charges'!L250","v":0},{"$f":"'Reactive power charges'!M250","v":0},{"$f":"'Reactive power charges'!N250","v":0},{"$f":"'Reactive power charges'!O250","v":0},{"$f":"'Reactive power charges'!P250","v":0},{"$f":"'Reactive power charges'!Q250","v":0},{"$f":"'Reactive power charges'!R250","v":0},{"$f":"'Reactive power charges'!S250","v":0},{"$f":"'Reactive power charges'!T250","v":0},{"$f":"'Reactive power charges'!U250","v":0.31867128371507336},{"$f":"'Reactive power charges'!V250","v":0.22972054232482408},{"$f":"'Reactive power charges'!W250","v":0.1693841531586624},{"$f":"'Reactive power charges'!X250","v":0},{"$f":"'Reactive power charges'!Y250","v":0},{"$f":"'Reactive power charges'!Z250","v":0},{"$f":"'Reactive power charges'!AA250","v":0},{"$f":"'Reactive power charges'!AB250","v":0},{"$f":"'Reactive power charges'!AC250","v":0},{"$f":"'Reactive power charges'!AD250","v":0},{"$f":"'Reactive power charges'!AE250","v":0.34382772943971418},{"$f":"'Reactive power charges'!AF250","v":0},{"$f":"'Reactive power charges'!AG250","v":0.34382772943971418},{"$f":"'Reactive power charges'!AH250","v":0},{"$f":"'Reactive power charges'!AI250","v":0.28978257640808525},{"$f":"'Reactive power charges'!AJ250","v":0},{"$f":"'Reactive power charges'!AK250","v":0.28978257640808525},{"$f":"'Reactive power charges'!AL250","v":0},{"$f":"'Reactive power charges'!AM250","v":0.24187182604900767},{"$f":"'Reactive power charges'!AN250","v":0},{"$f":"'Reactive power charges'!AO250","v":0.24187182604900767},{"$f":"'Reactive power charges'!AP250","v":0}]
[]
[null,null,null,null,"Volumes (discounted)"]
[null,null,null,null,null,"Unit rate 1","MWh",null,null,{"$f":"'Volume adjustments'!J66","v":3099712.9430819456},{"$f":"'Volume adjustments'!K66","v":145289.674114347},{"$f":"'Volume adjustments'!L66","v":2140.1103146035571},{"$f":"'Volume adjustments'!M66","v":809156.58698910882},{"$f":"'Volume adjustments'!N66","v":199735.41440710361},{"$f":"'Volume adjustments'!O66","v":1578.3141159411171},{"$f":"'Volume adjustments'!P66","v":13915.032470308746},{"$f":"'Volume adjustments'!Q66","v":5.8625576095223545E-8},{"$f":"'Volume adjustments'!R66","v":62.538955055444347},{"$f":"'Volume adjustments'!S66","v":548.80537505020618},{"$f":"'Volume adjustments'!T66","v":11592.451023385509},{"$f":"'Volume adjustments'!U66","v":124926.63683659973},{"$f":"'Volume adjustments'!V66","v":6793.9490002153352},{"$f":"'Volume adjustments'!W66","v":146822.15523569478},{"$f":"'Volume adjustments'!X66","v":2161.3060866775845},{"$f":"'Volume adjustments'!Y66","v":5248.756775387471},{"$f":"'Volume adjustments'!Z66","v":288.93022950400001},{"$f":"'Volume adjustments'!AA66","v":0},{"$f":"'Volume adjustments'!AB66","v":4786.1918698977543},{"$f":"'Volume adjustments'!AC66","v":1535.125},{"$f":"'Volume adjustments'!AD66","v":0},{"$f":"'Volume adjustments'!AE66","v":31409.991281425009},{"$f":"'Volume adjustments'!AF66","v":0},{"$f":"'Volume adjustments'!AG66","v":184.69947550370838},{"$f":"'Volume adjustments'!AH66","v":0},{"$f":"'Volume adjustments'!AI66","v":807.10811500000023},{"$f":"'Volume adjustments'!AJ66","v":0},{"$f":"'Volume adjustments'!AK66","v":36.59019120255607},{"$f":"'Volume adjustments'!AL66","v":0},{"$f":"'Volume adjustments'!AM66","v":314604.16542500001},{"$f":"'Volume adjustments'!AN66","v":0},{"$f":"'Volume adjustments'!AO66","v":30630.476100086526},{"$f":"'Volume adjustments'!AP66","v":0}]
[null,null,null,null,null,"Unit rate 2","MWh",null,null,{"$f":"'Volume adjustments'!J77","v":0},{"$f":"'Volume adjustments'!K77","v":121262.85768811585},{"$f":"'Volume adjustments'!L77","v":0},{"$f":"'Volume adjustments'!M77","v":0},{"$f":"'Volume adjustments'!N77","v":84245.568350797592},{"$f":"'Volume adjustments'!O77","v":0},{"$f":"'Volume adjustments'!P77","v":4250.8635105792746},{"$f":"'Volume adjustments'!Q77","v":1.7910389838743126E-8},{"$f":"'Volume adjustments'!R77","v":25.753194800564419},{"$f":"'Volume adjustments'!S77","v":2705.2171975872861},{"$f":"'Volume adjustments'!T77","v":78318.12222359619},{"$f":"'Volume adjustments'!U77","v":791851.61687907006},{"$f":"'Volume adjustments'!V77","v":40795.314701131094},{"$f":"'Volume adjustments'!W77","v":895274.13786258397},{"$f":"'Volume adjustments'!X77","v":0},{"$f":"'Volume adjustments'!Y77","v":0},{"$f":"'Volume adjustments'!Z77","v":0},{"$f":"'Volume adjustments'!AA77","v":0},{"$f":"'Volume adjustments'!AB77","v":31263.847920010572},{"$f":"'Volume adjustments'!AC77","v":0},{"$f":"'Volume adjustments'!AD77","v":0},{"$f":"'Volume adjustments'!AE77","v":0},{"$f":"'Volume adjustments'!AF77","v":0},{"$f":"'Volume adjustments'!AG77","v":1185.0893640362958},{"$f":"'Volume adjustments'!AH77","v":0},{"$f":"'Volume adjustments'!AI77","v":0},{"$f":"'Volume adjustments'!AJ77","v":0},{"$f":"'Volume adjustments'!AK77","v":148.04789377289072},{"$f":"'Volume adjustments'!AL77","v":0},{"$f":"'Volume adjustments'!AM77","v":0},{"$f":"'Volume adjustments'!AN77","v":0},{"$f":"'Volume adjustments'!AO77","v":70350.709153135162},{"$f":"'Volume adjustments'!AP77","v":0}]
[null,null,null,null,null,"Unit rate 3","MWh",null,null,{"$f":"'Volume adjustments'!J88","v":0},{"$f":"'Volume adjustments'!K88","v":0},{"$f":"'Volume adjustments'!L88","v":0},{"$f":"'Volume adjustments'!M88","v":0},{"$f":"'Volume adjustments'!N88","v":0},{"$f":"'Volume adjustments'!O88","v":0},{"$f":"'Volume adjustments'!P88","v":0},{"$f":"'Volume adjustments'!Q88","v":0},{"$f":"'Volume adjustments'!R88","v":0},{"$f":"'Volume adjustments'!S88","v":2375.2858263176454},{"$f":"'Volume adjustments'!T88","v":56269.737973494914},{"$f":"'Volume adjustments'!U88","v":593772.18207476882},{"$f":"'Volume adjustments'!V88","v":35689.998034384873},{"$f":"'Volume adjustments'!W88","v":848689.50836905383},{"$f":"'Volume adjustments'!X88","v":0},{"$f":"'Volume adjustments'!Y88","v":0},{"$f":"'Volume adjustments'!Z88","v":0},{"$f":"'Volume adjustments'!AA88","v":0},{"$f":"'Volume adjustments'!AB88","v":73749.776463945847},{"$f":"'Volume adjustments'!AC88","v":0},{"$f":"'Volume adjustments'!AD88","v":0},{"$f":"'Volume adjustments'!AE88","v":0},{"$f":"'Volume adjustments'!AF88","v":0},{"$f":"'Volume adjustments'!AG88","v":1145.5607796251077},{"$f":"'Volume adjustments'!AH88","v":0},{"$f":"'Volume adjustments'!AI88","v":0},{"$f":"'Volume adjustments'!AJ88","v":0},{"$f":"'Volume adjustments'!AK88","v":149.37121031591738},{"$f":"'Volume adjustments'!AL88","v":0},{"$f":"'Volume adjustments'!AM88","v":0},{"$f":"'Volume adjustments'!AN88","v":0},{"$f":"'Volume adjustments'!AO88","v":57893.659515242049},{"$f":"'Volume adjustments'!AP88","v":0}]
[null,null,null,null,null,"MPANs","MPANs",null,null,{"$f":"'Volume adjustments'!J103","v":1006668.6924471315},{"$f":"'Volume adjustments'!K103","v":49351.847354592785},{"$f":"'Volume adjustments'!L103","v":0},{"$f":"'Volume adjustments'!M103","v":64891.819902947362},{"$f":"'Volume adjustments'!N103","v":13311.470174753056},{"$f":"'Volume adjustments'!O103","v":0},{"$f":"'Volume adjustments'!P103","v":237.70400615767747},{"$f":"'Volume adjustments'!Q103","v":1.0000000000000001E-9},{"$f":"'Volume adjustments'!R103","v":3.2303097041095885},{"$f":"'Volume adjustments'!S103","v":1568.1873811668759},{"$f":"'Volume adjustments'!T103","v":2244.6252671811812},{"$f":"'Volume adjustments'!U103","v":6075.9800097459211},{"$f":"'Volume adjustments'!V103","v":99.294780066587435},{"$f":"'Volume adjustments'!W103","v":822.40782166981739},{"$f":"'Volume adjustments'!X103","v":587},{"$f":"'Volume adjustments'!Y103","v":772},{"$f":"'Volume adjustments'!Z103","v":87},{"$f":"'Volume adjustments'!AA103","v":0},{"$f":"'Volume adjustments'!AB103","v":35.345205479452055},{"$f":"'Volume adjustments'!AC103","v":0},{"$f":"'Volume adjustments'!AD103","v":0},{"$f":"'Volume adjustments'!AE103","v":386.31110958904111},{"$f":"'Volume adjustments'!AF103","v":0},{"$f":"'Volume adjustments'!AG103","v":18.312676027397263},{"$f":"'Volume adjustments'!AH103","v":0},{"$f":"'Volume adjustments'!AI103","v":6.5165732876712346},{"$f":"'Volume adjustments'!AJ103","v":0},{"$f":"'Volume adjustments'!AK103","v":2.7530136986301375},{"$f":"'Volume adjustments'!AL103","v":0},{"$f":"'Volume adjustments'!AM103","v":158.62326986301375},{"$f":"'Volume adjustments'!AN103","v":0},{"$f":"'Volume adjustments'!AO103","v":46.144759931506854},{"$f":"'Volume adjustments'!AP103","v":0}]
[null,null,null,null,null,"Capacity","kVA",null,null,{"$f":"'Volume adjustments'!J114","v":0},{"$f":"'Volume adjustments'!K114","v":0},{"$f":"'Volume adjustments'!L114","v":0},{"$f":"'Volume adjustments'!M114","v":0},{"$f":"'Volume adjustments'!N114","v":0},{"$f":"'Volume adjustments'!O114","v":0},{"$f":"'Volume adjustments'!P114","v":0},{"$f":"'Volume adjustments'!Q114","v":0},{"$f":"'Volume adjustments'!R114","v":0},{"$f":"'Volume adjustments'!S114","v":0},{"$f":"'Volume adjustments'!T114","v":0},{"$f":"'Volume adjustments'!U114","v":768048.28327556269},{"$f":"'Volume adjustments'!V114","v":27787.563790216489},{"$f":"'Volume adjustments'!W114","v":659893.71472816414},{"$f":"'Volume adjustments'!X114","v":0},{"$f":"'Volume adjustments'!Y114","v":0},{"$f":"'Volume adjustments'!Z114","v":0},{"$f":"'Volume adjustments'!AA114","v":0},{"$f":"'Volume adjustments'!AB114","v":0},{"$f":"'Volume adjustments'!AC114","v":0},{"$f":"'Volume adjustments'!AD114","v":0},{"$f":"'Volume adjustments'!AE114","v":0},{"$f":"'Volume adjustments'!AF114","v":0},{"$f":"'Volume adjustments'!AG114","v":0},{"$f":"'Volume adjustments'!AH114","v":0},{"$f":"'Volume adjustments'!AI114","v":0},{"$f":"'Volume adjustments'!AJ114","v":0},{"$f":"'Volume adjustments'!AK114","v":0},{"$f":"'Volume adjustments'!AL114","v":0},{"$f":"'Volume adjustments'!AM114","v":0},{"$f":"'Volume adjustments'!AN114","v":0},{"$f":"'Volume adjustments'!AO114","v":0},{"$f":"'Volume adjustments'!AP114","v":0}]
[null,null,null,null,null,"Exceeded capacity","kVA",null,null,{"$f":"'Volume adjustments'!J125","v":0},{"$f":"'Volume adjustments'!K125","v":0},{"$f":"'Volume adjustments'!L125","v":0},{"$f":"'Volume adjustments'!M125","v":0},{"$f":"'Volume adjustments'!N125","v":0},{"$f":"'Volume adjustments'!O125","v":0},{"$f":"'Volume adjustments'!P125","v":0},{"$f":"'Volume adjustments'!Q125","v":0},{"$f":"'Volume adjustments'!R125","v":0},{"$f":"'Volume adjustments'!S125","v":0},{"$f":"'Volume adjustments'!T125","v":0},{"$f":"'Volume adjustments'!U125","v":24082.835348340654},{"$f":"'Volume adjustments'!V125","v":1372.9829276493151},{"$f":"'Volume adjustments'!W125","v":19153.332046867399},{"$f":"'Volume adjustments'!X125","v":0},{"$f":"'Volume adjustments'!Y125","v":0},{"$f":"'Volume adjustments'!Z125","v":0},{"$f":"'Volume adjustments'!AA125","v":0},{"$f":"'Volume adjustments'!AB125","v":0},{"$f":"'Volume adjustments'!AC125","v":0},{"$f":"'Volume adjustments'!AD125","v":0},{"$f":"'Volume adjustments'!AE125","v":0},{"$f":"'Volume adjustments'!AF125","v":0},{"$f":"'Volume adjustments'!AG125","v":0},{"$f":"'Volume adjustments'!AH125","v":0},{"$f":"'Volume adjustments'!AI125","v":0},{"$f":"'Volume adjustments'!AJ125","v":0},{"$f":"'Volume adjustments'!AK125","v":0},{"$f":"'Volume adjustments'!AL125","v":0},{"$f":"'Volume adjustments'!AM125","v":0},{"$f":"'Volume adjustments'!AN125","v":0},{"$f":"'Volume adjustments'!AO125","v":0},{"$f":"'Volume adjustments'!AP125","v":0}]
[null,null,null,null,null,"Reactive power units (MVArh)","MVArh",null,null,{"$f":"'Volume adjustments'!J136","v":0},{"$f":"'Volume adjustments'!K136","v":0},{"$f":"'Volume adjustments'!L136","v":0},{"$f":"'Volume adjustments'!M136","v":0},{"$f":"'Volume adjustments'!N136","v":0},{"$f":"'Volume adjustments'!O136","v":0},{"$f":"'Volume adjustments'!P136","v":0},{"$f":"'Volume adjustments'!Q136","v":0},{"$f":"'Volume adjustments'!R136","v":0},{"$f":"'Volume adjustments'!S136","v":0},{"$f":"'Volume adjustments'!T136","v":0},{"$f":"'Volume adjustments'!U136","v":127326.45949241276},{"$f":"'Volume adjustments'!V136","v":6718.751508242538},{"$f":"'Volume adjustments'!W136","v":107929.12511813894},{"$f":"'Volume adjustments'!X136","v":0},{"$f":"'Volume adjustments'!Y136","v":0},{"$f":"'Volume adjustments'!Z136","v":0},{"$f":"'Volume adjustments'!AA136","v":0},{"$f":"'Volume adjustments'!AB136","v":0},{"$f":"'Volume adjustments'!AC136","v":0},{"$f":"'Volume adjustments'!AD136","v":0},{"$f":"'Volume adjustments'!AE136","v":2885.9423360000005},{"$f":"'Volume adjustments'!AF136","v":0},{"$f":"'Volume adjustments'!AG136","v":445.56613500000003},{"$f":"'Volume adjustments'!AH136","v":0},{"$f":"'Volume adjustments'!AI136","v":4.4529209999999999},{"$f":"'Volume adjustments'!AJ136","v":0},{"$f":"'Volume adjustments'!AK136","v":0},{"$f":"'Volume adjustments'!AL136","v":0},{"$f":"'Volume adjustments'!AM136","v":7489.4041639999996},{"$f":"'Volume adjustments'!AN136","v":0},{"$f":"'Volume adjustments'!AO136","v":1364.77427625},{"$f":"'Volume adjustments'!AP136","v":0}]
[]
[null,null,null,null,"Target CDCM net revenue",null,"£",{"$f":"'General inputs'!$H$88","v":289637438.47744858}]
[]
[null,null,{"$f":"INDEX('Version control'!$H$34:$H$59,MATCH($A$1,'Version control'!$F$34:$F$59,0),1)&\"-B: Net revenue before matching\"","v":"Section 518-B: Net revenue before matching"}]
[]
[null,null,null,"This section calculates the shortfall (or surplus) between the net revenue that would be expected "]
[null,null,null,"if pre-matching charges are used, and the net revenue which the company is allowed to collect."]
[]
[null,null,null,null,"Net revenue before matching",null,null,"Sum"]
[null,null,null,null,null,"Unit rate 1","£",{"$f":"SUM(J45:AP45)","v":89460669.126000315},null,{"$f":"J29 * thousand * J20 / hundred","v":57471884.270479098},2969703.3603951479,5615.4761579441265,9931054.8129818309,3338743.0582525786,4164.1557043853581,207038.25306765371,8.0351333943041451E-7,497.02824155701256,63435.113799986619,1149954.6165427514,9719465.9915899038,383808.0539721892,6443493.3654692201,48378.316300221661,132880.77282439923,9877.7737453163463,0,1297070.777229924,-14682.713958598772,0,-300421.08455483738,0,-14794.923415899579,0,-7035.6898030557759,0,-2667.2619627685758,0,-1867633.3251270808,0,-1509161.0719323533,0]
[null,null,null,null,null,"Unit rate 2","£",9247126.8062610794,null,{"$f":"J30 * thousand * J21 / hundred","v":0},338672.76507075242,0,0,238196.39724941217,0,9424.3907953285434,3.8207721970829659E-8,40.829970680354364,24187.004667183086,600944.12416236079,4689638.2447533924,168631.55901126639,2776475.9882365195,0,0,0,0,660348.98830200837,0,0,0,0,-7342.9354085622299,0,0,0,-827.29932529874964,0,0,0,-251263.25122400292,0]
[null,null,null,null,null,"Unit rate 3","£",3375422.8604282318,null,{"$f":"J31 * thousand * J22 / hundred","v":0},0,0,0,0,0,0,0,0,6494.1297809521629,132052.36809114896,1171739.7310293841,59404.176424599093,1152385.3440338888,0,0,0,0,941463.71055242745,0,0,0,0,-2170.6870166599033,0,0,0,-268.06309759150349,0,0,0,-85677.849369917109,0]
[null,null,null,null,null,"Fixed charge","£",22964621.945373081,null,{"$f":"J32 * J23 * days_in_year / hundred","v":18358573.285393413},900027.49983845721,0,2358479.062324415,483802.48454836546,0,38893.504652874122,8.3290058757142633E-8,1730.4340589914964,28598.965258764365,81580.416504403125,333120.91754753451,4249.5670442603368,324932.80792217364,0,0,0,0,0,0,0,0,0,0,0,0,0,0,0,39222.783338515408,0,11410.216940833105,0]
[null,null,null,null,null,"Capacity","£",20548638.055582047,null,{"$f":"J33 * J24 * days_in_year / hundred","v":0},0,0,0,0,0,0,0,0,0,0,10141973.453704149,413355.03858277359,9993309.5632951241,0,0,0,0,0,0,0,0,0,0,0,0,0,0,0,0,0,0,0]
[null,null,null,null,null,"Exceeded capacity","£",1284078.0530628017,null,{"$f":"J34 * J25 * days_in_year / hundred","v":0},0,0,0,0,0,0,0,0,0,0,681024.12686247646,38212.437744421011,564841.48845590407,0,0,0,0,0,0,0,0,0,0,0,0,0,0,0,0,0,0,0]
[null,null,null,null,null,"Reactive power units (MVArh)","£",636885.36676473008,null,{"$f":"J35 * thousand * J26 / hundred","v":0},0,0,0,0,0,0,0,0,0,0,405752.86297342466,15434.352402192057,182814.83459291284,0,0,0,0,0,0,0,9922.67000680825,0,1531.9799251227917,0,12.903789199216673,0,0,0,18114.758611657217,0,3301.0044634130031,0]
[null,null,null,null,null,"Total","£",{"$f":"SUM(J52:AP52)","v":147517442.21347231},null,{"$f":"SUM(J45:J51)","v":75830457.555872515},4208403.6253043571,5615.4761579441265,12289533.875306245,4060741.9400503561,4164.1557043853581,255356.14851585636,9.2501112015838683E-7,2268.2922712288632,122715.21350688623,1964531.5253006644,27142715.328460269,1083095.1851817018,21438253.392005742,48378.316300221661,132880.77282439923,9877.7737453163463,0,2898883.4760843599,-14682.713958598772,0,-290498.41454802913,0,-22776.565915998919,0,-7022.7860138565593,0,-3762.6243856588289,0,-1810295.7831769083,0,-1831390.9511220274,0]
[]
[null,null,null,null,"Net revenue shortfall (or surplus)",null,"£",{"$f":"H37 - H52","v":142119996.26397628},">",null,null,null,null,null,null,null,null,null,null,null,null,null,null,null,null,null,null,null,null,null,null,null,null,null,null,null,null,null,null,null,null,null,null,null,null,null,null,null,null,null,null,null,null,null,null,null,null,null,null,null,null,null,null,null,null,null,null,null,null,null,null,null,null,null,null,null,null,null,null,null,null,null,null,null,null,null,null,null,null,null,null,null,null,null,null,null,null,null,null,null,null,null,null,null,null,null,null,null,null,null,"Paragraph 92"]
[]
[null,"Adder calculation"]
[]
[null,null,"This section calculates a \"fixed adder\" to unit rate charges for demand users that would equalise "]
[null,null,"expected and allowed net revenue. This section includes a simple algorithm to account for "]
[null,null,"the requirement that demand customers should not have negative unit rates."]
[]
[null,null,{"$f":"INDEX('Version control'!$H$34:$H$59,MATCH($A$1,'Version control'!$F$34:$F$59,0),1)&\"-C: Calculation of unconstrained adder solution\"","v":"Section 518-C: Calculation of unconstrained adder solution"}]
[]
[null,null,null,null,"Adder value at which the non-negative demand charge constraint is breached"]
[null,null,null,null,"Negative unit rates are not permitted for demand customers. This table calculates the lowest value "]
[null,null,null,null,"a fixed adder could take before this constraint binds (for each unit rate and customer category). This is "]
[null,null,null,null,"the negative of each pre-matching charge. "]
[null,null,null,null,null,"Unit rate 1 - Adder threshold","p/kWh",null,null,{"$f":"-J20","v":-1.8541034387957436},-2.0439879010657762,-0.26239190193260487,-1.2273341121692558,-1.6715829129067237,-0.26383567518829137,-1.4878747391313845,-1.3705849783468138,-0.79474983410958611,-11.558763212583951,-9.919857450533474,-7.7801389981407016,-5.6492631010333509,-4.388638319009436,-2.2383833830121702,-2.5316618489068734,-3.4187401443847873,-1.9559638469564065,-27.100267028317713,0.95645070978576807,0.87171590426342993,0.95645070978576807,0.95645070978576807,8.0102682346829557,8.0102682346829557,0.87171590426342993,0.87171590426342993,7.2895545912923492,7.2895545912923492,0.59364545367798527,0.59364545367798527,4.9269918854708576,4.9269918854708576]
[null,null,null,null,null,"Unit rate 2 - Adder threshold","p/kWh",null,null,{"$f":"-J21","v":0},-0.27928812789634883,0,0,-0.28274056655130519,0,-0.22170532579730512,-0.21332713757117699,-0.15854332247531291,-0.89408734680360813,-0.76731171164533429,-0.59223699804222085,-0.41336011315679566,-0.31012578950009634,0,0,0,0,-2.1121807846287179,0,0,0,0,0.61961027002663549,0.61961027002663549,0,0,0.558805197571975,0.558805197571975,0,0,0.35715809300097923,0.35715809300097923]
[null,null,null,null,null,"Unit rate 3 - Adder threshold","p/kWh",null,null,{"$f":"-J22","v":0},0,0,0,0,0,0,0,0,-0.27340413978808908,-0.23467741782154805,-0.19733826649390532,-0.16644488567179866,-0.13578409214088838,0,0,0,0,-1.2765648327255366,0,0,0,0,0.1894868482988982,0.1894868482988982,0,0,0.1794610199813973,0.1794610199813973,0,0,0.14799176643404297,0.14799176643404297]
[]
[null,null,null,null,"Expected units to be charged"]
[null,null,null,null,"Calculates the effect on expected net revenue from the addition of a 1 p/kWh fixed adder to each unit "]
[null,null,null,null,"rate charge for each customer category - driven by the units of energy each customer category is expected "]
[null,null,null,null,"to use."]
[null,null,null,null,null,"Unit rate 1 - expected units to be charged","MWh",null,null,{"$f":"J29","v":3099712.9430819456},145289.674114347,2140.1103146035571,809156.58698910882,199735.41440710361,1578.3141159411171,13915.032470308746,5.8625576095223545E-8,62.538955055444347,548.80537505020618,11592.451023385509,124926.63683659973,6793.9490002153352,146822.15523569478,2161.3060866775845,5248.756775387471,288.93022950400001,0,4786.1918698977543]
[null,null,null,null,null,"Unit rate 2 - expected units to be charged","MWh",null,null,{"$f":"J30","v":0},121262.85768811585,0,0,84245.568350797592,0,4250.8635105792746,1.7910389838743126E-8,25.753194800564419,2705.2171975872861,78318.12222359619,791851.61687907006,40795.314701131094,895274.13786258397,0,0,0,0,31263.847920010572]
[null,null,null,null,null,"Unit rate 3 - expected units to be charged","MWh",null,null,{"$f":"J31","v":0},0,0,0,0,0,0,0,0,2375.2858263176454,56269.737973494914,593772.18207476882,35689.998034384873,848689.50836905383,0,0,0,0,73749.776463945847]
[]
[null,null,null,null,"Unconstrained adder solution (i.e. unit rates for demand can be negative)",null,null,null,">",null,null,null,null,null,null,null,null,null,null,null,null,null,null,null,null,null,null,null,null,null,null,null,null,null,null,null,null,null,null,null,null,null,null,null,null,null,null,null,null,null,null,null,null,null,null,null,null,null,null,null,null,null,null,null,null,null,null,null,null,null,null,null,null,null,null,null,null,null,null,null,null,null,null,null,null,null,null,null,null,null,null,null,null,null,null,null,null,null,null,null,null,null,null,null,null,null,null,null,null,null,"Paragraph 93"]
[null,null,null,null,"Calculates the value of fixed adder that would equalise expected and allowed net revenue if it was "]
[null,null,null,null,"unconstrained by the requirement that demand charges be non-negative. In some cases, the constraints "]
[null,null,null,null,"will not bind, and this equal the constrained solution. "]
[null,null,null,null,null,"Constraint-free adder solution","p/kWh",{"$f":"H54/SUM(J76:AP78)/ten","v":1.7257416660376177}]
[]
[null,null,{"$f":"INDEX('Version control'!$H$34:$H$59,MATCH($A$1,'Version control'!$F$34:$F$59,0),1)&\"-D: Algorithm to find constrained adder solution\"","v":"Section 518-D: Algorithm to find constrained adder solution"}]
[]
[null,null,null,"This algorithm only affects the adder solution if pre-match net revenue exceeds target net revenue, in ",null,null,null,null,">",null,null,null,null,null,null,null,null,null,null,null,null,null,null,null,null,null,null,null,null,null,null,null,null,null,null,null,null,null,null,null,null,null,null,null,null,null,null,null,null,null,null,null,null,null,null,null,null,null,null,null,null,null,null,null,null,null,null,null,null,null,null,null,null,null,null,null,null,null,null,null,null,null,null,null,null,null,null,null,null,null,null,null,null,null,null,null,null,null,null,null,null,null,null,null,null,null,null,null,null,null,"Paragraph 93"]
[null,null,null,"which case the unconstrained adder solution will be negative and the non-negative adder constraint may "]
[null,null,null,"bind. If this is not the case the following steps can be ignored. "]
[]
[null,null,null,"Step 1 - Arrange all unit rate : customer category pre-match charges (and expected units to be charged) "]
[null,null,null,"onto a single row. "]
[]
[null,null,null,null,"Unit rate_customer category (arbitrary order)>> ",null,null,null,null,"Unit rate 1 p/kWh_Domestic Unrestricted","Unit rate 1 p/kWh_Domestic Two Rate","Unit rate 1 p/kWh_Domestic Off Peak (related MPAN)","Unit rate 1 p/kWh_Small Non Domestic Unrestricted","Unit rate 1 p/kWh_Small Non Domestic Two Rate","Unit rate 1 p/kWh_Small Non Domestic Off Peak (related MPAN)","Unit rate 1 p/kWh_LV Medium Non-Domestic","Unit rate 1 p/kWh_LV Sub Medium Non-Domestic","Unit rate 1 p/kWh_HV Medium Non-Domestic","Unit rate 1 p/kWh_LV Network Domestic","Unit rate 1 p/kWh_LV Network Non-Domestic Non-CT","Unit rate 1 p/kWh_LV HH Metered","Unit rate 1 p/kWh_LV Sub HH Metered","Unit rate 1 p/kWh_HV HH Metered","Unit rate 1 p/kWh_NHH UMS category A","Unit rate 1 p/kWh_NHH UMS category B","Unit rate 1 p/kWh_NHH UMS category C","Unit rate 1 p/kWh_NHH UMS category D","Unit rate 1 p/kWh_LV UMS (Pseudo HH Metered)","Unit rate 1 p/kWh_LV Generation NHH or Aggregate HH","Unit rate 1 p/kWh_LV Sub Generation NHH","Unit rate 1 p/kWh_LV Generation Intermittent","Unit rate 1 p/kWh_LV Generation Intermittent no RP charge","Unit rate 1 p/kWh_LV Generation Non-Intermittent","Unit rate 1 p/kWh_LV Generation Non-Intermittent no RP charge","Unit rate 1 p/kWh_LV Sub Generation Intermittent","Unit rate 1 p/kWh_LV Sub Generation Intermittent no RP charge","Unit rate 1 p/kWh_LV Sub Generation Non-Intermittent","Unit rate 1 p/kWh_LV Sub Generation Non-Intermittent no RP charge","Unit rate 1 p/kWh_HV Generation Intermittent","Unit rate 1 p/kWh_HV Generation Intermittent no RP charge","Unit rate 1 p/kWh_HV Generation Non-Intermittent","Unit rate 1 p/kWh_HV Generation Non-Intermittent no RP charge","Unit rate 2 p/kWh_Domestic Unrestricted","Unit rate 2 p/kWh_Domestic Two Rate","Unit rate 2 p/kWh_Domestic Off Peak (related MPAN)","Unit rate 2 p/kWh_Small Non Domestic Unrestricted","Unit rate 2 p/kWh_Small Non Domestic Two Rate","Unit rate 2 p/kWh_Small Non Domestic Off Peak (related MPAN)","Unit rate 2 p/kWh_LV Medium Non-Domestic","Unit rate 2 p/kWh_LV Sub Medium Non-Domestic","Unit rate 2 p/kWh_HV Medium Non-Domestic","Unit rate 2 p/kWh_LV Network Domestic","Unit rate 2 p/kWh_LV Network Non-Domestic Non-CT","Unit rate 2 p/kWh_LV HH Metered","Unit rate 2 p/kWh_LV Sub HH Metered","Unit rate 2 p/kWh_HV HH Metered","Unit rate 2 p/kWh_NHH UMS category A","Unit rate 2 p/kWh_NHH UMS category B","Unit rate 2 p/kWh_NHH UMS category C","Unit rate 2 p/kWh_NHH UMS category D","Unit rate 2 p/kWh_LV UMS (Pseudo HH Metered)","Unit rate 2 p/kWh_LV Generation NHH or Aggregate HH","Unit rate 2 p/kWh_LV Sub Generation NHH","Unit rate 2 p/kWh_LV Generation Intermittent","Unit rate 2 p/kWh_LV Generation Intermittent no RP charge","Unit rate 2 p/kWh_LV Generation Non-Intermittent","Unit rate 2 p/kWh_LV Generation Non-Intermittent no RP charge","Unit rate 2 p/kWh_LV Sub Generation Intermittent","Unit rate 2 p/kWh_LV Sub Generation Intermittent no RP charge","Unit rate 2 p/kWh_LV Sub Generation Non-Intermittent","Unit rate 2 p/kWh_LV Sub Generation Non-Intermittent no RP charge","Unit rate 2 p/kWh_HV Generation Intermittent","Unit rate 2 p/kWh_HV Generation Intermittent no RP charge","Unit rate 2 p/kWh_HV Generation Non-Intermittent","Unit rate 2 p/kWh_HV Generation Non-Intermittent no RP charge","Unit rate 3 p/kWh_Domestic Unrestricted","Unit rate 3 p/kWh_Domestic Two Rate","Unit rate 3 p/kWh_Domestic Off Peak (related MPAN)","Unit rate 3 p/kWh_Small Non Domestic Unrestricted","Unit rate 3 p/kWh_Small Non Domestic Two Rate","Unit rate 3 p/kWh_Small Non Domestic Off Peak (related MPAN)","Unit rate 3 p/kWh_LV Medium Non-Domestic","Unit rate 3 p/kWh_LV Sub Medium Non-Domestic","Unit rate 3 p/kWh_HV Medium Non-Domestic","Unit rate 3 p/kWh_LV Network Domestic","Unit rate 3 p/kWh_LV Network Non-Domestic Non-CT","Unit rate 3 p/kWh_LV HH Metered","Unit rate 3 p/kWh_LV Sub HH Metered","Unit rate 3 p/kWh_HV HH Metered","Unit rate 3 p/kWh_NHH UMS category A","Unit rate 3 p/kWh_NHH UMS category B","Unit rate 3 p/kWh_NHH UMS category C","Unit rate 3 p/kWh_NHH UMS category D","Unit rate 3 p/kWh_LV UMS (Pseudo HH Metered)","Unit rate 3 p/kWh_LV Generation NHH or Aggregate HH","Unit rate 3 p/kWh_LV Sub Generation NHH","Unit rate 3 p/kWh_LV Generation Intermittent","Unit rate 3 p/kWh_LV Generation Intermittent no RP charge","Unit rate 3 p/kWh_LV Generation Non-Intermittent","Unit rate 3 p/kWh_LV Generation Non-Intermittent no RP charge","Unit rate 3 p/kWh_LV Sub Generation Intermittent","Unit rate 3 p/kWh_LV Sub Generation Intermittent no RP charge","Unit rate 3 p/kWh_LV Sub Generation Non-Intermittent","Unit rate 3 p/kWh_LV Sub Generation Non-Intermittent no RP charge","Unit rate 3 p/kWh_HV Generation Intermittent","Unit rate 3 p/kWh_HV Generation Intermittent no RP charge","Unit rate 3 p/kWh_HV Generation Non-Intermittent","Unit rate 3 p/kWh_HV Generation Non-Intermittent no RP charge"]
[null,null,null,null,"Combined - Adder threshold",null,"p/kWh",null,null,{"$f":"J68","v":-1.8541034387957436},-2.0439879010657762,-0.26239190193260487,-1.2273341121692558,-1.6715829129067237,-0.26383567518829137,-1.4878747391313845,-1.3705849783468138,-0.79474983410958611,-11.558763212583951,-9.919857450533474,-7.7801389981407016,-5.6492631010333509,-4.388638319009436,-2.2383833830121702,-2.5316618489068734,-3.4187401443847873,-1.9559638469564065,-27.100267028317713,0.95645070978576807,0.87171590426342993,0.95645070978576807,0.95645070978576807,8.0102682346829557,8.0102682346829557,0.87171590426342993,0.87171590426342993,7.2895545912923492,7.2895545912923492,0.59364545367798527,0.59364545367798527,4.9269918854708576,4.9269918854708576,{"$f":"J69","v":0},-0.27928812789634883,0,0,-0.28274056655130519,0,-0.22170532579730512,-0.21332713757117699,-0.15854332247531291,-0.89408734680360813,-0.76731171164533429,-0.59223699804222085,-0.41336011315679566,-0.31012578950009634,0,0,0,0,-2.1121807846287179,0,0,0,0,0.61961027002663549,0.61961027002663549,0,0,0.558805197571975,0.558805197571975,0,0,0.35715809300097923,0.35715809300097923,{"$f":"J70","v":0},0,0,0,0,0,0,0,0,-0.27340413978808908,-0.23467741782154805,-0.19733826649390532,-0.16644488567179866,-0.13578409214088838,0,0,0,0,-1.2765648327255366,0,0,0,0,0.1894868482988982,0.1894868482988982,0,0,0.1794610199813973,0.1794610199813973,0,0,0.14799176643404297,0.14799176643404297]
[null,null,null,null,"Combined - expected units to be charged",null,"MWh",null,null,{"$f":"J76","v":3099712.9430819456},145289.674114347,2140.1103146035571,809156.58698910882,199735.41440710361,1578.3141159411171,13915.032470308746,5.8625576095223545E-8,62.538955055444347,548.80537505020618,11592.451023385509,124926.63683659973,6793.9490002153352,146822.15523569478,2161.3060866775845,5248.756775387471,288.93022950400001,0,4786.1918698977543,0,0,0,0,0,0,0,0,0,0,0,0,0,0,{"$f":"J77","v":0},121262.85768811585,0,0,84245.568350797592,0,4250.8635105792746,1.7910389838743126E-8,25.753194800564419,2705.2171975872861,78318.12222359619,791851.61687907006,40795.314701131094,895274.13786258397,0,0,0,0,31263.847920010572,0,0,0,0,0,0,0,0,0,0,0,0,0,0,{"$f":"J78","v":0},0,0,0,0,0,0,0,0,2375.2858263176454,56269.737973494914,593772.18207476882,35689.998034384873,848689.50836905383,0,0,0,0,73749.776463945847,0,0,0,0,0,0,0,0,0,0,0,0,0,0]
[]
[null,null,null,"Step 2 - Rank the unit rate : customer category pre-match charges by their adder threshold values - from "]
[null,null,null,"lowest to highest. "]
[]
[null,null,null,null,"Unit rate_customer category (arbitrary order)>> ",null,null,null,null,"Unit rate 1 p/kWh_Domestic Unrestricted","Unit rate 1 p/kWh_Domestic Two Rate","Unit rate 1 p/kWh_Domestic Off Peak (related MPAN)","Unit rate 1 p/kWh_Small Non Domestic Unrestricted","Unit rate 1 p/kWh_Small Non Domestic Two Rate","Unit rate 1 p/kWh_Small Non Domestic Off Peak (related MPAN)","Unit rate 1 p/kWh_LV Medium Non-Domestic","Unit rate 1 p/kWh_LV Sub Medium Non-Domestic","Unit rate 1 p/kWh_HV Medium Non-Domestic","Unit rate 1 p/kWh_LV Network Domestic","Unit rate 1 p/kWh_LV Network Non-Domestic Non-CT","Unit rate 1 p/kWh_LV HH Metered","Unit rate 1 p/kWh_LV Sub HH Metered","Unit rate 1 p/kWh_HV HH Metered","Unit rate 1 p/kWh_NHH UMS category A","Unit rate 1 p/kWh_NHH UMS category B","Unit rate 1 p/kWh_NHH UMS category C","Unit rate 1 p/kWh_NHH UMS category D","Unit rate 1 p/kWh_LV UMS (Pseudo HH Metered)","Unit rate 1 p/kWh_LV Generation NHH or Aggregate HH","Unit rate 1 p/kWh_LV Sub Generation NHH","Unit rate 1 p/kWh_LV Generation Intermittent","Unit rate 1 p/kWh_LV Generation Intermittent no RP charge","Unit rate 1 p/kWh_LV Generation Non-Intermittent","Unit rate 1 p/kWh_LV Generation Non-Intermittent no RP charge","Unit rate 1 p/kWh_LV Sub Generation Intermittent","Unit rate 1 p/kWh_LV Sub Generation Intermittent no RP charge","Unit rate 1 p/kWh_LV Sub Generation Non-Intermittent","Unit rate 1 p/kWh_LV Sub Generation Non-Intermittent no RP charge","Unit rate 1 p/kWh_HV Generation Intermittent","Unit rate 1 p/kWh_HV Generation Intermittent no RP charge","Unit rate 1 p/kWh_HV Generation Non-Intermittent","Unit rate 1 p/kWh_HV Generation Non-Intermittent no RP charge","Unit rate 2 p/kWh_Domestic Unrestricted","Unit rate 2 p/kWh_Domestic Two Rate","Unit rate 2 p/kWh_Domestic Off Peak (related MPAN)","Unit rate 2 p/kWh_Small Non Domestic Unrestricted","Unit rate 2 p/kWh_Small Non Domestic Two Rate","Unit rate 2 p/kWh_Small Non Domestic Off Peak (related MPAN)","Unit rate 2 p/kWh_LV Medium Non-Domestic","Unit rate 2 p/kWh_LV Sub Medium Non-Domestic","Unit rate 2 p/kWh_HV Medium Non-Domestic","Unit rate 2 p/kWh_LV Network Domestic","Unit rate 2 p/kWh_LV Network Non-Domestic Non-CT","Unit rate 2 p/kWh_LV HH Metered","Unit rate 2 p/kWh_LV Sub HH Metered","Unit rate 2 p/kWh_HV HH Metered","Unit rate 2 p/kWh_NHH UMS category A","Unit rate 2 p/kWh_NHH UMS category B","Unit rate 2 p/kWh_NHH UMS category C","Unit rate 2 p/kWh_NHH UMS category D","Unit rate 2 p/kWh_LV UMS (Pseudo HH Metered)","Unit rate 2 p/kWh_LV Generation NHH or Aggregate HH","Unit rate 2 p/kWh_LV Sub Generation NHH","Unit rate 2 p/kWh_LV Generation Intermittent","Unit rate 2 p/kWh_LV Generation Intermittent no RP charge","Unit rate 2 p/kWh_LV Generation Non-Intermittent","Unit rate 2 p/kWh_LV Generation Non-Intermittent no RP charge","Unit rate 2 p/kWh_LV Sub Generation Intermittent","Unit rate 2 p/kWh_LV Sub Generation Intermittent no RP charge","Unit rate 2 p/kWh_LV Sub Generation Non-Intermittent","Unit rate 2 p/kWh_LV Sub Generation Non-Intermittent no RP charge","Unit rate 2 p/kWh_HV Generation Intermittent","Unit rate 2 p/kWh_HV Generation Intermittent no RP charge","Unit rate 2 p/kWh_HV Generation Non-Intermittent","Unit rate 2 p/kWh_HV Generation Non-Intermittent no RP charge","Unit rate 3 p/kWh_Domestic Unrestricted","Unit rate 3 p/kWh_Domestic Two Rate","Unit rate 3 p/kWh_Domestic Off Peak (related MPAN)","Unit rate 3 p/kWh_Small Non Domestic Unrestricted","Unit rate 3 p/kWh_Small Non Domestic Two Rate","Unit rate 3 p/kWh_Small Non Domestic Off Peak (related MPAN)","Unit rate 3 p/kWh_LV Medium Non-Domestic","Unit rate 3 p/kWh_LV Sub Medium Non-Domestic","Unit rate 3 p/kWh_HV Medium Non-Domestic","Unit rate 3 p/kWh_LV Network Domestic","Unit rate 3 p/kWh_LV Network Non-Domestic Non-CT","Unit rate 3 p/kWh_LV HH Metered","Unit rate 3 p/kWh_LV Sub HH Metered","Unit rate 3 p/kWh_HV HH Metered","Unit rate 3 p/kWh_NHH UMS category A","Unit rate 3 p/kWh_NHH UMS category B","Unit rate 3 p/kWh_NHH UMS category C","Unit rate 3 p/kWh_NHH UMS category D","Unit rate 3 p/kWh_LV UMS (Pseudo HH Metered)","Unit rate 3 p/kWh_LV Generation NHH or Aggregate HH","Unit rate 3 p/kWh_LV Sub Generation NHH","Unit rate 3 p/kWh_LV Generation Intermittent","Unit rate 3 p/kWh_LV Generation Intermittent no RP charge","Unit rate 3 p/kWh_LV Generation Non-Intermittent","Unit rate 3 p/kWh_LV Generation Non-Intermittent no RP charge","Unit rate 3 p/kWh_LV Sub Generation Intermittent","Unit rate 3 p/kWh_LV Sub Generation Intermittent no RP charge","Unit rate 3 p/kWh_LV Sub Generation Non-Intermittent","Unit rate 3 p/kWh_LV Sub Generation Non-Intermittent no RP charge","Unit rate 3 p/kWh_HV Generation Intermittent","Unit rate 3 p/kWh_HV Generation Intermittent no RP charge","Unit rate 3 p/kWh_HV Generation Non-Intermittent","Unit rate 3 p/kWh_HV Generation Non-Intermittent no RP charge"]
[null,null,null,null,"Adder thresholds ranked from lowest (1) to highest (99)",null,"no.",null,null,{"$f":"RANK(J96,$J$96:$DD$96,1)","v":13},11,29,18,14,28,15,16,20,2,3,4,5,6,9,8,7,12,1,91,88,91,91,98,98,88,88,96,96,84,84,94,{"$f":"RANK(AP96,$J$96:$DD$96,1)","v":94},37,26,37,37,25,37,31,32,35,19,21,22,23,24,37,37,37,37,10,37,37,37,37,86,86,37,37,82,82,37,37,{"$f":"RANK(BV96,$J$96:$DD$96,1)","v":80},80,37,37,37,37,37,37,37,37,37,27,30,33,34,36,37,37,37,37,17,37,37,37,37,78,78,37,37,76,76,37,37,74,74]
[null,null,null,null,"Tie-breaker between equal threshold rates",null,"no.",null,null,{"$f":"J103+(COUNT($J$103:J$103)/COUNT($J$103:$DD$103))","v":13.01010101010101},{"$f":"K103+(COUNT($J$103:K$103)/COUNT($J$103:$DD$103))","v":11.020202020202021},{"$f":"L103+(COUNT($J$103:L$103)/COUNT($J$103:$DD$103))","v":29.030303030303031},{"$f":"M103+(COUNT($J$103:M$103)/COUNT($J$103:$DD$103))","v":18.040404040404042},{"$f":"N103+(COUNT($J$103:N$103)/COUNT($J$103:$DD$103))","v":14.05050505050505},{"$f":"O103+(COUNT($J$103:O$103)/COUNT($J$103:$DD$103))","v":28.060606060606062},{"$f":"P103+(COUNT($J$103:P$103)/COUNT($J$103:$DD$103))","v":15.070707070707071},{"$f":"Q103+(COUNT($J$103:Q$103)/COUNT($J$103:$DD$103))","v":16.08080808080808},{"$f":"R103+(COUNT($J$103:R$103)/COUNT($J$103:$DD$103))","v":20.09090909090909},{"$f":"S103+(COUNT($J$103:S$103)/COUNT($J$103:$DD$103))","v":2.1010101010101012},{"$f":"T103+(COUNT($J$103:T$103)/COUNT($J$103:$DD$103))","v":3.1111111111111112},{"$f":"U103+(COUNT($J$103:U$103)/COUNT($J$103:$DD$103))","v":4.1212121212121211},{"$f":"V103+(COUNT($J$103:V$103)/COUNT($J$103:$DD$103))","v":5.1313131313131315},{"$f":"W103+(COUNT($J$103:W$103)/COUNT($J$103:$DD$103))","v":6.141414141414141},{"$f":"X103+(COUNT($J$103:X$103)/COUNT($J$103:$DD$103))","v":9.1515151515151523},{"$f":"Y103+(COUNT($J$103:Y$103)/COUNT($J$103:$DD$103))","v":8.1616161616161609},{"$f":"Z103+(COUNT($J$103:Z$103)/COUNT($J$103:$DD$103))","v":7.1717171717171713},{"$f":"AA103+(COUNT($J$103:AA$103)/COUNT($J$103:$DD$103))","v":12.181818181818182},{"$f":"AB103+(COUNT($J$103:AB$103)/COUNT($J$103:$DD$103))","v":1.1919191919191918},{"$f":"AC103+(COUNT($J$103:AC$103)/COUNT($J$103:$DD$103))","v":91.202020202020208},{"$f":"AD103+(COUNT($J$103:AD$103)/COUNT($J$103:$DD$103))","v":88.212121212121218},{"$f":"AE103+(COUNT($J$103:AE$103)/COUNT($J$103:$DD$103))","v":91.222222222222229},{"$f":"AF103+(COUNT($J$103:AF$103)/COUNT($J$103:$DD$103))","v":91.232323232323239},{"$f":"AG103+(COUNT($J$103:AG$103)/COUNT($J$103:$DD$103))","v":98.242424242424249},{"$f":"AH103+(COUNT($J$103:AH$103)/COUNT($J$103:$DD$103))","v":98.252525252525245},{"$f":"AI103+(COUNT($J$103:AI$103)/COUNT($J$103:$DD$103))","v":88.262626262626256},{"$f":"AJ103+(COUNT($J$103:AJ$103)/COUNT($J$103:$DD$103))","v":88.272727272727266},{"$f":"AK103+(COUNT($J$103:AK$103)/COUNT($J$103:$DD$103))","v":96.282828282828277},{"$f":"AL103+(COUNT($J$103:AL$103)/COUNT($J$103:$DD$103))","v":96.292929292929287},{"$f":"AM103+(COUNT($J$103:AM$103)/COUNT($J$103:$DD$103))","v":84.303030303030297},{"$f":"AN103+(COUNT($J$103:AN$103)/COUNT($J$103:$DD$103))","v":84.313131313131308},{"$f":"AO103+(COUNT($J$103:AO$103)/COUNT($J$103:$DD$103))","v":94.323232323232318},{"$f":"AP103+(COUNT($J$103:AP$103)/COUNT($J$103:$DD$103))","v":94.333333333333329},{"$f":"AQ103+(COUNT($J$103:AQ$103)/COUNT($J$103:$DD$103))","v":37.343434343434346},{"$f":"AR103+(COUNT($J$103:AR$103)/COUNT($J$103:$DD$103))","v":26.353535353535353},{"$f":"AS103+(COUNT($J$103:AS$103)/COUNT($J$103:$DD$103))","v":37.363636363636367},{"$f":"AT103+(COUNT($J$103:AT$103)/COUNT($J$103:$DD$103))","v":37.373737373737377},{"$f":"AU103+(COUNT($J$103:AU$103)/COUNT($J$103:$DD$103))","v":25.383838383838384},{"$f":"AV103+(COUNT($J$103:AV$103)/COUNT($J$103:$DD$103))","v":37.393939393939391},{"$f":"AW103+(COUNT($J$103:AW$103)/COUNT($J$103:$DD$103))","v":31.404040404040405},{"$f":"AX103+(COUNT($J$103:AX$103)/COUNT($J$103:$DD$103))","v":32.414141414141412},{"$f":"AY103+(COUNT($J$103:AY$103)/COUNT($J$103:$DD$103))","v":35.424242424242422},{"$f":"AZ103+(COUNT($J$103:AZ$103)/COUNT($J$103:$DD$103))","v":19.434343434343436},{"$f":"BA103+(COUNT($J$103:BA$103)/COUNT($J$103:$DD$103))","v":21.444444444444443},{"$f":"BB103+(COUNT($J$103:BB$103)/COUNT($J$103:$DD$103))","v":22.454545454545453},{"$f":"BC103+(COUNT($J$103:BC$103)/COUNT($J$103:$DD$103))","v":23.464646464646464},{"$f":"BD103+(COUNT($J$103:BD$103)/COUNT($J$103:$DD$103))","v":24.474747474747474},{"$f":"BE103+(COUNT($J$103:BE$103)/COUNT($J$103:$DD$103))","v":37.484848484848484},{"$f":"BF103+(COUNT($J$103:BF$103)/COUNT($J$103:$DD$103))","v":37.494949494949495},{"$f":"BG103+(COUNT($J$103:BG$103)/COUNT($J$103:$DD$103))","v":37.505050505050505},{"$f":"BH103+(COUNT($J$103:BH$103)/COUNT($J$103:$DD$103))","v":37.515151515151516},{"$f":"BI103+(COUNT($J$103:BI$103)/COUNT($J$103:$DD$103))","v":10.525252525252526},{"$f":"BJ103+(COUNT($J$103:BJ$103)/COUNT($J$103:$DD$103))","v":37.535353535353536},{"$f":"BK103+(COUNT($J$103:BK$103)/COUNT($J$103:$DD$103))","v":37.545454545454547},{"$f":"BL103+(COUNT($J$103:BL$103)/COUNT($J$103:$DD$103))","v":37.555555555555557},{"$f":"BM103+(COUNT($J$103:BM$103)/COUNT($J$103:$DD$103))","v":37.565656565656568},{"$f":"BN103+(COUNT($J$103:BN$103)/COUNT($J$103:$DD$103))","v":86.575757575757578},{"$f":"BO103+(COUNT($J$103:BO$103)/COUNT($J$103:$DD$103))","v":86.585858585858588},{"$f":"BP103+(COUNT($J$103:BP$103)/COUNT($J$103:$DD$103))","v":37.595959595959599},{"$f":"BQ103+(COUNT($J$103:BQ$103)/COUNT($J$103:$DD$103))","v":37.606060606060609},{"$f":"BR103+(COUNT($J$103:BR$103)/COUNT($J$103:$DD$103))","v":82.616161616161619},{"$f":"BS103+(COUNT($J$103:BS$103)/COUNT($J$103:$DD$103))","v":82.62626262626263},{"$f":"BT103+(COUNT($J$103:BT$103)/COUNT($J$103:$DD$103))","v":37.636363636363633},{"$f":"BU103+(COUNT($J$103:BU$103)/COUNT($J$103:$DD$103))","v":37.646464646464644},{"$f":"BV103+(COUNT($J$103:BV$103)/COUNT($J$103:$DD$103))","v":80.656565656565661},{"$f":"BW103+(COUNT($J$103:BW$103)/COUNT($J$103:$DD$103))","v":80.666666666666671},{"$f":"BX103+(COUNT($J$103:BX$103)/COUNT($J$103:$DD$103))","v":37.676767676767675},{"$f":"BY103+(COUNT($J$103:BY$103)/COUNT($J$103:$DD$103))","v":37.686868686868685},{"$f":"BZ103+(COUNT($J$103:BZ$103)/COUNT($J$103:$DD$103))","v":37.696969696969695},{"$f":"CA103+(COUNT($J$103:CA$103)/COUNT($J$103:$DD$103))","v":37.707070707070706},{"$f":"CB103+(COUNT($J$103:CB$103)/COUNT($J$103:$DD$103))","v":37.717171717171716},{"$f":"CC103+(COUNT($J$103:CC$103)/COUNT($J$103:$DD$103))","v":37.727272727272727},{"$f":"CD103+(COUNT($J$103:CD$103)/COUNT($J$103:$DD$103))","v":37.737373737373737},{"$f":"CE103+(COUNT($J$103:CE$103)/COUNT($J$103:$DD$103))","v":37.747474747474747},{"$f":"CF103+(COUNT($J$103:CF$103)/COUNT($J$103:$DD$103))","v":37.757575757575758},{"$f":"CG103+(COUNT($J$103:CG$103)/COUNT($J$103:$DD$103))","v":27.767676767676768},{"$f":"CH103+(COUNT($J$103:CH$103)/COUNT($J$103:$DD$103))","v":30.777777777777779},{"$f":"CI103+(COUNT($J$103:CI$103)/COUNT($J$103:$DD$103))","v":33.787878787878789},{"$f":"CJ103+(COUNT($J$103:CJ$103)/COUNT($J$103:$DD$103))","v":34.797979797979799},{"$f":"CK103+(COUNT($J$103:CK$103)/COUNT($J$103:$DD$103))","v":36.80808080808081},{"$f":"CL103+(COUNT($J$103:CL$103)/COUNT($J$103:$DD$103))","v":37.81818181818182},{"$f":"CM103+(COUNT($J$103:CM$103)/COUNT($J$103:$DD$103))","v":37.828282828282831},{"$f":"CN103+(COUNT($J$103:CN$103)/COUNT($J$103:$DD$103))","v":37.838383838383841},{"$f":"CO103+(COUNT($J$103:CO$103)/COUNT($J$103:$DD$103))","v":37.848484848484851},{"$f":"CP103+(COUNT($J$103:CP$103)/COUNT($J$103:$DD$103))","v":17.858585858585858},{"$f":"CQ103+(COUNT($J$103:CQ$103)/COUNT($J$103:$DD$103))","v":37.868686868686872},{"$f":"CR103+(COUNT($J$103:CR$103)/COUNT($J$103:$DD$103))","v":37.878787878787875},{"$f":"CS103+(COUNT($J$103:CS$103)/COUNT($J$103:$DD$103))","v":37.888888888888886},{"$f":"CT103+(COUNT($J$103:CT$103)/COUNT($J$103:$DD$103))","v":37.898989898989896},{"$f":"CU103+(COUNT($J$103:CU$103)/COUNT($J$103:$DD$103))","v":78.909090909090907},{"$f":"CV103+(COUNT($J$103:CV$103)/COUNT($J$103:$DD$103))","v":78.919191919191917},{"$f":"CW103+(COUNT($J$103:CW$103)/COUNT($J$103:$DD$103))","v":37.929292929292927},{"$f":"CX103+(COUNT($J$103:CX$103)/COUNT($J$103:$DD$103))","v":37.939393939393938},{"$f":"CY103+(COUNT($J$103:CY$103)/COUNT($J$103:$DD$103))","v":76.949494949494948},{"$f":"CZ103+(COUNT($J$103:CZ$103)/COUNT($J$103:$DD$103))","v":76.959595959595958},{"$f":"DA103+(COUNT($J$103:DA$103)/COUNT($J$103:$DD$103))","v":37.969696969696969},{"$f":"DB103+(COUNT($J$103:DB$103)/COUNT($J$103:$DD$103))","v":37.979797979797979},{"$f":"DC103+(COUNT($J$103:DC$103)/COUNT($J$103:$DD$103))","v":74.98989898989899},{"$f":"DD103+(COUNT($J$103:DD$103)/COUNT($J$103:$DD$103))","v":75}]
[null,null,null,null,"Adder thresholds ranked from lowest (1) to highest (99), post tie-breaker",null,"no.",null,null,{"$f":"RANK(J104,$J$104:$DD$104,1)","v":13},11,29,18,14,28,15,16,20,2,3,4,5,6,9,8,7,12,1,91,88,92,93,98,99,89,90,96,97,84,85,94,{"$f":"RANK(AP104,$J$104:$DD$104,1)","v":95},37,26,38,39,25,40,31,32,35,19,21,22,23,24,41,42,43,44,10,45,46,47,48,86,87,49,50,82,83,51,52,{"$f":"RANK(BV104,$J$104:$DD$104,1)","v":80},81,53,54,55,56,57,58,59,60,61,27,30,33,34,36,62,63,64,65,17,66,67,68,69,78,79,70,71,76,77,72,{"$f":"RANK(DB104,$J$104:$DD$104,1)","v":73},74,75]
[]
[null,null,null,"Step 3 - Reorder adder thresholds (and their respective numbers of units to be charged) by rank. Identify "]
[null,null,null,"the value at which the fixed adder would equalise expected and allowed net revenue. "]
[]
[null,null,null,null,"Rank>>",null,null,"Starting point",null,1,{"$f":"J110+1","v":2},{"$f":"K110+1","v":3},4,5,6,7,8,9,10,11,12,13,14,15,16,17,18,19,20,21,22,23,24,25,26,27,28,29,30,31,32,33,34,35,36,37,38,39,40,41,42,43,44,45,46,47,48,49,50,51,52,53,54,55,56,57,58,59,60,61,62,63,64,65,66,{"$f":"BW110+1","v":67},68,69,70,71,72,73,74,75,76,77,78,79,80,81,82,83,84,85,86,87,88,89,90,91,92,93,94,95,96,97,98,99]
[null,null,null,null,"Reordered adder threshold values for each tariff / unit rate (lowest to highest)",null,"p/kWh",null,null,{"$f":"INDEX($J$96:$DD$96,1,MATCH(J110,$J$105:$DD$105,0))","v":-27.100267028317713},-11.558763212583951,-9.919857450533474,-7.7801389981407016,-5.6492631010333509,-4.388638319009436,-3.4187401443847873,-2.5316618489068734,-2.2383833830121702,-2.1121807846287179,-2.0439879010657762,-1.9559638469564065,-1.8541034387957436,-1.6715829129067237,-1.4878747391313845,-1.3705849783468138,-1.2765648327255366,-1.2273341121692558,-0.89408734680360813,-0.79474983410958611,-0.76731171164533429,-0.59223699804222085,-0.41336011315679566,-0.31012578950009634,-0.28274056655130519,-0.27928812789634883,-0.27340413978808908,-0.26383567518829137,-0.26239190193260487,-0.23467741782154805,-0.22170532579730512,-0.21332713757117699,{"$f":"INDEX($J$96:$DD$96,1,MATCH(AP110,$J$105:$DD$105,0))","v":-0.19733826649390532},-0.16644488567179866,-0.15854332247531291,-0.13578409214088838,0,0,0,0,0,0,0,0,0,0,0,0,0,0,0,0,0,0,0,0,0,0,0,0,0,0,0,0,{"$f":"INDEX($J$96:$DD$96,1,MATCH(BV110,$J$105:$DD$105,0))","v":0},0,0,0,0,0,0,0,0,0.14799176643404297,0.14799176643404297,0.1794610199813973,0.1794610199813973,0.1894868482988982,0.1894868482988982,0.35715809300097923,0.35715809300097923,0.558805197571975,0.558805197571975,0.59364545367798527,0.59364545367798527,0.61961027002663549,0.61961027002663549,0.87171590426342993,0.87171590426342993,0.87171590426342993,0.95645070978576807,0.95645070978576807,0.95645070978576807,4.9269918854708576,4.9269918854708576,7.2895545912923492,{"$f":"INDEX($J$96:$DD$96,1,MATCH(DB110,$J$105:$DD$105,0))","v":7.2895545912923492},8.0102682346829557,8.0102682346829557]
[null,null,null,null,"Cumulative units, aggregating across tariff / unit rates from lowest to highest adder threshold.",null,"MWh",null,null,{"$f":"I112+INDEX($J$97:$DD$97,1,MATCH(J110,$J$105:$DD$105,0))","v":4786.1918698977543},5334.9972449479601,16927.448268333468,141854.08510493321,148648.03410514854,295470.18934084335,295759.11957034736,301007.87634573481,303169.1824324124,334433.03035242297,479722.70446676994,479722.70446676994,3579435.6475487156,3779171.0619558194,3793086.0944261281,3793086.0944261868,3866835.8708901326,4675992.4578792416,4678697.6750768293,4678760.2140318844,4757078.3362554805,5548929.9531345507,5589725.2678356823,6484999.4056982659,6569244.9740490634,6690507.8317371793,6692883.1175634973,6694461.4316794388,6696601.5419940427,6752871.2799675371,6757122.143478116,6757122.1434781337,{"$f":"AO112+INDEX($J$97:$DD$97,1,MATCH(AP110,$J$105:$DD$105,0))","v":7350894.3255529022},7386584.3235872872,7386610.0767820878,8235299.5851511415,8235299.5851511415,8235299.5851511415,8235299.5851511415,8235299.5851511415,8235299.5851511415,8235299.5851511415,8235299.5851511415,8235299.5851511415,8235299.5851511415,8235299.5851511415,8235299.5851511415,8235299.5851511415,8235299.5851511415,8235299.5851511415,8235299.5851511415,8235299.5851511415,8235299.5851511415,8235299.5851511415,8235299.5851511415,8235299.5851511415,8235299.5851511415,8235299.5851511415,8235299.5851511415,8235299.5851511415,8235299.5851511415,8235299.5851511415,8235299.5851511415,8235299.5851511415,{"$f":"BU112+INDEX($J$97:$DD$97,1,MATCH(BV110,$J$105:$DD$105,0))","v":8235299.5851511415},8235299.5851511415,8235299.5851511415,8235299.5851511415,8235299.5851511415,8235299.5851511415,8235299.5851511415,8235299.5851511415,8235299.5851511415,8235299.5851511415,8235299.5851511415,8235299.5851511415,8235299.5851511415,8235299.5851511415,8235299.5851511415,8235299.5851511415,8235299.5851511415,8235299.5851511415,8235299.5851511415,8235299.5851511415,8235299.5851511415,8235299.5851511415,8235299.5851511415,8235299.5851511415,8235299.5851511415,8235299.5851511415,8235299.5851511415,8235299.5851511415,8235299.5851511415,8235299.5851511415,8235299.5851511415,8235299.5851511415,8235299.5851511415,8235299.5851511415,8235299.5851511415]
[null,null,null,null,"Unscaleable net revenue",null,"£",null,null,{"$f":"SUM($J$48:$AP$51,$AC$45:$AP$47)","v":41370277.264586039},{"$f":"SUM($J$48:$AP$51,$AC$45:$AP$47)","v":41370277.264586039},41370277.264586039,41370277.264586039,41370277.264586039,41370277.264586039,41370277.264586039,41370277.264586039,41370277.264586039,41370277.264586039,41370277.264586039,41370277.264586039,41370277.264586039,41370277.264586039,41370277.264586039,41370277.264586039,41370277.264586039,41370277.264586039,41370277.264586039,41370277.264586039,41370277.264586039,41370277.264586039,41370277.264586039,41370277.264586039,41370277.264586039,41370277.264586039,41370277.264586039,41370277.264586039,41370277.264586039,41370277.264586039,41370277.264586039,41370277.264586039,41370277.264586039,41370277.264586039,41370277.264586039,41370277.264586039,41370277.264586039,41370277.264586039,41370277.264586039,41370277.264586039,41370277.264586039,41370277.264586039,41370277.264586039,41370277.264586039,41370277.264586039,41370277.264586039,41370277.264586039,41370277.264586039,41370277.264586039,41370277.264586039,41370277.264586039,41370277.264586039,41370277.264586039,41370277.264586039,41370277.264586039,41370277.264586039,41370277.264586039,41370277.264586039,41370277.264586039,41370277.264586039,41370277.264586039,41370277.264586039,41370277.264586039,41370277.264586039,41370277.264586039,{"$f":"SUM($J$48:$AP$51,$AC$45:$AP$47)","v":41370277.264586039},41370277.264586039,41370277.264586039,41370277.264586039,41370277.264586039,41370277.264586039,41370277.264586039,41370277.264586039,41370277.264586039,41370277.264586039,41370277.264586039,41370277.264586039,41370277.264586039,41370277.264586039,41370277.264586039,41370277.264586039,41370277.264586039,41370277.264586039,41370277.264586039,41370277.264586039,41370277.264586039,41370277.264586039,41370277.264586039,41370277.264586039,41370277.264586039,41370277.264586039,41370277.264586039,41370277.264586039,41370277.264586039,41370277.264586039,41370277.264586039,41370277.264586039,41370277.264586039,41370277.264586039]
[null,null,null,null,"Scaleable net revenue, for a given (threshold) adder value",null,"£",null,null,null,{"$f":"J114+J112*(K111-J111)*ten","v":743846.1920884985},831281.76934118487,1193481.5034579569,4216216.0120211272,6090109.9679419911,8955869.9409188237,11579484.897523947,12462276.179492943,12844883.565220516,13072943.092204761,13495214.465159522,13983861.969968745,20517066.737733707,27459712.879498836,31908614.486004055,35474879.555523977,37378550.717491925,52961144.332116142,57608846.2290105,58892610.186345257,67221051.459420294,77146804.504061669,82917319.578579456,84693251.12405771,84920050.276880562,85313718.962082162,85954125.113892063,86050777.957654893,87906706.527991623,88782695.204707682,89348819.616557658,90429207.164612159,{"$f":"AP114+AP112*(AQ111-AP111)*ten","v":92700146.942435846},93283802.5708258,94964938.172106445,106147164.94888628,106147164.94888628,106147164.94888628,106147164.94888628,106147164.94888628,106147164.94888628,106147164.94888628,106147164.94888628,106147164.94888628,106147164.94888628,106147164.94888628,106147164.94888628,106147164.94888628,106147164.94888628,106147164.94888628,106147164.94888628,106147164.94888628,106147164.94888628,106147164.94888628,106147164.94888628,106147164.94888628,106147164.94888628,106147164.94888628,106147164.94888628,106147164.94888628,106147164.94888628,106147164.94888628,106147164.94888628,106147164.94888628,{"$f":"BV114+BV112*(BW111-BV111)*ten","v":106147164.94888628},106147164.94888628,106147164.94888628,106147164.94888628,106147164.94888628,106147164.94888628,106147164.94888628,106147164.94888628,118334730.27608687,118334730.27608687,120926317.58292229,120926317.58292229,121751974.58076142,121751974.58076142,135560203.90012965,135560203.90012965,152166447.06633416,152166447.06633416,155035646.53289801,155035646.53289801,157173926.94594365,157173926.94594365,177935581.19638905,177935581.19638905,177935581.19638905,184913746.2840488,184913746.2840488,184913746.2840488,511899707.2534982,511899707.2534982,706463823.96495104,706463823.96495104,765816751.64922535,765816751.64922535]
[null,null,null,null,"Total net revenue, for a given (threshold) adder value",null,"£",null,null,{"$f":"SUM(J113:J114)","v":41370277.264586039},{"$f":"SUM(K113:K114)","v":42114123.456674539},42201559.033927225,42563758.768043995,45586493.276607163,47460387.232528031,50326147.205504864,52949762.162109986,53832553.444078982,54215160.829806551,54443220.356790796,54865491.729745559,55354139.234554783,61887344.002319746,68829990.144084871,73278891.750590086,76845156.820110023,78748827.982077956,94331421.596702188,98979123.493596539,100262887.4509313,108591328.72400633,118517081.7686477,124287596.84316549,126063528.38864374,126290327.54146659,126683996.22666821,127324402.37847811,127421055.22224092,129276983.79257765,130152972.46929371,130719096.88114369,131799484.42919821,134070424.20702189,134654079.83541185,136335215.43669248,147517442.21347231,147517442.21347231,147517442.21347231,147517442.21347231,147517442.21347231,147517442.21347231,147517442.21347231,147517442.21347231,147517442.21347231,147517442.21347231,147517442.21347231,147517442.21347231,147517442.21347231,147517442.21347231,147517442.21347231,147517442.21347231,147517442.21347231,147517442.21347231,147517442.21347231,147517442.21347231,147517442.21347231,147517442.21347231,147517442.21347231,147517442.21347231,147517442.21347231,147517442.21347231,147517442.21347231,147517442.21347231,147517442.21347231,{"$f":"SUM(BW113:BW114)","v":147517442.21347231},147517442.21347231,147517442.21347231,147517442.21347231,147517442.21347231,147517442.21347231,147517442.21347231,147517442.21347231,159705007.5406729,159705007.5406729,162296594.84750834,162296594.84750834,163122251.84534746,163122251.84534746,176930481.16471568,176930481.16471568,193536724.33092019,193536724.33092019,196405923.79748404,196405923.79748404,198544204.21052969,198544204.21052969,219305858.46097508,219305858.46097508,219305858.46097508,226284023.54863483,226284023.54863483,226284023.54863483,553269984.51808429,553269984.51808429,747834101.22953713,747834101.22953713,807187028.91381145,807187028.91381145]
[null,null,null,null,"Target CDCM net revenue",null,"£",null,null,{"$f":"$H$37","v":289637438.47744858},289637438.47744858,289637438.47744858,289637438.47744858,289637438.47744858,289637438.47744858,289637438.47744858,289637438.47744858,289637438.47744858,289637438.47744858,289637438.47744858,289637438.47744858,289637438.47744858,289637438.47744858,289637438.47744858,289637438.47744858,289637438.47744858,289637438.47744858,289637438.47744858,289637438.47744858,289637438.47744858,289637438.47744858,289637438.47744858,289637438.47744858,289637438.47744858,289637438.47744858,289637438.47744858,289637438.47744858,289637438.47744858,289637438.47744858,289637438.47744858,289637438.47744858,{"$f":"$H$37","v":289637438.47744858},289637438.47744858,289637438.47744858,289637438.47744858,289637438.47744858,289637438.47744858,289637438.47744858,289637438.47744858,289637438.47744858,289637438.47744858,289637438.47744858,289637438.47744858,289637438.47744858,289637438.47744858,289637438.47744858,289637438.47744858,289637438.47744858,289637438.47744858,289637438.47744858,289637438.47744858,289637438.47744858,289637438.47744858,289637438.47744858,289637438.47744858,289637438.47744858,289637438.47744858,289637438.47744858,289637438.47744858,289637438.47744858,289637438.47744858,289637438.47744858,289637438.47744858,{"$f":"$H$37","v":289637438.47744858},289637438.47744858,289637438.47744858,289637438.47744858,289637438.47744858,289637438.47744858,289637438.47744858,289637438.47744858,289637438.47744858,289637438.47744858,289637438.47744858,289637438.47744858,289637438.47744858,289637438.47744858,289637438.47744858,289637438.47744858,289637438.47744858,289637438.47744858,289637438.47744858,289637438.47744858,289637438.47744858,289637438.47744858,289637438.47744858,289637438.47744858,289637438.47744858,289637438.47744858,289637438.47744858,289637438.47744858,289637438.47744858,289637438.47744858,289637438.47744858,289637438.47744858,289637438.47744858,289637438.47744858,289637438.47744858]
[null,null,null,null,"Exact constrained adder value at which expected net revenue = allowed net revenue",null,"p/kWh",{"$f":"IF(((SUMPRODUCT($J$96:$DD$96,$J$97:$DD$97)*ten)-$H$54)>0,$J$111,IF($DD$115>$DD$116,\"\",$H$84))","v":""},null,{"$f":"IF((J115>J116)=(I115>J116),\"\",J111-(J115-J116)/(I112*ten))","v":""},"","","","","","","","","","","","","","","","","","","","","","","","","","","","","","","","","","","","","","","","","","","","","","","","","","","","","","","","","","","","","","","","",{"$f":"IF((BW115>BW116)=(BV115>BW116),\"\",BW111-(BW115-BW116)/(BV112*ten))","v":""},"","","","","","","","","","","","","","","","","","","","","","","","","","","",1.7257416660376168,"","","","",""]
[]
[null,null,null,"Constrained adder solution",null,null,null,null,">",null,null,null,null,null,null,null,null,null,null,null,null,null,null,null,null,null,null,null,null,null,null,null,null,null,null,null,null,null,null,null,null,null,null,null,null,null,null,null,null,null,null,null,null,null,null,null,null,null,null,null,null,null,null,null,null,null,null,null,null,null,null,null,null,null,null,null,null,null,null,null,null,null,null,null,null,null,null,null,null,null,null,null,null,null,null,null,null,null,null,null,null,null,null,null,null,null,null,null,null,null,"Paragraph 94"]
[null,null,null,"Shows the adder value that would equalise expected and allowed net revenue, subject to the constraint "]
[null,null,null,"that demand charges be non-negative. The solution is selected from the last row of the table above."]
[]
[null,null,null,null,"Constrained adder solution",null,"p/kWh",{"$f":"MIN(H117:DD117)","v":1.7257416660376168}]
[]
[null,null,{"$f":"INDEX('Version control'!$H$34:$H$59,MATCH($A$1,'Version control'!$F$34:$F$59,0),1)&\"-E: Adder to be applied to unit rates\"","v":"Section 518-E: Adder to be applied to unit rates"}]
[]
[null,null,"This section presents the amount by which unit charges for demand users will be raised or lowered "]
[null,null,"to equalise expected and allowed revenue, subject to the constraint that demand charges are non-negative. "]
[]
[null,null,null,null,"Adder to be applied to unit rates",null,null,null,">",null,null,null,null,null,null,null,null,null,null,null,null,null,null,null,null,null,null,null,null,null,null,null,null,null,null,null,null,null,null,null,null,null,null,null,null,null,null,null,null,null,null,null,null,null,null,null,null,null,null,null,null,null,null,null,null,null,null,null,null,null,null,null,null,null,null,null,null,null,null,null,null,null,null,null,null,null,null,null,null,null,null,null,null,null,null,null,null,null,null,null,null,null,null,null,null,null,null,null,null,null,"Paragraph 94"]
[null,null,null,null,"Allocates an adder to each unit rate and customer type which will equalise expected and allowed revenue,"]
[null,null,null,null," subject to the constraint that demand charges be non-negative. Adders are applied for demand users only."]
[null,null,null,null,null,"Adder on Unit rate 1","p/kWh",null,null,{"$f":"MAX($H$123,J68)","v":1.7257416660376168},1.7257416660376168,1.7257416660376168,1.7257416660376168,1.7257416660376168,1.7257416660376168,1.7257416660376168,1.7257416660376168,1.7257416660376168,1.7257416660376168,1.7257416660376168,1.7257416660376168,1.7257416660376168,1.7257416660376168,1.7257416660376168,1.7257416660376168,1.7257416660376168,1.7257416660376168,1.7257416660376168]
[null,null,null,null,null,"Adder on Unit rate 2","p/kWh",null,null,null,{"$f":"MAX($H$123,K69)","v":1.7257416660376168},null,null,{"$f":"MAX($H$123,N69)","v":1.7257416660376168},null,{"$f":"MAX($H$123,P69)","v":1.7257416660376168},1.7257416660376168,1.7257416660376168,1.7257416660376168,1.7257416660376168,1.7257416660376168,1.7257416660376168,1.7257416660376168,null,null,null,null,{"$f":"MAX($H$123,AB69)","v":1.7257416660376168}]
[null,null,null,null,null,"Adder on Unit rate 3","p/kWh",null,null,null,null,null,null,null,null,null,null,null,{"$f":"MAX($H$123,S70)","v":1.7257416660376168},{"$f":"MAX($H$123,T70)","v":1.7257416660376168},{"$f":"MAX($H$123,U70)","v":1.7257416660376168},{"$f":"MAX($H$123,V70)","v":1.7257416660376168},{"$f":"MAX($H$123,W70)","v":1.7257416660376168},null,null,null,null,{"$f":"MAX($H$123,AB70)","v":1.7257416660376168}]
[]
[null,"Checks"]
[]
[null,null,null,null,"Check that adder constraint is compatible with revenue matching ",null,"number of issues",{"$f":"IF(IFERROR(J116, 1) > IFERROR(J115, 0), 0, 1)","v":0}]
[]
[null,null,null,null,"Check for error values",null,"number of issues",{"$f":"SUM(IF(ISERROR(H20:DE136), 1))","v":0}]
[]
[null,null,null,null,"Expected revenue, by tariff (pre-rounding)"]
[null,null,null,null,null,"Unit rate 1","£",null,null,{"$f":"(J20 + J133) * J29 * ten","v":110964922.05680512},5477027.8030367028,42548.251556226431,23895007.178140797,6785660.3265088666,31401.780024134474,447175.76625043526,1.815239333060276E-6,1576.2890464533543,72906.076822682036,1350010.3739683193,11875377.015458604,501054.06263825129,8977264.4733460359,85676.875968623819,223460.75544623332,14863.963101644986,0,1379668.0845452545,-14682.713958598772,0,-300421.08455483738,0,-14794.923415899579,0,-7035.6898030557759,0,-2667.2619627685754,0,-1867633.3251270805,0,-1509161.0719323535,0]
[null,null,null,null,null,"Unit rate 2","£",null,null,{"$f":"(J21 + J134) * J30 * ten","v":0},2431356.4256224674,0,0,1692057.2720693259,0,82783.313563784453,3.472947819677873E-7,485.26358368952771,70872.065002762058,1952512.5914332271,18354951.530428059,872653.30259985477,18226594.810590185,0,0,0,0,1199882.2382642657,0,0,0,0,-7342.9354085622299,0,0,0,-827.29932529874964,0,0,0,-251263.25122400289,0]
[null,null,null,null,null,"Unit rate 3","£",null,null,{"$f":"(J22 + J135) * J31 * ten","v":0},0,0,0,0,0,0,0,0,47485.426973201669,1103122.6816699416,11418713.678434413,675321.34311198536,15798573.805248458,0,0,0,0,2214194.3316003447,0,0,0,0,-2170.6870166599033,0,0,0,-268.06309759150349,0,0,0,-85677.849369917109,0]
[null,null,null,null,null,"Fixed charge","£",null,null,{"$f":"J32 * J23 * days_in_year / hundred","v":18358573.285393413},900027.49983845721,0,2358479.062324415,483802.48454836546,0,38893.504652874122,8.3290058757142633E-8,1730.4340589914964,28598.965258764365,81580.416504403125,333120.91754753451,4249.5670442603368,324932.80792217364,0,0,0,0,0,0,0,0,0,0,0,0,0,0,0,39222.783338515408,0,11410.216940833105,0]
[null,null,null,null,null,"Capacity charge","£",null,null,{"$f":"J33 * J24 * days_in_year / hundred","v":0},0,0,0,0,0,0,0,0,0,0,10141973.453704149,413355.03858277359,9993309.5632951241,0,0,0,0,0,0,0,0,0,0,0,0,0,0,0,0,0,0,0]
[null,null,null,null,null,"Exceeded capacity charge","£",null,null,{"$f":"J34 * J25 * days_in_year / hundred","v":0},0,0,0,0,0,0,0,0,0,0,681024.12686247646,38212.437744421011,564841.48845590407,0,0,0,0,0,0,0,0,0,0,0,0,0,0,0,0,0,0,0]
[null,null,null,null,null,"Reactive power charge","£",null,null,{"$f":"J35 * thousand * J26 / hundred","v":0},0,0,0,0,0,0,0,0,0,0,405752.86297342466,15434.352402192057,182814.83459291284,0,0,0,0,0,0,0,9922.67000680825,0,1531.9799251227917,0,12.903789199216673,0,0,0,18114.758611657217,0,3301.0044634130031,0]
[]
[null,null,null,null,"Total expected revenue, post scaling (pre-rounding)",null,"£",{"$f":"SUM(J144:AP150)","v":289637438.47744876}]
[]
[null,null,null,null,"Total revenue check",null,"number of issues",{"$f":"IF(ABS(IFERROR(H152, 0) - H37) < 10^-check_decimals, 0, 1)","v":0}]
[]
[null,null,null,null,"Summary of error checks",null,"number of issues",{"$f":"H139 + H141 + H154","v":0}]
[]
[null,"End of sheet"]

{"sheet":"Rounding","index":32,"n_rows":119,"n_cols":44,"rows_kept":119,"cut":false,"hidden":false,"merged":[]}
[{"$f":"MID(CELL(\"filename\",A1),FIND(\"]\",CELL(\"filename\",A1))+1,255)","v":"Rounding"}]
[{"$f":"Cover!D21&\" - \"&Cover!D23","v":"[enter DNO name] - [enter data version name]"}]
[{"$f":"Cover!D2&\" - \"&Cover!D8&\" v\"&Cover!D10&\" - \"&Cover!D19","v":"ARP model - Release for charge setting v3 - 2020/21"}]
[{"$f":"H117 & IF(H117 = 1, \" issue\", \" issues\") &\" identified in checks on this sheet\"","v":"0 issues identified in checks on this sheet"}]
[null,"Click here to return to model map",null,null,null,null,"Units","Constants",null,"Domestic Unrestricted","Domestic Two Rate","Domestic Off Peak (related MPAN)","Small Non Domestic Unrestricted","Small Non Domestic Two Rate","Small Non Domestic Off Peak (related MPAN)","LV Medium Non-Domestic","LV Sub Medium Non-Domestic","HV Medium Non-Domestic","LV Network Domestic","LV Network Non-Domestic Non-CT","LV HH Metered","LV Sub HH Metered","HV HH Metered","NHH UMS category A","NHH UMS category B","NHH UMS category C","NHH UMS category D","LV UMS (Pseudo HH Metered)","LV Generation NHH or Aggregate HH","LV Sub Generation NHH","LV Generation Intermittent","LV Generation Intermittent no RP charge","LV Generation Non-Intermittent","LV Generation Non-Intermittent no RP charge","LV Sub Generation Intermittent","LV Sub Generation Intermittent no RP charge","LV Sub Generation Non-Intermittent","LV Sub Generation Non-Intermittent no RP charge","HV Generation Intermittent","HV Generation Intermittent no RP charge","HV Generation Non-Intermittent","HV Generation Non-Intermittent no RP charge",null,"Legal text reference"]
[]
[null,"Description"]
[]
[null,null,"This sheet rounds charges to the number of decimal places specified in Paragraph 14."]
[null,null,"These include 'all the way' tariff forecast and LDNO tariff forecast."]
[]
[null,"Inputs"]
[]
[null,null,"Pulls in tariff forecast, adder and inputs for the number of decimal places"]
[]
[null,null,{"$f":"INDEX('Version control'!$H$34:$H$59,MATCH($A$1,'Version control'!$F$34:$F$59,0),1)&\"-A: Pre-match, pre-rounding tariff forecast\"","v":"Section 519-A: Pre-match, pre-rounding tariff forecast"}]
[]
[null,null,null,null,"Pre-match, pre-rounding tariff forecast"]
[null,null,null,null,"Tariff forecast before revenue matching"]
[null,null,null,null,null,"Unit rate 1","p/kWh",null,null,{"$f":"'Revenue matching'!J20","v":1.8541034387957436},{"$f":"'Revenue matching'!K20","v":2.0439879010657762},{"$f":"'Revenue matching'!L20","v":0.26239190193260487},{"$f":"'Revenue matching'!M20","v":1.2273341121692558},{"$f":"'Revenue matching'!N20","v":1.6715829129067237},{"$f":"'Revenue matching'!O20","v":0.26383567518829137},{"$f":"'Revenue matching'!P20","v":1.4878747391313845},{"$f":"'Revenue matching'!Q20","v":1.3705849783468138},{"$f":"'Revenue matching'!R20","v":0.79474983410958611},{"$f":"'Revenue matching'!S20","v":11.558763212583951},{"$f":"'Revenue matching'!T20","v":9.919857450533474},{"$f":"'Revenue matching'!U20","v":7.7801389981407016},{"$f":"'Revenue matching'!V20","v":5.6492631010333509},{"$f":"'Revenue matching'!W20","v":4.388638319009436},{"$f":"'Revenue matching'!X20","v":2.2383833830121702},{"$f":"'Revenue matching'!Y20","v":2.5316618489068734},{"$f":"'Revenue matching'!Z20","v":3.4187401443847873},{"$f":"'Revenue matching'!AA20","v":1.9559638469564065},{"$f":"'Revenue matching'!AB20","v":27.100267028317713},{"$f":"'Revenue matching'!AC20","v":-0.95645070978576807},{"$f":"'Revenue matching'!AD20","v":-0.87171590426342993},{"$f":"'Revenue matching'!AE20","v":-0.95645070978576807},{"$f":"'Revenue matching'!AF20","v":-0.95645070978576807},{"$f":"'Revenue matching'!AG20","v":-8.0102682346829557},{"$f":"'Revenue matching'!AH20","v":-8.0102682346829557},{"$f":"'Revenue matching'!AI20","v":-0.87171590426342993},{"$f":"'Revenue matching'!AJ20","v":-0.87171590426342993},{"$f":"'Revenue matching'!AK20","v":-7.2895545912923492},{"$f":"'Revenue matching'!AL20","v":-7.2895545912923492},{"$f":"'Revenue matching'!AM20","v":-0.59364545367798527},{"$f":"'Revenue matching'!AN20","v":-0.59364545367798527},{"$f":"'Revenue matching'!AO20","v":-4.9269918854708576},{"$f":"'Revenue matching'!AP20","v":-4.9269918854708576}]
[null,null,null,null,null,"Unit rate 2","p/kWh",null,null,{"$f":"'Revenue matching'!J21","v":0},{"$f":"'Revenue matching'!K21","v":0.27928812789634883},{"$f":"'Revenue matching'!L21","v":0},{"$f":"'Revenue matching'!M21","v":0},{"$f":"'Revenue matching'!N21","v":0.28274056655130519},{"$f":"'Revenue matching'!O21","v":0},{"$f":"'Revenue matching'!P21","v":0.22170532579730512},{"$f":"'Revenue matching'!Q21","v":0.21332713757117699},{"$f":"'Revenue matching'!R21","v":0.15854332247531291},{"$f":"'Revenue matching'!S21","v":0.89408734680360813},{"$f":"'Revenue matching'!T21","v":0.76731171164533429},{"$f":"'Revenue matching'!U21","v":0.59223699804222085},{"$f":"'Revenue matching'!V21","v":0.41336011315679566},{"$f":"'Revenue matching'!W21","v":0.31012578950009634},{"$f":"'Revenue matching'!X21","v":0},{"$f":"'Revenue matching'!Y21","v":0},{"$f":"'Revenue matching'!Z21","v":0},{"$f":"'Revenue matching'!AA21","v":0},{"$f":"'Revenue matching'!AB21","v":2.1121807846287179},{"$f":"'Revenue matching'!AC21","v":0},{"$f":"'Revenue matching'!AD21","v":0},{"$f":"'Revenue matching'!AE21","v":0},{"$f":"'Revenue matching'!AF21","v":0},{"$f":"'Revenue matching'!AG21","v":-0.61961027002663549},{"$f":"'Revenue matching'!AH21","v":-0.61961027002663549},{"$f":"'Revenue matching'!AI21","v":0},{"$f":"'Revenue matching'!AJ21","v":0},{"$f":"'Revenue matching'!AK21","v":-0.558805197571975},{"$f":"'Revenue matching'!AL21","v":-0.558805197571975},{"$f":"'Revenue matching'!AM21","v":0},{"$f":"'Revenue matching'!AN21","v":0},{"$f":"'Revenue matching'!AO21","v":-0.35715809300097923},{"$f":"'Revenue matching'!AP21","v":-0.35715809300097923}]
[null,null,null,null,null,"Unit rate 3","p/kWh",null,null,{"$f":"'Revenue matching'!J22","v":0},{"$f":"'Revenue matching'!K22","v":0},{"$f":"'Revenue matching'!L22","v":0},{"$f":"'Revenue matching'!M22","v":0},{"$f":"'Revenue matching'!N22","v":0},{"$f":"'Revenue matching'!O22","v":0},{"$f":"'Revenue matching'!P22","v":0},{"$f":"'Revenue matching'!Q22","v":0},{"$f":"'Revenue matching'!R22","v":0},{"$f":"'Revenue matching'!S22","v":0.27340413978808908},{"$f":"'Revenue matching'!T22","v":0.23467741782154805},{"$f":"'Revenue matching'!U22","v":0.19733826649390532},{"$f":"'Revenue matching'!V22","v":0.16644488567179866},{"$f":"'Revenue matching'!W22","v":0.13578409214088838},{"$f":"'Revenue matching'!X22","v":0},{"$f":"'Revenue matching'!Y22","v":0},{"$f":"'Revenue matching'!Z22","v":0},{"$f":"'Revenue matching'!AA22","v":0},{"$f":"'Revenue matching'!AB22","v":1.2765648327255366},{"$f":"'Revenue matching'!AC22","v":0},{"$f":"'Revenue matching'!AD22","v":0},{"$f":"'Revenue matching'!AE22","v":0},{"$f":"'Revenue matching'!AF22","v":0},{"$f":"'Revenue matching'!AG22","v":-0.1894868482988982},{"$f":"'Revenue matching'!AH22","v":-0.1894868482988982},{"$f":"'Revenue matching'!AI22","v":0},{"$f":"'Revenue matching'!AJ22","v":0},{"$f":"'Revenue matching'!AK22","v":-0.1794610199813973},{"$f":"'Revenue matching'!AL22","v":-0.1794610199813973},{"$f":"'Revenue matching'!AM22","v":0},{"$f":"'Revenue matching'!AN22","v":0},{"$f":"'Revenue matching'!AO22","v":-0.14799176643404297},{"$f":"'Revenue matching'!AP22","v":-0.14799176643404297}]
[null,null,null,null,null,"Fixed charge","p/MPAN/day",null,null,{"$f":"'Revenue matching'!J23","v":4.9964264740967792},{"$f":"'Revenue matching'!K23","v":4.9964264740967792},{"$f":"'Revenue matching'!L23","v":0},{"$f":"'Revenue matching'!M23","v":9.9574745812117413},{"$f":"'Revenue matching'!N23","v":9.9574745812117413},{"$f":"'Revenue matching'!O23","v":0},{"$f":"'Revenue matching'!P23","v":44.827829667915779},{"$f":"'Revenue matching'!Q23","v":22.819194180039077},{"$f":"'Revenue matching'!R23","v":146.76348908843983},{"$f":"'Revenue matching'!S23","v":4.9964264740967792},{"$f":"'Revenue matching'!T23","v":9.9574745812117413},{"$f":"'Revenue matching'!U23","v":15.020787537344148},{"$f":"'Revenue matching'!V23","v":11.725338863253523},{"$f":"'Revenue matching'!W23","v":108.24640130636605},{"$f":"'Revenue matching'!X23","v":0},{"$f":"'Revenue matching'!Y23","v":0},{"$f":"'Revenue matching'!Z23","v":0},{"$f":"'Revenue matching'!AA23","v":0},{"$f":"'Revenue matching'!AB23","v":0},{"$f":"'Revenue matching'!AC23","v":0},{"$f":"'Revenue matching'!AD23","v":0},{"$f":"'Revenue matching'!AE23","v":0},{"$f":"'Revenue matching'!AF23","v":0},{"$f":"'Revenue matching'!AG23","v":0},{"$f":"'Revenue matching'!AH23","v":0},{"$f":"'Revenue matching'!AI23","v":0},{"$f":"'Revenue matching'!AJ23","v":0},{"$f":"'Revenue matching'!AK23","v":0},{"$f":"'Revenue matching'!AL23","v":0},{"$f":"'Revenue matching'!AM23","v":67.745218259777346},{"$f":"'Revenue matching'!AN23","v":67.745218259777346},{"$f":"'Revenue matching'!AO23","v":67.745218259777346},{"$f":"'Revenue matching'!AP23","v":67.745218259777346}]
[null,null,null,null,null,"Capacity charge","p/kVA/day",null,null,{"$f":"'Revenue matching'!J24","v":0},{"$f":"'Revenue matching'!K24","v":0},{"$f":"'Revenue matching'!L24","v":0},{"$f":"'Revenue matching'!M24","v":0},{"$f":"'Revenue matching'!N24","v":0},{"$f":"'Revenue matching'!O24","v":0},{"$f":"'Revenue matching'!P24","v":0},{"$f":"'Revenue matching'!Q24","v":0},{"$f":"'Revenue matching'!R24","v":0},{"$f":"'Revenue matching'!S24","v":0},{"$f":"'Revenue matching'!T24","v":0},{"$f":"'Revenue matching'!U24","v":3.6177710757692187},{"$f":"'Revenue matching'!V24","v":4.0754906270687519},{"$f":"'Revenue matching'!W24","v":4.1489909207085027},{"$f":"'Revenue matching'!X24","v":0},{"$f":"'Revenue matching'!Y24","v":0},{"$f":"'Revenue matching'!Z24","v":0},{"$f":"'Revenue matching'!AA24","v":0},{"$f":"'Revenue matching'!AB24","v":0},{"$f":"'Revenue matching'!AC24","v":0},{"$f":"'Revenue matching'!AD24","v":0},{"$f":"'Revenue matching'!AE24","v":0},{"$f":"'Revenue matching'!AF24","v":0},{"$f":"'Revenue matching'!AG24","v":0},{"$f":"'Revenue matching'!AH24","v":0},{"$f":"'Revenue matching'!AI24","v":0},{"$f":"'Revenue matching'!AJ24","v":0},{"$f":"'Revenue matching'!AK24","v":0},{"$f":"'Revenue matching'!AL24","v":0},{"$f":"'Revenue matching'!AM24","v":0},{"$f":"'Revenue matching'!AN24","v":0},{"$f":"'Revenue matching'!AO24","v":0},{"$f":"'Revenue matching'!AP24","v":0}]
[null,null,null,null,null,"Exceeded capacity charge","p/kVA/day",null,null,{"$f":"'Revenue matching'!J25","v":0},{"$f":"'Revenue matching'!K25","v":0},{"$f":"'Revenue matching'!L25","v":0},{"$f":"'Revenue matching'!M25","v":0},{"$f":"'Revenue matching'!N25","v":0},{"$f":"'Revenue matching'!O25","v":0},{"$f":"'Revenue matching'!P25","v":0},{"$f":"'Revenue matching'!Q25","v":0},{"$f":"'Revenue matching'!R25","v":0},{"$f":"'Revenue matching'!S25","v":0},{"$f":"'Revenue matching'!T25","v":0},{"$f":"'Revenue matching'!U25","v":7.7475077110435775},{"$f":"'Revenue matching'!V25","v":7.6251210521554169},{"$f":"'Revenue matching'!W25","v":8.0795911828279028},{"$f":"'Revenue matching'!X25","v":0},{"$f":"'Revenue matching'!Y25","v":0},{"$f":"'Revenue matching'!Z25","v":0},{"$f":"'Revenue matching'!AA25","v":0},{"$f":"'Revenue matching'!AB25","v":0},{"$f":"'Revenue matching'!AC25","v":0},{"$f":"'Revenue matching'!AD25","v":0},{"$f":"'Revenue matching'!AE25","v":0},{"$f":"'Revenue matching'!AF25","v":0},{"$f":"'Revenue matching'!AG25","v":0},{"$f":"'Revenue matching'!AH25","v":0},{"$f":"'Revenue matching'!AI25","v":0},{"$f":"'Revenue matching'!AJ25","v":0},{"$f":"'Revenue matching'!AK25","v":0},{"$f":"'Revenue matching'!AL25","v":0},{"$f":"'Revenue matching'!AM25","v":0},{"$f":"'Revenue matching'!AN25","v":0},{"$f":"'Revenue matching'!AO25","v":0},{"$f":"'Revenue matching'!AP25","v":0}]
[null,null,null,null,null,"Reactive power charge","p/kVArh",null,null,{"$f":"'Revenue matching'!J26","v":0},{"$f":"'Revenue matching'!K26","v":0},{"$f":"'Revenue matching'!L26","v":0},{"$f":"'Revenue matching'!M26","v":0},{"$f":"'Revenue matching'!N26","v":0},{"$f":"'Revenue matching'!O26","v":0},{"$f":"'Revenue matching'!P26","v":0},{"$f":"'Revenue matching'!Q26","v":0},{"$f":"'Revenue matching'!R26","v":0},{"$f":"'Revenue matching'!S26","v":0},{"$f":"'Revenue matching'!T26","v":0},{"$f":"'Revenue matching'!U26","v":0.31867128371507336},{"$f":"'Revenue matching'!V26","v":0.22972054232482408},{"$f":"'Revenue matching'!W26","v":0.1693841531586624},{"$f":"'Revenue matching'!X26","v":0},{"$f":"'Revenue matching'!Y26","v":0},{"$f":"'Revenue matching'!Z26","v":0},{"$f":"'Revenue matching'!AA26","v":0},{"$f":"'Revenue matching'!AB26","v":0},{"$f":"'Revenue matching'!AC26","v":0},{"$f":"'Revenue matching'!AD26","v":0},{"$f":"'Revenue matching'!AE26","v":0.34382772943971418},{"$f":"'Revenue matching'!AF26","v":0},{"$f":"'Revenue matching'!AG26","v":0.34382772943971418},{"$f":"'Revenue matching'!AH26","v":0},{"$f":"'Revenue matching'!AI26","v":0.28978257640808525},{"$f":"'Revenue matching'!AJ26","v":0},{"$f":"'Revenue matching'!AK26","v":0.28978257640808525},{"$f":"'Revenue matching'!AL26","v":0},{"$f":"'Revenue matching'!AM26","v":0.24187182604900767},{"$f":"'Revenue matching'!AN26","v":0},{"$f":"'Revenue matching'!AO26","v":0.24187182604900767},{"$f":"'Revenue matching'!AP26","v":0}]
[]
[null,null,{"$f":"INDEX('Version control'!$H$34:$H$59,MATCH($A$1,'Version control'!$F$34:$F$59,0),1)&\"-B: Adder to be applied to unit rates\"","v":"Section 519-B: Adder to be applied to unit rates"}]
[]
[null,null,null,null,"Adder to be applied to unit rates"]
[null,null,null,null,"Adder calculated in revenue matching"]
[null,null,null,null,null,"Unit rate 1","p/kWh",null,null,{"$f":"'Revenue matching'!J133","v":1.7257416660376168},{"$f":"'Revenue matching'!K133","v":1.7257416660376168},{"$f":"'Revenue matching'!L133","v":1.7257416660376168},{"$f":"'Revenue matching'!M133","v":1.7257416660376168},{"$f":"'Revenue matching'!N133","v":1.7257416660376168},{"$f":"'Revenue matching'!O133","v":1.7257416660376168},{"$f":"'Revenue matching'!P133","v":1.7257416660376168},{"$f":"'Revenue matching'!Q133","v":1.7257416660376168},{"$f":"'Revenue matching'!R133","v":1.7257416660376168},{"$f":"'Revenue matching'!S133","v":1.7257416660376168},{"$f":"'Revenue matching'!T133","v":1.7257416660376168},{"$f":"'Revenue matching'!U133","v":1.7257416660376168},{"$f":"'Revenue matching'!V133","v":1.7257416660376168},{"$f":"'Revenue matching'!W133","v":1.7257416660376168},{"$f":"'Revenue matching'!X133","v":1.7257416660376168},{"$f":"'Revenue matching'!Y133","v":1.7257416660376168},{"$f":"'Revenue matching'!Z133","v":1.7257416660376168},{"$f":"'Revenue matching'!AA133","v":1.7257416660376168},{"$f":"'Revenue matching'!AB133","v":1.7257416660376168},{"$f":"'Revenue matching'!AC133","v":0},{"$f":"'Revenue matching'!AD133","v":0},{"$f":"'Revenue matching'!AE133","v":0},{"$f":"'Revenue matching'!AF133","v":0},{"$f":"'Revenue matching'!AG133","v":0},{"$f":"'Revenue matching'!AH133","v":0},{"$f":"'Revenue matching'!AI133","v":0},{"$f":"'Revenue matching'!AJ133","v":0},{"$f":"'Revenue matching'!AK133","v":0},{"$f":"'Revenue matching'!AL133","v":0},{"$f":"'Revenue matching'!AM133","v":0},{"$f":"'Revenue matching'!AN133","v":0},{"$f":"'Revenue matching'!AO133","v":0},{"$f":"'Revenue matching'!AP133","v":0}]
[null,null,null,null,null,"Unit rate 2","p/kWh",null,null,{"$f":"'Revenue matching'!J134","v":0},{"$f":"'Revenue matching'!K134","v":1.7257416660376168},{"$f":"'Revenue matching'!L134","v":0},{"$f":"'Revenue matching'!M134","v":0},{"$f":"'Revenue matching'!N134","v":1.7257416660376168},{"$f":"'Revenue matching'!O134","v":0},{"$f":"'Revenue matching'!P134","v":1.7257416660376168},{"$f":"'Revenue matching'!Q134","v":1.7257416660376168},{"$f":"'Revenue matching'!R134","v":1.7257416660376168},{"$f":"'Revenue matching'!S134","v":1.7257416660376168},{"$f":"'Revenue matching'!T134","v":1.7257416660376168},{"$f":"'Revenue matching'!U134","v":1.7257416660376168},{"$f":"'Revenue matching'!V134","v":1.7257416660376168},{"$f":"'Revenue matching'!W134","v":1.7257416660376168},{"$f":"'Revenue matching'!X134","v":0},{"$f":"'Revenue matching'!Y134","v":0},{"$f":"'Revenue matching'!Z134","v":0},{"$f":"'Revenue matching'!AA134","v":0},{"$f":"'Revenue matching'!AB134","v":1.7257416660376168},{"$f":"'Revenue matching'!AC134","v":0},{"$f":"'Revenue matching'!AD134","v":0},{"$f":"'Revenue matching'!AE134","v":0},{"$f":"'Revenue matching'!AF134","v":0},{"$f":"'Revenue matching'!AG134","v":0},{"$f":"'Revenue matching'!AH134","v":0},{"$f":"'Revenue matching'!AI134","v":0},{"$f":"'Revenue matching'!AJ134","v":0},{"$f":"'Revenue matching'!AK134","v":0},{"$f":"'Revenue matching'!AL134","v":0},{"$f":"'Revenue matching'!AM134","v":0},{"$f":"'Revenue matching'!AN134","v":0},{"$f":"'Revenue matching'!AO134","v":0},{"$f":"'Revenue matching'!AP134","v":0}]
[null,null,null,null,null,"Unit rate 3","p/kWh",null,null,{"$f":"'Revenue matching'!J135","v":0},{"$f":"'Revenue matching'!K135","v":0},{"$f":"'Revenue matching'!L135","v":0},{"$f":"'Revenue matching'!M135","v":0},{"$f":"'Revenue matching'!N135","v":0},{"$f":"'Revenue matching'!O135","v":0},{"$f":"'Revenue matching'!P135","v":0},{"$f":"'Revenue matching'!Q135","v":0},{"$f":"'Revenue matching'!R135","v":0},{"$f":"'Revenue matching'!S135","v":1.7257416660376168},{"$f":"'Revenue matching'!T135","v":1.7257416660376168},{"$f":"'Revenue matching'!U135","v":1.7257416660376168},{"$f":"'Revenue matching'!V135","v":1.7257416660376168},{"$f":"'Revenue matching'!W135","v":1.7257416660376168},{"$f":"'Revenue matching'!X135","v":0},{"$f":"'Revenue matching'!Y135","v":0},{"$f":"'Revenue matching'!Z135","v":0},{"$f":"'Revenue matching'!AA135","v":0},{"$f":"'Revenue matching'!AB135","v":1.7257416660376168},{"$f":"'Revenue matching'!AC135","v":0},{"$f":"'Revenue matching'!AD135","v":0},{"$f":"'Revenue matching'!AE135","v":0},{"$f":"'Revenue matching'!AF135","v":0},{"$f":"'Revenue matching'!AG135","v":0},{"$f":"'Revenue matching'!AH135","v":0},{"$f":"'Revenue matching'!AI135","v":0},{"$f":"'Revenue matching'!AJ135","v":0},{"$f":"'Revenue matching'!AK135","v":0},{"$f":"'Revenue matching'!AL135","v":0},{"$f":"'Revenue matching'!AM135","v":0},{"$f":"'Revenue matching'!AN135","v":0},{"$f":"'Revenue matching'!AO135","v":0},{"$f":"'Revenue matching'!AP135","v":0}]
[null,null,null,null,null,"Fixed charge","p/MPAN/day"]
[null,null,null,null,null,"Capacity charge","p/kVA/day"]
[null,null,null,null,null,"Exceeded capacity charge","p/kVA/day"]
[null,null,null,null,null,"Reactive power charge","p/kVArh"]
[]
[null,null,{"$f":"INDEX('Version control'!$H$34:$H$59,MATCH($A$1,'Version control'!$F$34:$F$59,0),1)&\"-C: LDNO discounts\"","v":"Section 519-C: LDNO discounts"}]
[]
[null,null,null,null,"LDNO discounts (LV)",null,null,null,">",null,null,null,null,null,null,null,null,null,null,null,null,null,null,null,null,null,null,null,null,null,null,null,null,null,null,null,null,null,null,null,null,null,null,"Paragraphs 98 & 99"]
[null,null,null,null,null,"Unit rate 1","%",null,null,{"$f":"'Volume adjustments'!J$62","v":0.32721850432250099},{"$f":"'Volume adjustments'!K$62","v":0.32721850432250099},{"$f":"'Volume adjustments'!L$62","v":0.32721850432250099},{"$f":"'Volume adjustments'!M$62","v":0.32721850432250099},{"$f":"'Volume adjustments'!N$62","v":0.32721850432250099},{"$f":"'Volume adjustments'!O$62","v":0.32721850432250099},{"$f":"'Volume adjustments'!P$62","v":0.32721850432250099},{"$f":"'Volume adjustments'!Q$62","v":0},{"$f":"'Volume adjustments'!R$62","v":0},{"$f":"'Volume adjustments'!S$62","v":0.32721850432250099},{"$f":"'Volume adjustments'!T$62","v":0.32721850432250099},{"$f":"'Volume adjustments'!U$62","v":0.32721850432250099},{"$f":"'Volume adjustments'!V$62","v":0},{"$f":"'Volume adjustments'!W$62","v":0},{"$f":"'Volume adjustments'!X$62","v":0.32721850432250099},{"$f":"'Volume adjustments'!Y$62","v":0.32721850432250099},{"$f":"'Volume adjustments'!Z$62","v":0.32721850432250099},{"$f":"'Volume adjustments'!AA$62","v":0.32721850432250099},{"$f":"'Volume adjustments'!AB$62","v":0.32721850432250099},{"$f":"'Volume adjustments'!AC$62","v":0},{"$f":"'Volume adjustments'!AD$62","v":0},{"$f":"'Volume adjustments'!AE$62","v":0},{"$f":"'Volume adjustments'!AF$62","v":0},{"$f":"'Volume adjustments'!AG$62","v":0},{"$f":"'Volume adjustments'!AH$62","v":0},{"$f":"'Volume adjustments'!AI$62","v":0},{"$f":"'Volume adjustments'!AJ$62","v":0},{"$f":"'Volume adjustments'!AK$62","v":0},{"$f":"'Volume adjustments'!AL$62","v":0},{"$f":"'Volume adjustments'!AM$62","v":0},{"$f":"'Volume adjustments'!AN$62","v":0},{"$f":"'Volume adjustments'!AO$62","v":0},{"$f":"'Volume adjustments'!AP$62","v":0}]
[null,null,null,null,null,"Unit rate 2","%",null,null,{"$f":"'Volume adjustments'!J$73","v":0.32721850432250099},{"$f":"'Volume adjustments'!K$73","v":0.32721850432250099},{"$f":"'Volume adjustments'!L$73","v":0.32721850432250099},{"$f":"'Volume adjustments'!M$73","v":0.32721850432250099},{"$f":"'Volume adjustments'!N$73","v":0.32721850432250099},{"$f":"'Volume adjustments'!O$73","v":0.32721850432250099},{"$f":"'Volume adjustments'!P$73","v":0.32721850432250099},{"$f":"'Volume adjustments'!Q$73","v":0},{"$f":"'Volume adjustments'!R$73","v":0},{"$f":"'Volume adjustments'!S$73","v":0.32721850432250099},{"$f":"'Volume adjustments'!T$73","v":0.32721850432250099},{"$f":"'Volume adjustments'!U$73","v":0.32721850432250099},{"$f":"'Volume adjustments'!V$73","v":0},{"$f":"'Volume adjustments'!W$73","v":0},{"$f":"'Volume adjustments'!X$73","v":0.32721850432250099},{"$f":"'Volume adjustments'!Y$73","v":0.32721850432250099},{"$f":"'Volume adjustments'!Z$73","v":0.32721850432250099},{"$f":"'Volume adjustments'!AA$73","v":0.32721850432250099},{"$f":"'Volume adjustments'!AB$73","v":0.32721850432250099},{"$f":"'Volume adjustments'!AC$73","v":0},{"$f":"'Volume adjustments'!AD$73","v":0},{"$f":"'Volume adjustments'!AE$73","v":0},{"$f":"'Volume adjustments'!AF$73","v":0},{"$f":"'Volume adjustments'!AG$73","v":0},{"$f":"'Volume adjustments'!AH$73","v":0},{"$f":"'Volume adjustments'!AI$73","v":0},{"$f":"'Volume adjustments'!AJ$73","v":0},{"$f":"'Volume adjustments'!AK$73","v":0},{"$f":"'Volume adjustments'!AL$73","v":0},{"$f":"'Volume adjustments'!AM$73","v":0},{"$f":"'Volume adjustments'!AN$73","v":0},{"$f":"'Volume adjustments'!AO$73","v":0},{"$f":"'Volume adjustments'!AP$73","v":0}]
[null,null,null,null,null,"Unit rate 3","%",null,null,{"$f":"'Volume adjustments'!J$84","v":0.32721850432250099},{"$f":"'Volume adjustments'!K$84","v":0.32721850432250099},{"$f":"'Volume adjustments'!L$84","v":0.32721850432250099},{"$f":"'Volume adjustments'!M$84","v":0.32721850432250099},{"$f":"'Volume adjustments'!N$84","v":0.32721850432250099},{"$f":"'Volume adjustments'!O$84","v":0.32721850432250099},{"$f":"'Volume adjustments'!P$84","v":0.32721850432250099},{"$f":"'Volume adjustments'!Q$84","v":0},{"$f":"'Volume adjustments'!R$84","v":0},{"$f":"'Volume adjustments'!S$84","v":0.32721850432250099},{"$f":"'Volume adjustments'!T$84","v":0.32721850432250099},{"$f":"'Volume adjustments'!U$84","v":0.32721850432250099},{"$f":"'Volume adjustments'!V$84","v":0},{"$f":"'Volume adjustments'!W$84","v":0},{"$f":"'Volume adjustments'!X$84","v":0.32721850432250099},{"$f":"'Volume adjustments'!Y$84","v":0.32721850432250099},{"$f":"'Volume adjustments'!Z$84","v":0.32721850432250099},{"$f":"'Volume adjustments'!AA$84","v":0.32721850432250099},{"$f":"'Volume adjustments'!AB$84","v":0.32721850432250099},{"$f":"'Volume adjustments'!AC$84","v":0},{"$f":"'Volume adjustments'!AD$84","v":0},{"$f":"'Volume adjustments'!AE$84","v":0},{"$f":"'Volume adjustments'!AF$84","v":0},{"$f":"'Volume adjustments'!AG$84","v":0},{"$f":"'Volume adjustments'!AH$84","v":0},{"$f":"'Volume adjustments'!AI$84","v":0},{"$f":"'Volume adjustments'!AJ$84","v":0},{"$f":"'Volume adjustments'!AK$84","v":0},{"$f":"'Volume adjustments'!AL$84","v":0},{"$f":"'Volume adjustments'!AM$84","v":0},{"$f":"'Volume adjustments'!AN$84","v":0},{"$f":"'Volume adjustments'!AO$84","v":0},{"$f":"'Volume adjustments'!AP$84","v":0}]
[null,null,null,null,null,"Fixed charge","%",null,null,{"$f":"'Volume adjustments'!J$99","v":0.32721850432250099},{"$f":"'Volume adjustments'!K$99","v":0.32721850432250099},{"$f":"'Volume adjustments'!L$99","v":0.32721850432250099},{"$f":"'Volume adjustments'!M$99","v":0.32721850432250099},{"$f":"'Volume adjustments'!N$99","v":0.32721850432250099},{"$f":"'Volume adjustments'!O$99","v":0.32721850432250099},{"$f":"'Volume adjustments'!P$99","v":0.32721850432250099},{"$f":"'Volume adjustments'!Q$99","v":0},{"$f":"'Volume adjustments'!R$99","v":0},{"$f":"'Volume adjustments'!S$99","v":0.32721850432250099},{"$f":"'Volume adjustments'!T$99","v":0.32721850432250099},{"$f":"'Volume adjustments'!U$99","v":0.32721850432250099},{"$f":"'Volume adjustments'!V$99","v":0},{"$f":"'Volume adjustments'!W$99","v":0},{"$f":"'Volume adjustments'!X$99","v":0.32721850432250099},{"$f":"'Volume adjustments'!Y$99","v":0.32721850432250099},{"$f":"'Volume adjustments'!Z$99","v":0.32721850432250099},{"$f":"'Volume adjustments'!AA$99","v":0.32721850432250099},{"$f":"'Volume adjustments'!AB$99","v":0.32721850432250099},{"$f":"'Volume adjustments'!AC$99","v":1},{"$f":"'Volume adjustments'!AD$99","v":1},{"$f":"'Volume adjustments'!AE$99","v":1},{"$f":"'Volume adjustments'!AF$99","v":1},{"$f":"'Volume adjustments'!AG$99","v":1},{"$f":"'Volume adjustments'!AH$99","v":1},{"$f":"'Volume adjustments'!AI$99","v":1},{"$f":"'Volume adjustments'!AJ$99","v":1},{"$f":"'Volume adjustments'!AK$99","v":1},{"$f":"'Volume adjustments'!AL$99","v":1},{"$f":"'Volume adjustments'!AM$99","v":1},{"$f":"'Volume adjustments'!AN$99","v":1},{"$f":"'Volume adjustments'!AO$99","v":1},{"$f":"'Volume adjustments'!AP$99","v":1}]
[null,null,null,null,null,"Capacity charge","%",null,null,{"$f":"'Volume adjustments'!J$110","v":0.32721850432250099},{"$f":"'Volume adjustments'!K$110","v":0.32721850432250099},{"$f":"'Volume adjustments'!L$110","v":0.32721850432250099},{"$f":"'Volume adjustments'!M$110","v":0.32721850432250099},{"$f":"'Volume adjustments'!N$110","v":0.32721850432250099},{"$f":"'Volume adjustments'!O$110","v":0.32721850432250099},{"$f":"'Volume adjustments'!P$110","v":0.32721850432250099},{"$f":"'Volume adjustments'!Q$110","v":0},{"$f":"'Volume adjustments'!R$110","v":0},{"$f":"'Volume adjustments'!S$110","v":0.32721850432250099},{"$f":"'Volume adjustments'!T$110","v":0.32721850432250099},{"$f":"'Volume adjustments'!U$110","v":0.32721850432250099},{"$f":"'Volume adjustments'!V$110","v":0},{"$f":"'Volume adjustments'!W$110","v":0},{"$f":"'Volume adjustments'!X$110","v":0.32721850432250099},{"$f":"'Volume adjustments'!Y$110","v":0.32721850432250099},{"$f":"'Volume adjustments'!Z$110","v":0.32721850432250099},{"$f":"'Volume adjustments'!AA$110","v":0.32721850432250099},{"$f":"'Volume adjustments'!AB$110","v":0.32721850432250099},{"$f":"'Volume adjustments'!AC$110","v":0},{"$f":"'Volume adjustments'!AD$110","v":0},{"$f":"'Volume adjustments'!AE$110","v":0},{"$f":"'Volume adjustments'!AF$110","v":0},{"$f":"'Volume adjustments'!AG$110","v":0},{"$f":"'Volume adjustments'!AH$110","v":0},{"$f":"'Volume adjustments'!AI$110","v":0},{"$f":"'Volume adjustments'!AJ$110","v":0},{"$f":"'Volume adjustments'!AK$110","v":0},{"$f":"'Volume adjustments'!AL$110","v":0},{"$f":"'Volume adjustments'!AM$110","v":0},{"$f":"'Volume adjustments'!AN$110","v":0},{"$f":"'Volume adjustments'!AO$110","v":0},{"$f":"'Volume adjustments'!AP$110","v":0}]
[null,null,null,null,null,"Exceeded capacity charge","%",null,null,{"$f":"'Volume adjustments'!J$121","v":0.32721850432250099},{"$f":"'Volume adjustments'!K$121","v":0.32721850432250099},{"$f":"'Volume adjustments'!L$121","v":0.32721850432250099},{"$f":"'Volume adjustments'!M$121","v":0.32721850432250099},{"$f":"'Volume adjustments'!N$121","v":0.32721850432250099},{"$f":"'Volume adjustments'!O$121","v":0.32721850432250099},{"$f":"'Volume adjustments'!P$121","v":0.32721850432250099},{"$f":"'Volume adjustments'!Q$121","v":0},{"$f":"'Volume adjustments'!R$121","v":0},{"$f":"'Volume adjustments'!S$121","v":0.32721850432250099},{"$f":"'Volume adjustments'!T$121","v":0.32721850432250099},{"$f":"'Volume adjustments'!U$121","v":0.32721850432250099},{"$f":"'Volume adjustments'!V$121","v":0},{"$f":"'Volume adjustments'!W$121","v":0},{"$f":"'Volume adjustments'!X$121","v":0.32721850432250099},{"$f":"'Volume adjustments'!Y$121","v":0.32721850432250099},{"$f":"'Volume adjustments'!Z$121","v":0.32721850432250099},{"$f":"'Volume adjustments'!AA$121","v":0.32721850432250099},{"$f":"'Volume adjustments'!AB$121","v":0.32721850432250099},{"$f":"'Volume adjustments'!AC$121","v":0},{"$f":"'Volume adjustments'!AD$121","v":0},{"$f":"'Volume adjustments'!AE$121","v":0},{"$f":"'Volume adjustments'!AF$121","v":0},{"$f":"'Volume adjustments'!AG$121","v":0},{"$f":"'Volume adjustments'!AH$121","v":0},{"$f":"'Volume adjustments'!AI$121","v":0},{"$f":"'Volume adjustments'!AJ$121","v":0},{"$f":"'Volume adjustments'!AK$121","v":0},{"$f":"'Volume adjustments'!AL$121","v":0},{"$f":"'Volume adjustments'!AM$121","v":0},{"$f":"'Volume adjustments'!AN$121","v":0},{"$f":"'Volume adjustments'!AO$121","v":0},{"$f":"'Volume adjustments'!AP$121","v":0}]
[null,null,null,null,null,"Reactive power charge","%",null,null,{"$f":"'Volume adjustments'!J$132","v":0.32721850432250099},{"$f":"'Volume adjustments'!K$132","v":0.32721850432250099},{"$f":"'Volume adjustments'!L$132","v":0.32721850432250099},{"$f":"'Volume adjustments'!M$132","v":0.32721850432250099},{"$f":"'Volume adjustments'!N$132","v":0.32721850432250099},{"$f":"'Volume adjustments'!O$132","v":0.32721850432250099},{"$f":"'Volume adjustments'!P$132","v":0.32721850432250099},{"$f":"'Volume adjustments'!Q$132","v":0},{"$f":"'Volume adjustments'!R$132","v":0},{"$f":"'Volume adjustments'!S$132","v":0.32721850432250099},{"$f":"'Volume adjustments'!T$132","v":0.32721850432250099},{"$f":"'Volume adjustments'!U$132","v":0.32721850432250099},{"$f":"'Volume adjustments'!V$132","v":0},{"$f":"'Volume adjustments'!W$132","v":0},{"$f":"'Volume adjustments'!X$132","v":0.32721850432250099},{"$f":"'Volume adjustments'!Y$132","v":0.32721850432250099},{"$f":"'Volume adjustments'!Z$132","v":0.32721850432250099},{"$f":"'Volume adjustments'!AA$132","v":0.32721850432250099},{"$f":"'Volume adjustments'!AB$132","v":0.32721850432250099},{"$f":"'Volume adjustments'!AC$132","v":0},{"$f":"'Volume adjustments'!AD$132","v":0},{"$f":"'Volume adjustments'!AE$132","v":0},{"$f":"'Volume adjustments'!AF$132","v":0},{"$f":"'Volume adjustments'!AG$132","v":0},{"$f":"'Volume adjustments'!AH$132","v":0},{"$f":"'Volume adjustments'!AI$132","v":0},{"$f":"'Volume adjustments'!AJ$132","v":0},{"$f":"'Volume adjustments'!AK$132","v":0},{"$f":"'Volume adjustments'!AL$132","v":0},{"$f":"'Volume adjustments'!AM$132","v":0},{"$f":"'Volume adjustments'!AN$132","v":0},{"$f":"'Volume adjustments'!AO$132","v":0},{"$f":"'Volume adjustments'!AP$132","v":0}]
[]
[null,null,null,null,"LDNO discounts (HV)",null,null,null,">",null,null,null,null,null,null,null,null,null,null,null,null,null,null,null,null,null,null,null,null,null,null,null,null,null,null,null,null,null,null,null,null,null,null,"Paragraphs 98 & 99"]
[null,null,null,null,null,"Unit rate 1","%",null,null,{"$f":"'Volume adjustments'!J$63","v":0.61947521099660174},{"$f":"'Volume adjustments'!K$63","v":0.61947521099660174},{"$f":"'Volume adjustments'!L$63","v":0.61947521099660174},{"$f":"'Volume adjustments'!M$63","v":0.61947521099660174},{"$f":"'Volume adjustments'!N$63","v":0.61947521099660174},{"$f":"'Volume adjustments'!O$63","v":0.61947521099660174},{"$f":"'Volume adjustments'!P$63","v":0.61947521099660174},{"$f":"'Volume adjustments'!Q$63","v":0},{"$f":"'Volume adjustments'!R$63","v":0},{"$f":"'Volume adjustments'!S$63","v":0.61947521099660174},{"$f":"'Volume adjustments'!T$63","v":0.61947521099660174},{"$f":"'Volume adjustments'!U$63","v":0.61947521099660174},{"$f":"'Volume adjustments'!V$63","v":0.41493783028785863},{"$f":"'Volume adjustments'!W$63","v":0.29542429060126774},{"$f":"'Volume adjustments'!X$63","v":0.61947521099660174},{"$f":"'Volume adjustments'!Y$63","v":0.61947521099660174},{"$f":"'Volume adjustments'!Z$63","v":0.61947521099660174},{"$f":"'Volume adjustments'!AA$63","v":0.61947521099660174},{"$f":"'Volume adjustments'!AB$63","v":0.61947521099660174},{"$f":"'Volume adjustments'!AC$63","v":0},{"$f":"'Volume adjustments'!AD$63","v":0},{"$f":"'Volume adjustments'!AE$63","v":0},{"$f":"'Volume adjustments'!AF$63","v":0},{"$f":"'Volume adjustments'!AG$63","v":0},{"$f":"'Volume adjustments'!AH$63","v":0},{"$f":"'Volume adjustments'!AI$63","v":0},{"$f":"'Volume adjustments'!AJ$63","v":0},{"$f":"'Volume adjustments'!AK$63","v":0},{"$f":"'Volume adjustments'!AL$63","v":0},{"$f":"'Volume adjustments'!AM$63","v":0},{"$f":"'Volume adjustments'!AN$63","v":0},{"$f":"'Volume adjustments'!AO$63","v":0},{"$f":"'Volume adjustments'!AP$63","v":0}]
[null,null,null,null,null,"Unit rate 2","%",null,null,{"$f":"'Volume adjustments'!J$74","v":0.61947521099660174},{"$f":"'Volume adjustments'!K$74","v":0.61947521099660174},{"$f":"'Volume adjustments'!L$74","v":0.61947521099660174},{"$f":"'Volume adjustments'!M$74","v":0.61947521099660174},{"$f":"'Volume adjustments'!N$74","v":0.61947521099660174},{"$f":"'Volume adjustments'!O$74","v":0.61947521099660174},{"$f":"'Volume adjustments'!P$74","v":0.61947521099660174},{"$f":"'Volume adjustments'!Q$74","v":0},{"$f":"'Volume adjustments'!R$74","v":0},{"$f":"'Volume adjustments'!S$74","v":0.61947521099660174},{"$f":"'Volume adjustments'!T$74","v":0.61947521099660174},{"$f":"'Volume adjustments'!U$74","v":0.61947521099660174},{"$f":"'Volume adjustments'!V$74","v":0.41493783028785863},{"$f":"'Volume adjustments'!W$74","v":0.29542429060126774},{"$f":"'Volume adjustments'!X$74","v":0.61947521099660174},{"$f":"'Volume adjustments'!Y$74","v":0.61947521099660174},{"$f":"'Volume adjustments'!Z$74","v":0.61947521099660174},{"$f":"'Volume adjustments'!AA$74","v":0.61947521099660174},{"$f":"'Volume adjustments'!AB$74","v":0.61947521099660174},{"$f":"'Volume adjustments'!AC$74","v":0},{"$f":"'Volume adjustments'!AD$74","v":0},{"$f":"'Volume adjustments'!AE$74","v":0},{"$f":"'Volume adjustments'!AF$74","v":0},{"$f":"'Volume adjustments'!AG$74","v":0},{"$f":"'Volume adjustments'!AH$74","v":0},{"$f":"'Volume adjustments'!AI$74","v":0},{"$f":"'Volume adjustments'!AJ$74","v":0},{"$f":"'Volume adjustments'!AK$74","v":0},{"$f":"'Volume adjustments'!AL$74","v":0},{"$f":"'Volume adjustments'!AM$74","v":0},{"$f":"'Volume adjustments'!AN$74","v":0},{"$f":"'Volume adjustments'!AO$74","v":0},{"$f":"'Volume adjustments'!AP$74","v":0}]
[null,null,null,null,null,"Unit rate 3","%",null,null,{"$f":"'Volume adjustments'!J$85","v":0.61947521099660174},{"$f":"'Volume adjustments'!K$85","v":0.61947521099660174},{"$f":"'Volume adjustments'!L$85","v":0.61947521099660174},{"$f":"'Volume adjustments'!M$85","v":0.61947521099660174},{"$f":"'Volume adjustments'!N$85","v":0.61947521099660174},{"$f":"'Volume adjustments'!O$85","v":0.61947521099660174},{"$f":"'Volume adjustments'!P$85","v":0.61947521099660174},{"$f":"'Volume adjustments'!Q$85","v":0},{"$f":"'Volume adjustments'!R$85","v":0},{"$f":"'Volume adjustments'!S$85","v":0.61947521099660174},{"$f":"'Volume adjustments'!T$85","v":0.61947521099660174},{"$f":"'Volume adjustments'!U$85","v":0.61947521099660174},{"$f":"'Volume adjustments'!V$85","v":0.41493783028785863},{"$f":"'Volume adjustments'!W$85","v":0.29542429060126774},{"$f":"'Volume adjustments'!X$85","v":0.61947521099660174},{"$f":"'Volume adjustments'!Y$85","v":0.61947521099660174},{"$f":"'Volume adjustments'!Z$85","v":0.61947521099660174},{"$f":"'Volume adjustments'!AA$85","v":0.61947521099660174},{"$f":"'Volume adjustments'!AB$85","v":0.61947521099660174},{"$f":"'Volume adjustments'!AC$85","v":0},{"$f":"'Volume adjustments'!AD$85","v":0},{"$f":"'Volume adjustments'!AE$85","v":0},{"$f":"'Volume adjustments'!AF$85","v":0},{"$f":"'Volume adjustments'!AG$85","v":0},{"$f":"'Volume adjustments'!AH$85","v":0},{"$f":"'Volume adjustments'!AI$85","v":0},{"$f":"'Volume adjustments'!AJ$85","v":0},{"$f":"'Volume adjustments'!AK$85","v":0},{"$f":"'Volume adjustments'!AL$85","v":0},{"$f":"'Volume adjustments'!AM$85","v":0},{"$f":"'Volume adjustments'!AN$85","v":0},{"$f":"'Volume adjustments'!AO$85","v":0},{"$f":"'Volume adjustments'!AP$85","v":0}]
[null,null,null,null,null,"Fixed charge","%",null,null,{"$f":"'Volume adjustments'!J$100","v":0.61947521099660174},{"$f":"'Volume adjustments'!K$100","v":0.61947521099660174},{"$f":"'Volume adjustments'!L$100","v":0.61947521099660174},{"$f":"'Volume adjustments'!M$100","v":0.61947521099660174},{"$f":"'Volume adjustments'!N$100","v":0.61947521099660174},{"$f":"'Volume adjustments'!O$100","v":0.61947521099660174},{"$f":"'Volume adjustments'!P$100","v":0.61947521099660174},{"$f":"'Volume adjustments'!Q$100","v":0},{"$f":"'Volume adjustments'!R$100","v":0},{"$f":"'Volume adjustments'!S$100","v":0.61947521099660174},{"$f":"'Volume adjustments'!T$100","v":0.61947521099660174},{"$f":"'Volume adjustments'!U$100","v":0.61947521099660174},{"$f":"'Volume adjustments'!V$100","v":0.41493783028785863},{"$f":"'Volume adjustments'!W$100","v":0.29542429060126774},{"$f":"'Volume adjustments'!X$100","v":0.61947521099660174},{"$f":"'Volume adjustments'!Y$100","v":0.61947521099660174},{"$f":"'Volume adjustments'!Z$100","v":0.61947521099660174},{"$f":"'Volume adjustments'!AA$100","v":0.61947521099660174},{"$f":"'Volume adjustments'!AB$100","v":0.61947521099660174},{"$f":"'Volume adjustments'!AC$100","v":1},{"$f":"'Volume adjustments'!AD$100","v":1},{"$f":"'Volume adjustments'!AE$100","v":1},{"$f":"'Volume adjustments'!AF$100","v":1},{"$f":"'Volume adjustments'!AG$100","v":1},{"$f":"'Volume adjustments'!AH$100","v":1},{"$f":"'Volume adjustments'!AI$100","v":1},{"$f":"'Volume adjustments'!AJ$100","v":1},{"$f":"'Volume adjustments'!AK$100","v":1},{"$f":"'Volume adjustments'!AL$100","v":1},{"$f":"'Volume adjustments'!AM$100","v":1},{"$f":"'Volume adjustments'!AN$100","v":1},{"$f":"'Volume adjustments'!AO$100","v":1},{"$f":"'Volume adjustments'!AP$100","v":1}]
[null,null,null,null,null,"Capacity charge","%",null,null,{"$f":"'Volume adjustments'!J$111","v":0.61947521099660174},{"$f":"'Volume adjustments'!K$111","v":0.61947521099660174},{"$f":"'Volume adjustments'!L$111","v":0.61947521099660174},{"$f":"'Volume adjustments'!M$111","v":0.61947521099660174},{"$f":"'Volume adjustments'!N$111","v":0.61947521099660174},{"$f":"'Volume adjustments'!O$111","v":0.61947521099660174},{"$f":"'Volume adjustments'!P$111","v":0.61947521099660174},{"$f":"'Volume adjustments'!Q$111","v":0},{"$f":"'Volume adjustments'!R$111","v":0},{"$f":"'Volume adjustments'!S$111","v":0.61947521099660174},{"$f":"'Volume adjustments'!T$111","v":0.61947521099660174},{"$f":"'Volume adjustments'!U$111","v":0.61947521099660174},{"$f":"'Volume adjustments'!V$111","v":0.41493783028785863},{"$f":"'Volume adjustments'!W$111","v":0.29542429060126774},{"$f":"'Volume adjustments'!X$111","v":0.61947521099660174},{"$f":"'Volume adjustments'!Y$111","v":0.61947521099660174},{"$f":"'Volume adjustments'!Z$111","v":0.61947521099660174},{"$f":"'Volume adjustments'!AA$111","v":0.61947521099660174},{"$f":"'Volume adjustments'!AB$111","v":0.61947521099660174},{"$f":"'Volume adjustments'!AC$111","v":0},{"$f":"'Volume adjustments'!AD$111","v":0},{"$f":"'Volume adjustments'!AE$111","v":0},{"$f":"'Volume adjustments'!AF$111","v":0},{"$f":"'Volume adjustments'!AG$111","v":0},{"$f":"'Volume adjustments'!AH$111","v":0},{"$f":"'Volume adjustments'!AI$111","v":0},{"$f":"'Volume adjustments'!AJ$111","v":0},{"$f":"'Volume adjustments'!AK$111","v":0},{"$f":"'Volume adjustments'!AL$111","v":0},{"$f":"'Volume adjustments'!AM$111","v":0},{"$f":"'Volume adjustments'!AN$111","v":0},{"$f":"'Volume adjustments'!AO$111","v":0},{"$f":"'Volume adjustments'!AP$111","v":0}]
[null,null,null,null,null,"Exceeded capacity charge","%",null,null,{"$f":"'Volume adjustments'!J$122","v":0.61947521099660174},{"$f":"'Volume adjustments'!K$122","v":0.61947521099660174},{"$f":"'Volume adjustments'!L$122","v":0.61947521099660174},{"$f":"'Volume adjustments'!M$122","v":0.61947521099660174},{"$f":"'Volume adjustments'!N$122","v":0.61947521099660174},{"$f":"'Volume adjustments'!O$122","v":0.61947521099660174},{"$f":"'Volume adjustments'!P$122","v":0.61947521099660174},{"$f":"'Volume adjustments'!Q$122","v":0},{"$f":"'Volume adjustments'!R$122","v":0},{"$f":"'Volume adjustments'!S$122","v":0.61947521099660174},{"$f":"'Volume adjustments'!T$122","v":0.61947521099660174},{"$f":"'Volume adjustments'!U$122","v":0.61947521099660174},{"$f":"'Volume adjustments'!V$122","v":0.41493783028785863},{"$f":"'Volume adjustments'!W$122","v":0.29542429060126774},{"$f":"'Volume adjustments'!X$122","v":0.61947521099660174},{"$f":"'Volume adjustments'!Y$122","v":0.61947521099660174},{"$f":"'Volume adjustments'!Z$122","v":0.61947521099660174},{"$f":"'Volume adjustments'!AA$122","v":0.61947521099660174},{"$f":"'Volume adjustments'!AB$122","v":0.61947521099660174},{"$f":"'Volume adjustments'!AC$122","v":0},{"$f":"'Volume adjustments'!AD$122","v":0},{"$f":"'Volume adjustments'!AE$122","v":0},{"$f":"'Volume adjustments'!AF$122","v":0},{"$f":"'Volume adjustments'!AG$122","v":0},{"$f":"'Volume adjustments'!AH$122","v":0},{"$f":"'Volume adjustments'!AI$122","v":0},{"$f":"'Volume adjustments'!AJ$122","v":0},{"$f":"'Volume adjustments'!AK$122","v":0},{"$f":"'Volume adjustments'!AL$122","v":0},{"$f":"'Volume adjustments'!AM$122","v":0},{"$f":"'Volume adjustments'!AN$122","v":0},{"$f":"'Volume adjustments'!AO$122","v":0},{"$f":"'Volume adjustments'!AP$122","v":0}]
[null,null,null,null,null,"Reactive power charge","%",null,null,{"$f":"'Volume adjustments'!J$133","v":0.61947521099660174},{"$f":"'Volume adjustments'!K$133","v":0.61947521099660174},{"$f":"'Volume adjustments'!L$133","v":0.61947521099660174},{"$f":"'Volume adjustments'!M$133","v":0.61947521099660174},{"$f":"'Volume adjustments'!N$133","v":0.61947521099660174},{"$f":"'Volume adjustments'!O$133","v":0.61947521099660174},{"$f":"'Volume adjustments'!P$133","v":0.61947521099660174},{"$f":"'Volume adjustments'!Q$133","v":0},{"$f":"'Volume adjustments'!R$133","v":0},{"$f":"'Volume adjustments'!S$133","v":0.61947521099660174},{"$f":"'Volume adjustments'!T$133","v":0.61947521099660174},{"$f":"'Volume adjustments'!U$133","v":0.61947521099660174},{"$f":"'Volume adjustments'!V$133","v":0.41493783028785863},{"$f":"'Volume adjustments'!W$133","v":0.29542429060126774},{"$f":"'Volume adjustments'!X$133","v":0.61947521099660174},{"$f":"'Volume adjustments'!Y$133","v":0.61947521099660174},{"$f":"'Volume adjustments'!Z$133","v":0.61947521099660174},{"$f":"'Volume adjustments'!AA$133","v":0.61947521099660174},{"$f":"'Volume adjustments'!AB$133","v":0.61947521099660174},{"$f":"'Volume adjustments'!AC$133","v":0},{"$f":"'Volume adjustments'!AD$133","v":0},{"$f":"'Volume adjustments'!AE$133","v":0},{"$f":"'Volume adjustments'!AF$133","v":0},{"$f":"'Volume adjustments'!AG$133","v":0},{"$f":"'Volume adjustments'!AH$133","v":0},{"$f":"'Volume adjustments'!AI$133","v":0},{"$f":"'Volume adjustments'!AJ$133","v":0},{"$f":"'Volume adjustments'!AK$133","v":0},{"$f":"'Volume adjustments'!AL$133","v":0},{"$f":"'Volume adjustments'!AM$133","v":0},{"$f":"'Volume adjustments'!AN$133","v":0},{"$f":"'Volume adjustments'!AO$133","v":0},{"$f":"'Volume adjustments'!AP$133","v":0}]
[]
[null,null,{"$f":"INDEX('Version control'!$H$34:$H$59,MATCH($A$1,'Version control'!$F$34:$F$59,0),1)&\"-D: Decimal places for rounding\"","v":"Section 519-D: Decimal places for rounding"}]
[]
[null,null,null,null,"Decimal places for rounding",null,null,null,">",null,null,null,null,null,null,null,null,null,null,null,null,null,null,null,null,null,null,null,null,null,null,null,null,null,null,null,null,null,null,null,null,null,null,"Paragraph 14"]
[null,null,null,null,null,"Unit rate 1","integer",{"$f":"'Fixed inputs'!H25","v":3}]
[null,null,null,null,null,"Unit rate 2","integer",{"$f":"'Fixed inputs'!H26","v":3}]
[null,null,null,null,null,"Unit rate 3","integer",{"$f":"'Fixed inputs'!H27","v":3}]
[null,null,null,null,null,"Fixed charge","integer",{"$f":"'Fixed inputs'!H28","v":2}]
[null,null,null,null,null,"Capacity charge","integer",{"$f":"'Fixed inputs'!H29","v":2}]
[null,null,null,null,null,"Exceeded capacity charge","integer",{"$f":"'Fixed inputs'!H30","v":2}]
[null,null,null,null,null,"Reactive power charge","integer",{"$f":"'Fixed inputs'!H31","v":3}]
[]
[null,"Rounding of tariff forecast"]
[]
[null,null,"Calculates rounded tariff forecast"]
[]
[null,null,{"$f":"INDEX('Version control'!$H$34:$H$59,MATCH($A$1,'Version control'!$F$34:$F$59,0),1)&\"-E: All the way tariff forecast, pre-rounding\"","v":"Section 519-E: All the way tariff forecast, pre-rounding"}]
[]
[null,null,null,null,"All the way tariff forecast, pre-rounding"]
[null,null,null,null,null,"Unit rate 1","p/kWh",null,null,{"$f":"J20+J32","v":3.5798451048333604},{"$f":"K20+K32","v":3.769729567103393},1.9881335679702217,2.9530757782068724,3.3973245789443407,1.9895773412259081,3.2136164051690015,3.0963266443844306,2.520491500147203,13.284504878621568,11.645599116571091,9.5058806641783189,7.3750047670709673,6.1143799850470533,3.964125049049787,4.2574035149444907,5.1444818104224037,3.6817055129940233,28.82600869435533,-0.95645070978576807,-0.87171590426342993,-0.95645070978576807,-0.95645070978576807,-8.0102682346829557,-8.0102682346829557,-0.87171590426342993,-0.87171590426342993,-7.2895545912923492,-7.2895545912923492,-0.59364545367798527,-0.59364545367798527,-4.9269918854708576,-4.9269918854708576]
[null,null,null,null,null,"Unit rate 2","p/kWh",null,null,{"$f":"J21+J33","v":0},2.0050297939339656,0,0,2.0084822325889222,0,1.947446991834922,1.9390688036087937,1.8842849885129298,2.6198290128412252,2.4930533776829513,2.3179786640798374,2.1391017791944122,2.035867455537713,0,0,0,0,3.8379224506663348,0,0,0,0,-0.61961027002663549,-0.61961027002663549,0,0,-0.558805197571975,-0.558805197571975,0,0,-0.35715809300097923,-0.35715809300097923]
[null,null,null,null,null,"Unit rate 3","p/kWh",null,null,{"$f":"J22+J34","v":0},0,0,0,0,0,0,0,0,1.9991458058257059,1.9604190838591649,1.9230799325315222,1.8921865517094154,1.8615257581785052,0,0,0,0,3.0023064987631534,0,0,0,0,-0.1894868482988982,-0.1894868482988982,0,0,-0.1794610199813973,-0.1794610199813973,0,0,-0.14799176643404297,-0.14799176643404297]
[null,null,null,null,null,"Fixed charge","p/MPAN/day",null,null,{"$f":"J23+J35","v":4.9964264740967792},4.9964264740967792,0,9.9574745812117413,9.9574745812117413,0,44.827829667915779,22.819194180039077,146.76348908843983,4.9964264740967792,9.9574745812117413,15.020787537344148,11.725338863253523,108.24640130636605,0,0,0,0,0,0,0,0,0,0,0,0,0,0,0,67.745218259777346,67.745218259777346,67.745218259777346,67.745218259777346]
[null,null,null,null,null,"Capacity charge","p/kVA/day",null,null,{"$f":"J24+J36","v":0},0,0,0,0,0,0,0,0,0,0,3.6177710757692187,4.0754906270687519,4.1489909207085027,0,0,0,0,0,0,0,0,0,0,0,0,0,0,0,0,0,0,0]
[null,null,null,null,null,"Exceeded capacity charge","p/kVA/day",null,null,{"$f":"J25+J37","v":0},0,0,0,0,0,0,0,0,0,0,7.7475077110435775,7.6251210521554169,8.0795911828279028,0,0,0,0,0,0,0,0,0,0,0,0,0,0,0,0,0,0,0]
[null,null,null,null,null,"Reactive power charge","p/kVArh",null,null,{"$f":"J26+J38","v":0},0,0,0,0,0,0,0,0,0,0,0.31867128371507336,0.22972054232482408,0.1693841531586624,0,0,0,0,0,0,0,0.34382772943971418,0,0.34382772943971418,0,0.28978257640808525,0,0.28978257640808525,0,0.24187182604900767,0,0.24187182604900767,0]
[]
[null,null,{"$f":"INDEX('Version control'!$H$34:$H$59,MATCH($A$1,'Version control'!$F$34:$F$59,0),1)&\"-F: tariff forecast, post-rounding\"","v":"Section 519-F: tariff forecast, post-rounding"}]
[]
[null,null,null,null,"All the way tariff forecast, post-rounding",null,null,null,">",null,null,null,null,null,null,null,null,null,null,null,null,null,null,null,null,null,null,null,null,null,null,null,null,null,null,null,null,null,null,null,null,null,null,"Paragraph 14"]
[null,null,null,null,null,"Unit rate 1","p/kWh",null,null,{"$f":"ROUND(J78,$H63)","v":3.58},{"$f":"ROUND(K78,$H63)","v":3.77},1.988,2.9529999999999998,3.3969999999999998,1.99,3.214,3.0960000000000001,2.52,13.285,11.646000000000001,9.5060000000000002,7.375,6.1139999999999999,3.964,4.2569999999999997,5.1440000000000001,3.6819999999999999,28.826000000000001,-0.95599999999999996,-0.872,-0.95599999999999996,-0.95599999999999996,-8.01,-8.01,-0.872,-0.872,-7.29,-7.29,-0.59399999999999997,-0.59399999999999997,-4.9269999999999996,-4.9269999999999996]
[null,null,null,null,null,"Unit rate 2","p/kWh",null,null,{"$f":"ROUND(J79,$H64)","v":0},2.0049999999999999,0,0,2.008,0,1.9470000000000001,1.9390000000000001,1.8839999999999999,2.62,2.4929999999999999,2.3180000000000001,2.1389999999999998,2.036,0,0,0,0,3.8380000000000001,0,0,0,0,-0.62,-0.62,0,0,-0.55900000000000005,-0.55900000000000005,0,0,-0.35699999999999998,-0.35699999999999998]
[null,null,null,null,null,"Unit rate 3","p/kWh",null,null,{"$f":"ROUND(J80,$H65)","v":0},0,0,0,0,0,0,0,0,1.9990000000000001,1.96,1.923,1.8919999999999999,1.8620000000000001,0,0,0,0,3.0019999999999998,0,0,0,0,-0.189,-0.189,0,0,-0.17899999999999999,-0.17899999999999999,0,0,-0.14799999999999999,-0.14799999999999999]
[null,null,null,null,null,"Fixed charge","p/MPAN/day",null,null,{"$f":"ROUND(J81,$H66)","v":5},5,0,9.9600000000000009,9.9600000000000009,0,44.83,22.82,146.76,5,9.9600000000000009,15.02,11.73,108.25,0,0,0,0,0,0,0,0,0,0,0,0,0,0,0,67.75,67.75,67.75,67.75]
[null,null,null,null,null,"Capacity charge","p/kVA/day",null,null,{"$f":"ROUND(J82,$H67)","v":0},0,0,0,0,0,0,0,0,0,0,3.62,4.08,4.1500000000000004,0,0,0,0,0,0,0,0,0,0,0,0,0,0,0,0,0,0,0]
[null,null,null,null,null,"Exceeded capacity charge","p/kVA/day",null,null,{"$f":"ROUND(J83,$H68)","v":0},0,0,0,0,0,0,0,0,0,0,7.75,7.63,8.08,0,0,0,0,0,0,0,0,0,0,0,0,0,0,0,0,0,0,0]
[null,null,null,null,null,"Reactive power charge","p/kVArh",null,null,{"$f":"ROUND(J84,$H69)","v":0},0,0,0,0,0,0,0,0,0,0,0.31900000000000001,0.23,0.16900000000000001,0,0,0,0,0,0,0,0.34399999999999997,0,0.34399999999999997,0,0.28999999999999998,0,0.28999999999999998,0,0.24199999999999999,0,0.24199999999999999,0]
[]
[null,null,null,null,"LDNO LV tariff forecast, post-rounding",null,null,null,">",null,null,null,null,null,null,null,null,null,null,null,null,null,null,null,null,null,null,null,null,null,null,null,null,null,null,null,null,null,null,null,null,null,null,"Paragraph 14"]
[null,null,null,null,null,"Unit rate 1","p/kWh",null,null,{"$f":"ROUND(J89*(1-J43),$H63)","v":2.4089999999999998},2.536,1.337,1.9870000000000001,2.2850000000000001,1.339,2.1619999999999999,null,null,{"$f":"ROUND(S89*(1-S43),$H63)","v":8.9380000000000006},7.835,6.3949999999999996,null,null,{"$f":"ROUND(X89*(1-X43),$H63)","v":2.6669999999999998},2.8639999999999999,3.4609999999999999,2.4769999999999999,19.393999999999998,-0.95599999999999996,null,{"$f":"ROUND(AE89*(1-AE43),$H63)","v":-0.95599999999999996},null,{"$f":"ROUND(AG89*(1-AG43),$H63)","v":-8.01}]
[null,null,null,null,null,"Unit rate 2","p/kWh",null,null,0,1.349,0,0,1.351,0,1.31,null,null,1.7629999999999999,1.677,1.56,null,null,0,0,0,0,2.5819999999999999,0,null,0,null,-0.62]
[null,null,null,null,null,"Unit rate 3","p/kWh",null,null,0,0,0,0,0,0,0,null,null,1.345,1.319,1.294,null,null,0,0,0,0,2.02,0,null,0,null,-0.189]
[null,null,null,null,null,"Fixed charge","p/MPAN/day",null,null,3.36,3.36,0,6.7,6.7,0,30.16,null,null,3.36,6.7,10.11,null,null,0,0,0,0,0,0,null,0,null,0]
[null,null,null,null,null,"Capacity charge","p/kVA/day",null,null,0,0,0,0,0,0,0,null,null,0,0,2.44,null,null,0,0,0,0,0,0,null,0,null,0]
[null,null,null,null,null,"Exceeded capacity charge","p/kVA/day",null,null,0,0,0,0,0,0,0,null,null,0,0,5.21,null,null,0,0,0,0,0,0,null,0,null,0]
[null,null,null,null,null,"Reactive power charge","p/kVArh",null,null,0,0,0,0,0,0,0,null,null,0,0,0.215,null,null,0,0,0,0,0,0,null,0.34399999999999997,null,0.34399999999999997]
[]
[null,null,null,null,"LDNO HV tariff forecast, post-rounding",null,null,null,">",null,null,null,null,null,null,null,null,null,null,null,null,null,null,null,null,null,null,null,null,null,null,null,null,null,null,null,null,null,null,null,null,null,null,"Paragraph 14"]
[null,null,null,null,null,"Unit rate 1","p/kWh",null,null,{"$f":"ROUND(J89*(1-J52),$H63)","v":1.3620000000000001},1.4350000000000001,0.75600000000000001,1.1240000000000001,1.2929999999999999,0.75700000000000001,1.2230000000000001,null,null,{"$f":"ROUND(S89*(1-S52),$H63)","v":5.0549999999999997},4.4320000000000004,3.617,4.3150000000000004,4.3079999999999998,1.508,1.62,1.9570000000000001,1.401,10.968999999999999,-0.95599999999999996,-0.872,-0.95599999999999996,null,{"$f":"ROUND(AG89*(1-AG52),$H63)","v":-8.01},null,{"$f":"ROUND(AI89*(1-AI52),$H63)","v":-0.872},null,{"$f":"ROUND(AK89*(1-AK52),$H63)","v":-7.29},null,{"$f":"ROUND(AM89*(1-AM52),$H63)","v":-0.59399999999999997},null,{"$f":"ROUND(AO89*(1-AO52),$H63)","v":-4.9269999999999996}]
[null,null,null,null,null,"Unit rate 2","p/kWh",null,null,0,0.76300000000000001,0,0,0.76400000000000001,0,0.74099999999999999,null,null,{"$f":"ROUND(S90*(1-S53),$H64)","v":0.997},0.94899999999999995,0.88200000000000001,1.2509999999999999,1.4350000000000001,0,0,0,0,1.46,0,0,0,null,-0.62,null,0,null,-0.55900000000000005,null,0,null,-0.35699999999999998]
[null,null,null,null,null,"Unit rate 3","p/kWh",null,null,0,0,0,0,0,0,0,null,null,{"$f":"ROUND(S91*(1-S54),$H65)","v":0.76100000000000001},0.746,0.73199999999999998,1.107,1.3120000000000001,0,0,0,0,1.1419999999999999,0,0,0,null,-0.189,null,0,null,-0.17899999999999999,null,0,null,-0.14799999999999999]
[null,null,null,null,null,"Fixed charge","p/MPAN/day",null,null,1.9,1.9,0,3.79,3.79,0,17.059999999999999,null,null,{"$f":"ROUND(S92*(1-S55),$H66)","v":1.9},3.79,5.72,6.86,76.27,0,0,0,0,0,0,0,0,null,0,null,0,null,0,null,0,null,0]
[null,null,null,null,null,"Capacity charge","p/kVA/day",null,null,0,0,0,0,0,0,0,null,null,{"$f":"ROUND(S93*(1-S56),$H67)","v":0},0,1.38,2.39,2.92,0,0,0,0,0,0,0,0,null,0,null,0,null,0,null,0,null,0]
[null,null,null,null,null,"Exceeded capacity charge","p/kVA/day",null,null,0,0,0,0,0,0,0,null,null,{"$f":"ROUND(S94*(1-S57),$H68)","v":0},0,2.95,4.46,5.69,0,0,0,0,0,0,0,0,null,0,null,0,null,0,null,0,null,0]
[null,null,null,null,null,"Reactive power charge","p/kVArh",null,null,0,0,0,0,0,0,0,null,null,{"$f":"ROUND(S95*(1-S58),$H69)","v":0},0,0.121,0.13500000000000001,0.11899999999999999,0,0,0,0,0,0,0,0.34399999999999997,null,0.34399999999999997,null,0.28999999999999998,null,0.28999999999999998,null,0.24199999999999999,null,0.24199999999999999]
[]
[null,"Checks"]
[]
[null,null,null,null,"Check for error values",null,"number of issues",{"$f":"SUM(IF(ISERROR(H20:AP113), 1))","v":0}]
[]
[null,"End of sheet"]

{"sheet":"Net revenue summary","index":33,"n_rows":132,"n_cols":44,"rows_kept":132,"cut":false,"hidden":false,"merged":[]}
[{"$f":"MID(CELL(\"filename\",A1),FIND(\"]\",CELL(\"filename\",A1))+1,255)","v":"Net revenue summary"}]
[{"$f":"Cover!D21&\" - \"&Cover!D23","v":"[enter DNO name] - [enter data version name]"}]
[{"$f":"Cover!D2&\" - \"&Cover!D8&\" v\"&Cover!D10&\" - \"&Cover!D19","v":"ARP model - Release for charge setting v3 - 2020/21"}]
[{"$f":"H130 & IF(H130 = 1, \" issue\", \" issues\") &\" identified in checks on this sheet\"","v":"0 issues identified in checks on this sheet"}]
[null,"Click here to return to model map",null,null,null,null,"Units","Constants",null,"Domestic Unrestricted","Domestic Two Rate","Domestic Off Peak (related MPAN)","Small Non Domestic Unrestricted","Small Non Domestic Two Rate","Small Non Domestic Off Peak (related MPAN)","LV Medium Non-Domestic","LV Sub Medium Non-Domestic","HV Medium Non-Domestic","LV Network Domestic","LV Network Non-Domestic Non-CT","LV HH Metered","LV Sub HH Metered","HV HH Metered","NHH UMS category A","NHH UMS category B","NHH UMS category C","NHH UMS category D","LV UMS (Pseudo HH Metered)","LV Generation NHH or Aggregate HH","LV Sub Generation NHH","LV Generation Intermittent","LV Generation Intermittent no RP charge","LV Generation Non-Intermittent","LV Generation Non-Intermittent no RP charge","LV Sub Generation Intermittent","LV Sub Generation Intermittent no RP charge","LV Sub Generation Non-Intermittent","LV Sub Generation Non-Intermittent no RP charge","HV Generation Intermittent","HV Generation Intermittent no RP charge","HV Generation Non-Intermittent","HV Generation Non-Intermittent no RP charge",null,"Legal text reference"]
[]
[null,"Description"]
[]
[null,null,"This sheet calculates a summary of net revenue and other non-tariff outputs included for users' information"]
[]
[null,"Inputs to net revenue summary calculation"]
[]
[null,null,{"$f":"INDEX('Version control'!$H$34:$H$59,MATCH($A$1,'Version control'!$F$34:$F$59,0),1)&\"-A: Volume forecasts\"","v":"Section 520-A: Volume forecasts"}]
[]
[null,null,null,null,"All the way volume forecast",null,null,null,">",null,null,null,null,null,null,null,null,null,null,null,null,null,null,null,null,null,null,null,null,null,null,null,null,null,null,null,null,null,null,null,null,null,null,"Paragraph 52"]
[null,null,null,null,null,"Rate 1 units","MWh",null,null,{"$f":"'Inputs by customer type'!J24","v":3087807.9823275143},{"$f":"'Inputs by customer type'!K24","v":145068.0178269053},{"$f":"'Inputs by customer type'!L24","v":2140.1103146035571},{"$f":"'Inputs by customer type'!M24","v":807524.13000493601},{"$f":"'Inputs by customer type'!N24","v":199376.72592817293},{"$f":"'Inputs by customer type'!O24","v":1578.3141159411171},{"$f":"'Inputs by customer type'!P24","v":13881.263349596087},{"$f":"'Inputs by customer type'!Q24","v":5.8625576095223545E-8},{"$f":"'Inputs by customer type'!R24","v":62.538955055444347},{"$f":"'Inputs by customer type'!S24","v":548.49662568994881},{"$f":"'Inputs by customer type'!T24","v":11567.475069845634},{"$f":"'Inputs by customer type'!U24","v":122794.82149659049},{"$f":"'Inputs by customer type'!V24","v":6459.7972719174722},{"$f":"'Inputs by customer type'!W24","v":146461.36308182811},{"$f":"'Inputs by customer type'!X24","v":2064.7386639344641},{"$f":"'Inputs by customer type'!Y24","v":5191.6019194014716},{"$f":"'Inputs by customer type'!Z24","v":288.93022950400001},{"$f":"'Inputs by customer type'!AA24","v":0},{"$f":"'Inputs by customer type'!AB24","v":4786.1918698977543},{"$f":"'Inputs by customer type'!AC24","v":1535.125},{"$f":"'Inputs by customer type'!AD24","v":0},{"$f":"'Inputs by customer type'!AE24","v":31104.631228000009},{"$f":"'Inputs by customer type'!AF24","v":0},{"$f":"'Inputs by customer type'!AG24","v":184.69947550370838},{"$f":"'Inputs by customer type'!AH24","v":0},{"$f":"'Inputs by customer type'!AI24","v":807.10811500000023},{"$f":"'Inputs by customer type'!AJ24","v":0},{"$f":"'Inputs by customer type'!AK24","v":36.59019120255607},{"$f":"'Inputs by customer type'!AL24","v":0},{"$f":"'Inputs by customer type'!AM24","v":314604.16542500001},{"$f":"'Inputs by customer type'!AN24","v":0},{"$f":"'Inputs by customer type'!AO24","v":30630.476100086526},{"$f":"'Inputs by customer type'!AP24","v":0}]
[null,null,null,null,null,"Rate 2 units","MWh",null,null,{"$f":"'Inputs by customer type'!J25","v":0},{"$f":"'Inputs by customer type'!K25","v":121139.40676462813},{"$f":"'Inputs by customer type'!L25","v":0},{"$f":"'Inputs by customer type'!M25","v":0},{"$f":"'Inputs by customer type'!N25","v":84177.001775695535},{"$f":"'Inputs by customer type'!O25","v":0},{"$f":"'Inputs by customer type'!P25","v":4240.791385004045},{"$f":"'Inputs by customer type'!Q25","v":1.7910389838743126E-8},{"$f":"'Inputs by customer type'!R25","v":25.753194800564419},{"$f":"'Inputs by customer type'!S25","v":2703.7423272662454},{"$f":"'Inputs by customer type'!T25","v":78199.431178665909},{"$f":"'Inputs by customer type'!U25","v":780163.65778957237},{"$f":"'Inputs by customer type'!V25","v":39047.547510153854},{"$f":"'Inputs by customer type'!W25","v":893163.9883989041},{"$f":"'Inputs by customer type'!X25","v":0},{"$f":"'Inputs by customer type'!Y25","v":0},{"$f":"'Inputs by customer type'!Z25","v":0},{"$f":"'Inputs by customer type'!AA25","v":0},{"$f":"'Inputs by customer type'!AB25","v":31263.847920010572},{"$f":"'Inputs by customer type'!AC25","v":0},{"$f":"'Inputs by customer type'!AD25","v":0},{"$f":"'Inputs by customer type'!AE25","v":0},{"$f":"'Inputs by customer type'!AF25","v":0},{"$f":"'Inputs by customer type'!AG25","v":1185.0893640362958},{"$f":"'Inputs by customer type'!AH25","v":0},{"$f":"'Inputs by customer type'!AI25","v":0},{"$f":"'Inputs by customer type'!AJ25","v":0},{"$f":"'Inputs by customer type'!AK25","v":148.04789377289072},{"$f":"'Inputs by customer type'!AL25","v":0},{"$f":"'Inputs by customer type'!AM25","v":0},{"$f":"'Inputs by customer type'!AN25","v":0},{"$f":"'Inputs by customer type'!AO25","v":70350.709153135162},{"$f":"'Inputs by customer type'!AP25","v":0}]
[null,null,null,null,null,"Rate 3 units","MWh",null,null,{"$f":"'Inputs by customer type'!J26","v":0},{"$f":"'Inputs by customer type'!K26","v":0},{"$f":"'Inputs by customer type'!L26","v":0},{"$f":"'Inputs by customer type'!M26","v":0},{"$f":"'Inputs by customer type'!N26","v":0},{"$f":"'Inputs by customer type'!O26","v":0},{"$f":"'Inputs by customer type'!P26","v":0},{"$f":"'Inputs by customer type'!Q26","v":0},{"$f":"'Inputs by customer type'!R26","v":0},{"$f":"'Inputs by customer type'!S26","v":2374.0081488820574},{"$f":"'Inputs by customer type'!T26","v":56207.019243093069},{"$f":"'Inputs by customer type'!U26","v":583197.68554353598},{"$f":"'Inputs by customer type'!V26","v":34152.977309556263},{"$f":"'Inputs by customer type'!W26","v":847048.91196364374},{"$f":"'Inputs by customer type'!X26","v":0},{"$f":"'Inputs by customer type'!Y26","v":0},{"$f":"'Inputs by customer type'!Z26","v":0},{"$f":"'Inputs by customer type'!AA26","v":0},{"$f":"'Inputs by customer type'!AB26","v":73749.776463945847},{"$f":"'Inputs by customer type'!AC26","v":0},{"$f":"'Inputs by customer type'!AD26","v":0},{"$f":"'Inputs by customer type'!AE26","v":0},{"$f":"'Inputs by customer type'!AF26","v":0},{"$f":"'Inputs by customer type'!AG26","v":1145.5607796251077},{"$f":"'Inputs by customer type'!AH26","v":0},{"$f":"'Inputs by customer type'!AI26","v":0},{"$f":"'Inputs by customer type'!AJ26","v":0},{"$f":"'Inputs by customer type'!AK26","v":149.37121031591738},{"$f":"'Inputs by customer type'!AL26","v":0},{"$f":"'Inputs by customer type'!AM26","v":0},{"$f":"'Inputs by customer type'!AN26","v":0},{"$f":"'Inputs by customer type'!AO26","v":57893.659515242049},{"$f":"'Inputs by customer type'!AP26","v":0}]
[null,null,null,null,null,"MPANs","MPANs",null,null,{"$f":"'Inputs by customer type'!J27","v":1002009.1843103382},{"$f":"'Inputs by customer type'!K27","v":49248.258600181885},{"$f":"'Inputs by customer type'!L27","v":0},{"$f":"'Inputs by customer type'!M27","v":64828.190112704251},{"$f":"'Inputs by customer type'!N27","v":13307.031217559954},{"$f":"'Inputs by customer type'!O27","v":0},{"$f":"'Inputs by customer type'!P27","v":236.77828473786286},{"$f":"'Inputs by customer type'!Q27","v":1.0000000000000001E-9},{"$f":"'Inputs by customer type'!R27","v":3.2303097041095885},{"$f":"'Inputs by customer type'!S27","v":1566.6058158904109},{"$f":"'Inputs by customer type'!T27","v":2242.4057885846305},{"$f":"'Inputs by customer type'!U27","v":6023.93882733802},{"$f":"'Inputs by customer type'!V27","v":96.625058435595633},{"$f":"'Inputs by customer type'!W27","v":817.9977558671319},{"$f":"'Inputs by customer type'!X27","v":587},{"$f":"'Inputs by customer type'!Y27","v":772},{"$f":"'Inputs by customer type'!Z27","v":87},{"$f":"'Inputs by customer type'!AA27","v":0},{"$f":"'Inputs by customer type'!AB27","v":35.345205479452055},{"$f":"'Inputs by customer type'!AC27","v":0},{"$f":"'Inputs by customer type'!AD27","v":0},{"$f":"'Inputs by customer type'!AE27","v":386.31110958904111},{"$f":"'Inputs by customer type'!AF27","v":0},{"$f":"'Inputs by customer type'!AG27","v":18.312676027397263},{"$f":"'Inputs by customer type'!AH27","v":0},{"$f":"'Inputs by customer type'!AI27","v":6.5165732876712346},{"$f":"'Inputs by customer type'!AJ27","v":0},{"$f":"'Inputs by customer type'!AK27","v":2.7530136986301375},{"$f":"'Inputs by customer type'!AL27","v":0},{"$f":"'Inputs by customer type'!AM27","v":158.62326986301375},{"$f":"'Inputs by customer type'!AN27","v":0},{"$f":"'Inputs by customer type'!AO27","v":46.144759931506854},{"$f":"'Inputs by customer type'!AP27","v":0}]
[null,null,null,null,null,"Import capacity","kVA",null,null,{"$f":"'Inputs by customer type'!J28","v":0},{"$f":"'Inputs by customer type'!K28","v":0},{"$f":"'Inputs by customer type'!L28","v":0},{"$f":"'Inputs by customer type'!M28","v":0},{"$f":"'Inputs by customer type'!N28","v":0},{"$f":"'Inputs by customer type'!O28","v":0},{"$f":"'Inputs by customer type'!P28","v":0},{"$f":"'Inputs by customer type'!Q28","v":0},{"$f":"'Inputs by customer type'!R28","v":0},{"$f":"'Inputs by customer type'!S28","v":0},{"$f":"'Inputs by customer type'!T28","v":0},{"$f":"'Inputs by customer type'!U28","v":752423.62048333464},{"$f":"'Inputs by customer type'!V28","v":25935.000000000004},{"$f":"'Inputs by customer type'!W28","v":658098.03008508706},{"$f":"'Inputs by customer type'!X28","v":0},{"$f":"'Inputs by customer type'!Y28","v":0},{"$f":"'Inputs by customer type'!Z28","v":0},{"$f":"'Inputs by customer type'!AA28","v":0},{"$f":"'Inputs by customer type'!AB28","v":0},{"$f":"'Inputs by customer type'!AC28","v":0},{"$f":"'Inputs by customer type'!AD28","v":0},{"$f":"'Inputs by customer type'!AE28","v":0},{"$f":"'Inputs by customer type'!AF28","v":0},{"$f":"'Inputs by customer type'!AG28","v":0},{"$f":"'Inputs by customer type'!AH28","v":0},{"$f":"'Inputs by customer type'!AI28","v":0},{"$f":"'Inputs by customer type'!AJ28","v":0},{"$f":"'Inputs by customer type'!AK28","v":0},{"$f":"'Inputs by customer type'!AL28","v":0},{"$f":"'Inputs by customer type'!AM28","v":0},{"$f":"'Inputs by customer type'!AN28","v":0},{"$f":"'Inputs by customer type'!AO28","v":0},{"$f":"'Inputs by customer type'!AP28","v":0}]
[null,null,null,null,null,"Exceeded capacity","kVA",null,null,{"$f":"'Inputs by customer type'!J29","v":0},{"$f":"'Inputs by customer type'!K29","v":0},{"$f":"'Inputs by customer type'!L29","v":0},{"$f":"'Inputs by customer type'!M29","v":0},{"$f":"'Inputs by customer type'!N29","v":0},{"$f":"'Inputs by customer type'!O29","v":0},{"$f":"'Inputs by customer type'!P29","v":0},{"$f":"'Inputs by customer type'!Q29","v":0},{"$f":"'Inputs by customer type'!R29","v":0},{"$f":"'Inputs by customer type'!S29","v":0},{"$f":"'Inputs by customer type'!T29","v":0},{"$f":"'Inputs by customer type'!U29","v":24014.967123287672},{"$f":"'Inputs by customer type'!V29","v":1372.9829276493151},{"$f":"'Inputs by customer type'!W29","v":19153.332046867399},{"$f":"'Inputs by customer type'!X29","v":0},{"$f":"'Inputs by customer type'!Y29","v":0},{"$f":"'Inputs by customer type'!Z29","v":0},{"$f":"'Inputs by customer type'!AA29","v":0},{"$f":"'Inputs by customer type'!AB29","v":0},{"$f":"'Inputs by customer type'!AC29","v":0},{"$f":"'Inputs by customer type'!AD29","v":0},{"$f":"'Inputs by customer type'!AE29","v":0},{"$f":"'Inputs by customer type'!AF29","v":0},{"$f":"'Inputs by customer type'!AG29","v":0},{"$f":"'Inputs by customer type'!AH29","v":0},{"$f":"'Inputs by customer type'!AI29","v":0},{"$f":"'Inputs by customer type'!AJ29","v":0},{"$f":"'Inputs by customer type'!AK29","v":0},{"$f":"'Inputs by customer type'!AL29","v":0},{"$f":"'Inputs by customer type'!AM29","v":0},{"$f":"'Inputs by customer type'!AN29","v":0},{"$f":"'Inputs by customer type'!AO29","v":0},{"$f":"'Inputs by customer type'!AP29","v":0}]
[null,null,null,null,null,"Reactive power units","MVArh",null,null,{"$f":"'Inputs by customer type'!J30","v":0},{"$f":"'Inputs by customer type'!K30","v":0},{"$f":"'Inputs by customer type'!L30","v":0},{"$f":"'Inputs by customer type'!M30","v":0},{"$f":"'Inputs by customer type'!N30","v":0},{"$f":"'Inputs by customer type'!O30","v":0},{"$f":"'Inputs by customer type'!P30","v":0},{"$f":"'Inputs by customer type'!Q30","v":0},{"$f":"'Inputs by customer type'!R30","v":0},{"$f":"'Inputs by customer type'!S30","v":0},{"$f":"'Inputs by customer type'!T30","v":0},{"$f":"'Inputs by customer type'!U30","v":126443.34399153598},{"$f":"'Inputs by customer type'!V30","v":6671.1604148720007},{"$f":"'Inputs by customer type'!W30","v":107880.47236750388},{"$f":"'Inputs by customer type'!X30","v":0},{"$f":"'Inputs by customer type'!Y30","v":0},{"$f":"'Inputs by customer type'!Z30","v":0},{"$f":"'Inputs by customer type'!AA30","v":0},{"$f":"'Inputs by customer type'!AB30","v":0},{"$f":"'Inputs by customer type'!AC30","v":0},{"$f":"'Inputs by customer type'!AD30","v":0},{"$f":"'Inputs by customer type'!AE30","v":2796.5714810000004},{"$f":"'Inputs by customer type'!AF30","v":0},{"$f":"'Inputs by customer type'!AG30","v":445.56613500000003},{"$f":"'Inputs by customer type'!AH30","v":0},{"$f":"'Inputs by customer type'!AI30","v":4.4529209999999999},{"$f":"'Inputs by customer type'!AJ30","v":0},{"$f":"'Inputs by customer type'!AK30","v":0},{"$f":"'Inputs by customer type'!AL30","v":0},{"$f":"'Inputs by customer type'!AM30","v":7489.4041639999996},{"$f":"'Inputs by customer type'!AN30","v":0},{"$f":"'Inputs by customer type'!AO30","v":1364.77427625},{"$f":"'Inputs by customer type'!AP30","v":0}]
[]
[null,null,null,null,"LDNO LV volume forecast",null,null,null,">",null,null,null,null,null,null,null,null,null,null,null,null,null,null,null,null,null,null,null,null,null,null,null,null,null,null,null,null,null,null,null,null,null,null,"Paragraph 52"]
[null,null,null,null,null,"Rate 1 units","MWh",null,null,{"$f":"'Inputs by customer type'!J33","v":3801.6436730332721},{"$f":"'Inputs by customer type'!K33","v":66.789153280354185},{"$f":"'Inputs by customer type'!L33","v":0},{"$f":"'Inputs by customer type'!M33","v":90.609526280157723},{"$f":"'Inputs by customer type'!N33","v":0},{"$f":"'Inputs by customer type'!O33","v":0},{"$f":"'Inputs by customer type'!P33","v":0},{"$f":"'Inputs by customer type'!Q33","v":0},{"$f":"'Inputs by customer type'!R33","v":0},{"$f":"'Inputs by customer type'!S33","v":0},{"$f":"'Inputs by customer type'!T33","v":0},{"$f":"'Inputs by customer type'!U33","v":33.757735705319291},{"$f":"'Inputs by customer type'!V33","v":0},{"$f":"'Inputs by customer type'!W33","v":0},{"$f":"'Inputs by customer type'!X33","v":137.6265837801335},{"$f":"'Inputs by customer type'!Y33","v":6.9392159772526094},{"$f":"'Inputs by customer type'!Z33","v":0},{"$f":"'Inputs by customer type'!AA33","v":0},{"$f":"'Inputs by customer type'!AB33","v":0},{"$f":"'Inputs by customer type'!AC33","v":0},{"$f":"'Inputs by customer type'!AD33","v":0},{"$f":"'Inputs by customer type'!AE33","v":0},{"$f":"'Inputs by customer type'!AF33","v":0},{"$f":"'Inputs by customer type'!AG33","v":0},{"$f":"'Inputs by customer type'!AH33","v":0},{"$f":"'Inputs by customer type'!AI33","v":0},{"$f":"'Inputs by customer type'!AJ33","v":0},{"$f":"'Inputs by customer type'!AK33","v":0},{"$f":"'Inputs by customer type'!AL33","v":0},{"$f":"'Inputs by customer type'!AM33","v":0},{"$f":"'Inputs by customer type'!AN33","v":0},{"$f":"'Inputs by customer type'!AO33","v":0},{"$f":"'Inputs by customer type'!AP33","v":0}]
[null,null,null,null,null,"Rate 2 units","MWh",null,null,{"$f":"'Inputs by customer type'!J34","v":0},{"$f":"'Inputs by customer type'!K34","v":18.210955250642108},{"$f":"'Inputs by customer type'!L34","v":0},{"$f":"'Inputs by customer type'!M34","v":0},{"$f":"'Inputs by customer type'!N34","v":0},{"$f":"'Inputs by customer type'!O34","v":0},{"$f":"'Inputs by customer type'!P34","v":0},{"$f":"'Inputs by customer type'!Q34","v":0},{"$f":"'Inputs by customer type'!R34","v":0},{"$f":"'Inputs by customer type'!S34","v":0},{"$f":"'Inputs by customer type'!T34","v":0},{"$f":"'Inputs by customer type'!U34","v":226.96905231533046},{"$f":"'Inputs by customer type'!V34","v":0},{"$f":"'Inputs by customer type'!W34","v":0},{"$f":"'Inputs by customer type'!X34","v":0},{"$f":"'Inputs by customer type'!Y34","v":0},{"$f":"'Inputs by customer type'!Z34","v":0},{"$f":"'Inputs by customer type'!AA34","v":0},{"$f":"'Inputs by customer type'!AB34","v":0},{"$f":"'Inputs by customer type'!AC34","v":0},{"$f":"'Inputs by customer type'!AD34","v":0},{"$f":"'Inputs by customer type'!AE34","v":0},{"$f":"'Inputs by customer type'!AF34","v":0},{"$f":"'Inputs by customer type'!AG34","v":0},{"$f":"'Inputs by customer type'!AH34","v":0},{"$f":"'Inputs by customer type'!AI34","v":0},{"$f":"'Inputs by customer type'!AJ34","v":0},{"$f":"'Inputs by customer type'!AK34","v":0},{"$f":"'Inputs by customer type'!AL34","v":0},{"$f":"'Inputs by customer type'!AM34","v":0},{"$f":"'Inputs by customer type'!AN34","v":0},{"$f":"'Inputs by customer type'!AO34","v":0},{"$f":"'Inputs by customer type'!AP34","v":0}]
[null,null,null,null,null,"Rate 3 units","MWh",null,null,{"$f":"'Inputs by customer type'!J35","v":0},{"$f":"'Inputs by customer type'!K35","v":0},{"$f":"'Inputs by customer type'!L35","v":0},{"$f":"'Inputs by customer type'!M35","v":0},{"$f":"'Inputs by customer type'!N35","v":0},{"$f":"'Inputs by customer type'!O35","v":0},{"$f":"'Inputs by customer type'!P35","v":0},{"$f":"'Inputs by customer type'!Q35","v":0},{"$f":"'Inputs by customer type'!R35","v":0},{"$f":"'Inputs by customer type'!S35","v":0},{"$f":"'Inputs by customer type'!T35","v":0},{"$f":"'Inputs by customer type'!U35","v":160.07919109496191},{"$f":"'Inputs by customer type'!V35","v":0},{"$f":"'Inputs by customer type'!W35","v":0},{"$f":"'Inputs by customer type'!X35","v":0},{"$f":"'Inputs by customer type'!Y35","v":0},{"$f":"'Inputs by customer type'!Z35","v":0},{"$f":"'Inputs by customer type'!AA35","v":0},{"$f":"'Inputs by customer type'!AB35","v":0},{"$f":"'Inputs by customer type'!AC35","v":0},{"$f":"'Inputs by customer type'!AD35","v":0},{"$f":"'Inputs by customer type'!AE35","v":0},{"$f":"'Inputs by customer type'!AF35","v":0},{"$f":"'Inputs by customer type'!AG35","v":0},{"$f":"'Inputs by customer type'!AH35","v":0},{"$f":"'Inputs by customer type'!AI35","v":0},{"$f":"'Inputs by customer type'!AJ35","v":0},{"$f":"'Inputs by customer type'!AK35","v":0},{"$f":"'Inputs by customer type'!AL35","v":0},{"$f":"'Inputs by customer type'!AM35","v":0},{"$f":"'Inputs by customer type'!AN35","v":0},{"$f":"'Inputs by customer type'!AO35","v":0},{"$f":"'Inputs by customer type'!AP35","v":0}]
[null,null,null,null,null,"MPANs","MPANs",null,null,{"$f":"'Inputs by customer type'!J36","v":1401.7154794520548},{"$f":"'Inputs by customer type'!K36","v":31.396179452054799},{"$f":"'Inputs by customer type'!L36","v":0},{"$f":"'Inputs by customer type'!M36","v":6.9593424657534246},{"$f":"'Inputs by customer type'!N36","v":0},{"$f":"'Inputs by customer type'!O36","v":0},{"$f":"'Inputs by customer type'!P36","v":0},{"$f":"'Inputs by customer type'!Q36","v":0},{"$f":"'Inputs by customer type'!R36","v":0},{"$f":"'Inputs by customer type'!S36","v":0},{"$f":"'Inputs by customer type'!T36","v":0},{"$f":"'Inputs by customer type'!U36","v":2.9912486301369867},{"$f":"'Inputs by customer type'!V36","v":0},{"$f":"'Inputs by customer type'!W36","v":0},{"$f":"'Inputs by customer type'!X36","v":0},{"$f":"'Inputs by customer type'!Y36","v":0},{"$f":"'Inputs by customer type'!Z36","v":0},{"$f":"'Inputs by customer type'!AA36","v":0},{"$f":"'Inputs by customer type'!AB36","v":0},{"$f":"'Inputs by customer type'!AC36","v":0},{"$f":"'Inputs by customer type'!AD36","v":0},{"$f":"'Inputs by customer type'!AE36","v":0},{"$f":"'Inputs by customer type'!AF36","v":0},{"$f":"'Inputs by customer type'!AG36","v":0},{"$f":"'Inputs by customer type'!AH36","v":0},{"$f":"'Inputs by customer type'!AI36","v":0},{"$f":"'Inputs by customer type'!AJ36","v":0},{"$f":"'Inputs by customer type'!AK36","v":0},{"$f":"'Inputs by customer type'!AL36","v":0},{"$f":"'Inputs by customer type'!AM36","v":0},{"$f":"'Inputs by customer type'!AN36","v":0},{"$f":"'Inputs by customer type'!AO36","v":0},{"$f":"'Inputs by customer type'!AP36","v":0}]
[null,null,null,null,null,"Import capacity","kVA",null,null,{"$f":"'Inputs by customer type'!J37","v":0},{"$f":"'Inputs by customer type'!K37","v":0},{"$f":"'Inputs by customer type'!L37","v":0},{"$f":"'Inputs by customer type'!M37","v":0},{"$f":"'Inputs by customer type'!N37","v":0},{"$f":"'Inputs by customer type'!O37","v":0},{"$f":"'Inputs by customer type'!P37","v":0},{"$f":"'Inputs by customer type'!Q37","v":0},{"$f":"'Inputs by customer type'!R37","v":0},{"$f":"'Inputs by customer type'!S37","v":0},{"$f":"'Inputs by customer type'!T37","v":0},{"$f":"'Inputs by customer type'!U37","v":306.9103253424658},{"$f":"'Inputs by customer type'!V37","v":0},{"$f":"'Inputs by customer type'!W37","v":0},{"$f":"'Inputs by customer type'!X37","v":0},{"$f":"'Inputs by customer type'!Y37","v":0},{"$f":"'Inputs by customer type'!Z37","v":0},{"$f":"'Inputs by customer type'!AA37","v":0},{"$f":"'Inputs by customer type'!AB37","v":0},{"$f":"'Inputs by customer type'!AC37","v":0},{"$f":"'Inputs by customer type'!AD37","v":0},{"$f":"'Inputs by customer type'!AE37","v":0},{"$f":"'Inputs by customer type'!AF37","v":0},{"$f":"'Inputs by customer type'!AG37","v":0},{"$f":"'Inputs by customer type'!AH37","v":0},{"$f":"'Inputs by customer type'!AI37","v":0},{"$f":"'Inputs by customer type'!AJ37","v":0},{"$f":"'Inputs by customer type'!AK37","v":0},{"$f":"'Inputs by customer type'!AL37","v":0},{"$f":"'Inputs by customer type'!AM37","v":0},{"$f":"'Inputs by customer type'!AN37","v":0},{"$f":"'Inputs by customer type'!AO37","v":0},{"$f":"'Inputs by customer type'!AP37","v":0}]
[null,null,null,null,null,"Exceeded capacity","kVA",null,null,{"$f":"'Inputs by customer type'!J38","v":0},{"$f":"'Inputs by customer type'!K38","v":0},{"$f":"'Inputs by customer type'!L38","v":0},{"$f":"'Inputs by customer type'!M38","v":0},{"$f":"'Inputs by customer type'!N38","v":0},{"$f":"'Inputs by customer type'!O38","v":0},{"$f":"'Inputs by customer type'!P38","v":0},{"$f":"'Inputs by customer type'!Q38","v":0},{"$f":"'Inputs by customer type'!R38","v":0},{"$f":"'Inputs by customer type'!S38","v":0},{"$f":"'Inputs by customer type'!T38","v":0},{"$f":"'Inputs by customer type'!U38","v":33.925284246575352},{"$f":"'Inputs by customer type'!V38","v":0},{"$f":"'Inputs by customer type'!W38","v":0},{"$f":"'Inputs by customer type'!X38","v":0},{"$f":"'Inputs by customer type'!Y38","v":0},{"$f":"'Inputs by customer type'!Z38","v":0},{"$f":"'Inputs by customer type'!AA38","v":0},{"$f":"'Inputs by customer type'!AB38","v":0},{"$f":"'Inputs by customer type'!AC38","v":0},{"$f":"'Inputs by customer type'!AD38","v":0},{"$f":"'Inputs by customer type'!AE38","v":0},{"$f":"'Inputs by customer type'!AF38","v":0},{"$f":"'Inputs by customer type'!AG38","v":0},{"$f":"'Inputs by customer type'!AH38","v":0},{"$f":"'Inputs by customer type'!AI38","v":0},{"$f":"'Inputs by customer type'!AJ38","v":0},{"$f":"'Inputs by customer type'!AK38","v":0},{"$f":"'Inputs by customer type'!AL38","v":0},{"$f":"'Inputs by customer type'!AM38","v":0},{"$f":"'Inputs by customer type'!AN38","v":0},{"$f":"'Inputs by customer type'!AO38","v":0},{"$f":"'Inputs by customer type'!AP38","v":0}]
[null,null,null,null,null,"Reactive power units","MVArh",null,null,{"$f":"'Inputs by customer type'!J39","v":0},{"$f":"'Inputs by customer type'!K39","v":0},{"$f":"'Inputs by customer type'!L39","v":0},{"$f":"'Inputs by customer type'!M39","v":0},{"$f":"'Inputs by customer type'!N39","v":0},{"$f":"'Inputs by customer type'!O39","v":0},{"$f":"'Inputs by customer type'!P39","v":0},{"$f":"'Inputs by customer type'!Q39","v":0},{"$f":"'Inputs by customer type'!R39","v":0},{"$f":"'Inputs by customer type'!S39","v":0},{"$f":"'Inputs by customer type'!T39","v":0},{"$f":"'Inputs by customer type'!U39","v":14.834589525000002},{"$f":"'Inputs by customer type'!V39","v":0},{"$f":"'Inputs by customer type'!W39","v":0},{"$f":"'Inputs by customer type'!X39","v":0},{"$f":"'Inputs by customer type'!Y39","v":0},{"$f":"'Inputs by customer type'!Z39","v":0},{"$f":"'Inputs by customer type'!AA39","v":0},{"$f":"'Inputs by customer type'!AB39","v":0},{"$f":"'Inputs by customer type'!AC39","v":0},{"$f":"'Inputs by customer type'!AD39","v":0},{"$f":"'Inputs by customer type'!AE39","v":0},{"$f":"'Inputs by customer type'!AF39","v":0},{"$f":"'Inputs by customer type'!AG39","v":0},{"$f":"'Inputs by customer type'!AH39","v":0},{"$f":"'Inputs by customer type'!AI39","v":0},{"$f":"'Inputs by customer type'!AJ39","v":0},{"$f":"'Inputs by customer type'!AK39","v":0},{"$f":"'Inputs by customer type'!AL39","v":0},{"$f":"'Inputs by customer type'!AM39","v":0},{"$f":"'Inputs by customer type'!AN39","v":0},{"$f":"'Inputs by customer type'!AO39","v":0},{"$f":"'Inputs by customer type'!AP39","v":0}]
[]
[null,null,null,null,"LDNO HV volume forecast",null,null,null,">",null,null,null,null,null,null,null,null,null,null,null,null,null,null,null,null,null,null,null,null,null,null,null,null,null,null,null,null,null,null,null,null,null,null,"Paragraph 52"]
[null,null,null,null,null,"Rate 1 units","MWh",null,null,{"$f":"'Inputs by customer type'!J42","v":24564.19531178429},{"$f":"'Inputs by customer type'!K42","v":464.41594899914463},{"$f":"'Inputs by customer type'!L42","v":0},{"$f":"'Inputs by customer type'!M42","v":4129.8139227018964},{"$f":"'Inputs by customer type'!N42","v":942.61527578815037},{"$f":"'Inputs by customer type'!O42","v":0},{"$f":"'Inputs by customer type'!P42","v":88.743550193145808},{"$f":"'Inputs by customer type'!Q42","v":0},{"$f":"'Inputs by customer type'!R42","v":0},{"$f":"'Inputs by customer type'!S42","v":0.81137778452211873},{"$f":"'Inputs by customer type'!T42","v":65.635549277321076},{"$f":"'Inputs by customer type'!U42","v":5542.6185653095554},{"$f":"'Inputs by customer type'!V42","v":571.13883890710281},{"$f":"'Inputs by customer type'!W42","v":512.07009985423906},{"$f":"'Inputs by customer type'!X42","v":10.445584564800001},{"$f":"'Inputs by customer type'!Y42","v":137.93130276599518},{"$f":"'Inputs by customer type'!Z42","v":0},{"$f":"'Inputs by customer type'!AA42","v":0},{"$f":"'Inputs by customer type'!AB42","v":0},{"$f":"'Inputs by customer type'!AC42","v":0},{"$f":"'Inputs by customer type'!AD42","v":0},{"$f":"'Inputs by customer type'!AE42","v":305.36005342499999},{"$f":"'Inputs by customer type'!AF42","v":0},{"$f":"'Inputs by customer type'!AG42","v":0},{"$f":"'Inputs by customer type'!AH42","v":0},{"$f":"'Inputs by customer type'!AI42","v":0},{"$f":"'Inputs by customer type'!AJ42","v":0},{"$f":"'Inputs by customer type'!AK42","v":0},{"$f":"'Inputs by customer type'!AL42","v":0},{"$f":"'Inputs by customer type'!AM42","v":0},{"$f":"'Inputs by customer type'!AN42","v":0},{"$f":"'Inputs by customer type'!AO42","v":0},{"$f":"'Inputs by customer type'!AP42","v":0}]
[null,null,null,null,null,"Rate 2 units","MWh",null,null,{"$f":"'Inputs by customer type'!J43","v":0},{"$f":"'Inputs by customer type'!K43","v":292.2251926548891},{"$f":"'Inputs by customer type'!L43","v":0},{"$f":"'Inputs by customer type'!M43","v":0},{"$f":"'Inputs by customer type'!N43","v":180.18950954978536},{"$f":"'Inputs by customer type'!O43","v":0},{"$f":"'Inputs by customer type'!P43","v":26.469039248688965},{"$f":"'Inputs by customer type'!Q43","v":0},{"$f":"'Inputs by customer type'!R43","v":0},{"$f":"'Inputs by customer type'!S43","v":3.875884997935704},{"$f":"'Inputs by customer type'!T43","v":311.91409432517804},{"$f":"'Inputs by customer type'!U43","v":30314.078988702819},{"$f":"'Inputs by customer type'!V43","v":2987.3187525304593},{"$f":"'Inputs by customer type'!W43","v":2994.9222426084402},{"$f":"'Inputs by customer type'!X43","v":0},{"$f":"'Inputs by customer type'!Y43","v":0},{"$f":"'Inputs by customer type'!Z43","v":0},{"$f":"'Inputs by customer type'!AA43","v":0},{"$f":"'Inputs by customer type'!AB43","v":0},{"$f":"'Inputs by customer type'!AC43","v":0},{"$f":"'Inputs by customer type'!AD43","v":0},{"$f":"'Inputs by customer type'!AE43","v":0},{"$f":"'Inputs by customer type'!AF43","v":0},{"$f":"'Inputs by customer type'!AG43","v":0},{"$f":"'Inputs by customer type'!AH43","v":0},{"$f":"'Inputs by customer type'!AI43","v":0},{"$f":"'Inputs by customer type'!AJ43","v":0},{"$f":"'Inputs by customer type'!AK43","v":0},{"$f":"'Inputs by customer type'!AL43","v":0},{"$f":"'Inputs by customer type'!AM43","v":0},{"$f":"'Inputs by customer type'!AN43","v":0},{"$f":"'Inputs by customer type'!AO43","v":0},{"$f":"'Inputs by customer type'!AP43","v":0}]
[null,null,null,null,null,"Rate 3 units","MWh",null,null,{"$f":"'Inputs by customer type'!J44","v":0},{"$f":"'Inputs by customer type'!K44","v":0},{"$f":"'Inputs by customer type'!L44","v":0},{"$f":"'Inputs by customer type'!M44","v":0},{"$f":"'Inputs by customer type'!N44","v":0},{"$f":"'Inputs by customer type'!O44","v":0},{"$f":"'Inputs by customer type'!P44","v":0},{"$f":"'Inputs by customer type'!Q44","v":0},{"$f":"'Inputs by customer type'!R44","v":0},{"$f":"'Inputs by customer type'!S44","v":3.3576720164119211},{"$f":"'Inputs by customer type'!T44","v":164.82166790265748},{"$f":"'Inputs by customer type'!U44","v":27506.219085053363},{"$f":"'Inputs by customer type'!V44","v":2627.1066638693223},{"$f":"'Inputs by customer type'!W44","v":2328.4884555701974},{"$f":"'Inputs by customer type'!X44","v":0},{"$f":"'Inputs by customer type'!Y44","v":0},{"$f":"'Inputs by customer type'!Z44","v":0},{"$f":"'Inputs by customer type'!AA44","v":0},{"$f":"'Inputs by customer type'!AB44","v":0},{"$f":"'Inputs by customer type'!AC44","v":0},{"$f":"'Inputs by customer type'!AD44","v":0},{"$f":"'Inputs by customer type'!AE44","v":0},{"$f":"'Inputs by customer type'!AF44","v":0},{"$f":"'Inputs by customer type'!AG44","v":0},{"$f":"'Inputs by customer type'!AH44","v":0},{"$f":"'Inputs by customer type'!AI44","v":0},{"$f":"'Inputs by customer type'!AJ44","v":0},{"$f":"'Inputs by customer type'!AK44","v":0},{"$f":"'Inputs by customer type'!AL44","v":0},{"$f":"'Inputs by customer type'!AM44","v":0},{"$f":"'Inputs by customer type'!AN44","v":0},{"$f":"'Inputs by customer type'!AO44","v":0},{"$f":"'Inputs by customer type'!AP44","v":0}]
[null,null,null,null,null,"MPANs","MPANs",null,null,{"$f":"'Inputs by customer type'!J45","v":9766.6696294520552},{"$f":"'Inputs by customer type'!K45","v":216.71646164383566},{"$f":"'Inputs by customer type'!L45","v":0},{"$f":"'Inputs by customer type'!M45","v":154.91151986301372},{"$f":"'Inputs by customer type'!N45","v":11.66535616438356},{"$f":"'Inputs by customer type'!O45","v":0},{"$f":"'Inputs by customer type'!P45","v":2.4327493150684933},{"$f":"'Inputs by customer type'!Q45","v":0},{"$f":"'Inputs by customer type'!R45","v":0},{"$f":"'Inputs by customer type'!S45","v":4.1562739726027402},{"$f":"'Inputs by customer type'!T45","v":5.8326780821917819},{"$f":"'Inputs by customer type'!U45","v":131.47297397260274},{"$f":"'Inputs by customer type'!V45","v":4.5631417808219181},{"$f":"'Inputs by customer type'!W45","v":6.2591794520547932},{"$f":"'Inputs by customer type'!X45","v":0},{"$f":"'Inputs by customer type'!Y45","v":0},{"$f":"'Inputs by customer type'!Z45","v":0},{"$f":"'Inputs by customer type'!AA45","v":0},{"$f":"'Inputs by customer type'!AB45","v":0},{"$f":"'Inputs by customer type'!AC45","v":0},{"$f":"'Inputs by customer type'!AD45","v":0},{"$f":"'Inputs by customer type'!AE45","v":4.2580664383561651},{"$f":"'Inputs by customer type'!AF45","v":0},{"$f":"'Inputs by customer type'!AG45","v":0},{"$f":"'Inputs by customer type'!AH45","v":0},{"$f":"'Inputs by customer type'!AI45","v":0},{"$f":"'Inputs by customer type'!AJ45","v":0},{"$f":"'Inputs by customer type'!AK45","v":0},{"$f":"'Inputs by customer type'!AL45","v":0},{"$f":"'Inputs by customer type'!AM45","v":0},{"$f":"'Inputs by customer type'!AN45","v":0},{"$f":"'Inputs by customer type'!AO45","v":0},{"$f":"'Inputs by customer type'!AP45","v":0}]
[null,null,null,null,null,"Import capacity","kVA",null,null,{"$f":"'Inputs by customer type'!J46","v":0},{"$f":"'Inputs by customer type'!K46","v":0},{"$f":"'Inputs by customer type'!L46","v":0},{"$f":"'Inputs by customer type'!M46","v":0},{"$f":"'Inputs by customer type'!N46","v":0},{"$f":"'Inputs by customer type'!O46","v":0},{"$f":"'Inputs by customer type'!P46","v":0},{"$f":"'Inputs by customer type'!Q46","v":0},{"$f":"'Inputs by customer type'!R46","v":0},{"$f":"'Inputs by customer type'!S46","v":0},{"$f":"'Inputs by customer type'!T46","v":0},{"$f":"'Inputs by customer type'!U46","v":40518.199208219179},{"$f":"'Inputs by customer type'!V46","v":3166.4392027397257},{"$f":"'Inputs by customer type'!W46","v":2548.6042438356171},{"$f":"'Inputs by customer type'!X46","v":0},{"$f":"'Inputs by customer type'!Y46","v":0},{"$f":"'Inputs by customer type'!Z46","v":0},{"$f":"'Inputs by customer type'!AA46","v":0},{"$f":"'Inputs by customer type'!AB46","v":0},{"$f":"'Inputs by customer type'!AC46","v":0},{"$f":"'Inputs by customer type'!AD46","v":0},{"$f":"'Inputs by customer type'!AE46","v":0},{"$f":"'Inputs by customer type'!AF46","v":0},{"$f":"'Inputs by customer type'!AG46","v":0},{"$f":"'Inputs by customer type'!AH46","v":0},{"$f":"'Inputs by customer type'!AI46","v":0},{"$f":"'Inputs by customer type'!AJ46","v":0},{"$f":"'Inputs by customer type'!AK46","v":0},{"$f":"'Inputs by customer type'!AL46","v":0},{"$f":"'Inputs by customer type'!AM46","v":0},{"$f":"'Inputs by customer type'!AN46","v":0},{"$f":"'Inputs by customer type'!AO46","v":0},{"$f":"'Inputs by customer type'!AP46","v":0}]
[null,null,null,null,null,"Exceeded capacity","kVA",null,null,{"$f":"'Inputs by customer type'!J47","v":0},{"$f":"'Inputs by customer type'!K47","v":0},{"$f":"'Inputs by customer type'!L47","v":0},{"$f":"'Inputs by customer type'!M47","v":0},{"$f":"'Inputs by customer type'!N47","v":0},{"$f":"'Inputs by customer type'!O47","v":0},{"$f":"'Inputs by customer type'!P47","v":0},{"$f":"'Inputs by customer type'!Q47","v":0},{"$f":"'Inputs by customer type'!R47","v":0},{"$f":"'Inputs by customer type'!S47","v":0},{"$f":"'Inputs by customer type'!T47","v":0},{"$f":"'Inputs by customer type'!U47","v":118.37315958904112},{"$f":"'Inputs by customer type'!V47","v":0},{"$f":"'Inputs by customer type'!W47","v":0},{"$f":"'Inputs by customer type'!X47","v":0},{"$f":"'Inputs by customer type'!Y47","v":0},{"$f":"'Inputs by customer type'!Z47","v":0},{"$f":"'Inputs by customer type'!AA47","v":0},{"$f":"'Inputs by customer type'!AB47","v":0},{"$f":"'Inputs by customer type'!AC47","v":0},{"$f":"'Inputs by customer type'!AD47","v":0},{"$f":"'Inputs by customer type'!AE47","v":0},{"$f":"'Inputs by customer type'!AF47","v":0},{"$f":"'Inputs by customer type'!AG47","v":0},{"$f":"'Inputs by customer type'!AH47","v":0},{"$f":"'Inputs by customer type'!AI47","v":0},{"$f":"'Inputs by customer type'!AJ47","v":0},{"$f":"'Inputs by customer type'!AK47","v":0},{"$f":"'Inputs by customer type'!AL47","v":0},{"$f":"'Inputs by customer type'!AM47","v":0},{"$f":"'Inputs by customer type'!AN47","v":0},{"$f":"'Inputs by customer type'!AO47","v":0},{"$f":"'Inputs by customer type'!AP47","v":0}]
[null,null,null,null,null,"Reactive power units","MVArh",null,null,{"$f":"'Inputs by customer type'!J48","v":0},{"$f":"'Inputs by customer type'!K48","v":0},{"$f":"'Inputs by customer type'!L48","v":0},{"$f":"'Inputs by customer type'!M48","v":0},{"$f":"'Inputs by customer type'!N48","v":0},{"$f":"'Inputs by customer type'!O48","v":0},{"$f":"'Inputs by customer type'!P48","v":0},{"$f":"'Inputs by customer type'!Q48","v":0},{"$f":"'Inputs by customer type'!R48","v":0},{"$f":"'Inputs by customer type'!S48","v":0},{"$f":"'Inputs by customer type'!T48","v":0},{"$f":"'Inputs by customer type'!U48","v":2294.5550166000003},{"$f":"'Inputs by customer type'!V48","v":81.343651724999987},{"$f":"'Inputs by customer type'!W48","v":69.052551750000006},{"$f":"'Inputs by customer type'!X48","v":0},{"$f":"'Inputs by customer type'!Y48","v":0},{"$f":"'Inputs by customer type'!Z48","v":0},{"$f":"'Inputs by customer type'!AA48","v":0},{"$f":"'Inputs by customer type'!AB48","v":0},{"$f":"'Inputs by customer type'!AC48","v":0},{"$f":"'Inputs by customer type'!AD48","v":0},{"$f":"'Inputs by customer type'!AE48","v":89.370855000000006},{"$f":"'Inputs by customer type'!AF48","v":0},{"$f":"'Inputs by customer type'!AG48","v":0},{"$f":"'Inputs by customer type'!AH48","v":0},{"$f":"'Inputs by customer type'!AI48","v":0},{"$f":"'Inputs by customer type'!AJ48","v":0},{"$f":"'Inputs by customer type'!AK48","v":0},{"$f":"'Inputs by customer type'!AL48","v":0},{"$f":"'Inputs by customer type'!AM48","v":0},{"$f":"'Inputs by customer type'!AN48","v":0},{"$f":"'Inputs by customer type'!AO48","v":0},{"$f":"'Inputs by customer type'!AP48","v":0}]
[]
[null,null,{"$f":"INDEX('Version control'!$H$34:$H$59,MATCH($A$1,'Version control'!$F$34:$F$59,0),1)&\"-B: Tariff forecast\"","v":"Section 520-B: Tariff forecast"}]
[]
[null,null,null,null,"All the way tariff forecast",null,null,null,">",null,null,null,null,null,null,null,null,null,null,null,null,null,null,null,null,null,null,null,null,null,null,null,null,null,null,null,null,null,null,null,null,null,null,"Paragraph 14"]
[null,null,null,null,null,"Unit rate 1","p/kWh",null,null,{"$f":"Rounding!J89","v":3.58},{"$f":"Rounding!K89","v":3.77},{"$f":"Rounding!L89","v":1.988},{"$f":"Rounding!M89","v":2.9529999999999998},{"$f":"Rounding!N89","v":3.3969999999999998},{"$f":"Rounding!O89","v":1.99},{"$f":"Rounding!P89","v":3.214},{"$f":"Rounding!Q89","v":3.0960000000000001},{"$f":"Rounding!R89","v":2.52},{"$f":"Rounding!S89","v":13.285},{"$f":"Rounding!T89","v":11.646000000000001},{"$f":"Rounding!U89","v":9.5060000000000002},{"$f":"Rounding!V89","v":7.375},{"$f":"Rounding!W89","v":6.1139999999999999},{"$f":"Rounding!X89","v":3.964},{"$f":"Rounding!Y89","v":4.2569999999999997},{"$f":"Rounding!Z89","v":5.1440000000000001},{"$f":"Rounding!AA89","v":3.6819999999999999},{"$f":"Rounding!AB89","v":28.826000000000001},{"$f":"Rounding!AC89","v":-0.95599999999999996},{"$f":"Rounding!AD89","v":-0.872},{"$f":"Rounding!AE89","v":-0.95599999999999996},{"$f":"Rounding!AF89","v":-0.95599999999999996},{"$f":"Rounding!AG89","v":-8.01},{"$f":"Rounding!AH89","v":-8.01},{"$f":"Rounding!AI89","v":-0.872},{"$f":"Rounding!AJ89","v":-0.872},{"$f":"Rounding!AK89","v":-7.29},{"$f":"Rounding!AL89","v":-7.29},{"$f":"Rounding!AM89","v":-0.59399999999999997},{"$f":"Rounding!AN89","v":-0.59399999999999997},{"$f":"Rounding!AO89","v":-4.9269999999999996},{"$f":"Rounding!AP89","v":-4.9269999999999996}]
[null,null,null,null,null,"Unit rate 2","p/kWh",null,null,{"$f":"Rounding!J90","v":0},{"$f":"Rounding!K90","v":2.0049999999999999},{"$f":"Rounding!L90","v":0},{"$f":"Rounding!M90","v":0},{"$f":"Rounding!N90","v":2.008},{"$f":"Rounding!O90","v":0},{"$f":"Rounding!P90","v":1.9470000000000001},{"$f":"Rounding!Q90","v":1.9390000000000001},{"$f":"Rounding!R90","v":1.8839999999999999},{"$f":"Rounding!S90","v":2.62},{"$f":"Rounding!T90","v":2.4929999999999999},{"$f":"Rounding!U90","v":2.3180000000000001},{"$f":"Rounding!V90","v":2.1389999999999998},{"$f":"Rounding!W90","v":2.036},{"$f":"Rounding!X90","v":0},{"$f":"Rounding!Y90","v":0},{"$f":"Rounding!Z90","v":0},{"$f":"Rounding!AA90","v":0},{"$f":"Rounding!AB90","v":3.8380000000000001},{"$f":"Rounding!AC90","v":0},{"$f":"Rounding!AD90","v":0},{"$f":"Rounding!AE90","v":0},{"$f":"Rounding!AF90","v":0},{"$f":"Rounding!AG90","v":-0.62},{"$f":"Rounding!AH90","v":-0.62},{"$f":"Rounding!AI90","v":0},{"$f":"Rounding!AJ90","v":0},{"$f":"Rounding!AK90","v":-0.55900000000000005},{"$f":"Rounding!AL90","v":-0.55900000000000005},{"$f":"Rounding!AM90","v":0},{"$f":"Rounding!AN90","v":0},{"$f":"Rounding!AO90","v":-0.35699999999999998},{"$f":"Rounding!AP90","v":-0.35699999999999998}]
[null,null,null,null,null,"Unit rate 3","p/kWh",null,null,{"$f":"Rounding!J91","v":0},{"$f":"Rounding!K91","v":0},{"$f":"Rounding!L91","v":0},{"$f":"Rounding!M91","v":0},{"$f":"Rounding!N91","v":0},{"$f":"Rounding!O91","v":0},{"$f":"Rounding!P91","v":0},{"$f":"Rounding!Q91","v":0},{"$f":"Rounding!R91","v":0},{"$f":"Rounding!S91","v":1.9990000000000001},{"$f":"Rounding!T91","v":1.96},{"$f":"Rounding!U91","v":1.923},{"$f":"Rounding!V91","v":1.8919999999999999},{"$f":"Rounding!W91","v":1.8620000000000001},{"$f":"Rounding!X91","v":0},{"$f":"Rounding!Y91","v":0},{"$f":"Rounding!Z91","v":0},{"$f":"Rounding!AA91","v":0},{"$f":"Rounding!AB91","v":3.0019999999999998},{"$f":"Rounding!AC91","v":0},{"$f":"Rounding!AD91","v":0},{"$f":"Rounding!AE91","v":0},{"$f":"Rounding!AF91","v":0},{"$f":"Rounding!AG91","v":-0.189},{"$f":"Rounding!AH91","v":-0.189},{"$f":"Rounding!AI91","v":0},{"$f":"Rounding!AJ91","v":0},{"$f":"Rounding!AK91","v":-0.17899999999999999},{"$f":"Rounding!AL91","v":-0.17899999999999999},{"$f":"Rounding!AM91","v":0},{"$f":"Rounding!AN91","v":0},{"$f":"Rounding!AO91","v":-0.14799999999999999},{"$f":"Rounding!AP91","v":-0.14799999999999999}]
[null,null,null,null,null,"Fixed charge","p/MPAN/day",null,null,{"$f":"Rounding!J92","v":5},{"$f":"Rounding!K92","v":5},{"$f":"Rounding!L92","v":0},{"$f":"Rounding!M92","v":9.9600000000000009},{"$f":"Rounding!N92","v":9.9600000000000009},{"$f":"Rounding!O92","v":0},{"$f":"Rounding!P92","v":44.83},{"$f":"Rounding!Q92","v":22.82},{"$f":"Rounding!R92","v":146.76},{"$f":"Rounding!S92","v":5},{"$f":"Rounding!T92","v":9.9600000000000009},{"$f":"Rounding!U92","v":15.02},{"$f":"Rounding!V92","v":11.73},{"$f":"Rounding!W92","v":108.25},{"$f":"Rounding!X92","v":0},{"$f":"Rounding!Y92","v":0},{"$f":"Rounding!Z92","v":0},{"$f":"Rounding!AA92","v":0},{"$f":"Rounding!AB92","v":0},{"$f":"Rounding!AC92","v":0},{"$f":"Rounding!AD92","v":0},{"$f":"Rounding!AE92","v":0},{"$f":"Rounding!AF92","v":0},{"$f":"Rounding!AG92","v":0},{"$f":"Rounding!AH92","v":0},{"$f":"Rounding!AI92","v":0},{"$f":"Rounding!AJ92","v":0},{"$f":"Rounding!AK92","v":0},{"$f":"Rounding!AL92","v":0},{"$f":"Rounding!AM92","v":67.75},{"$f":"Rounding!AN92","v":67.75},{"$f":"Rounding!AO92","v":67.75},{"$f":"Rounding!AP92","v":67.75}]
[null,null,null,null,null,"Capacity charge","p/kVA/day",null,null,{"$f":"Rounding!J93","v":0},{"$f":"Rounding!K93","v":0},{"$f":"Rounding!L93","v":0},{"$f":"Rounding!M93","v":0},{"$f":"Rounding!N93","v":0},{"$f":"Rounding!O93","v":0},{"$f":"Rounding!P93","v":0},{"$f":"Rounding!Q93","v":0},{"$f":"Rounding!R93","v":0},{"$f":"Rounding!S93","v":0},{"$f":"Rounding!T93","v":0},{"$f":"Rounding!U93","v":3.62},{"$f":"Rounding!V93","v":4.08},{"$f":"Rounding!W93","v":4.1500000000000004},{"$f":"Rounding!X93","v":0},{"$f":"Rounding!Y93","v":0},{"$f":"Rounding!Z93","v":0},{"$f":"Rounding!AA93","v":0},{"$f":"Rounding!AB93","v":0},{"$f":"Rounding!AC93","v":0},{"$f":"Rounding!AD93","v":0},{"$f":"Rounding!AE93","v":0},{"$f":"Rounding!AF93","v":0},{"$f":"Rounding!AG93","v":0},{"$f":"Rounding!AH93","v":0},{"$f":"Rounding!AI93","v":0},{"$f":"Rounding!AJ93","v":0},{"$f":"Rounding!AK93","v":0},{"$f":"Rounding!AL93","v":0},{"$f":"Rounding!AM93","v":0},{"$f":"Rounding!AN93","v":0},{"$f":"Rounding!AO93","v":0},{"$f":"Rounding!AP93","v":0}]
[null,null,null,null,null,"Exceeded capacity charge","p/kVA/day",null,null,{"$f":"Rounding!J94","v":0},{"$f":"Rounding!K94","v":0},{"$f":"Rounding!L94","v":0},{"$f":"Rounding!M94","v":0},{"$f":"Rounding!N94","v":0},{"$f":"Rounding!O94","v":0},{"$f":"Rounding!P94","v":0},{"$f":"Rounding!Q94","v":0},{"$f":"Rounding!R94","v":0},{"$f":"Rounding!S94","v":0},{"$f":"Rounding!T94","v":0},{"$f":"Rounding!U94","v":7.75},{"$f":"Rounding!V94","v":7.63},{"$f":"Rounding!W94","v":8.08},{"$f":"Rounding!X94","v":0},{"$f":"Rounding!Y94","v":0},{"$f":"Rounding!Z94","v":0},{"$f":"Rounding!AA94","v":0},{"$f":"Rounding!AB94","v":0},{"$f":"Rounding!AC94","v":0},{"$f":"Rounding!AD94","v":0},{"$f":"Rounding!AE94","v":0},{"$f":"Rounding!AF94","v":0},{"$f":"Rounding!AG94","v":0},{"$f":"Rounding!AH94","v":0},{"$f":"Rounding!AI94","v":0},{"$f":"Rounding!AJ94","v":0},{"$f":"Rounding!AK94","v":0},{"$f":"Rounding!AL94","v":0},{"$f":"Rounding!AM94","v":0},{"$f":"Rounding!AN94","v":0},{"$f":"Rounding!AO94","v":0},{"$f":"Rounding!AP94","v":0}]
[null,null,null,null,null,"Reactive power charge","p/kVArh",null,null,{"$f":"Rounding!J95","v":0},{"$f":"Rounding!K95","v":0},{"$f":"Rounding!L95","v":0},{"$f":"Rounding!M95","v":0},{"$f":"Rounding!N95","v":0},{"$f":"Rounding!O95","v":0},{"$f":"Rounding!P95","v":0},{"$f":"Rounding!Q95","v":0},{"$f":"Rounding!R95","v":0},{"$f":"Rounding!S95","v":0},{"$f":"Rounding!T95","v":0},{"$f":"Rounding!U95","v":0.31900000000000001},{"$f":"Rounding!V95","v":0.23},{"$f":"Rounding!W95","v":0.16900000000000001},{"$f":"Rounding!X95","v":0},{"$f":"Rounding!Y95","v":0},{"$f":"Rounding!Z95","v":0},{"$f":"Rounding!AA95","v":0},{"$f":"Rounding!AB95","v":0},{"$f":"Rounding!AC95","v":0},{"$f":"Rounding!AD95","v":0},{"$f":"Rounding!AE95","v":0.34399999999999997},{"$f":"Rounding!AF95","v":0},{"$f":"Rounding!AG95","v":0.34399999999999997},{"$f":"Rounding!AH95","v":0},{"$f":"Rounding!AI95","v":0.28999999999999998},{"$f":"Rounding!AJ95","v":0},{"$f":"Rounding!AK95","v":0.28999999999999998},{"$f":"Rounding!AL95","v":0},{"$f":"Rounding!AM95","v":0.24199999999999999},{"$f":"Rounding!AN95","v":0},{"$f":"Rounding!AO95","v":0.24199999999999999},{"$f":"Rounding!AP95","v":0}]
[]
[null,null,null,null,"LDNO LV tariff forecast",null,null,null,">",null,null,null,null,null,null,null,null,null,null,null,null,null,null,null,null,null,null,null,null,null,null,null,null,null,null,null,null,null,null,null,null,null,null,"Paragraph 14"]
[null,null,null,null,null,"Unit rate 1","p/kWh",null,null,{"$f":"Rounding!J98","v":2.4089999999999998},{"$f":"Rounding!K98","v":2.536},{"$f":"Rounding!L98","v":1.337},{"$f":"Rounding!M98","v":1.9870000000000001},{"$f":"Rounding!N98","v":2.2850000000000001},{"$f":"Rounding!O98","v":1.339},{"$f":"Rounding!P98","v":2.1619999999999999},{"$f":"Rounding!Q98","v":0},{"$f":"Rounding!R98","v":0},{"$f":"Rounding!S98","v":8.9380000000000006},{"$f":"Rounding!T98","v":7.835},{"$f":"Rounding!U98","v":6.3949999999999996},{"$f":"Rounding!V98","v":0},{"$f":"Rounding!W98","v":0},{"$f":"Rounding!X98","v":2.6669999999999998},{"$f":"Rounding!Y98","v":2.8639999999999999},{"$f":"Rounding!Z98","v":3.4609999999999999},{"$f":"Rounding!AA98","v":2.4769999999999999},{"$f":"Rounding!AB98","v":19.393999999999998},{"$f":"Rounding!AC98","v":-0.95599999999999996},{"$f":"Rounding!AD98","v":0},{"$f":"Rounding!AE98","v":-0.95599999999999996},{"$f":"Rounding!AF98","v":0},{"$f":"Rounding!AG98","v":-8.01},{"$f":"Rounding!AH98","v":0},{"$f":"Rounding!AI98","v":0},{"$f":"Rounding!AJ98","v":0},{"$f":"Rounding!AK98","v":0},{"$f":"Rounding!AL98","v":0},{"$f":"Rounding!AM98","v":0},{"$f":"Rounding!AN98","v":0},{"$f":"Rounding!AO98","v":0},{"$f":"Rounding!AP98","v":0}]
[null,null,null,null,null,"Unit rate 2","p/kWh",null,null,{"$f":"Rounding!J99","v":0},{"$f":"Rounding!K99","v":1.349},{"$f":"Rounding!L99","v":0},{"$f":"Rounding!M99","v":0},{"$f":"Rounding!N99","v":1.351},{"$f":"Rounding!O99","v":0},{"$f":"Rounding!P99","v":1.31},{"$f":"Rounding!Q99","v":0},{"$f":"Rounding!R99","v":0},{"$f":"Rounding!S99","v":1.7629999999999999},{"$f":"Rounding!T99","v":1.677},{"$f":"Rounding!U99","v":1.56},{"$f":"Rounding!V99","v":0},{"$f":"Rounding!W99","v":0},{"$f":"Rounding!X99","v":0},{"$f":"Rounding!Y99","v":0},{"$f":"Rounding!Z99","v":0},{"$f":"Rounding!AA99","v":0},{"$f":"Rounding!AB99","v":2.5819999999999999},{"$f":"Rounding!AC99","v":0},{"$f":"Rounding!AD99","v":0},{"$f":"Rounding!AE99","v":0},{"$f":"Rounding!AF99","v":0},{"$f":"Rounding!AG99","v":-0.62},{"$f":"Rounding!AH99","v":0},{"$f":"Rounding!AI99","v":0},{"$f":"Rounding!AJ99","v":0},{"$f":"Rounding!AK99","v":0},{"$f":"Rounding!AL99","v":0},{"$f":"Rounding!AM99","v":0},{"$f":"Rounding!AN99","v":0},{"$f":"Rounding!AO99","v":0},{"$f":"Rounding!AP99","v":0}]
[null,null,null,null,null,"Unit rate 3","p/kWh",null,null,{"$f":"Rounding!J100","v":0},{"$f":"Rounding!K100","v":0},{"$f":"Rounding!L100","v":0},{"$f":"Rounding!M100","v":0},{"$f":"Rounding!N100","v":0},{"$f":"Rounding!O100","v":0},{"$f":"Rounding!P100","v":0},{"$f":"Rounding!Q100","v":0},{"$f":"Rounding!R100","v":0},{"$f":"Rounding!S100","v":1.345},{"$f":"Rounding!T100","v":1.319},{"$f":"Rounding!U100","v":1.294},{"$f":"Rounding!V100","v":0},{"$f":"Rounding!W100","v":0},{"$f":"Rounding!X100","v":0},{"$f":"Rounding!Y100","v":0},{"$f":"Rounding!Z100","v":0},{"$f":"Rounding!AA100","v":0},{"$f":"Rounding!AB100","v":2.02},{"$f":"Rounding!AC100","v":0},{"$f":"Rounding!AD100","v":0},{"$f":"Rounding!AE100","v":0},{"$f":"Rounding!AF100","v":0},{"$f":"Rounding!AG100","v":-0.189},{"$f":"Rounding!AH100","v":0},{"$f":"Rounding!AI100","v":0},{"$f":"Rounding!AJ100","v":0},{"$f":"Rounding!AK100","v":0},{"$f":"Rounding!AL100","v":0},{"$f":"Rounding!AM100","v":0},{"$f":"Rounding!AN100","v":0},{"$f":"Rounding!AO100","v":0},{"$f":"Rounding!AP100","v":0}]
[null,null,null,null,null,"Fixed charge","p/MPAN/day",null,null,{"$f":"Rounding!J101","v":3.36},{"$f":"Rounding!K101","v":3.36},{"$f":"Rounding!L101","v":0},{"$f":"Rounding!M101","v":6.7},{"$f":"Rounding!N101","v":6.7},{"$f":"Rounding!O101","v":0},{"$f":"Rounding!P101","v":30.16},{"$f":"Rounding!Q101","v":0},{"$f":"Rounding!R101","v":0},{"$f":"Rounding!S101","v":3.36},{"$f":"Rounding!T101","v":6.7},{"$f":"Rounding!U101","v":10.11},{"$f":"Rounding!V101","v":0},{"$f":"Rounding!W101","v":0},{"$f":"Rounding!X101","v":0},{"$f":"Rounding!Y101","v":0},{"$f":"Rounding!Z101","v":0},{"$f":"Rounding!AA101","v":0},{"$f":"Rounding!AB101","v":0},{"$f":"Rounding!AC101","v":0},{"$f":"Rounding!AD101","v":0},{"$f":"Rounding!AE101","v":0},{"$f":"Rounding!AF101","v":0},{"$f":"Rounding!AG101","v":0},{"$f":"Rounding!AH101","v":0},{"$f":"Rounding!AI101","v":0},{"$f":"Rounding!AJ101","v":0},{"$f":"Rounding!AK101","v":0},{"$f":"Rounding!AL101","v":0},{"$f":"Rounding!AM101","v":0},{"$f":"Rounding!AN101","v":0},{"$f":"Rounding!AO101","v":0},{"$f":"Rounding!AP101","v":0}]
[null,null,null,null,null,"Capacity charge","p/kVA/day",null,null,{"$f":"Rounding!J102","v":0},{"$f":"Rounding!K102","v":0},{"$f":"Rounding!L102","v":0},{"$f":"Rounding!M102","v":0},{"$f":"Rounding!N102","v":0},{"$f":"Rounding!O102","v":0},{"$f":"Rounding!P102","v":0},{"$f":"Rounding!Q102","v":0},{"$f":"Rounding!R102","v":0},{"$f":"Rounding!S102","v":0},{"$f":"Rounding!T102","v":0},{"$f":"Rounding!U102","v":2.44},{"$f":"Rounding!V102","v":0},{"$f":"Rounding!W102","v":0},{"$f":"Rounding!X102","v":0},{"$f":"Rounding!Y102","v":0},{"$f":"Rounding!Z102","v":0},{"$f":"Rounding!AA102","v":0},{"$f":"Rounding!AB102","v":0},{"$f":"Rounding!AC102","v":0},{"$f":"Rounding!AD102","v":0},{"$f":"Rounding!AE102","v":0},{"$f":"Rounding!AF102","v":0},{"$f":"Rounding!AG102","v":0},{"$f":"Rounding!AH102","v":0},{"$f":"Rounding!AI102","v":0},{"$f":"Rounding!AJ102","v":0},{"$f":"Rounding!AK102","v":0},{"$f":"Rounding!AL102","v":0},{"$f":"Rounding!AM102","v":0},{"$f":"Rounding!AN102","v":0},{"$f":"Rounding!AO102","v":0},{"$f":"Rounding!AP102","v":0}]
[null,null,null,null,null,"Exceeded capacity charge","p/kVA/day",null,null,{"$f":"Rounding!J103","v":0},{"$f":"Rounding!K103","v":0},{"$f":"Rounding!L103","v":0},{"$f":"Rounding!M103","v":0},{"$f":"Rounding!N103","v":0},{"$f":"Rounding!O103","v":0},{"$f":"Rounding!P103","v":0},{"$f":"Rounding!Q103","v":0},{"$f":"Rounding!R103","v":0},{"$f":"Rounding!S103","v":0},{"$f":"Rounding!T103","v":0},{"$f":"Rounding!U103","v":5.21},{"$f":"Rounding!V103","v":0},{"$f":"Rounding!W103","v":0},{"$f":"Rounding!X103","v":0},{"$f":"Rounding!Y103","v":0},{"$f":"Rounding!Z103","v":0},{"$f":"Rounding!AA103","v":0},{"$f":"Rounding!AB103","v":0},{"$f":"Rounding!AC103","v":0},{"$f":"Rounding!AD103","v":0},{"$f":"Rounding!AE103","v":0},{"$f":"Rounding!AF103","v":0},{"$f":"Rounding!AG103","v":0},{"$f":"Rounding!AH103","v":0},{"$f":"Rounding!AI103","v":0},{"$f":"Rounding!AJ103","v":0},{"$f":"Rounding!AK103","v":0},{"$f":"Rounding!AL103","v":0},{"$f":"Rounding!AM103","v":0},{"$f":"Rounding!AN103","v":0},{"$f":"Rounding!AO103","v":0},{"$f":"Rounding!AP103","v":0}]
[null,null,null,null,null,"Reactive power charge","p/kVArh",null,null,{"$f":"Rounding!J104","v":0},{"$f":"Rounding!K104","v":0},{"$f":"Rounding!L104","v":0},{"$f":"Rounding!M104","v":0},{"$f":"Rounding!N104","v":0},{"$f":"Rounding!O104","v":0},{"$f":"Rounding!P104","v":0},{"$f":"Rounding!Q104","v":0},{"$f":"Rounding!R104","v":0},{"$f":"Rounding!S104","v":0},{"$f":"Rounding!T104","v":0},{"$f":"Rounding!U104","v":0.215},{"$f":"Rounding!V104","v":0},{"$f":"Rounding!W104","v":0},{"$f":"Rounding!X104","v":0},{"$f":"Rounding!Y104","v":0},{"$f":"Rounding!Z104","v":0},{"$f":"Rounding!AA104","v":0},{"$f":"Rounding!AB104","v":0},{"$f":"Rounding!AC104","v":0},{"$f":"Rounding!AD104","v":0},{"$f":"Rounding!AE104","v":0.34399999999999997},{"$f":"Rounding!AF104","v":0},{"$f":"Rounding!AG104","v":0.34399999999999997},{"$f":"Rounding!AH104","v":0},{"$f":"Rounding!AI104","v":0},{"$f":"Rounding!AJ104","v":0},{"$f":"Rounding!AK104","v":0},{"$f":"Rounding!AL104","v":0},{"$f":"Rounding!AM104","v":0},{"$f":"Rounding!AN104","v":0},{"$f":"Rounding!AO104","v":0},{"$f":"Rounding!AP104","v":0}]
[]
[null,null,null,null,"LDNO HV tariff forecast",null,null,null,">",null,null,null,null,null,null,null,null,null,null,null,null,null,null,null,null,null,null,null,null,null,null,null,null,null,null,null,null,null,null,null,null,null,null,"Paragraph 14"]
[null,null,null,null,null,"Unit rate 1","p/kWh",null,null,{"$f":"Rounding!J107","v":1.3620000000000001},{"$f":"Rounding!K107","v":1.4350000000000001},{"$f":"Rounding!L107","v":0.75600000000000001},{"$f":"Rounding!M107","v":1.1240000000000001},{"$f":"Rounding!N107","v":1.2929999999999999},{"$f":"Rounding!O107","v":0.75700000000000001},{"$f":"Rounding!P107","v":1.2230000000000001},{"$f":"Rounding!Q107","v":0},{"$f":"Rounding!R107","v":0},{"$f":"Rounding!S107","v":5.0549999999999997},{"$f":"Rounding!T107","v":4.4320000000000004},{"$f":"Rounding!U107","v":3.617},{"$f":"Rounding!V107","v":4.3150000000000004},{"$f":"Rounding!W107","v":4.3079999999999998},{"$f":"Rounding!X107","v":1.508},{"$f":"Rounding!Y107","v":1.62},{"$f":"Rounding!Z107","v":1.9570000000000001},{"$f":"Rounding!AA107","v":1.401},{"$f":"Rounding!AB107","v":10.968999999999999},{"$f":"Rounding!AC107","v":-0.95599999999999996},{"$f":"Rounding!AD107","v":-0.872},{"$f":"Rounding!AE107","v":-0.95599999999999996},{"$f":"Rounding!AF107","v":0},{"$f":"Rounding!AG107","v":-8.01},{"$f":"Rounding!AH107","v":0},{"$f":"Rounding!AI107","v":-0.872},{"$f":"Rounding!AJ107","v":0},{"$f":"Rounding!AK107","v":-7.29},{"$f":"Rounding!AL107","v":0},{"$f":"Rounding!AM107","v":-0.59399999999999997},{"$f":"Rounding!AN107","v":0},{"$f":"Rounding!AO107","v":-4.9269999999999996},{"$f":"Rounding!AP107","v":0}]
[null,null,null,null,null,"Unit rate 2","p/kWh",null,null,{"$f":"Rounding!J108","v":0},{"$f":"Rounding!K108","v":0.76300000000000001},{"$f":"Rounding!L108","v":0},{"$f":"Rounding!M108","v":0},{"$f":"Rounding!N108","v":0.76400000000000001},{"$f":"Rounding!O108","v":0},{"$f":"Rounding!P108","v":0.74099999999999999},{"$f":"Rounding!Q108","v":0},{"$f":"Rounding!R108","v":0},{"$f":"Rounding!S108","v":0.997},{"$f":"Rounding!T108","v":0.94899999999999995},{"$f":"Rounding!U108","v":0.88200000000000001},{"$f":"Rounding!V108","v":1.2509999999999999},{"$f":"Rounding!W108","v":1.4350000000000001},{"$f":"Rounding!X108","v":0},{"$f":"Rounding!Y108","v":0},{"$f":"Rounding!Z108","v":0},{"$f":"Rounding!AA108","v":0},{"$f":"Rounding!AB108","v":1.46},{"$f":"Rounding!AC108","v":0},{"$f":"Rounding!AD108","v":0},{"$f":"Rounding!AE108","v":0},{"$f":"Rounding!AF108","v":0},{"$f":"Rounding!AG108","v":-0.62},{"$f":"Rounding!AH108","v":0},{"$f":"Rounding!AI108","v":0},{"$f":"Rounding!AJ108","v":0},{"$f":"Rounding!AK108","v":-0.55900000000000005},{"$f":"Rounding!AL108","v":0},{"$f":"Rounding!AM108","v":0},{"$f":"Rounding!AN108","v":0},{"$f":"Rounding!AO108","v":-0.35699999999999998},{"$f":"Rounding!AP108","v":0}]
[null,null,null,null,null,"Unit rate 3","p/kWh",null,null,{"$f":"Rounding!J109","v":0},{"$f":"Rounding!K109","v":0},{"$f":"Rounding!L109","v":0},{"$f":"Rounding!M109","v":0},{"$f":"Rounding!N109","v":0},{"$f":"Rounding!O109","v":0},{"$f":"Rounding!P109","v":0},{"$f":"Rounding!Q109","v":0},{"$f":"Rounding!R109","v":0},{"$f":"Rounding!S109","v":0.76100000000000001},{"$f":"Rounding!T109","v":0.746},{"$f":"Rounding!U109","v":0.73199999999999998},{"$f":"Rounding!V109","v":1.107},{"$f":"Rounding!W109","v":1.3120000000000001},{"$f":"Rounding!X109","v":0},{"$f":"Rounding!Y109","v":0},{"$f":"Rounding!Z109","v":0},{"$f":"Rounding!AA109","v":0},{"$f":"Rounding!AB109","v":1.1419999999999999},{"$f":"Rounding!AC109","v":0},{"$f":"Rounding!AD109","v":0},{"$f":"Rounding!AE109","v":0},{"$f":"Rounding!AF109","v":0},{"$f":"Rounding!AG109","v":-0.189},{"$f":"Rounding!AH109","v":0},{"$f":"Rounding!AI109","v":0},{"$f":"Rounding!AJ109","v":0},{"$f":"Rounding!AK109","v":-0.17899999999999999},{"$f":"Rounding!AL109","v":0},{"$f":"Rounding!AM109","v":0},{"$f":"Rounding!AN109","v":0},{"$f":"Rounding!AO109","v":-0.14799999999999999},{"$f":"Rounding!AP109","v":0}]
[null,null,null,null,null,"Fixed charge","p/MPAN/day",null,null,{"$f":"Rounding!J110","v":1.9},{"$f":"Rounding!K110","v":1.9},{"$f":"Rounding!L110","v":0},{"$f":"Rounding!M110","v":3.79},{"$f":"Rounding!N110","v":3.79},{"$f":"Rounding!O110","v":0},{"$f":"Rounding!P110","v":17.059999999999999},{"$f":"Rounding!Q110","v":0},{"$f":"Rounding!R110","v":0},{"$f":"Rounding!S110","v":1.9},{"$f":"Rounding!T110","v":3.79},{"$f":"Rounding!U110","v":5.72},{"$f":"Rounding!V110","v":6.86},{"$f":"Rounding!W110","v":76.27},{"$f":"Rounding!X110","v":0},{"$f":"Rounding!Y110","v":0},{"$f":"Rounding!Z110","v":0},{"$f":"Rounding!AA110","v":0},{"$f":"Rounding!AB110","v":0},{"$f":"Rounding!AC110","v":0},{"$f":"Rounding!AD110","v":0},{"$f":"Rounding!AE110","v":0},{"$f":"Rounding!AF110","v":0},{"$f":"Rounding!AG110","v":0},{"$f":"Rounding!AH110","v":0},{"$f":"Rounding!AI110","v":0},{"$f":"Rounding!AJ110","v":0},{"$f":"Rounding!AK110","v":0},{"$f":"Rounding!AL110","v":0},{"$f":"Rounding!AM110","v":0},{"$f":"Rounding!AN110","v":0},{"$f":"Rounding!AO110","v":0},{"$f":"Rounding!AP110","v":0}]
[null,null,null,null,null,"Capacity charge","p/kVA/day",null,null,{"$f":"Rounding!J111","v":0},{"$f":"Rounding!K111","v":0},{"$f":"Rounding!L111","v":0},{"$f":"Rounding!M111","v":0},{"$f":"Rounding!N111","v":0},{"$f":"Rounding!O111","v":0},{"$f":"Rounding!P111","v":0},{"$f":"Rounding!Q111","v":0},{"$f":"Rounding!R111","v":0},{"$f":"Rounding!S111","v":0},{"$f":"Rounding!T111","v":0},{"$f":"Rounding!U111","v":1.38},{"$f":"Rounding!V111","v":2.39},{"$f":"Rounding!W111","v":2.92},{"$f":"Rounding!X111","v":0},{"$f":"Rounding!Y111","v":0},{"$f":"Rounding!Z111","v":0},{"$f":"Rounding!AA111","v":0},{"$f":"Rounding!AB111","v":0},{"$f":"Rounding!AC111","v":0},{"$f":"Rounding!AD111","v":0},{"$f":"Rounding!AE111","v":0},{"$f":"Rounding!AF111","v":0},{"$f":"Rounding!AG111","v":0},{"$f":"Rounding!AH111","v":0},{"$f":"Rounding!AI111","v":0},{"$f":"Rounding!AJ111","v":0},{"$f":"Rounding!AK111","v":0},{"$f":"Rounding!AL111","v":0},{"$f":"Rounding!AM111","v":0},{"$f":"Rounding!AN111","v":0},{"$f":"Rounding!AO111","v":0},{"$f":"Rounding!AP111","v":0}]
[null,null,null,null,null,"Exceeded capacity charge","p/kVA/day",null,null,{"$f":"Rounding!J112","v":0},{"$f":"Rounding!K112","v":0},{"$f":"Rounding!L112","v":0},{"$f":"Rounding!M112","v":0},{"$f":"Rounding!N112","v":0},{"$f":"Rounding!O112","v":0},{"$f":"Rounding!P112","v":0},{"$f":"Rounding!Q112","v":0},{"$f":"Rounding!R112","v":0},{"$f":"Rounding!S112","v":0},{"$f":"Rounding!T112","v":0},{"$f":"Rounding!U112","v":2.95},{"$f":"Rounding!V112","v":4.46},{"$f":"Rounding!W112","v":5.69},{"$f":"Rounding!X112","v":0},{"$f":"Rounding!Y112","v":0},{"$f":"Rounding!Z112","v":0},{"$f":"Rounding!AA112","v":0},{"$f":"Rounding!AB112","v":0},{"$f":"Rounding!AC112","v":0},{"$f":"Rounding!AD112","v":0},{"$f":"Rounding!AE112","v":0},{"$f":"Rounding!AF112","v":0},{"$f":"Rounding!AG112","v":0},{"$f":"Rounding!AH112","v":0},{"$f":"Rounding!AI112","v":0},{"$f":"Rounding!AJ112","v":0},{"$f":"Rounding!AK112","v":0},{"$f":"Rounding!AL112","v":0},{"$f":"Rounding!AM112","v":0},{"$f":"Rounding!AN112","v":0},{"$f":"Rounding!AO112","v":0},{"$f":"Rounding!AP112","v":0}]
[null,null,null,null,null,"Reactive power charge","p/kVArh",null,null,{"$f":"Rounding!J113","v":0},{"$f":"Rounding!K113","v":0},{"$f":"Rounding!L113","v":0},{"$f":"Rounding!M113","v":0},{"$f":"Rounding!N113","v":0},{"$f":"Rounding!O113","v":0},{"$f":"Rounding!P113","v":0},{"$f":"Rounding!Q113","v":0},{"$f":"Rounding!R113","v":0},{"$f":"Rounding!S113","v":0},{"$f":"Rounding!T113","v":0},{"$f":"Rounding!U113","v":0.121},{"$f":"Rounding!V113","v":0.13500000000000001},{"$f":"Rounding!W113","v":0.11899999999999999},{"$f":"Rounding!X113","v":0},{"$f":"Rounding!Y113","v":0},{"$f":"Rounding!Z113","v":0},{"$f":"Rounding!AA113","v":0},{"$f":"Rounding!AB113","v":0},{"$f":"Rounding!AC113","v":0},{"$f":"Rounding!AD113","v":0},{"$f":"Rounding!AE113","v":0.34399999999999997},{"$f":"Rounding!AF113","v":0},{"$f":"Rounding!AG113","v":0.34399999999999997},{"$f":"Rounding!AH113","v":0},{"$f":"Rounding!AI113","v":0.28999999999999998},{"$f":"Rounding!AJ113","v":0},{"$f":"Rounding!AK113","v":0.28999999999999998},{"$f":"Rounding!AL113","v":0},{"$f":"Rounding!AM113","v":0.24199999999999999},{"$f":"Rounding!AN113","v":0},{"$f":"Rounding!AO113","v":0.24199999999999999},{"$f":"Rounding!AP113","v":0}]
[]
[null,null,{"$f":"INDEX('Version control'!$H$34:$H$59,MATCH($A$1,'Version control'!$F$34:$F$59,0),1)&\"-C: Net revenue components\"","v":"Section 520-C: Net revenue components"}]
[]
[null,null,null,null,"Target CDCM net revenue",null,"£",{"$f":"'General inputs'!$H$88","v":289637438.47744858}]
[null,null,null,null,"Net revenue before matching and rounding",null,"£",{"$f":"'Revenue matching'!H52","v":147517442.21347231}]
[null,null,null,null,"Net revenue after matching (pre-rounding)",null,"£",{"$f":"'Revenue matching'!H152","v":289637438.47744876}]
[]
[null,"Typical bills"]
[]
[null,null,{"$f":"INDEX('Version control'!$H$34:$H$59,MATCH($A$1,'Version control'!$F$34:$F$59,0),1)&\"-D: Net revenue by tariff\"","v":"Section 520-D: Net revenue by tariff"}]
[]
[null,null,null,null,"All the way customer net revenue",null,null,"Sum"]
[null,null,null,null,null,"Unit rate 1","£",{"$f":"SUM(J82:AP82)","v":167660162.81882674},null,{"$f":"J16 * thousand * J45 / hundred","v":110543525.767325},5469064.2720743297,42545.393054318709,23846187.559045758,6772827.3797800355,31408.450907228231,446143.80405601824,1.8150478359081209E-6,1575.9816673971975,72867.776722909693,1347148.1466342225,11672875.731465893,476410.04880391358,8954647.7388229705,81846.240638362156,221006.49370892064,14862.571005685761,0,1379667.6684167266,-14675.795,0,-297360.27453968005,0,-14794.427987847042,0,-7037.9827628000021,0,-2667.4249386663378,0,-1868748.7426245001,0,-1509163.5574512631,0]
[null,null,null,null,null,"Unit rate 2","£",44267341.310317948,null,{"$f":"J17 * thousand * J46 / hundred","v":0},2428845.1056307941,0,0,1690274.1956559664,0,82568.208266028756,3.4728245897322926E-7,485.19019004263362,70838.048974375648,1949511.8192841411,18084193.587562285,835227.04124219075,18184818.803801686,0,0,0,0,1199906.4831700057,0,0,0,0,-7347.5540570250341,0,0,0,-827.58772619045908,0,0,0,-251152.03167669251,0]
[null,null,null,null,null,"Unit rate 3","£",30908083.753547966,null,{"$f":"J18 * thousand * J47 / hundred","v":0},0,0,0,0,0,0,0,0,47456.422896152333,1101657.5771646241,11214891.493002195,646174.33069680445,15772050.74076305,0,0,0,0,2213968.289447654,0,0,0,0,-2165.109873491454,0,0,0,-267.37446646549211,0,0,0,-85682.616082558219,0]
[null,null,null,null,null,"Fixed charge","£",22884786.515177064,null,{"$f":" J19 * J48 * days_in_year / hundred","v":18286667.613663673},898780.71945331944,0,2356764.0233572507,483763.81288317463,0,38743.912342514122,8.3293000000000003E-8,1730.3929204391998,28590.556139999997,81520.420038205659,330250.39833115222,4136.9535643908093,323201.13831505214,0,0,0,0,0,0,0,0,0,0,0,0,0,0,0,39225.551846250011,0,11411.022321562501,0]
[null,null,null,null,null,"Capacity charge","£",20296537.228160158,null,{"$f":" J20 * J49 * days_in_year / hundred","v":0},0,0,0,0,0,0,0,0,0,0,9941773.2974463012,386224.02000000008,9968539.910713857,0,0,0,0,0,0,0,0,0,0,0,0,0,0,0,0,0,0,0]
[null,null,null,null,null,"Exceeded capacity charge","£",1282430.3392697829,null,{"$f":" J21 * J50 * days_in_year / hundred","v":0},0,0,0,0,0,0,0,0,0,0,679323.38249999995,38236.888043569605,564870.06872621342,0,0,0,0,0,0,0,0,0,0,0,0,0,0,0,0,0,0,0]
[null,null,null,null,null,"Reactive power charge","£",633608.91328363202,null,{"$f":"J22 * thousand * J51 / hundred","v":0},0,0,0,0,0,0,0,0,0,0,403354.26733299979,15343.668954205605,182317.99830108159,0,0,0,0,0,0,0,9620.2058946400011,0,1532.7475044,0,12.9134709,0,0,0,18124.358076879998,0,3302.753748525,0]
[null,null,null,null,null,"Total","£",{"$f":"SUM(H82:H88)","v":287932950.87858325},null,{"$f":"SUM(J82:J88)","v":128830193.38098867},8796690.0971584432,42545.393054318709,26202951.582403008,8946865.3883191757,31408.450907228231,567455.92466456117,2.2456232948813502E-6,3791.5647778790308,219752.80473343769,4479837.9631211935,52326662.15764083,2401752.9513050746,53950446.39944391,81846.240638362156,221006.49370892064,14862.571005685761,0,4793542.4410343859,-14675.795,0,-287740.06864504004,0,-22774.344413963536,0,-7025.0692919000021,0,-3762.387131322289,0,-1811398.8327013701,0,-1831284.4291404262,0]
[]
[null,null,null,null,"LDNO LV customer net revenue",null,null,"Sum"]
[null,null,null,null,null,"Unit rate 1","£",{"$f":"SUM(J92:AP92)","v":101103.82763110787},null,{"$f":"J25 * thousand * J54 / hundred","v":91581.596083371507},1693.7729271897822,0,1800.4112871867339,0,0,0,0,0,0,0,2158.8071983551686,0,0,3670.5009894161608,198.73914558851473,0,0,0,0,0,0,0,0,0,0,0,0,0,0,0,0,0]
[null,null,null,null,null,"Unit rate 2","£",3786.3830024503172,null,{"$f":"J26 * thousand * J55 / hundred","v":0},245.66578633116205,0,0,0,0,0,0,0,0,0,3540.7172161191552,0,0,0,0,0,0,0,0,0,0,0,0,0,0,0,0,0,0,0,0,0]
[null,null,null,null,null,"Unit rate 3","£",2071.4247327688076,null,{"$f":"J27 * thousand * J56 / hundred","v":0},0,0,0,0,0,0,0,0,0,0,2071.4247327688076,0,0,0,0,0,0,0,0,0,0,0,0,0,0,0,0,0,0,0,0,0]
[null,null,null,null,null,"Fixed charge","£",17856.253666124998,null,{"$f":" J28 * J57 * days_in_year / hundred","v":17190.638639999997},385.04274480000009,0,170.19072,0,0,0,0,0,0,0,110.38156132500001,0,0,0,0,0,0,0,0,0,0,0,0,0,0,0,0,0,0,0,0,0]
[null,null,null,null,null,"Capacity charge","£",2733.3433575000004,null,{"$f":" J29 * J58 * days_in_year / hundred","v":0},0,0,0,0,0,0,0,0,0,0,2733.3433575000004,0,0,0,0,0,0,0,0,0,0,0,0,0,0,0,0,0,0,0,0,0]
[null,null,null,null,null,"Exceeded capacity charge","£",645.14016787500009,null,{"$f":" J30 * J59 * days_in_year / hundred","v":0},0,0,0,0,0,0,0,0,0,0,645.14016787500009,0,0,0,0,0,0,0,0,0,0,0,0,0,0,0,0,0,0,0,0,0]
[null,null,null,null,null,"Reactive power charge","£",31.894367478749999,null,{"$f":"J31 * thousand * J60 / hundred","v":0},0,0,0,0,0,0,0,0,0,0,31.894367478749999,0,0,0,0,0,0,0,0,0,0,0,0,0,0,0,0,0,0,0,0,0]
[null,null,null,null,null,"Total","£",{"$f":"SUM(H92:H98)","v":128228.26692530572},null,{"$f":"SUM(J92:J98)","v":108772.23472337151},2324.4814583209445,0,1970.602007186734,0,0,0,0,0,0,0,11291.708601421882,0,0,3670.5009894161608,198.73914558851473,0,0,0,0,0,0,0,0,0,0,0,0,0,0,0,0,0]
[]
[null,null,null,null,"LDNO HV customer net revenue",null,null,"Sum"]
[null,null,null,null,null,"Unit rate 1","£",{"$f":"SUM(J102:AP102)","v":650525.04804870242},null,{"$f":"J34 * thousand * J63 / hundred","v":334564.34014650201},6664.3688681377262,0,46419.108491169325,12188.015515940782,0,1085.3336188621734,0,0,41.015147007593107,2908.9675439708703,200476.51350724659,24644.640898841488,22059.979901720621,157.51941523718403,2234.4871048091222,0,0,0,0,0,-2919.242110743,0,0,0,0,0,0,0,0,0,0,0]
[null,null,null,null,null,"Unit rate 2","£",354519.83743827138,null,{"$f":"J35 * thousand * J64 / hundred","v":0},2229.6782199568038,0,0,1376.6478529603601,0,196.13558083278522,0,0,38.642573429418974,2960.0647551459401,267370.17668035888,37371.357594156041,42977.134181431116,0,0,0,0,0,0,0,0,0,0,0,0,0,0,0,0,0,0,0]
[null,null,null,null,null,"Unit rate 3","£",262232.48453530372,null,{"$f":"J36 * thousand * J65 / hundred","v":0},0,0,0,0,0,0,0,0,25.55188404489472,1229.5696425538247,201345.52370259061,29082.070769033398,30549.768537080985,0,0,0,0,0,0,0,0,0,0,0,0,0,0,0,0,0,0,0]
[null,null,null,null,null,"Fixed charge","£",76401.732794625015,null,{"$f":" J37 * J66 * days_in_year / hundred","v":67731.853880249997},1502.9286615000001,0,2142.9685100250003,161.37270449999997,0,151.4848671,0,0,28.823760000000004,80.686352250000013,2744.8927506,114.25650705000002,1742.4648013499996,0,0,0,0,0,0,0,0,0,0,0,0,0,0,0,0,0,0,0]
[null,null,null,null,null,"Capacity charge","£",258875.62582769999,null,{"$f":" J38 * J67 * days_in_year / hundred","v":0},0,0,0,0,0,0,0,0,0,0,204090.16941179999,27622.432385100001,27163.024030800007,0,0,0,0,0,0,0,0,0,0,0,0,0,0,0,0,0,0,0]
[null,null,null,null,null,"Exceeded capacity charge","£",1274.5829958750003,null,{"$f":" J39 * J68 * days_in_year / hundred","v":0},0,0,0,0,0,0,0,0,0,0,1274.5829958750003,0,0,0,0,0,0,0,0,0,0,0,0,0,0,0,0,0,0,0,0,0]
[null,null,null,null,null,"Reactive power charge","£",3275.8337776972503,null,{"$f":"J40 * thousand * J69 / hundred","v":0},0,0,0,0,0,0,0,0,0,0,2776.4115700860002,109.81392982874999,82.172536582500015,0,0,0,0,0,0,0,307.4357412,0,0,0,0,0,0,0,0,0,0,0]
[null,null,null,null,null,"Total","£",{"$f":"SUM(H102:H108)","v":1607105.1454181748},null,{"$f":"SUM(J102:J108)","v":402296.19402675203},10396.97574959453,0,48562.077001194324,13726.036073401143,0,1432.9540667949586,0,0,134.0333644819068,7179.2882939206347,880078.27061855712,118944.57208400968,124574.54398896523,157.51941523718403,2234.4871048091222,0,0,0,0,0,-2611.8063695430001,0,0,0,0,0,0,0,0,0,0,0]
[]
[null,null,{"$f":"INDEX('Version control'!$H$34:$H$59,MATCH($A$1,'Version control'!$F$34:$F$59,0),1)&\"-E: Net revenue summary (for information only)\"","v":"Section 520-E: Net revenue summary (for information only)"}]
[]
[null,null,null,null,"Target CDCM net revenue",null,"£",{"$f":"H73","v":289637438.47744858}]
[null,null,null,null,"Pre-matching net revenue",null,"£",{"$f":"H74","v":147517442.21347231}]
[null,null,null,null,"Net revenue from adder",null,"£",{"$f":"H75-'Net revenue summary'!H114","v":142119996.26397645}]
[null,null,null,null,"Net revenue from rounding",null,"£",{"$f":"SUM(H89,H99,H109) - SUM(H114:H115)","v":30845.813477993011}]
[null,null,null,null,"Total net revenue",null,"£",{"$f":"SUM(H114:H116)","v":289668284.29092675}]
[]
[null,null,null,null,"Deviation from target revenue",null,"£",{"$f":"H117 - H113","v":30845.813478171825}]
[null,null,null,null,"Deviation from target revenue",null,"%",{"$f":"(H117 - H113) / H113","v":1.0649801917984269E-4}]
[]
[null,null,{"$f":"INDEX('Version control'!$H$34:$H$59,MATCH($A$1,'Version control'!$F$34:$F$59,0),1)&\"-F: Typical bills\"","v":"Section 520-F: Typical bills"}]
[]
[null,null,null,null,"Typical bills for all the way customers",null,"£/MPAN","All the way",null,{"$f":" IF( J19 <> 0, J89 / J19, \"\")","v":128.57186879944595},178.61931258470844,"",404.19070063268771,672.34120383762945,"",2396.5708058608134,2245.6232948813499,1173.7465212872362,140.27319604232218,1997.7820187258762,8686.4531094124668,24856.419133820618,65954.271894368285,139.43141505683502,286.27784159186609,170.83414949064093,"",135620.72637606008,"","",-744.84026346314181,"",-1243.6382525356344,"",-1078.0311955043605,"",-1366.6430839753548,"",-11419.50253746304,"",-39685.642137018825,""]
[null,null,null,null,"Typical bills for LDNO LV customers",null,"£/MPAN","LDNO LV",null,{"$f":" IF( J28 <> 0, J99 / J28, \"\")","v":77.599367573433454},74.037080271842228,"",283.15922328639061,"","","","","","","",3774.9147588927667,"","","","","","","","","","","","","","","","","","","","",""]
[null,null,null,null,"Typical bills for LDNO HV customers",null,"£/MPAN","LDNO HV",null,{"$f":" IF( J37 <> 0, J109 / J37, \"\")","v":41.190724094280874},47.975016160431416,"",313.48267090876874,1176.6495493133086,"",589.02660373562344,"","",32.248443044280954,1230.8733985920287,6693.9861784974455,26066.376588146522,19902.69570367875,"","","","","","","",-613.3784917060367,"","","","","","","","","","",""]
[]
[null,"Checks"]
[]
[null,null,null,"Check for error values",null,null,"number of issues",{"$f":"SUM(IF(ISERROR($H$13:$AQ$127), 1))","v":0}]
[]
[null,"End of sheet"]

{"sheet":"Tariff summary","index":34,"n_rows":661,"n_cols":18,"rows_kept":661,"cut":false,"hidden":false,"merged":[]}
[{"$f":"MID(CELL(\"filename\",A1),FIND(\"]\",CELL(\"filename\",A1))+1,255)","v":"Tariff summary"}]
[{"$f":"Cover!D21&\" - \"&Cover!D23","v":"[enter DNO name] - [enter data version name]"}]
[{"$f":"Cover!D2&\" - \"&Cover!D8&\" v\"&Cover!D10&\" - \"&Cover!D19","v":"ARP model - Release for charge setting v3 - 2020/21"}]
[{"$f":"H659 & IF(H659 = 1, \" issue\", \" issues\") &\" identified in checks on this sheet\"","v":"0 issues identified in checks on this sheet"}]
[null,"Click here to return to model map",null,null,null,null,null,"Identifier",null,"Unit rate 1 \np/kWh","Unit rate 2 \np/kWh","Unit rate 3 \np/kWh","Fixed charge \np/MPAN/day","Capacity charge \np/kVA/day","Exceeded capacity charge \np/kVA/day","Reactive power charge \np/kVArh",null,"Legal text reference"]
[]
[null,"Description"]
[]
[null,null,"This sheet presents tariff forecast for 'all the way' customers and LDNO LV/HV customers"]
[null,null,"The tariff forecast are calculated for the 'live' charging year and updated for each year of the ARP forecast using a macro."]
[null,null,"To run the macro, click the \"Run all years\" box on the User Control sheet"]
[]
[null,"Tariff summary"]
[]
[null,null,{"$f":"INDEX('Version control'!$H$34:$H$59,MATCH($A$1,'Version control'!$F$34:$F$59,0),1)&\"-A: Live tariff results (\" & charging_year_selected & \")\"","v":"Output 501-A: Live tariff results (2024/25)"}]
[]
[null,null,null,null,{"$f":"\"All the way tariff forecast (\" & charging_year_selected & \")\"","v":"All the way tariff forecast (2024/25)"}]
[null,null,null,null,null,"Domestic Unrestricted",null,"All the way",null,{"$f":"TRANSPOSE(Rounding!J89:AP95)","v":3.58},0,0,5,0,0,0]
[null,null,null,null,null,"Domestic Two Rate",null,"All the way",null,3.77,2.0049999999999999,0,5,0,0,0]
[null,null,null,null,null,"Domestic Off Peak (related MPAN)",null,"All the way",null,1.988,0,0,0,0,0,0]
[null,null,null,null,null,"Small Non Domestic Unrestricted",null,"All the way",null,2.9529999999999998,0,0,9.9600000000000009,0,0,0]
[null,null,null,null,null,"Small Non Domestic Two Rate",null,"All the way",null,3.3969999999999998,2.008,0,9.9600000000000009,0,0,0]
[null,null,null,null,null,"Small Non Domestic Off Peak (related MPAN)",null,"All the way",null,1.99,0,0,0,0,0,0]
[null,null,null,null,null,"LV Medium Non-Domestic",null,"All the way",null,3.214,1.9470000000000001,0,44.83,0,0,0]
[null,null,null,null,null,"LV Sub Medium Non-Domestic",null,"All the way",null,3.0960000000000001,1.9390000000000001,0,22.82,0,0,0]
[null,null,null,null,null,"HV Medium Non-Domestic",null,"All the way",null,2.52,1.8839999999999999,0,146.76,0,0,0]
[null,null,null,null,null,"LV Network Domestic",null,"All the way",null,13.285,2.62,1.9990000000000001,5,0,0,0]
[null,null,null,null,null,"LV Network Non-Domestic Non-CT",null,"All the way",null,11.646000000000001,2.4929999999999999,1.96,9.9600000000000009,0,0,0]
[null,null,null,null,null,"LV HH Metered",null,"All the way",null,9.5060000000000002,2.3180000000000001,1.923,15.02,3.62,7.75,0.31900000000000001]
[null,null,null,null,null,"LV Sub HH Metered",null,"All the way",null,7.375,2.1389999999999998,1.8919999999999999,11.73,4.08,7.63,0.23]
[null,null,null,null,null,"HV HH Metered",null,"All the way",null,6.1139999999999999,2.036,1.8620000000000001,108.25,4.1500000000000004,8.08,0.16900000000000001]
[null,null,null,null,null,"NHH UMS category A",null,"All the way",null,3.964,0,0,0,0,0,0]
[null,null,null,null,null,"NHH UMS category B",null,"All the way",null,4.2569999999999997,0,0,0,0,0,0]
[null,null,null,null,null,"NHH UMS category C",null,"All the way",null,5.1440000000000001,0,0,0,0,0,0]
[null,null,null,null,null,"NHH UMS category D",null,"All the way",null,3.6819999999999999,0,0,0,0,0,0]
[null,null,null,null,null,"LV UMS (Pseudo HH Metered)",null,"All the way",null,28.826000000000001,3.8380000000000001,3.0019999999999998,0,0,0,0]
[null,null,null,null,null,"LV Generation NHH or Aggregate HH",null,"All the way",null,-0.95599999999999996,0,0,0,0,0,0]
[null,null,null,null,null,"LV Sub Generation NHH",null,"All the way",null,-0.872,0,0,0,0,0,0]
[null,null,null,null,null,"LV Generation Intermittent",null,"All the way",null,-0.95599999999999996,0,0,0,0,0,0.34399999999999997]
[null,null,null,null,null,"LV Generation Intermittent no RP charge",null,"All the way",null,-0.95599999999999996,0,0,0,0,0,0]
[null,null,null,null,null,"LV Generation Non-Intermittent",null,"All the way",null,-8.01,-0.62,-0.189,0,0,0,0.34399999999999997]
[null,null,null,null,null,"LV Generation Non-Intermittent no RP charge",null,"All the way",null,-8.01,-0.62,-0.189,0,0,0,0]
[null,null,null,null,null,"LV Sub Generation Intermittent",null,"All the way",null,-0.872,0,0,0,0,0,0.28999999999999998]
[null,null,null,null,null,"LV Sub Generation Intermittent no RP charge",null,"All the way",null,-0.872,0,0,0,0,0,0]
[null,null,null,null,null,"LV Sub Generation Non-Intermittent",null,"All the way",null,-7.29,-0.55900000000000005,-0.17899999999999999,0,0,0,0.28999999999999998]
[null,null,null,null,null,"LV Sub Generation Non-Intermittent no RP charge",null,"All the way",null,-7.29,-0.55900000000000005,-0.17899999999999999,0,0,0,0]
[null,null,null,null,null,"HV Generation Intermittent",null,"All the way",null,-0.59399999999999997,0,0,67.75,0,0,0.24199999999999999]
[null,null,null,null,null,"HV Generation Intermittent no RP charge",null,"All the way",null,-0.59399999999999997,0,0,67.75,0,0,0]
[null,null,null,null,null,"HV Generation Non-Intermittent",null,"All the way",null,-4.9269999999999996,-0.35699999999999998,-0.14799999999999999,67.75,0,0,0.24199999999999999]
[null,null,null,null,null,"HV Generation Non-Intermittent no RP charge",null,"All the way",null,-4.9269999999999996,-0.35699999999999998,-0.14799999999999999,67.75,0,0,0]
[]
[null,null,null,null,{"$f":"\"LDNO LV tariff forecast (\" & charging_year_selected & \")\"","v":"LDNO LV tariff forecast (2024/25)"}]
[null,null,null,null,null,"Domestic Unrestricted",null,"LDNO LV",null,{"$f":"TRANSPOSE(Rounding!J98:P104)","v":2.4089999999999998},0,0,3.36,0,0,0]
[null,null,null,null,null,"Domestic Two Rate",null,"LDNO LV",null,2.536,1.349,0,3.36,0,0,0]
[null,null,null,null,null,"Domestic Off Peak (related MPAN)",null,"LDNO LV",null,1.337,0,0,0,0,0,0]
[null,null,null,null,null,"Small Non Domestic Unrestricted",null,"LDNO LV",null,1.9870000000000001,0,0,6.7,0,0,0]
[null,null,null,null,null,"Small Non Domestic Two Rate",null,"LDNO LV",null,2.2850000000000001,1.351,0,6.7,0,0,0]
[null,null,null,null,null,"Small Non Domestic Off Peak (related MPAN)",null,"LDNO LV",null,1.339,0,0,0,0,0,0]
[null,null,null,null,null,"LV Medium Non-Domestic",null,"LDNO LV",null,2.1619999999999999,1.31,0,30.16,0,0,0]
[null,null,null,null,null,"LV Sub Medium Non-Domestic",null,"LDNO LV"]
[null,null,null,null,null,"HV Medium Non-Domestic",null,"LDNO LV"]
[null,null,null,null,null,"LV Network Domestic",null,"LDNO LV",null,{"$f":"TRANSPOSE(Rounding!S98:U104)","v":8.9380000000000006},1.7629999999999999,1.345,3.36,0,0,0]
[null,null,null,null,null,"LV Network Non-Domestic Non-CT",null,"LDNO LV",null,7.835,1.677,1.319,6.7,0,0,0]
[null,null,null,null,null,"LV HH Metered",null,"LDNO LV",null,6.3949999999999996,1.56,1.294,10.11,2.44,5.21,0.215]
[null,null,null,null,null,"LV Sub HH Metered",null,"LDNO LV"]
[null,null,null,null,null,"HV HH Metered",null,"LDNO LV"]
[null,null,null,null,null,"NHH UMS category A",null,"LDNO LV",null,{"$f":"TRANSPOSE(Rounding!X98:AC104)","v":2.6669999999999998},0,0,0,0,0,0]
[null,null,null,null,null,"NHH UMS category B",null,"LDNO LV",null,2.8639999999999999,0,0,0,0,0,0]
[null,null,null,null,null,"NHH UMS category C",null,"LDNO LV",null,3.4609999999999999,0,0,0,0,0,0]
[null,null,null,null,null,"NHH UMS category D",null,"LDNO LV",null,2.4769999999999999,0,0,0,0,0,0]
[null,null,null,null,null,"LV UMS (Pseudo HH Metered)",null,"LDNO LV",null,19.393999999999998,2.5819999999999999,2.02,0,0,0,0]
[null,null,null,null,null,"LV Generation NHH or Aggregate HH",null,"LDNO LV",null,-0.95599999999999996,0,0,0,0,0,0]
[null,null,null,null,null,"LV Sub Generation NHH",null,"LDNO LV"]
[null,null,null,null,null,"LV Generation Intermittent",null,"LDNO LV",null,{"$f":"TRANSPOSE(Rounding!AE98:AE104)","v":-0.95599999999999996},0,0,0,0,0,0.34399999999999997]
[null,null,null,null,null,"LV Generation Intermittent no RP charge",null,"LDNO LV"]
[null,null,null,null,null,"LV Generation Non-Intermittent",null,"LDNO LV",null,{"$f":"TRANSPOSE(Rounding!AG98:AG104)","v":-8.01},-0.62,-0.189,0,0,0,0.34399999999999997]
[null,null,null,null,null,"LV Generation Non-Intermittent no RP charge",null,"LDNO LV"]
[null,null,null,null,null,"LV Sub Generation Intermittent",null,"LDNO LV"]
[null,null,null,null,null,"LV Sub Generation Intermittent no RP charge",null,"LDNO LV"]
[null,null,null,null,null,"LV Sub Generation Non-Intermittent",null,"LDNO LV"]
[null,null,null,null,null,"LV Sub Generation Non-Intermittent no RP charge",null,"LDNO LV"]
[null,null,null,null,null,"HV Generation Intermittent",null,"LDNO LV"]
[null,null,null,null,null,"HV Generation Intermittent no RP charge",null,"LDNO LV"]
[null,null,null,null,null,"HV Generation Non-Intermittent",null,"LDNO LV"]
[null,null,null,null,null,"HV Generation Non-Intermittent no RP charge",null,"LDNO LV"]
[]
[null,null,null,null,{"$f":"\"LDNO HV tariff forecast (\" & charging_year_selected & \")\"","v":"LDNO HV tariff forecast (2024/25)"}]
[null,null,null,null,null,"Domestic Unrestricted",null,"LDNO HV",null,{"$f":"TRANSPOSE(Rounding!J107:P113)","v":1.3620000000000001},0,0,1.9,0,0,0]
[null,null,null,null,null,"Domestic Two Rate",null,"LDNO HV",null,1.4350000000000001,0.76300000000000001,0,1.9,0,0,0]
[null,null,null,null,null,"Domestic Off Peak (related MPAN)",null,"LDNO HV",null,0.75600000000000001,0,0,0,0,0,0]
[null,null,null,null,null,"Small Non Domestic Unrestricted",null,"LDNO HV",null,1.1240000000000001,0,0,3.79,0,0,0]
[null,null,null,null,null,"Small Non Domestic Two Rate",null,"LDNO HV",null,1.2929999999999999,0.76400000000000001,0,3.79,0,0,0]
[null,null,null,null,null,"Small Non Domestic Off Peak (related MPAN)",null,"LDNO HV",null,0.75700000000000001,0,0,0,0,0,0]
[null,null,null,null,null,"LV Medium Non-Domestic",null,"LDNO HV",null,1.2230000000000001,0.74099999999999999,0,17.059999999999999,0,0,0]
[null,null,null,null,null,"LV Sub Medium Non-Domestic",null,"LDNO HV"]
[null,null,null,null,null,"HV Medium Non-Domestic",null,"LDNO HV"]
[null,null,null,null,null,"LV Network Domestic",null,"LDNO HV",null,{"$f":"TRANSPOSE(Rounding!S107:AE113)","v":5.0549999999999997},0.997,0.76100000000000001,1.9,0,0,0]
[null,null,null,null,null,"LV Network Non-Domestic Non-CT",null,"LDNO HV",null,4.4320000000000004,0.94899999999999995,0.746,3.79,0,0,0]
[null,null,null,null,null,"LV HH Metered",null,"LDNO HV",null,3.617,0.88200000000000001,0.73199999999999998,5.72,1.38,2.95,0.121]
[null,null,null,null,null,"LV Sub HH Metered",null,"LDNO HV",null,4.3150000000000004,1.2509999999999999,1.107,6.86,2.39,4.46,0.13500000000000001]
[null,null,null,null,null,"HV HH Metered",null,"LDNO HV",null,4.3079999999999998,1.4350000000000001,1.3120000000000001,76.27,2.92,5.69,0.11899999999999999]
[null,null,null,null,null,"NHH UMS category A",null,"LDNO HV",null,1.508,0,0,0,0,0,0]
[null,null,null,null,null,"NHH UMS category B",null,"LDNO HV",null,1.62,0,0,0,0,0,0]
[null,null,null,null,null,"NHH UMS category C",null,"LDNO HV",null,1.9570000000000001,0,0,0,0,0,0]
[null,null,null,null,null,"NHH UMS category D",null,"LDNO HV",null,1.401,0,0,0,0,0,0]
[null,null,null,null,null,"LV UMS (Pseudo HH Metered)",null,"LDNO HV",null,10.968999999999999,1.46,1.1419999999999999,0,0,0,0]
[null,null,null,null,null,"LV Generation NHH or Aggregate HH",null,"LDNO HV",null,-0.95599999999999996,0,0,0,0,0,0]
[null,null,null,null,null,"LV Sub Generation NHH",null,"LDNO HV",null,-0.872,0,0,0,0,0,0]
[null,null,null,null,null,"LV Generation Intermittent",null,"LDNO HV",null,-0.95599999999999996,0,0,0,0,0,0.34399999999999997]
[null,null,null,null,null,"LV Generation Intermittent no RP charge",null,"LDNO HV"]
[null,null,null,null,null,"LV Generation Non-Intermittent",null,"LDNO HV",null,{"$f":"TRANSPOSE(Rounding!AG107:AG113)","v":-8.01},-0.62,-0.189,0,0,0,0.34399999999999997]
[null,null,null,null,null,"LV Generation Non-Intermittent no RP charge",null,"LDNO HV"]
[null,null,null,null,null,"LV Sub Generation Intermittent",null,"LDNO HV",null,{"$f":"TRANSPOSE(Rounding!AI107:AI113)","v":-0.872},0,0,0,0,0,0.28999999999999998]
[null,null,null,null,null,"LV Sub Generation Intermittent no RP charge",null,"LDNO HV"]
[null,null,null,null,null,"LV Sub Generation Non-Intermittent",null,"LDNO HV",null,{"$f":"TRANSPOSE(Rounding!AK107:AK113)","v":-7.29},-0.55900000000000005,-0.17899999999999999,0,0,0,0.28999999999999998]
[null,null,null,null,null,"LV Sub Generation Non-Intermittent no RP charge",null,"LDNO HV"]
[null,null,null,null,null,"HV Generation Intermittent",null,"LDNO HV",null,{"$f":"TRANSPOSE(Rounding!AM107:AM113)","v":-0.59399999999999997},0,0,0,0,0,0.24199999999999999]
[null,null,null,null,null,"HV Generation Intermittent no RP charge",null,"LDNO HV"]
[null,null,null,null,null,"HV Generation Non-Intermittent",null,"LDNO HV",null,{"$f":"TRANSPOSE(Rounding!AO107:AO113)","v":-4.9269999999999996},-0.35699999999999998,-0.14799999999999999,0,0,0,0.24199999999999999]
[null,null,null,null,null,"HV Generation Non-Intermittent no RP charge",null,"LDNO HV"]
[]
[null,null,{"$f":"INDEX('Version control'!$H$34:$H$59,MATCH($A$1,'Version control'!$F$34:$F$59,0),1)&\"-B: tariff forecast results for charging year \" & charging_year","v":"Output 501-B: tariff forecast results for charging year 2020/21"}]
[]
[null,null,null,null,{"$f":"\"All the way tariff forecast \" & charging_year","v":"All the way tariff forecast 2020/21"}]
[null,null,null,null,null,"Domestic Unrestricted",null,"All the way",null,2.8809999999999998,0,0,4.3899999999999997,0,0,0]
[null,null,null,null,null,"Domestic Two Rate",null,"All the way",null,3.048,1.4990000000000001,0,4.3899999999999997,0,0,0]
[null,null,null,null,null,"Domestic Off Peak (related MPAN)",null,"All the way",null,1.4850000000000001,0,0,0,0,0,0]
[null,null,null,null,null,"Small Non Domestic Unrestricted",null,"All the way",null,2.331,0,0,8.76,0,0,0]
[null,null,null,null,null,"Small Non Domestic Two Rate",null,"All the way",null,2.7210000000000001,1.502,0,8.76,0,0,0]
[null,null,null,null,null,"Small Non Domestic Off Peak (related MPAN)",null,"All the way",null,1.486,0,0,0,0,0,0]
[null,null,null,null,null,"LV Medium Non-Domestic",null,"All the way",null,2.56,1.4490000000000001,0,39.409999999999997,0,0,0]
[null,null,null,null,null,"LV Sub Medium Non-Domestic",null,"All the way",null,2.4569999999999999,1.4410000000000001,0,20.059999999999999,0,0,0]
[null,null,null,null,null,"HV Medium Non-Domestic",null,"All the way",null,1.9510000000000001,1.393,0,129.05000000000001,0,0,0]
[null,null,null,null,null,"LV Network Domestic",null,"All the way",null,11.396000000000001,2.0390000000000001,1.494,4.3899999999999997,0,0,0]
[null,null,null,null,null,"LV Network Non-Domestic Non-CT",null,"All the way",null,9.9580000000000002,1.9279999999999999,1.46,8.76,0,0,0]
[null,null,null,null,null,"LV HH Metered",null,"All the way",null,8.0790000000000006,1.774,1.427,13.21,3.18,6.81,0.28000000000000003]
[null,null,null,null,null,"LV Sub HH Metered",null,"All the way",null,6.2060000000000004,1.617,1.4,10.31,3.58,6.7,0.20100000000000001]
[null,null,null,null,null,"HV HH Metered",null,"All the way",null,5.0990000000000002,1.526,1.373,95.18,3.65,7.1,0.14799999999999999]
[null,null,null,null,null,"NHH UMS category A",null,"All the way",null,3.2130000000000001,0,0,0,0,0,0]
[null,null,null,null,null,"NHH UMS category B",null,"All the way",null,3.4740000000000002,0,0,0,0,0,0]
[null,null,null,null,null,"NHH UMS category C",null,"All the way",null,4.2510000000000003,0,0,0,0,0,0]
[null,null,null,null,null,"NHH UMS category D",null,"All the way",null,2.9630000000000001,0,0,0,0,0,0]
[null,null,null,null,null,"LV UMS (Pseudo HH Metered)",null,"All the way",null,25.041,3.0979999999999999,2.3740000000000001,0,0,0,0]
[null,null,null,null,null,"LV Generation NHH or Aggregate HH",null,"All the way",null,-0.83899999999999997,0,0,0,0,0,0]
[null,null,null,null,null,"LV Sub Generation NHH",null,"All the way",null,-0.76500000000000001,0,0,0,0,0,0]
[null,null,null,null,null,"LV Generation Intermittent",null,"All the way",null,-0.83899999999999997,0,0,0,0,0,0.30199999999999999]
[null,null,null,null,null,"LV Generation Intermittent no RP charge",null,"All the way",null,-0.83899999999999997,0,0,0,0,0,0]
[null,null,null,null,null,"LV Generation Non-Intermittent",null,"All the way",null,-7.0289999999999999,-0.54400000000000004,-0.16600000000000001,0,0,0,0.30199999999999999]
[null,null,null,null,null,"LV Generation Non-Intermittent no RP charge",null,"All the way",null,-7.0289999999999999,-0.54400000000000004,-0.16600000000000001,0,0,0,0]
[null,null,null,null,null,"LV Sub Generation Intermittent",null,"All the way",null,-0.76500000000000001,0,0,0,0,0,0.254]
[null,null,null,null,null,"LV Sub Generation Intermittent no RP charge",null,"All the way",null,-0.76500000000000001,0,0,0,0,0,0]
[null,null,null,null,null,"LV Sub Generation Non-Intermittent",null,"All the way",null,-6.3949999999999996,-0.49099999999999999,-0.158,0,0,0,0.254]
[null,null,null,null,null,"LV Sub Generation Non-Intermittent no RP charge",null,"All the way",null,-6.3949999999999996,-0.49099999999999999,-0.158,0,0,0,0]
[null,null,null,null,null,"HV Generation Intermittent",null,"All the way",null,-0.52100000000000002,0,0,59.57,0,0,0.21199999999999999]
[null,null,null,null,null,"HV Generation Intermittent no RP charge",null,"All the way",null,-0.52100000000000002,0,0,59.57,0,0,0]
[null,null,null,null,null,"HV Generation Non-Intermittent",null,"All the way",null,-4.319,-0.313,-0.13,59.57,0,0,0.21199999999999999]
[null,null,null,null,null,"HV Generation Non-Intermittent no RP charge",null,"All the way",null,-4.319,-0.313,-0.13,59.57,0,0,0]
[]
[null,null,null,null,{"$f":"\"LDNO LV tariff forecast \" & charging_year","v":"LDNO LV tariff forecast 2020/21"}]
[null,null,null,null,null,"Domestic Unrestricted",null,"LDNO LV",null,1.9379999999999999,0,0,2.95,0,0,0]
[null,null,null,null,null,"Domestic Two Rate",null,"LDNO LV",null,2.0510000000000002,1.008,0,2.95,0,0,0]
[null,null,null,null,null,"Domestic Off Peak (related MPAN)",null,"LDNO LV",null,0.999,0,0,0,0,0,0]
[null,null,null,null,null,"Small Non Domestic Unrestricted",null,"LDNO LV",null,1.5680000000000001,0,0,5.89,0,0,0]
[null,null,null,null,null,"Small Non Domestic Two Rate",null,"LDNO LV",null,1.831,1.0109999999999999,0,5.89,0,0,0]
[null,null,null,null,null,"Small Non Domestic Off Peak (related MPAN)",null,"LDNO LV",null,1,0,0,0,0,0,0]
[null,null,null,null,null,"LV Medium Non-Domestic",null,"LDNO LV",null,1.722,0.97499999999999998,0,26.51,0,0,0]
[null,null,null,null,null,"LV Sub Medium Non-Domestic",null,"LDNO LV"]
[null,null,null,null,null,"HV Medium Non-Domestic",null,"LDNO LV"]
[null,null,null,null,null,"LV Network Domestic",null,"LDNO LV",null,7.6669999999999998,1.3720000000000001,1.0049999999999999,2.95,0,0,0]
[null,null,null,null,null,"LV Network Non-Domestic Non-CT",null,"LDNO LV",null,6.7,1.2969999999999999,0.98199999999999998,5.89,0,0,0]
[null,null,null,null,null,"LV HH Metered",null,"LDNO LV",null,5.4349999999999996,1.194,0.96,8.89,2.14,4.58,0.188]
[null,null,null,null,null,"LV Sub HH Metered",null,"LDNO LV"]
[null,null,null,null,null,"HV HH Metered",null,"LDNO LV"]
[null,null,null,null,null,"NHH UMS category A",null,"LDNO LV",null,2.1619999999999999,0,0,0,0,0,0]
[null,null,null,null,null,"NHH UMS category B",null,"LDNO LV",null,2.3370000000000002,0,0,0,0,0,0]
[null,null,null,null,null,"NHH UMS category C",null,"LDNO LV",null,2.86,0,0,0,0,0,0]
[null,null,null,null,null,"NHH UMS category D",null,"LDNO LV",null,1.9930000000000001,0,0,0,0,0,0]
[null,null,null,null,null,"LV UMS (Pseudo HH Metered)",null,"LDNO LV",null,16.847000000000001,2.0840000000000001,1.597,0,0,0,0]
[null,null,null,null,null,"LV Generation NHH or Aggregate HH",null,"LDNO LV",null,-0.83899999999999997,0,0,0,0,0,0]
[null,null,null,null,null,"LV Sub Generation NHH",null,"LDNO LV"]
[null,null,null,null,null,"LV Generation Intermittent",null,"LDNO LV",null,-0.83899999999999997,0,0,0,0,0,0.30199999999999999]
[null,null,null,null,null,"LV Generation Intermittent no RP charge",null,"LDNO LV"]
[null,null,null,null,null,"LV Generation Non-Intermittent",null,"LDNO LV",null,-7.0289999999999999,-0.54400000000000004,-0.16600000000000001,0,0,0,0.30199999999999999]
[null,null,null,null,null,"LV Generation Non-Intermittent no RP charge",null,"LDNO LV"]
[null,null,null,null,null,"LV Sub Generation Intermittent",null,"LDNO LV"]
[null,null,null,null,null,"LV Sub Generation Intermittent no RP charge",null,"LDNO LV"]
[null,null,null,null,null,"LV Sub Generation Non-Intermittent",null,"LDNO LV"]
[null,null,null,null,null,"LV Sub Generation Non-Intermittent no RP charge",null,"LDNO LV"]
[null,null,null,null,null,"HV Generation Intermittent",null,"LDNO LV"]
[null,null,null,null,null,"HV Generation Intermittent no RP charge",null,"LDNO LV"]
[null,null,null,null,null,"HV Generation Non-Intermittent",null,"LDNO LV"]
[null,null,null,null,null,"HV Generation Non-Intermittent no RP charge",null,"LDNO LV"]
[]
[null,null,null,null,{"$f":"\"LDNO HV tariff forecast \" & charging_year","v":"LDNO HV tariff forecast 2020/21"}]
[null,null,null,null,null,"Domestic Unrestricted",null,"LDNO HV",null,1.0960000000000001,0,0,1.67,0,0,0]
[null,null,null,null,null,"Domestic Two Rate",null,"LDNO HV",null,1.1599999999999999,0.56999999999999995,0,1.67,0,0,0]
[null,null,null,null,null,"Domestic Off Peak (related MPAN)",null,"LDNO HV",null,0.56499999999999995,0,0,0,0,0,0]
[null,null,null,null,null,"Small Non Domestic Unrestricted",null,"LDNO HV",null,0.88700000000000001,0,0,3.33,0,0,0]
[null,null,null,null,null,"Small Non Domestic Two Rate",null,"LDNO HV",null,1.0349999999999999,0.57199999999999995,0,3.33,0,0,0]
[null,null,null,null,null,"Small Non Domestic Off Peak (related MPAN)",null,"LDNO HV",null,0.56499999999999995,0,0,0,0,0,0]
[null,null,null,null,null,"LV Medium Non-Domestic",null,"LDNO HV",null,0.97399999999999998,0.55100000000000005,0,15,0,0,0]
[null,null,null,null,null,"LV Sub Medium Non-Domestic",null,"LDNO HV"]
[null,null,null,null,null,"HV Medium Non-Domestic",null,"LDNO HV"]
[null,null,null,null,null,"LV Network Domestic",null,"LDNO HV",null,4.3360000000000003,0.77600000000000002,0.56899999999999995,1.67,0,0,0]
[null,null,null,null,null,"LV Network Non-Domestic Non-CT",null,"LDNO HV",null,3.7890000000000001,0.73399999999999999,0.55600000000000005,3.33,0,0,0]
[null,null,null,null,null,"LV HH Metered",null,"LDNO HV",null,3.0739999999999998,0.67500000000000004,0.54300000000000004,5.03,1.21,2.59,0.107]
[null,null,null,null,null,"LV Sub HH Metered",null,"LDNO HV",null,3.6309999999999998,0.94599999999999995,0.81899999999999995,6.03,2.09,3.92,0.11799999999999999]
[null,null,null,null,null,"HV HH Metered",null,"LDNO HV",null,3.593,1.075,0.96699999999999997,67.06,2.57,5,0.104]
[null,null,null,null,null,"NHH UMS category A",null,"LDNO HV",null,1.2230000000000001,0,0,0,0,0,0]
[null,null,null,null,null,"NHH UMS category B",null,"LDNO HV",null,1.3220000000000001,0,0,0,0,0,0]
[null,null,null,null,null,"NHH UMS category C",null,"LDNO HV",null,1.6180000000000001,0,0,0,0,0,0]
[null,null,null,null,null,"NHH UMS category D",null,"LDNO HV",null,1.127,0,0,0,0,0,0]
[null,null,null,null,null,"LV UMS (Pseudo HH Metered)",null,"LDNO HV",null,9.5289999999999999,1.179,0.90300000000000002,0,0,0,0]
[null,null,null,null,null,"LV Generation NHH or Aggregate HH",null,"LDNO HV",null,-0.83899999999999997,0,0,0,0,0,0]
[null,null,null,null,null,"LV Sub Generation NHH",null,"LDNO HV",null,-0.76500000000000001,0,0,0,0,0,0]
[null,null,null,null,null,"LV Generation Intermittent",null,"LDNO HV",null,-0.83899999999999997,0,0,0,0,0,0.30199999999999999]
[null,null,null,null,null,"LV Generation Intermittent no RP charge",null,"LDNO HV"]
[null,null,null,null,null,"LV Generation Non-Intermittent",null,"LDNO HV",null,-7.0289999999999999,-0.54400000000000004,-0.16600000000000001,0,0,0,0.30199999999999999]
[null,null,null,null,null,"LV Generation Non-Intermittent no RP charge",null,"LDNO HV"]
[null,null,null,null,null,"LV Sub Generation Intermittent",null,"LDNO HV",null,-0.76500000000000001,0,0,0,0,0,0.254]
[null,null,null,null,null,"LV Sub Generation Intermittent no RP charge",null,"LDNO HV"]
[null,null,null,null,null,"LV Sub Generation Non-Intermittent",null,"LDNO HV",null,-6.3949999999999996,-0.49099999999999999,-0.158,0,0,0,0.254]
[null,null,null,null,null,"LV Sub Generation Non-Intermittent no RP charge",null,"LDNO HV"]
[null,null,null,null,null,"HV Generation Intermittent",null,"LDNO HV",null,-0.52100000000000002,0,0,0,0,0,0.21199999999999999]
[null,null,null,null,null,"HV Generation Intermittent no RP charge",null,"LDNO HV"]
[null,null,null,null,null,"HV Generation Non-Intermittent",null,"LDNO HV",null,-4.319,-0.313,-0.13,0,0,0,0.21199999999999999]
[null,null,null,null,null,"HV Generation Non-Intermittent no RP charge",null,"LDNO HV"]
[]
[null,null,{"$f":"INDEX('Version control'!$H$34:$H$59,MATCH($A$1,'Version control'!$F$34:$F$59,0),1)&\"-C: Tariff results for charging year \" & 'ARP_User control'!G32","v":"Output 501-C: Tariff results for charging year 2021/22"}]
[]
[null,null,null,null,{"$f":"\"All the way tariff forecast \" & 'ARP_User control'!G32","v":"All the way tariff forecast 2021/22"}]
[null,null,null,null,null,"Domestic Unrestricted",null,"All the way",null,2.9950000000000001,0,0,4.54,0,0,0]
[null,null,null,null,null,"Domestic Two Rate",null,"All the way",null,3.1669999999999998,1.5680000000000001,0,4.54,0,0,0]
[null,null,null,null,null,"Domestic Off Peak (related MPAN)",null,"All the way",null,1.5529999999999999,0,0,0,0,0,0]
[null,null,null,null,null,"Small Non Domestic Unrestricted",null,"All the way",null,2.427,0,0,9.0399999999999991,0,0,0]
[null,null,null,null,null,"Small Non Domestic Two Rate",null,"All the way",null,2.83,1.571,0,9.0399999999999991,0,0,0]
[null,null,null,null,null,"Small Non Domestic Off Peak (related MPAN)",null,"All the way",null,1.554,0,0,0,0,0,0]
[null,null,null,null,null,"LV Medium Non-Domestic",null,"All the way",null,2.6629999999999998,1.516,0,40.69,0,0,0]
[null,null,null,null,null,"LV Sub Medium Non-Domestic",null,"All the way",null,2.5569999999999999,1.508,0,20.71,0,0,0]
[null,null,null,null,null,"HV Medium Non-Domestic",null,"All the way",null,2.0339999999999998,1.4590000000000001,0,133.22999999999999,0,0,0]
[null,null,null,null,null,"LV Network Domestic",null,"All the way",null,11.787000000000001,2.1259999999999999,1.5629999999999999,4.54,0,0,0]
[null,null,null,null,null,"LV Network Non-Domestic Non-CT",null,"All the way",null,10.302,2.0110000000000001,1.528,9.0399999999999991,0,0,0]
[null,null,null,null,null,"LV HH Metered",null,"All the way",null,8.3620000000000001,1.8520000000000001,1.494,13.64,3.28,7.03,0.28899999999999998]
[null,null,null,null,null,"LV Sub HH Metered",null,"All the way",null,6.4279999999999999,1.69,1.466,10.64,3.7,6.92,0.20799999999999999]
[null,null,null,null,null,"HV HH Metered",null,"All the way",null,5.2850000000000001,1.5960000000000001,1.4379999999999999,98.26,3.77,7.33,0.153]
[null,null,null,null,null,"NHH UMS category A",null,"All the way",null,3.3450000000000002,0,0,0,0,0,0]
[null,null,null,null,null,"NHH UMS category B",null,"All the way",null,3.6110000000000002,0,0,0,0,0,0]
[null,null,null,null,null,"NHH UMS category C",null,"All the way",null,4.415,0,0,0,0,0,0]
[null,null,null,null,null,"NHH UMS category D",null,"All the way",null,3.09,0,0,0,0,0,0]
[null,null,null,null,null,"LV UMS (Pseudo HH Metered)",null,"All the way",null,25.875,3.2309999999999999,2.4740000000000002,0,0,0,0]
[null,null,null,null,null,"LV Generation NHH or Aggregate HH",null,"All the way",null,-0.86699999999999999,0,0,0,0,0,0]
[null,null,null,null,null,"LV Sub Generation NHH",null,"All the way",null,-0.79,0,0,0,0,0,0]
[null,null,null,null,null,"LV Generation Intermittent",null,"All the way",null,-0.86699999999999999,0,0,0,0,0,0.312]
[null,null,null,null,null,"LV Generation Intermittent no RP charge",null,"All the way",null,-0.86699999999999999,0,0,0,0,0,0]
[null,null,null,null,null,"LV Generation Non-Intermittent",null,"All the way",null,-7.2569999999999997,-0.56200000000000006,-0.17199999999999999,0,0,0,0.312]
[null,null,null,null,null,"LV Generation Non-Intermittent no RP charge",null,"All the way",null,-7.2569999999999997,-0.56200000000000006,-0.17199999999999999,0,0,0,0]
[null,null,null,null,null,"LV Sub Generation Intermittent",null,"All the way",null,-0.79,0,0,0,0,0,0.26300000000000001]
[null,null,null,null,null,"LV Sub Generation Intermittent no RP charge",null,"All the way",null,-0.79,0,0,0,0,0,0]
[null,null,null,null,null,"LV Sub Generation Non-Intermittent",null,"All the way",null,-6.6029999999999998,-0.50700000000000001,-0.16300000000000001,0,0,0,0.26300000000000001]
[null,null,null,null,null,"LV Sub Generation Non-Intermittent no RP charge",null,"All the way",null,-6.6029999999999998,-0.50700000000000001,-0.16300000000000001,0,0,0,0]
[null,null,null,null,null,"HV Generation Intermittent",null,"All the way",null,-0.53800000000000003,0,0,61.5,0,0,0.219]
[null,null,null,null,null,"HV Generation Intermittent no RP charge",null,"All the way",null,-0.53800000000000003,0,0,61.5,0,0,0]
[null,null,null,null,null,"HV Generation Non-Intermittent",null,"All the way",null,-4.4589999999999996,-0.32400000000000001,-0.13400000000000001,61.5,0,0,0.219]
[null,null,null,null,null,"HV Generation Non-Intermittent no RP charge",null,"All the way",null,-4.4589999999999996,-0.32400000000000001,-0.13400000000000001,61.5,0,0,0]
[]
[null,null,null,null,{"$f":"\"LDNO LV tariff forecast \"& 'ARP_User control'!G32","v":"LDNO LV tariff forecast 2021/22"}]
[null,null,null,null,null,"Domestic Unrestricted",null,"LDNO LV",null,2.0150000000000001,0,0,3.05,0,0,0]
[null,null,null,null,null,"Domestic Two Rate",null,"LDNO LV",null,2.1309999999999998,1.0549999999999999,0,3.05,0,0,0]
[null,null,null,null,null,"Domestic Off Peak (related MPAN)",null,"LDNO LV",null,1.0449999999999999,0,0,0,0,0,0]
[null,null,null,null,null,"Small Non Domestic Unrestricted",null,"LDNO LV",null,1.633,0,0,6.08,0,0,0]
[null,null,null,null,null,"Small Non Domestic Two Rate",null,"LDNO LV",null,1.9039999999999999,1.0569999999999999,0,6.08,0,0,0]
[null,null,null,null,null,"Small Non Domestic Off Peak (related MPAN)",null,"LDNO LV",null,1.046,0,0,0,0,0,0]
[null,null,null,null,null,"LV Medium Non-Domestic",null,"LDNO LV",null,1.792,1.02,0,27.38,0,0,0]
[null,null,null,null,null,"LV Sub Medium Non-Domestic",null,"LDNO LV"]
[null,null,null,null,null,"HV Medium Non-Domestic",null,"LDNO LV"]
[null,null,null,null,null,"LV Network Domestic",null,"LDNO LV",null,7.93,1.43,1.052,3.05,0,0,0]
[null,null,null,null,null,"LV Network Non-Domestic Non-CT",null,"LDNO LV",null,6.931,1.353,1.028,6.08,0,0,0]
[null,null,null,null,null,"LV HH Metered",null,"LDNO LV",null,5.6260000000000003,1.246,1.0049999999999999,9.18,2.21,4.7300000000000004,0.19400000000000001]
[null,null,null,null,null,"LV Sub HH Metered",null,"LDNO LV"]
[null,null,null,null,null,"HV HH Metered",null,"LDNO LV"]
[null,null,null,null,null,"NHH UMS category A",null,"LDNO LV",null,2.25,0,0,0,0,0,0]
[null,null,null,null,null,"NHH UMS category B",null,"LDNO LV",null,2.4289999999999998,0,0,0,0,0,0]
[null,null,null,null,null,"NHH UMS category C",null,"LDNO LV",null,2.97,0,0,0,0,0,0]
[null,null,null,null,null,"NHH UMS category D",null,"LDNO LV",null,2.0790000000000002,0,0,0,0,0,0]
[null,null,null,null,null,"LV UMS (Pseudo HH Metered)",null,"LDNO LV",null,17.408000000000001,2.1739999999999999,1.6639999999999999,0,0,0,0]
[null,null,null,null,null,"LV Generation NHH or Aggregate HH",null,"LDNO LV",null,-0.86699999999999999,0,0,0,0,0,0]
[null,null,null,null,null,"LV Sub Generation NHH",null,"LDNO LV"]
[null,null,null,null,null,"LV Generation Intermittent",null,"LDNO LV",null,-0.86699999999999999,0,0,0,0,0,0.312]
[null,null,null,null,null,"LV Generation Intermittent no RP charge",null,"LDNO LV"]
[null,null,null,null,null,"LV Generation Non-Intermittent",null,"LDNO LV",null,-7.2569999999999997,-0.56200000000000006,-0.17199999999999999,0,0,0,0.312]
[null,null,null,null,null,"LV Generation Non-Intermittent no RP charge",null,"LDNO LV"]
[null,null,null,null,null,"LV Sub Generation Intermittent",null,"LDNO LV"]
[null,null,null,null,null,"LV Sub Generation Intermittent no RP charge",null,"LDNO LV"]
[null,null,null,null,null,"LV Sub Generation Non-Intermittent",null,"LDNO LV"]
[null,null,null,null,null,"LV Sub Generation Non-Intermittent no RP charge",null,"LDNO LV"]
[null,null,null,null,null,"HV Generation Intermittent",null,"LDNO LV"]
[null,null,null,null,null,"HV Generation Intermittent no RP charge",null,"LDNO LV"]
[null,null,null,null,null,"HV Generation Non-Intermittent",null,"LDNO LV"]
[null,null,null,null,null,"HV Generation Non-Intermittent no RP charge",null,"LDNO LV"]
[]
[null,null,null,null,{"$f":"\"LDNO HV tariff forecast \"& 'ARP_User control'!G32","v":"LDNO HV tariff forecast 2021/22"}]
[null,null,null,null,null,"Domestic Unrestricted",null,"LDNO HV",null,1.1399999999999999,0,0,1.73,0,0,0]
[null,null,null,null,null,"Domestic Two Rate",null,"LDNO HV",null,1.2050000000000001,0.59699999999999998,0,1.73,0,0,0]
[null,null,null,null,null,"Domestic Off Peak (related MPAN)",null,"LDNO HV",null,0.59099999999999997,0,0,0,0,0,0]
[null,null,null,null,null,"Small Non Domestic Unrestricted",null,"LDNO HV",null,0.92400000000000004,0,0,3.44,0,0,0]
[null,null,null,null,null,"Small Non Domestic Two Rate",null,"LDNO HV",null,1.077,0.59799999999999998,0,3.44,0,0,0]
[null,null,null,null,null,"Small Non Domestic Off Peak (related MPAN)",null,"LDNO HV",null,0.59099999999999997,0,0,0,0,0,0]
[null,null,null,null,null,"LV Medium Non-Domestic",null,"LDNO HV",null,1.0129999999999999,0.57699999999999996,0,15.48,0,0,0]
[null,null,null,null,null,"LV Sub Medium Non-Domestic",null,"LDNO HV"]
[null,null,null,null,null,"HV Medium Non-Domestic",null,"LDNO HV"]
[null,null,null,null,null,"LV Network Domestic",null,"LDNO HV",null,4.4850000000000003,0.80900000000000005,0.59499999999999997,1.73,0,0,0]
[null,null,null,null,null,"LV Network Non-Domestic Non-CT",null,"LDNO HV",null,3.92,0.76500000000000001,0.58099999999999996,3.44,0,0,0]
[null,null,null,null,null,"LV HH Metered",null,"LDNO HV",null,3.1819999999999999,0.70499999999999996,0.56899999999999995,5.19,1.25,2.68,0.11]
[null,null,null,null,null,"LV Sub HH Metered",null,"LDNO HV",null,3.7610000000000001,0.98899999999999999,0.85799999999999998,6.23,2.16,4.05,0.122]
[null,null,null,null,null,"HV HH Metered",null,"LDNO HV",null,3.7240000000000002,1.125,1.0129999999999999,69.23,2.66,5.16,0.108]
[null,null,null,null,null,"NHH UMS category A",null,"LDNO HV",null,1.2729999999999999,0,0,0,0,0,0]
[null,null,null,null,null,"NHH UMS category B",null,"LDNO HV",null,1.3740000000000001,0,0,0,0,0,0]
[null,null,null,null,null,"NHH UMS category C",null,"LDNO HV",null,1.68,0,0,0,0,0,0]
[null,null,null,null,null,"NHH UMS category D",null,"LDNO HV",null,1.1759999999999999,0,0,0,0,0,0]
[null,null,null,null,null,"LV UMS (Pseudo HH Metered)",null,"LDNO HV",null,9.8460000000000001,1.2290000000000001,0.94099999999999995,0,0,0,0]
[null,null,null,null,null,"LV Generation NHH or Aggregate HH",null,"LDNO HV",null,-0.86699999999999999,0,0,0,0,0,0]
[null,null,null,null,null,"LV Sub Generation NHH",null,"LDNO HV",null,-0.79,0,0,0,0,0,0]
[null,null,null,null,null,"LV Generation Intermittent",null,"LDNO HV",null,-0.86699999999999999,0,0,0,0,0,0.312]
[null,null,null,null,null,"LV Generation Intermittent no RP charge",null,"LDNO HV"]
[null,null,null,null,null,"LV Generation Non-Intermittent",null,"LDNO HV",null,-7.2569999999999997,-0.56200000000000006,-0.17199999999999999,0,0,0,0.312]
[null,null,null,null,null,"LV Generation Non-Intermittent no RP charge",null,"LDNO HV"]
[null,null,null,null,null,"LV Sub Generation Intermittent",null,"LDNO HV",null,-0.79,0,0,0,0,0,0.26300000000000001]
[null,null,null,null,null,"LV Sub Generation Intermittent no RP charge",null,"LDNO HV"]
[null,null,null,null,null,"LV Sub Generation Non-Intermittent",null,"LDNO HV",null,-6.6029999999999998,-0.50700000000000001,-0.16300000000000001,0,0,0,0.26300000000000001]
[null,null,null,null,null,"LV Sub Generation Non-Intermittent no RP charge",null,"LDNO HV"]
[null,null,null,null,null,"HV Generation Intermittent",null,"LDNO HV",null,-0.53800000000000003,0,0,0,0,0,0.219]
[null,null,null,null,null,"HV Generation Intermittent no RP charge",null,"LDNO HV"]
[null,null,null,null,null,"HV Generation Non-Intermittent",null,"LDNO HV",null,-4.4589999999999996,-0.32400000000000001,-0.13400000000000001,0,0,0,0.219]
[null,null,null,null,null,"HV Generation Non-Intermittent no RP charge",null,"LDNO HV"]
[]
[null,null,{"$f":"INDEX('Version control'!$H$34:$H$59,MATCH($A$1,'Version control'!$F$34:$F$59,0),1)&\"-D: Tariff results for charging year \" & 'ARP_User control'!G33","v":"Output 501-D: Tariff results for charging year 2022/23"}]
[]
[null,null,null,null,{"$f":"\"All the way tariff forecast \"& 'ARP_User control'!G33","v":"All the way tariff forecast 2022/23"}]
[null,null,null,null,null,"Domestic Unrestricted",null,"All the way",null,2.7850000000000001,0,0,4.68,0,0,0]
[null,null,null,null,null,"Domestic Two Rate",null,"All the way",null,2.9630000000000001,1.3089999999999999,0,4.68,0,0,0]
[null,null,null,null,null,"Domestic Off Peak (related MPAN)",null,"All the way",null,1.2929999999999999,0,0,0,0,0,0]
[null,null,null,null,null,"Small Non Domestic Unrestricted",null,"All the way",null,2.198,0,0,9.33,0,0,0]
[null,null,null,null,null,"Small Non Domestic Two Rate",null,"All the way",null,2.6139999999999999,1.3120000000000001,0,9.33,0,0,0]
[null,null,null,null,null,"Small Non Domestic Off Peak (related MPAN)",null,"All the way",null,1.2949999999999999,0,0,0,0,0,0]
[null,null,null,null,null,"LV Medium Non-Domestic",null,"All the way",null,2.4420000000000002,1.2549999999999999,0,42.02,0,0,0]
[null,null,null,null,null,"LV Sub Medium Non-Domestic",null,"All the way",null,2.3319999999999999,1.2470000000000001,0,21.39,0,0,0]
[null,null,null,null,null,"HV Medium Non-Domestic",null,"All the way",null,1.792,1.196,0,137.57,0,0,0]
[null,null,null,null,null,"LV Network Domestic",null,"All the way",null,11.882,1.885,1.304,4.68,0,0,0]
[null,null,null,null,null,"LV Network Non-Domestic Non-CT",null,"All the way",null,10.345000000000001,1.766,1.2669999999999999,9.33,0,0,0]
[null,null,null,null,null,"LV HH Metered",null,"All the way",null,8.34,1.6020000000000001,1.232,14.08,3.39,7.26,0.29899999999999999]
[null,null,null,null,null,"LV Sub HH Metered",null,"All the way",null,6.3419999999999996,1.4350000000000001,1.2030000000000001,10.99,3.82,7.15,0.215]
[null,null,null,null,null,"HV HH Metered",null,"All the way",null,5.1609999999999996,1.3380000000000001,1.175,101.46,3.89,7.57,0.159]
[null,null,null,null,null,"NHH UMS category A",null,"All the way",null,3.145,0,0,0,0,0,0]
[null,null,null,null,null,"NHH UMS category B",null,"All the way",null,3.42,0,0,0,0,0,0]
[null,null,null,null,null,"NHH UMS category C",null,"All the way",null,4.2519999999999998,0,0,0,0,0,0]
[null,null,null,null,null,"NHH UMS category D",null,"All the way",null,2.8809999999999998,0,0,0,0,0,0]
[null,null,null,null,null,"LV UMS (Pseudo HH Metered)",null,"All the way",null,26.449000000000002,3.0270000000000001,2.2440000000000002,0,0,0,0]
[null,null,null,null,null,"LV Generation NHH or Aggregate HH",null,"All the way",null,-0.89700000000000002,0,0,0,0,0,0]
[null,null,null,null,null,"LV Sub Generation NHH",null,"All the way",null,-0.81699999999999995,0,0,0,0,0,0]
[null,null,null,null,null,"LV Generation Intermittent",null,"All the way",null,-0.89700000000000002,0,0,0,0,0,0.32200000000000001]
[null,null,null,null,null,"LV Generation Intermittent no RP charge",null,"All the way",null,-0.89700000000000002,0,0,0,0,0,0]
[null,null,null,null,null,"LV Generation Non-Intermittent",null,"All the way",null,-7.508,-0.58099999999999996,-0.17799999999999999,0,0,0,0.32200000000000001]
[null,null,null,null,null,"LV Generation Non-Intermittent no RP charge",null,"All the way",null,-7.508,-0.58099999999999996,-0.17799999999999999,0,0,0,0]
[null,null,null,null,null,"LV Sub Generation Intermittent",null,"All the way",null,-0.81699999999999995,0,0,0,0,0,0.27200000000000002]
[null,null,null,null,null,"LV Sub Generation Intermittent no RP charge",null,"All the way",null,-0.81699999999999995,0,0,0,0,0,0]
[null,null,null,null,null,"LV Sub Generation Non-Intermittent",null,"All the way",null,-6.8330000000000002,-0.52400000000000002,-0.16800000000000001,0,0,0,0.27200000000000002]
[null,null,null,null,null,"LV Sub Generation Non-Intermittent no RP charge",null,"All the way",null,-6.8330000000000002,-0.52400000000000002,-0.16800000000000001,0,0,0,0]
[null,null,null,null,null,"HV Generation Intermittent",null,"All the way",null,-0.55600000000000005,0,0,63.5,0,0,0.22700000000000001]
[null,null,null,null,null,"HV Generation Intermittent no RP charge",null,"All the way",null,-0.55600000000000005,0,0,63.5,0,0,0]
[null,null,null,null,null,"HV Generation Non-Intermittent",null,"All the way",null,-4.6180000000000003,-0.33500000000000002,-0.13900000000000001,63.5,0,0,0.22700000000000001]
[null,null,null,null,null,"HV Generation Non-Intermittent no RP charge",null,"All the way",null,-4.6180000000000003,-0.33500000000000002,-0.13900000000000001,63.5,0,0,0]
[]
[null,null,null,null,{"$f":"\"LDNO LV tariff forecast \"& 'ARP_User control'!G33","v":"LDNO LV tariff forecast 2022/23"}]
[null,null,null,null,null,"Domestic Unrestricted",null,"LDNO LV",null,1.8740000000000001,0,0,3.15,0,0,0]
[null,null,null,null,null,"Domestic Two Rate",null,"LDNO LV",null,1.9930000000000001,0.88100000000000001,0,3.15,0,0,0]
[null,null,null,null,null,"Domestic Off Peak (related MPAN)",null,"LDNO LV",null,0.87,0,0,0,0,0,0]
[null,null,null,null,null,"Small Non Domestic Unrestricted",null,"LDNO LV",null,1.4790000000000001,0,0,6.28,0,0,0]
[null,null,null,null,null,"Small Non Domestic Two Rate",null,"LDNO LV",null,1.7589999999999999,0.88300000000000001,0,6.28,0,0,0]
[null,null,null,null,null,"Small Non Domestic Off Peak (related MPAN)",null,"LDNO LV",null,0.871,0,0,0,0,0,0]
[null,null,null,null,null,"LV Medium Non-Domestic",null,"LDNO LV",null,1.643,0.84399999999999997,0,28.27,0,0,0]
[null,null,null,null,null,"LV Sub Medium Non-Domestic",null,"LDNO LV"]
[null,null,null,null,null,"HV Medium Non-Domestic",null,"LDNO LV"]
[null,null,null,null,null,"LV Network Domestic",null,"LDNO LV",null,7.9939999999999998,1.268,0.877,3.15,0,0,0]
[null,null,null,null,null,"LV Network Non-Domestic Non-CT",null,"LDNO LV",null,6.96,1.1879999999999999,0.85199999999999998,6.28,0,0,0]
[null,null,null,null,null,"LV HH Metered",null,"LDNO LV",null,5.6109999999999998,1.0780000000000001,0.82899999999999996,9.4700000000000006,2.2799999999999998,4.88,0.20100000000000001]
[null,null,null,null,null,"LV Sub HH Metered",null,"LDNO LV"]
[null,null,null,null,null,"HV HH Metered",null,"LDNO LV"]
[null,null,null,null,null,"NHH UMS category A",null,"LDNO LV",null,2.1160000000000001,0,0,0,0,0,0]
[null,null,null,null,null,"NHH UMS category B",null,"LDNO LV",null,2.3010000000000002,0,0,0,0,0,0]
[null,null,null,null,null,"NHH UMS category C",null,"LDNO LV",null,2.8610000000000002,0,0,0,0,0,0]
[null,null,null,null,null,"NHH UMS category D",null,"LDNO LV",null,1.9379999999999999,0,0,0,0,0,0]
[null,null,null,null,null,"LV UMS (Pseudo HH Metered)",null,"LDNO LV",null,17.794,2.0369999999999999,1.51,0,0,0,0]
[null,null,null,null,null,"LV Generation NHH or Aggregate HH",null,"LDNO LV",null,-0.89700000000000002,0,0,0,0,0,0]
[null,null,null,null,null,"LV Sub Generation NHH",null,"LDNO LV"]
[null,null,null,null,null,"LV Generation Intermittent",null,"LDNO LV",null,-0.89700000000000002,0,0,0,0,0,0.32200000000000001]
[null,null,null,null,null,"LV Generation Intermittent no RP charge",null,"LDNO LV"]
[null,null,null,null,null,"LV Generation Non-Intermittent",null,"LDNO LV",null,-7.508,-0.58099999999999996,-0.17799999999999999,0,0,0,0.32200000000000001]
[null,null,null,null,null,"LV Generation Non-Intermittent no RP charge",null,"LDNO LV"]
[null,null,null,null,null,"LV Sub Generation Intermittent",null,"LDNO LV"]
[null,null,null,null,null,"LV Sub Generation Intermittent no RP charge",null,"LDNO LV"]
[null,null,null,null,null,"LV Sub Generation Non-Intermittent",null,"LDNO LV"]
[null,null,null,null,null,"LV Sub Generation Non-Intermittent no RP charge",null,"LDNO LV"]
[null,null,null,null,null,"HV Generation Intermittent",null,"LDNO LV"]
[null,null,null,null,null,"HV Generation Intermittent no RP charge",null,"LDNO LV"]
[null,null,null,null,null,"HV Generation Non-Intermittent",null,"LDNO LV"]
[null,null,null,null,null,"HV Generation Non-Intermittent no RP charge",null,"LDNO LV"]
[]
[null,null,null,null,{"$f":"\"LDNO HV tariff forecast \"& 'ARP_User control'!G33","v":"LDNO HV tariff forecast 2022/23"}]
[null,null,null,null,null,"Domestic Unrestricted",null,"LDNO HV",null,1.06,0,0,1.78,0,0,0]
[null,null,null,null,null,"Domestic Two Rate",null,"LDNO HV",null,1.127,0.498,0,1.78,0,0,0]
[null,null,null,null,null,"Domestic Off Peak (related MPAN)",null,"LDNO HV",null,0.49199999999999999,0,0,0,0,0,0]
[null,null,null,null,null,"Small Non Domestic Unrestricted",null,"LDNO HV",null,0.83599999999999997,0,0,3.55,0,0,0]
[null,null,null,null,null,"Small Non Domestic Two Rate",null,"LDNO HV",null,0.995,0.499,0,3.55,0,0,0]
[null,null,null,null,null,"Small Non Domestic Off Peak (related MPAN)",null,"LDNO HV",null,0.49299999999999999,0,0,0,0,0,0]
[null,null,null,null,null,"LV Medium Non-Domestic",null,"LDNO HV",null,0.92900000000000005,0.47799999999999998,0,15.99,0,0,0]
[null,null,null,null,null,"LV Sub Medium Non-Domestic",null,"LDNO HV"]
[null,null,null,null,null,"HV Medium Non-Domestic",null,"LDNO HV"]
[null,null,null,null,null,"LV Network Domestic",null,"LDNO HV",null,4.5209999999999999,0.71699999999999997,0.496,1.78,0,0,0]
[null,null,null,null,null,"LV Network Non-Domestic Non-CT",null,"LDNO HV",null,3.9369999999999998,0.67200000000000004,0.48199999999999998,3.55,0,0,0]
[null,null,null,null,null,"LV HH Metered",null,"LDNO HV",null,3.1739999999999999,0.61,0.46899999999999997,5.36,1.29,2.76,0.114]
[null,null,null,null,null,"LV Sub HH Metered",null,"LDNO HV",null,3.71,0.84,0.70399999999999996,6.43,2.23,4.18,0.126]
[null,null,null,null,null,"HV HH Metered",null,"LDNO HV",null,3.6360000000000001,0.94299999999999995,0.82799999999999996,71.489999999999995,2.74,5.33,0.112]
[null,null,null,null,null,"NHH UMS category A",null,"LDNO HV",null,1.1970000000000001,0,0,0,0,0,0]
[null,null,null,null,null,"NHH UMS category B",null,"LDNO HV",null,1.3009999999999999,0,0,0,0,0,0]
[null,null,null,null,null,"NHH UMS category C",null,"LDNO HV",null,1.6180000000000001,0,0,0,0,0,0]
[null,null,null,null,null,"NHH UMS category D",null,"LDNO HV",null,1.0960000000000001,0,0,0,0,0,0]
[null,null,null,null,null,"LV UMS (Pseudo HH Metered)",null,"LDNO HV",null,10.065,1.1519999999999999,0.85399999999999998,0,0,0,0]
[null,null,null,null,null,"LV Generation NHH or Aggregate HH",null,"LDNO HV",null,-0.89700000000000002,0,0,0,0,0,0]
[null,null,null,null,null,"LV Sub Generation NHH",null,"LDNO HV",null,-0.81699999999999995,0,0,0,0,0,0]
[null,null,null,null,null,"LV Generation Intermittent",null,"LDNO HV",null,-0.89700000000000002,0,0,0,0,0,0.32200000000000001]
[null,null,null,null,null,"LV Generation Intermittent no RP charge",null,"LDNO HV"]
[null,null,null,null,null,"LV Generation Non-Intermittent",null,"LDNO HV",null,-7.508,-0.58099999999999996,-0.17799999999999999,0,0,0,0.32200000000000001]
[null,null,null,null,null,"LV Generation Non-Intermittent no RP charge",null,"LDNO HV"]
[null,null,null,null,null,"LV Sub Generation Intermittent",null,"LDNO HV",null,-0.81699999999999995,0,0,0,0,0,0.27200000000000002]
[null,null,null,null,null,"LV Sub Generation Intermittent no RP charge",null,"LDNO HV"]
[null,null,null,null,null,"LV Sub Generation Non-Intermittent",null,"LDNO HV",null,-6.8330000000000002,-0.52400000000000002,-0.16800000000000001,0,0,0,0.27200000000000002]
[null,null,null,null,null,"LV Sub Generation Non-Intermittent no RP charge",null,"LDNO HV"]
[null,null,null,null,null,"HV Generation Intermittent",null,"LDNO HV",null,-0.55600000000000005,0,0,0,0,0,0.22700000000000001]
[null,null,null,null,null,"HV Generation Intermittent no RP charge",null,"LDNO HV"]
[null,null,null,null,null,"HV Generation Non-Intermittent",null,"LDNO HV",null,-4.6180000000000003,-0.33500000000000002,-0.13900000000000001,0,0,0,0.22700000000000001]
[null,null,null,null,null,"HV Generation Non-Intermittent no RP charge",null,"LDNO HV"]
[]
[null,null,{"$f":"INDEX('Version control'!$H$34:$H$59,MATCH($A$1,'Version control'!$F$34:$F$59,0),1)&\"-E: Tariff results for charging year \" & 'ARP_User control'!G34","v":"Output 501-E: Tariff results for charging year 2023/24"}]
[]
[null,null,null,null,{"$f":"\"All the way tariff forecast \"& 'ARP_User control'!G34","v":"All the way tariff forecast 2023/24"}]
[null,null,null,null,null,"Domestic Unrestricted",null,"All the way",null,3.4670000000000001,0,0,4.83,0,0,0]
[null,null,null,null,null,"Domestic Two Rate",null,"All the way",null,3.6509999999999998,1.944,0,4.83,0,0,0]
[null,null,null,null,null,"Domestic Off Peak (related MPAN)",null,"All the way",null,1.93,0,0,0,0,0,0]
[null,null,null,null,null,"Small Non Domestic Unrestricted",null,"All the way",null,2.8610000000000002,0,0,9.6300000000000008,0,0,0]
[null,null,null,null,null,"Small Non Domestic Two Rate",null,"All the way",null,3.2909999999999999,1.9470000000000001,0,9.6300000000000008,0,0,0]
[null,null,null,null,null,"Small Non Domestic Off Peak (related MPAN)",null,"All the way",null,1.931,0,0,0,0,0,0]
[null,null,null,null,null,"LV Medium Non-Domestic",null,"All the way",null,3.113,1.8879999999999999,0,43.23,0,0,0]
[null,null,null,null,null,"LV Sub Medium Non-Domestic",null,"All the way",null,3,1.88,0,22.05,0,0,0]
[null,null,null,null,null,"HV Medium Non-Domestic",null,"All the way",null,2.444,1.8280000000000001,0,142.02000000000001,0,0,0]
[null,null,null,null,null,"LV Network Domestic",null,"All the way",null,12.86,2.5379999999999998,1.9379999999999999,4.83,0,0,0]
[null,null,null,null,null,"LV Network Non-Domestic Non-CT",null,"All the way",null,11.273999999999999,2.4159999999999999,1.901,9.6300000000000008,0,0,0]
[null,null,null,null,null,"LV HH Metered",null,"All the way",null,9.2029999999999994,2.2469999999999999,1.865,14.55,3.5,7.48,0.308]
[null,null,null,null,null,"LV Sub HH Metered",null,"All the way",null,7.141,2.0739999999999998,1.835,11.36,3.94,7.37,0.222]
[null,null,null,null,null,"HV HH Metered",null,"All the way",null,5.9219999999999997,1.9750000000000001,1.806,104.84,4.0199999999999996,7.81,0.16400000000000001]
[null,null,null,null,null,"NHH UMS category A",null,"All the way",null,3.8530000000000002,0,0,0,0,0,0]
[null,null,null,null,null,"NHH UMS category B",null,"All the way",null,4.133,0,0,0,0,0,0]
[null,null,null,null,null,"NHH UMS category C",null,"All the way",null,4.9939999999999998,0,0,0,0,0,0]
[null,null,null,null,null,"NHH UMS category D",null,"All the way",null,3.5840000000000001,0,0,0,0,0,0]
[null,null,null,null,null,"LV UMS (Pseudo HH Metered)",null,"All the way",null,27.904,3.738,2.9159999999999999,0,0,0,0]
[null,null,null,null,null,"LV Generation NHH or Aggregate HH",null,"All the way",null,-0.92500000000000004,0,0,0,0,0,0]
[null,null,null,null,null,"LV Sub Generation NHH",null,"All the way",null,-0.84299999999999997,0,0,0,0,0,0]
[null,null,null,null,null,"LV Generation Intermittent",null,"All the way",null,-0.92500000000000004,0,0,0,0,0,0.33300000000000002]
[null,null,null,null,null,"LV Generation Intermittent no RP charge",null,"All the way",null,-0.92500000000000004,0,0,0,0,0,0]
[null,null,null,null,null,"LV Generation Non-Intermittent",null,"All the way",null,-7.8019999999999996,-0.60099999999999998,-0.183,0,0,0,0.33300000000000002]
[null,null,null,null,null,"LV Generation Non-Intermittent no RP charge",null,"All the way",null,-7.8019999999999996,-0.60099999999999998,-0.183,0,0,0,0]
[null,null,null,null,null,"LV Sub Generation Intermittent",null,"All the way",null,-0.84299999999999997,0,0,0,0,0,0.28000000000000003]
[null,null,null,null,null,"LV Sub Generation Intermittent no RP charge",null,"All the way",null,-0.84299999999999997,0,0,0,0,0,0]
[null,null,null,null,null,"LV Sub Generation Non-Intermittent",null,"All the way",null,-7.0990000000000002,-0.54200000000000004,-0.17299999999999999,0,0,0,0.28000000000000003]
[null,null,null,null,null,"LV Sub Generation Non-Intermittent no RP charge",null,"All the way",null,-7.0990000000000002,-0.54200000000000004,-0.17299999999999999,0,0,0,0]
[null,null,null,null,null,"HV Generation Intermittent",null,"All the way",null,-0.57399999999999995,0,0,65.61,0,0,0.23400000000000001]
[null,null,null,null,null,"HV Generation Intermittent no RP charge",null,"All the way",null,-0.57399999999999995,0,0,65.61,0,0,0]
[null,null,null,null,null,"HV Generation Non-Intermittent",null,"All the way",null,-4.798,-0.34599999999999997,-0.14299999999999999,65.61,0,0,0.23400000000000001]
[null,null,null,null,null,"HV Generation Non-Intermittent no RP charge",null,"All the way",null,-4.798,-0.34599999999999997,-0.14299999999999999,65.61,0,0,0]
[]
[null,null,null,null,{"$f":"\"LDNO LV tariff forecast \"& 'ARP_User control'!G34","v":"LDNO LV tariff forecast 2023/24"}]
[null,null,null,null,null,"Domestic Unrestricted",null,"LDNO LV",null,2.3330000000000002,0,0,3.25,0,0,0]
[null,null,null,null,null,"Domestic Two Rate",null,"LDNO LV",null,2.456,1.3080000000000001,0,3.25,0,0,0]
[null,null,null,null,null,"Domestic Off Peak (related MPAN)",null,"LDNO LV",null,1.298,0,0,0,0,0,0]
[null,null,null,null,null,"Small Non Domestic Unrestricted",null,"LDNO LV",null,1.925,0,0,6.48,0,0,0]
[null,null,null,null,null,"Small Non Domestic Two Rate",null,"LDNO LV",null,2.214,1.31,0,6.48,0,0,0]
[null,null,null,null,null,"Small Non Domestic Off Peak (related MPAN)",null,"LDNO LV",null,1.2989999999999999,0,0,0,0,0,0]
[null,null,null,null,null,"LV Medium Non-Domestic",null,"LDNO LV",null,2.0939999999999999,1.27,0,29.08,0,0,0]
[null,null,null,null,null,"LV Sub Medium Non-Domestic",null,"LDNO LV"]
[null,null,null,null,null,"HV Medium Non-Domestic",null,"LDNO LV"]
[null,null,null,null,null,"LV Network Domestic",null,"LDNO LV",null,8.6519999999999992,1.708,1.304,3.25,0,0,0]
[null,null,null,null,null,"LV Network Non-Domestic Non-CT",null,"LDNO LV",null,7.585,1.625,1.2789999999999999,6.48,0,0,0]
[null,null,null,null,null,"LV HH Metered",null,"LDNO LV",null,6.1920000000000002,1.512,1.2549999999999999,9.7899999999999991,2.35,5.03,0.20699999999999999]
[null,null,null,null,null,"LV Sub HH Metered",null,"LDNO LV"]
[null,null,null,null,null,"HV HH Metered",null,"LDNO LV"]
[null,null,null,null,null,"NHH UMS category A",null,"LDNO LV",null,2.5920000000000001,0,0,0,0,0,0]
[null,null,null,null,null,"NHH UMS category B",null,"LDNO LV",null,2.7810000000000001,0,0,0,0,0,0]
[null,null,null,null,null,"NHH UMS category C",null,"LDNO LV",null,3.36,0,0,0,0,0,0]
[null,null,null,null,null,"NHH UMS category D",null,"LDNO LV",null,2.411,0,0,0,0,0,0]
[null,null,null,null,null,"LV UMS (Pseudo HH Metered)",null,"LDNO LV",null,18.773,2.5150000000000001,1.962,0,0,0,0]
[null,null,null,null,null,"LV Generation NHH or Aggregate HH",null,"LDNO LV",null,-0.92500000000000004,0,0,0,0,0,0]
[null,null,null,null,null,"LV Sub Generation NHH",null,"LDNO LV"]
[null,null,null,null,null,"LV Generation Intermittent",null,"LDNO LV",null,-0.92500000000000004,0,0,0,0,0,0.33300000000000002]
[null,null,null,null,null,"LV Generation Intermittent no RP charge",null,"LDNO LV"]
[null,null,null,null,null,"LV Generation Non-Intermittent",null,"LDNO LV",null,-7.8019999999999996,-0.60099999999999998,-0.183,0,0,0,0.33300000000000002]
[null,null,null,null,null,"LV Generation Non-Intermittent no RP charge",null,"LDNO LV"]
[null,null,null,null,null,"LV Sub Generation Intermittent",null,"LDNO LV"]
[null,null,null,null,null,"LV Sub Generation Intermittent no RP charge",null,"LDNO LV"]
[null,null,null,null,null,"LV Sub Generation Non-Intermittent",null,"LDNO LV"]
[null,null,null,null,null,"LV Sub Generation Non-Intermittent no RP charge",null,"LDNO LV"]
[null,null,null,null,null,"HV Generation Intermittent",null,"LDNO LV"]
[null,null,null,null,null,"HV Generation Intermittent no RP charge",null,"LDNO LV"]
[null,null,null,null,null,"HV Generation Non-Intermittent",null,"LDNO LV"]
[null,null,null,null,null,"HV Generation Non-Intermittent no RP charge",null,"LDNO LV"]
[]
[null,null,null,null,{"$f":"\"LDNO HV tariff forecast \"& 'ARP_User control'!G34","v":"LDNO HV tariff forecast 2023/24"}]
[null,null,null,null,null,"Domestic Unrestricted",null,"LDNO HV",null,1.319,0,0,1.84,0,0,0]
[null,null,null,null,null,"Domestic Two Rate",null,"LDNO HV",null,1.389,0.74,0,1.84,0,0,0]
[null,null,null,null,null,"Domestic Off Peak (related MPAN)",null,"LDNO HV",null,0.73399999999999999,0,0,0,0,0,0]
[null,null,null,null,null,"Small Non Domestic Unrestricted",null,"LDNO HV",null,1.089,0,0,3.66,0,0,0]
[null,null,null,null,null,"Small Non Domestic Two Rate",null,"LDNO HV",null,1.252,0.74099999999999999,0,3.66,0,0,0]
[null,null,null,null,null,"Small Non Domestic Off Peak (related MPAN)",null,"LDNO HV",null,0.73499999999999999,0,0,0,0,0,0]
[null,null,null,null,null,"LV Medium Non-Domestic",null,"LDNO HV",null,1.1850000000000001,0.71799999999999997,0,16.45,0,0,0]
[null,null,null,null,null,"LV Sub Medium Non-Domestic",null,"LDNO HV"]
[null,null,null,null,null,"HV Medium Non-Domestic",null,"LDNO HV"]
[null,null,null,null,null,"LV Network Domestic",null,"LDNO HV",null,4.8940000000000001,0.96599999999999997,0.73699999999999999,1.84,0,0,0]
[null,null,null,null,null,"LV Network Non-Domestic Non-CT",null,"LDNO HV",null,4.29,0.91900000000000004,0.72299999999999998,3.66,0,0,0]
[null,null,null,null,null,"LV HH Metered",null,"LDNO HV",null,3.5019999999999998,0.85499999999999998,0.71,5.54,1.33,2.85,0.11700000000000001]
[null,null,null,null,null,"LV Sub HH Metered",null,"LDNO HV",null,4.1779999999999999,1.2130000000000001,1.0740000000000001,6.65,2.31,4.3099999999999996,0.13]
[null,null,null,null,null,"HV HH Metered",null,"LDNO HV",null,4.1719999999999997,1.3919999999999999,1.272,73.87,2.83,5.5,0.11600000000000001]
[null,null,null,null,null,"NHH UMS category A",null,"LDNO HV",null,1.466,0,0,0,0,0,0]
[null,null,null,null,null,"NHH UMS category B",null,"LDNO HV",null,1.573,0,0,0,0,0,0]
[null,null,null,null,null,"NHH UMS category C",null,"LDNO HV",null,1.9,0,0,0,0,0,0]
[null,null,null,null,null,"NHH UMS category D",null,"LDNO HV",null,1.3640000000000001,0,0,0,0,0,0]
[null,null,null,null,null,"LV UMS (Pseudo HH Metered)",null,"LDNO HV",null,10.618,1.4219999999999999,1.1100000000000001,0,0,0,0]
[null,null,null,null,null,"LV Generation NHH or Aggregate HH",null,"LDNO HV",null,-0.92500000000000004,0,0,0,0,0,0]
[null,null,null,null,null,"LV Sub Generation NHH",null,"LDNO HV",null,-0.84299999999999997,0,0,0,0,0,0]
[null,null,null,null,null,"LV Generation Intermittent",null,"LDNO HV",null,-0.92500000000000004,0,0,0,0,0,0.33300000000000002]
[null,null,null,null,null,"LV Generation Intermittent no RP charge",null,"LDNO HV"]
[null,null,null,null,null,"LV Generation Non-Intermittent",null,"LDNO HV",null,-7.8019999999999996,-0.60099999999999998,-0.183,0,0,0,0.33300000000000002]
[null,null,null,null,null,"LV Generation Non-Intermittent no RP charge",null,"LDNO HV"]
[null,null,null,null,null,"LV Sub Generation Intermittent",null,"LDNO HV",null,-0.84299999999999997,0,0,0,0,0,0.28000000000000003]
[null,null,null,null,null,"LV Sub Generation Intermittent no RP charge",null,"LDNO HV"]
[null,null,null,null,null,"LV Sub Generation Non-Intermittent",null,"LDNO HV",null,-7.0990000000000002,-0.54200000000000004,-0.17299999999999999,0,0,0,0.28000000000000003]
[null,null,null,null,null,"LV Sub Generation Non-Intermittent no RP charge",null,"LDNO HV"]
[null,null,null,null,null,"HV Generation Intermittent",null,"LDNO HV",null,-0.57399999999999995,0,0,0,0,0,0.23400000000000001]
[null,null,null,null,null,"HV Generation Intermittent no RP charge",null,"LDNO HV"]
[null,null,null,null,null,"HV Generation Non-Intermittent",null,"LDNO HV",null,-4.798,-0.34599999999999997,-0.14299999999999999,0,0,0,0.23400000000000001]
[null,null,null,null,null,"HV Generation Non-Intermittent no RP charge",null,"LDNO HV"]
[]
[null,null,{"$f":"INDEX('Version control'!$H$34:$H$59,MATCH($A$1,'Version control'!$F$34:$F$59,0),1)&\"-F: Tariff results for charging year \" & 'ARP_User control'!G35","v":"Output 501-F: Tariff results for charging year 2024/25"}]
[]
[null,null,null,null,{"$f":"\"All the way tariff forecast \"& 'ARP_User control'!G35","v":"All the way tariff forecast 2024/25"}]
[null,null,null,null,null,"Domestic Unrestricted",null,"All the way",null,3.58,0,0,5,0,0,0]
[null,null,null,null,null,"Domestic Two Rate",null,"All the way",null,3.77,2.0049999999999999,0,5,0,0,0]
[null,null,null,null,null,"Domestic Off Peak (related MPAN)",null,"All the way",null,1.988,0,0,0,0,0,0]
[null,null,null,null,null,"Small Non Domestic Unrestricted",null,"All the way",null,2.9529999999999998,0,0,9.9600000000000009,0,0,0]
[null,null,null,null,null,"Small Non Domestic Two Rate",null,"All the way",null,3.3969999999999998,2.008,0,9.9600000000000009,0,0,0]
[null,null,null,null,null,"Small Non Domestic Off Peak (related MPAN)",null,"All the way",null,1.99,0,0,0,0,0,0]
[null,null,null,null,null,"LV Medium Non-Domestic",null,"All the way",null,3.214,1.9470000000000001,0,44.83,0,0,0]
[null,null,null,null,null,"LV Sub Medium Non-Domestic",null,"All the way",null,3.0960000000000001,1.9390000000000001,0,22.82,0,0,0]
[null,null,null,null,null,"HV Medium Non-Domestic",null,"All the way",null,2.52,1.8839999999999999,0,146.76,0,0,0]
[null,null,null,null,null,"LV Network Domestic",null,"All the way",null,13.285,2.62,1.9990000000000001,5,0,0,0]
[null,null,null,null,null,"LV Network Non-Domestic Non-CT",null,"All the way",null,11.646000000000001,2.4929999999999999,1.96,9.9600000000000009,0,0,0]
[null,null,null,null,null,"LV HH Metered",null,"All the way",null,9.5060000000000002,2.3180000000000001,1.923,15.02,3.62,7.75,0.31900000000000001]
[null,null,null,null,null,"LV Sub HH Metered",null,"All the way",null,7.375,2.1389999999999998,1.8919999999999999,11.73,4.08,7.63,0.23]
[null,null,null,null,null,"HV HH Metered",null,"All the way",null,6.1139999999999999,2.036,1.8620000000000001,108.25,4.1500000000000004,8.08,0.16900000000000001]
[null,null,null,null,null,"NHH UMS category A",null,"All the way",null,3.964,0,0,0,0,0,0]
[null,null,null,null,null,"NHH UMS category B",null,"All the way",null,4.2569999999999997,0,0,0,0,0,0]
[null,null,null,null,null,"NHH UMS category C",null,"All the way",null,5.1440000000000001,0,0,0,0,0,0]
[null,null,null,null,null,"NHH UMS category D",null,"All the way",null,3.6819999999999999,0,0,0,0,0,0]
[null,null,null,null,null,"LV UMS (Pseudo HH Metered)",null,"All the way",null,28.826000000000001,3.8380000000000001,3.0019999999999998,0,0,0,0]
[null,null,null,null,null,"LV Generation NHH or Aggregate HH",null,"All the way",null,-0.95599999999999996,0,0,0,0,0,0]
[null,null,null,null,null,"LV Sub Generation NHH",null,"All the way",null,-0.872,0,0,0,0,0,0]
[null,null,null,null,null,"LV Generation Intermittent",null,"All the way",null,-0.95599999999999996,0,0,0,0,0,0.34399999999999997]
[null,null,null,null,null,"LV Generation Intermittent no RP charge",null,"All the way",null,-0.95599999999999996,0,0,0,0,0,0]
[null,null,null,null,null,"LV Generation Non-Intermittent",null,"All the way",null,-8.01,-0.62,-0.189,0,0,0,0.34399999999999997]
[null,null,null,null,null,"LV Generation Non-Intermittent no RP charge",null,"All the way",null,-8.01,-0.62,-0.189,0,0,0,0]
[null,null,null,null,null,"LV Sub Generation Intermittent",null,"All the way",null,-0.872,0,0,0,0,0,0.28999999999999998]
[null,null,null,null,null,"LV Sub Generation Intermittent no RP charge",null,"All the way",null,-0.872,0,0,0,0,0,0]
[null,null,null,null,null,"LV Sub Generation Non-Intermittent",null,"All the way",null,-7.29,-0.55900000000000005,-0.17899999999999999,0,0,0,0.28999999999999998]
[null,null,null,null,null,"LV Sub Generation Non-Intermittent no RP charge",null,"All the way",null,-7.29,-0.55900000000000005,-0.17899999999999999,0,0,0,0]
[null,null,null,null,null,"HV Generation Intermittent",null,"All the way",null,-0.59399999999999997,0,0,67.75,0,0,0.24199999999999999]
[null,null,null,null,null,"HV Generation Intermittent no RP charge",null,"All the way",null,-0.59399999999999997,0,0,67.75,0,0,0]
[null,null,null,null,null,"HV Generation Non-Intermittent",null,"All the way",null,-4.9269999999999996,-0.35699999999999998,-0.14799999999999999,67.75,0,0,0.24199999999999999]
[null,null,null,null,null,"HV Generation Non-Intermittent no RP charge",null,"All the way",null,-4.9269999999999996,-0.35699999999999998,-0.14799999999999999,67.75,0,0,0]
[]
[null,null,null,null,{"$f":"\"LDNO LV tariff forecast \"& 'ARP_User control'!G35","v":"LDNO LV tariff forecast 2024/25"}]
[null,null,null,null,null,"Domestic Unrestricted",null,"LDNO LV",null,2.4089999999999998,0,0,3.36,0,0,0]
[null,null,null,null,null,"Domestic Two Rate",null,"LDNO LV",null,2.536,1.349,0,3.36,0,0,0]
[null,null,null,null,null,"Domestic Off Peak (related MPAN)",null,"LDNO LV",null,1.337,0,0,0,0,0,0]
[null,null,null,null,null,"Small Non Domestic Unrestricted",null,"LDNO LV",null,1.9870000000000001,0,0,6.7,0,0,0]
[null,null,null,null,null,"Small Non Domestic Two Rate",null,"LDNO LV",null,2.2850000000000001,1.351,0,6.7,0,0,0]
[null,null,null,null,null,"Small Non Domestic Off Peak (related MPAN)",null,"LDNO LV",null,1.339,0,0,0,0,0,0]
[null,null,null,null,null,"LV Medium Non-Domestic",null,"LDNO LV",null,2.1619999999999999,1.31,0,30.16,0,0,0]
[null,null,null,null,null,"LV Sub Medium Non-Domestic",null,"LDNO LV"]
[null,null,null,null,null,"HV Medium Non-Domestic",null,"LDNO LV"]
[null,null,null,null,null,"LV Network Domestic",null,"LDNO LV",null,8.9380000000000006,1.7629999999999999,1.345,3.36,0,0,0]
[null,null,null,null,null,"LV Network Non-Domestic Non-CT",null,"LDNO LV",null,7.835,1.677,1.319,6.7,0,0,0]
[null,null,null,null,null,"LV HH Metered",null,"LDNO LV",null,6.3949999999999996,1.56,1.294,10.11,2.44,5.21,0.215]
[null,null,null,null,null,"LV Sub HH Metered",null,"LDNO LV"]
[null,null,null,null,null,"HV HH Metered",null,"LDNO LV"]
[null,null,null,null,null,"NHH UMS category A",null,"LDNO LV",null,2.6669999999999998,0,0,0,0,0,0]
[null,null,null,null,null,"NHH UMS category B",null,"LDNO LV",null,2.8639999999999999,0,0,0,0,0,0]
[null,null,null,null,null,"NHH UMS category C",null,"LDNO LV",null,3.4609999999999999,0,0,0,0,0,0]
[null,null,null,null,null,"NHH UMS category D",null,"LDNO LV",null,2.4769999999999999,0,0,0,0,0,0]
[null,null,null,null,null,"LV UMS (Pseudo HH Metered)",null,"LDNO LV",null,19.393999999999998,2.5819999999999999,2.02,0,0,0,0]
[null,null,null,null,null,"LV Generation NHH or Aggregate HH",null,"LDNO LV",null,-0.95599999999999996,0,0,0,0,0,0]
[null,null,null,null,null,"LV Sub Generation NHH",null,"LDNO LV"]
[null,null,null,null,null,"LV Generation Intermittent",null,"LDNO LV",null,-0.95599999999999996,0,0,0,0,0,0.34399999999999997]
[null,null,null,null,null,"LV Generation Intermittent no RP charge",null,"LDNO LV"]
[null,null,null,null,null,"LV Generation Non-Intermittent",null,"LDNO LV",null,-8.01,-0.62,-0.189,0,0,0,0.34399999999999997]
[null,null,null,null,null,"LV Generation Non-Intermittent no RP charge",null,"LDNO LV"]
[null,null,null,null,null,"LV Sub Generation Intermittent",null,"LDNO LV"]
[null,null,null,null,null,"LV Sub Generation Intermittent no RP charge",null,"LDNO LV"]
[null,null,null,null,null,"LV Sub Generation Non-Intermittent",null,"LDNO LV"]
[null,null,null,null,null,"LV Sub Generation Non-Intermittent no RP charge",null,"LDNO LV"]
[null,null,null,null,null,"HV Generation Intermittent",null,"LDNO LV"]
[null,null,null,null,null,"HV Generation Intermittent no RP charge",null,"LDNO LV"]
[null,null,null,null,null,"HV Generation Non-Intermittent",null,"LDNO LV"]
[null,null,null,null,null,"HV Generation Non-Intermittent no RP charge",null,"LDNO LV"]
[]
[null,null,null,null,{"$f":"\"LDNO HV tariff forecast \"& 'ARP_User control'!G35","v":"LDNO HV tariff forecast 2024/25"}]
[null,null,null,null,null,"Domestic Unrestricted",null,"LDNO HV",null,1.3620000000000001,0,0,1.9,0,0,0]
[null,null,null,null,null,"Domestic Two Rate",null,"LDNO HV",null,1.4350000000000001,0.76300000000000001,0,1.9,0,0,0]
[null,null,null,null,null,"Domestic Off Peak (related MPAN)",null,"LDNO HV",null,0.75600000000000001,0,0,0,0,0,0]
[null,null,null,null,null,"Small Non Domestic Unrestricted",null,"LDNO HV",null,1.1240000000000001,0,0,3.79,0,0,0]
[null,null,null,null,null,"Small Non Domestic Two Rate",null,"LDNO HV",null,1.2929999999999999,0.76400000000000001,0,3.79,0,0,0]
[null,null,null,null,null,"Small Non Domestic Off Peak (related MPAN)",null,"LDNO HV",null,0.75700000000000001,0,0,0,0,0,0]
[null,null,null,null,null,"LV Medium Non-Domestic",null,"LDNO HV",null,1.2230000000000001,0.74099999999999999,0,17.059999999999999,0,0,0]
[null,null,null,null,null,"LV Sub Medium Non-Domestic",null,"LDNO HV"]
[null,null,null,null,null,"HV Medium Non-Domestic",null,"LDNO HV"]
[null,null,null,null,null,"LV Network Domestic",null,"LDNO HV",null,5.0549999999999997,0.997,0.76100000000000001,1.9,0,0,0]
[null,null,null,null,null,"LV Network Non-Domestic Non-CT",null,"LDNO HV",null,4.4320000000000004,0.94899999999999995,0.746,3.79,0,0,0]
[null,null,null,null,null,"LV HH Metered",null,"LDNO HV",null,3.617,0.88200000000000001,0.73199999999999998,5.72,1.38,2.95,0.121]
[null,null,null,null,null,"LV Sub HH Metered",null,"LDNO HV",null,4.3150000000000004,1.2509999999999999,1.107,6.86,2.39,4.46,0.13500000000000001]
[null,null,null,null,null,"HV HH Metered",null,"LDNO HV",null,4.3079999999999998,1.4350000000000001,1.3120000000000001,76.27,2.92,5.69,0.11899999999999999]
[null,null,null,null,null,"NHH UMS category A",null,"LDNO HV",null,1.508,0,0,0,0,0,0]
[null,null,null,null,null,"NHH UMS category B",null,"LDNO HV",null,1.62,0,0,0,0,0,0]
[null,null,null,null,null,"NHH UMS category C",null,"LDNO HV",null,1.9570000000000001,0,0,0,0,0,0]
[null,null,null,null,null,"NHH UMS category D",null,"LDNO HV",null,1.401,0,0,0,0,0,0]
[null,null,null,null,null,"LV UMS (Pseudo HH Metered)",null,"LDNO HV",null,10.968999999999999,1.46,1.1419999999999999,0,0,0,0]
[null,null,null,null,null,"LV Generation NHH or Aggregate HH",null,"LDNO HV",null,-0.95599999999999996,0,0,0,0,0,0]
[null,null,null,null,null,"LV Sub Generation NHH",null,"LDNO HV",null,-0.872,0,0,0,0,0,0]
[null,null,null,null,null,"LV Generation Intermittent",null,"LDNO HV",null,-0.95599999999999996,0,0,0,0,0,0.34399999999999997]
[null,null,null,null,null,"LV Generation Intermittent no RP charge",null,"LDNO HV"]
[null,null,null,null,null,"LV Generation Non-Intermittent",null,"LDNO HV",null,-8.01,-0.62,-0.189,0,0,0,0.34399999999999997]
[null,null,null,null,null,"LV Generation Non-Intermittent no RP charge",null,"LDNO HV"]
[null,null,null,null,null,"LV Sub Generation Intermittent",null,"LDNO HV",null,-0.872,0,0,0,0,0,0.28999999999999998]
[null,null,null,null,null,"LV Sub Generation Intermittent no RP charge",null,"LDNO HV"]
[null,null,null,null,null,"LV Sub Generation Non-Intermittent",null,"LDNO HV",null,-7.29,-0.55900000000000005,-0.17899999999999999,0,0,0,0.28999999999999998]
[null,null,null,null,null,"LV Sub Generation Non-Intermittent no RP charge",null,"LDNO HV"]
[null,null,null,null,null,"HV Generation Intermittent",null,"LDNO HV",null,-0.59399999999999997,0,0,0,0,0,0.24199999999999999]
[null,null,null,null,null,"HV Generation Intermittent no RP charge",null,"LDNO HV"]
[null,null,null,null,null,"HV Generation Non-Intermittent",null,"LDNO HV",null,-4.9269999999999996,-0.35699999999999998,-0.14799999999999999,0,0,0,0.24199999999999999]
[null,null,null,null,null,"HV Generation Non-Intermittent no RP charge",null,"LDNO HV"]
[]
[null,"Checks"]
[]
[null,null,null,null,"Check for error values",null,"number of issues",{"$f":"SUM(IF(ISERROR(J18:P120), 1))","v":0}]
[]
[null,"End of sheet"]

{"sheet":"Typical bills","index":35,"n_rows":126,"n_cols":18,"rows_kept":126,"cut":false,"hidden":false,"merged":[]}
[{"$f":"MID(CELL(\"filename\",A1),FIND(\"]\",CELL(\"filename\",A1))+1,255)","v":"Typical bills"}]
[{"$f":"Cover!D21&\" - \"&Cover!D23","v":"[enter DNO name] - [enter data version name]"}]
[{"$f":"Cover!D2&\" - \"&Cover!D8&\" v\"&Cover!D10&\" - \"&Cover!D19","v":"ARP model - Release for charge setting v3 - 2020/21"}]
[{"$f":"H124 & IF(H124 = 1, \" issue\", \" issues\") &\" identified in checks on this sheet\"","v":"0 issues identified in checks on this sheet"}]
[null,"Click here to return to model map",null,null,null,null,"Units","Identifier",null,{"$f":"\"Live results (\" & charging_year_selected & \")\"","v":"Live results (2024/25)"},null,{"$f":"TRANSPOSE('ARP_User control'!G31:G35)","v":"2020/21"},"2021/22","2022/23","2023/24","2024/25",null,"Legal text reference"]
[]
[null,"Description"]
[]
[null,null,"This sheet presents typical bills for 'all the way' customers and LDNO LV/HV customers"]
[null,null,"Bills are calculated for the 'live' charging year and updated for each year of the ARP forecast using a macro."]
[null,null,"To run the macro, click the \"Run all years\" box on the User Control sheet"]
[]
[null,"Typical bills"]
[]
[null,null,{"$f":"INDEX('Version control'!$H$34:$H$59,MATCH($A$1,'Version control'!$F$34:$F$59,0),1)&\"-A: Typical bill results\"","v":"Output 502-A: Typical bill results"}]
[]
[null,null,null,null,"Typical bills for all the way customers",null,null,null,">",null,null,null,null,null,null,null,null,"Schedule 20, Paragraph 2.1 (b)"]
[null,null,null,null,null,"Domestic Unrestricted","£","All the way",null,{"$f":"TRANSPOSE('Net revenue summary'!J124:AP124)","v":128.57186879944595},null,104.80486983553178,108.86541258501136,102.90501804649638,124.51744221443553,128.57186879944595]
[null,null,null,null,null,"Domestic Two Rate","£","All the way",null,178.61931258470844,null,142.67879844222375,148.4288607086724,136.55993424595229,173.04133194702453,178.61931258470844]
[null,null,null,null,null,"Domestic Off Peak (related MPAN)","£","All the way",null,""]
[null,null,null,null,null,"Small Non Domestic Unrestricted","£","All the way",null,404.19070063268771,null,322.33205932096007,335.31217759415279,307.84558296330766,391.62263728754471,404.19070063268771]
[null,null,null,null,null,"Small Non Domestic Two Rate","£","All the way",null,672.34120383762945,null,534.66909177593504,556.38712517243869,508.69905262754844,651.49251504848507,672.34120383762945]
[null,null,null,null,null,"Small Non Domestic Off Peak (related MPAN)","£","All the way",null,""]
[null,null,null,null,null,"LV Medium Non-Domestic","£","All the way",null,2396.5708058608134,null,1904.1827968011105,1981.2391013711485,1809.7849607215853,2321.3841439997791,2396.5708058608134]
[null,null,null,null,null,"LV Sub Medium Non-Domestic","£","All the way",null,2245.6232948813499,null,1771.7381222359306,1844.7361595231123,1668.5644958297396,2176.1856118250771,2245.6232948813499]
[null,null,null,null,null,"HV Medium Non-Domestic","£","All the way",null,1173.7465212872362,null,959.80204884385853,996.3896479429884,944.41201950592176,1138.6875617282196,1173.7465212872362]
[null,null,null,null,null,"LV Network Domestic","£","All the way",null,140.27319604232218,null,113.75303841222899,118.21661174201617,110.97605854545878,135.8734063081742,140.27319604232218]
[null,null,null,null,null,"LV Network Non-Domestic Non-CT","£","All the way",null,1997.7820187258762,null,1583.9663732116783,1648.7227855697884,1501.139628458051,1935.843298525105,1997.7820187258762]
[null,null,null,null,null,"LV HH Metered","£","All the way",null,8686.4531094124668,null,6981.766033650586,7257.5876526733646,6732.8770599457666,8418.7374649783542,8686.4531094124668]
[null,null,null,null,null,"LV Sub HH Metered","£","All the way",null,24856.419133820618,null,19663.115302027378,20474.828405471271,18592.848346011564,24090.055251740992,24856.419133820618]
[null,null,null,null,null,"HV HH Metered","£","All the way",null,65954.271894368285,null,51877.208066501007,54037.520635983528,48667.504044779547,63975.913664241612,65954.271894368285]
[null,null,null,null,null,"NHH UMS category A","£","All the way",null,139.43141505683502,null,113.01542295096139,117.6584468630457,110.62356214776644,135.52705403985505,139.43141505683502]
[null,null,null,null,null,"NHH UMS category B","£","All the way",null,286.27784159186609,null,233.62208637306622,242.83516231811808,229.99065497866624,277.93899913065133,286.27784159186609]
[null,null,null,null,null,"NHH UMS category C","£","All the way",null,170.83414949064093,null,141.1772880024717,146.62378888047817,141.21049837367906,165.85259380953744,170.83414949064093]
[null,null,null,null,null,"NHH UMS category D","£","All the way",null,""]
[null,null,null,null,null,"LV UMS (Pseudo HH Metered)","£","All the way",null,135620.72637606008,null,110846.26485577405,115238.58716049966,109412.33741892152,131693.25324819377,135620.72637606008]
[null,null,null,null,null,"LV Generation NHH or Aggregate HH","£","All the way",null,""]
[null,null,null,null,null,"LV Sub Generation NHH","£","All the way",null,""]
[null,null,null,null,null,"LV Generation Intermittent","£","All the way",null,-744.84026346314181,null,-653.67576510790468,-675.49662240788621,-698.92782072348552,-720.67628633160041,-744.84026346314181]
[null,null,null,null,null,"LV Generation Intermittent no RP charge","£","All the way",null,""]
[null,null,null,null,null,"LV Generation Non-Intermittent","£","All the way",null,-1243.6382525356344,null,-1091.3442366419274,-1127.3088287073997,-1166.2403150118639,-1209.2870053885219,-1243.6382525356344]
[null,null,null,null,null,"LV Generation Non-Intermittent no RP charge","£","All the way",null,""]
[null,null,null,null,null,"LV Sub Generation Intermittent","£","All the way",null,-1078.0311955043605,null,-945.75268140848868,-976.65485299013687,-1010.0341182201504,-1042.1816698507503,-1078.0311955043605]
[null,null,null,null,null,"LV Sub Generation Intermittent no RP charge","£","All the way",null,""]
[null,null,null,null,null,"LV Sub Generation Non-Intermittent","£","All the way",null,-1366.6430839753548,null,-1199.7268301901167,-1238.6891576475311,-1281.1132626496897,-1328.8598794061272,-1366.6430839753548]
[null,null,null,null,null,"LV Sub Generation Non-Intermittent no RP charge","£","All the way",null,""]
[null,null,null,null,null,"HV Generation Intermittent","£","All the way",null,-11419.50253746304,null,-10015.684517981701,-10342.503075252582,-10688.427400358018,-11033.7662758718,-11419.50253746304]
[null,null,null,null,null,"HV Generation Intermittent no RP charge","£","All the way",null,""]
[null,null,null,null,null,"HV Generation Non-Intermittent","£","All the way",null,-39685.642137018825,null,-34791.884115876484,-35929.96328336704,-37206.157576707286,-38608.440042120819,-39685.642137018825]
[null,null,null,null,null,"HV Generation Non-Intermittent no RP charge","£","All the way",null,""]
[]
[null,null,null,null,"Typical bills for LDNO LV customers",null,null,null,">",null,null,null,null,null,null,null,null,"Schedule 20, Paragraph 2.1 (b)"]
[null,null,null,null,null,"Domestic Unrestricted","£","LDNO LV",null,{"$f":"TRANSPOSE('Net revenue summary'!J125:AP125)","v":77.599367573433454},null,63.328704797556682,65.782049879812547,62.322937456460913,75.169143855882226,77.599367573433454]
[null,null,null,null,null,"Domestic Two Rate","£","LDNO LV",null,74.037080271842228,null,60.24523868724242,62.584697767104366,59.004756190625393,71.728423430154081,74.037080271842228]
[null,null,null,null,null,"Domestic Off Peak (related MPAN)","£","LDNO LV",null,""]
[null,null,null,null,null,"Small Non Domestic Unrestricted","£","LDNO LV",null,283.15922328639061,null,225.64959316208376,234.8059892434201,215.4854354507155,274.34872240880816,283.15922328639061]
[null,null,null,null,null,"Small Non Domestic Two Rate","£","LDNO LV",null,""]
[null,null,null,null,null,"Small Non Domestic Off Peak (related MPAN)","£","LDNO LV",null,""]
[null,null,null,null,null,"LV Medium Non-Domestic","£","LDNO LV",null,""]
[null,null,null,null,null,"LV Sub Medium Non-Domestic","£","LDNO LV",null,""]
[null,null,null,null,null,"HV Medium Non-Domestic","£","LDNO LV",null,""]
[null,null,null,null,null,"LV Network Domestic","£","LDNO LV",null,""]
[null,null,null,null,null,"LV Network Non-Domestic Non-CT","£","LDNO LV",null,""]
[null,null,null,null,null,"LV HH Metered","£","LDNO LV",null,3774.9147588927667,null,3065.8968464961054,3184.7712216008199,2995.2461183816422,3655.0711420795651,3774.9147588927667]
[null,null,null,null,null,"LV Sub HH Metered","£","LDNO LV",null,""]
[null,null,null,null,null,"HV HH Metered","£","LDNO LV",null,""]
[null,null,null,null,null,"NHH UMS category A","£","LDNO LV",null,""]
[null,null,null,null,null,"NHH UMS category B","£","LDNO LV",null,""]
[null,null,null,null,null,"NHH UMS category C","£","LDNO LV",null,""]
[null,null,null,null,null,"NHH UMS category D","£","LDNO LV",null,""]
[null,null,null,null,null,"LV UMS (Pseudo HH Metered)","£","LDNO LV",null,""]
[null,null,null,null,null,"LV Generation NHH or Aggregate HH","£","LDNO LV",null,""]
[null,null,null,null,null,"LV Sub Generation NHH","£","LDNO LV",null,""]
[null,null,null,null,null,"LV Generation Intermittent","£","LDNO LV",null,""]
[null,null,null,null,null,"LV Generation Intermittent no RP charge","£","LDNO LV",null,""]
[null,null,null,null,null,"LV Generation Non-Intermittent","£","LDNO LV",null,""]
[null,null,null,null,null,"LV Generation Non-Intermittent no RP charge","£","LDNO LV",null,""]
[null,null,null,null,null,"LV Sub Generation Intermittent","£","LDNO LV",null,""]
[null,null,null,null,null,"LV Sub Generation Intermittent no RP charge","£","LDNO LV",null,""]
[null,null,null,null,null,"LV Sub Generation Non-Intermittent","£","LDNO LV",null,""]
[null,null,null,null,null,"LV Sub Generation Non-Intermittent no RP charge","£","LDNO LV",null,""]
[null,null,null,null,null,"HV Generation Intermittent","£","LDNO LV",null,""]
[null,null,null,null,null,"HV Generation Intermittent no RP charge","£","LDNO LV",null,""]
[null,null,null,null,null,"HV Generation Non-Intermittent","£","LDNO LV",null,""]
[null,null,null,null,null,"HV Generation Non-Intermittent no RP charge","£","LDNO LV",null,""]
[]
[null,null,null,null,"Typical bills for LDNO HV customers",null,null,null,">",null,null,null,null,null,null,null,null,"Schedule 20, Paragraph 2.1 (b)"]
[null,null,null,null,null,"Domestic Unrestricted","£","LDNO HV",null,{"$f":"TRANSPOSE('Net revenue summary'!J126:AP126)","v":41.190724094280874},null,33.661045967203997,34.98669197318663,33.157108325945465,39.908629133888745,41.190724094280874]
[null,null,null,null,null,"Domestic Two Rate","£","LDNO HV",null,47.975016160431416,null,38.639906424068066,40.187314874827877,37.363364068066076,46.478514922842066,47.975016160431416]
[null,null,null,null,null,"Domestic Off Peak (related MPAN)","£","LDNO HV",null,""]
[null,null,null,null,null,"Small Non Domestic Unrestricted","£","LDNO HV",null,313.48267090876874,null,248.62141690042512,258.88681309582057,235.82823565812333,303.71405829150274,313.48267090876874]
[null,null,null,null,null,"Small Non Domestic Two Rate","£","LDNO HV",null,1176.6495493133086,null,936.83711980427415,975.19268499310681,894.04226945835808,1139.5290273479291,1176.6495493133086]
[null,null,null,null,null,"Small Non Domestic Off Peak (related MPAN)","£","LDNO HV",null,""]
[null,null,null,null,null,"LV Medium Non-Domestic","£","LDNO HV",null,589.02660373562344,null,470.0030550041792,488.81062851641252,449.25851865763929,570.60022625784245,589.02660373562344]
[null,null,null,null,null,"LV Sub Medium Non-Domestic","£","LDNO HV",null,""]
[null,null,null,null,null,"HV Medium Non-Domestic","£","LDNO HV",null,""]
[null,null,null,null,null,"LV Network Domestic","£","LDNO HV",null,32.248443044280954,null,26.393334707324161,27.420989212459954,26.016054520855874,31.250570321591681,32.248443044280954]
[null,null,null,null,null,"LV Network Non-Domestic Non-CT","£","LDNO HV",null,1230.8733985920287,null,988.17080122265622,1026.9562738360787,951.56145706030816,1191.9136242964171,1230.8733985920287]
[null,null,null,null,null,"LV HH Metered","£","LDNO HV",null,6693.9861784974455,null,5394.9910424304726,5610.4880178756766,5225.4322999447722,6483.4747079227145,6693.9861784974455]
[null,null,null,null,null,"LV Sub HH Metered","£","LDNO HV",null,26066.376588146522,null,20789.555575855455,21637.043862368613,19889.887990703639,25267.95664136712,26066.376588146522]
[null,null,null,null,null,"HV HH Metered","£","LDNO HV",null,19902.69570367875,null,15756.318663656682,16415.978943462225,14912.507542500134,19306.292191423367,19902.69570367875]
[null,null,null,null,null,"NHH UMS category A","£","LDNO HV",null,""]
[null,null,null,null,null,"NHH UMS category B","£","LDNO HV",null,""]
[null,null,null,null,null,"NHH UMS category C","£","LDNO HV",null,""]
[null,null,null,null,null,"NHH UMS category D","£","LDNO HV",null,""]
[null,null,null,null,null,"LV UMS (Pseudo HH Metered)","£","LDNO HV",null,""]
[null,null,null,null,null,"LV Generation NHH or Aggregate HH","£","LDNO HV",null,""]
[null,null,null,null,null,"LV Sub Generation NHH","£","LDNO HV",null,""]
[null,null,null,null,null,"LV Generation Intermittent","£","LDNO HV",null,-613.3784917060367,null,-538.28912707632833,-556.26999481698226,-575.68512882776463,-593.45611056430448,-613.3784917060367]
[null,null,null,null,null,"LV Generation Intermittent no RP charge","£","LDNO HV",null,""]
[null,null,null,null,null,"LV Generation Non-Intermittent","£","LDNO HV",null,""]
[null,null,null,null,null,"LV Generation Non-Intermittent no RP charge","£","LDNO HV",null,""]
[null,null,null,null,null,"LV Sub Generation Intermittent","£","LDNO HV",null,""]
[null,null,null,null,null,"LV Sub Generation Intermittent no RP charge","£","LDNO HV",null,""]
[null,null,null,null,null,"LV Sub Generation Non-Intermittent","£","LDNO HV",null,""]
[null,null,null,null,null,"LV Sub Generation Non-Intermittent no RP charge","£","LDNO HV",null,""]
[null,null,null,null,null,"HV Generation Intermittent","£","LDNO HV",null,""]
[null,null,null,null,null,"HV Generation Intermittent no RP charge","£","LDNO HV",null,""]
[null,null,null,null,null,"HV Generation Non-Intermittent","£","LDNO HV",null,""]
[null,null,null,null,null,"HV Generation Non-Intermittent no RP charge","£","LDNO HV",null,""]
[]
[null,"Checks"]
[]
[null,null,null,null,"Check for error values",null,"number of issues",{"$f":"SUM(IF(ISERROR($I$17:$Q$121), 1))","v":0}]
[]
[null,"End of sheet"]